Workbook

Sheet Prijzenblad
A1: BIJLAGE II Prijzenblad
A2: Behorend bij en onlosmakelijk onderdeel van aanbestedingsdocument Plannen en Roosteren namens het RO van Amsterdam en het ROC van Flevoland
A3: Naam inschrijver (invullen):
A4: Referentienummer inschrijving (nummer offerte inschrijver):
A5: Invulinstructie:
A6: Invulinstructie: U dient alle witte cellen op de tabbladen Prijsopgave en Staffels in te vullen, de gele cellen dient u niet in te vullen (deze worden automatisch berekend) Indien u geen prijs hanteert, zijnde de afname is kosteloos, vult u "0" in. De in dit formulier genoemde Vermenigvuldigingsfactoren zijn bedoeld voor de berekening van de Vergelijkingsprijs. Het is niet toegestaan wijzigingen in dit Invulformulier, de gebruikte formules en aantallen aan te brengen.
A7: LET OP! - De door Inschrijver genoemde tarieven zijn all in tarieven in Euro's en inclusief BTW. - Kosten welke niet in deze template zijn opgenomen kunnen niet aan ROC in rekening worden gebracht; dit wil zeggen dat alle kosten zoals: reis- en verblijfkosten binnen Nederland alsook telefoon, bureau- en administratiekosten en alle overige kosten in de geoffreerde prijzen zijn begrepen. - Uitgangspunt voor de berekening van de vergelijkingsprijs is de implementatie op een VIJFTAL MBO Colleges. - De aantallen zijn indicatief. Er zijn hier geen rechten aan te ontlenen.
A9: A. Prijzen gebruiksrecht per deelmodule
A10: nr. | B10: deelmodule | C10: prijs per student/per jaar
C11: Gemiddelde kosten | D11: let op! zie eis [nummer] Pakket van Eisen
A12: 1 | B12: =Staffels!B1 -> Kosten voor het gebruiksrecht van de SAAS-oplossing (inclusief updates, onderhoud en support) per student per jaar voor 'Onderwijsplanning' voor alle studenten ten behoeve waarvan de functionaliteit gebruikt wordt | C12: =((Staffels!B$2*17500)+(Staffels!B$3*5000)+(Staffels!B$4*5000)+(Staffels!B$5*5000)+(Staffels!B$6*5000))/37500 -> 0 | D12: vul de prijzen in op het tabblad staffels
A13: 2 | B13: =Staffels!C1 -> Kosten voor het gebruiksrecht van de SAAS-oplossing (inclusief updates, onderhoud en support) per student per jaar voor 'Operationele planning (roostering)' voor alle studenten ten behoeve waarvan de functionaliteit gebruikt wordt | C13: =((Staffels!C$2*17500)+(Staffels!C$3*5000)+(Staffels!C$4*5000)+(Staffels!C$5*5000)+(Staffels!C$6*5000))/37500 -> 0 | D13: vul de prijzen in op het tabblad staffels
A14: 3 | B14: =Staffels!D1 -> Kosten voor het gebruiksrecht van de SAAS-oplossing (inclusief updates, onderhoud en support) per student per jaar voor 'Overige functionaliteit' voor alle studenten ten behoeve waarvan de functionaliteit gebruikt wordt | C14: =((Staffels!D$2*17500)+(Staffels!D$3*5000)+(Staffels!D$4*5000)+(Staffels!D$5*5000)+(Staffels!D$6*5000))/37500 -> 0 | D14: vul de prijzen in op het tabblad staffels
C15: =SUM(C12:C14) -> 0
A17: B. Opstart, inrichtings- en implementatiekosten
A18: nr | B18: omschrijving opstart en inrichtingskosten | C18: vermenigvuldigings-factor | D18: prijs TOTAAL
A19: 4 | B19: De totale initiële kosten voor de inrichting van het implementatietraject (oa autorisatieboom, koppelingen, operationele rapportages, AO, trainingen etc) | C19: 1 | E19: =C19*D19 -> 0
A20: 5 | B20: De totale initiële kosten voor de inrichting per MBO-college (accounts, koppelen accounts aan autorisaties, operationele rapportages, trainingen, onsite support) | C20: 5 | E20: =C20*D20 -> 0
A21: 6 | B21: - Overige eenmalige kosten - Meerwerkopties | C21: 1 | E21: =C21*D21 -> 0
A22: C. Jaarlijkse kosten (vier jaar) per student (conform definitie uit PvE) er vanuit gaande dat alle functionaliteit is geimplementeerd
A23: nr. | B23: omschrijving | C23: vermenigvuldigings factor | D23: prijs
A24: 7 | B24: Kosten voor het gebruiksrecht van de volledige SAAS-oplossing (inclusief updates, onderhoud en support) per student per jaar obv gewogen gemiddelde uit staffel | C24: 65000 | D24: =C15 -> 0 | E24: =C24*D24 -> 0
A25: 8 | B25: Overige jaarlijkse kosten | C25: 4 | E25: =C25*D25 -> 0
A26: D. Opleidingskosten
A27: nr. | B27: omschrijving | C27: vermenigvuldigings factor | D27: prijs per werkdag
A28: 9 | B28: Opleidingskosten voor de medewerkers binnen de organisatie van Opdrachtgever (Groepsgroote 10-20) | C28: 38 | E28: =C28*D28 -> 0
A29: E. Aanvullende diensten Begeleidings- en adviseringsdiensten conform beschrijvend document
A30: nr. | B30: omschrijving | C30: vermenigvuldigings factor | D30: prijs per uur
A31: 10 | B31: Projectmanager die de leiding heeft bij de implementatie van de SAAS-oplossing namens opdrachtgever en de plaatsvervanger van deze medewerker. | C31: 500 | E31: =C31*D31 -> 0
A32: 11 | B32: Inzet van een senior medewerker zijnde de expert van de applicatie en de plaatsvervanger van deze medewerker. | C32: 650 | E32: =C32*D32 -> 0
A33: 14 | B33: Inzet van een senior technisch architect zijnde de expert betreffende architectuur en datastructuur vraagstukken van de SAAS-oplossing, en de plaatsvervanger van deze medewerker. | C33: 100 | E33: =C33*D33 -> 0
D36: Vergelijkingsprijs | E36: =SUM(E19:E33) -> 0
A39: Inschrijver heeft alles naar waarheid ingevuld en gaat akkoord met de offerte., invullen: ja/nee.
A40: Akkoord inschrijver
A41: Naam
A42: Bedrijf
A43: Functie
A44: Datum
A45: Handtekening

Sheet Staffels
A1: Staffel (aantal studenten) ten behoeve waarvan de functionaliteit gebruikt wordt | B1: Kosten voor het gebruiksrecht van de SAAS-oplossing (inclusief updates, onderhoud en support) per student per jaar voor 'Onderwijsplanning' voor alle studenten ten behoeve waarvan de functionaliteit gebruikt wordt | C1: Kosten voor het gebruiksrecht van de SAAS-oplossing (inclusief updates, onderhoud en support) per student per jaar voor 'Operationele planning (roostering)' voor alle studenten ten behoeve waarvan de functionaliteit gebruikt wordt | D1: Kosten voor het gebruiksrecht van de SAAS-oplossing (inclusief updates, onderhoud en support) per student per jaar voor 'Overige functionaliteit' voor alle studenten ten behoeve waarvan de functionaliteit gebruikt wordt | E1: Totaal | F1: Opmerking
A2: tot 17.500 | E2: =SUM(B2:D2) -> 0
A3: 17.500 tm 22.499 | E3: =SUM(B3:D3) -> 0 | F3: De prijzen in deze regel van de staffel mogen maximaal 10% afwijken van de hierboven gelegen regel.
A4: 22.500 tm 27.499 | E4: =SUM(B4:D4) -> 0 | F4: De prijzen in deze regel van de staffel mogen maximaal 10% afwijken van de hierboven gelegen regel.
A5: 27.500 tm 32.499 | E5: =SUM(B5:D5) -> 0 | F5: De prijzen in deze regel van de staffel mogen maximaal 10% afwijken van de hierboven gelegen regel.
A6: meer dan 32.499 | E6: =SUM(B6:D6) -> 0 | F6: De prijzen in deze regel van de staffel mogen maximaal 10% afwijken van de hierboven gelegen regel.
