Workbook
Name _Toc90463093: 'Toelichting op elk element'!#REF!
Name _Toc90463094: 'Toelichting op elk element'!#REF!
Name _Toc90463095: 'Toelichting op elk element'!#REF!
Name _Toc90463096: 'Toelichting op elk element'!#REF!
Name _Toc90463097: 'Toelichting op elk element'!$B$2
Name _Toc90463098: 'Toelichting op elk element'!$B$3
Name _Toc90463099: 'Toelichting op elk element'!$B$5
Name _Toc90463100: 'Toelichting op elk element'!$B$7
Name _Toc90463101: 'Toelichting op elk element'!$B$12
Name _Toc90463102: 'Toelichting op elk element'!$B$13
Name _Toc90463103: 'Toelichting op elk element'!$B$15
Name _Toc90463104: 'Toelichting op elk element'!$B$17
Name _Toc90463105: 'Toelichting op elk element'!$B$22
Name _Toc90463106: 'Toelichting op elk element'!$B$23
Name _Toc90463107: 'Toelichting op elk element'!$B$25
Name _Toc90463108: 'Toelichting op elk element'!$B$27
Name _Toc90463109: 'Toelichting op elk element'!$B$32
Name _Toc90463110: 'Toelichting op elk element'!$B$33
Name _Toc90463111: 'Toelichting op elk element'!$B$35
Name _Toc90463112: 'Toelichting op elk element'!$B$37
Name _Toc90463113: 'Toelichting op elk element'!$B$40
Name _Toc90463114: 'Toelichting op elk element'!$B$41
Name _Toc90463115: 'Toelichting op elk element'!$B$43
Name _Toc90463116: 'Toelichting op elk element'!$B$45
Name _Toc90463117: 'Toelichting op elk element'!$B$48
Name _Toc90463118: 'Toelichting op elk element'!$B$49
Name _Toc90463119: 'Toelichting op elk element'!$B$51
Name _Toc90463120: 'Toelichting op elk element'!$B$53
Name _Toc90463121: 'Toelichting op elk element'!$B$56
Name _Toc90463122: 'Toelichting op elk element'!$B$57
Name _Toc90463123: 'Toelichting op elk element'!$B$59
Name _Toc90463124: 'Toelichting op elk element'!$B$61
Name _Toc90463125: 'Toelichting op elk element'!$B$65
Name _Toc90463126: 'Toelichting op elk element'!$B$66
Name _Toc90463127: 'Toelichting op elk element'!$B$68
Name _Toc90463128: 'Toelichting op elk element'!$B$70
Name _Toc90463129: 'Toelichting op elk element'!$B$73
Name _Toc90463130: 'Toelichting op elk element'!$B$74
Name _Toc90463131: 'Toelichting op elk element'!$B$76
Name _Toc90463132: 'Toelichting op elk element'!$B$78
Name _Toc90463133: 'Toelichting op elk element'!$B$83
Name _Toc90463134: 'Toelichting op elk element'!$B$84
Name _Toc90463135: 'Toelichting op elk element'!$B$86
Name _Toc90463136: 'Toelichting op elk element'!$B$88
Name _Toc90463137: 'Toelichting op elk element'!$B$91
Name _Toc90463138: 'Toelichting op elk element'!$B$92
Name _Toc90463139: 'Toelichting op elk element'!$B$94
Name _Toc90463140: 'Toelichting op elk element'!$B$96
Name _Toc90463141: 'Toelichting op elk element'!$B$99
Name _Toc90463142: 'Toelichting op elk element'!$B$100
Name _Toc90463143: 'Toelichting op elk element'!$B$102
Name _Toc90463144: 'Toelichting op elk element'!$B$104
Name _Toc90463145: 'Toelichting op elk element'!$B$107
Name _Toc90463146: 'Toelichting op elk element'!$B$108
Name _Toc90463147: 'Toelichting op elk element'!$B$110
Name _Toc90463148: 'Toelichting op elk element'!$B$112
Name _Toc90463149: 'Toelichting op elk element'!$B$115
Name _Toc90463150: 'Toelichting op elk element'!$B$116
Name _Toc90463151: 'Toelichting op elk element'!$B$118
Name _Toc90463152: 'Toelichting op elk element'!$B$122

Sheet opmerkingen voor Marcel en Henk
A1: De tabbladen per kostprijs staan klaar.
G6: Dit is volgens mij een onjuiste verwijzing
G8: Ik zie nog steeds die verwijzing staan anders:
A17: gewijzigd in:
G24: Waar je het dan hebt gewijzigd, zie ik zo niet staan. Het maakt volgens mij ook helemaal niet uit, omdat je alleen de
G25: ZVW overhoudt bovenop het bruto loon als KP, premies en pensioenen zijn 0. Ik denk dat ik hem daarom niet
G26: opnieuw had berekend en er naar verwees.
A34: Kostprijsfactoren normale uren | D34: Kostprijsfactoren overige uren
A35: Wil jij alle verwijzingen onder deze rode balk nalopen?
A36: Het is nu -behalve de wijziging die ik hierboven heb weergegeven- op alle tabbladen hetzelfde als bij IA
A38: 41939 | B38: Het is mij niet helemaal duidelijk welke regels er onder de rode balk weggekaten mogen worden.
B39: Wil jij ze verwijderen waar dat moet?
A40: 41940 | B40: Die verwijzing naar IA was fout. Ik heb dat aangepast. Op IB+IIB moet het verwijzen naar IB+IIB, etc.
B41: Ik snap niet goed wat je hier nog zou willen verwijderen. De combinaties die er nu staan, kunnen als contractvorm en dus ook als kostprijs voorkomen.
A42: 41940 | B42: Afgehandeld
A44: Ik vind dat we dit moeten inbouwen. Dit staat zo knullig
A45: Op de grondslag moet eigenlijk het werknemersdeel pensioenpremie en het werknemersdeel van de zw-aanvullend
A46: in mindering worden gebracht. Om de berekening niet te ingewikkeld te maken, is dat niet gedaan
A47: Ik niet. Kán ook niet, omdat het netto premiepercentage afhankelijk is van het uurloon. Bij een uurloon van 10,- heb je door de franchise een heel ander percentage dan bij 20,-. Dus gewoon melden in de tekst melden. Het is een commerciële kostprijs die hier wordt berekend, geen verloning.
A49: 41939 | B49: Ik heb er deze tekst van gemaakt:
B50: Door de franchise op het werknemersdeel van de pensioenpremie en zw-aanvullend is de exacte grondslag afhankelijk van het feitelijke uurloon.
B51: Hier is dus geen generieke berekening mogelijk. De franchise is buiten beschouwing gelaten en leidt tot een gering voordeel in de nacalculatorische kostprijs.
A52: 41940 | B52: Prachtig!
A53: 41940 | B53: Afgehandeld
A55: Ik heb de oude kostprijsbladen nog niet verwijderd.
A56: Dat moeten we pas doen na volledige check juistheid nieuwe bladen.
A57: Oude tabbladen zijn verwijderd
A60: Beveiliging bestand:
A61: 41939 | B61: Ik denk dat het bij dit bestand belangrijk is dat we de beveiliging optimaal maken.
B62: Met Visual Basic kan ik de bladen verbergen, maar er dan geen wachtwoord opzetten…tenzij…
B63: ik Excel laat denken dat er een macro aanwezig is, dan kan ik een wachtwoordbeveiliging maken in Visual Basic.
B64: Enige nadeel daarvan is, dat als een klant de kostprijzen van ons toegestuurd krijgt, dat er een melding verschijnt
B71: Of de macro's door de klant worden ingeschakeld of niet, maakt voor het resultaat van de worksheets niet uit.
B73: Hoe we het meest makkelijk, en met een goed beveiligd bestand kunnen werken:
B74: Klant krijgt eerst Excel bestand met pagina In te vullen gegevens en verborgen (met Visual Basic) de vaste waarden. Daar zit geen zware beveiliging op het verborgen tabblad, dus geen melding over uitgeschakelde macro's.
B75: Ingevulde bestand komt retour.
B76: Enige wat er moet worden gedaan is de pagina In te vullen gegevens kopieren/plakken in een Excel binair bestand, waar al de juiste pagina's zichtbaar zijn, EN een goede beveiliging.
B77: Bestand opslaan als - naam klant
B78: Verzenden per e-mail.
B79: Klaar
...

Sheet Bedrijfswaardes
B1: Door ons in te vullen bedrijfswaardes
B8: Bedrijfsgegevens
B9: Naam inlener | C9: Stichting Hanzehogeschool Groningen
B10: Naam uitlener | C10: Inschrijvende partij
B11: ABU of NBBU | C11: ABU
B12: WGA | C12: =Variabelen!F26 -> 0
B13: ZW-flex | C13: 0
B14: Totale Whk | C14: =C12+C13 -> 0
B15: Hoge of lage premie AOF | C15: 0.0763
B22: Deze tool is alleen bedoeld om de kosten van de arbeidsvoorwaarden bij de opdrachtgever in kaart te brengen en niet om op een of andere manier de gelijkwaardigheid
B23: van de beloning te bepalen. Ons advies is om waar mogelijk te gaan voor gelijke beloning, dus hetzelfde aantal feestdagen, vakantiedagen, hetzelfde percentage vakantiegeld, etc.
B24: als bij de opdrachtgever.
B26: Deze tool is een hulpmiddel en heeft als doel de commerciële kostprijs van arbeidsvoorwaarden vast te stellen, maar kan geen rekening houden met álle verschillende grondslagen
B27: die kunnen voorkomen. We hebben de meest gangbare grondslagen als uitgangspunt genomen en je kunt zelf aangeven waarover je vakantiegeld wilt berekenen. Er zullen echter zeker
B28: CAO's en regelingen zijn die hierdoor niet volledig gedekt zijn. Houd daar rekening mee bij het vaststellen van de uiteindelijke kostprijsfactor!
B30: FlexKnowledge is nooit aansprakelijk voor de gevolgen van een berekening die uiteindelijk onjuist of onvolledig blijkt te zijn.
A33: Dit bestand bevat tabbladen voor de verschillende contractsoorten. Per contractsoort zijn verschillende types uitzendkracht te definiëren en verschillende urensoorten.
A34: - | B34: Tabblad RG I, fase A/1+2 staat voor administratieve en medische functies in contracten zowel met als zonder uitzendbeding in fase A of 1+2
A35: - | B35: Tabblad RG II, fase A-1+2 staat voor technische en productiefuncties in contracten zowel met als zonder uitzendbeding in fase A of 1+2
A36: - | B36: Tabblad IB+IIB B-3 staat voor alle functies in contracten zonder uitzendbeding in fase B of 3
A37: - | B37: Tabblad IB+IIB C-4 staat voor alle functies in contracten zonder uitzendbeding in fase C of 4
A38: Veel van de waardes in de kostprijsopbouw volgen uit wet- en regelgeving en/of de CAO voor Uitzendkrachten en/of de Beloningsregeling van de inlener en zijn daarom niet te wijzigen.
A39: De keuzes die zijn gemaakt, zijn in overleg met FlexKnowledge gemaakt.
A41: U kunt in het tabblad Variabelen alleen de paarse velden in het bovenste blok bewerken. De waardes die u invult worden waar nodig doorgekopieerd naar andere urensoorten of types werknemers.
A42: Alle kostprijsfactoren worden op 4 cijfers achter de komma afgerond en zijn verzameld in het tabblad 'Opgave tarief'. Op dat tabblad kunt u ook de bureaumarge invullen en samen leidt dit tot de tarieffactor die u offreert
A46: Copyright © FlexKnowledge, 2026.
A47: Dit model en de bijbehorende inhoud zijn beschermd. Het is niet toegestaan dit document, geheel of gedeeltelijk, te kopiëren, te vermenigvuldigen, te verspreiden of op andere wijze te gebruiken zonder voorafgaande schriftelijke toestemming van FlexKnowledge B.V.
A48: Ongeoorloofd gebruik kan leiden tot juridische stappen.

Sheet Bedrijfsnaam
D8: Pad waar dit bestand moet worden opgeslagen: LET OP: altijd afsluiten met een \
D9: C:\Users\mreij\Dropbox\Flexknowledge\1. Projecten\1. Ingevulde kostprijsdocumenten\2023-2024\
D11: Bestandsnaam (daarachter komt de bedrijfsnaam)
D12: FK131019D001 -FlexKnowledge Kostprijsberekening 2026 StiPP
D14: Vul bedrijfsnaam klant in
D15: =Bedrijfswaardes!C9 -> Stichting Hanzehogeschool Groningen
C22: D1-D07 | D22: voorbereidende versies
C23: R1 | D23: eerste versie, uitgeleverd aan helpdeskabonnees
C24: R2 | D24: niet uitgeleverd
C25: R3 | D25: kolommen verbreed, tekst uitbereid op tabblad Pensioen, diverse teksten aangepast
D26: pensioencompensatie verhuisd van niveau EJU naar TV, i.v.m, grondslag. Dus ook over vergoedingen
D27: pc alleen opgenomen als er ook pensioenopbouw is
D28: berekening netto wg-premie stipp uitgebreid met vg over pc
D29: kv/bv toegevoegd aan grondslag vakantiegeld
D30: vakantiewerkers en AOW met pensioen verborgen
D31: naamgeving grondslag gecorrigeerd in rekenbladen
D32: Teksten toelichting op elk element geupdate aan nieuwe cao
C33: R4 | D33: Pensioencompensatie over alle urensoorten
C34: R5 | D34: Pensioencompensatie verhoogd met percentage SV
C35: R5a | D35: Franchise overwerk aangepast
C36: R6 | D36: Extra tabblad toegevoegd met alle factoren om te kopiëren
C37: D001 | D37: Tekst in paarse blok bovenaan aangepast van met beding naar MUB odf ZUB
D38: Maandloon verborgen, WIA compensaties verborgen
D39: Uurloon gekoppeld aan netto werkgeverspremie pensioen en op 8% gezet als er geen uurloon is ingevuld.
D40: Tekst bij overige directe kosten op tabblad variabalen aangepast
D41: Pensioenpremie in Overwerk gekoppeld aan maximum pensioengevend loon
D42: Jongeren t/m 17 jaar toegevoegd, gelijk aan regulier minus pensioen
C46: D100 | D46: Kopie van D001, maar dan voor uitleners
D47: Variabelen aangepast aan beschikbare velden in oude model inlener
D48: Anders: overige kosten over hele kostprijs en niet meer alleen over loon + reserveringen
D49: Verzuimkosten AOW aangepast
C50: D101 | D50: Berekening pensioencompensatie aangepast. Factor 0,853 gingdubbel
D55: Voor Amsterdam en Sappi moeten in de definitieve versie de waardes voor pensioen in overwerk worden aangepast naar 15,9%
D56: Voor Amsterdam scholing ui fase B en C halen en alleen over normale uren.
D57: Waar nodig directe kosten aanpassen naar alleen NU
D58: Verzuimkosten AOW aangepast
C59: D101 | D59: Berekening pensioencompensatie aangepast. Factor 0,853 gingdubbel
C60: D102 | D60: Pensioencompensatie volledig opnieuw opgezet
C61: D103 | D61: Grondslag scholing aangepast in IIA en foute verzijzingen in bruto vergoedingen aangepast
D62: Scholingsdagen liepen dubbel mee in opbouw
...

Sheet Overzicht van invoer
B1: Kostprijzen 2026
B2: Component, zie ook het tabblad 'Toelichting op elk element' | F2: Waardes | H2: Toelichting, zie ook het tabblad 'Toelichting op elk element'
B3: Naam van uw organisatie | C3: =Bedrijfswaardes!C9 -> Stichting Hanzehogeschool Groningen | D3: =IF(#REF!=0,"√","←") -> #REF!
B4: Toepasselijke CAO | F4: =Bedrijfswaardes!C11 -> ABU
B5: =IF(F4="ABU",#REF!,IF(F4="NBBU",#REF!,)) -> #REF! | C5: =IF(F4="NBBU","Gewenste aantal wachtdagen bij overeenkomsten zonder uitzendbeding","") | F5: 1 | H5: =IF(F4="NBBU",#REF!,IF(F4="ABU","Deze vraag niet beantwoorden.",)) -> Deze vraag niet beantwoorden.
B6: ZW-aanvullend voor I (adm/medisch) | C6: Totaal | D6: Zie tabblad Pensioen & ZW-A | F6: =Variabelen!F13 -> 0 | H6: ='Vaste waarden'!F11 -> Adviespremie van verzekeraar: 2,2%. Je kunt zelf bepalen welk percentage je invult. Zie ook het tabblad Pensioen & ZW-A
C7: Werknemerspremie | D7: =IF(M7>0,N7," ") | F7: ='Vaste waarden'!B13 -> 0.003 | H7: ='Vaste waarden'!F13 -> Maximum inhouding: 0,3%. | K7: ='Vaste waarden'!B13*100 -> 0.3 | L7: =F7*100 -> 0.3 | M7: =L7-K7 -> 0 | N7: Te hoog percentage!
C8: Werkgeverspremie | F8: =Variabelen!F15 -> 0 | H8: --> Dit percentage wordt opgenomen in de kostprijsberekening.
B9: ZW-aanvullend voor II (prod/technisch) | C9: Totaal | D9: Zie tabblad Pensioen & ZW-A | F9: =Variabelen!F16 -> 0 | H9: ='Vaste waarden'!F15 -> Adviespremie van verzekeraar: 3,96%. Je kunt zelf bepalen welk percentage je invult.Zie ook het tabblad Pensioen & ZW-A
C10: Werknemerspremie | D10: =IF(M10>0,N10," ") | F10: ='Vaste waarden'!B17 -> 0.007 | H10: ='Vaste waarden'!F17 -> Maximum inhouding: 0,7%. | K10: ='Vaste waarden'!B17*100 -> 0.7 | L10: =F10*100 -> 0.7 | M10: =L10-K10 -> 0 | N10: Te hoog percentage!
C11: Werkgeverspremie | F11: =Variabelen!F18 -> 0 | H11: --> Dit percentage wordt opgenomen in de kostprijsberekening.
B12: Pensioenpremie in fase A/1+2 | C12: Netto werkgeversdeel van de premie | D12: Zie tabblad Pensioen & ZW-A | F12: =Variabelen!F19 -> 0.10402828 | H12: ='Vaste waarden'!F36 -> Let op: Dit percentage wordt gebruikt voor fase A/1+2! De werkgeverspremie voor de regeling is 15,9%. Hier gaat de franchise van €9,24 per uur vanaf. De netto premie is dus lager. Geef hier het percentage in dat je in de kostprijs wilt opnemen.
B13: Pensioenpremie in fase B/C/3/4 | C13: Netto werkgeversdeel van de premie | D13: Zie tabblad Pensioen & ZW-A | F13: =Variabelen!F20 -> 0.10402828 | H13: ='Vaste waarden'!F37 -> Let op: Dit percentage wordt gebruikt voor fase B-C/3-4! De werkgeverspremie voor de regeling is 15,9%. Hier gaat de franchise van €0,159 per uur vanaf. De netto premie is dus lager. Geef hier het percentage in dat je in de kostprijs wilt opnemen.
B14: Premie WGA-vast | C14: Totaal | F14: 0 | H14: Percentage overnemen uit beschikking van de belastingdienst. Onderdeel van de premie Werkhervattingskas.
C15: Aandeel werknemer (max. 50%) | D15: 50 | E15: %
C16: Werknemerspremie | F16: =F14*D15/100 -> 0
C17: Werkgeverspremie | F17: =F14-F16 -> 0 | H17: --> Dit percentage wordt opgenomen in de kostprijsberekening.
B18: Werkhervattingskas, kosten verzuim ná dienstverband
B19: Premie WGA | C19: Totaal | F19: =Bedrijfswaardes!C12 -> 0 | H19: Dit percentage is overgenomen uit de beschikking van de belastingdienst. Onderdeel van de premie Werkhervattingskas.
C20: Aandeel werknemer (max. 50%) | D20: =Variabelen!F92 -> 0.5 | E20: %
C21: Werknemerspremie | F21: =F19*D20 -> 0
C22: Werkgeverspremie | F22: =F19-F21 -> 0 | H22: --> Dit percentage wordt opgenomen in de kostprijsberekening.
B23: Premie ZW indien géén ERD | F23: =Bedrijfswaardes!C13 -> 0 | H23: Dit percentage is overgenomen uit beschikking van de belastingdienst. Onderdeel van de premie Werkhervattingskas.
B24: Premie ZW indien wél ERD | C24: Uitbetaling via verzekeraar, wg-lasten meeverzekerd | D24: Premie voor fase A/1+2 RG I | F24: =Variabelen!F22 -> 0 | H24: Premie die je betaalt aan Acture, FlexCom4, Boval, etc.
D25: Premie voor fase A/1+2 RG II | F25: =Variabelen!F23 -> 0 | H25: Premie die je betaalt aan Acture, FlexCom4, Boval, etc.
D26: Premie voor B/C/3/4 | F26: =Variabelen!F25 -> 0 | H26: Premie die je betaalt aan Acture, FlexCom4, Boval, etc.
B27: Premie ZW indien wél ERD | C27: Als je zelf de volledige kosten van het ERD draagt | D27: Voorziening voor IA (MUB) | H27: Betreft schatting kosten ziekengeld bij "ziek uit dienst".
D28: Voorziening voor IIA (MUB)
D29: Voorziening voor IB+IIB (ZUB)
B30: Verzuim tijdens dienstverband contracten fase A/1+2
B31: Verwacht ziekteverzuim, verzekerd | C31: Kosten verzuim tijdens het dienstverband, meestal max. 4 weken | D31: Premie voor RG I | F31: =Variabelen!F30 -> 0 | H31: Neem de premie over uit de verzekeringspolis. Vergeet eventuele extra kosten van bijv. de arbo-begeleiding niet!
D32: Premie voor RG II | F32: =Variabelen!F31 -> 0
B33: Verwacht ziekteverzuim , niet verzekerd | C33: Kosten verzuim tijdens het dienstverband, meestal max. 4 weken | D33: Voorziening voor RG I | F33: =Variabelen!F32*Variabelen!F91 -> 0 | H33: Maak een schatting van het verzuimpercentage bij overeenkomsten met uitzendbeding voor de eerste 4 weken. Vergeet de kosten van de arbo-begeleiding niet!
D34: Voorziening voor RG II | F34: =Variabelen!F33*Variabelen!F91 -> 0
B35: Verzuim tijdens dienstverband contracten fase B/C/3/4
C36: Uitbetaling via verzekeraar, wg-lasten meeverzekerd | D36: Premie voor fase A/1+2 | H36: Neem de premie over uit de verzekeringspolis. Vergeet eventuele extra kosten van bijv. de arbo-begeleiding niet!
B37: Verwacht ziekteverzuim, verzekerd | D37: Premie voor fase B/C/3/4 | F37: =Variabelen!F41 -> 0
C38: Als u zelf volledige loondoorbetaling bij ziekte betaalt | D38: Voorziening fase A/1+2 | H38: Maak een schatting van het verzuimpercentage bij overeenkomsten zonder uitzendbeding (tijdens de duur van het dienstverband). Vergeet de kosten van de arbo-begeleiding niet!
B39: Verwacht ziekteverzuim, niet verzekerd | D39: Voorziening fase B/C/3/4 | F39: =Variabelen!F42*Variabelen!F91 -> 0 | H39: Maak een schatting van het verzuimpercentage bij overeenkomsten zonder uitzendbeding (tijdens de duur van het dienstverband). Vergeet de kosten van de arbo-begeleiding niet!
B40: Overig
...

Sheet Vaste waarden
A1: Sociale Zekerheid | F1: Begeleidende teksten bij In te vullen gegevens
A2: WW, laag | B2: 0.0274
A3: WW, hoog | B3: 0.0774
A4: AOF, laag | B4: 0.0627
A5: AOF, hoog | B5: 0.0763
A6: Kinderopvang | B6: 0.005
A7: ZVW | B7: 0.061
A9: CAO Uitzendkrachten
A10: PAWW en aanvullend | B10: =C10+D10 -> 0 | C10: 0 | D10: =Variabelen!F98+Variabelen!F99+Variabelen!F100 -> 0 | F10: hier staan de (verborgen WIA-aanvulling en WGA-excedent regelingen
A11: IA ZW-aanvullend totaal | B11: 0.022 | F11: ="Adviespremie van verzekeraar: "&B11*100&"%. Je kunt zelf bepalen welk percentage je invult. Zie ook het tabblad Pensioen & ZW-A" -> Adviespremie van verzekeraar: 2,2%. Je kunt zelf bepalen welk percentage je invult. Zie ook het tabblad Pensioen & ZW-A
A12: IB ZW-aanvullend totaal | B12: =B11 -> 0.022 | F12: =F11 -> Adviespremie van verzekeraar: 2,2%. Je kunt zelf bepalen welk percentage je invult. Zie ook het tabblad Pensioen & ZW-A
A13: I max inhouding | B13: 0.003 | F13: ="Maximum inhouding: "&B13*100&"%." -> Maximum inhouding: 0,3%.
A15: IIA ZW-aanvullend totaal | B15: 0.0396 | F15: ="Adviespremie van verzekeraar: "&B15*100&"%. Je kunt zelf bepalen welk percentage je invult.Zie ook het tabblad Pensioen & ZW-A" -> Adviespremie van verzekeraar: 3,96%. Je kunt zelf bepalen welk percentage je invult.Zie ook het tabblad Pensioen & ZW-A
A16: IIB ZW-aanvullend totaal | B16: =B15 -> 0.0396 | F16: =F15 -> Adviespremie van verzekeraar: 3,96%. Je kunt zelf bepalen welk percentage je invult.Zie ook het tabblad Pensioen & ZW-A
A17: II max inhouding | B17: 0.007 | F17: ="Maximum inhouding: "&B17*100&"%." -> Maximum inhouding: 0,7%.
A19: Duurzame inzetbaarheid | B19: =Variabelen!F96 -> 0.0122
A20: SFU | B20: 0.002
A22: Reserveringen
A23: Werkbare dagen | B23: 261
A24: Vakantiedagen | B24: =Variabelen!F81+Variabelen!F82 -> 30.42 | C24: =B24/$B$29 -> 0.13192818
A25: Vakantiedagen vakantiewerker | B25: 20 | C25: =B25/$B$30 -> 0.082987552
A26: Feestdagen | B26: =Variabelen!F83+Variabelen!F84 -> 0 | C26: =B26/$B$29 -> 0
A27: ADV in tijd | B27: ='Overzicht van invoer'!F41 -> 0 | C27: =B27/$B$29 -> 0
A28: Kort verzuim en WAZO als werkbare dagen | B28: =E31 -> 0 | C28: =B28/$B$29 -> 0
A29: Netto werkbare dagen regulier en aow | B29: =B23-B24-B26-B27-B28 -> 230.58
A30: Netto werkbare dagen vakantiewerker | B30: =B23-B25-B27 -> 241
A31: Kort verzuim/wazo in % en dagen | B31: =C28 -> 0 | C31: =B31 -> 0 | D31: =Variabelen!F49*'Vaste waarden'!B23 -> 0 | E31: =D31 -> 0 | F31: NB: kort verzuim is altijd gebaseerd op B23 om kringverwijzing te voorkomen
A32: Vakantiegeld | C32: =Variabelen!F64 -> 0.08
A34: Pensioen
A35: Franchise STiPP | B35: ='Overzicht van invoer'!F51 -> 9.24
A36: Basisregeling | B36: 0.159 | F36: ="Let op: Dit percentage wordt gebruikt voor fase A/1+2! De werkgeverspremie voor de regeling is "&B36*100&"%. Hier gaat de franchise van €"&B35&" per uur vanaf. De netto premie is dus lager. Geef hier het percentage in dat je in de kostprijs wilt opnemen. " -> Let op: Dit percentage wordt gebruikt voor fase A/1+2! De werkgeverspremie voor de regeling is 15,9%. Hier gaat de franchise van €9,24 per uur vanaf. De netto premie is dus lager. Geef hier het percentage in dat je in de kostprijs wilt opnemen.
A37: Plusregeling | B37: =B36 -> 0.159 | F37: ="Let op: Dit percentage wordt gebruikt voor fase B-C/3-4! De werkgeverspremie voor de regeling is "&B37*100&"%. Hier gaat de franchise van €"&B36&" per uur vanaf. De netto premie is dus lager. Geef hier het percentage in dat je in de kostprijs wilt opnemen. " -> Let op: Dit percentage wordt gebruikt voor fase B-C/3-4! De werkgeverspremie voor de regeling is 15,9%. Hier gaat de franchise van €0,159 per uur vanaf. De netto premie is dus lager. Geef hier het percentage in dat je in de kostprijs wilt opnemen.
A38: Werkgeversdeel | B38: =B36 -> 0.159
A39: Werknemersdeel | B39: 0.075
A40: Correctiefactor artikel 46 | B40: =C40*(1+'RG I (adm-med) fase A-1+2'!D32) -> 1.0404041 | C40: 0.853 | F40: Correctiefactor verhoogd met sociale lasten om die bij de compensatie op te tellen | M40: Berekening pensioencompensatie:
A44: Keuzelijsten
A45: =B5 -> 0.0763 | B45: AOF, hoog | D45: ja | E45: factureerbaar | G45: Fase A-1+2, RG I | H45: fase
A46: =B4 -> 0.0627 | B46: AOF, laag | D46: nee | G46: Fase A,-1+2 RG II
G47: Fase B-3
A48: ABU | B48: Versie | G48: Fase C-4
...

Sheet Toelichting op elk element
B2: Reservering vakantiedagen / feestdagen / kort verzuim en bijzonder verlof
B3: Welke contractvorm?
B4: · Alle
B5: Wat is het?
B6: · Net als ‘gewone’ werknemers hebben uitzendkrachten recht op doorbetaalde vakantiedagen. Gewone werknemers krijgen van u het loon tijdens de vakantie doorbetaald, net als bij feestdagen, kort verzuim of bijzonder verlof of arbeidsongeschiktheid. Ook een uitlener moet het loon dan in de meeste gevallen doorbetalen, maar kan dat op dat moment niet factureren aan de opdrachtgever: die betaalt alleen voor de gewerkte uren. Om hier ‘potjes’ voor op te bouwen, nemen uitleners reserveringen op in de kostprijs waaruit deze dagen worden doorbetaald. Afhankelijk van de contractvorm kunnen de rechten van de kandidaat op doorbetaling wat verschillen.
B7: Welke percentages?
B8: · Uitzendkrachten hebben recht op hetzelfde percentage vakantiegeld als werknemers bij de opdrachtgevers over dezelfde grondslag.
B9: · Een uitzendkracht heeft recht op hetzelfde aantal vakantiedagen als werknemers bij de opdrachtgever. Dat geldt ook voor doorbetaalde feestdagen. De reserveringspercentages voor vakantiedagen en feestdagen fluctueren jaarlijks, afhankelijk van het aantal werkbare dagen in dat jaar.
B10: · Voor kort verzuim en bijzonder verlof wordt meestal standaard 0,6% gereserveerd in de kostprijs. Dit komt overeen met ongeveer 1,5 dag op jaarbasis, maar ook hier geldt dat de uitzendkracht dezelfde rechten heeft als werknemers van de opdrachtgever, dus een ander percentage kan voorkomen.
B12: Premie ZW-aanvullend, ook wel ZW-A of Aanvulling Ziektewet
B13: Welke contractvorm?
B14: · Fase A/1/2, zowel met als zonder uitzendbeding
... B123: Of en hoeveel procent er voor leegloop wordt opgenomen, is vooral afhankelijk van de afspraken die er verder worden gemaakt: worden de kosten door de opdrachtgever betaald als ze zich voordoen? Dan is 0% de norm in de opbouw. Moet de uitlener de kosten op zich nemen, dan zien we percentages van minder dan 1% voor WAB-leegloop en rond de 3% voor bankzit-leegloop.

Sheet Variabelen
B2: Naam inlener | C2: =Bedrijfswaardes!C9 -> Stichting Hanzehogeschool Groningen
B3: Naam uitlener | C3: =Bedrijfswaardes!C10 -> Inschrijvende partij
B4: CAO | C4: =Bedrijfswaardes!C11 -> ABU
B5: Jaar | C5: 2026
B9: Bedrijfsspecifieke waardes | J9: Afspraken die worden gemaakt over aanspraken
B10: Franchise StiPP | F10: 9.24 | H10: AANPASSEN ALS DE PREMIE GEPUBLICEERD IS!!!
B11: Component | F11: Waardes | H11: Toelichting | L11: Bedrag | M11: Frequentie | N11: Factor
B12: Toepasselijke CAO | F12: =C4 -> ABU
B13: ZW-aanvullend voor I (adm/medisch) | C13: Totaal | F13: =(F22/0.7*0.3)*(100/90) -> 0 | H13: Dit percentage is gekoppeld aan de waarde die je invult voor de ZW-flex | J13: Jubileumuitkering | N13: BV
C14: Werknemersdeel | F14: 0 | H14: Geen inhouding bij de werknemer | J14: Aanvullend geboorteverlof, 100% doorbetaling van dagloon i.p.v. 70%. Het verschil mag worden gefactueerd | N14: NU
C15: Werkgeversdeel | D15: =(F22/0.7*0.2)-0.3% -> -0.003 | F15: =IF(D15>0,D15,0) -> 0 | H15: --> Dit percentage wordt opgenomen in de kostprijsberekening. | J15: Extra uitkering bovenop de wettelijjke overlijdensuitkering | N15: Netto
B16: ZW-aanvullend voor II (prod/technisch) | C16: Totaal | F16: =(F23/0.7*0.3)*(100/90) -> 0 | H16: Dit percentage is gekoppeld aan de waarde die je invult voor de ZW-flex | J16: Gendertransitieverlof, mag worden apart gefactureerd | N16: NU
C17: Werknemerspremie | F17: 0 | H17: Geen inhouding bij de werknemer | J17: Duurzame inzetbaarheidsuren waaronder ook professionaliseringsuren, mogen mits vooraf akkoord is gegeven, apart worden gefactureerd | N17: NU
C18: Werkgeverspremie | D18: =(F23/0.7*0.2)-0.7% -> -0.007 | F18: =IF(D18>0,D18,0) -> 0 | H18: --> Dit percentage wordt opgenomen in de kostprijsberekening. | J18: Regeling Werktijdvermindering Senioren zal door de randvoorwaarden (bijna) niet voor kunnen komen. | N18: -
B19: Pensioenpremie in fase A/1+2 | C19: Netto werkgeversdeel van de premie | F19: ='Pensioen & ZW-A'!F16 -> 0.10402828 | H19: Deze waarde wordt berekend op basis van het uurloon dat je op regel 43 invult. Zie ook tabblad Pensioen & ZW-A, óf | J19: Pofessionaliseringsuren gelden alleen voor docenten, dus n.v.t. | N19: -
B20: Pensioenpremie in fase B/C/3/4 | C20: Netto werkgeversdeel van de premie | F20: ='Pensioen & ZW-A'!F17 -> 0.10402828 | H20: vul hier de netto werkgeverspremie in die je in de kostprijs wilt opnemen, zie ook tabblad Pensioen & ZW-A | J20: Opleidingen en (bij)scholing dient uit de 1,22% van regel 96 betaald te worden | N20: -
B21: Werkhervattingskas | F21: % | J21: De fietsregeling is bruto/netto, dit dient de uitlener zelf te organiseren
B22: Premie ZW-Flex indien via UWV, voorziening ZW-Flex indien ERD | D22: Premie voor fase A/1+2 RG I | H22: Dit percentage mag nooit hoger zijn dan het geldende maximum bij het UWV voor sector 52 | J22: Deelname fiscale regeling reiskosten is bruto/netto, dit dienst de uitlener zelf te organiseren
D23: Premie voor fase A/1+2 RG II | H23: Dit percentage mag nooit hoger zijn dan het geldende maximum bij het UWV voor sector 52 | J23: Verhuiskostenregeling is n.v.t.
D24: Premie voor B/3 | H24: Dit percentage mag nooit hoger zijn dan het geldende maximum bij het UWV voor sector 52 | J24: Laptop met toebehoren is geen arbeidsvoorwaarde, dus blijft buiten beschouwing
D25: Premie voor C/4 | H25: Dit percentage mag nooit hoger zijn dan het geldende maximum bij het UWV voor sector 52 | J25: Vakbondscontributie is bruto/netto dit dient de uitlener zelf organiseren
B26: Premie WGA | H26: Vul hier 100% van de premie in | J26: De sportvergoeding kan gelden na 6 maanden dienstverband + aanvullende randvoorwaarden. Als daaraan is voldaan, mag het gefactureerd worden | N26: BV of Netto
J28: Het kopen/verkopen van verlof moet de uitlener zelf regelen
B29: Verzuim tijdens dienstverband contracten fase A/1+2 | F29: % | J29: Aanvulling IVA-uitkering tot 100%. Mag apart worden gefactureerd als het zich voordoet | N29: NU
B30: Verwacht ziekteverzuim, verzekerd | C30: Kosten verzuim tijdens het dienstverband, meestal max. 4 weken | D30: Premie voor RG I | H30: Neem de premie over uit de verzekeringspolis. Vergeet eventuele extra kosten van bijv. de arbo-begeleiding niet!
D31: Premie voor RG II
B32: Verwacht ziekteverzuim t/m 66 jaar | C32: Kosten verzuim tijdens het dienstverband, meestal max. 4 weken | D32: Voorziening voor RG I | H32: Vul hier de kosten voor verzuim tijdens dienstverband in. | J32: Voor de collectieve zorgverzekering dient de uitlener zelf een aanbod te organiseren
D33: Voorziening voor RG II | H33: Vul hier de kosten voor verzuim tijdens dienstverband in. | J33: Voor de arbeidsongeschiktheidverzekering moet de uitlener zelf een aanbod organiseren, vanaf 2027 is er vanuit de Hanze geen werkgeversbijdrage meer
B34: Verwacht ziekteverzuim AOW'ers, loondoorbetaling max 6 weken | C34: Kan zowel tijdens als na dienstverband zijn | D34: Voorziening AOW'ers RG I | H34: Vul hier de kosten voor verzuim tijdens dienstverband in. | J34: De WS-regeling zal door de randvoorwaarden niet voor kunnen komen
B35: Verwacht ziekteverzuim AOW'ers, loondoorbetaling max 6 weken | C35: Kan zowel tijdens als na dienstverband zijn | D35: Voorziening AOW'ers RG II | H35: Vul hier de kosten voor verzuim tijdens dienstverband in. | J35: Artikel 39 van de CAO vereist aanvulling van de ZW-uitkering tot 100% van het loon bij ziek uit dienst. In het model is formule voor de ZW-A op regel 13
B36: Verzuim tijdens dienstverband contracten fase B/3 | F36: % | J36: daarom aangepast zodat hij geen 20%, maar 30% aanvult. In fase B en C is de ZW-A als extra component toegevoegd.
B37: Verwacht ziekteverzuim, verzekerd | D37: Premie voor fase B/C/3/4 | H37: Neem de premie over uit de verzekeringspolis. Vergeet eventuele extra kosten van bijv. de arbo-begeleiding niet!
B38: Verwacht ziekteverzuim t/m 66 jaar | D38: Voorziening fase B/3 | H38: Vul hier de kosten voor verzuim tijdens dienstverband in.
B39: Verwacht ziekteverzuim AOW'ers, loondoorbetaling max 6 weken | C39: Kan zowel tijdens als na dienstverband zijn | D39: Voorziening AOW'ers fase B/3 | H39: Vul hier de kosten voor verzuim zowel tijdens als na het dienstverband in.
B40: Verzuim tijdens dienstverband contracten fase C/4 | F40: %
B41: Verwacht ziekteverzuim, verzekerd | D41: Premie voor fase B/C/3/4 | H41: Neem de premie over uit de verzekeringspolis. Vergeet eventuele extra kosten van bijv. de arbo-begeleiding niet!
B42: Verwacht ziekteverzuim t/m 66 jaar | D42: Voorziening fase C/4 | H42: Vul hier de kosten voor verzuim tijdens dienstverband in.
B43: Verwacht ziekteverzuim AOW'ers, loondoorbetaling max 6 weken | C43: Kan zowel tijdens als na dienstverband zijn | D43: Voorziening AOW'ers fase C/4 | H43: Vul hier de kosten voor verzuim zowel tijdens als na het dienstverband in.
B44: Overig | F44: %
B45: Voorziening transitievergoeding
...

Sheet Pensioen & ZW-A
B1: Pensioenregeling
B2: Dit is een hulpmiddel om het het wg-deel van de pensioenpremie te berekenen.
B3: Als u gebruik wilt maken van dit hulpmiddel, kunt u dat op twee manieren doen:
B4: A: Betaalde premie 2016
B5: B: Bruto loon per "soort" uitzendkracht. Het invullen kost meer tijd, maar leidt mogelijk tot een nauwkeuriger uitkomst.
B6: U kunt de premie Pluspensioen ook invullen op het tabblad "In te vullen gegevens" zonder gebruik te maken van dit hulpmiddel.
B7: A: Betaalde premie 2015
B8: Totale premie Pluspensioen 2016 | F8: Totale premie Pluspensioen 2017 | H8: =IF(C9>0,(C8/C9)*(1-(#REF!/#REF!-1))*(1+C10)*C9,0) -> 0
B9: Loonsom 2016 uk's met Pluspensioen | F9: Werknemersdeel | H9: =H8*(1-#REF!) -> #REF!
B10: Verwachte stijging uurlonen 2017 t.o.v. 2016 | C10: 0 | F10: WG-deel Pluspensioen t.b.v. kostprijs 2017 | H10: =H8-H9 -> #REF!
H12: =IF(C9>0,(C8/C9*#REF!)*(1-(#REF!/#REF!-1))*(1+C10),0) -> 0
F13: =#REF! -> #REF!
F14: =#REF! -> #REF!
B15: Zet het percentage in het tabblad 'In te vullen gegevens' | C15: Bruto (uur)loon | D15: Uren | E15: WG deel v.d. premie over loon incl. resreveringen | F15: In % van bruto loon incl. reserveringen | G15: Pensioencompensatie incl. werkgeverslasten in % van bruto uurloon
B16: Waarde uit tabblad variabelen, gemiddeld loon fase A/1+2 | C16: =Variabelen!F61 -> 22.98 | D16: 1 | E16: ='Hulpblad pensioenpremie'!X2 -> 3.1470237 | F16: ='Hulpblad pensioenpremie'!Z2 -> 0.10402828 | G16: ='Hulpblad pensioenpremie'!N2 -> 0.037532107
B17: Waarde uit tabblad variabelen, gemiddeld loon fase B/C/3/4 | C17: =Variabelen!F62 -> 22.98 | D17: 1 | E17: ='Hulpblad pensioenpremie'!X3 -> 3.1470237 | F17: ='Hulpblad pensioenpremie'!Z3 -> 0.10402828 | G17: ='Hulpblad pensioenpremie'!N3 -> 0.037532107
B18: 14.71 | C18: =B18 -> 14.71 | D18: 1 | E18: ='Hulpblad pensioenpremie'!X4 -> 1.4160071 | F18: ='Hulpblad pensioenpremie'!Z4 -> 0.073123031 | G18: ='Hulpblad pensioenpremie'!N4 -> 0.026381879
B19: 15 | C19: =B19 -> 15 | D19: 1 | E19: ='Hulpblad pensioenpremie'!X5 -> 1.4767078 | F19: ='Hulpblad pensioenpremie'!Z5 -> 0.074783319 | G19: ='Hulpblad pensioenpremie'!N5 -> 0.02698089
B20: 16 | C20: =B20 -> 16 | D20: 1 | E20: ='Hulpblad pensioenpremie'!X6 -> 1.6860206 | F20: ='Hulpblad pensioenpremie'!Z6 -> 0.080046862 | G20: ='Hulpblad pensioenpremie'!N6 -> 0.028879911
B21: 17 | C21: =B21 -> 17 | D21: 1 | E21: ='Hulpblad pensioenpremie'!X7 -> 1.8953334 | F21: ='Hulpblad pensioenpremie'!Z7 -> 0.084691164 | G21: ='Hulpblad pensioenpremie'!N7 -> 0.030555518
B22: 18 | C22: =B22 -> 18 | D22: 1 | E22: ='Hulpblad pensioenpremie'!X8 -> 2.1046461 | F22: ='Hulpblad pensioenpremie'!Z8 -> 0.088819433 | G22: ='Hulpblad pensioenpremie'!N8 -> 0.032044945
B23: 19 | C23: =B23 -> 19 | D23: 1 | E23: ='Hulpblad pensioenpremie'!X9 -> 2.3139589 | F23: ='Hulpblad pensioenpremie'!Z9 -> 0.092513147 | G23: ='Hulpblad pensioenpremie'!N9 -> 0.033377592
B24: 20 | C24: =B24 -> 20 | D24: 1 | E24: ='Hulpblad pensioenpremie'!X10 -> 2.5232717 | F24: ='Hulpblad pensioenpremie'!Z10 -> 0.095837489 | G24: ='Hulpblad pensioenpremie'!N10 -> 0.034576973
B25: 21 | C25: =B25 -> 21 | D25: 1 | E25: ='Hulpblad pensioenpremie'!X11 -> 2.7325844 | F25: ='Hulpblad pensioenpremie'!Z11 -> 0.098845228 | G25: ='Hulpblad pensioenpremie'!N11 -> 0.035662128
B26: 22 | C26: =B26 -> 22 | D26: 1 | E26: ='Hulpblad pensioenpremie'!X12 -> 2.9418972 | F26: ='Hulpblad pensioenpremie'!Z12 -> 0.10157954 | G26: ='Hulpblad pensioenpremie'!N12 -> 0.036648632
B27: 23 | C27: =B27 -> 23 | D27: 1 | E27: ='Hulpblad pensioenpremie'!X13 -> 3.15121 | F27: ='Hulpblad pensioenpremie'!Z13 -> 0.10407608 | G27: ='Hulpblad pensioenpremie'!N13 -> 0.037549353
B28: 24 | C28: =B28 -> 24 | D28: 1 | E28: ='Hulpblad pensioenpremie'!X14 -> 3.3605227 | F28: ='Hulpblad pensioenpremie'!Z14 -> 0.10636457 | G28: ='Hulpblad pensioenpremie'!N14 -> 0.038375014
B29: 25 | C29: =B29 -> 25 | D29: 1 | E29: ='Hulpblad pensioenpremie'!X15 -> 3.5698355 | F29: ='Hulpblad pensioenpremie'!Z15 -> 0.10846999 | G29: ='Hulpblad pensioenpremie'!N15 -> 0.039134622
... B31: 27 | C31: =B31 -> 27 | D31: 1 | E31: ='Hulpblad pensioenpremie'!X17 -> 3.988461 | F31: ='Hulpblad pensioenpremie'!Z17 -> 0.11221296 | G31: ='Hulpblad pensioenpremie'!N17 -> 0.040485037
D32: 1
B33: Maximum premiegevend uurloon | C33: 42.42 | D33: 1 | E33: ='Hulpblad pensioenpremie'!X19 -> 7.2160638 | F33: ='Hulpblad pensioenpremie'!Z19 -> 0.12922041 | G33: ='Hulpblad pensioenpremie'!N19 -> 0.046621115
B35: In de berekening houden we rekening met het feit dat je over uitbetaling van vakantiegeld en ADV de volledige pensioenpremie moet betalen,
B36: daarvoor geldt geen franchise. Dat heeft tot gevolg dat als je de berekening narekent, je een lager percentage zult krijgen dan je hier ziet staan.
B37: Hieronder de exacte berekening:
B39: uurloon | C39: vakantiedagen | E39: feestdagen | F39: KV/BV | G39: ADV | H39: vakantiegeld/EJU | I39: totaal pensioengevend
B40: ='Hulpblad pensioenpremie'!A2 -> 22.98 | C40: ='Hulpblad pensioenpremie'!B2 -> 3.0317096 | E40: ='Hulpblad pensioenpremie'!C2 -> 0 | F40: ='Hulpblad pensioenpremie'!D2 -> 0 | G40: ='Hulpblad pensioenpremie'!E2 -> 0 | H40: ='Hulpblad pensioenpremie'!F2 -> 4.2399087 | I40: ='Hulpblad pensioenpremie'!G2 -> 30.251618
B41: premie over uurloon | C41: premie vd | E41: premie fd | F41: premie kv | G41: premie ADV | H41: premie vg | I41: totaal premie | K41: netto premie
B42: ='Hulpblad pensioenpremie'!Q2 -> 2.18466 | C42: ='Hulpblad pensioenpremie'!R2 -> 0.28821822 | E42: ='Hulpblad pensioenpremie'!S2 -> 0 | F42: ='Hulpblad pensioenpremie'!T2 -> 0 | G42: ='Hulpblad pensioenpremie'!U2 -> 0 | H42: ='Hulpblad pensioenpremie'!V2 -> 0.67414548 | I42: ='Hulpblad pensioenpremie'!X2 -> 3.1470237
B44: Premie als percentage over pensioengevend loon: | E44: =I42/I40 -> 0.10402828
B46: De pensioencompensatie wordt berekend door van de grondslag van het loon incl. reserveringen de franchise af te trekken (het pensioengevend loon) en daar de premie over te berekenen.
...

Sheet Gegevens 4e vaksector
B1: Kostprijzen 2015, Vaksectoren
B2: Vragen | F2: Antwoorden | H2: Toelichting
B3: Kies de vaksector | C3: 3a.Bouw kort | D3: =IF(#REF!=0,"√","←") -> #REF!
B4: Sectorpremie | F4: =IFERROR(VLOOKUP(C3,#REF!,2,FALSE)," ")
B5: Premie WGA-vast | C5: Totaal | G5: =IF(#REF!=0,"√","←") -> #REF! | H5: Percentage overnemen uit beschikking van de belastingdienst. Onderdeel van de premie Werkhervattingskas.
C6: Aandeel werknemer (max. 50%) | E6: % | G6: =IF(#REF!=0,"√","←") -> #REF!
C7: Werknemerspremie | F7: =F5*D6/100 -> 0
C8: Werkgeverspremie | F8: =F5-F7 -> 0 | H8: --> Dit percentage wordt opgenomen in de kostprijsberekening.
B9: Premie WGA-flex | C9: Totaal | G9: =IF(#REF!=0,"√","←") -> #REF! | H9: Percentage overnemen uit beschikking van de belastingdienst. Onderdeel van de premie Werkhervattingskas.
C10: Aandeel werknemer (max. 50%) | E10: % | G10: =IF(#REF!=0,"√","←") -> #REF!
C11: Werknemerspremie | F11: =F9*D10/100 -> 0
C12: Werkgeverspremie | F12: =F9-F11 -> 0 | H12: --> Dit percentage wordt opgenomen in de kostprijsberekening.
B13: Premie ZW indien géén ERD | G13: =IF(#REF!=0,"√","←") -> #REF! | H13: Percentage overnemen uit beschikking van de belastingdienst. Onderdeel van de premie Werkhervattingskas.
B14: Premie ZW indien wél ERD | C14: Uitbetaling via verzekeraar, wg-lasten meeverzekerd | D14: Premie | G14: =IF(#REF!=0,"√","←") -> #REF! | H14: Premie die u betaalt aan Acture, FlexCom4, Boval, etc.
C15: Als u zelf volledige loondoorbetaling bij ziekte betaalt | D15: Voorziening | G15: =IF(#REF!=0,"√","←") -> #REF! | H15: Betreft schatting kosten ziekgengeld bij "ziek uit dienst".
B17: =IF(#REF!=0,#REF!,#REF!) -> #REF!

Sheet Gegevens 5e vaksector
B1: Kostprijzen 2015, Vaksectoren
B2: Vragen | F2: Antwoorden | H2: Toelichting
B3: Kies de vaksector | C3: 5.Houtindustrie | D3: =IF(#REF!=0,"√","←") -> #REF!
B4: Sectorpremie | F4: =IFERROR(VLOOKUP(C3,#REF!,2,FALSE)," ")
B5: Premie WGA-vast | C5: Totaal | G5: =IF(#REF!=0,"√","←") -> #REF! | H5: Percentage overnemen uit beschikking van de belastingdienst. Onderdeel van de premie Werkhervattingskas.
C6: Aandeel werknemer (max. 50%) | E6: % | G6: =IF(#REF!=0,"√","←") -> #REF!
C7: Werknemerspremie | F7: =F5*D6/100 -> 0
C8: Werkgeverspremie | F8: =F5-F7 -> 0 | H8: --> Dit percentage wordt opgenomen in de kostprijsberekening.
B9: Premie WGA-flex | C9: Totaal | G9: =IF(#REF!=0,"√","←") -> #REF! | H9: Percentage overnemen uit beschikking van de belastingdienst. Onderdeel van de premie Werkhervattingskas.
C10: Aandeel werknemer (max. 50%) | E10: % | G10: =IF(#REF!=0,"√","←") -> #REF!
C11: Werknemerspremie | F11: =F9*D10/100 -> 0
C12: Werkgeverspremie | F12: =F9-F11 -> 0 | H12: --> Dit percentage wordt opgenomen in de kostprijsberekening.
B13: Premie ZW indien géén ERD | G13: =IF(#REF!=0,"√","←") -> #REF! | H13: Percentage overnemen uit beschikking van de belastingdienst. Onderdeel van de premie Werkhervattingskas.
B14: Premie ZW indien wél ERD | C14: Uitbetaling via verzekeraar, wg-lasten meeverzekerd | D14: Premie | G14: =IF(#REF!=0,"√","←") -> #REF! | H14: Premie die u betaalt aan Acture, FlexCom4, Boval, etc.
C15: Als u zelf volledige loondoorbetaling bij ziekte betaalt | D15: Voorziening | G15: =IF(#REF!=0,"√","←") -> #REF! | H15: Betreft schatting kosten ziekgengeld bij "ziek uit dienst".
B17: =IF(#REF!=0,#REF!,#REF!) -> #REF!

Sheet Hulpblad pensioenpremie
A1: uurloon | B1: vakantiedagen | C1: feestdagen | D1: KV/BV | E1: ADV | F1: vakantiegeld/EJU | G1: Totaal | K1: Compensatie | L1: Als % van loon | M1: compensatie incl. SV en pensioenpremie | N1: als % van loon incl. SV | Q1: premie uurloon | R1: premie vd | S1: premie fd | T1: premie kv | U1: premie ADV | V1: premie vg | X1: Totaal | Z1: netto premie | AB1: oud | AD1: verschil
A2: ='Pensioen & ZW-A'!C16 -> 22.98 | B2: =$B$21*A2 -> 3.0317096 | C2: =$B$22*A2 -> 0 | D2: =$B$23*A2 -> 0 | E2: =$B$24*A2 -> 0 | F2: =($B$25+$B$26)*(A2+B2+C2+D2+E2) -> 4.2399087 | G2: =SUM(A2:F2) -> 30.251618 | K2: =P25 -> 0.62467431 | L2: =K2/A2 -> 0.02718339 | M2: =(K2*$B$29)+($B$28*K2) -> 0.86248782 | N2: =M2/A2 -> 0.037532107 | Q2: =(A2-$B$27)*$B$28 -> 2.18466 | R2: =(B2-$B$21*$B$27)*$B$28 -> 0.28821822 | S2: =(C2-$B$22*$B$27)*$B$28 -> 0 | T2: =(D2-$B$23*$B$27)*$B$28 -> 0 | U2: =(E2*$B$28) -> 0 | V2: =F2*$B$28 -> 0.67414548 | X2: =SUM(Q2:V2) -> 3.1470237 | Z2: =X2/G2 -> 0.10402828 | AB2: 0.029058026 | AD2: =Z2-AB2 -> 0.07497025
A3: ='Pensioen & ZW-A'!C17 -> 22.98 | B3: =$B$21*A3 -> 3.0317096 | C3: =$B$22*A3 -> 0 | D3: =$B$23*A3 -> 0 | E3: =$B$24*A3 -> 0 | F3: =($B$25+$B$26)*(A3+B3+C3+D3+E3) -> 4.2399087 | G3: =SUM(A3:F3) -> 30.251618 | K3: =P26 -> 0.62467431 | L3: =K3/A3 -> 0.02718339 | M3: =(K3*$B$29)+($B$28*K3) -> 0.86248782 | N3: =M3/A3 -> 0.037532107 | Q3: =(A3-$B$27)*$B$28 -> 2.18466 | R3: =(B3-$B$21*$B$27)*$B$28 -> 0.28821822 | S3: =(C3-$B$22*$B$27)*$B$28 -> 0 | T3: =(D3-$B$23*$B$27)*$B$28 -> 0 | U3: =(E3*$B$28) -> 0 | V3: =F3*$B$28 -> 0.67414548 | X3: =SUM(Q3:V3) -> 3.1470237 | Z3: =X3/G3 -> 0.10402828 | AB3: 0.029925926 | AD3: =Z3-AB3 -> 0.07410235
A4: ='Pensioen & ZW-A'!C18 -> 14.71 | B4: =$B$21*A4 -> 1.9406635 | C4: =$B$22*A4 -> 0 | D4: =$B$23*A4 -> 0 | E4: =$B$24*A4 -> 0 | F4: =($B$25+$B$26)*(A4+B4+C4+D4+E4) -> 2.7140582 | G4: =SUM(A4:F4) -> 19.364722 | K4: =P27 -> 0.28107297 | L4: =K4/A4 -> 0.019107612 | M4: =(K4*$B$29)+($B$28*K4) -> 0.38807744 | N4: =M4/A4 -> 0.026381879 | Q4: =(A4-$B$27)*$B$28 -> 0.86973 | R4: =(B4-$B$21*$B$27)*$B$28 -> 0.1147419 | S4: =(C4-$B$22*$B$27)*$B$28 -> 0 | T4: =(D4-$B$23*$B$27)*$B$28 -> 0 | U4: =(E4*$B$28) -> 0 | V4: =F4*$B$28 -> 0.43153525 | X4: =SUM(Q4:V4) -> 1.4160071 | Z4: =X4/G4 -> 0.073123031 | AB4: 0.031714286 | AD4: =Z4-AB4 -> 0.041408745
A5: ='Pensioen & ZW-A'!C19 -> 15 | B5: =$B$21*A5 -> 1.9789227 | C5: =$B$22*A5 -> 0 | D5: =$B$23*A5 -> 0 | E5: =$B$24*A5 -> 0 | F5: =($B$25+$B$26)*(A5+B5+C5+D5+E5) -> 2.7675644 | G5: =SUM(A5:F5) -> 19.746487 | K5: =P28 -> 0.29312186 | L5: =K5/A5 -> 0.019541458 | M5: =(K5*$B$29)+($B$28*K5) -> 0.40471336 | N5: =M5/A5 -> 0.02698089 | Q5: =(A5-$B$27)*$B$28 -> 0.91584 | R5: =(B5-$B$21*$B$27)*$B$28 -> 0.12082511 | S5: =(C5-$B$22*$B$27)*$B$28 -> 0 | T5: =(D5-$B$23*$B$27)*$B$28 -> 0 | U5: =(E5*$B$28) -> 0 | V5: =F5*$B$28 -> 0.44004274 | X5: =SUM(Q5:V5) -> 1.4767078 | Z5: =X5/G5 -> 0.074783319 | AB5: 0.03337931 | AD5: =Z5-AB5 -> 0.041404009
A6: ='Pensioen & ZW-A'!C20 -> 16 | B6: =$B$21*A6 -> 2.1108509 | C6: =$B$22*A6 -> 0 | D6: =$B$23*A6 -> 0 | E6: =$B$24*A6 -> 0 | F6: =($B$25+$B$26)*(A6+B6+C6+D6+E6) -> 2.9520687 | G6: =SUM(A6:F6) -> 21.06292 | K6: =P29 -> 0.33466979 | L6: =K6/A6 -> 0.020916862 | M6: =(K6*$B$29)+($B$28*K6) -> 0.46207858 | N6: =M6/A6 -> 0.028879911 | Q6: =(A6-$B$27)*$B$28 -> 1.07484 | R6: =(B6-$B$21*$B$27)*$B$28 -> 0.14180169 | S6: =(C6-$B$22*$B$27)*$B$28 -> 0 | T6: =(D6-$B$23*$B$27)*$B$28 -> 0 | U6: =(E6*$B$28) -> 0 | V6: =F6*$B$28 -> 0.46937892 | X6: =SUM(Q6:V6) -> 1.6860206 | Z6: =X6/G6 -> 0.080046862 | AB6: 0.034933333 | AD6: =Z6-AB6 -> 0.045113528
A7: ='Pensioen & ZW-A'!C21 -> 17 | B7: =$B$21*A7 -> 2.2427791 | C7: =$B$22*A7 -> 0 | D7: =$B$23*A7 -> 0 | E7: =$B$24*A7 -> 0 | F7: =($B$25+$B$26)*(A7+B7+C7+D7+E7) -> 3.136573 | G7: =SUM(A7:F7) -> 22.379352 | K7: =P30 -> 0.37621771 | L7: =K7/A7 -> 0.022130454 | M7: =(K7*$B$29)+($B$28*K7) -> 0.5194438 | N7: =M7/A7 -> 0.030555518 | Q7: =(A7-$B$27)*$B$28 -> 1.23384 | R7: =(B7-$B$21*$B$27)*$B$28 -> 0.16277827 | S7: =(C7-$B$22*$B$27)*$B$28 -> 0 | T7: =(D7-$B$23*$B$27)*$B$28 -> 0 | U7: =(E7*$B$28) -> 0 | V7: =F7*$B$28 -> 0.49871511 | X7: =SUM(Q7:V7) -> 1.8953334 | Z7: =X7/G7 -> 0.084691164 | AB7: 0.036387097 | AD7: =Z7-AB7 -> 0.048304067
A8: ='Pensioen & ZW-A'!C22 -> 18 | B8: =$B$21*A8 -> 2.3747073 | C8: =$B$22*A8 -> 0 | D8: =$B$23*A8 -> 0 | E8: =$B$24*A8 -> 0 | F8: =($B$25+$B$26)*(A8+B8+C8+D8+E8) -> 3.3210773 | G8: =SUM(A8:F8) -> 23.695785 | K8: =P31 -> 0.41776564 | L8: =K8/A8 -> 0.023209202 | M8: =(K8*$B$29)+($B$28*K8) -> 0.57680902 | N8: =M8/A8 -> 0.032044945 | Q8: =(A8-$B$27)*$B$28 -> 1.39284 | R8: =(B8-$B$21*$B$27)*$B$28 -> 0.18375485 | S8: =(C8-$B$22*$B$27)*$B$28 -> 0 | T8: =(D8-$B$23*$B$27)*$B$28 -> 0 | U8: =(E8*$B$28) -> 0 | V8: =F8*$B$28 -> 0.52805129 | X8: =SUM(Q8:V8) -> 2.1046461 | Z8: =X8/G8 -> 0.088819433 | AB8: 0.03775 | AD8: =Z8-AB8 -> 0.051069433
A9: ='Pensioen & ZW-A'!C23 -> 19 | B9: =$B$21*A9 -> 2.5066354 | C9: =$B$22*A9 -> 0 | D9: =$B$23*A9 -> 0 | E9: =$B$24*A9 -> 0 | F9: =($B$25+$B$26)*(A9+B9+C9+D9+E9) -> 3.5055816 | G9: =SUM(A9:F9) -> 25.012217 | K9: =P32 -> 0.45931356 | L9: =K9/A9 -> 0.024174398 | M9: =(K9*$B$29)+($B$28*K9) -> 0.63417424 | N9: =M9/A9 -> 0.033377592 | Q9: =(A9-$B$27)*$B$28 -> 1.55184 | R9: =(B9-$B$21*$B$27)*$B$28 -> 0.20473143 | S9: =(C9-$B$22*$B$27)*$B$28 -> 0 | T9: =(D9-$B$23*$B$27)*$B$28 -> 0 | U9: =(E9*$B$28) -> 0 | V9: =F9*$B$28 -> 0.55738747 | X9: =SUM(Q9:V9) -> 2.3139589 | Z9: =X9/G9 -> 0.092513147 | AB9: 0.039030303 | AD9: =Z9-AB9 -> 0.053482844
A10: ='Pensioen & ZW-A'!C24 -> 20 | B10: =$B$21*A10 -> 2.6385636 | C10: =$B$22*A10 -> 0 | D10: =$B$23*A10 -> 0 | E10: =$B$24*A10 -> 0 | F10: =($B$25+$B$26)*(A10+B10+C10+D10+E10) -> 3.6900859 | G10: =SUM(A10:F10) -> 26.328649 | K10: =P33 -> 0.50086149 | L10: =K10/A10 -> 0.025043075 | M10: =(K10*$B$29)+($B$28*K10) -> 0.69153946 | N10: =M10/A10 -> 0.034576973 | Q10: =(A10-$B$27)*$B$28 -> 1.71084 | R10: =(B10-$B$21*$B$27)*$B$28 -> 0.22570801 | S10: =(C10-$B$22*$B$27)*$B$28 -> 0 | T10: =(D10-$B$23*$B$27)*$B$28 -> 0 | U10: =(E10*$B$28) -> 0 | V10: =F10*$B$28 -> 0.58672365 | X10: =SUM(Q10:V10) -> 2.5232717 | Z10: =X10/G10 -> 0.095837489 | AB10: 0.040235294 | AD10: =Z10-AB10 -> 0.055602195
A11: ='Pensioen & ZW-A'!C25 -> 21 | B11: =$B$21*A11 -> 2.7704918 | C11: =$B$22*A11 -> 0 | D11: =$B$23*A11 -> 0 | E11: =$B$24*A11 -> 0 | F11: =($B$25+$B$26)*(A11+B11+C11+D11+E11) -> 3.8745902 | G11: =SUM(A11:F11) -> 27.645082 | K11: =P34 -> 0.54240942 | L11: =K11/A11 -> 0.02582902 | M11: =(K11*$B$29)+($B$28*K11) -> 0.74890468 | N11: =M11/A11 -> 0.035662128 | Q11: =(A11-$B$27)*$B$28 -> 1.86984 | R11: =(B11-$B$21*$B$27)*$B$28 -> 0.24668459 | S11: =(C11-$B$22*$B$27)*$B$28 -> 0 | T11: =(D11-$B$23*$B$27)*$B$28 -> 0 | U11: =(E11*$B$28) -> 0 | V11: =F11*$B$28 -> 0.61605984 | X11: =SUM(Q11:V11) -> 2.7325844 | Z11: =X11/G11 -> 0.098845228 | AB11: 0.041371429 | AD11: =Z11-AB11 -> 0.057473799
A12: ='Pensioen & ZW-A'!C26 -> 22 | B12: =$B$21*A12 -> 2.90242 | C12: =$B$22*A12 -> 0 | D12: =$B$23*A12 -> 0 | E12: =$B$24*A12 -> 0 | F12: =($B$25+$B$26)*(A12+B12+C12+D12+E12) -> 4.0590945 | G12: =SUM(A12:F12) -> 28.961514 | K12: =P35 -> 0.58395734 | L12: =K12/A12 -> 0.026543515 | M12: =(K12*$B$29)+($B$28*K12) -> 0.8062699 | N12: =M12/A12 -> 0.036648632 | Q12: =(A12-$B$27)*$B$28 -> 2.02884 | R12: =(B12-$B$21*$B$27)*$B$28 -> 0.26766117 | S12: =(C12-$B$22*$B$27)*$B$28 -> 0 | T12: =(D12-$B$23*$B$27)*$B$28 -> 0 | U12: =(E12*$B$28) -> 0 | V12: =F12*$B$28 -> 0.64539602 | X12: =SUM(Q12:V12) -> 2.9418972 | Z12: =X12/G12 -> 0.10157954 | AB12: 0.042444444 | AD12: =Z12-AB12 -> 0.059135091
A13: ='Pensioen & ZW-A'!C27 -> 23 | B13: =$B$21*A13 -> 3.0343482 | C13: =$B$22*A13 -> 0 | D13: =$B$23*A13 -> 0 | E13: =$B$24*A13 -> 0 | F13: =($B$25+$B$26)*(A13+B13+C13+D13+E13) -> 4.2435988 | G13: =SUM(A13:F13) -> 30.277947 | K13: =P36 -> 0.62550527 | L13: =K13/A13 -> 0.027195881 | M13: =(K13*$B$29)+($B$28*K13) -> 0.86363512 | N13: =M13/A13 -> 0.037549353 | Q13: =(A13-$B$27)*$B$28 -> 2.18784 | R13: =(B13-$B$21*$B$27)*$B$28 -> 0.28863775 | S13: =(C13-$B$22*$B$27)*$B$28 -> 0 | T13: =(D13-$B$23*$B$27)*$B$28 -> 0 | U13: =(E13*$B$28) -> 0 | V13: =F13*$B$28 -> 0.6747322 | X13: =SUM(Q13:V13) -> 3.15121 | Z13: =X13/G13 -> 0.10407608 | AB13: 0.043459459 | AD13: =Z13-AB13 -> 0.060616618
... A19: ='Pensioen & ZW-A'!C33 -> 42.42 | B19: =$B$21*A19 -> 5.5963934 | C19: =$B$22*A19 -> 0 | D19: =$B$23*A19 -> 0 | E19: =$B$24*A19 -> 0 | F19: =($B$25+$B$26)*(A19+B19+C19+D19+E19) -> 7.8266721 | G19: =SUM(A19:F19) -> 55.843066 | K19: =P42 -> 1.432366 | L19: =K19/A19 -> 0.033766289 | M19: =(K19*$B$29)+($B$28*K19) -> 1.9776677 | N19: =M19/A19 -> 0.046621115 | Q19: =(A19-$B$27)*$B$28 -> 5.27562 | R19: =(B19-$B$21*$B$27)*$B$28 -> 0.69600295 | S19: =(C19-$B$22*$B$27)*$B$28 -> 0 | T19: =(D19-$B$23*$B$27)*$B$28 -> 0 | U19: =(E19*$B$28) -> 0 | V19: =F19*$B$28 -> 1.2444409 | X19: =SUM(Q19:V19) -> 7.2160638 | Z19: =X19/G19 -> 0.12922041 | AB19: 0.062331417 | AD19: =Z19-AB19 -> 0.066888993
A21: vakantiedagen | B21: ='Vaste waarden'!C24 -> 0.13192818
A22: feestdagen | B22: ='Vaste waarden'!C26 -> 0
A23: kort verzuim | B23: ='Vaste waarden'!C31 -> 0
A24: ADV | B24: ='Vaste waarden'!C27 -> 0 | I24: uurloon | J24: PC uurloon | K24: PC vd | L24: PC fd | M24: PC kv | N24: PC ADV | O24: PC vg | P24: PC Totaal
A25: vakantiegeld | B25: ='Vaste waarden'!C32 -> 0.08 | I25: =A2 -> 22.98 | J25: =(I25-$B$27)*$B$31*$B$30 -> 0.43364814 | K25: =(B2-($B$21*$B$27))*$B$31*$B$30 -> 0.05721041 | L25: =(C2-($B$22*$B$27))*$B$31*$B$30 -> 0 | M25: =(D2-($B$23*$B$27))*$B$31*$B$30 -> 0 | N25: =E2*$B$31*$B$30 -> 0 | O25: =F2*$B$31*$B$30 -> 0.13381576 | P25: =SUM(J25:O25) -> 0.62467431
A26: EJU | B26: ='Overzicht van invoer'!F42 -> 0.083 | I26: =A3 -> 22.98 | J26: =(I26-$B$27)*$B$31*$B$30 -> 0.43364814 | K26: =(B3-($B$21*$B$27))*$B$31*$B$30 -> 0.05721041 | L26: =(C3-($B$22*$B$27))*$B$31*$B$30 -> 0 | M26: =(D3-($B$23*$B$27))*$B$31*$B$30 -> 0 | N26: =E3*$B$31*$B$30 -> 0 | O26: =F3*$B$31*$B$30 -> 0.13381576 | P26: =SUM(J26:O26) -> 0.62467431
A27: franchise | B27: ='Vaste waarden'!B35 -> 9.24 | I27: =A4 -> 14.71 | J27: =(I27-$B$27)*$B$31*$B$30 -> 0.17263867 | K27: =(B4-($B$21*$B$27))*$B$31*$B$30 -> 0.022775906 | L27: =(C4-($B$22*$B$27))*$B$31*$B$30 -> 0 | M27: =(D4-($B$23*$B$27))*$B$31*$B$30 -> 0 | N27: =E4*$B$31*$B$30 -> 0 | O27: =F4*$B$31*$B$30 -> 0.08565839 | P27: =SUM(J27:O27) -> 0.28107297
A28: pensioenpremie WG | B28: ='Vaste waarden'!B38 -> 0.159 | I28: =A5 -> 15 | J28: =(I28-$B$27)*$B$31*$B$30 -> 0.18179136 | K28: =(B5-($B$21*$B$27))*$B$31*$B$30 -> 0.023983403 | L28: =(C5-($B$22*$B$27))*$B$31*$B$30 -> 0 | M28: =(D5-($B$23*$B$27))*$B$31*$B$30 -> 0 | N28: =E5*$B$31*$B$30 -> 0 | O28: =F5*$B$31*$B$30 -> 0.0873471 | P28: =SUM(J28:O28) -> 0.29312186
A29: Sociale lasten + SFU | B29: =1+'I '!C31+'I '!C17 -> 1.2217 | I29: =A6 -> 16 | J29: =(I29-$B$27)*$B$31*$B$30 -> 0.21335236 | K29: =(B6-($B$21*$B$27))*$B$31*$B$30 -> 0.028147189 | L29: =(C6-($B$22*$B$27))*$B$31*$B$30 -> 0 | M29: =(D6-($B$23*$B$27))*$B$31*$B$30 -> 0 | N29: =E6*$B$31*$B$30 -> 0 | O29: =F6*$B$31*$B$30 -> 0.09317024 | P29: =SUM(J29:O29) -> 0.33466979
A30: pensioencompensatie | B30: =Variabelen!F95 -> 0.037 | I30: =A7 -> 17 | J30: =(I30-$B$27)*$B$31*$B$30 -> 0.24491336 | K30: =(B7-($B$21*$B$27))*$B$31*$B$30 -> 0.032310974 | L30: =(C7-($B$22*$B$27))*$B$31*$B$30 -> 0 | M30: =(D7-($B$23*$B$27))*$B$31*$B$30 -> 0 | N30: =E7*$B$31*$B$30 -> 0 | O30: =F7*$B$31*$B$30 -> 0.09899338 | P30: =SUM(J30:O30) -> 0.37621771
A31: correctiefactor | B31: ='Vaste waarden'!C40 -> 0.853 | I31: =A8 -> 18 | J31: =(I31-$B$27)*$B$31*$B$30 -> 0.27647436 | K31: =(B8-($B$21*$B$27))*$B$31*$B$30 -> 0.036474759 | L31: =(C8-($B$22*$B$27))*$B$31*$B$30 -> 0 | M31: =(D8-($B$23*$B$27))*$B$31*$B$30 -> 0 | N31: =E8*$B$31*$B$30 -> 0 | O31: =F8*$B$31*$B$30 -> 0.10481652 | P31: =SUM(J31:O31) -> 0.41776564
I32: =A9 -> 19 | J32: =(I32-$B$27)*$B$31*$B$30 -> 0.30803536 | K32: =(B9-($B$21*$B$27))*$B$31*$B$30 -> 0.040638545 | L32: =(C9-($B$22*$B$27))*$B$31*$B$30 -> 0 | M32: =(D9-($B$23*$B$27))*$B$31*$B$30 -> 0 | N32: =E9*$B$31*$B$30 -> 0 | O32: =F9*$B$31*$B$30 -> 0.11063966 | P32: =SUM(J32:O32) -> 0.45931356
A33: Maximum wg-premie | B33: =((A19-B27)*B28)/A19 -> 0.12436634 | C33: t.bv. Pensioenpremie in Overwerk | I33: =A10 -> 20 | J33: =(I33-$B$27)*$B$31*$B$30 -> 0.33959636 | K33: =(B10-($B$21*$B$27))*$B$31*$B$30 -> 0.04480233 | L33: =(C10-($B$22*$B$27))*$B$31*$B$30 -> 0 | M33: =(D10-($B$23*$B$27))*$B$31*$B$30 -> 0 | N33: =E10*$B$31*$B$30 -> 0 | O33: =F10*$B$31*$B$30 -> 0.1164628 | P33: =SUM(J33:O33) -> 0.50086149
A34: Maximum pensioencompensatie | B34: =N19 -> 0.046621115 | I34: =A11 -> 21 | J34: =(I34-$B$27)*$B$31*$B$30 -> 0.37115736 | K34: =(B11-($B$21*$B$27))*$B$31*$B$30 -> 0.048966115 | L34: =(C11-($B$22*$B$27))*$B$31*$B$30 -> 0 | M34: =(D11-($B$23*$B$27))*$B$31*$B$30 -> 0 | N34: =E11*$B$31*$B$30 -> 0 | O34: =F11*$B$31*$B$30 -> 0.12228594 | P34: =SUM(J34:O34) -> 0.54240942
I35: =A12 -> 22 | J35: =(I35-$B$27)*$B$31*$B$30 -> 0.40271836 | K35: =(B12-($B$21*$B$27))*$B$31*$B$30 -> 0.053129901 | L35: =(C12-($B$22*$B$27))*$B$31*$B$30 -> 0 | M35: =(D12-($B$23*$B$27))*$B$31*$B$30 -> 0 | N35: =E12*$B$31*$B$30 -> 0 | O35: =F12*$B$31*$B$30 -> 0.12810908 | P35: =SUM(J35:O35) -> 0.58395734
I36: =A13 -> 23 | J36: =(I36-$B$27)*$B$31*$B$30 -> 0.43427936 | K36: =(B13-($B$21*$B$27))*$B$31*$B$30 -> 0.057293686 | L36: =(C13-($B$22*$B$27))*$B$31*$B$30 -> 0 | M36: =(D13-($B$23*$B$27))*$B$31*$B$30 -> 0 | N36: =E13*$B$31*$B$30 -> 0 | O36: =F13*$B$31*$B$30 -> 0.13393222 | P36: =SUM(J36:O36) -> 0.62550527
I37: =A14 -> 24 | J37: =(I37-$B$27)*$B$31*$B$30 -> 0.46584036 | K37: =(B14-($B$21*$B$27))*$B$31*$B$30 -> 0.061457471 | L37: =(C14-($B$22*$B$27))*$B$31*$B$30 -> 0 | M37: =(D14-($B$23*$B$27))*$B$31*$B$30 -> 0 | N37: =E14*$B$31*$B$30 -> 0 | O37: =F14*$B$31*$B$30 -> 0.13975536 | P37: =SUM(J37:O37) -> 0.66705319
I38: =A15 -> 25 | J38: =(I38-$B$27)*$B$31*$B$30 -> 0.49740136 | K38: =(B15-($B$21*$B$27))*$B$31*$B$30 -> 0.065621257 | L38: =(C15-($B$22*$B$27))*$B$31*$B$30 -> 0 | M38: =(D15-($B$23*$B$27))*$B$31*$B$30 -> 0 | N38: =E15*$B$31*$B$30 -> 0 | O38: =F15*$B$31*$B$30 -> 0.1455785 | P38: =SUM(J38:O38) -> 0.70860112
I39: =A16 -> 26 | J39: =(I39-$B$27)*$B$31*$B$30 -> 0.52896236 | K39: =(B16-($B$21*$B$27))*$B$31*$B$30 -> 0.069785042 | L39: =(C16-($B$22*$B$27))*$B$31*$B$30 -> 0 | M39: =(D16-($B$23*$B$27))*$B$31*$B$30 -> 0 | N39: =E16*$B$31*$B$30 -> 0 | O39: =F16*$B$31*$B$30 -> 0.15140164 | P39: =SUM(J39:O39) -> 0.75014904
I40: =A17 -> 27 | J40: =(I40-$B$27)*$B$31*$B$30 -> 0.56052336 | K40: =(B17-($B$21*$B$27))*$B$31*$B$30 -> 0.073948827 | L40: =(C17-($B$22*$B$27))*$B$31*$B$30 -> 0 | M40: =(D17-($B$23*$B$27))*$B$31*$B$30 -> 0 | N40: =E17*$B$31*$B$30 -> 0 | O40: =F17*$B$31*$B$30 -> 0.15722478 | P40: =SUM(J40:O40) -> 0.79169697
I41: =A18 -> 0 | J41: =(I41-$B$27)*$B$31*$B$30 -> -0.29162364 | K41: =(B18-($B$21*$B$27))*$B$31*$B$30 -> -0.038473376 | L41: =(C18-($B$22*$B$27))*$B$31*$B$30 -> 0 | M41: =(D18-($B$23*$B$27))*$B$31*$B$30 -> 0 | N41: =E18*$B$31*$B$30 -> 0 | O41: =F18*$B$31*$B$30 -> 0 | P41: =SUM(J41:O41) -> -0.33009702
I42: =A19 -> 42.42 | J42: =(I42-$B$27)*$B$31*$B$30 -> 1.047194 | K42: =(B19-($B$21*$B$27))*$B$31*$B$30 -> 0.1381544 | L42: =(C19-($B$22*$B$27))*$B$31*$B$30 -> 0 | M42: =(D19-($B$23*$B$27))*$B$31*$B$30 -> 0 | N42: =E19*$B$31*$B$30 -> 0 | O42: =F19*$B$31*$B$30 -> 0.2470176 | P42: =SUM(J42:O42) -> 1.432366

Sheet Alle factoren
B3: Dit tabblad kun je gebruiken om de factoren te kopiëren of om koppelingen te maken met andere bestanden. Het is daarom niet beveiligd.
B4: Let erop dat als je kopieert en plakt, je waarschijnlijk moet kiezen voor het plakken van 'waarden'.
B6: Fase A MUB en ZUB RG I, Adminstratief en Medisch
B7: Kandidaattype | C7: Factor normale uren | D7: Factor structurele toeslagen (ORT, Ploegendienst) | E7: Factor overwerk | F7: Factor kostenvergoedingen
B8: Kandidaat met pensioen | C8: ='RG I (adm-med) fase A-1+2'!C46 -> 1.8107007 | D8: ='RG I (adm-med) fase A-1+2'!F46 -> 1.6202363 | E8: ='RG I (adm-med) fase A-1+2'!J46 -> 1.3967613 | F8: ='RG I (adm-med) fase A-1+2'!L46 -> 1.431395
B9: Kandidaat t/m 17 jaar | C9: ='RG I (adm-med) fase A-1+2'!C48 -> 1.624346 | D9: ='RG I (adm-med) fase A-1+2'!F48 -> 1.3966862 | E9: ='RG I (adm-med) fase A-1+2'!J48 -> 1.2339 | F9: ='RG I (adm-med) fase A-1+2'!L48 -> 1.2339
B10: AOW-er | C10: ='RG I (adm-med) fase A-1+2'!C51 -> 1.4154282 | D10: ='RG I (adm-med) fase A-1+2'!F51 -> 1.2170492 | E10: ='RG I (adm-med) fase A-1+2'!J51 -> 1.0752 | F10: ='RG I (adm-med) fase A-1+2'!L51 -> 1.0752
B11: Transitievergoeding | C11: ='RG I (adm-med) fase A-1+2'!C55 -> 1.061
B13: Fase A MUB en ZUB RG II, Productie, Technisch en Logistiek
B14: Kandidaattype | C14: Factor normale uren | D14: Factor structurele toeslagen (ORT, Ploegendienst) | E14: Factor overwerk | F14: Factor kostenvergoedingen
B15: Kandidaat met pensioen | C15: ='RG II (overig) fase A-1+2'!C46 -> 1.8107007 | D15: ='RG II (overig) fase A-1+2'!F46 -> 1.6202363 | E15: ='RG II (overig) fase A-1+2'!J46 -> 1.431395 | F15: ='RG II (overig) fase A-1+2'!L46 -> 1.431395
B16: Kandidaat t/m 17 jaar | C16: ='RG II (overig) fase A-1+2'!C48 -> 1.624346 | D16: ='RG II (overig) fase A-1+2'!F48 -> 1.3966862 | E16: ='RG II (overig) fase A-1+2'!J48 -> 1.2339 | F16: ='RG II (overig) fase A-1+2'!L48 -> 1.2339
B17: AOW-er | C17: ='RG II (overig) fase A-1+2'!C51 -> 1.4154282 | D17: ='RG II (overig) fase A-1+2'!F51 -> 1.2170492 | E17: ='RG II (overig) fase A-1+2'!J51 -> 1.0752 | F17: ='RG II (overig) fase A-1+2'!L51 -> 1.0752
B18: Transitievergoeding | C18: ='RG II (overig) fase A-1+2'!C55 -> 1.061
B20: Fase B
B21: Kandidaattype | C21: Factor normale uren | D21: Factor structurele toeslagen (ORT, Ploegendienst) | E21: Factor overwerk | F21: Factor kostenvergoedingen
B22: Kandidaat met pensioen | C22: ='Fase B-3'!C46 -> 1.8080679 | D22: ='Fase B-3'!F46 -> 1.6179724 | E22: ='Fase B-3'!J46 -> 1.429395 | F22: ='Fase B-3'!L46 -> 1.429395
B23: AOW-er | C23: ='Fase B-3'!C51 -> 1.4127953 | D23: ='Fase B-3'!F51 -> 1.2147853 | E23: ='Fase B-3'!J51 -> 1.0732 | F23: ='Fase B-3'!L51 -> 1.0732
B24: Transitievergoeding | C24: ='Fase B-3'!C55 -> 1.061
B26: Fase C
B27: Kandidaattype | C27: Factor normale uren | D27: Factor structurele toeslagen (ORT, Ploegendienst) | E27: Factor overwerk | F27: Factor kostenvergoedingen
