Workbook

Sheet Legenda
B1: Legenda
C3: Financieel economische onderbouwing [zie voor meer informatie 6.3 T.2: Financieel economische onderbouwing, beschrijvend document]
C5: Opgave dienstregelingskilometers [zie voor meer informatie 7.4 G.1.2: Vervoersomvang (Dienstregelingskilometers), beschrijvend document]
C7: Rekenvoorbeeld exploitatiesubsidie [zie voor meer informatie, Bijlage D Financiele bepalingen]
B10: Versie geschiedenis
B11: dd-mm-jjjj | C11: 1.0 | D11: Publicatie
B13: Mutaties t.o.v. oorspronkelijke gepubliceerde versie:
B15: NvI | C15: Vraag | D15: Verwijziging | E15: Omschrijving aanpassing

Sheet FEO
B1: Standaardformulier 14 Financieel economische onderbouwing | L1: Instructie | R1: Versie
B2: (Prijspeil 2026) | L2: Vul de oranje cellen in | R2: =Legenda!D11 -> Publicatie
C5: Directe kosten | G5: 2028 | H5: 2029 | I5: 2030 | J5: 2031 | K5: 2032 | L5: 2033 | M5: 2034 | R5: Totaal | U5: Controle = 0
E6: Van | G6: 47097 | H6: 47119 | I6: 47484 | J6: 47849 | K6: 48214 | L6: 48580 | M6: 48945 | R6: =SMALL(G6:N6,1) -> 47097
E7: tot en met | G7: 47118 | H7: 47483 | I7: 47848 | J7: 48213 | K7: 48579 | L7: 48944 | M7: 49290 | R7: =LARGE(G7:N7,1) -> 49290
E8: Dagen | G8: =G7-G6+1 -> 22 | H8: =H7-H6+1 -> 365 | I8: =I7-I6+1 -> 365 | J8: =J7-J6+1 -> 365 | K8: =K7-K6+1 -> 366 | L8: =L7-L6+1 -> 365 | M8: =M7-M6+1 -> 346 | R8: =SUM(G8:N8) -> 2194
B10: A | C10: Loonkosten direct personeel | G10: =SUM(G12:G16) -> 0 | H10: =SUM(H12:H16) -> 0 | I10: =SUM(I12:I16) -> 0 | J10: =SUM(J12:J16) -> 0 | K10: =SUM(K12:K16) -> 0 | L10: =SUM(L12:L16) -> 0 | M10: =SUM(M12:M16) -> 0 | R10: =SUM(G10:M10) -> 0
B12: =MID($B$10,1,1)&".01" -> A.01 | C12: Loonkosten machinisten | D12: A.01 | E12: Variabel | G12: =A.01!B7 -> 0 | H12: =A.01!C7 -> 0 | I12: =A.01!D7 -> 0 | J12: =A.01!E7 -> 0 | K12: =A.01!F7 -> 0 | L12: =A.01!G7 -> 0 | M12: =A.01!H7 -> 0 | R12: =SUM(G12:M12) -> 0 | U12: =SUM(G12:M12)-SUM(A.01!B7:H7) -> 0
B13: =MID($B$10,1,1)&".02" -> A.02 | C13: Loonkosten servicemedewerkers | D13: A.02 | E13: Variabel | G13: =A.02!B7 -> 0 | H13: =A.02!C7 -> 0 | I13: =A.02!D7 -> 0 | J13: =A.02!E7 -> 0 | K13: =A.02!F7 -> 0 | L13: =A.02!G7 -> 0 | M13: =A.02!H7 -> 0 | R13: =SUM(G13:M13) -> 0 | U13: =SUM(G13:M13)-SUM(A.02!B7:H7) -> 0
B14: =MID($B$10,1,1)&".03" -> A.03 | C14: Loonkosten toezichthouders | D14: A.03 | E14: Vast | G14: =A.03!B7 -> 0 | H14: =A.03!C7 -> 0 | I14: =A.03!D7 -> 0 | J14: =A.03!E7 -> 0 | K14: =A.03!F7 -> 0 | L14: =A.03!G7 -> 0 | M14: =A.03!H7 -> 0 | R14: =SUM(G14:M14) -> 0 | U14: =SUM(G14:M14)-SUM(A.03!B7:H7) -> 0
B15: =MID($B$10,1,1)&".04" -> A.04 | C15: Loonkosten overige direct pers. | D15: A.04 | E15: Vast | G15: =A.04!B7 -> 0 | H15: =A.04!C7 -> 0 | I15: =A.04!D7 -> 0 | J15: =A.04!E7 -> 0 | K15: =A.04!F7 -> 0 | L15: =A.04!G7 -> 0 | M15: =A.04!H7 -> 0 | R15: =SUM(G15:M15) -> 0 | U15: =SUM(G15:M15)-SUM(A.04!B7:H7) -> 0
B16: A.05 | C16: Overige personeelskosten direct pers. | E16: Vast | R16: =SUM(G16:M16) -> 0
B18: B | C18: Kosten Materieel | G18: =SUM(G20:G30) -> 0 | H18: =SUM(H20:H30) -> 0 | I18: =SUM(I20:I30) -> 0 | J18: =SUM(J20:J30) -> 0 | K18: =SUM(K20:K30) -> 0 | L18: =SUM(L20:L30) -> 0 | M18: =SUM(M20:M30) -> 0 | R18: =SUM(G18:M18) -> 0
B20: =MID($B$18,1,1)&".01" -> B.01 | C20: Afschr. kosten Materieel | D20: B.01 | E20: Vast (NI) | G20: =SUM(B.01!$B36:$AO36) -> 0 | H20: =SUM(B.01!$B37:$AO37) -> 0 | I20: =SUM(B.01!$B38:$AO38) -> 0 | J20: =SUM(B.01!$B39:$AO39) -> 0 | K20: =SUM(B.01!$B40:$AO40) -> 0 | L20: =SUM(B.01!$B41:$AO41) -> 0 | M20: =SUM(B.01!$B42:$AO42) -> 0 | R20: =SUM(G20:M20) -> 0 | U20: =SUM(G20:K20)-SUM(B.01!B36:AO40) -> 0
B21: =MID($B$18,1,1)&".02" -> B.02 | C21: Kosten financiering Materieel | E21: Vast (NI) | R21: =SUM(G21:M21) -> 0
B22: =MID($B$18,1,1)&".03" -> B.03 | C22: Leasekosten Materieel | D22: B.03 | E22: Vast (NI) | G22: =SUM(B.03!$B$17:$O$17) -> 0 | H22: =SUM(B.03!$B$18:$O$18) -> 0 | I22: =SUM(B.03!$B$19:$O$19) -> 0 | J22: =SUM(B.03!$B$20:$O$20) -> 0 | K22: =SUM(B.03!$B$21:$O$21) -> 0 | L22: =SUM(B.03!$B$22:$O$22) -> 0 | M22: =SUM(B.03!$B$23:$O$23) -> 0 | R22: =SUM(G22:M22) -> 0
B23: =MID($B$18,1,1)&".04" -> B.04 | C23: Onderhoudskosten Materieel | E23: Variabel | R23: =SUM(G23:M23) -> 0
B24: =MID($B$18,1,1)&".05" -> B.05 | C24: Schoonmaakkosten Materieel | E24: Variabel | R24: =SUM(G24:M24) -> 0
B25: =MID($B$18,1,1)&".06" -> B.06 | C25: Schade Materieel | E25: Variabel | R25: =SUM(G25:M25) -> 0
B26: =MID($B$18,1,1)&".07" -> B.07 | C26: Verzekering Materieel | E26: Variabel | R26: =SUM(G26:M26) -> 0
B27: =MID($B$18,1,1)&".08" -> B.08 | C27: Onderhoud apparatuur Materieel | E27: Variabel | R27: =SUM(G27:M27) -> 0
B28: =MID($B$18,1,1)&".09" -> B.09 | C28: Brandstof en/of energie Materieel | E28: Variabel | R28: =SUM(G28:M28) -> 0
B29: =MID($B$18,1,1)&".10" -> B.10 | C29: Certificaten / keuringen Materieel | E29: Variabel | R29: =SUM(G29:M29) -> 0
B31: C | C31: Inhuur | G31: =SUM(G32:G34) -> 0 | H31: =SUM(H32:H34) -> 0 | I31: =SUM(I32:I34) -> 0 | J31: =SUM(J32:J34) -> 0 | K31: =SUM(K32:K34) -> 0 | L31: =SUM(L32:L34) -> 0 | M31: =SUM(M32:M34) -> 0 | R31: =SUM(G31:M31) -> 0
B33: =MID($B$31,1,1)&".01" -> C.01 | C33: Inhuurkosten Treinvervangend vervoer | E33: Variabel | R33: =SUM(G33:M33) -> 0
B35: D | C35: Gebruiksvergoeding ProRail | G35: =SUM(G36:G38) -> 0 | H35: =SUM(H36:H38) -> 0 | I35: =SUM(I36:I38) -> 0 | J35: =SUM(J36:J38) -> 0 | K35: =SUM(K36:K38) -> 0 | L35: =SUM(L36:L38) -> 0 | M35: =SUM(M36:M38) -> 0 | R35: =SUM(G35:M35) -> 0
B37: =MID($B$35,1,1)&".01" -> D.01 | C37: Gebruiksvergoeding ZHO | D37: D.01 | E37: Variabel | G37: =D.01!C149 -> 0 | H37: =D.01!D149 -> 0 | I37: =D.01!E149 -> 0 | J37: =D.01!F149 -> 0 | K37: =D.01!G149 -> 0 | L37: =D.01!H149 -> 0 | M37: =D.01!I149 -> 0 | R37: =SUM(G37:M37) -> 0
C39: Indirecte kosten | G39: =G$5 -> 2028 | H39: =H$5 -> 2029 | I39: =I$5 -> 2030 | J39: =J$5 -> 2031 | K39: =K$5 -> 2032 | L39: =L$5 -> 2033 | M39: =M$5 -> 2034 | R39: Totaal
B41: E | C41: Loonkosten indirect personeel | G41: =SUM(G43:G45) -> 0 | H41: =SUM(H43:H45) -> 0 | I41: =SUM(I43:I45) -> 0 | J41: =SUM(J43:J45) -> 0 | K41: =SUM(K43:K45) -> 0 | L41: =SUM(L43:L45) -> 0 | M41: =SUM(M43:M45) -> 0 | R41: =SUM(G41:M41) -> 0
B43: =MID($B$41,1,1)&".01" -> E.01 | C43: Loonkosten onderhoudspersoneel | D43: E.01 | E43: Vast | G43: =E.01!B7 -> 0 | H43: =E.01!C7 -> 0 | I43: =E.01!D7 -> 0 | J43: =E.01!E7 -> 0 | K43: =E.01!F7 -> 0 | L43: =E.01!G7 -> 0 | M43: =E.01!H7 -> 0 | R43: =SUM(G43:M43) -> 0 | U43: =SUM(G43:K43)-SUM(E.01!B7:F7) -> 0
B44: =MID($B$41,1,1)&".02" -> E.02 | C44: Loonkosten overig indirect pers. | D44: E.02 | E44: Vast | G44: =E.02!B7 -> 0 | H44: =E.02!C7 -> 0 | I44: =E.02!D7 -> 0 | J44: =E.02!E7 -> 0 | K44: =E.02!F7 -> 0 | L44: =E.02!G7 -> 0 | M44: =E.02!H7 -> 0 | R44: =SUM(G44:M44) -> 0 | U44: =SUM(G44:M44)-SUM(E.02!B7:H7) -> 0
B45: =MID($B$41,1,1)&".03" -> E.03 | C45: Overige personeelkst indirect pers. | E45: Vast | R45: =SUM(G45:M45) -> 0
B47: F | C47: Overige indirecte kosten | G47: =SUM(G49:G59) -> 0 | H47: =SUM(H49:H59) -> 0 | I47: =SUM(I49:I59) -> 0 | J47: =SUM(J49:J59) -> 0 | K47: =SUM(K49:K59) -> 0 | L47: =SUM(L49:L59) -> 0 | M47: =SUM(M49:M59) -> 0 | R47: =SUM(G47:M47) -> 0
B49: =MID($B$47,1,1)&".01" -> F.01 | C49: Huisvesting | D49: F.01 | E49: Vast | G49: {=SUM(IF((F.01!$A$62:$A$68=FEO!G$5),F.01!$B$62:$O$68))} -> 0 | H49: {=SUM(IF((F.01!$A$62:$A$68=FEO!H$5),F.01!$B$62:$O$68))} -> 0 | I49: {=SUM(IF((F.01!$A$62:$A$68=FEO!I$5),F.01!$B$62:$O$68))} -> 0 | J49: {=SUM(IF((F.01!$A$62:$A$68=FEO!J$5),F.01!$B$62:$O$68))} -> 0 | K49: {=SUM(IF((F.01!$A$62:$A$68=FEO!K$5),F.01!$B$62:$O$68))} -> 0 | L49: {=SUM(IF((F.01!$A$62:$A$68=FEO!L$5),F.01!$B$62:$O$68))} -> 0 | M49: {=SUM(IF((F.01!$A$62:$A$68=FEO!M$5),F.01!$B$62:$O$68))} -> 0 | R49: =SUM(G49:M49) -> 0 | U49: =R49-SUM(F.01!B70:O70) -> 0
B50: =MID($B$47,1,1)&".02" -> F.02 | C50: Afschr. kst. Installaties Locaties | D50: F.02 | E50: Vast (NI) | G50: {=SUM(IF((F.02!$A$39:$A$45=FEO!G$5),F.02!$B$39:$O$45))} -> 0 | H50: {=SUM(IF((F.02!$A$39:$A$45=FEO!H$5),F.02!$B$39:$O$45))} -> 0 | I50: {=SUM(IF((F.02!$A$39:$A$45=FEO!I$5),F.02!$B$39:$O$45))} -> 0 | J50: {=SUM(IF((F.02!$A$39:$A$45=FEO!J$5),F.02!$B$39:$O$45))} -> 0 | K50: {=SUM(IF((F.02!$A$39:$A$45=FEO!K$5),F.02!$B$39:$O$45))} -> 0 | L50: {=SUM(IF((F.02!$A$39:$A$45=FEO!L$5),F.02!$B$39:$O$45))} -> 0 | M50: {=SUM(IF((F.02!$A$39:$A$45=FEO!M$5),F.02!$B$39:$O$45))} -> 0 | R50: =SUM(G50:M50) -> 0 | U50: =R50-SUM(F.02!B47:O47) -> 0
B51: =MID($B$47,1,1)&".03" -> F.03 | C51: Afschr. kst. Inrichting Locaties | D51: F.03 | E51: Vast (NI) | G51: {=SUM(IF((F.03!$A$39:$A$45=FEO!G$5),F.03!$B$39:$O$45))} -> 0 | H51: {=SUM(IF((F.03!$A$39:$A$45=FEO!H$5),F.03!$B$39:$O$45))} -> 0 | I51: {=SUM(IF((F.03!$A$39:$A$45=FEO!I$5),F.03!$B$39:$O$45))} -> 0 | J51: {=SUM(IF((F.03!$A$39:$A$45=FEO!J$5),F.03!$B$39:$O$45))} -> 0 | K51: {=SUM(IF((F.03!$A$39:$A$45=FEO!K$5),F.03!$B$39:$O$45))} -> 0 | L51: {=SUM(IF((F.03!$A$39:$A$45=FEO!L$5),F.03!$B$39:$O$45))} -> 0 | M51: {=SUM(IF((F.03!$A$39:$A$45=FEO!M$5),F.03!$B$39:$O$45))} -> 0 | R51: =SUM(G51:M51) -> 0 | U51: =R51-SUM(F.03!B47:O47) -> 0
B52: =MID($B$47,1,1)&".04" -> F.04 | C52: Financieringskosten overig | E52: Vast (NI) | R52: =SUM(G52:M52) -> 0
B53: =MID($B$47,1,1)&".05" -> F.05 | C53: Merk en huisstijl | E53: Vast | R53: =SUM(G53:M53) -> 0
B54: =MID($B$47,1,1)&".06" -> F.06 | C54: Marketingbudget | E54: Vast | R54: =SUM(G54:M54) -> 0
B55: =MID($B$47,1,1)&".07" -> F.07 | C55: Verkoop- en servicekosten | E55: Vast | R55: =SUM(G55:M55) -> 0
B56: =MID($B$47,1,1)&".08" -> F.08 | C56: Landelijke hoofdkantoor | E56: Vast | R56: =SUM(G56:M56) -> 0
B57: =MID($B$47,1,1)&".09" -> F.09 | C57: Moederbedrijf | E57: Vast | R57: =SUM(G57:M57) -> 0
B58: =MID($B$47,1,1)&".10" -> F.10 | C58: Implementatie- en overdracht | D58: F.10 | E58: Vast | G58: {=SUM(IF((F.10!$A$38:$A$44=FEO!G$5),F.10!$B$38:$O$44))} -> 0 | H58: {=SUM(IF((F.10!$A$38:$A$44=FEO!H$5),F.10!$B$38:$O$44))} -> 0 | I58: {=SUM(IF((F.10!$A$38:$A$44=FEO!I$5),F.10!$B$38:$O$44))} -> 0 | J58: {=SUM(IF((F.10!$A$38:$A$44=FEO!J$5),F.10!$B$38:$O$44))} -> 0 | K58: {=SUM(IF((F.10!$A$38:$A$44=FEO!K$5),F.10!$B$38:$O$44))} -> 0 | L58: {=SUM(IF((F.10!$A$38:$A$44=FEO!L$5),F.10!$B$38:$O$44))} -> 0 | M58: {=SUM(IF((F.10!$A$38:$A$44=FEO!M$5),F.10!$B$38:$O$44))} -> 0 | R58: =SUM(G58:M58) -> 0 | U58: =SUM(G58:M58)-SUM(F.10!B46:O46) -> 0
B59: =MID($B$47,1,1)&".11" -> F.11 | C59: Overige kosten | G59: =SUM(G60:G63) -> 0 | H59: =SUM(H60:H63) -> 0 | I59: =SUM(I60:I63) -> 0 | J59: =SUM(J60:J63) -> 0 | K59: =SUM(K60:K63) -> 0 | L59: =SUM(L60:L63) -> 0 | M59: =SUM(M60:M63) -> 0 | R59: =SUM(G59:M59) -> 0
C60: … < specificeren > … | E60: Vast | R60: =SUM(G60:M60) -> 0
C61: … < specificeren > … | E61: Vast | R61: =SUM(G61:M61) -> 0
C62: … < specificeren > … | E62: Vast | R62: =SUM(G62:M62) -> 0
C63: … < specificeren > … | E63: Vast | R63: =SUM(G63:M63) -> 0
B65: G | C65: (Verwacht) Rendement en risico | E65: Variabel | R65: =SUM(G65:M65) -> 0
B67: H | C67: Totaal kosten: A +B + C + D + E + F + G = Exploitatiebijdrage | G67: =G10+G18+G31+G35+G41+G47+G65 -> 0 | H67: =H10+H18+H31+H35+H41+H47+H65 -> 0 | I67: =I10+I18+I31+I35+I41+I47+I65 -> 0 | J67: =J10+J18+J31+J35+J41+J47+J65 -> 0 | K67: =K10+K18+K31+K35+K41+K47+K65 -> 0 | L67: =L10+L18+L31+L35+L41+L47+L65 -> 0 | M67: =M10+M18+M31+M35+M41+M47+M65 -> 0 | R67: =SUM(G67:M67) -> 0
B68: =MID($B$67,1,1)&".01" -> H.01 | C68: Subtotaal directe kosten | G68: =G10+G18+G31+G35 -> 0 | H68: =H10+H18+H31+H35 -> 0 | I68: =I10+I18+I31+I35 -> 0 | J68: =J10+J18+J31+J35 -> 0 | K68: =K10+K18+K31+K35 -> 0 | L68: =L10+L18+L31+L35 -> 0 | M68: =M10+M18+M31+M35 -> 0 | R68: =SUM(G68:M68) -> 0
E69: Variabel | G69: =SUMIF($E$10:$E$38,$E69,G$10:G$38) -> 0 | H69: =SUMIF($E$10:$E$38,$E69,H$10:H$38) -> 0 | I69: =SUMIF($E$10:$E$38,$E69,I$10:I$38) -> 0 | J69: =SUMIF($E$10:$E$38,$E69,J$10:J$38) -> 0 | K69: =SUMIF($E$10:$E$38,$E69,K$10:K$38) -> 0 | L69: =SUMIF($E$10:$E$38,$E69,L$10:L$38) -> 0 | M69: =SUMIF($E$10:$E$38,$E69,M$10:M$38) -> 0 | R69: =SUM(G69:M69) -> 0
E70: Vast | G70: =SUMIF($E$10:$E$38,$E70,G$10:G$38) -> 0 | H70: =SUMIF($E$10:$E$38,$E70,H$10:H$38) -> 0 | I70: =SUMIF($E$10:$E$38,$E70,I$10:I$38) -> 0 | J70: =SUMIF($E$10:$E$38,$E70,J$10:J$38) -> 0 | K70: =SUMIF($E$10:$E$38,$E70,K$10:K$38) -> 0 | L70: =SUMIF($E$10:$E$38,$E70,L$10:L$38) -> 0 | M70: =SUMIF($E$10:$E$38,$E70,M$10:M$38) -> 0 | R70: =SUM(G70:M70) -> 0
E71: Vast (NI) | G71: =SUMIF($E$10:$E$38,$E71,G$10:G$38) -> 0 | H71: =SUMIF($E$10:$E$38,$E71,H$10:H$38) -> 0 | I71: =SUMIF($E$10:$E$38,$E71,I$10:I$38) -> 0 | J71: =SUMIF($E$10:$E$38,$E71,J$10:J$38) -> 0 | K71: =SUMIF($E$10:$E$38,$E71,K$10:K$38) -> 0 | L71: =SUMIF($E$10:$E$38,$E71,L$10:L$38) -> 0 | M71: =SUMIF($E$10:$E$38,$E71,M$10:M$38) -> 0 | R71: =SUM(G71:M71) -> 0
B72: =MID($B$67,1,1)&".02" -> H.02 | C72: Subtotaal indirecte kosten | G72: =G41+G47+G65 -> 0 | H72: =H41+H47+H65 -> 0 | I72: =I41+I47+I65 -> 0 | J72: =J41+J47+J65 -> 0 | K72: =K41+K47+K65 -> 0 | L72: =L41+L47+L65 -> 0 | M72: =M41+M47+M65 -> 0 | R72: =SUM(G72:M72) -> 0
E73: Variabel | G73: =SUMIF($E$40:$E$66,$E73,G$40:G$66) -> 0 | H73: =SUMIF($E$40:$E$66,$E73,H$40:H$66) -> 0 | I73: =SUMIF($E$40:$E$66,$E73,I$40:I$66) -> 0 | J73: =SUMIF($E$40:$E$66,$E73,J$40:J$66) -> 0 | K73: =SUMIF($E$40:$E$66,$E73,K$40:K$66) -> 0 | L73: =SUMIF($E$40:$E$66,$E73,L$40:L$66) -> 0 | M73: =SUMIF($E$40:$E$66,$E73,M$40:M$66) -> 0 | R73: =SUM(G73:M73) -> 0
E74: Vast | G74: =SUMIF($E$40:$E$66,$E74,G$40:G$66) -> 0 | H74: =SUMIF($E$40:$E$66,$E74,H$40:H$66) -> 0 | I74: =SUMIF($E$40:$E$66,$E74,I$40:I$66) -> 0 | J74: =SUMIF($E$40:$E$66,$E74,J$40:J$66) -> 0 | K74: =SUMIF($E$40:$E$66,$E74,K$40:K$66) -> 0 | L74: =SUMIF($E$40:$E$66,$E74,L$40:L$66) -> 0 | M74: =SUMIF($E$40:$E$66,$E74,M$40:M$66) -> 0 | R74: =SUM(G74:M74) -> 0
E75: Vast (NI) | G75: =SUMIF($E$40:$E$66,$E75,G$40:G$66) -> 0 | H75: =SUMIF($E$40:$E$66,$E75,H$40:H$66) -> 0 | I75: =SUMIF($E$40:$E$66,$E75,I$40:I$66) -> 0 | J75: =SUMIF($E$40:$E$66,$E75,J$40:J$66) -> 0 | K75: =SUMIF($E$40:$E$66,$E75,K$40:K$66) -> 0 | L75: =SUMIF($E$40:$E$66,$E75,L$40:L$66) -> 0 | M75: =SUMIF($E$40:$E$66,$E75,M$40:M$66) -> 0 | R75: =SUM(G75:M75) -> 0
C76: (controle = nul) | H76: =H67-H68-H72 -> 0 | I76: =I67-I68-I72 -> 0 | J76: =J67-J68-J72 -> 0 | K76: =K67-K68-K72 -> 0 | L76: =L67-L68-L72 -> 0 | M76: =M67-M68-M72 -> 0 | R76: =R67-R68-R72 -> 0
B80: I | C80: Dienstregelings- bakkilometers trein | G80: =G$5 -> 2028 | H80: =H$5 -> 2029 | I80: =I$5 -> 2030 | J80: =J$5 -> 2031 | K80: =K$5 -> 2032 | L80: =L$5 -> 2033 | M80: =M$5 -> 2034 | R80: Totaal
B82: =MID($B$80,1,1)&".01" -> I.01 | C82: Aantal DRK Zutphen-Oldenzaal | D82: I.01 | G82: ='I.01 DRK ZHO'!E74 -> 1227.6 | H82: ='I.01 DRK ZHO'!F74 -> 20367 | I82: ='I.01 DRK ZHO'!G74 -> 20367 | J82: ='I.01 DRK ZHO'!H74 -> 20367 | K82: ='I.01 DRK ZHO'!I74 -> 20422.8 | L82: ='I.01 DRK ZHO'!J74 -> 20367 | M82: ='I.01 DRK ZHO'!K74 -> 19306.8 | R82: =SUM(G82:M82) -> 122425.2
B83: =MID($B$80,1,1)&".02" -> I.02 | C83: Aantal DRK Zwolle-Emmen | D83: L.02 | G83: =#REF! -> #REF! | H83: =#REF! -> #REF! | I83: =#REF! -> #REF! | J83: =#REF! -> #REF! | K83: =#REF! -> #REF! | L83: =#REF! -> #REF! | M83: =#REF! -> #REF! | R83: =SUM(G83:M83) -> #REF!
C84: Totaal aantal DRK | G84: =SUM(G82:G83) -> #REF! | H84: =SUM(H82:H83) -> #REF! | I84: =SUM(I82:I83) -> #REF! | J84: =SUM(J82:J83) -> #REF! | K84: =SUM(K82:K83) -> #REF! | L84: =SUM(L82:L83) -> #REF! | M84: =SUM(M82:M83) -> #REF! | R84: =SUM(G84:M84) -> #REF!
B85: =MID($B$80,1,1)&".02" -> I.02 | C85: Aantal BK Zutphen-Oldenzaal | D85: I.01 | G85: ='I.01 DRK ZHO'!$AA$56/365*FEO!G8 -> 2455.2 | H85: ='I.01 DRK ZHO'!$AA$56/365*FEO!H8 -> 40734 | I85: ='I.01 DRK ZHO'!$AA$56/365*FEO!I8 -> 40734 | J85: ='I.01 DRK ZHO'!$AA$56/365*FEO!J8 -> 40734 | K85: ='I.01 DRK ZHO'!$AA$56/365*FEO!K8 -> 40845.6 | L85: ='I.01 DRK ZHO'!$AA$56/365*FEO!L8 -> 40734 | M85: ='I.01 DRK ZHO'!$AA$56/365*FEO!M8 -> 38613.6 | R85: =SUM(G85:M85) -> 244850.4
B90: J | C90: Tarief per DRK Zutphen-Oldenzaal | G90: =G$5 -> 2028 | H90: =H$5 -> 2029 | I90: =I$5 -> 2030 | J90: =J$5 -> 2031 | K90: =K$5 -> 2032 | L90: =L$5 -> 2033 | M90: =M$5 -> 2034 | R90: Totaal
B92: =MID($B$90,1,1)&".01" -> J.01 | C92: Totale kosten per DRK | G92: =SUM(G93:G95) -> 0 | H92: =SUM(H93:H95) -> 0 | I92: =SUM(I93:I95) -> 0 | J92: =SUM(J93:J95) -> 0 | K92: =SUM(K93:K95) -> 0 | L92: =SUM(L93:L95) -> 0 | M92: =SUM(M93:M95) -> 0 | R92: =SUM(R93:R95) -> 0
B93: =MID($B$90,1,1)&".02" -> J.02 | C93: Variabele kosten per DRK | E93: Variabel | G93: =+SUMIF($E$10:$E$66,$E93,G$10:G$66)/G$82 -> 0 | H93: =+SUMIF($E$10:$E$66,$E93,H$10:H$66)/H$82 -> 0 | I93: =+SUMIF($E$10:$E$66,$E93,I$10:I$66)/I$82 -> 0 | J93: =+SUMIF($E$10:$E$66,$E93,J$10:J$66)/J$82 -> 0 | K93: =+SUMIF($E$10:$E$66,$E93,K$10:K$66)/K$82 -> 0 | L93: =+SUMIF($E$10:$E$66,$E93,L$10:L$66)/L$82 -> 0 | M93: =+SUMIF($E$10:$E$66,$E93,M$10:M$66)/M$82 -> 0 | R93: =+SUMIF($E$10:$E$66,$E93,R$10:R$66)/R$82 -> 0
B94: =MID($B$90,1,1)&".03" -> J.03 | C94: Vaste kosten per DRK (te indexeren) | E94: Vast | G94: =+SUMIF($E$10:$E$66,$E94,G$10:G$66)/G$82 -> 0 | H94: =+SUMIF($E$10:$E$66,$E94,H$10:H$66)/H$82 -> 0 | I94: =+SUMIF($E$10:$E$66,$E94,I$10:I$66)/I$82 -> 0 | J94: =+SUMIF($E$10:$E$66,$E94,J$10:J$66)/J$82 -> 0 | K94: =+SUMIF($E$10:$E$66,$E94,K$10:K$66)/K$82 -> 0 | L94: =+SUMIF($E$10:$E$66,$E94,L$10:L$66)/L$82 -> 0 | M94: =+SUMIF($E$10:$E$66,$E94,M$10:M$66)/M$82 -> 0 | R94: =+SUMIF($E$10:$E$66,$E94,R$10:R$66)/R$82 -> 0
B95: =MID($B$90,1,1)&".04" -> J.04 | C95: Vaste kosten per DRK (niet te indexeren) | E95: Vast (NI) | G95: =+SUMIF($E$10:$E$66,$E95,G$10:G$66)/G$82 -> 0 | H95: =+SUMIF($E$10:$E$66,$E95,H$10:H$66)/H$82 -> 0 | I95: =+SUMIF($E$10:$E$66,$E95,I$10:I$66)/I$82 -> 0 | J95: =+SUMIF($E$10:$E$66,$E95,J$10:J$66)/J$82 -> 0 | K95: =+SUMIF($E$10:$E$66,$E95,K$10:K$66)/K$82 -> 0 | L95: =+SUMIF($E$10:$E$66,$E95,L$10:L$66)/L$82 -> 0 | M95: =+SUMIF($E$10:$E$66,$E95,M$10:M$66)/M$82 -> 0 | R95: =+SUMIF($E$10:$E$66,$E95,R$10:R$66)/R$82 -> 0
E96: controle | G96: =G92-SUM(G93:G95) -> 0 | H96: =H92-SUM(H93:H95) -> 0 | I96: =I92-SUM(I93:I95) -> 0 | J96: =J92-SUM(J93:J95) -> 0 | K96: =K92-SUM(K93:K95) -> 0 | L96: =L92-SUM(L93:L95) -> 0 | M96: =M92-SUM(M93:M95) -> 0 | R96: =R92-SUM(R93:R95) -> 0
G100: =G$5 -> 2028 | H100: =H$5 -> 2029 | I100: =I$5 -> 2030 | J100: =J$5 -> 2031 | K100: =K$5 -> 2032 | L100: =L$5 -> 2033 | M100: =M$5 -> 2034 | R100: Totaal
B102: K | C102: Exploitatiebijdrage + gebruiksvergoeding | G102: =SUM(G104:G105) -> 332.64 | H102: =SUM(H104:H105) -> 5518.8 | I102: =SUM(I104:I105) -> 5518.8 | J102: =SUM(J104:J105) -> 5518.8 | K102: =SUM(K104:K105) -> 5533.92 | L102: =SUM(L104:L105) -> 5518.8 | M102: =SUM(M104:M105) -> 5231.52 | R102: =SUM(R104:R105) -> 33173.28
B104: =MID($B$102,1,1)&".01" -> K.01 | C104: Exploitatiebijdrage | G104: =G92*G82 -> 0 | H104: =H92*H82 -> 0 | I104: =I92*I82 -> 0 | J104: =J92*J82 -> 0 | K104: =K92*K82 -> 0 | L104: =L92*L82 -> 0 | M104: =M92*M82 -> 0 | R104: =SUM(G104:M104) -> 0
B105: =MID($B$102,1,1)&".02" -> K.02 | C105: Bijdrage gebruiksvergoeding | D105: D.01 | G105: =D.01!C142 -> 332.64 | H105: =D.01!D142 -> 5518.8 | I105: =D.01!E142 -> 5518.8 | J105: =D.01!F142 -> 5518.8 | K105: =D.01!G142 -> 5533.92 | L105: =D.01!H142 -> 5518.8 | M105: =D.01!I142 -> 5231.52 | R105: =SUM(G105:M105) -> 33173.28
E106: controle | G106: =G67-G104 -> 0 | H106: =H67-H104 -> 0 | I106: =I67-I104 -> 0 | J106: =J67-J104 -> 0 | K106: =K67-K104 -> 0 | L106: =L67-L104 -> 0 | M106: =M67-M104 -> 0 | R106: =R67-R104 -> 0
C110: Reizigersopbrengsten (incl. SOV) | E110: Referentie | G110: =G$5 -> 2028 | H110: =H$5 -> 2029 | I110: =I$5 -> 2030 | J110: =J$5 -> 2031 | K110: =K$5 -> 2032 | L110: =L$5 -> 2033 | M110: =M$5 -> 2034 | R110: Totaal
B112: L | C112: Reizigersopbrengsten | E112: =SUM(E114:E116) -> 0 | G112: =SUM(G114:G116) -> 0 | H112: =SUM(H114:H116) -> 0 | I112: =SUM(I114:I116) -> 0 | J112: =SUM(J114:J116) -> 0 | K112: =SUM(K114:K116) -> 0 | L112: =SUM(L114:L116) -> 0 | M112: =SUM(M114:M116) -> 0 | R112: =SUM(G112:K112) -> 0
B114: =MID($B$112,1,1)&".01" -> L.01 | C114: SOV | R114: =SUM(G114:K114) -> 0
B115: =MID($B$112,1,1)&".02" -> L.02 | C115: Overige reizigersopbrengsten | R115: =SUM(G115:K115) -> 0
C120: Overige opbrengsten | E120: Referentie | G120: =G$5 -> 2028 | H120: =H$5 -> 2029 | I120: =I$5 -> 2030 | J120: =J$5 -> 2031 | K120: =K$5 -> 2032 | L120: =L$5 -> 2033 | M120: =M$5 -> 2034 | R120: Totaal
B122: M | C122: Overige opbrengsten | G122: =SUM(G124:G127) -> 0 | H122: =SUM(H124:H127) -> 0 | I122: =SUM(I124:I127) -> 0 | J122: =SUM(J124:J127) -> 0 | K122: =SUM(K124:K127) -> 0 | L122: =SUM(L124:L127) -> 0 | M122: =SUM(M124:M127) -> 0 | R122: =SUM(R124:R127) -> 0
B124: =MID($B$122,1,1)&".01" -> M.01 | C124: … < specificeren > … | R124: =SUM(G124:M124) -> 0
B125: =MID($B$122,1,1)&".02" -> M.02 | C125: … < specificeren > … | R125: =SUM(G125:M125) -> 0
B126: =MID($B$122,1,1)&".03" -> M.03 | C126: … < specificeren > … | R126: =SUM(G126:M126) -> 0
B127: =MID($B$122,1,1)&".04" -> M.04 | C127: … < specificeren > … | R127: =SUM(G127:M127) -> 0
B132: N | C132: Financiering investeringen | G132: =G$5 -> 2028 | H132: =H$5 -> 2029 | I132: =I$5 -> 2030 | J132: =J$5 -> 2031 | K132: =K$5 -> 2032 | L132: =L$5 -> 2033 | M132: =M$5 -> 2034
B134: =MID($B$132,1,1)&".01" -> N.01 | C134: Boekwaarde Materieel | D134: B.01 | G134: {=SUM(IF((B.01!$A$52:$A$58=FEO!G$132),B.01!$B$52:$AO$58,0))} -> 0 | H134: {=SUM(IF((B.01!$A$52:$A$58=FEO!H$132),B.01!$B$52:$AO$58,0))} -> 0 | I134: {=SUM(IF((B.01!$A$52:$A$58=FEO!I$132),B.01!$B$52:$AO$58,0))} -> 0 | J134: {=SUM(IF((B.01!$A$52:$A$58=FEO!J$132),B.01!$B$52:$AO$58,0))} -> 0 | K134: {=SUM(IF((B.01!$A$52:$A$58=FEO!K$132),B.01!$B$52:$AO$58,0))} -> 0 | L134: {=SUM(IF((B.01!$A$52:$A$58=FEO!L$132),B.01!$B$52:$AO$58,0))} -> 0 | M134: {=SUM(IF((B.01!$A$52:$A$58=FEO!M$132),B.01!$B$52:$AO$58,0))} -> 0
B135: =MID($B$132,1,1)&".02" -> N.02 | C135: Boekwaarde installaties | D135: F.02 | G135: {=SUM(IF((F.02!$A$55:$A$61=FEO!G$132),F.02!$B$55:$O$61,0))} -> 0 | H135: {=SUM(IF((F.02!$A$55:$A$61=FEO!H$132),F.02!$B$55:$O$61,0))} -> 0 | I135: {=SUM(IF((F.02!$A$55:$A$61=FEO!I$132),F.02!$B$55:$O$61,0))} -> 0 | J135: {=SUM(IF((F.02!$A$55:$A$61=FEO!J$132),F.02!$B$55:$O$61,0))} -> 0 | K135: {=SUM(IF((F.02!$A$55:$A$61=FEO!K$132),F.02!$B$55:$O$61,0))} -> 0 | L135: {=SUM(IF((F.02!$A$55:$A$61=FEO!L$132),F.02!$B$55:$O$61,0))} -> 0 | M135: {=SUM(IF((F.02!$A$55:$A$61=FEO!M$132),F.02!$B$55:$O$61,0))} -> 0
B136: =MID($B$132,1,1)&".03" -> N.03 | C136: Boekwaarde inrichtingskosten | D136: F.03 | G136: {=SUM(IF((F.03!$A$55:$A$61=FEO!G$132),F.03!$B$55:$O$61,0))} -> 0 | H136: {=SUM(IF((F.03!$A$55:$A$61=FEO!H$132),F.03!$B$55:$O$61,0))} -> 0 | I136: {=SUM(IF((F.03!$A$55:$A$61=FEO!I$132),F.03!$B$55:$O$61,0))} -> 0 | J136: {=SUM(IF((F.03!$A$55:$A$61=FEO!J$132),F.03!$B$55:$O$61,0))} -> 0 | K136: {=SUM(IF((F.03!$A$55:$A$61=FEO!K$132),F.03!$B$55:$O$61,0))} -> 0 | L136: {=SUM(IF((F.03!$A$55:$A$61=FEO!L$132),F.03!$B$55:$O$61,0))} -> 0 | M136: {=SUM(IF((F.03!$A$55:$A$61=FEO!M$132),F.03!$B$55:$O$61,0))} -> 0
B137: =MID($B$132,1,1)&".04" -> N.04 | C137: Boekwaarde implementatiekosten | D137: F.10 | G137: {=SUM(IF((F.10!$A$51:$A$57=FEO!G$132),F.10!$B$51:$O$57,0))} -> 0 | H137: {=SUM(IF((F.10!$A$51:$A$57=FEO!H$132),F.10!$B$51:$O$57,0))} -> 0 | I137: {=SUM(IF((F.10!$A$51:$A$57=FEO!I$132),F.10!$B$51:$O$57,0))} -> 0 | J137: {=SUM(IF((F.10!$A$51:$A$57=FEO!J$132),F.10!$B$51:$O$57,0))} -> 0 | K137: {=SUM(IF((F.10!$A$51:$A$57=FEO!K$132),F.10!$B$51:$O$57,0))} -> 0 | L137: {=SUM(IF((F.10!$A$51:$A$57=FEO!L$132),F.10!$B$51:$O$57,0))} -> 0 | M137: {=SUM(IF((F.10!$A$51:$A$57=FEO!M$132),F.10!$B$51:$O$57,0))} -> 0
B138: =MID($B$132,1,1)&".05" -> N.05 | C138: Boekwaarde overige investeringen | G138: 0 | H138: 0 | I138: 0 | J138: 0 | K138: 0 | L138: 0 | M138: 0
C139: Subtotaal boekwaarde per 31/12 | G139: =SUM(G134:G138) -> 0 | H139: =SUM(H134:H138) -> 0 | I139: =SUM(I134:I138) -> 0 | J139: =SUM(J134:J138) -> 0 | K139: =SUM(K134:K138) -> 0 | L139: =SUM(L134:L138) -> 0 | M139: =SUM(M134:M138) -> 0
B140: =MID($B$132,1,1)&".06" -> N.06 | C140: Eigen vermogen | G140: 0 | H140: 0 | I140: 0 | J140: 0 | K140: 0 | L140: 0 | M140: 0
B141: =MID($B$132,1,1)&".07" -> N.07 | C141: Vreemd vermogen | G141: 0 | H141: 0 | I141: 0 | J141: 0 | K141: 0 | L141: 0 | M141: 0
C145: Toelichting : | H145: Naam Inschrijver
C146: Alle bedragen dienen reëel, in Euro's (exclusief btw), prijspeil 2026, te zijn weergegeven. De Inschrijver dient de ontwikkelingen binnen kosten- en batenposten toe te lichten d.m.v. een verklarende tekst in standaardformulier 15 welke onlosmakelijk verbonden is aan deze cijfermatige onderbouwing. | H146: Naam Vertegenwoordingsbevoegde ondertekenaar | R146: 15700000
H147: Functie | R147: =R67/R8*365 -> 0
H148: Handtekening | R148: =IF(OR(R147>R146,G67>(R146/365*G8),LARGE(H67:L67,1)>R146,M67>(R146/365*M8)),"Uitsluiting","")
H149: Datum
G152: =$R$146/365*G$8-G67 -> 946301.37 | H152: =$R$146/365*H$8-H67 -> 15700000 | I152: =$R$146/365*I$8-I67 -> 15700000 | J152: =$R$146/365*J$8-J67 -> 15700000 | K152: =$R$146/365*K$8-K67 -> 15743014 | L152: =$R$146/365*L$8-L67 -> 15700000 | M152: =$R$146/365*M$8-M67 -> 14882740

Sheet A.01
A1: A.01 Loonkosten machinisten | I1: Instructie | J1: Vul de oranje cellen in
A2: terug | K2: =FEO!R1 -> Versie | L2: =FEO!R2 -> Publicatie
A4: Jaar | B4: =FEO!G5 -> 2028 | C4: =FEO!H5 -> 2029 | D4: =FEO!I5 -> 2030 | E4: =FEO!J5 -> 2031 | F4: =FEO!K5 -> 2032 | G4: =FEO!L5 -> 2033 | H4: =FEO!M5 -> 2034
A5: Gemiddelde jaarloonsom per fte
A6: Aantal fte
A7: Totale loonsom | B7: =B5*B6 -> 0 | C7: =C5*C6 -> 0 | D7: =D5*D6 -> 0 | E7: =E5*E6 -> 0 | F7: =F5*F6 -> 0 | G7: =G5*G6 -> 0 | H7: =H5*H6 -> 0

Sheet A.02
A1: A.02 Loonkosten servicemedewerker (zie 9.2.2 programma van eisen) | I1: Instructie | J1: Vul de oranje cellen in
A2: terug | K2: =FEO!R1 -> Versie | L2: =FEO!R2 -> Publicatie
A4: Jaar | B4: =FEO!G5 -> 2028 | C4: =FEO!H5 -> 2029 | D4: =FEO!I5 -> 2030 | E4: =FEO!J5 -> 2031 | F4: =FEO!K5 -> 2032 | G4: =FEO!L5 -> 2033 | H4: =FEO!M5 -> 2034
A5: Gemiddelde jaarloonsom per fte
A6: Aantal fte
A7: Totale loonsom | B7: =B5*B6 -> 0 | C7: =C5*C6 -> 0 | D7: =D5*D6 -> 0 | E7: =E5*E6 -> 0 | F7: =F5*F6 -> 0 | G7: =G5*G6 -> 0 | H7: =H5*H6 -> 0

Sheet A.03
A1: A.03 Loonkosten toezichthouders (zie 10.5.2 programma van eisen) | I1: Instructie | J1: Vul de oranje cellen in
A2: terug | K2: =FEO!R1 -> Versie | L2: =FEO!R2 -> Publicatie
A4: Jaar | B4: =FEO!G5 -> 2028 | C4: =FEO!H5 -> 2029 | D4: =FEO!I5 -> 2030 | E4: =FEO!J5 -> 2031 | F4: =FEO!K5 -> 2032 | G4: =FEO!L5 -> 2033 | H4: =FEO!M5 -> 2034
A5: Gemiddelde jaarloonsom per fte
A6: Aantal fte
A7: Totale loonsom | B7: =B5*B6 -> 0 | C7: =C5*C6 -> 0 | D7: =D5*D6 -> 0 | E7: =E5*E6 -> 0 | F7: =F5*F6 -> 0 | G7: =G5*G6 -> 0 | H7: =H5*H6 -> 0

Sheet A.04
A1: A.04 Loonkosten overige direct personeel | I1: Instructie | J1: Vul de oranje cellen in
A2: terug | K2: =FEO!R1 -> Versie | L2: =FEO!R2 -> Publicatie
A4: Jaar | B4: =FEO!G5 -> 2028 | C4: =FEO!H5 -> 2029 | D4: =FEO!I5 -> 2030 | E4: =FEO!J5 -> 2031 | F4: =FEO!K5 -> 2032 | G4: =FEO!L5 -> 2033 | H4: =FEO!M5 -> 2034
A5: Gemiddelde jaarloonsom per fte
A6: Aantal fte
A7: Totale loonsom | B7: =B5*B6 -> 0 | C7: =C5*C6 -> 0 | D7: =D5*D6 -> 0 | E7: =E5*E6 -> 0 | F7: =F5*F6 -> 0 | G7: =G5*G6 -> 0 | H7: =H5*H6 -> 0

Sheet B.01
A1: B.01 Afschrijving Materieel | AL1: Instructie | AM1: Vul de oranje cellen in
A2: terug | AN2: =FEO!R1 -> Versie | AO2: =FEO!R2 -> Publicatie
A4: Omschrijving type Materieel
A5: Nieuw / bestaand
A6: Bouwjaar
A7: Aandrijving
A8: Aantal treinstellen
A9: Afschrijvingstermijn in jaren | B9: =B30/365.25 -> -128.94182 | C9: =C30/365.25 -> 0 | D9: =D30/365.25 -> 0 | E9: =E30/365.25 -> 0 | F9: =F30/365.25 -> 0 | G9: =G30/365.25 -> 0 | H9: =H30/365.25 -> 0 | I9: =I30/365.25 -> 0 | ... AO9: =AO30/365.25 -> 0
A10: Aanschafprijs per treinstel
A11: Aanschafprijs treinstel
A12: Subtotaal treinen | B12: =B11*B8 -> 0 | G12: =G11*G8 -> 0 | L12: =L11*L8 -> 0 | Q12: =Q11*Q8 -> 0 | V12: =V11*V8 -> 0 | AA12: =AA11*AA8 -> 0 | AF12: =AF11*AF8 -> 0 | AK12: =AK11*AK8 -> 0
A13: Aanschafprijs apparatuur nieuw of ter vervanging per treinstel
A14: - Tussenbakken
A15: - Energiemeters
A16: - Hoofd- en reservedelen
A17: - …
A18: - …
A19: - …
A20: Subtotaal aanschafprijs apparatuur nieuw (of vervanging) | B20: =SUM(B14:B19)*SUM(B8:B8) -> 0 | C20: =SUM(C14:C19)*SUM(C8:C8) -> 0 | D20: =SUM(D14:D19)*SUM(D8:D8) -> 0 | E20: =SUM(E14:E19)*SUM(E8:E8) -> 0 | F20: =SUM(F14:F19)*SUM(F8:F8) -> 0 | G20: =SUM(G14:G19)*SUM(G8:G8) -> 0 | H20: =SUM(H14:H19)*SUM(H8:H8) -> 0 | I20: =SUM(I14:I19)*SUM(I8:I8) -> 0 | ... AO20: =SUM(AO14:AO19)*SUM(AO8:AO8) -> 0
A21: Totaal aanschafprijs | B21: =B20+B12 -> 0 | C21: =C20+C12 -> 0 | D21: =D20+D12 -> 0 | E21: =E20+E12 -> 0 | F21: =F20+F12 -> 0 | G21: =G20+G12 -> 0 | H21: =H20+H12 -> 0 | I21: =I20+I12 -> 0 | ... AO21: =AO20+AO12 -> 0
A22: Subsidies per treinstel
A23: Fiscale regelingen per treinstel
A24: Overige per treinstel
A25: Totaal baten | B25: =SUM(B22:B24)*B8 -> 0 | C25: =SUM(C22:C24)*C8 -> 0 | D25: =SUM(D22:D24)*D8 -> 0 | E25: =SUM(E22:E24)*E8 -> 0 | F25: =SUM(F22:F24)*F8 -> 0 | G25: =SUM(G22:G24)*G8 -> 0 | H25: =SUM(H22:H24)*H8 -> 0 | I25: =SUM(I22:I24)*I8 -> 0 | ... AO25: =SUM(AO22:AO24)*AO8 -> 0
A26: Totaal aanschafwaarde | B26: =B21+B25 -> 0 | C26: =C21+C25 -> 0 | D26: =D21+D25 -> 0 | E26: =E21+E25 -> 0 | F26: =F21+F25 -> 0 | G26: =G21+G25 -> 0 | H26: =H21+H25 -> 0 | I26: =I21+I25 -> 0 | ... AO26: =AO21+AO25 -> 0
A27: Datum Instroom Concessie | B27: =FEO!$G$6 -> 47097
A28: Datum Uitstroom Concessie
A29: Afschrijvingstermijn in dagen totaal | B29: =B9*365.25 -> -47096 | C29: =C9*365.25 -> 0 | D29: =D9*365.25 -> 0 | E29: =E9*365.25 -> 0 | F29: =F9*365.25 -> 0 | G29: =G9*365.25 -> 0 | H29: =H9*365.25 -> 0 | I29: =I9*365.25 -> 0 | ... AO29: =AO9*365.25 -> 0
A30: Afschrijvingstermijn in dagen Concessie | B30: =IF(B27=0,0,B28-B27+1) -> -47096 | C30: =IF(C27=0,0,C28-C27+1) -> 0 | D30: =IF(D27=0,0,D28-D27+1) -> 0 | E30: =IF(E27=0,0,E28-E27+1) -> 0 | F30: =IF(F27=0,0,F28-F27+1) -> 0 | G30: =IF(G27=0,0,G28-G27+1) -> 0 | H30: =IF(H27=0,0,H28-H27+1) -> 0 | I30: =IF(I27=0,0,I28-I27+1) -> 0 | ... AO30: =IF(AO27=0,0,AO28-AO27+1) -> 0
A31: Afschrijving per dag | B31: =IFERROR((B26)/B29,0) -> 0 | C31: =IFERROR((C26)/C29,0) -> 0 | D31: =IFERROR((D26)/D29,0) -> 0 | E31: =IFERROR((E26)/E29,0) -> 0 | F31: =IFERROR((F26)/F29,0) -> 0 | G31: =IFERROR((G26)/G29,0) -> 0 | H31: =IFERROR((H26)/H29,0) -> 0 | I31: =IFERROR((I26)/I29,0) -> 0 | ... AO31: =IFERROR((AO26)/AO29,0) -> 0
A33: AFSCHRIJVINGEN
A35: Jaren
A36: =FEO!$G$5 -> 2028 | B36: =IF(AND($A36>YEAR(B$27),$A36<YEAR(B$28)),(DATE($A36,12,31)-DATE($A36,1,0))*B$31,IF(AND($A36=YEAR(B$27),$A36=YEAR(B$28)),(B$28-B$27+1)*B$31,IF($A36=YEAR(B$27),(DATE(YEAR(B$27),12,31)-B$27+1)*B$31,IF($A36=YEAR(B$28),(B$28-DATE(YEAR(B$28),1,1))*B$31,0)))) -> 0 | C36: =IF(AND($A36>YEAR(C$27),$A36<YEAR(C$28)),(DATE($A36,12,31)-DATE($A36,1,0))*C$31,IF(AND($A36=YEAR(C$27),$A36=YEAR(C$28)),(C$28-C$27+1)*C$31,IF($A36=YEAR(C$27),(DATE(YEAR(C$27),12,31)-C$27+1)*C$31,IF($A36=YEAR(C$28),(C$28-DATE(YEAR(C$28),1,1))*C$31,0)))) -> 0 | D36: =IF(AND($A36>YEAR(D$27),$A36<YEAR(D$28)),(DATE($A36,12,31)-DATE($A36,1,0))*D$31,IF(AND($A36=YEAR(D$27),$A36=YEAR(D$28)),(D$28-D$27+1)*D$31,IF($A36=YEAR(D$27),(DATE(YEAR(D$27),12,31)-D$27+1)*D$31,IF($A36=YEAR(D$28),(D$28-DATE(YEAR(D$28),1,1))*D$31,0)))) -> 0 | E36: =IF(AND($A36>YEAR(E$27),$A36<YEAR(E$28)),(DATE($A36,12,31)-DATE($A36,1,0))*E$31,IF(AND($A36=YEAR(E$27),$A36=YEAR(E$28)),(E$28-E$27+1)*E$31,IF($A36=YEAR(E$27),(DATE(YEAR(E$27),12,31)-E$27+1)*E$31,IF($A36=YEAR(E$28),(E$28-DATE(YEAR(E$28),1,1))*E$31,0)))) -> 0 | F36: =IF(AND($A36>YEAR(F$27),$A36<YEAR(F$28)),(DATE($A36,12,31)-DATE($A36,1,0))*F$31,IF(AND($A36=YEAR(F$27),$A36=YEAR(F$28)),(F$28-F$27+1)*F$31,IF($A36=YEAR(F$27),(DATE(YEAR(F$27),12,31)-F$27+1)*F$31,IF($A36=YEAR(F$28),(F$28-DATE(YEAR(F$28),1,1))*F$31,0)))) -> 0 | G36: =IF(AND($A36>YEAR(G$27),$A36<YEAR(G$28)),(DATE($A36,12,31)-DATE($A36,1,0))*G$31,IF(AND($A36=YEAR(G$27),$A36=YEAR(G$28)),(G$28-G$27+1)*G$31,IF($A36=YEAR(G$27),(DATE(YEAR(G$27),12,31)-G$27+1)*G$31,IF($A36=YEAR(G$28),(G$28-DATE(YEAR(G$28),1,1))*G$31,0)))) -> 0 | H36: =IF(AND($A36>YEAR(H$27),$A36<YEAR(H$28)),(DATE($A36,12,31)-DATE($A36,1,0))*H$31,IF(AND($A36=YEAR(H$27),$A36=YEAR(H$28)),(H$28-H$27+1)*H$31,IF($A36=YEAR(H$27),(DATE(YEAR(H$27),12,31)-H$27+1)*H$31,IF($A36=YEAR(H$28),(H$28-DATE(YEAR(H$28),1,1))*H$31,0)))) -> 0 | I36: =IF(AND($A36>YEAR(I$27),$A36<YEAR(I$28)),(DATE($A36,12,31)-DATE($A36,1,0))*I$31,IF(AND($A36=YEAR(I$27),$A36=YEAR(I$28)),(I$28-I$27+1)*I$31,IF($A36=YEAR(I$27),(DATE(YEAR(I$27),12,31)-I$27+1)*I$31,IF($A36=YEAR(I$28),(I$28-DATE(YEAR(I$28),1,1))*I$31,0)))) -> 0 | ... AO36: =IF(AND($A36>YEAR(AO$27),$A36<YEAR(AO$28)),(DATE($A36,12,31)-DATE($A36,1,0))*AO$31,IF(AND($A36=YEAR(AO$27),$A36=YEAR(AO$28)),(AO$28-AO$27+1)*AO$31,IF($A36=YEAR(AO$27),(DATE(YEAR(AO$27),12,31)-AO$27+1)*AO$31,IF($A36=YEAR(AO$28),(AO$28-DATE(YEAR(AO$28),1,1))*AO$31,0)))) -> 0
A37: =FEO!$H$5 -> 2029 | B37: =IF(AND($A37>YEAR(B$27),$A37<YEAR(B$28)),(DATE($A37,12,31)-DATE($A37,1,0))*B$31,IF(AND($A37=YEAR(B$27),$A37=YEAR(B$28)),(B$28-B$27+1)*B$31,IF($A37=YEAR(B$27),(DATE(YEAR(B$27),12,31)-B$27+1)*B$31,IF($A37=YEAR(B$28),(B$28-DATE(YEAR(B$28),1,1))*B$31,0)))) -> 0 | C37: =IF(AND($A37>YEAR(C$27),$A37<YEAR(C$28)),(DATE($A37,12,31)-DATE($A37,1,0))*C$31,IF(AND($A37=YEAR(C$27),$A37=YEAR(C$28)),(C$28-C$27+1)*C$31,IF($A37=YEAR(C$27),(DATE(YEAR(C$27),12,31)-C$27+1)*C$31,IF($A37=YEAR(C$28),(C$28-DATE(YEAR(C$28),1,1))*C$31,0)))) -> 0 | D37: =IF(AND($A37>YEAR(D$27),$A37<YEAR(D$28)),(DATE($A37,12,31)-DATE($A37,1,0))*D$31,IF(AND($A37=YEAR(D$27),$A37=YEAR(D$28)),(D$28-D$27+1)*D$31,IF($A37=YEAR(D$27),(DATE(YEAR(D$27),12,31)-D$27+1)*D$31,IF($A37=YEAR(D$28),(D$28-DATE(YEAR(D$28),1,1))*D$31,0)))) -> 0 | E37: =IF(AND($A37>YEAR(E$27),$A37<YEAR(E$28)),(DATE($A37,12,31)-DATE($A37,1,0))*E$31,IF(AND($A37=YEAR(E$27),$A37=YEAR(E$28)),(E$28-E$27+1)*E$31,IF($A37=YEAR(E$27),(DATE(YEAR(E$27),12,31)-E$27+1)*E$31,IF($A37=YEAR(E$28),(E$28-DATE(YEAR(E$28),1,1))*E$31,0)))) -> 0 | F37: =IF(AND($A37>YEAR(F$27),$A37<YEAR(F$28)),(DATE($A37,12,31)-DATE($A37,1,0))*F$31,IF(AND($A37=YEAR(F$27),$A37=YEAR(F$28)),(F$28-F$27+1)*F$31,IF($A37=YEAR(F$27),(DATE(YEAR(F$27),12,31)-F$27+1)*F$31,IF($A37=YEAR(F$28),(F$28-DATE(YEAR(F$28),1,1))*F$31,0)))) -> 0 | G37: =IF(AND($A37>YEAR(G$27),$A37<YEAR(G$28)),(DATE($A37,12,31)-DATE($A37,1,0))*G$31,IF(AND($A37=YEAR(G$27),$A37=YEAR(G$28)),(G$28-G$27+1)*G$31,IF($A37=YEAR(G$27),(DATE(YEAR(G$27),12,31)-G$27+1)*G$31,IF($A37=YEAR(G$28),(G$28-DATE(YEAR(G$28),1,1))*G$31,0)))) -> 0 | H37: =IF(AND($A37>YEAR(H$27),$A37<YEAR(H$28)),(DATE($A37,12,31)-DATE($A37,1,0))*H$31,IF(AND($A37=YEAR(H$27),$A37=YEAR(H$28)),(H$28-H$27+1)*H$31,IF($A37=YEAR(H$27),(DATE(YEAR(H$27),12,31)-H$27+1)*H$31,IF($A37=YEAR(H$28),(H$28-DATE(YEAR(H$28),1,1))*H$31,0)))) -> 0 | I37: =IF(AND($A37>YEAR(I$27),$A37<YEAR(I$28)),(DATE($A37,12,31)-DATE($A37,1,0))*I$31,IF(AND($A37=YEAR(I$27),$A37=YEAR(I$28)),(I$28-I$27+1)*I$31,IF($A37=YEAR(I$27),(DATE(YEAR(I$27),12,31)-I$27+1)*I$31,IF($A37=YEAR(I$28),(I$28-DATE(YEAR(I$28),1,1))*I$31,0)))) -> 0 | ... AO37: =IF(AND($A37>YEAR(AO$27),$A37<YEAR(AO$28)),(DATE($A37,12,31)-DATE($A37,1,0))*AO$31,IF(AND($A37=YEAR(AO$27),$A37=YEAR(AO$28)),(AO$28-AO$27+1)*AO$31,IF($A37=YEAR(AO$27),(DATE(YEAR(AO$27),12,31)-AO$27+1)*AO$31,IF($A37=YEAR(AO$28),(AO$28-DATE(YEAR(AO$28),1,1))*AO$31,0)))) -> 0
A38: =FEO!$I$5 -> 2030 | B38: =IF(AND($A38>YEAR(B$27),$A38<YEAR(B$28)),(DATE($A38,12,31)-DATE($A38,1,0))*B$31,IF(AND($A38=YEAR(B$27),$A38=YEAR(B$28)),(B$28-B$27+1)*B$31,IF($A38=YEAR(B$27),(DATE(YEAR(B$27),12,31)-B$27+1)*B$31,IF($A38=YEAR(B$28),(B$28-DATE(YEAR(B$28),1,1))*B$31,0)))) -> 0 | C38: =IF(AND($A38>YEAR(C$27),$A38<YEAR(C$28)),(DATE($A38,12,31)-DATE($A38,1,0))*C$31,IF(AND($A38=YEAR(C$27),$A38=YEAR(C$28)),(C$28-C$27+1)*C$31,IF($A38=YEAR(C$27),(DATE(YEAR(C$27),12,31)-C$27+1)*C$31,IF($A38=YEAR(C$28),(C$28-DATE(YEAR(C$28),1,1))*C$31,0)))) -> 0 | D38: =IF(AND($A38>YEAR(D$27),$A38<YEAR(D$28)),(DATE($A38,12,31)-DATE($A38,1,0))*D$31,IF(AND($A38=YEAR(D$27),$A38=YEAR(D$28)),(D$28-D$27+1)*D$31,IF($A38=YEAR(D$27),(DATE(YEAR(D$27),12,31)-D$27+1)*D$31,IF($A38=YEAR(D$28),(D$28-DATE(YEAR(D$28),1,1))*D$31,0)))) -> 0 | E38: =IF(AND($A38>YEAR(E$27),$A38<YEAR(E$28)),(DATE($A38,12,31)-DATE($A38,1,0))*E$31,IF(AND($A38=YEAR(E$27),$A38=YEAR(E$28)),(E$28-E$27+1)*E$31,IF($A38=YEAR(E$27),(DATE(YEAR(E$27),12,31)-E$27+1)*E$31,IF($A38=YEAR(E$28),(E$28-DATE(YEAR(E$28),1,1))*E$31,0)))) -> 0 | F38: =IF(AND($A38>YEAR(F$27),$A38<YEAR(F$28)),(DATE($A38,12,31)-DATE($A38,1,0))*F$31,IF(AND($A38=YEAR(F$27),$A38=YEAR(F$28)),(F$28-F$27+1)*F$31,IF($A38=YEAR(F$27),(DATE(YEAR(F$27),12,31)-F$27+1)*F$31,IF($A38=YEAR(F$28),(F$28-DATE(YEAR(F$28),1,1))*F$31,0)))) -> 0 | G38: =IF(AND($A38>YEAR(G$27),$A38<YEAR(G$28)),(DATE($A38,12,31)-DATE($A38,1,0))*G$31,IF(AND($A38=YEAR(G$27),$A38=YEAR(G$28)),(G$28-G$27+1)*G$31,IF($A38=YEAR(G$27),(DATE(YEAR(G$27),12,31)-G$27+1)*G$31,IF($A38=YEAR(G$28),(G$28-DATE(YEAR(G$28),1,1))*G$31,0)))) -> 0 | H38: =IF(AND($A38>YEAR(H$27),$A38<YEAR(H$28)),(DATE($A38,12,31)-DATE($A38,1,0))*H$31,IF(AND($A38=YEAR(H$27),$A38=YEAR(H$28)),(H$28-H$27+1)*H$31,IF($A38=YEAR(H$27),(DATE(YEAR(H$27),12,31)-H$27+1)*H$31,IF($A38=YEAR(H$28),(H$28-DATE(YEAR(H$28),1,1))*H$31,0)))) -> 0 | I38: =IF(AND($A38>YEAR(I$27),$A38<YEAR(I$28)),(DATE($A38,12,31)-DATE($A38,1,0))*I$31,IF(AND($A38=YEAR(I$27),$A38=YEAR(I$28)),(I$28-I$27+1)*I$31,IF($A38=YEAR(I$27),(DATE(YEAR(I$27),12,31)-I$27+1)*I$31,IF($A38=YEAR(I$28),(I$28-DATE(YEAR(I$28),1,1))*I$31,0)))) -> 0 | ... AO38: =IF(AND($A38>YEAR(AO$27),$A38<YEAR(AO$28)),(DATE($A38,12,31)-DATE($A38,1,0))*AO$31,IF(AND($A38=YEAR(AO$27),$A38=YEAR(AO$28)),(AO$28-AO$27+1)*AO$31,IF($A38=YEAR(AO$27),(DATE(YEAR(AO$27),12,31)-AO$27+1)*AO$31,IF($A38=YEAR(AO$28),(AO$28-DATE(YEAR(AO$28),1,1))*AO$31,0)))) -> 0
A39: =FEO!$J$5 -> 2031 | B39: =IF(AND($A39>YEAR(B$27),$A39<YEAR(B$28)),(DATE($A39,12,31)-DATE($A39,1,0))*B$31,IF(AND($A39=YEAR(B$27),$A39=YEAR(B$28)),(B$28-B$27+1)*B$31,IF($A39=YEAR(B$27),(DATE(YEAR(B$27),12,31)-B$27+1)*B$31,IF($A39=YEAR(B$28),(B$28-DATE(YEAR(B$28),1,1))*B$31,0)))) -> 0 | C39: =IF(AND($A39>YEAR(C$27),$A39<YEAR(C$28)),(DATE($A39,12,31)-DATE($A39,1,0))*C$31,IF(AND($A39=YEAR(C$27),$A39=YEAR(C$28)),(C$28-C$27+1)*C$31,IF($A39=YEAR(C$27),(DATE(YEAR(C$27),12,31)-C$27+1)*C$31,IF($A39=YEAR(C$28),(C$28-DATE(YEAR(C$28),1,1))*C$31,0)))) -> 0 | D39: =IF(AND($A39>YEAR(D$27),$A39<YEAR(D$28)),(DATE($A39,12,31)-DATE($A39,1,0))*D$31,IF(AND($A39=YEAR(D$27),$A39=YEAR(D$28)),(D$28-D$27+1)*D$31,IF($A39=YEAR(D$27),(DATE(YEAR(D$27),12,31)-D$27+1)*D$31,IF($A39=YEAR(D$28),(D$28-DATE(YEAR(D$28),1,1))*D$31,0)))) -> 0 | E39: =IF(AND($A39>YEAR(E$27),$A39<YEAR(E$28)),(DATE($A39,12,31)-DATE($A39,1,0))*E$31,IF(AND($A39=YEAR(E$27),$A39=YEAR(E$28)),(E$28-E$27+1)*E$31,IF($A39=YEAR(E$27),(DATE(YEAR(E$27),12,31)-E$27+1)*E$31,IF($A39=YEAR(E$28),(E$28-DATE(YEAR(E$28),1,1))*E$31,0)))) -> 0 | F39: =IF(AND($A39>YEAR(F$27),$A39<YEAR(F$28)),(DATE($A39,12,31)-DATE($A39,1,0))*F$31,IF(AND($A39=YEAR(F$27),$A39=YEAR(F$28)),(F$28-F$27+1)*F$31,IF($A39=YEAR(F$27),(DATE(YEAR(F$27),12,31)-F$27+1)*F$31,IF($A39=YEAR(F$28),(F$28-DATE(YEAR(F$28),1,1))*F$31,0)))) -> 0 | G39: =IF(AND($A39>YEAR(G$27),$A39<YEAR(G$28)),(DATE($A39,12,31)-DATE($A39,1,0))*G$31,IF(AND($A39=YEAR(G$27),$A39=YEAR(G$28)),(G$28-G$27+1)*G$31,IF($A39=YEAR(G$27),(DATE(YEAR(G$27),12,31)-G$27+1)*G$31,IF($A39=YEAR(G$28),(G$28-DATE(YEAR(G$28),1,1))*G$31,0)))) -> 0 | H39: =IF(AND($A39>YEAR(H$27),$A39<YEAR(H$28)),(DATE($A39,12,31)-DATE($A39,1,0))*H$31,IF(AND($A39=YEAR(H$27),$A39=YEAR(H$28)),(H$28-H$27+1)*H$31,IF($A39=YEAR(H$27),(DATE(YEAR(H$27),12,31)-H$27+1)*H$31,IF($A39=YEAR(H$28),(H$28-DATE(YEAR(H$28),1,1))*H$31,0)))) -> 0 | I39: =IF(AND($A39>YEAR(I$27),$A39<YEAR(I$28)),(DATE($A39,12,31)-DATE($A39,1,0))*I$31,IF(AND($A39=YEAR(I$27),$A39=YEAR(I$28)),(I$28-I$27+1)*I$31,IF($A39=YEAR(I$27),(DATE(YEAR(I$27),12,31)-I$27+1)*I$31,IF($A39=YEAR(I$28),(I$28-DATE(YEAR(I$28),1,1))*I$31,0)))) -> 0 | ... AO39: =IF(AND($A39>YEAR(AO$27),$A39<YEAR(AO$28)),(DATE($A39,12,31)-DATE($A39,1,0))*AO$31,IF(AND($A39=YEAR(AO$27),$A39=YEAR(AO$28)),(AO$28-AO$27+1)*AO$31,IF($A39=YEAR(AO$27),(DATE(YEAR(AO$27),12,31)-AO$27+1)*AO$31,IF($A39=YEAR(AO$28),(AO$28-DATE(YEAR(AO$28),1,1))*AO$31,0)))) -> 0
A40: =FEO!$K$5 -> 2032 | B40: =IF(AND($A40>YEAR(B$27),$A40<YEAR(B$28)),(DATE($A40,12,31)-DATE($A40,1,0))*B$31,IF(AND($A40=YEAR(B$27),$A40=YEAR(B$28)),(B$28-B$27+1)*B$31,IF($A40=YEAR(B$27),(DATE(YEAR(B$27),12,31)-B$27+1)*B$31,IF($A40=YEAR(B$28),(B$28-DATE(YEAR(B$28),1,1))*B$31,0)))) -> 0 | C40: =IF(AND($A40>YEAR(C$27),$A40<YEAR(C$28)),(DATE($A40,12,31)-DATE($A40,1,0))*C$31,IF(AND($A40=YEAR(C$27),$A40=YEAR(C$28)),(C$28-C$27+1)*C$31,IF($A40=YEAR(C$27),(DATE(YEAR(C$27),12,31)-C$27+1)*C$31,IF($A40=YEAR(C$28),(C$28-DATE(YEAR(C$28),1,1))*C$31,0)))) -> 0 | D40: =IF(AND($A40>YEAR(D$27),$A40<YEAR(D$28)),(DATE($A40,12,31)-DATE($A40,1,0))*D$31,IF(AND($A40=YEAR(D$27),$A40=YEAR(D$28)),(D$28-D$27+1)*D$31,IF($A40=YEAR(D$27),(DATE(YEAR(D$27),12,31)-D$27+1)*D$31,IF($A40=YEAR(D$28),(D$28-DATE(YEAR(D$28),1,1))*D$31,0)))) -> 0 | E40: =IF(AND($A40>YEAR(E$27),$A40<YEAR(E$28)),(DATE($A40,12,31)-DATE($A40,1,0))*E$31,IF(AND($A40=YEAR(E$27),$A40=YEAR(E$28)),(E$28-E$27+1)*E$31,IF($A40=YEAR(E$27),(DATE(YEAR(E$27),12,31)-E$27+1)*E$31,IF($A40=YEAR(E$28),(E$28-DATE(YEAR(E$28),1,1))*E$31,0)))) -> 0 | F40: =IF(AND($A40>YEAR(F$27),$A40<YEAR(F$28)),(DATE($A40,12,31)-DATE($A40,1,0))*F$31,IF(AND($A40=YEAR(F$27),$A40=YEAR(F$28)),(F$28-F$27+1)*F$31,IF($A40=YEAR(F$27),(DATE(YEAR(F$27),12,31)-F$27+1)*F$31,IF($A40=YEAR(F$28),(F$28-DATE(YEAR(F$28),1,1))*F$31,0)))) -> 0 | G40: =IF(AND($A40>YEAR(G$27),$A40<YEAR(G$28)),(DATE($A40,12,31)-DATE($A40,1,0))*G$31,IF(AND($A40=YEAR(G$27),$A40=YEAR(G$28)),(G$28-G$27+1)*G$31,IF($A40=YEAR(G$27),(DATE(YEAR(G$27),12,31)-G$27+1)*G$31,IF($A40=YEAR(G$28),(G$28-DATE(YEAR(G$28),1,1))*G$31,0)))) -> 0 | H40: =IF(AND($A40>YEAR(H$27),$A40<YEAR(H$28)),(DATE($A40,12,31)-DATE($A40,1,0))*H$31,IF(AND($A40=YEAR(H$27),$A40=YEAR(H$28)),(H$28-H$27+1)*H$31,IF($A40=YEAR(H$27),(DATE(YEAR(H$27),12,31)-H$27+1)*H$31,IF($A40=YEAR(H$28),(H$28-DATE(YEAR(H$28),1,1))*H$31,0)))) -> 0 | I40: =IF(AND($A40>YEAR(I$27),$A40<YEAR(I$28)),(DATE($A40,12,31)-DATE($A40,1,0))*I$31,IF(AND($A40=YEAR(I$27),$A40=YEAR(I$28)),(I$28-I$27+1)*I$31,IF($A40=YEAR(I$27),(DATE(YEAR(I$27),12,31)-I$27+1)*I$31,IF($A40=YEAR(I$28),(I$28-DATE(YEAR(I$28),1,1))*I$31,0)))) -> 0 | ... AO40: =IF(AND($A40>YEAR(AO$27),$A40<YEAR(AO$28)),(DATE($A40,12,31)-DATE($A40,1,0))*AO$31,IF(AND($A40=YEAR(AO$27),$A40=YEAR(AO$28)),(AO$28-AO$27+1)*AO$31,IF($A40=YEAR(AO$27),(DATE(YEAR(AO$27),12,31)-AO$27+1)*AO$31,IF($A40=YEAR(AO$28),(AO$28-DATE(YEAR(AO$28),1,1))*AO$31,0)))) -> 0
A41: =FEO!$L$5 -> 2033 | B41: =IF(AND($A41>YEAR(B$27),$A41<YEAR(B$28)),(DATE($A41,12,31)-DATE($A41,1,0))*B$31,IF(AND($A41=YEAR(B$27),$A41=YEAR(B$28)),(B$28-B$27+1)*B$31,IF($A41=YEAR(B$27),(DATE(YEAR(B$27),12,31)-B$27+1)*B$31,IF($A41=YEAR(B$28),(B$28-DATE(YEAR(B$28),1,1))*B$31,0)))) -> 0 | C41: =IF(AND($A41>YEAR(C$27),$A41<YEAR(C$28)),(DATE($A41,12,31)-DATE($A41,1,0))*C$31,IF(AND($A41=YEAR(C$27),$A41=YEAR(C$28)),(C$28-C$27+1)*C$31,IF($A41=YEAR(C$27),(DATE(YEAR(C$27),12,31)-C$27+1)*C$31,IF($A41=YEAR(C$28),(C$28-DATE(YEAR(C$28),1,1))*C$31,0)))) -> 0 | D41: =IF(AND($A41>YEAR(D$27),$A41<YEAR(D$28)),(DATE($A41,12,31)-DATE($A41,1,0))*D$31,IF(AND($A41=YEAR(D$27),$A41=YEAR(D$28)),(D$28-D$27+1)*D$31,IF($A41=YEAR(D$27),(DATE(YEAR(D$27),12,31)-D$27+1)*D$31,IF($A41=YEAR(D$28),(D$28-DATE(YEAR(D$28),1,1))*D$31,0)))) -> 0 | E41: =IF(AND($A41>YEAR(E$27),$A41<YEAR(E$28)),(DATE($A41,12,31)-DATE($A41,1,0))*E$31,IF(AND($A41=YEAR(E$27),$A41=YEAR(E$28)),(E$28-E$27+1)*E$31,IF($A41=YEAR(E$27),(DATE(YEAR(E$27),12,31)-E$27+1)*E$31,IF($A41=YEAR(E$28),(E$28-DATE(YEAR(E$28),1,1))*E$31,0)))) -> 0 | F41: =IF(AND($A41>YEAR(F$27),$A41<YEAR(F$28)),(DATE($A41,12,31)-DATE($A41,1,0))*F$31,IF(AND($A41=YEAR(F$27),$A41=YEAR(F$28)),(F$28-F$27+1)*F$31,IF($A41=YEAR(F$27),(DATE(YEAR(F$27),12,31)-F$27+1)*F$31,IF($A41=YEAR(F$28),(F$28-DATE(YEAR(F$28),1,1))*F$31,0)))) -> 0 | G41: =IF(AND($A41>YEAR(G$27),$A41<YEAR(G$28)),(DATE($A41,12,31)-DATE($A41,1,0))*G$31,IF(AND($A41=YEAR(G$27),$A41=YEAR(G$28)),(G$28-G$27+1)*G$31,IF($A41=YEAR(G$27),(DATE(YEAR(G$27),12,31)-G$27+1)*G$31,IF($A41=YEAR(G$28),(G$28-DATE(YEAR(G$28),1,1))*G$31,0)))) -> 0 | H41: =IF(AND($A41>YEAR(H$27),$A41<YEAR(H$28)),(DATE($A41,12,31)-DATE($A41,1,0))*H$31,IF(AND($A41=YEAR(H$27),$A41=YEAR(H$28)),(H$28-H$27+1)*H$31,IF($A41=YEAR(H$27),(DATE(YEAR(H$27),12,31)-H$27+1)*H$31,IF($A41=YEAR(H$28),(H$28-DATE(YEAR(H$28),1,1))*H$31,0)))) -> 0 | I41: =IF(AND($A41>YEAR(I$27),$A41<YEAR(I$28)),(DATE($A41,12,31)-DATE($A41,1,0))*I$31,IF(AND($A41=YEAR(I$27),$A41=YEAR(I$28)),(I$28-I$27+1)*I$31,IF($A41=YEAR(I$27),(DATE(YEAR(I$27),12,31)-I$27+1)*I$31,IF($A41=YEAR(I$28),(I$28-DATE(YEAR(I$28),1,1))*I$31,0)))) -> 0 | ... AO41: =IF(AND($A41>YEAR(AO$27),$A41<YEAR(AO$28)),(DATE($A41,12,31)-DATE($A41,1,0))*AO$31,IF(AND($A41=YEAR(AO$27),$A41=YEAR(AO$28)),(AO$28-AO$27+1)*AO$31,IF($A41=YEAR(AO$27),(DATE(YEAR(AO$27),12,31)-AO$27+1)*AO$31,IF($A41=YEAR(AO$28),(AO$28-DATE(YEAR(AO$28),1,1))*AO$31,0)))) -> 0
A42: =FEO!$M$5 -> 2034 | B42: =IF(AND($A42>YEAR(B$27),$A42<YEAR(B$28)),(DATE($A42,12,31)-DATE($A42,1,0))*B$31,IF(AND($A42=YEAR(B$27),$A42=YEAR(B$28)),(B$28-B$27+1)*B$31,IF($A42=YEAR(B$27),(DATE(YEAR(B$27),12,31)-B$27+1)*B$31,IF($A42=YEAR(B$28),(B$28-DATE(YEAR(B$28),1,1)+1)*B$31,0)))) -> 0 | C42: =IF(AND($A42>YEAR(C$27),$A42<YEAR(C$28)),(DATE($A42,12,31)-DATE($A42,1,0))*C$31,IF(AND($A42=YEAR(C$27),$A42=YEAR(C$28)),(C$28-C$27+1)*C$31,IF($A42=YEAR(C$27),(DATE(YEAR(C$27),12,31)-C$27+1)*C$31,IF($A42=YEAR(C$28),(C$28-DATE(YEAR(C$28),1,1)+1)*C$31,0)))) -> 0 | D42: =IF(AND($A42>YEAR(D$27),$A42<YEAR(D$28)),(DATE($A42,12,31)-DATE($A42,1,0))*D$31,IF(AND($A42=YEAR(D$27),$A42=YEAR(D$28)),(D$28-D$27+1)*D$31,IF($A42=YEAR(D$27),(DATE(YEAR(D$27),12,31)-D$27+1)*D$31,IF($A42=YEAR(D$28),(D$28-DATE(YEAR(D$28),1,1)+1)*D$31,0)))) -> 0 | E42: =IF(AND($A42>YEAR(E$27),$A42<YEAR(E$28)),(DATE($A42,12,31)-DATE($A42,1,0))*E$31,IF(AND($A42=YEAR(E$27),$A42=YEAR(E$28)),(E$28-E$27+1)*E$31,IF($A42=YEAR(E$27),(DATE(YEAR(E$27),12,31)-E$27+1)*E$31,IF($A42=YEAR(E$28),(E$28-DATE(YEAR(E$28),1,1)+1)*E$31,0)))) -> 0 | F42: =IF(AND($A42>YEAR(F$27),$A42<YEAR(F$28)),(DATE($A42,12,31)-DATE($A42,1,0))*F$31,IF(AND($A42=YEAR(F$27),$A42=YEAR(F$28)),(F$28-F$27+1)*F$31,IF($A42=YEAR(F$27),(DATE(YEAR(F$27),12,31)-F$27+1)*F$31,IF($A42=YEAR(F$28),(F$28-DATE(YEAR(F$28),1,1)+1)*F$31,0)))) -> 0 | G42: =IF(AND($A42>YEAR(G$27),$A42<YEAR(G$28)),(DATE($A42,12,31)-DATE($A42,1,0))*G$31,IF(AND($A42=YEAR(G$27),$A42=YEAR(G$28)),(G$28-G$27+1)*G$31,IF($A42=YEAR(G$27),(DATE(YEAR(G$27),12,31)-G$27+1)*G$31,IF($A42=YEAR(G$28),(G$28-DATE(YEAR(G$28),1,1)+1)*G$31,0)))) -> 0 | H42: =IF(AND($A42>YEAR(H$27),$A42<YEAR(H$28)),(DATE($A42,12,31)-DATE($A42,1,0))*H$31,IF(AND($A42=YEAR(H$27),$A42=YEAR(H$28)),(H$28-H$27+1)*H$31,IF($A42=YEAR(H$27),(DATE(YEAR(H$27),12,31)-H$27+1)*H$31,IF($A42=YEAR(H$28),(H$28-DATE(YEAR(H$28),1,1)+1)*H$31,0)))) -> 0 | I42: =IF(AND($A42>YEAR(I$27),$A42<YEAR(I$28)),(DATE($A42,12,31)-DATE($A42,1,0))*I$31,IF(AND($A42=YEAR(I$27),$A42=YEAR(I$28)),(I$28-I$27+1)*I$31,IF($A42=YEAR(I$27),(DATE(YEAR(I$27),12,31)-I$27+1)*I$31,IF($A42=YEAR(I$28),(I$28-DATE(YEAR(I$28),1,1)+1)*I$31,0)))) -> 0 | ... AO42: =IF(AND($A42>YEAR(AO$27),$A42<YEAR(AO$28)),(DATE($A42,12,31)-DATE($A42,1,0))*AO$31,IF(AND($A42=YEAR(AO$27),$A42=YEAR(AO$28)),(AO$28-AO$27+1)*AO$31,IF($A42=YEAR(AO$27),(DATE(YEAR(AO$27),12,31)-AO$27+1)*AO$31,IF($A42=YEAR(AO$28),(AO$28-DATE(YEAR(AO$28),1,1)+1)*AO$31,0)))) -> 0
A44: TOTAAL | B44: =SUM(B36:B43) -> 0 | C44: =SUM(C36:C43) -> 0 | D44: =SUM(D36:D43) -> 0 | E44: =SUM(E36:E43) -> 0 | F44: =SUM(F36:F43) -> 0 | G44: =SUM(G36:G43) -> 0 | H44: =SUM(H36:H43) -> 0 | I44: =SUM(I36:I43) -> 0 | ... AO44: =SUM(AO36:AO43) -> 0
A46: OVERNAMEWAARDE | B46: =B26-B44 -> 0 | C46: =C26-C44 -> 0 | D46: =D26-D44 -> 0 | E46: =E26-E44 -> 0 | F46: =F26-F44 -> 0 | G46: =G26-G44 -> 0 | H46: =H26-H44 -> 0 | I46: =I26-I44 -> 0 | ... AO46: =AO26-AO44 -> 0
A47: Controle | B47: =(B29-B30)*B31-B46 -> 0 | C47: =(C29-C30)*C31-C46 -> 0 | D47: =(D29-D30)*D31-D46 -> 0 | E47: =(E29-E30)*E31-E46 -> 0 | F47: =(F29-F30)*F31-F46 -> 0 | G47: =(G29-G30)*G31-G46 -> 0 | H47: =(H29-H30)*H31-H46 -> 0 | I47: =(I29-I30)*I31-I46 -> 0 | ... AO47: =(AO29-AO30)*AO31-AO46 -> 0
A49: BOEKWAARDE 31-12
A51: Jaren
A52: =FEO!$G$5 -> 2028 | B52: =IF(YEAR(B$27)=$A52,B$26,0)-B36 -> 0 | C52: =IF(YEAR(C$27)=$A52,C$26,0)-C36 -> 0 | D52: =IF(YEAR(D$27)=$A52,D$26,0)-D36 -> 0 | E52: =IF(YEAR(E$27)=$A52,E$26,0)-E36 -> 0 | F52: =IF(YEAR(F$27)=$A52,F$26,0)-F36 -> 0 | G52: =IF(YEAR(G$27)=$A52,G$26,0)-G36 -> 0 | H52: =IF(YEAR(H$27)=$A52,H$26,0)-H36 -> 0 | I52: =IF(YEAR(I$27)=$A52,I$26,0)-I36 -> 0 | ... AO52: =IF(YEAR(AO$27)=$A52,AO$26,0)-AO36 -> 0
A53: =FEO!$H$5 -> 2029 | B53: =IF(YEAR(B$27)=$A53,B$26,0)+B52-B37 -> 0 | C53: =IF(YEAR(C$27)=$A53,C$26,0)+C52-C37 -> 0 | D53: =IF(YEAR(D$27)=$A53,D$26,0)+D52-D37 -> 0 | E53: =IF(YEAR(E$27)=$A53,E$26,0)+E52-E37 -> 0 | F53: =IF(YEAR(F$27)=$A53,F$26,0)+F52-F37 -> 0 | G53: =IF(YEAR(G$27)=$A53,G$26,0)+G52-G37 -> 0 | H53: =IF(YEAR(H$27)=$A53,H$26,0)+H52-H37 -> 0 | I53: =IF(YEAR(I$27)=$A53,I$26,0)+I52-I37 -> 0 | ... AO53: =IF(YEAR(AO$27)=$A53,AO$26,0)+AO52-AO37 -> 0
A54: =FEO!$I$5 -> 2030 | B54: =IF(YEAR(B$27)=$A54,B$26,0)+B53-B38 -> 0 | C54: =IF(YEAR(C$27)=$A54,C$26,0)+C53-C38 -> 0 | D54: =IF(YEAR(D$27)=$A54,D$26,0)+D53-D38 -> 0 | E54: =IF(YEAR(E$27)=$A54,E$26,0)+E53-E38 -> 0 | F54: =IF(YEAR(F$27)=$A54,F$26,0)+F53-F38 -> 0 | G54: =IF(YEAR(G$27)=$A54,G$26,0)+G53-G38 -> 0 | H54: =IF(YEAR(H$27)=$A54,H$26,0)+H53-H38 -> 0 | I54: =IF(YEAR(I$27)=$A54,I$26,0)+I53-I38 -> 0 | ... AO54: =IF(YEAR(AO$27)=$A54,AO$26,0)+AO53-AO38 -> 0
A55: =FEO!$J$5 -> 2031 | B55: =IF(YEAR(B$27)=$A55,B$26,0)+B54-B39 -> 0 | C55: =IF(YEAR(C$27)=$A55,C$26,0)+C54-C39 -> 0 | D55: =IF(YEAR(D$27)=$A55,D$26,0)+D54-D39 -> 0 | E55: =IF(YEAR(E$27)=$A55,E$26,0)+E54-E39 -> 0 | F55: =IF(YEAR(F$27)=$A55,F$26,0)+F54-F39 -> 0 | G55: =IF(YEAR(G$27)=$A55,G$26,0)+G54-G39 -> 0 | H55: =IF(YEAR(H$27)=$A55,H$26,0)+H54-H39 -> 0 | I55: =IF(YEAR(I$27)=$A55,I$26,0)+I54-I39 -> 0 | ... AO55: =IF(YEAR(AO$27)=$A55,AO$26,0)+AO54-AO39 -> 0
A56: =FEO!$K$5 -> 2032 | B56: =IF(YEAR(B$27)=$A56,B$26,0)+B55-B40 -> 0 | C56: =IF(YEAR(C$27)=$A56,C$26,0)+C55-C40 -> 0 | D56: =IF(YEAR(D$27)=$A56,D$26,0)+D55-D40 -> 0 | E56: =IF(YEAR(E$27)=$A56,E$26,0)+E55-E40 -> 0 | F56: =IF(YEAR(F$27)=$A56,F$26,0)+F55-F40 -> 0 | G56: =IF(YEAR(G$27)=$A56,G$26,0)+G55-G40 -> 0 | H56: =IF(YEAR(H$27)=$A56,H$26,0)+H55-H40 -> 0 | I56: =IF(YEAR(I$27)=$A56,I$26,0)+I55-I40 -> 0 | ... AO56: =IF(YEAR(AO$27)=$A56,AO$26,0)+AO55-AO40 -> 0
A57: =FEO!$L$5 -> 2033 | B57: =IF(YEAR(B$27)=$A57,B$26,0)+B56-B41 -> 0 | C57: =IF(YEAR(C$27)=$A57,C$26,0)+C56-C41 -> 0 | D57: =IF(YEAR(D$27)=$A57,D$26,0)+D56-D41 -> 0 | E57: =IF(YEAR(E$27)=$A57,E$26,0)+E56-E41 -> 0 | F57: =IF(YEAR(F$27)=$A57,F$26,0)+F56-F41 -> 0 | G57: =IF(YEAR(G$27)=$A57,G$26,0)+G56-G41 -> 0 | H57: =IF(YEAR(H$27)=$A57,H$26,0)+H56-H41 -> 0 | I57: =IF(YEAR(I$27)=$A57,I$26,0)+I56-I41 -> 0 | ... AO57: =IF(YEAR(AO$27)=$A57,AO$26,0)+AO56-AO41 -> 0
A58: =FEO!$M$5 -> 2034 | B58: =IF(YEAR(B$27)=$A58,B$26,0)+B57-B42 -> 0 | C58: =IF(YEAR(C$27)=$A58,C$26,0)+C57-C42 -> 0 | D58: =IF(YEAR(D$27)=$A58,D$26,0)+D57-D42 -> 0 | E58: =IF(YEAR(E$27)=$A58,E$26,0)+E57-E42 -> 0 | F58: =IF(YEAR(F$27)=$A58,F$26,0)+F57-F42 -> 0 | G58: =IF(YEAR(G$27)=$A58,G$26,0)+G57-G42 -> 0 | H58: =IF(YEAR(H$27)=$A58,H$26,0)+H57-H42 -> 0 | I58: =IF(YEAR(I$27)=$A58,I$26,0)+I57-I42 -> 0 | ... AO58: =IF(YEAR(AO$27)=$A58,AO$26,0)+AO57-AO42 -> 0

Sheet B.03
A1: B.03 Leasekosten treinmaterieel | L1: Instructie | M1: Vul de oranje cellen in
A2: terug | N2: =FEO!R1 -> Versie | O2: =FEO!R2 -> Publicatie
A4: Omschrijving treinstel | B4: <tekst>
A5: Bouwjaar | B5: <JJJJ>
A6: Aandrijving | B6: <tekst>
A7: Type leaseovereenkomst
A8: Aantal treinstellen
A9: Leasebedrag per treinstel
A10: Totaal treinstellen | B10: =B9*B8 -> 0 | C10: =C9*C8 -> 0 | D10: =D9*D8 -> 0 | E10: =E9*E8 -> 0 | F10: =F9*F8 -> 0 | G10: =G9*G8 -> 0 | H10: =H9*H8 -> 0 | I10: =I9*I8 -> 0 | ... O10: =O9*O8 -> 0
A11: Datum Instroom concessie
A12: Datum Uitstroom concessie
A13: Leasetermijn in maanden | B13: =DATEDIF(B11,B12,"M") -> 0 | C13: =DATEDIF(C11,C12,"M") -> 0 | D13: =DATEDIF(D11,D12,"M") -> 0 | E13: =DATEDIF(E11,E12,"M") -> 0 | F13: =DATEDIF(F11,F12,"M") -> 0 | G13: =DATEDIF(G11,G12,"M") -> 0 | H13: =DATEDIF(H11,H12,"M") -> 0 | I13: =DATEDIF(I11,I12,"M") -> 0 | ... O13: =DATEDIF(O11,O12,"M") -> 0
A14: Leasebedrag per maand | B14: =IFERROR(B10/B13,0) -> 0 | C14: =IFERROR(C10/C13,0) -> 0 | D14: =IFERROR(D10/D13,0) -> 0 | E14: =IFERROR(E10/E13,0) -> 0 | F14: =IFERROR(F10/F13,0) -> 0 | G14: =IFERROR(G10/G13,0) -> 0 | H14: =IFERROR(H10/H13,0) -> 0 | I14: =IFERROR(I10/I13,0) -> 0 | ... O14: =IFERROR(O10/O13,0) -> 0
A16: Jaren
A17: =FEO!$G$5 -> 2028 | B17: =IF(AND($A17>YEAR(B$11),$A17<YEAR(B$12)),12*B$14,IF($A17=YEAR(B$11),(12-MONTH(B$11)+1)*B$14,IF($A17=YEAR(B$12),(MONTH(B$12))*B$14,0))) -> 0 | C17: =IF(AND($A17>YEAR(C$11),$A17<YEAR(C$12)),12*C$14,IF($A17=YEAR(C$11),(12-MONTH(C$11)+1)*C$14,IF($A17=YEAR(C$12),(MONTH(C$12))*C$14,0))) -> 0 | D17: =IF(AND($A17>YEAR(D$11),$A17<YEAR(D$12)),12*D$14,IF($A17=YEAR(D$11),(12-MONTH(D$11)+1)*D$14,IF($A17=YEAR(D$12),(MONTH(D$12))*D$14,0))) -> 0 | E17: =IF(AND($A17>YEAR(E$11),$A17<YEAR(E$12)),12*E$14,IF($A17=YEAR(E$11),(12-MONTH(E$11)+1)*E$14,IF($A17=YEAR(E$12),(MONTH(E$12))*E$14,0))) -> 0 | F17: =IF(AND($A17>YEAR(F$11),$A17<YEAR(F$12)),12*F$14,IF($A17=YEAR(F$11),(12-MONTH(F$11)+1)*F$14,IF($A17=YEAR(F$12),(MONTH(F$12))*F$14,0))) -> 0 | G17: =IF(AND($A17>YEAR(G$11),$A17<YEAR(G$12)),12*G$14,IF($A17=YEAR(G$11),(12-MONTH(G$11)+1)*G$14,IF($A17=YEAR(G$12),(MONTH(G$12))*G$14,0))) -> 0 | H17: =IF(AND($A17>YEAR(H$11),$A17<YEAR(H$12)),12*H$14,IF($A17=YEAR(H$11),(12-MONTH(H$11)+1)*H$14,IF($A17=YEAR(H$12),(MONTH(H$12))*H$14,0))) -> 0 | I17: =IF(AND($A17>YEAR(I$11),$A17<YEAR(I$12)),12*I$14,IF($A17=YEAR(I$11),(12-MONTH(I$11)+1)*I$14,IF($A17=YEAR(I$12),(MONTH(I$12))*I$14,0))) -> 0 | ... O17: =IF(AND($A17>YEAR(O$11),$A17<YEAR(O$12)),12*O$14,IF($A17=YEAR(O$11),(12-MONTH(O$11)+1)*O$14,IF($A17=YEAR(O$12),(MONTH(O$12))*O$14,0))) -> 0
A18: =FEO!$H$5 -> 2029 | B18: =IF(AND($A18>YEAR(B$11),$A18<YEAR(B$12)),12*B$14,IF($A18=YEAR(B$11),(12-MONTH(B$11)+1)*B$14,IF($A18=YEAR(B$12),(MONTH(B$12))*B$14,0))) -> 0 | C18: =IF(AND($A18>YEAR(C$11),$A18<YEAR(C$12)),12*C$14,IF($A18=YEAR(C$11),(12-MONTH(C$11)+1)*C$14,IF($A18=YEAR(C$12),(MONTH(C$12))*C$14,0))) -> 0 | D18: =IF(AND($A18>YEAR(D$11),$A18<YEAR(D$12)),12*D$14,IF($A18=YEAR(D$11),(12-MONTH(D$11)+1)*D$14,IF($A18=YEAR(D$12),(MONTH(D$12))*D$14,0))) -> 0 | E18: =IF(AND($A18>YEAR(E$11),$A18<YEAR(E$12)),12*E$14,IF($A18=YEAR(E$11),(12-MONTH(E$11)+1)*E$14,IF($A18=YEAR(E$12),(MONTH(E$12))*E$14,0))) -> 0 | F18: =IF(AND($A18>YEAR(F$11),$A18<YEAR(F$12)),12*F$14,IF($A18=YEAR(F$11),(12-MONTH(F$11)+1)*F$14,IF($A18=YEAR(F$12),(MONTH(F$12))*F$14,0))) -> 0 | G18: =IF(AND($A18>YEAR(G$11),$A18<YEAR(G$12)),12*G$14,IF($A18=YEAR(G$11),(12-MONTH(G$11)+1)*G$14,IF($A18=YEAR(G$12),(MONTH(G$12))*G$14,0))) -> 0 | H18: =IF(AND($A18>YEAR(H$11),$A18<YEAR(H$12)),12*H$14,IF($A18=YEAR(H$11),(12-MONTH(H$11)+1)*H$14,IF($A18=YEAR(H$12),(MONTH(H$12))*H$14,0))) -> 0 | I18: =IF(AND($A18>YEAR(I$11),$A18<YEAR(I$12)),12*I$14,IF($A18=YEAR(I$11),(12-MONTH(I$11)+1)*I$14,IF($A18=YEAR(I$12),(MONTH(I$12))*I$14,0))) -> 0 | ... O18: =IF(AND($A18>YEAR(O$11),$A18<YEAR(O$12)),12*O$14,IF($A18=YEAR(O$11),(12-MONTH(O$11)+1)*O$14,IF($A18=YEAR(O$12),(MONTH(O$12))*O$14,0))) -> 0
A19: =FEO!$I$5 -> 2030 | B19: =IF(AND($A19>YEAR(B$11),$A19<YEAR(B$12)),12*B$14,IF($A19=YEAR(B$11),(12-MONTH(B$11)+1)*B$14,IF($A19=YEAR(B$12),(MONTH(B$12))*B$14,0))) -> 0 | C19: =IF(AND($A19>YEAR(C$11),$A19<YEAR(C$12)),12*C$14,IF($A19=YEAR(C$11),(12-MONTH(C$11)+1)*C$14,IF($A19=YEAR(C$12),(MONTH(C$12))*C$14,0))) -> 0 | D19: =IF(AND($A19>YEAR(D$11),$A19<YEAR(D$12)),12*D$14,IF($A19=YEAR(D$11),(12-MONTH(D$11)+1)*D$14,IF($A19=YEAR(D$12),(MONTH(D$12))*D$14,0))) -> 0 | E19: =IF(AND($A19>YEAR(E$11),$A19<YEAR(E$12)),12*E$14,IF($A19=YEAR(E$11),(12-MONTH(E$11)+1)*E$14,IF($A19=YEAR(E$12),(MONTH(E$12))*E$14,0))) -> 0 | F19: =IF(AND($A19>YEAR(F$11),$A19<YEAR(F$12)),12*F$14,IF($A19=YEAR(F$11),(12-MONTH(F$11)+1)*F$14,IF($A19=YEAR(F$12),(MONTH(F$12))*F$14,0))) -> 0 | G19: =IF(AND($A19>YEAR(G$11),$A19<YEAR(G$12)),12*G$14,IF($A19=YEAR(G$11),(12-MONTH(G$11)+1)*G$14,IF($A19=YEAR(G$12),(MONTH(G$12))*G$14,0))) -> 0 | H19: =IF(AND($A19>YEAR(H$11),$A19<YEAR(H$12)),12*H$14,IF($A19=YEAR(H$11),(12-MONTH(H$11)+1)*H$14,IF($A19=YEAR(H$12),(MONTH(H$12))*H$14,0))) -> 0 | I19: =IF(AND($A19>YEAR(I$11),$A19<YEAR(I$12)),12*I$14,IF($A19=YEAR(I$11),(12-MONTH(I$11)+1)*I$14,IF($A19=YEAR(I$12),(MONTH(I$12))*I$14,0))) -> 0 | ... O19: =IF(AND($A19>YEAR(O$11),$A19<YEAR(O$12)),12*O$14,IF($A19=YEAR(O$11),(12-MONTH(O$11)+1)*O$14,IF($A19=YEAR(O$12),(MONTH(O$12))*O$14,0))) -> 0
A20: =FEO!$J$5 -> 2031 | B20: =IF(AND($A20>YEAR(B$11),$A20<YEAR(B$12)),12*B$14,IF($A20=YEAR(B$11),(12-MONTH(B$11)+1)*B$14,IF($A20=YEAR(B$12),(MONTH(B$12))*B$14,0))) -> 0 | C20: =IF(AND($A20>YEAR(C$11),$A20<YEAR(C$12)),12*C$14,IF($A20=YEAR(C$11),(12-MONTH(C$11)+1)*C$14,IF($A20=YEAR(C$12),(MONTH(C$12))*C$14,0))) -> 0 | D20: =IF(AND($A20>YEAR(D$11),$A20<YEAR(D$12)),12*D$14,IF($A20=YEAR(D$11),(12-MONTH(D$11)+1)*D$14,IF($A20=YEAR(D$12),(MONTH(D$12))*D$14,0))) -> 0 | E20: =IF(AND($A20>YEAR(E$11),$A20<YEAR(E$12)),12*E$14,IF($A20=YEAR(E$11),(12-MONTH(E$11)+1)*E$14,IF($A20=YEAR(E$12),(MONTH(E$12))*E$14,0))) -> 0 | F20: =IF(AND($A20>YEAR(F$11),$A20<YEAR(F$12)),12*F$14,IF($A20=YEAR(F$11),(12-MONTH(F$11)+1)*F$14,IF($A20=YEAR(F$12),(MONTH(F$12))*F$14,0))) -> 0 | G20: =IF(AND($A20>YEAR(G$11),$A20<YEAR(G$12)),12*G$14,IF($A20=YEAR(G$11),(12-MONTH(G$11)+1)*G$14,IF($A20=YEAR(G$12),(MONTH(G$12))*G$14,0))) -> 0 | H20: =IF(AND($A20>YEAR(H$11),$A20<YEAR(H$12)),12*H$14,IF($A20=YEAR(H$11),(12-MONTH(H$11)+1)*H$14,IF($A20=YEAR(H$12),(MONTH(H$12))*H$14,0))) -> 0 | I20: =IF(AND($A20>YEAR(I$11),$A20<YEAR(I$12)),12*I$14,IF($A20=YEAR(I$11),(12-MONTH(I$11)+1)*I$14,IF($A20=YEAR(I$12),(MONTH(I$12))*I$14,0))) -> 0 | ... O20: =IF(AND($A20>YEAR(O$11),$A20<YEAR(O$12)),12*O$14,IF($A20=YEAR(O$11),(12-MONTH(O$11)+1)*O$14,IF($A20=YEAR(O$12),(MONTH(O$12))*O$14,0))) -> 0
A21: =FEO!$K$5 -> 2032 | B21: =IF(AND($A21>YEAR(B$11),$A21<YEAR(B$12)),12*B$14,IF($A21=YEAR(B$11),(12-MONTH(B$11)+1)*B$14,IF($A21=YEAR(B$12),(MONTH(B$12))*B$14,0))) -> 0 | C21: =IF(AND($A21>YEAR(C$11),$A21<YEAR(C$12)),12*C$14,IF($A21=YEAR(C$11),(12-MONTH(C$11)+1)*C$14,IF($A21=YEAR(C$12),(MONTH(C$12))*C$14,0))) -> 0 | D21: =IF(AND($A21>YEAR(D$11),$A21<YEAR(D$12)),12*D$14,IF($A21=YEAR(D$11),(12-MONTH(D$11)+1)*D$14,IF($A21=YEAR(D$12),(MONTH(D$12))*D$14,0))) -> 0 | E21: =IF(AND($A21>YEAR(E$11),$A21<YEAR(E$12)),12*E$14,IF($A21=YEAR(E$11),(12-MONTH(E$11)+1)*E$14,IF($A21=YEAR(E$12),(MONTH(E$12))*E$14,0))) -> 0 | F21: =IF(AND($A21>YEAR(F$11),$A21<YEAR(F$12)),12*F$14,IF($A21=YEAR(F$11),(12-MONTH(F$11)+1)*F$14,IF($A21=YEAR(F$12),(MONTH(F$12))*F$14,0))) -> 0 | G21: =IF(AND($A21>YEAR(G$11),$A21<YEAR(G$12)),12*G$14,IF($A21=YEAR(G$11),(12-MONTH(G$11)+1)*G$14,IF($A21=YEAR(G$12),(MONTH(G$12))*G$14,0))) -> 0 | H21: =IF(AND($A21>YEAR(H$11),$A21<YEAR(H$12)),12*H$14,IF($A21=YEAR(H$11),(12-MONTH(H$11)+1)*H$14,IF($A21=YEAR(H$12),(MONTH(H$12))*H$14,0))) -> 0 | I21: =IF(AND($A21>YEAR(I$11),$A21<YEAR(I$12)),12*I$14,IF($A21=YEAR(I$11),(12-MONTH(I$11)+1)*I$14,IF($A21=YEAR(I$12),(MONTH(I$12))*I$14,0))) -> 0 | ... O21: =IF(AND($A21>YEAR(O$11),$A21<YEAR(O$12)),12*O$14,IF($A21=YEAR(O$11),(12-MONTH(O$11)+1)*O$14,IF($A21=YEAR(O$12),(MONTH(O$12))*O$14,0))) -> 0
A22: =FEO!$L$5 -> 2033 | B22: =IF(AND($A22>YEAR(B$11),$A22<YEAR(B$12)),12*B$14,IF($A22=YEAR(B$11),(12-MONTH(B$11)+1)*B$14,IF($A22=YEAR(B$12),(MONTH(B$12))*B$14,0))) -> 0 | C22: =IF(AND($A22>YEAR(C$11),$A22<YEAR(C$12)),12*C$14,IF($A22=YEAR(C$11),(12-MONTH(C$11)+1)*C$14,IF($A22=YEAR(C$12),(MONTH(C$12))*C$14,0))) -> 0 | D22: =IF(AND($A22>YEAR(D$11),$A22<YEAR(D$12)),12*D$14,IF($A22=YEAR(D$11),(12-MONTH(D$11)+1)*D$14,IF($A22=YEAR(D$12),(MONTH(D$12))*D$14,0))) -> 0 | E22: =IF(AND($A22>YEAR(E$11),$A22<YEAR(E$12)),12*E$14,IF($A22=YEAR(E$11),(12-MONTH(E$11)+1)*E$14,IF($A22=YEAR(E$12),(MONTH(E$12))*E$14,0))) -> 0 | F22: =IF(AND($A22>YEAR(F$11),$A22<YEAR(F$12)),12*F$14,IF($A22=YEAR(F$11),(12-MONTH(F$11)+1)*F$14,IF($A22=YEAR(F$12),(MONTH(F$12))*F$14,0))) -> 0 | G22: =IF(AND($A22>YEAR(G$11),$A22<YEAR(G$12)),12*G$14,IF($A22=YEAR(G$11),(12-MONTH(G$11)+1)*G$14,IF($A22=YEAR(G$12),(MONTH(G$12))*G$14,0))) -> 0 | H22: =IF(AND($A22>YEAR(H$11),$A22<YEAR(H$12)),12*H$14,IF($A22=YEAR(H$11),(12-MONTH(H$11)+1)*H$14,IF($A22=YEAR(H$12),(MONTH(H$12))*H$14,0))) -> 0 | I22: =IF(AND($A22>YEAR(I$11),$A22<YEAR(I$12)),12*I$14,IF($A22=YEAR(I$11),(12-MONTH(I$11)+1)*I$14,IF($A22=YEAR(I$12),(MONTH(I$12))*I$14,0))) -> 0 | ... O22: =IF(AND($A22>YEAR(O$11),$A22<YEAR(O$12)),12*O$14,IF($A22=YEAR(O$11),(12-MONTH(O$11)+1)*O$14,IF($A22=YEAR(O$12),(MONTH(O$12))*O$14,0))) -> 0
A23: =FEO!$M$5 -> 2034 | B23: =IF(AND($A23>YEAR(B$11),$A23<YEAR(B$12)),12*B$14,IF($A23=YEAR(B$11),(12-MONTH(B$11)+1)*B$14,IF($A23=YEAR(B$12),(MONTH(B$12))*B$14,0))) -> 0 | C23: =IF(AND($A23>YEAR(C$11),$A23<YEAR(C$12)),12*C$14,IF($A23=YEAR(C$11),(12-MONTH(C$11)+1)*C$14,IF($A23=YEAR(C$12),(MONTH(C$12))*C$14,0))) -> 0 | D23: =IF(AND($A23>YEAR(D$11),$A23<YEAR(D$12)),12*D$14,IF($A23=YEAR(D$11),(12-MONTH(D$11)+1)*D$14,IF($A23=YEAR(D$12),(MONTH(D$12))*D$14,0))) -> 0 | E23: =IF(AND($A23>YEAR(E$11),$A23<YEAR(E$12)),12*E$14,IF($A23=YEAR(E$11),(12-MONTH(E$11)+1)*E$14,IF($A23=YEAR(E$12),(MONTH(E$12))*E$14,0))) -> 0 | F23: =IF(AND($A23>YEAR(F$11),$A23<YEAR(F$12)),12*F$14,IF($A23=YEAR(F$11),(12-MONTH(F$11)+1)*F$14,IF($A23=YEAR(F$12),(MONTH(F$12))*F$14,0))) -> 0 | G23: =IF(AND($A23>YEAR(G$11),$A23<YEAR(G$12)),12*G$14,IF($A23=YEAR(G$11),(12-MONTH(G$11)+1)*G$14,IF($A23=YEAR(G$12),(MONTH(G$12))*G$14,0))) -> 0 | H23: =IF(AND($A23>YEAR(H$11),$A23<YEAR(H$12)),12*H$14,IF($A23=YEAR(H$11),(12-MONTH(H$11)+1)*H$14,IF($A23=YEAR(H$12),(MONTH(H$12))*H$14,0))) -> 0 | I23: =IF(AND($A23>YEAR(I$11),$A23<YEAR(I$12)),12*I$14,IF($A23=YEAR(I$11),(12-MONTH(I$11)+1)*I$14,IF($A23=YEAR(I$12),(MONTH(I$12))*I$14,0))) -> 0 | ... O23: =IF(AND($A23>YEAR(O$11),$A23<YEAR(O$12)),12*O$14,IF($A23=YEAR(O$11),(12-MONTH(O$11)+1)*O$14,IF($A23=YEAR(O$12),(MONTH(O$12))*O$14,0))) -> 0
A25: TOTAAL | B25: =SUM(B17:B24) -> 0 | C25: =SUM(C17:C24) -> 0 | D25: =SUM(D17:D24) -> 0 | E25: =SUM(E17:E24) -> 0 | F25: =SUM(F17:F24) -> 0 | G25: =SUM(G17:G24) -> 0 | H25: =SUM(H17:H24) -> 0 | I25: =SUM(I17:I24) -> 0 | ... O25: =SUM(O17:O24) -> 0

Sheet D.01
A1: D.01 Gebruiksvergoeding ProRail Zutphen-Oldenzaal
A2: terug | H2: =FEO!R1 -> Versie | I2: =FEO!R2 -> Publicatie
A4: Toelichting: Vooraf ingevulde tarieven zijn ontleent aan de Netverklaring 2026 - bijgewerkt t/m aanvulling 3 van 21 november 2025
A6: Minimumtoegangspakket
A8: Tarieven treinpad + extra heffing
A10: Treinpad | C10: =FEO!G5 -> 2028 | D10: =FEO!H5 -> 2029 | E10: =FEO!I5 -> 2030 | F10: =FEO!J5 -> 2031 | G10: =FEO!K5 -> 2032 | H10: =FEO!L5 -> 2033 | I10: =FEO!M5 -> 2034
A11: 0-120 ton | C11: 0.5934 | D11: 0.5934 | E11: 0.5934 | F11: 0.5934 | G11: 0.5934 | H11: 0.5934 | I11: 0.5934
A12: 121-160 ton | C12: 0.7417 | D12: 0.7417 | E12: 0.7417 | F12: 0.7417 | G12: 0.7417 | H12: 0.7417 | I12: 0.7417
A13: 161-320 ton | C13: 0.9435 | D13: 0.9435 | E13: 0.9435 | F13: 0.9435 | G13: 0.9435 | H13: 0.9435 | I13: 0.9435
A14: 321-600 ton | C14: 1.3114 | D14: 1.3114 | E14: 1.3114 | F14: 1.3114 | G14: 1.3114 | H14: 1.3114 | I14: 1.3114
A16: Extra heffing | C16: =C$10 -> 2028 | D16: =D$10 -> 2029 | E16: =E$10 -> 2030 | F16: =F$10 -> 2031 | G16: =G$10 -> 2032 | H16: =H$10 -> 2033 | I16: =I$10 -> 2034
A17: 0-120 ton
A18: 121-160 ton
A19: 161-320 ton
A20: 321-600 ton
A22: Aantal Dienstregelingskilometers cf. dienstregeling
A24: Treinpad + extra heffing - Dienstregeling | C24: =C$10 -> 2028 | D24: =D$10 -> 2029 | E24: =E$10 -> 2030 | F24: =F$10 -> 2031 | G24: =G$10 -> 2032 | H24: =H$10 -> 2033 | I24: =I$10 -> 2034
A25: 0-120 ton
A26: 121-160 ton
A27: 161-320 ton
A28: 161-320 ton
A29: Totaal kilometers | C29: =SUM(C25:C28) -> 0 | D29: =SUM(D25:D28) -> 0 | E29: =SUM(E25:E28) -> 0 | F29: =SUM(F25:F28) -> 0 | G29: =SUM(G25:G28) -> 0 | H29: =SUM(H25:H28) -> 0 | I29: =SUM(I25:I28) -> 0
A30: Controle = 0 | C30: =C29-'I.01 DRK ZHO'!E74 -> -1227.6 | D30: =D29-'I.01 DRK ZHO'!F74 -> -20367 | E30: =E29-'I.01 DRK ZHO'!G74 -> -20367 | F30: =F29-'I.01 DRK ZHO'!H74 -> -20367 | G30: =G29-'I.01 DRK ZHO'!I74 -> -20422.8 | H30: =H29-'I.01 DRK ZHO'!J74 -> -20367 | I30: =I29-'I.01 DRK ZHO'!K74 -> -19306.8
A32: Subtotaal kosten | C32: =(C$11+C$17)*C25+(C$12+C$18)*C26+(C$13+C$19)*C27+(C$14+C$20)*C28 -> 0 | D32: =(D$11+D$17)*D25+(D$12+D$18)*D26+(D$13+D$19)*D27+(D$14+D$20)*D28 -> 0 | E32: =(E$11+E$17)*E25+(E$12+E$18)*E26+(E$13+E$19)*E27+(E$14+E$20)*E28 -> 0 | F32: =(F$11+F$17)*F25+(F$12+F$18)*F26+(F$13+F$19)*F27+(F$14+F$20)*F28 -> 0 | G32: =(G$11+G$17)*G25+(G$12+G$18)*G26+(G$13+G$19)*G27+(G$14+G$20)*G28 -> 0 | H32: =(H$11+H$17)*H25+(H$12+H$18)*H26+(H$13+H$19)*H27+(H$14+H$20)*H28 -> 0 | I32: =(I$11+I$17)*I25+(I$12+I$18)*I26+(I$13+I$19)*I27+(I$14+I$20)*I28 -> 0
A34: Aantal overige kilometers Mat-ritten
A36: Treinpad + extra heffing | C36: =C$10 -> 2028 | D36: =D$10 -> 2029 | E36: =E$10 -> 2030 | F36: =F$10 -> 2031 | G36: =G$10 -> 2032 | H36: =H$10 -> 2033 | I36: =I$10 -> 2034
A37: 0-120 ton
A38: 121-160 ton
A39: 161-320 ton
A40: 161-320 ton
A41: Totaal kilometers | C41: =SUM(C37:C40) -> 0 | D41: =SUM(D37:D40) -> 0 | E41: =SUM(E37:E40) -> 0 | F41: =SUM(F37:F40) -> 0 | G41: =SUM(G37:G40) -> 0 | H41: =SUM(H37:H40) -> 0 | I41: =SUM(I37:I40) -> 0
A43: Subtotaal kosten | C43: =(C$11+C$17)*C37+(C$12+C$18)*C38+(C$13+C$19)*C39+(C$14+C$20)*C40 -> 0 | D43: =(D$11+D$17)*D37+(D$12+D$18)*D38+(D$13+D$19)*D39+(D$14+D$20)*D40 -> 0 | E43: =(E$11+E$17)*E37+(E$12+E$18)*E38+(E$13+E$19)*E39+(E$14+E$20)*E40 -> 0 | F43: =(F$11+F$17)*F37+(F$12+F$18)*F38+(F$13+F$19)*F39+(F$14+F$20)*F40 -> 0 | G43: =(G$11+G$17)*G37+(G$12+G$18)*G38+(G$13+G$19)*G39+(G$14+G$20)*G40 -> 0 | H43: =(H$11+H$17)*H37+(H$12+H$18)*H38+(H$13+H$19)*H39+(H$14+H$20)*H40 -> 0 | I43: =(I$11+I$17)*I37+(I$12+I$18)*I38+(I$13+I$19)*I39+(I$14+I$20)*I40 -> 0
A45: Tarieven Perrons
A47: Perron | C47: =C$10 -> 2028 | D47: =D$10 -> 2029 | E47: =E$10 -> 2030 | F47: =F$10 -> 2031 | G47: =G$10 -> 2032 | H47: =H$10 -> 2033 | I47: =I$10 -> 2034
A48: Halte | C48: 0.07 | D48: 0.07 | E48: 0.07 | F48: 0.07 | G48: 0.07 | H48: 0.07 | I48: 0.07
A49: Basis | C49: 0.3 | D49: 0.3 | E49: 0.3 | F49: 0.3 | G49: 0.3 | H49: 0.3 | I49: 0.3
A50: Plus | C50: 0.8 | D50: 0.8 | E50: 0.8 | F50: 0.8 | G50: 0.8 | H50: 0.8 | I50: 0.8
A51: Mega | C51: 1.26 | D51: 1.26 | E51: 1.26 | F51: 1.26 | G51: 1.26 | H51: 1.26 | I51: 1.26
A52: Kathedraal | C52: 2.46 | D52: 2.46 | E52: 2.46 | F52: 2.46 | G52: 2.46 | H52: 2.46 | I52: 2.46
A54: Aantal halteringen Perron (zie transfer)
A56: Perron | C56: =C$10 -> 2028 | D56: =D$10 -> 2029 | E56: =E$10 -> 2030 | F56: =F$10 -> 2031 | G56: =G$10 -> 2032 | H56: =H$10 -> 2033 | I56: =I$10 -> 2034
A57: Halte | C57: =SUMIF($A$115:$A$129,$A57,C$115:C$129) -> 88 | D57: =SUMIF($A$115:$A$129,$A57,D$115:D$129) -> 1460 | E57: =SUMIF($A$115:$A$129,$A57,E$115:E$129) -> 1460 | F57: =SUMIF($A$115:$A$129,$A57,F$115:F$129) -> 1460 | G57: =SUMIF($A$115:$A$129,$A57,G$115:G$129) -> 1464 | H57: =SUMIF($A$115:$A$129,$A57,H$115:H$129) -> 1460 | I57: =SUMIF($A$115:$A$129,$A57,I$115:I$129) -> 1384
A58: Basis | C58: =SUMIF($A$115:$A$129,$A58,C$115:C$129) -> 22 | D58: =SUMIF($A$115:$A$129,$A58,D$115:D$129) -> 365 | E58: =SUMIF($A$115:$A$129,$A58,E$115:E$129) -> 365 | F58: =SUMIF($A$115:$A$129,$A58,F$115:F$129) -> 365 | G58: =SUMIF($A$115:$A$129,$A58,G$115:G$129) -> 366 | H58: =SUMIF($A$115:$A$129,$A58,H$115:H$129) -> 365 | I58: =SUMIF($A$115:$A$129,$A58,I$115:I$129) -> 346
A59: Plus | C59: =SUMIF($A$115:$A$129,$A59,C$115:C$129) -> 0 | D59: =SUMIF($A$115:$A$129,$A59,D$115:D$129) -> 0 | E59: =SUMIF($A$115:$A$129,$A59,E$115:E$129) -> 0 | F59: =SUMIF($A$115:$A$129,$A59,F$115:F$129) -> 0 | G59: =SUMIF($A$115:$A$129,$A59,G$115:G$129) -> 0 | H59: =SUMIF($A$115:$A$129,$A59,H$115:H$129) -> 0 | I59: =SUMIF($A$115:$A$129,$A59,I$115:I$129) -> 0
A60: Mega | C60: =SUMIF($A$115:$A$129,$A60,C$115:C$129) -> 0 | D60: =SUMIF($A$115:$A$129,$A60,D$115:D$129) -> 0 | E60: =SUMIF($A$115:$A$129,$A60,E$115:E$129) -> 0 | F60: =SUMIF($A$115:$A$129,$A60,F$115:F$129) -> 0 | G60: =SUMIF($A$115:$A$129,$A60,G$115:G$129) -> 0 | H60: =SUMIF($A$115:$A$129,$A60,H$115:H$129) -> 0 | I60: =SUMIF($A$115:$A$129,$A60,I$115:I$129) -> 0
A61: Kathedraal | C61: =SUMIF($A$115:$A$129,$A61,C$115:C$129) -> 0 | D61: =SUMIF($A$115:$A$129,$A61,D$115:D$129) -> 0 | E61: =SUMIF($A$115:$A$129,$A61,E$115:E$129) -> 0 | F61: =SUMIF($A$115:$A$129,$A61,F$115:F$129) -> 0 | G61: =SUMIF($A$115:$A$129,$A61,G$115:G$129) -> 0 | H61: =SUMIF($A$115:$A$129,$A61,H$115:H$129) -> 0 | I61: =SUMIF($A$115:$A$129,$A61,I$115:I$129) -> 0
A62: Totaal halteringen | C62: =SUM(C57:C61) -> 110 | D62: =SUM(D57:D61) -> 1825 | E62: =SUM(E57:E61) -> 1825 | F62: =SUM(F57:F61) -> 1825 | G62: =SUM(G57:G61) -> 1830 | H62: =SUM(H57:H61) -> 1825 | I62: =SUM(I57:I61) -> 1730
A64: Subtotaal Kosten | C64: =C48*C57+C49*C58+C50*C59+C51*C60+C52*C61 -> 12.76 | D64: =D48*D57+D49*D58+D50*D59+D51*D60+D52*D61 -> 211.7 | E64: =E48*E57+E49*E58+E50*E59+E51*E60+E52*E61 -> 211.7 | F64: =F48*F57+F49*F58+F50*F59+F51*F60+F52*F61 -> 211.7 | G64: =G48*G57+G49*G58+G50*G59+G51*G60+G52*G61 -> 212.28 | H64: =H48*H57+H49*H58+H50*H59+H51*H60+H52*H61 -> 211.7 | I64: =I48*I57+I49*I58+I50*I59+I51*I60+I52*I61 -> 200.68
A66: Tarief tractie-energievoorziening (incl. transportvergoeding)
A68: Tractie-Energie Voorziening | C68: =C$10 -> 2028 | D68: =D$10 -> 2029 | E68: =E$10 -> 2030 | F68: =F$10 -> 2031 | G68: =G$10 -> 2032 | H68: =H$10 -> 2033 | I68: =I$10 -> 2034
A69: Tarief per Kwh | C69: 0.031929 | D69: 0.031929 | E69: 0.031929 | F69: 0.031929 | G69: 0.031929 | H69: 0.031929 | I69: 0.031929
A71: Energie-Verzamel-Applicatie | C71: =C$10 -> 2028 | D71: =D$10 -> 2029 | E71: =E$10 -> 2030 | F71: =F$10 -> 2031 | G71: =G$10 -> 2032 | H71: =H$10 -> 2033 | I71: =I$10 -> 2034
A72: Tarief per Kwh | C72: 0.000313 | D72: 0.000313 | E72: 0.000313 | F72: 0.000313 | G72: 0.000313 | H72: 0.000313 | I72: 0.000313
A74: Aantal kilowatturen
A76: Tractie-Energie Voorziening | C76: =C$10 -> 2028 | D76: =D$10 -> 2029 | E76: =E$10 -> 2030 | F76: =F$10 -> 2031 | G76: =G$10 -> 2032 | H76: =H$10 -> 2033 | I76: =I$10 -> 2034
A77: Aantal KwH
A79: Subtotaal kosten | C79: =(C69+C72)*C77 -> 0 | D79: =(D69+D72)*D77 -> 0 | E79: =(E69+E72)*E77 -> 0 | F79: =(F69+F72)*F77 -> 0 | G79: =(G69+G72)*G77 -> 0 | H79: =(H69+H72)*H77 -> 0 | I79: =(I69+I72)*I77 -> 0
A81: Tarieven opstellen en rangeren
A83: Opstellen en rangeren | C83: =C$10 -> 2028 | D83: =D$10 -> 2029 | E83: =E$10 -> 2030 | F83: =F$10 -> 2031 | G83: =G$10 -> 2032 | H83: =H$10 -> 2033 | I83: =I$10 -> 2034
A84: I - deel tarief per min | C84: 0.03579 | D84: 0.03579 | E84: 0.03579 | F84: 0.03579 | G84: 0.03579 | H84: 0.03579 | I84: 0.03579
A85: II - deel tarief per min/per mtr | C85: 0.0001713 | D85: 0.0001713 | E85: 0.0001713 | F85: 0.0001713 | G85: 0.0001713 | H85: 0.0001713 | I85: 0.0001713
A87: Tractie-Energie Voorziening | C87: =C$10 -> 2028 | D87: =D$10 -> 2029 | E87: =E$10 -> 2030 | F87: =F$10 -> 2031 | G87: =G$10 -> 2032 | H87: =H$10 -> 2033 | I87: =I$10 -> 2034
A88: Aantal minuten
A89: Aantal minuten/per meter
A91: Subtotaal kosten | C91: =C84*C88+C85*C89 -> 0 | D91: =D84*D88+D85*D89 -> 0 | E91: =E84*E88+E85*E89 -> 0 | F91: =F84*F88+F85*F89 -> 0 | G91: =G84*G88+G85*G89 -> 0 | H91: =H84*H88+H85*H89 -> 0 | I91: =I84*I88+I85*I89 -> 0
A93: Tarieven stations voor reizigersvervoer
A95: Stations voor reizigersvervoer | C95: =C$10 -> 2028 | D95: =D$10 -> 2029 | E95: =E$10 -> 2030 | F95: =F$10 -> 2031 | G95: =G$10 -> 2032 | H95: =H$10 -> 2033 | I95: =I$10 -> 2034
A96: Halte | B96: A | C96: 2.71 | D96: 2.71 | E96: 2.71 | F96: 2.71 | G96: 2.71 | H96: 2.71 | I96: 2.71
A97: Basisstation | B97: A | C97: 3.7 | D97: 3.7 | E97: 3.7 | F97: 3.7 | G97: 3.7 | H97: 3.7 | I97: 3.7
A98: Plusstation | B98: A | C98: 6.12 | D98: 6.12 | E98: 6.12 | F98: 6.12 | G98: 6.12 | H98: 6.12 | I98: 6.12
A99: Mega | B99: A | C99: 7.82 | D99: 7.82 | E99: 7.82 | F99: 7.82 | G99: 7.82 | H99: 7.82 | I99: 7.82
A100: Kathedraal | B100: A | C100: 16.66 | D100: 16.66 | E100: 16.66 | F100: 16.66 | G100: 16.66 | H100: 16.66 | I100: 16.66
A101: Halte | B101: B | C101: 7.07 | D101: 7.07 | E101: 7.07 | F101: 7.07 | G101: 7.07 | H101: 7.07 | I101: 7.07
A102: Basisstation | B102: B | C102: 9.67 | D102: 9.67 | E102: 9.67 | F102: 9.67 | G102: 9.67 | H102: 9.67 | I102: 9.67
A103: Plusstation | B103: B | C103: 16 | D103: 16 | E103: 16 | F103: 16 | G103: 16 | H103: 16 | I103: 16
A104: Mega | B104: B | C104: 20.45 | D104: 20.45 | E104: 20.45 | F104: 20.45 | G104: 20.45 | H104: 20.45 | I104: 20.45
A105: Kathedraal | B105: B | C105: 43.53 | D105: 43.53 | E105: 43.53 | F105: 43.53 | G105: 43.53 | H105: 43.53 | I105: 43.53
A106: Halte | B106: C | C106: 8.51 | D106: 8.51 | E106: 8.51 | F106: 8.51 | G106: 8.51 | H106: 8.51 | I106: 8.51
A107: Basisstation | B107: C | C107: 11.64 | D107: 11.64 | E107: 11.64 | F107: 11.64 | G107: 11.64 | H107: 11.64 | I107: 11.64
... A110: Kathedraal | B110: C | C110: 52.4 | D110: 52.4 | E110: 52.4 | F110: 52.4 | G110: 52.4 | H110: 52.4 | I110: 52.4
A112: Aantal halteringen
A114: Stations voor reizigersvervoer | C114: =C$10 -> 2028 | D114: =D$10 -> 2029 | E114: =E$10 -> 2030 | F114: =F$10 -> 2031 | G114: =G$10 -> 2032 | H114: =H$10 -> 2033 | I114: =I$10 -> 2034
A115: Halte | B115: A | C115: ='I.01 DRK ZHO'!$T$53/365*FEO!G8 -> 88 | D115: ='I.01 DRK ZHO'!$T$53/365*FEO!H8 -> 1460 | E115: ='I.01 DRK ZHO'!$T$53/365*FEO!I8 -> 1460 | F115: ='I.01 DRK ZHO'!$T$53/365*FEO!J8 -> 1460 | G115: ='I.01 DRK ZHO'!$T$53/365*FEO!K8 -> 1464 | H115: ='I.01 DRK ZHO'!$T$53/365*FEO!L8 -> 1460 | I115: ='I.01 DRK ZHO'!$T$53/365*FEO!M8 -> 1384
A116: Basis | B116: A | C116: ='I.01 DRK ZHO'!$U$53/365*FEO!G8 -> 22 | D116: ='I.01 DRK ZHO'!$U$53/365*FEO!H8 -> 365 | E116: ='I.01 DRK ZHO'!$U$53/365*FEO!I8 -> 365 | F116: ='I.01 DRK ZHO'!$U$53/365*FEO!J8 -> 365 | G116: ='I.01 DRK ZHO'!$U$53/365*FEO!K8 -> 366 | H116: ='I.01 DRK ZHO'!$U$53/365*FEO!L8 -> 365 | I116: ='I.01 DRK ZHO'!$U$53/365*FEO!M8 -> 346
A117: Plus | B117: A | C117: ='I.01 DRK ZHO'!$V$53/365*FEO!G8 -> 0 | D117: ='I.01 DRK ZHO'!$V$53/365*FEO!H8 -> 0 | E117: ='I.01 DRK ZHO'!$V$53/365*FEO!I8 -> 0 | F117: ='I.01 DRK ZHO'!$V$53/365*FEO!J8 -> 0 | G117: ='I.01 DRK ZHO'!$V$53/365*FEO!K8 -> 0 | H117: ='I.01 DRK ZHO'!$V$53/365*FEO!L8 -> 0 | I117: ='I.01 DRK ZHO'!$V$53/365*FEO!M8 -> 0
A118: Mega | B118: A | C118: ='I.01 DRK ZHO'!$W$53/365*FEO!G8 -> 0 | D118: ='I.01 DRK ZHO'!$W$53/365*FEO!H8 -> 0 | E118: ='I.01 DRK ZHO'!$W$53/365*FEO!I8 -> 0 | F118: ='I.01 DRK ZHO'!$W$53/365*FEO!J8 -> 0 | G118: ='I.01 DRK ZHO'!$W$53/365*FEO!K8 -> 0 | H118: ='I.01 DRK ZHO'!$W$53/365*FEO!L8 -> 0 | I118: ='I.01 DRK ZHO'!$W$53/365*FEO!M8 -> 0
A119: Kathedraal | B119: A | C119: ='I.01 DRK ZHO'!$X$53/365*FEO!G8 -> 0 | D119: ='I.01 DRK ZHO'!$X$53/365*FEO!H8 -> 0 | E119: ='I.01 DRK ZHO'!$X$53/365*FEO!I8 -> 0 | F119: ='I.01 DRK ZHO'!$X$53/365*FEO!J8 -> 0 | G119: ='I.01 DRK ZHO'!$X$53/365*FEO!K8 -> 0 | H119: ='I.01 DRK ZHO'!$X$53/365*FEO!L8 -> 0 | I119: ='I.01 DRK ZHO'!$X$53/365*FEO!M8 -> 0
A120: Halte | B120: B | C120: ='I.01 DRK ZHO'!$T$54/365*FEO!G8 -> 0 | D120: ='I.01 DRK ZHO'!$T$54/365*FEO!H8 -> 0 | E120: ='I.01 DRK ZHO'!$T$54/365*FEO!I8 -> 0 | F120: ='I.01 DRK ZHO'!$T$54/365*FEO!J8 -> 0 | G120: ='I.01 DRK ZHO'!$T$54/365*FEO!K8 -> 0 | H120: ='I.01 DRK ZHO'!$T$54/365*FEO!L8 -> 0 | I120: ='I.01 DRK ZHO'!$T$54/365*FEO!M8 -> 0
A121: Basis | B121: B | C121: ='I.01 DRK ZHO'!$U$54/365*FEO!G8 -> 0 | D121: ='I.01 DRK ZHO'!$U$54/365*FEO!H8 -> 0 | E121: ='I.01 DRK ZHO'!$U$54/365*FEO!I8 -> 0 | F121: ='I.01 DRK ZHO'!$U$54/365*FEO!J8 -> 0 | G121: ='I.01 DRK ZHO'!$U$54/365*FEO!K8 -> 0 | H121: ='I.01 DRK ZHO'!$U$54/365*FEO!L8 -> 0 | I121: ='I.01 DRK ZHO'!$U$54/365*FEO!M8 -> 0
A122: Plus | B122: B | C122: ='I.01 DRK ZHO'!$V$54/365*FEO!G8 -> 0 | D122: ='I.01 DRK ZHO'!$V$54/365*FEO!H8 -> 0 | E122: ='I.01 DRK ZHO'!$V$54/365*FEO!I8 -> 0 | F122: ='I.01 DRK ZHO'!$V$54/365*FEO!J8 -> 0 | G122: ='I.01 DRK ZHO'!$V$54/365*FEO!K8 -> 0 | H122: ='I.01 DRK ZHO'!$V$54/365*FEO!L8 -> 0 | I122: ='I.01 DRK ZHO'!$V$54/365*FEO!M8 -> 0
A123: Mega | B123: B | C123: ='I.01 DRK ZHO'!$W$54/365*FEO!G8 -> 0 | D123: ='I.01 DRK ZHO'!$W$54/365*FEO!H8 -> 0 | E123: ='I.01 DRK ZHO'!$W$54/365*FEO!I8 -> 0 | F123: ='I.01 DRK ZHO'!$W$54/365*FEO!J8 -> 0 | G123: ='I.01 DRK ZHO'!$W$54/365*FEO!K8 -> 0 | H123: ='I.01 DRK ZHO'!$W$54/365*FEO!L8 -> 0 | I123: ='I.01 DRK ZHO'!$W$54/365*FEO!M8 -> 0
A124: Kathedraal | B124: B | C124: ='I.01 DRK ZHO'!$X$54/365*FEO!G8 -> 0 | D124: ='I.01 DRK ZHO'!$X$54/365*FEO!H8 -> 0 | E124: ='I.01 DRK ZHO'!$X$54/365*FEO!I8 -> 0 | F124: ='I.01 DRK ZHO'!$X$54/365*FEO!J8 -> 0 | G124: ='I.01 DRK ZHO'!$X$54/365*FEO!K8 -> 0 | H124: ='I.01 DRK ZHO'!$X$54/365*FEO!L8 -> 0 | I124: ='I.01 DRK ZHO'!$X$54/365*FEO!M8 -> 0
A125: Halte | B125: C | C125: ='I.01 DRK ZHO'!$T$55/365*FEO!G8 -> 0 | D125: ='I.01 DRK ZHO'!$T$55/365*FEO!H8 -> 0 | E125: ='I.01 DRK ZHO'!$T$55/365*FEO!I8 -> 0 | F125: ='I.01 DRK ZHO'!$T$55/365*FEO!J8 -> 0 | G125: ='I.01 DRK ZHO'!$T$55/365*FEO!K8 -> 0 | H125: ='I.01 DRK ZHO'!$T$55/365*FEO!L8 -> 0 | I125: ='I.01 DRK ZHO'!$T$55/365*FEO!M8 -> 0
A126: Basis | B126: C | C126: ='I.01 DRK ZHO'!$U$55/365*FEO!G8 -> 0 | D126: ='I.01 DRK ZHO'!$U$55/365*FEO!H8 -> 0 | E126: ='I.01 DRK ZHO'!$U$55/365*FEO!I8 -> 0 | F126: ='I.01 DRK ZHO'!$U$55/365*FEO!J8 -> 0 | G126: ='I.01 DRK ZHO'!$U$55/365*FEO!K8 -> 0 | H126: ='I.01 DRK ZHO'!$U$55/365*FEO!L8 -> 0 | I126: ='I.01 DRK ZHO'!$U$55/365*FEO!M8 -> 0
A127: Plus | B127: C | C127: ='I.01 DRK ZHO'!$V$55/365*FEO!G8 -> 0 | D127: ='I.01 DRK ZHO'!$V$55/365*FEO!H8 -> 0 | E127: ='I.01 DRK ZHO'!$V$55/365*FEO!I8 -> 0 | F127: ='I.01 DRK ZHO'!$V$55/365*FEO!J8 -> 0 | G127: ='I.01 DRK ZHO'!$V$55/365*FEO!K8 -> 0 | H127: ='I.01 DRK ZHO'!$V$55/365*FEO!L8 -> 0 | I127: ='I.01 DRK ZHO'!$V$55/365*FEO!M8 -> 0
A128: Mega | B128: C | C128: ='I.01 DRK ZHO'!$W$55/365*FEO!G8 -> 0 | D128: ='I.01 DRK ZHO'!$W$55/365*FEO!H8 -> 0 | E128: ='I.01 DRK ZHO'!$W$55/365*FEO!I8 -> 0 | F128: ='I.01 DRK ZHO'!$W$55/365*FEO!J8 -> 0 | G128: ='I.01 DRK ZHO'!$W$55/365*FEO!K8 -> 0 | H128: ='I.01 DRK ZHO'!$W$55/365*FEO!L8 -> 0 | I128: ='I.01 DRK ZHO'!$W$55/365*FEO!M8 -> 0
A129: Kathedraal | B129: C | C129: ='I.01 DRK ZHO'!$X$55/365*FEO!G8 -> 0 | D129: ='I.01 DRK ZHO'!$X$55/365*FEO!H8 -> 0 | E129: ='I.01 DRK ZHO'!$X$55/365*FEO!I8 -> 0 | F129: ='I.01 DRK ZHO'!$X$55/365*FEO!J8 -> 0 | G129: ='I.01 DRK ZHO'!$X$55/365*FEO!K8 -> 0 | H129: ='I.01 DRK ZHO'!$X$55/365*FEO!L8 -> 0 | I129: ='I.01 DRK ZHO'!$X$55/365*FEO!M8 -> 0
A130: Totaal halteringen | C130: =SUM(C115:C129) -> 110 | D130: =SUM(D115:D129) -> 1825 | E130: =SUM(E115:E129) -> 1825 | F130: =SUM(F115:F129) -> 1825 | G130: =SUM(G115:G129) -> 1830 | H130: =SUM(H115:H129) -> 1825 | I130: =SUM(I115:I129) -> 1730
A132: Subtotaal kosten | C132: =C96*C115+C97*C116+C98*C117+C99*C118+C100*C119+C101*C120+C102*C121+C103*C122+C104*C123+C105*C124+C106*C125+C107*C126+C108*C127+C109*C128+C110*C129 -> 319.88 | D132: =D96*D115+D97*D116+D98*D117+D99*D118+D100*D119+D101*D120+D102*D121+D103*D122+D104*D123+D105*D124+D106*D125+D107*D126+D108*D127+D109*D128+D110*D129 -> 5307.1 | E132: =E96*E115+E97*E116+E98*E117+E99*E118+E100*E119+E101*E120+E102*E121+E103*E122+E104*E123+E105*E124+E106*E125+E107*E126+E108*E127+E109*E128+E110*E129 -> 5307.1 | F132: =F96*F115+F97*F116+F98*F117+F99*F118+F100*F119+F101*F120+F102*F121+F103*F122+F104*F123+F105*F124+F106*F125+F107*F126+F108*F127+F109*F128+F110*F129 -> 5307.1 | G132: =G96*G115+G97*G116+G98*G117+G99*G118+G100*G119+G101*G120+G102*G121+G103*G122+G104*G123+G105*G124+G106*G125+G107*G126+G108*G127+G109*G128+G110*G129 -> 5321.64 | H132: =H96*H115+H97*H116+H98*H117+H99*H118+H100*H119+H101*H120+H102*H121+H103*H122+H104*H123+H105*H124+H106*H125+H107*H126+H108*H127+H109*H128+H110*H129 -> 5307.1 | I132: =I96*I115+I97*I116+I98*I117+I99*I118+I100*I119+I101*I120+I102*I121+I103*I122+I104*I123+I105*I124+I106*I125+I107*I126+I108*I127+I109*I128+I110*I129 -> 5030.84
A134: Gebruiksvergoeding matritten (voor rekening van Concessieverlener)
...

Sheet E.01
A1: E.01 Loonkosten onderhoudspersoneel | E1: Instructie | F1: Vul de oranje cellen in
A2: terug | G2: =FEO!R1 -> Versie | H2: =FEO!R2 -> Publicatie
A4: Jaar | B4: =FEO!G5 -> 2028 | C4: =FEO!H5 -> 2029 | D4: =FEO!I5 -> 2030 | E4: =FEO!J5 -> 2031 | F4: =FEO!K5 -> 2032 | G4: =FEO!L5 -> 2033 | H4: =FEO!M5 -> 2034
A5: Gemiddelde jaarloonsom per fte
A6: Aantal fte
A7: Totale loonsom | B7: =B5*B6 -> 0 | C7: =C5*C6 -> 0 | D7: =D5*D6 -> 0 | E7: =E5*E6 -> 0 | F7: =F5*F6 -> 0 | G7: =G5*G6 -> 0 | H7: =H5*H6 -> 0

Sheet E.02
A1: E.02 Loonkosten overige indirect personeel | E1: Instructie | F1: Vul de oranje cellen in
A2: terug | G2: =FEO!R1 -> Versie | H2: =FEO!R2 -> Publicatie
A4: Jaar | B4: =FEO!G5 -> 2028 | C4: =FEO!H5 -> 2029 | D4: =FEO!I5 -> 2030 | E4: =FEO!J5 -> 2031 | F4: =FEO!K5 -> 2032 | G4: =FEO!L5 -> 2033 | H4: =FEO!M5 -> 2034
A5: Gemiddelde jaarloonsom per fte
A6: Aantal fte
A7: Totale loonsom | B7: =B5*B6 -> 0 | C7: =C5*C6 -> 0 | D7: =D5*D6 -> 0 | E7: =E5*E6 -> 0 | F7: =F5*F6 -> 0 | G7: =G5*G6 -> 0 | H7: =H5*H6 -> 0

Sheet F.01
A1: F.01 Huisvesting | L1: Instructie | M1: Vul de oranje cellen in
A2: terug | N2: =FEO!R1 -> Versie | O2: =FEO!R2 -> Publicatie
A4: Locatie
A5: Adres
A6: Type locatie
A7: Eigendoms-situatie
A9: INVESTERINGSKOSTEN ONROEREND GOED
A11: Afschrijvingstermijn in jaren
A12: Specificatie aanschafprijs
A13: Aanschafprijs grond/kaval
A14: Specificatie aanschafprijs
A15: …
A16: …
A17: …
... A27: …
A28: Totaal aanschafprijs | B28: =(SUM(B15:B27)) -> 0 | C28: =(SUM(C15:C27)) -> 0 | D28: =(SUM(D15:D27)) -> 0 | E28: =(SUM(E15:E27)) -> 0 | F28: =(SUM(F15:F27)) -> 0 | G28: =(SUM(G15:G27)) -> 0 | H28: =(SUM(H15:H27)) -> 0 | I28: =(SUM(I15:I27)) -> 0 | ... O28: =(SUM(O15:O27)) -> 0
A29: Subsidies
A30: Fiscale regelingen
A31: Overige
A32: Totaal baten | B32: =(SUM(B29:B31)) -> 0 | C32: =(SUM(C29:C31)) -> 0 | D32: =(SUM(D29:D31)) -> 0 | E32: =(SUM(E29:E31)) -> 0 | F32: =(SUM(F29:F31)) -> 0 | G32: =(SUM(G29:G31)) -> 0 | H32: =(SUM(H29:H31)) -> 0 | I32: =(SUM(I29:I31)) -> 0 | ... O32: =(SUM(O29:O31)) -> 0
A33: Totaal aanschafwaarde | B33: =B32+B28 -> 0 | C33: =C32+C28 -> 0 | D33: =D32+D28 -> 0 | E33: =E32+E28 -> 0 | F33: =F32+F28 -> 0 | G33: =G32+G28 -> 0 | H33: =H32+H28 -> 0 | I33: =I32+I28 -> 0 | ... O33: =O32+O28 -> 0
A34: Datum in concessie
A35: Datum uit concessie
A36: Afschrijvingstermijn in dagen totaal | B36: =B11*365.25 -> 0 | C36: =C11*365.25 -> 0 | D36: =D11*365.25 -> 0 | E36: =E11*365.25 -> 0 | F36: =F11*365.25 -> 0 | G36: =G11*365.25 -> 0 | H36: =H11*365.25 -> 0 | I36: =I11*365.25 -> 0 | ... O36: =O11*365.25 -> 0
A37: Afschrijvingstermijn in dagen Concessie | B37: =IF(B34=0,0,B35-B34+1) -> 0 | C37: =IF(C34=0,0,C35-C34+1) -> 0 | D37: =IF(D34=0,0,D35-D34+1) -> 0 | E37: =IF(E34=0,0,E35-E34+1) -> 0 | F37: =IF(F34=0,0,F35-F34+1) -> 0 | G37: =IF(G34=0,0,G35-G34+1) -> 0 | H37: =IF(H34=0,0,H35-H34+1) -> 0 | I37: =IF(I34=0,0,I35-I34+1) -> 0 | ... O37: =IF(O34=0,0,O35-O34+1) -> 0
A38: Afschrijving per dag | B38: =IFERROR((B33)/B36,0) -> 0 | C38: =IFERROR((C33)/C36,0) -> 0 | D38: =IFERROR((D33)/D36,0) -> 0 | E38: =IFERROR((E33)/E36,0) -> 0 | F38: =IFERROR((F33)/F36,0) -> 0 | G38: =IFERROR((G33)/G36,0) -> 0 | H38: =IFERROR((H33)/H36,0) -> 0 | I38: =IFERROR((I33)/I36,0) -> 0 | ... O38: =IFERROR((O33)/O36,0) -> 0
A40: JAARLIJKSE KOSTEN BEHEER EN ONDERHOUD ONROEREND GOED
A42: Specificatie kostenpost
A43: …
A44: …
A45: …
A46: …
A47: …
A48: …
A49: …
A50: …
A51: …
A52: …
... A55: …
A56: Totaal jaarlijkste kosten | B56: =(SUM(B43:B55)) -> 0 | C56: =(SUM(C43:C55)) -> 0 | D56: =(SUM(D43:D55)) -> 0 | E56: =(SUM(E43:E55)) -> 0 | F56: =(SUM(F43:F55)) -> 0 | G56: =(SUM(G43:G55)) -> 0 | H56: =(SUM(H43:H55)) -> 0 | I56: =(SUM(I43:I55)) -> 0 | ... O56: =(SUM(O43:O55)) -> 0
A57: Kosten per dag | B57: =B56/365 -> 0 | C57: =C56/365 -> 0 | D57: =D56/365 -> 0 | E57: =E56/365 -> 0 | F57: =F56/365 -> 0 | G57: =G56/365 -> 0 | H57: =H56/365 -> 0 | I57: =I56/365 -> 0 | ... O57: =O56/365 -> 0
A59: TOTAAL KOSTEN PER JAAR
A61: Jaren
A62: =FEO!$G$5 -> 2028 | B62: =IF(AND($A62>YEAR(B$34),$A62<YEAR(B$35)),(DATE($A62,12,31)-DATE($A62,1,0))*B$38,IF(AND($A62=YEAR(B$34),$A62=YEAR(B$35)),(B$35-B$34+1)*B$38,IF($A62=YEAR(B$34),(DATE(YEAR(B$34),12,31)-B$34+1)*B$38,IF($A62=YEAR(B$35),(B$35-DATE(YEAR(B$35),1,1)+1)*B$38,0))))+IF(AND($A62>YEAR(B$34),$A62<YEAR(B$35)),(DATE($A62,12,31)-DATE($A62,1,0))*B$57,IF(AND($A62=YEAR(B$34),$A62=YEAR(B$35)),(B$35-B$34)*B$57,IF($A62=YEAR(B$34),(DATE(YEAR(B$34),12,31)-B$34+1)*B$57,IF($A62=YEAR(B$35),(B$35-DATE(YEAR(B$35),1,1)+1)*B$57,0)))) -> 0 | C62: =IF(AND($A62>YEAR(C$34),$A62<YEAR(C$35)),(DATE($A62,12,31)-DATE($A62,1,0))*C$38,IF(AND($A62=YEAR(C$34),$A62=YEAR(C$35)),(C$35-C$34+1)*C$38,IF($A62=YEAR(C$34),(DATE(YEAR(C$34),12,31)-C$34+1)*C$38,IF($A62=YEAR(C$35),(C$35-DATE(YEAR(C$35),1,1)+1)*C$38,0))))+IF(AND($A62>YEAR(C$34),$A62<YEAR(C$35)),(DATE($A62,12,31)-DATE($A62,1,0))*C$57,IF(AND($A62=YEAR(C$34),$A62=YEAR(C$35)),(C$35-C$34)*C$57,IF($A62=YEAR(C$34),(DATE(YEAR(C$34),12,31)-C$34+1)*C$57,IF($A62=YEAR(C$35),(C$35-DATE(YEAR(C$35),1,1)+1)*C$57,0)))) -> 0 | D62: =IF(AND($A62>YEAR(D$34),$A62<YEAR(D$35)),(DATE($A62,12,31)-DATE($A62,1,0))*D$38,IF(AND($A62=YEAR(D$34),$A62=YEAR(D$35)),(D$35-D$34+1)*D$38,IF($A62=YEAR(D$34),(DATE(YEAR(D$34),12,31)-D$34+1)*D$38,IF($A62=YEAR(D$35),(D$35-DATE(YEAR(D$35),1,1)+1)*D$38,0))))+IF(AND($A62>YEAR(D$34),$A62<YEAR(D$35)),(DATE($A62,12,31)-DATE($A62,1,0))*D$57,IF(AND($A62=YEAR(D$34),$A62=YEAR(D$35)),(D$35-D$34)*D$57,IF($A62=YEAR(D$34),(DATE(YEAR(D$34),12,31)-D$34+1)*D$57,IF($A62=YEAR(D$35),(D$35-DATE(YEAR(D$35),1,1)+1)*D$57,0)))) -> 0 | E62: =IF(AND($A62>YEAR(E$34),$A62<YEAR(E$35)),(DATE($A62,12,31)-DATE($A62,1,0))*E$38,IF(AND($A62=YEAR(E$34),$A62=YEAR(E$35)),(E$35-E$34+1)*E$38,IF($A62=YEAR(E$34),(DATE(YEAR(E$34),12,31)-E$34+1)*E$38,IF($A62=YEAR(E$35),(E$35-DATE(YEAR(E$35),1,1)+1)*E$38,0))))+IF(AND($A62>YEAR(E$34),$A62<YEAR(E$35)),(DATE($A62,12,31)-DATE($A62,1,0))*E$57,IF(AND($A62=YEAR(E$34),$A62=YEAR(E$35)),(E$35-E$34)*E$57,IF($A62=YEAR(E$34),(DATE(YEAR(E$34),12,31)-E$34+1)*E$57,IF($A62=YEAR(E$35),(E$35-DATE(YEAR(E$35),1,1)+1)*E$57,0)))) -> 0 | F62: =IF(AND($A62>YEAR(F$34),$A62<YEAR(F$35)),(DATE($A62,12,31)-DATE($A62,1,0))*F$38,IF(AND($A62=YEAR(F$34),$A62=YEAR(F$35)),(F$35-F$34+1)*F$38,IF($A62=YEAR(F$34),(DATE(YEAR(F$34),12,31)-F$34+1)*F$38,IF($A62=YEAR(F$35),(F$35-DATE(YEAR(F$35),1,1)+1)*F$38,0))))+IF(AND($A62>YEAR(F$34),$A62<YEAR(F$35)),(DATE($A62,12,31)-DATE($A62,1,0))*F$57,IF(AND($A62=YEAR(F$34),$A62=YEAR(F$35)),(F$35-F$34)*F$57,IF($A62=YEAR(F$34),(DATE(YEAR(F$34),12,31)-F$34+1)*F$57,IF($A62=YEAR(F$35),(F$35-DATE(YEAR(F$35),1,1)+1)*F$57,0)))) -> 0 | G62: =IF(AND($A62>YEAR(G$34),$A62<YEAR(G$35)),(DATE($A62,12,31)-DATE($A62,1,0))*G$38,IF(AND($A62=YEAR(G$34),$A62=YEAR(G$35)),(G$35-G$34+1)*G$38,IF($A62=YEAR(G$34),(DATE(YEAR(G$34),12,31)-G$34+1)*G$38,IF($A62=YEAR(G$35),(G$35-DATE(YEAR(G$35),1,1)+1)*G$38,0))))+IF(AND($A62>YEAR(G$34),$A62<YEAR(G$35)),(DATE($A62,12,31)-DATE($A62,1,0))*G$57,IF(AND($A62=YEAR(G$34),$A62=YEAR(G$35)),(G$35-G$34)*G$57,IF($A62=YEAR(G$34),(DATE(YEAR(G$34),12,31)-G$34+1)*G$57,IF($A62=YEAR(G$35),(G$35-DATE(YEAR(G$35),1,1)+1)*G$57,0)))) -> 0 | H62: =IF(AND($A62>YEAR(H$34),$A62<YEAR(H$35)),(DATE($A62,12,31)-DATE($A62,1,0))*H$38,IF(AND($A62=YEAR(H$34),$A62=YEAR(H$35)),(H$35-H$34+1)*H$38,IF($A62=YEAR(H$34),(DATE(YEAR(H$34),12,31)-H$34+1)*H$38,IF($A62=YEAR(H$35),(H$35-DATE(YEAR(H$35),1,1)+1)*H$38,0))))+IF(AND($A62>YEAR(H$34),$A62<YEAR(H$35)),(DATE($A62,12,31)-DATE($A62,1,0))*H$57,IF(AND($A62=YEAR(H$34),$A62=YEAR(H$35)),(H$35-H$34)*H$57,IF($A62=YEAR(H$34),(DATE(YEAR(H$34),12,31)-H$34+1)*H$57,IF($A62=YEAR(H$35),(H$35-DATE(YEAR(H$35),1,1)+1)*H$57,0)))) -> 0 | I62: =IF(AND($A62>YEAR(I$34),$A62<YEAR(I$35)),(DATE($A62,12,31)-DATE($A62,1,0))*I$38,IF(AND($A62=YEAR(I$34),$A62=YEAR(I$35)),(I$35-I$34+1)*I$38,IF($A62=YEAR(I$34),(DATE(YEAR(I$34),12,31)-I$34+1)*I$38,IF($A62=YEAR(I$35),(I$35-DATE(YEAR(I$35),1,1)+1)*I$38,0))))+IF(AND($A62>YEAR(I$34),$A62<YEAR(I$35)),(DATE($A62,12,31)-DATE($A62,1,0))*I$57,IF(AND($A62=YEAR(I$34),$A62=YEAR(I$35)),(I$35-I$34)*I$57,IF($A62=YEAR(I$34),(DATE(YEAR(I$34),12,31)-I$34+1)*I$57,IF($A62=YEAR(I$35),(I$35-DATE(YEAR(I$35),1,1)+1)*I$57,0)))) -> 0 | ... O62: =IF(AND($A62>YEAR(O$34),$A62<YEAR(O$35)),(DATE($A62,12,31)-DATE($A62,1,0))*O$38,IF(AND($A62=YEAR(O$34),$A62=YEAR(O$35)),(O$35-O$34+1)*O$38,IF($A62=YEAR(O$34),(DATE(YEAR(O$34),12,31)-O$34+1)*O$38,IF($A62=YEAR(O$35),(O$35-DATE(YEAR(O$35),1,1)+1)*O$38,0))))+IF(AND($A62>YEAR(O$34),$A62<YEAR(O$35)),(DATE($A62,12,31)-DATE($A62,1,0))*O$57,IF(AND($A62=YEAR(O$34),$A62=YEAR(O$35)),(O$35-O$34)*O$57,IF($A62=YEAR(O$34),(DATE(YEAR(O$34),12,31)-O$34+1)*O$57,IF($A62=YEAR(O$35),(O$35-DATE(YEAR(O$35),1,1)+1)*O$57,0)))) -> 0
A63: =FEO!$H$5 -> 2029 | B63: =IF(AND($A63>YEAR(B$34),$A63<YEAR(B$35)),(DATE($A63,12,31)-DATE($A63,1,0))*B$38,IF(AND($A63=YEAR(B$34),$A63=YEAR(B$35)),(B$35-B$34+1)*B$38,IF($A63=YEAR(B$34),(DATE(YEAR(B$34),12,31)-B$34+1)*B$38,IF($A63=YEAR(B$35),(B$35-DATE(YEAR(B$35),1,1)+1)*B$38,0))))+IF(AND($A63>YEAR(B$34),$A63<YEAR(B$35)),(DATE($A63,12,31)-DATE($A63,1,0))*B$57,IF(AND($A63=YEAR(B$34),$A63=YEAR(B$35)),(B$35-B$34)*B$57,IF($A63=YEAR(B$34),(DATE(YEAR(B$34),12,31)-B$34+1)*B$57,IF($A63=YEAR(B$35),(B$35-DATE(YEAR(B$35),1,1)+1)*B$57,0)))) -> 0 | C63: =IF(AND($A63>YEAR(C$34),$A63<YEAR(C$35)),(DATE($A63,12,31)-DATE($A63,1,0))*C$38,IF(AND($A63=YEAR(C$34),$A63=YEAR(C$35)),(C$35-C$34+1)*C$38,IF($A63=YEAR(C$34),(DATE(YEAR(C$34),12,31)-C$34+1)*C$38,IF($A63=YEAR(C$35),(C$35-DATE(YEAR(C$35),1,1)+1)*C$38,0))))+IF(AND($A63>YEAR(C$34),$A63<YEAR(C$35)),(DATE($A63,12,31)-DATE($A63,1,0))*C$57,IF(AND($A63=YEAR(C$34),$A63=YEAR(C$35)),(C$35-C$34)*C$57,IF($A63=YEAR(C$34),(DATE(YEAR(C$34),12,31)-C$34+1)*C$57,IF($A63=YEAR(C$35),(C$35-DATE(YEAR(C$35),1,1)+1)*C$57,0)))) -> 0 | D63: =IF(AND($A63>YEAR(D$34),$A63<YEAR(D$35)),(DATE($A63,12,31)-DATE($A63,1,0))*D$38,IF(AND($A63=YEAR(D$34),$A63=YEAR(D$35)),(D$35-D$34+1)*D$38,IF($A63=YEAR(D$34),(DATE(YEAR(D$34),12,31)-D$34+1)*D$38,IF($A63=YEAR(D$35),(D$35-DATE(YEAR(D$35),1,1)+1)*D$38,0))))+IF(AND($A63>YEAR(D$34),$A63<YEAR(D$35)),(DATE($A63,12,31)-DATE($A63,1,0))*D$57,IF(AND($A63=YEAR(D$34),$A63=YEAR(D$35)),(D$35-D$34)*D$57,IF($A63=YEAR(D$34),(DATE(YEAR(D$34),12,31)-D$34+1)*D$57,IF($A63=YEAR(D$35),(D$35-DATE(YEAR(D$35),1,1)+1)*D$57,0)))) -> 0 | E63: =IF(AND($A63>YEAR(E$34),$A63<YEAR(E$35)),(DATE($A63,12,31)-DATE($A63,1,0))*E$38,IF(AND($A63=YEAR(E$34),$A63=YEAR(E$35)),(E$35-E$34+1)*E$38,IF($A63=YEAR(E$34),(DATE(YEAR(E$34),12,31)-E$34+1)*E$38,IF($A63=YEAR(E$35),(E$35-DATE(YEAR(E$35),1,1)+1)*E$38,0))))+IF(AND($A63>YEAR(E$34),$A63<YEAR(E$35)),(DATE($A63,12,31)-DATE($A63,1,0))*E$57,IF(AND($A63=YEAR(E$34),$A63=YEAR(E$35)),(E$35-E$34)*E$57,IF($A63=YEAR(E$34),(DATE(YEAR(E$34),12,31)-E$34+1)*E$57,IF($A63=YEAR(E$35),(E$35-DATE(YEAR(E$35),1,1)+1)*E$57,0)))) -> 0 | F63: =IF(AND($A63>YEAR(F$34),$A63<YEAR(F$35)),(DATE($A63,12,31)-DATE($A63,1,0))*F$38,IF(AND($A63=YEAR(F$34),$A63=YEAR(F$35)),(F$35-F$34+1)*F$38,IF($A63=YEAR(F$34),(DATE(YEAR(F$34),12,31)-F$34+1)*F$38,IF($A63=YEAR(F$35),(F$35-DATE(YEAR(F$35),1,1)+1)*F$38,0))))+IF(AND($A63>YEAR(F$34),$A63<YEAR(F$35)),(DATE($A63,12,31)-DATE($A63,1,0))*F$57,IF(AND($A63=YEAR(F$34),$A63=YEAR(F$35)),(F$35-F$34)*F$57,IF($A63=YEAR(F$34),(DATE(YEAR(F$34),12,31)-F$34+1)*F$57,IF($A63=YEAR(F$35),(F$35-DATE(YEAR(F$35),1,1)+1)*F$57,0)))) -> 0 | G63: =IF(AND($A63>YEAR(G$34),$A63<YEAR(G$35)),(DATE($A63,12,31)-DATE($A63,1,0))*G$38,IF(AND($A63=YEAR(G$34),$A63=YEAR(G$35)),(G$35-G$34+1)*G$38,IF($A63=YEAR(G$34),(DATE(YEAR(G$34),12,31)-G$34+1)*G$38,IF($A63=YEAR(G$35),(G$35-DATE(YEAR(G$35),1,1)+1)*G$38,0))))+IF(AND($A63>YEAR(G$34),$A63<YEAR(G$35)),(DATE($A63,12,31)-DATE($A63,1,0))*G$57,IF(AND($A63=YEAR(G$34),$A63=YEAR(G$35)),(G$35-G$34)*G$57,IF($A63=YEAR(G$34),(DATE(YEAR(G$34),12,31)-G$34+1)*G$57,IF($A63=YEAR(G$35),(G$35-DATE(YEAR(G$35),1,1)+1)*G$57,0)))) -> 0 | H63: =IF(AND($A63>YEAR(H$34),$A63<YEAR(H$35)),(DATE($A63,12,31)-DATE($A63,1,0))*H$38,IF(AND($A63=YEAR(H$34),$A63=YEAR(H$35)),(H$35-H$34+1)*H$38,IF($A63=YEAR(H$34),(DATE(YEAR(H$34),12,31)-H$34+1)*H$38,IF($A63=YEAR(H$35),(H$35-DATE(YEAR(H$35),1,1)+1)*H$38,0))))+IF(AND($A63>YEAR(H$34),$A63<YEAR(H$35)),(DATE($A63,12,31)-DATE($A63,1,0))*H$57,IF(AND($A63=YEAR(H$34),$A63=YEAR(H$35)),(H$35-H$34)*H$57,IF($A63=YEAR(H$34),(DATE(YEAR(H$34),12,31)-H$34+1)*H$57,IF($A63=YEAR(H$35),(H$35-DATE(YEAR(H$35),1,1)+1)*H$57,0)))) -> 0 | I63: =IF(AND($A63>YEAR(I$34),$A63<YEAR(I$35)),(DATE($A63,12,31)-DATE($A63,1,0))*I$38,IF(AND($A63=YEAR(I$34),$A63=YEAR(I$35)),(I$35-I$34+1)*I$38,IF($A63=YEAR(I$34),(DATE(YEAR(I$34),12,31)-I$34+1)*I$38,IF($A63=YEAR(I$35),(I$35-DATE(YEAR(I$35),1,1)+1)*I$38,0))))+IF(AND($A63>YEAR(I$34),$A63<YEAR(I$35)),(DATE($A63,12,31)-DATE($A63,1,0))*I$57,IF(AND($A63=YEAR(I$34),$A63=YEAR(I$35)),(I$35-I$34)*I$57,IF($A63=YEAR(I$34),(DATE(YEAR(I$34),12,31)-I$34+1)*I$57,IF($A63=YEAR(I$35),(I$35-DATE(YEAR(I$35),1,1)+1)*I$57,0)))) -> 0 | ... O63: =IF(AND($A63>YEAR(O$34),$A63<YEAR(O$35)),(DATE($A63,12,31)-DATE($A63,1,0))*O$38,IF(AND($A63=YEAR(O$34),$A63=YEAR(O$35)),(O$35-O$34+1)*O$38,IF($A63=YEAR(O$34),(DATE(YEAR(O$34),12,31)-O$34+1)*O$38,IF($A63=YEAR(O$35),(O$35-DATE(YEAR(O$35),1,1)+1)*O$38,0))))+IF(AND($A63>YEAR(O$34),$A63<YEAR(O$35)),(DATE($A63,12,31)-DATE($A63,1,0))*O$57,IF(AND($A63=YEAR(O$34),$A63=YEAR(O$35)),(O$35-O$34)*O$57,IF($A63=YEAR(O$34),(DATE(YEAR(O$34),12,31)-O$34+1)*O$57,IF($A63=YEAR(O$35),(O$35-DATE(YEAR(O$35),1,1)+1)*O$57,0)))) -> 0
A64: =FEO!$I$5 -> 2030 | B64: =IF(AND($A64>YEAR(B$34),$A64<YEAR(B$35)),(DATE($A64,12,31)-DATE($A64,1,0))*B$38,IF(AND($A64=YEAR(B$34),$A64=YEAR(B$35)),(B$35-B$34+1)*B$38,IF($A64=YEAR(B$34),(DATE(YEAR(B$34),12,31)-B$34+1)*B$38,IF($A64=YEAR(B$35),(B$35-DATE(YEAR(B$35),1,1)+1)*B$38,0))))+IF(AND($A64>YEAR(B$34),$A64<YEAR(B$35)),(DATE($A64,12,31)-DATE($A64,1,0))*B$57,IF(AND($A64=YEAR(B$34),$A64=YEAR(B$35)),(B$35-B$34)*B$57,IF($A64=YEAR(B$34),(DATE(YEAR(B$34),12,31)-B$34+1)*B$57,IF($A64=YEAR(B$35),(B$35-DATE(YEAR(B$35),1,1)+1)*B$57,0)))) -> 0 | C64: =IF(AND($A64>YEAR(C$34),$A64<YEAR(C$35)),(DATE($A64,12,31)-DATE($A64,1,0))*C$38,IF(AND($A64=YEAR(C$34),$A64=YEAR(C$35)),(C$35-C$34+1)*C$38,IF($A64=YEAR(C$34),(DATE(YEAR(C$34),12,31)-C$34+1)*C$38,IF($A64=YEAR(C$35),(C$35-DATE(YEAR(C$35),1,1)+1)*C$38,0))))+IF(AND($A64>YEAR(C$34),$A64<YEAR(C$35)),(DATE($A64,12,31)-DATE($A64,1,0))*C$57,IF(AND($A64=YEAR(C$34),$A64=YEAR(C$35)),(C$35-C$34)*C$57,IF($A64=YEAR(C$34),(DATE(YEAR(C$34),12,31)-C$34+1)*C$57,IF($A64=YEAR(C$35),(C$35-DATE(YEAR(C$35),1,1)+1)*C$57,0)))) -> 0 | D64: =IF(AND($A64>YEAR(D$34),$A64<YEAR(D$35)),(DATE($A64,12,31)-DATE($A64,1,0))*D$38,IF(AND($A64=YEAR(D$34),$A64=YEAR(D$35)),(D$35-D$34+1)*D$38,IF($A64=YEAR(D$34),(DATE(YEAR(D$34),12,31)-D$34+1)*D$38,IF($A64=YEAR(D$35),(D$35-DATE(YEAR(D$35),1,1)+1)*D$38,0))))+IF(AND($A64>YEAR(D$34),$A64<YEAR(D$35)),(DATE($A64,12,31)-DATE($A64,1,0))*D$57,IF(AND($A64=YEAR(D$34),$A64=YEAR(D$35)),(D$35-D$34)*D$57,IF($A64=YEAR(D$34),(DATE(YEAR(D$34),12,31)-D$34+1)*D$57,IF($A64=YEAR(D$35),(D$35-DATE(YEAR(D$35),1,1)+1)*D$57,0)))) -> 0 | E64: =IF(AND($A64>YEAR(E$34),$A64<YEAR(E$35)),(DATE($A64,12,31)-DATE($A64,1,0))*E$38,IF(AND($A64=YEAR(E$34),$A64=YEAR(E$35)),(E$35-E$34+1)*E$38,IF($A64=YEAR(E$34),(DATE(YEAR(E$34),12,31)-E$34+1)*E$38,IF($A64=YEAR(E$35),(E$35-DATE(YEAR(E$35),1,1)+1)*E$38,0))))+IF(AND($A64>YEAR(E$34),$A64<YEAR(E$35)),(DATE($A64,12,31)-DATE($A64,1,0))*E$57,IF(AND($A64=YEAR(E$34),$A64=YEAR(E$35)),(E$35-E$34)*E$57,IF($A64=YEAR(E$34),(DATE(YEAR(E$34),12,31)-E$34+1)*E$57,IF($A64=YEAR(E$35),(E$35-DATE(YEAR(E$35),1,1)+1)*E$57,0)))) -> 0 | F64: =IF(AND($A64>YEAR(F$34),$A64<YEAR(F$35)),(DATE($A64,12,31)-DATE($A64,1,0))*F$38,IF(AND($A64=YEAR(F$34),$A64=YEAR(F$35)),(F$35-F$34+1)*F$38,IF($A64=YEAR(F$34),(DATE(YEAR(F$34),12,31)-F$34+1)*F$38,IF($A64=YEAR(F$35),(F$35-DATE(YEAR(F$35),1,1)+1)*F$38,0))))+IF(AND($A64>YEAR(F$34),$A64<YEAR(F$35)),(DATE($A64,12,31)-DATE($A64,1,0))*F$57,IF(AND($A64=YEAR(F$34),$A64=YEAR(F$35)),(F$35-F$34)*F$57,IF($A64=YEAR(F$34),(DATE(YEAR(F$34),12,31)-F$34+1)*F$57,IF($A64=YEAR(F$35),(F$35-DATE(YEAR(F$35),1,1)+1)*F$57,0)))) -> 0 | G64: =IF(AND($A64>YEAR(G$34),$A64<YEAR(G$35)),(DATE($A64,12,31)-DATE($A64,1,0))*G$38,IF(AND($A64=YEAR(G$34),$A64=YEAR(G$35)),(G$35-G$34+1)*G$38,IF($A64=YEAR(G$34),(DATE(YEAR(G$34),12,31)-G$34+1)*G$38,IF($A64=YEAR(G$35),(G$35-DATE(YEAR(G$35),1,1)+1)*G$38,0))))+IF(AND($A64>YEAR(G$34),$A64<YEAR(G$35)),(DATE($A64,12,31)-DATE($A64,1,0))*G$57,IF(AND($A64=YEAR(G$34),$A64=YEAR(G$35)),(G$35-G$34)*G$57,IF($A64=YEAR(G$34),(DATE(YEAR(G$34),12,31)-G$34+1)*G$57,IF($A64=YEAR(G$35),(G$35-DATE(YEAR(G$35),1,1)+1)*G$57,0)))) -> 0 | H64: =IF(AND($A64>YEAR(H$34),$A64<YEAR(H$35)),(DATE($A64,12,31)-DATE($A64,1,0))*H$38,IF(AND($A64=YEAR(H$34),$A64=YEAR(H$35)),(H$35-H$34+1)*H$38,IF($A64=YEAR(H$34),(DATE(YEAR(H$34),12,31)-H$34+1)*H$38,IF($A64=YEAR(H$35),(H$35-DATE(YEAR(H$35),1,1)+1)*H$38,0))))+IF(AND($A64>YEAR(H$34),$A64<YEAR(H$35)),(DATE($A64,12,31)-DATE($A64,1,0))*H$57,IF(AND($A64=YEAR(H$34),$A64=YEAR(H$35)),(H$35-H$34)*H$57,IF($A64=YEAR(H$34),(DATE(YEAR(H$34),12,31)-H$34+1)*H$57,IF($A64=YEAR(H$35),(H$35-DATE(YEAR(H$35),1,1)+1)*H$57,0)))) -> 0 | I64: =IF(AND($A64>YEAR(I$34),$A64<YEAR(I$35)),(DATE($A64,12,31)-DATE($A64,1,0))*I$38,IF(AND($A64=YEAR(I$34),$A64=YEAR(I$35)),(I$35-I$34+1)*I$38,IF($A64=YEAR(I$34),(DATE(YEAR(I$34),12,31)-I$34+1)*I$38,IF($A64=YEAR(I$35),(I$35-DATE(YEAR(I$35),1,1)+1)*I$38,0))))+IF(AND($A64>YEAR(I$34),$A64<YEAR(I$35)),(DATE($A64,12,31)-DATE($A64,1,0))*I$57,IF(AND($A64=YEAR(I$34),$A64=YEAR(I$35)),(I$35-I$34)*I$57,IF($A64=YEAR(I$34),(DATE(YEAR(I$34),12,31)-I$34+1)*I$57,IF($A64=YEAR(I$35),(I$35-DATE(YEAR(I$35),1,1)+1)*I$57,0)))) -> 0 | ... O64: =IF(AND($A64>YEAR(O$34),$A64<YEAR(O$35)),(DATE($A64,12,31)-DATE($A64,1,0))*O$38,IF(AND($A64=YEAR(O$34),$A64=YEAR(O$35)),(O$35-O$34+1)*O$38,IF($A64=YEAR(O$34),(DATE(YEAR(O$34),12,31)-O$34+1)*O$38,IF($A64=YEAR(O$35),(O$35-DATE(YEAR(O$35),1,1)+1)*O$38,0))))+IF(AND($A64>YEAR(O$34),$A64<YEAR(O$35)),(DATE($A64,12,31)-DATE($A64,1,0))*O$57,IF(AND($A64=YEAR(O$34),$A64=YEAR(O$35)),(O$35-O$34)*O$57,IF($A64=YEAR(O$34),(DATE(YEAR(O$34),12,31)-O$34+1)*O$57,IF($A64=YEAR(O$35),(O$35-DATE(YEAR(O$35),1,1)+1)*O$57,0)))) -> 0
A65: =FEO!$J$5 -> 2031 | B65: =IF(AND($A65>YEAR(B$34),$A65<YEAR(B$35)),(DATE($A65,12,31)-DATE($A65,1,0))*B$38,IF(AND($A65=YEAR(B$34),$A65=YEAR(B$35)),(B$35-B$34+1)*B$38,IF($A65=YEAR(B$34),(DATE(YEAR(B$34),12,31)-B$34+1)*B$38,IF($A65=YEAR(B$35),(B$35-DATE(YEAR(B$35),1,1)+1)*B$38,0))))+IF(AND($A65>YEAR(B$34),$A65<YEAR(B$35)),(DATE($A65,12,31)-DATE($A65,1,0))*B$57,IF(AND($A65=YEAR(B$34),$A65=YEAR(B$35)),(B$35-B$34)*B$57,IF($A65=YEAR(B$34),(DATE(YEAR(B$34),12,31)-B$34+1)*B$57,IF($A65=YEAR(B$35),(B$35-DATE(YEAR(B$35),1,1)+1)*B$57,0)))) -> 0 | C65: =IF(AND($A65>YEAR(C$34),$A65<YEAR(C$35)),(DATE($A65,12,31)-DATE($A65,1,0))*C$38,IF(AND($A65=YEAR(C$34),$A65=YEAR(C$35)),(C$35-C$34+1)*C$38,IF($A65=YEAR(C$34),(DATE(YEAR(C$34),12,31)-C$34+1)*C$38,IF($A65=YEAR(C$35),(C$35-DATE(YEAR(C$35),1,1)+1)*C$38,0))))+IF(AND($A65>YEAR(C$34),$A65<YEAR(C$35)),(DATE($A65,12,31)-DATE($A65,1,0))*C$57,IF(AND($A65=YEAR(C$34),$A65=YEAR(C$35)),(C$35-C$34)*C$57,IF($A65=YEAR(C$34),(DATE(YEAR(C$34),12,31)-C$34+1)*C$57,IF($A65=YEAR(C$35),(C$35-DATE(YEAR(C$35),1,1)+1)*C$57,0)))) -> 0 | D65: =IF(AND($A65>YEAR(D$34),$A65<YEAR(D$35)),(DATE($A65,12,31)-DATE($A65,1,0))*D$38,IF(AND($A65=YEAR(D$34),$A65=YEAR(D$35)),(D$35-D$34+1)*D$38,IF($A65=YEAR(D$34),(DATE(YEAR(D$34),12,31)-D$34+1)*D$38,IF($A65=YEAR(D$35),(D$35-DATE(YEAR(D$35),1,1)+1)*D$38,0))))+IF(AND($A65>YEAR(D$34),$A65<YEAR(D$35)),(DATE($A65,12,31)-DATE($A65,1,0))*D$57,IF(AND($A65=YEAR(D$34),$A65=YEAR(D$35)),(D$35-D$34)*D$57,IF($A65=YEAR(D$34),(DATE(YEAR(D$34),12,31)-D$34+1)*D$57,IF($A65=YEAR(D$35),(D$35-DATE(YEAR(D$35),1,1)+1)*D$57,0)))) -> 0 | E65: =IF(AND($A65>YEAR(E$34),$A65<YEAR(E$35)),(DATE($A65,12,31)-DATE($A65,1,0))*E$38,IF(AND($A65=YEAR(E$34),$A65=YEAR(E$35)),(E$35-E$34+1)*E$38,IF($A65=YEAR(E$34),(DATE(YEAR(E$34),12,31)-E$34+1)*E$38,IF($A65=YEAR(E$35),(E$35-DATE(YEAR(E$35),1,1)+1)*E$38,0))))+IF(AND($A65>YEAR(E$34),$A65<YEAR(E$35)),(DATE($A65,12,31)-DATE($A65,1,0))*E$57,IF(AND($A65=YEAR(E$34),$A65=YEAR(E$35)),(E$35-E$34)*E$57,IF($A65=YEAR(E$34),(DATE(YEAR(E$34),12,31)-E$34+1)*E$57,IF($A65=YEAR(E$35),(E$35-DATE(YEAR(E$35),1,1)+1)*E$57,0)))) -> 0 | F65: =IF(AND($A65>YEAR(F$34),$A65<YEAR(F$35)),(DATE($A65,12,31)-DATE($A65,1,0))*F$38,IF(AND($A65=YEAR(F$34),$A65=YEAR(F$35)),(F$35-F$34+1)*F$38,IF($A65=YEAR(F$34),(DATE(YEAR(F$34),12,31)-F$34+1)*F$38,IF($A65=YEAR(F$35),(F$35-DATE(YEAR(F$35),1,1)+1)*F$38,0))))+IF(AND($A65>YEAR(F$34),$A65<YEAR(F$35)),(DATE($A65,12,31)-DATE($A65,1,0))*F$57,IF(AND($A65=YEAR(F$34),$A65=YEAR(F$35)),(F$35-F$34)*F$57,IF($A65=YEAR(F$34),(DATE(YEAR(F$34),12,31)-F$34+1)*F$57,IF($A65=YEAR(F$35),(F$35-DATE(YEAR(F$35),1,1)+1)*F$57,0)))) -> 0 | G65: =IF(AND($A65>YEAR(G$34),$A65<YEAR(G$35)),(DATE($A65,12,31)-DATE($A65,1,0))*G$38,IF(AND($A65=YEAR(G$34),$A65=YEAR(G$35)),(G$35-G$34+1)*G$38,IF($A65=YEAR(G$34),(DATE(YEAR(G$34),12,31)-G$34+1)*G$38,IF($A65=YEAR(G$35),(G$35-DATE(YEAR(G$35),1,1)+1)*G$38,0))))+IF(AND($A65>YEAR(G$34),$A65<YEAR(G$35)),(DATE($A65,12,31)-DATE($A65,1,0))*G$57,IF(AND($A65=YEAR(G$34),$A65=YEAR(G$35)),(G$35-G$34)*G$57,IF($A65=YEAR(G$34),(DATE(YEAR(G$34),12,31)-G$34+1)*G$57,IF($A65=YEAR(G$35),(G$35-DATE(YEAR(G$35),1,1)+1)*G$57,0)))) -> 0 | H65: =IF(AND($A65>YEAR(H$34),$A65<YEAR(H$35)),(DATE($A65,12,31)-DATE($A65,1,0))*H$38,IF(AND($A65=YEAR(H$34),$A65=YEAR(H$35)),(H$35-H$34+1)*H$38,IF($A65=YEAR(H$34),(DATE(YEAR(H$34),12,31)-H$34+1)*H$38,IF($A65=YEAR(H$35),(H$35-DATE(YEAR(H$35),1,1)+1)*H$38,0))))+IF(AND($A65>YEAR(H$34),$A65<YEAR(H$35)),(DATE($A65,12,31)-DATE($A65,1,0))*H$57,IF(AND($A65=YEAR(H$34),$A65=YEAR(H$35)),(H$35-H$34)*H$57,IF($A65=YEAR(H$34),(DATE(YEAR(H$34),12,31)-H$34+1)*H$57,IF($A65=YEAR(H$35),(H$35-DATE(YEAR(H$35),1,1)+1)*H$57,0)))) -> 0 | I65: =IF(AND($A65>YEAR(I$34),$A65<YEAR(I$35)),(DATE($A65,12,31)-DATE($A65,1,0))*I$38,IF(AND($A65=YEAR(I$34),$A65=YEAR(I$35)),(I$35-I$34+1)*I$38,IF($A65=YEAR(I$34),(DATE(YEAR(I$34),12,31)-I$34+1)*I$38,IF($A65=YEAR(I$35),(I$35-DATE(YEAR(I$35),1,1)+1)*I$38,0))))+IF(AND($A65>YEAR(I$34),$A65<YEAR(I$35)),(DATE($A65,12,31)-DATE($A65,1,0))*I$57,IF(AND($A65=YEAR(I$34),$A65=YEAR(I$35)),(I$35-I$34)*I$57,IF($A65=YEAR(I$34),(DATE(YEAR(I$34),12,31)-I$34+1)*I$57,IF($A65=YEAR(I$35),(I$35-DATE(YEAR(I$35),1,1)+1)*I$57,0)))) -> 0 | ... O65: =IF(AND($A65>YEAR(O$34),$A65<YEAR(O$35)),(DATE($A65,12,31)-DATE($A65,1,0))*O$38,IF(AND($A65=YEAR(O$34),$A65=YEAR(O$35)),(O$35-O$34+1)*O$38,IF($A65=YEAR(O$34),(DATE(YEAR(O$34),12,31)-O$34+1)*O$38,IF($A65=YEAR(O$35),(O$35-DATE(YEAR(O$35),1,1)+1)*O$38,0))))+IF(AND($A65>YEAR(O$34),$A65<YEAR(O$35)),(DATE($A65,12,31)-DATE($A65,1,0))*O$57,IF(AND($A65=YEAR(O$34),$A65=YEAR(O$35)),(O$35-O$34)*O$57,IF($A65=YEAR(O$34),(DATE(YEAR(O$34),12,31)-O$34+1)*O$57,IF($A65=YEAR(O$35),(O$35-DATE(YEAR(O$35),1,1)+1)*O$57,0)))) -> 0
A66: =FEO!$K$5 -> 2032 | B66: =IF(AND($A66>YEAR(B$34),$A66<YEAR(B$35)),(DATE($A66,12,31)-DATE($A66,1,0))*B$38,IF(AND($A66=YEAR(B$34),$A66=YEAR(B$35)),(B$35-B$34+1)*B$38,IF($A66=YEAR(B$34),(DATE(YEAR(B$34),12,31)-B$34+1)*B$38,IF($A66=YEAR(B$35),(B$35-DATE(YEAR(B$35),1,1)+1)*B$38,0))))+IF(AND($A66>YEAR(B$34),$A66<YEAR(B$35)),(DATE($A66,12,31)-DATE($A66,1,0))*B$57,IF(AND($A66=YEAR(B$34),$A66=YEAR(B$35)),(B$35-B$34)*B$57,IF($A66=YEAR(B$34),(DATE(YEAR(B$34),12,31)-B$34+1)*B$57,IF($A66=YEAR(B$35),(B$35-DATE(YEAR(B$35),1,1)+1)*B$57,0)))) -> 0 | C66: =IF(AND($A66>YEAR(C$34),$A66<YEAR(C$35)),(DATE($A66,12,31)-DATE($A66,1,0))*C$38,IF(AND($A66=YEAR(C$34),$A66=YEAR(C$35)),(C$35-C$34+1)*C$38,IF($A66=YEAR(C$34),(DATE(YEAR(C$34),12,31)-C$34+1)*C$38,IF($A66=YEAR(C$35),(C$35-DATE(YEAR(C$35),1,1)+1)*C$38,0))))+IF(AND($A66>YEAR(C$34),$A66<YEAR(C$35)),(DATE($A66,12,31)-DATE($A66,1,0))*C$57,IF(AND($A66=YEAR(C$34),$A66=YEAR(C$35)),(C$35-C$34)*C$57,IF($A66=YEAR(C$34),(DATE(YEAR(C$34),12,31)-C$34+1)*C$57,IF($A66=YEAR(C$35),(C$35-DATE(YEAR(C$35),1,1)+1)*C$57,0)))) -> 0 | D66: =IF(AND($A66>YEAR(D$34),$A66<YEAR(D$35)),(DATE($A66,12,31)-DATE($A66,1,0))*D$38,IF(AND($A66=YEAR(D$34),$A66=YEAR(D$35)),(D$35-D$34+1)*D$38,IF($A66=YEAR(D$34),(DATE(YEAR(D$34),12,31)-D$34+1)*D$38,IF($A66=YEAR(D$35),(D$35-DATE(YEAR(D$35),1,1)+1)*D$38,0))))+IF(AND($A66>YEAR(D$34),$A66<YEAR(D$35)),(DATE($A66,12,31)-DATE($A66,1,0))*D$57,IF(AND($A66=YEAR(D$34),$A66=YEAR(D$35)),(D$35-D$34)*D$57,IF($A66=YEAR(D$34),(DATE(YEAR(D$34),12,31)-D$34+1)*D$57,IF($A66=YEAR(D$35),(D$35-DATE(YEAR(D$35),1,1)+1)*D$57,0)))) -> 0 | E66: =IF(AND($A66>YEAR(E$34),$A66<YEAR(E$35)),(DATE($A66,12,31)-DATE($A66,1,0))*E$38,IF(AND($A66=YEAR(E$34),$A66=YEAR(E$35)),(E$35-E$34+1)*E$38,IF($A66=YEAR(E$34),(DATE(YEAR(E$34),12,31)-E$34+1)*E$38,IF($A66=YEAR(E$35),(E$35-DATE(YEAR(E$35),1,1)+1)*E$38,0))))+IF(AND($A66>YEAR(E$34),$A66<YEAR(E$35)),(DATE($A66,12,31)-DATE($A66,1,0))*E$57,IF(AND($A66=YEAR(E$34),$A66=YEAR(E$35)),(E$35-E$34)*E$57,IF($A66=YEAR(E$34),(DATE(YEAR(E$34),12,31)-E$34+1)*E$57,IF($A66=YEAR(E$35),(E$35-DATE(YEAR(E$35),1,1)+1)*E$57,0)))) -> 0 | F66: =IF(AND($A66>YEAR(F$34),$A66<YEAR(F$35)),(DATE($A66,12,31)-DATE($A66,1,0))*F$38,IF(AND($A66=YEAR(F$34),$A66=YEAR(F$35)),(F$35-F$34+1)*F$38,IF($A66=YEAR(F$34),(DATE(YEAR(F$34),12,31)-F$34+1)*F$38,IF($A66=YEAR(F$35),(F$35-DATE(YEAR(F$35),1,1)+1)*F$38,0))))+IF(AND($A66>YEAR(F$34),$A66<YEAR(F$35)),(DATE($A66,12,31)-DATE($A66,1,0))*F$57,IF(AND($A66=YEAR(F$34),$A66=YEAR(F$35)),(F$35-F$34)*F$57,IF($A66=YEAR(F$34),(DATE(YEAR(F$34),12,31)-F$34+1)*F$57,IF($A66=YEAR(F$35),(F$35-DATE(YEAR(F$35),1,1)+1)*F$57,0)))) -> 0 | G66: =IF(AND($A66>YEAR(G$34),$A66<YEAR(G$35)),(DATE($A66,12,31)-DATE($A66,1,0))*G$38,IF(AND($A66=YEAR(G$34),$A66=YEAR(G$35)),(G$35-G$34+1)*G$38,IF($A66=YEAR(G$34),(DATE(YEAR(G$34),12,31)-G$34+1)*G$38,IF($A66=YEAR(G$35),(G$35-DATE(YEAR(G$35),1,1)+1)*G$38,0))))+IF(AND($A66>YEAR(G$34),$A66<YEAR(G$35)),(DATE($A66,12,31)-DATE($A66,1,0))*G$57,IF(AND($A66=YEAR(G$34),$A66=YEAR(G$35)),(G$35-G$34)*G$57,IF($A66=YEAR(G$34),(DATE(YEAR(G$34),12,31)-G$34+1)*G$57,IF($A66=YEAR(G$35),(G$35-DATE(YEAR(G$35),1,1)+1)*G$57,0)))) -> 0 | H66: =IF(AND($A66>YEAR(H$34),$A66<YEAR(H$35)),(DATE($A66,12,31)-DATE($A66,1,0))*H$38,IF(AND($A66=YEAR(H$34),$A66=YEAR(H$35)),(H$35-H$34+1)*H$38,IF($A66=YEAR(H$34),(DATE(YEAR(H$34),12,31)-H$34+1)*H$38,IF($A66=YEAR(H$35),(H$35-DATE(YEAR(H$35),1,1)+1)*H$38,0))))+IF(AND($A66>YEAR(H$34),$A66<YEAR(H$35)),(DATE($A66,12,31)-DATE($A66,1,0))*H$57,IF(AND($A66=YEAR(H$34),$A66=YEAR(H$35)),(H$35-H$34)*H$57,IF($A66=YEAR(H$34),(DATE(YEAR(H$34),12,31)-H$34+1)*H$57,IF($A66=YEAR(H$35),(H$35-DATE(YEAR(H$35),1,1)+1)*H$57,0)))) -> 0 | I66: =IF(AND($A66>YEAR(I$34),$A66<YEAR(I$35)),(DATE($A66,12,31)-DATE($A66,1,0))*I$38,IF(AND($A66=YEAR(I$34),$A66=YEAR(I$35)),(I$35-I$34+1)*I$38,IF($A66=YEAR(I$34),(DATE(YEAR(I$34),12,31)-I$34+1)*I$38,IF($A66=YEAR(I$35),(I$35-DATE(YEAR(I$35),1,1)+1)*I$38,0))))+IF(AND($A66>YEAR(I$34),$A66<YEAR(I$35)),(DATE($A66,12,31)-DATE($A66,1,0))*I$57,IF(AND($A66=YEAR(I$34),$A66=YEAR(I$35)),(I$35-I$34)*I$57,IF($A66=YEAR(I$34),(DATE(YEAR(I$34),12,31)-I$34+1)*I$57,IF($A66=YEAR(I$35),(I$35-DATE(YEAR(I$35),1,1)+1)*I$57,0)))) -> 0 | ... O66: =IF(AND($A66>YEAR(O$34),$A66<YEAR(O$35)),(DATE($A66,12,31)-DATE($A66,1,0))*O$38,IF(AND($A66=YEAR(O$34),$A66=YEAR(O$35)),(O$35-O$34+1)*O$38,IF($A66=YEAR(O$34),(DATE(YEAR(O$34),12,31)-O$34+1)*O$38,IF($A66=YEAR(O$35),(O$35-DATE(YEAR(O$35),1,1)+1)*O$38,0))))+IF(AND($A66>YEAR(O$34),$A66<YEAR(O$35)),(DATE($A66,12,31)-DATE($A66,1,0))*O$57,IF(AND($A66=YEAR(O$34),$A66=YEAR(O$35)),(O$35-O$34)*O$57,IF($A66=YEAR(O$34),(DATE(YEAR(O$34),12,31)-O$34+1)*O$57,IF($A66=YEAR(O$35),(O$35-DATE(YEAR(O$35),1,1)+1)*O$57,0)))) -> 0
A67: =FEO!$L$5 -> 2033 | B67: =IF(AND($A67>YEAR(B$34),$A67<YEAR(B$35)),(DATE($A67,12,31)-DATE($A67,1,0))*B$38,IF(AND($A67=YEAR(B$34),$A67=YEAR(B$35)),(B$35-B$34+1)*B$38,IF($A67=YEAR(B$34),(DATE(YEAR(B$34),12,31)-B$34+1)*B$38,IF($A67=YEAR(B$35),(B$35-DATE(YEAR(B$35),1,1)+1)*B$38,0))))+IF(AND($A67>YEAR(B$34),$A67<YEAR(B$35)),(DATE($A67,12,31)-DATE($A67,1,0))*B$57,IF(AND($A67=YEAR(B$34),$A67=YEAR(B$35)),(B$35-B$34)*B$57,IF($A67=YEAR(B$34),(DATE(YEAR(B$34),12,31)-B$34+1)*B$57,IF($A67=YEAR(B$35),(B$35-DATE(YEAR(B$35),1,1)+1)*B$57,0)))) -> 0 | C67: =IF(AND($A67>YEAR(C$34),$A67<YEAR(C$35)),(DATE($A67,12,31)-DATE($A67,1,0))*C$38,IF(AND($A67=YEAR(C$34),$A67=YEAR(C$35)),(C$35-C$34+1)*C$38,IF($A67=YEAR(C$34),(DATE(YEAR(C$34),12,31)-C$34+1)*C$38,IF($A67=YEAR(C$35),(C$35-DATE(YEAR(C$35),1,1)+1)*C$38,0))))+IF(AND($A67>YEAR(C$34),$A67<YEAR(C$35)),(DATE($A67,12,31)-DATE($A67,1,0))*C$57,IF(AND($A67=YEAR(C$34),$A67=YEAR(C$35)),(C$35-C$34)*C$57,IF($A67=YEAR(C$34),(DATE(YEAR(C$34),12,31)-C$34+1)*C$57,IF($A67=YEAR(C$35),(C$35-DATE(YEAR(C$35),1,1)+1)*C$57,0)))) -> 0 | D67: =IF(AND($A67>YEAR(D$34),$A67<YEAR(D$35)),(DATE($A67,12,31)-DATE($A67,1,0))*D$38,IF(AND($A67=YEAR(D$34),$A67=YEAR(D$35)),(D$35-D$34+1)*D$38,IF($A67=YEAR(D$34),(DATE(YEAR(D$34),12,31)-D$34+1)*D$38,IF($A67=YEAR(D$35),(D$35-DATE(YEAR(D$35),1,1)+1)*D$38,0))))+IF(AND($A67>YEAR(D$34),$A67<YEAR(D$35)),(DATE($A67,12,31)-DATE($A67,1,0))*D$57,IF(AND($A67=YEAR(D$34),$A67=YEAR(D$35)),(D$35-D$34)*D$57,IF($A67=YEAR(D$34),(DATE(YEAR(D$34),12,31)-D$34+1)*D$57,IF($A67=YEAR(D$35),(D$35-DATE(YEAR(D$35),1,1)+1)*D$57,0)))) -> 0 | E67: =IF(AND($A67>YEAR(E$34),$A67<YEAR(E$35)),(DATE($A67,12,31)-DATE($A67,1,0))*E$38,IF(AND($A67=YEAR(E$34),$A67=YEAR(E$35)),(E$35-E$34+1)*E$38,IF($A67=YEAR(E$34),(DATE(YEAR(E$34),12,31)-E$34+1)*E$38,IF($A67=YEAR(E$35),(E$35-DATE(YEAR(E$35),1,1)+1)*E$38,0))))+IF(AND($A67>YEAR(E$34),$A67<YEAR(E$35)),(DATE($A67,12,31)-DATE($A67,1,0))*E$57,IF(AND($A67=YEAR(E$34),$A67=YEAR(E$35)),(E$35-E$34)*E$57,IF($A67=YEAR(E$34),(DATE(YEAR(E$34),12,31)-E$34+1)*E$57,IF($A67=YEAR(E$35),(E$35-DATE(YEAR(E$35),1,1)+1)*E$57,0)))) -> 0 | F67: =IF(AND($A67>YEAR(F$34),$A67<YEAR(F$35)),(DATE($A67,12,31)-DATE($A67,1,0))*F$38,IF(AND($A67=YEAR(F$34),$A67=YEAR(F$35)),(F$35-F$34+1)*F$38,IF($A67=YEAR(F$34),(DATE(YEAR(F$34),12,31)-F$34+1)*F$38,IF($A67=YEAR(F$35),(F$35-DATE(YEAR(F$35),1,1)+1)*F$38,0))))+IF(AND($A67>YEAR(F$34),$A67<YEAR(F$35)),(DATE($A67,12,31)-DATE($A67,1,0))*F$57,IF(AND($A67=YEAR(F$34),$A67=YEAR(F$35)),(F$35-F$34)*F$57,IF($A67=YEAR(F$34),(DATE(YEAR(F$34),12,31)-F$34+1)*F$57,IF($A67=YEAR(F$35),(F$35-DATE(YEAR(F$35),1,1)+1)*F$57,0)))) -> 0 | G67: =IF(AND($A67>YEAR(G$34),$A67<YEAR(G$35)),(DATE($A67,12,31)-DATE($A67,1,0))*G$38,IF(AND($A67=YEAR(G$34),$A67=YEAR(G$35)),(G$35-G$34+1)*G$38,IF($A67=YEAR(G$34),(DATE(YEAR(G$34),12,31)-G$34+1)*G$38,IF($A67=YEAR(G$35),(G$35-DATE(YEAR(G$35),1,1)+1)*G$38,0))))+IF(AND($A67>YEAR(G$34),$A67<YEAR(G$35)),(DATE($A67,12,31)-DATE($A67,1,0))*G$57,IF(AND($A67=YEAR(G$34),$A67=YEAR(G$35)),(G$35-G$34)*G$57,IF($A67=YEAR(G$34),(DATE(YEAR(G$34),12,31)-G$34+1)*G$57,IF($A67=YEAR(G$35),(G$35-DATE(YEAR(G$35),1,1)+1)*G$57,0)))) -> 0 | H67: =IF(AND($A67>YEAR(H$34),$A67<YEAR(H$35)),(DATE($A67,12,31)-DATE($A67,1,0))*H$38,IF(AND($A67=YEAR(H$34),$A67=YEAR(H$35)),(H$35-H$34+1)*H$38,IF($A67=YEAR(H$34),(DATE(YEAR(H$34),12,31)-H$34+1)*H$38,IF($A67=YEAR(H$35),(H$35-DATE(YEAR(H$35),1,1)+1)*H$38,0))))+IF(AND($A67>YEAR(H$34),$A67<YEAR(H$35)),(DATE($A67,12,31)-DATE($A67,1,0))*H$57,IF(AND($A67=YEAR(H$34),$A67=YEAR(H$35)),(H$35-H$34)*H$57,IF($A67=YEAR(H$34),(DATE(YEAR(H$34),12,31)-H$34+1)*H$57,IF($A67=YEAR(H$35),(H$35-DATE(YEAR(H$35),1,1)+1)*H$57,0)))) -> 0 | I67: =IF(AND($A67>YEAR(I$34),$A67<YEAR(I$35)),(DATE($A67,12,31)-DATE($A67,1,0))*I$38,IF(AND($A67=YEAR(I$34),$A67=YEAR(I$35)),(I$35-I$34+1)*I$38,IF($A67=YEAR(I$34),(DATE(YEAR(I$34),12,31)-I$34+1)*I$38,IF($A67=YEAR(I$35),(I$35-DATE(YEAR(I$35),1,1)+1)*I$38,0))))+IF(AND($A67>YEAR(I$34),$A67<YEAR(I$35)),(DATE($A67,12,31)-DATE($A67,1,0))*I$57,IF(AND($A67=YEAR(I$34),$A67=YEAR(I$35)),(I$35-I$34)*I$57,IF($A67=YEAR(I$34),(DATE(YEAR(I$34),12,31)-I$34+1)*I$57,IF($A67=YEAR(I$35),(I$35-DATE(YEAR(I$35),1,1)+1)*I$57,0)))) -> 0 | ... O67: =IF(AND($A67>YEAR(O$34),$A67<YEAR(O$35)),(DATE($A67,12,31)-DATE($A67,1,0))*O$38,IF(AND($A67=YEAR(O$34),$A67=YEAR(O$35)),(O$35-O$34+1)*O$38,IF($A67=YEAR(O$34),(DATE(YEAR(O$34),12,31)-O$34+1)*O$38,IF($A67=YEAR(O$35),(O$35-DATE(YEAR(O$35),1,1)+1)*O$38,0))))+IF(AND($A67>YEAR(O$34),$A67<YEAR(O$35)),(DATE($A67,12,31)-DATE($A67,1,0))*O$57,IF(AND($A67=YEAR(O$34),$A67=YEAR(O$35)),(O$35-O$34)*O$57,IF($A67=YEAR(O$34),(DATE(YEAR(O$34),12,31)-O$34+1)*O$57,IF($A67=YEAR(O$35),(O$35-DATE(YEAR(O$35),1,1)+1)*O$57,0)))) -> 0
A68: =FEO!$M$5 -> 2034 | B68: =IF(AND($A68>YEAR(B$34),$A68<YEAR(B$35)),(DATE($A68,12,31)-DATE($A68,1,0))*B$38,IF(AND($A68=YEAR(B$34),$A68=YEAR(B$35)),(B$35-B$34+1)*B$38,IF($A68=YEAR(B$34),(DATE(YEAR(B$34),12,31)-B$34+1)*B$38,IF($A68=YEAR(B$35),(B$35-DATE(YEAR(B$35),1,1)+1)*B$38,0))))+IF(AND($A68>YEAR(B$34),$A68<YEAR(B$35)),(DATE($A68,12,31)-DATE($A68,1,0))*B$57,IF(AND($A68=YEAR(B$34),$A68=YEAR(B$35)),(B$35-B$34)*B$57,IF($A68=YEAR(B$34),(DATE(YEAR(B$34),12,31)-B$34+1)*B$57,IF($A68=YEAR(B$35),(B$35-DATE(YEAR(B$35),1,1)+1)*B$57,0)))) -> 0 | C68: =IF(AND($A68>YEAR(C$34),$A68<YEAR(C$35)),(DATE($A68,12,31)-DATE($A68,1,0))*C$38,IF(AND($A68=YEAR(C$34),$A68=YEAR(C$35)),(C$35-C$34+1)*C$38,IF($A68=YEAR(C$34),(DATE(YEAR(C$34),12,31)-C$34+1)*C$38,IF($A68=YEAR(C$35),(C$35-DATE(YEAR(C$35),1,1)+1)*C$38,0))))+IF(AND($A68>YEAR(C$34),$A68<YEAR(C$35)),(DATE($A68,12,31)-DATE($A68,1,0))*C$57,IF(AND($A68=YEAR(C$34),$A68=YEAR(C$35)),(C$35-C$34)*C$57,IF($A68=YEAR(C$34),(DATE(YEAR(C$34),12,31)-C$34+1)*C$57,IF($A68=YEAR(C$35),(C$35-DATE(YEAR(C$35),1,1)+1)*C$57,0)))) -> 0 | D68: =IF(AND($A68>YEAR(D$34),$A68<YEAR(D$35)),(DATE($A68,12,31)-DATE($A68,1,0))*D$38,IF(AND($A68=YEAR(D$34),$A68=YEAR(D$35)),(D$35-D$34+1)*D$38,IF($A68=YEAR(D$34),(DATE(YEAR(D$34),12,31)-D$34+1)*D$38,IF($A68=YEAR(D$35),(D$35-DATE(YEAR(D$35),1,1)+1)*D$38,0))))+IF(AND($A68>YEAR(D$34),$A68<YEAR(D$35)),(DATE($A68,12,31)-DATE($A68,1,0))*D$57,IF(AND($A68=YEAR(D$34),$A68=YEAR(D$35)),(D$35-D$34)*D$57,IF($A68=YEAR(D$34),(DATE(YEAR(D$34),12,31)-D$34+1)*D$57,IF($A68=YEAR(D$35),(D$35-DATE(YEAR(D$35),1,1)+1)*D$57,0)))) -> 0 | E68: =IF(AND($A68>YEAR(E$34),$A68<YEAR(E$35)),(DATE($A68,12,31)-DATE($A68,1,0))*E$38,IF(AND($A68=YEAR(E$34),$A68=YEAR(E$35)),(E$35-E$34+1)*E$38,IF($A68=YEAR(E$34),(DATE(YEAR(E$34),12,31)-E$34+1)*E$38,IF($A68=YEAR(E$35),(E$35-DATE(YEAR(E$35),1,1)+1)*E$38,0))))+IF(AND($A68>YEAR(E$34),$A68<YEAR(E$35)),(DATE($A68,12,31)-DATE($A68,1,0))*E$57,IF(AND($A68=YEAR(E$34),$A68=YEAR(E$35)),(E$35-E$34)*E$57,IF($A68=YEAR(E$34),(DATE(YEAR(E$34),12,31)-E$34+1)*E$57,IF($A68=YEAR(E$35),(E$35-DATE(YEAR(E$35),1,1)+1)*E$57,0)))) -> 0 | F68: =IF(AND($A68>YEAR(F$34),$A68<YEAR(F$35)),(DATE($A68,12,31)-DATE($A68,1,0))*F$38,IF(AND($A68=YEAR(F$34),$A68=YEAR(F$35)),(F$35-F$34+1)*F$38,IF($A68=YEAR(F$34),(DATE(YEAR(F$34),12,31)-F$34+1)*F$38,IF($A68=YEAR(F$35),(F$35-DATE(YEAR(F$35),1,1)+1)*F$38,0))))+IF(AND($A68>YEAR(F$34),$A68<YEAR(F$35)),(DATE($A68,12,31)-DATE($A68,1,0))*F$57,IF(AND($A68=YEAR(F$34),$A68=YEAR(F$35)),(F$35-F$34)*F$57,IF($A68=YEAR(F$34),(DATE(YEAR(F$34),12,31)-F$34+1)*F$57,IF($A68=YEAR(F$35),(F$35-DATE(YEAR(F$35),1,1)+1)*F$57,0)))) -> 0 | G68: =IF(AND($A68>YEAR(G$34),$A68<YEAR(G$35)),(DATE($A68,12,31)-DATE($A68,1,0))*G$38,IF(AND($A68=YEAR(G$34),$A68=YEAR(G$35)),(G$35-G$34+1)*G$38,IF($A68=YEAR(G$34),(DATE(YEAR(G$34),12,31)-G$34+1)*G$38,IF($A68=YEAR(G$35),(G$35-DATE(YEAR(G$35),1,1)+1)*G$38,0))))+IF(AND($A68>YEAR(G$34),$A68<YEAR(G$35)),(DATE($A68,12,31)-DATE($A68,1,0))*G$57,IF(AND($A68=YEAR(G$34),$A68=YEAR(G$35)),(G$35-G$34)*G$57,IF($A68=YEAR(G$34),(DATE(YEAR(G$34),12,31)-G$34+1)*G$57,IF($A68=YEAR(G$35),(G$35-DATE(YEAR(G$35),1,1)+1)*G$57,0)))) -> 0 | H68: =IF(AND($A68>YEAR(H$34),$A68<YEAR(H$35)),(DATE($A68,12,31)-DATE($A68,1,0))*H$38,IF(AND($A68=YEAR(H$34),$A68=YEAR(H$35)),(H$35-H$34+1)*H$38,IF($A68=YEAR(H$34),(DATE(YEAR(H$34),12,31)-H$34+1)*H$38,IF($A68=YEAR(H$35),(H$35-DATE(YEAR(H$35),1,1)+1)*H$38,0))))+IF(AND($A68>YEAR(H$34),$A68<YEAR(H$35)),(DATE($A68,12,31)-DATE($A68,1,0))*H$57,IF(AND($A68=YEAR(H$34),$A68=YEAR(H$35)),(H$35-H$34)*H$57,IF($A68=YEAR(H$34),(DATE(YEAR(H$34),12,31)-H$34+1)*H$57,IF($A68=YEAR(H$35),(H$35-DATE(YEAR(H$35),1,1)+1)*H$57,0)))) -> 0 | I68: =IF(AND($A68>YEAR(I$34),$A68<YEAR(I$35)),(DATE($A68,12,31)-DATE($A68,1,0))*I$38,IF(AND($A68=YEAR(I$34),$A68=YEAR(I$35)),(I$35-I$34+1)*I$38,IF($A68=YEAR(I$34),(DATE(YEAR(I$34),12,31)-I$34+1)*I$38,IF($A68=YEAR(I$35),(I$35-DATE(YEAR(I$35),1,1)+1)*I$38,0))))+IF(AND($A68>YEAR(I$34),$A68<YEAR(I$35)),(DATE($A68,12,31)-DATE($A68,1,0))*I$57,IF(AND($A68=YEAR(I$34),$A68=YEAR(I$35)),(I$35-I$34)*I$57,IF($A68=YEAR(I$34),(DATE(YEAR(I$34),12,31)-I$34+1)*I$57,IF($A68=YEAR(I$35),(I$35-DATE(YEAR(I$35),1,1)+1)*I$57,0)))) -> 0 | ... O68: =IF(AND($A68>YEAR(O$34),$A68<YEAR(O$35)),(DATE($A68,12,31)-DATE($A68,1,0))*O$38,IF(AND($A68=YEAR(O$34),$A68=YEAR(O$35)),(O$35-O$34+1)*O$38,IF($A68=YEAR(O$34),(DATE(YEAR(O$34),12,31)-O$34+1)*O$38,IF($A68=YEAR(O$35),(O$35-DATE(YEAR(O$35),1,1)+1)*O$38,0))))+IF(AND($A68>YEAR(O$34),$A68<YEAR(O$35)),(DATE($A68,12,31)-DATE($A68,1,0))*O$57,IF(AND($A68=YEAR(O$34),$A68=YEAR(O$35)),(O$35-O$34)*O$57,IF($A68=YEAR(O$34),(DATE(YEAR(O$34),12,31)-O$34+1)*O$57,IF($A68=YEAR(O$35),(O$35-DATE(YEAR(O$35),1,1)+1)*O$57,0)))) -> 0
A70: TOTAAL | B70: =SUM(B62:B68) -> 0 | C70: =SUM(C62:C68) -> 0 | D70: =SUM(D62:D68) -> 0 | E70: =SUM(E62:E68) -> 0 | F70: =SUM(F62:F68) -> 0 | G70: =SUM(G62:G68) -> 0 | H70: =SUM(H62:H68) -> 0 | I70: =SUM(I62:I68) -> 0 | ... O70: =SUM(O62:O68) -> 0
A72: OVERNAMEWAARDE | B72: =B13+B33-B70+B57*B37 -> 0 | C72: =C13+C33-C70+C57*C37 -> 0 | D72: =D13+D33-D70+D57*D37 -> 0 | E72: =E13+E33-E70+E57*E37 -> 0 | F72: =F13+F33-F70+F57*F37 -> 0 | G72: =G13+G33-G70+G57*G37 -> 0 | H72: =H13+H33-H70+H57*H37 -> 0 | I72: =I13+I33-I70+I57*I37 -> 0 | ... O72: =O13+O33-O70+O57*O37 -> 0
A73: Controle | B73: =B13+(B36-B37)*B38-B72 -> 0 | C73: =C13+(C36-C37)*C38-C72 -> 0 | D73: =D13+(D36-D37)*D38-D72 -> 0 | E73: =E13+(E36-E37)*E38-E72 -> 0 | F73: =F13+(F36-F37)*F38-F72 -> 0 | G73: =G13+(G36-G37)*G38-G72 -> 0 | H73: =H13+(H36-H37)*H38-H72 -> 0 | I73: =I13+(I36-I37)*I38-I72 -> 0 | ... O73: =O13+(O36-O37)*O38-O72 -> 0

Sheet F.02
A1: F.02 Installaties | L1: Instructie | M1: Vul de oranje cellen in
A2: terug | N2: =FEO!R1 -> Versie | O2: =FEO!R2 -> Publicatie
A4: Locatie
A5: Adres
A6: Type locatie
A7: Afschrijvingstermijn in jaren
A9: Specificatie aanschafprijs
A10: …
A11: …
A12: …
A13: …
A14: …
A15: …
A16: …
... A23: …
A24: Totaal aanschafprijs | B24: =SUM(B10:B23) -> 0 | C24: =SUM(C10:C23) -> 0 | D24: =SUM(D10:D23) -> 0 | E24: =SUM(E10:E23) -> 0 | F24: =SUM(F10:F23) -> 0 | G24: =SUM(G10:G23) -> 0 | H24: =SUM(H10:H23) -> 0 | I24: =SUM(I10:I23) -> 0 | ... O24: =SUM(O10:O23) -> 0
A25: Subsidies
A26: Fiscale regelingen
A27: Overige
A28: Totaal baten | B28: =SUM(B25:B27) -> 0 | C28: =SUM(C25:C27) -> 0 | D28: =SUM(D25:D27) -> 0 | E28: =SUM(E25:E27) -> 0 | F28: =SUM(F25:F27) -> 0 | G28: =SUM(G25:G27) -> 0 | H28: =SUM(H25:H27) -> 0 | I28: =SUM(I25:I27) -> 0 | ... O28: =SUM(O25:O27) -> 0
A29: Totaal aanschafwaarde | B29: =B28+B24 -> 0 | C29: =C28+C24 -> 0 | D29: =D28+D24 -> 0 | E29: =E28+E24 -> 0 | F29: =F28+F24 -> 0 | G29: =G28+G24 -> 0 | H29: =H28+H24 -> 0 | I29: =I28+I24 -> 0 | ... O29: =O28+O24 -> 0
A30: Datum in concessie | B30: 47097
A31: Datum uit concessie | B31: 52577
A32: Afschrijvingstermijn in dagen totaal | B32: =365.25*B7 -> 0 | C32: =365.25*C7 -> 0 | D32: =365.25*D7 -> 0 | E32: =365.25*E7 -> 0 | F32: =365.25*F7 -> 0 | G32: =365.25*G7 -> 0 | H32: =365.25*H7 -> 0 | I32: =365.25*I7 -> 0 | ... O32: =365.25*O7 -> 0
A33: Afschrijvingstermijn in dagen Concessie | B33: =IF(B30=0,0,B31-B30+1) -> 5481 | C33: =IF(C30=0,0,C31-C30+1) -> 0 | D33: =IF(D30=0,0,D31-D30+1) -> 0 | E33: =IF(E30=0,0,E31-E30+1) -> 0 | F33: =IF(F30=0,0,F31-F30+1) -> 0 | G33: =IF(G30=0,0,G31-G30+1) -> 0 | H33: =IF(H30=0,0,H31-H30+1) -> 0 | I33: =IF(I30=0,0,I31-I30+1) -> 0 | ... O33: =IF(O30=0,0,O31-O30+1) -> 0
A34: Afschrijving per dag | B34: =IFERROR((B29)/B32,0) -> 0 | C34: =IFERROR((C29)/C32,0) -> 0 | D34: =IFERROR((D29)/D32,0) -> 0 | E34: =IFERROR((E29)/E32,0) -> 0 | F34: =IFERROR((F29)/F32,0) -> 0 | G34: =IFERROR((G29)/G32,0) -> 0 | H34: =IFERROR((H29)/H32,0) -> 0 | I34: =IFERROR((I29)/I32,0) -> 0 | ... O34: =IFERROR((O29)/O32,0) -> 0
A36: AFSCHRIJVINGEN
A38: Jaren
A39: =FEO!$G$5 -> 2028 | B39: =IF(AND($A39>YEAR(B$30),$A39<YEAR(B$31)),(DATE($A39,12,31)-DATE($A39,1,0))*B$34,IF(AND($A39=YEAR(B$30),$A39=YEAR(B$31)),(B$31-B$30+1)*B$34,IF($A39=YEAR(B$30),(DATE(YEAR(B$30),12,31)-B$30+1)*B$34,IF($A39=YEAR(B$31),(B$31-DATE(YEAR(B$31),1,1)+1)*B$34,0)))) -> 0 | C39: =IF(AND($A39>YEAR(C$30),$A39<YEAR(C$31)),(DATE($A39,12,31)-DATE($A39,1,0))*C$34,IF(AND($A39=YEAR(C$30),$A39=YEAR(C$31)),(C$31-C$30)*C$34,IF($A39=YEAR(C$30),(DATE(YEAR(C$30),12,31)-C$30+1)*C$34,IF($A39=YEAR(C$31),(C$31-DATE(YEAR(C$31),1,1)+1)*C$34,0)))) -> 0 | D39: =IF(AND($A39>YEAR(D$30),$A39<YEAR(D$31)),(DATE($A39,12,31)-DATE($A39,1,0))*D$34,IF(AND($A39=YEAR(D$30),$A39=YEAR(D$31)),(D$31-D$30)*D$34,IF($A39=YEAR(D$30),(DATE(YEAR(D$30),12,31)-D$30+1)*D$34,IF($A39=YEAR(D$31),(D$31-DATE(YEAR(D$31),1,1)+1)*D$34,0)))) -> 0 | E39: =IF(AND($A39>YEAR(E$30),$A39<YEAR(E$31)),(DATE($A39,12,31)-DATE($A39,1,0))*E$34,IF(AND($A39=YEAR(E$30),$A39=YEAR(E$31)),(E$31-E$30)*E$34,IF($A39=YEAR(E$30),(DATE(YEAR(E$30),12,31)-E$30+1)*E$34,IF($A39=YEAR(E$31),(E$31-DATE(YEAR(E$31),1,1)+1)*E$34,0)))) -> 0 | F39: =IF(AND($A39>YEAR(F$30),$A39<YEAR(F$31)),(DATE($A39,12,31)-DATE($A39,1,0))*F$34,IF(AND($A39=YEAR(F$30),$A39=YEAR(F$31)),(F$31-F$30)*F$34,IF($A39=YEAR(F$30),(DATE(YEAR(F$30),12,31)-F$30+1)*F$34,IF($A39=YEAR(F$31),(F$31-DATE(YEAR(F$31),1,1)+1)*F$34,0)))) -> 0 | G39: =IF(AND($A39>YEAR(G$30),$A39<YEAR(G$31)),(DATE($A39,12,31)-DATE($A39,1,0))*G$34,IF(AND($A39=YEAR(G$30),$A39=YEAR(G$31)),(G$31-G$30)*G$34,IF($A39=YEAR(G$30),(DATE(YEAR(G$30),12,31)-G$30+1)*G$34,IF($A39=YEAR(G$31),(G$31-DATE(YEAR(G$31),1,1)+1)*G$34,0)))) -> 0 | H39: =IF(AND($A39>YEAR(H$30),$A39<YEAR(H$31)),(DATE($A39,12,31)-DATE($A39,1,0))*H$34,IF(AND($A39=YEAR(H$30),$A39=YEAR(H$31)),(H$31-H$30)*H$34,IF($A39=YEAR(H$30),(DATE(YEAR(H$30),12,31)-H$30+1)*H$34,IF($A39=YEAR(H$31),(H$31-DATE(YEAR(H$31),1,1)+1)*H$34,0)))) -> 0 | I39: =IF(AND($A39>YEAR(I$30),$A39<YEAR(I$31)),(DATE($A39,12,31)-DATE($A39,1,0))*I$34,IF(AND($A39=YEAR(I$30),$A39=YEAR(I$31)),(I$31-I$30)*I$34,IF($A39=YEAR(I$30),(DATE(YEAR(I$30),12,31)-I$30+1)*I$34,IF($A39=YEAR(I$31),(I$31-DATE(YEAR(I$31),1,1)+1)*I$34,0)))) -> 0 | J39: =IF(AND($A39>YEAR(J$30),$A39<YEAR(J$31)),(DATE($A39,12,31)-DATE($A39,1,0))*J$34,IF(AND($A39=YEAR(J$30),$A39=YEAR(J$31)),(J$31-J$30)*J$34,IF($A39=YEAR(J$30),(DATE(YEAR(J$30),12,31)-J$30+1)*J$34,IF($A39=YEAR(J$31),(J$31-DATE(YEAR(J$31),1,1)+1)*J$34,0)))) -> 0 | ... O39: =IF(AND($A39>YEAR(O$30),$A39<YEAR(O$31)),(DATE($A39,12,31)-DATE($A39,1,0))*O$34,IF(AND($A39=YEAR(O$30),$A39=YEAR(O$31)),(O$31-O$30)*O$34,IF($A39=YEAR(O$30),(DATE(YEAR(O$30),12,31)-O$30+1)*O$34,IF($A39=YEAR(O$31),(O$31-DATE(YEAR(O$31),1,1)+1)*O$34,0)))) -> 0
A40: =FEO!$H$5 -> 2029 | B40: =IF(AND($A40>YEAR(B$30),$A40<YEAR(B$31)),(DATE($A40,12,31)-DATE($A40,1,0))*B$34,IF(AND($A40=YEAR(B$30),$A40=YEAR(B$31)),(B$31-B$30)*B$34,IF($A40=YEAR(B$30),(DATE(YEAR(B$30),12,31)-B$30+1)*B$34,IF($A40=YEAR(B$31),(B$31-DATE(YEAR(B$31),1,1)+1)*B$34,0)))) -> 0 | C40: =IF(AND($A40>YEAR(C$30),$A40<YEAR(C$31)),(DATE($A40,12,31)-DATE($A40,1,0))*C$34,IF(AND($A40=YEAR(C$30),$A40=YEAR(C$31)),(C$31-C$30)*C$34,IF($A40=YEAR(C$30),(DATE(YEAR(C$30),12,31)-C$30+1)*C$34,IF($A40=YEAR(C$31),(C$31-DATE(YEAR(C$31),1,1)+1)*C$34,0)))) -> 0 | D40: =IF(AND($A40>YEAR(D$30),$A40<YEAR(D$31)),(DATE($A40,12,31)-DATE($A40,1,0))*D$34,IF(AND($A40=YEAR(D$30),$A40=YEAR(D$31)),(D$31-D$30)*D$34,IF($A40=YEAR(D$30),(DATE(YEAR(D$30),12,31)-D$30+1)*D$34,IF($A40=YEAR(D$31),(D$31-DATE(YEAR(D$31),1,1)+1)*D$34,0)))) -> 0 | E40: =IF(AND($A40>YEAR(E$30),$A40<YEAR(E$31)),(DATE($A40,12,31)-DATE($A40,1,0))*E$34,IF(AND($A40=YEAR(E$30),$A40=YEAR(E$31)),(E$31-E$30)*E$34,IF($A40=YEAR(E$30),(DATE(YEAR(E$30),12,31)-E$30+1)*E$34,IF($A40=YEAR(E$31),(E$31-DATE(YEAR(E$31),1,1)+1)*E$34,0)))) -> 0 | F40: =IF(AND($A40>YEAR(F$30),$A40<YEAR(F$31)),(DATE($A40,12,31)-DATE($A40,1,0))*F$34,IF(AND($A40=YEAR(F$30),$A40=YEAR(F$31)),(F$31-F$30)*F$34,IF($A40=YEAR(F$30),(DATE(YEAR(F$30),12,31)-F$30+1)*F$34,IF($A40=YEAR(F$31),(F$31-DATE(YEAR(F$31),1,1)+1)*F$34,0)))) -> 0 | G40: =IF(AND($A40>YEAR(G$30),$A40<YEAR(G$31)),(DATE($A40,12,31)-DATE($A40,1,0))*G$34,IF(AND($A40=YEAR(G$30),$A40=YEAR(G$31)),(G$31-G$30)*G$34,IF($A40=YEAR(G$30),(DATE(YEAR(G$30),12,31)-G$30+1)*G$34,IF($A40=YEAR(G$31),(G$31-DATE(YEAR(G$31),1,1)+1)*G$34,0)))) -> 0 | H40: =IF(AND($A40>YEAR(H$30),$A40<YEAR(H$31)),(DATE($A40,12,31)-DATE($A40,1,0))*H$34,IF(AND($A40=YEAR(H$30),$A40=YEAR(H$31)),(H$31-H$30)*H$34,IF($A40=YEAR(H$30),(DATE(YEAR(H$30),12,31)-H$30+1)*H$34,IF($A40=YEAR(H$31),(H$31-DATE(YEAR(H$31),1,1)+1)*H$34,0)))) -> 0 | I40: =IF(AND($A40>YEAR(I$30),$A40<YEAR(I$31)),(DATE($A40,12,31)-DATE($A40,1,0))*I$34,IF(AND($A40=YEAR(I$30),$A40=YEAR(I$31)),(I$31-I$30)*I$34,IF($A40=YEAR(I$30),(DATE(YEAR(I$30),12,31)-I$30+1)*I$34,IF($A40=YEAR(I$31),(I$31-DATE(YEAR(I$31),1,1)+1)*I$34,0)))) -> 0 | ... O40: =IF(AND($A40>YEAR(O$30),$A40<YEAR(O$31)),(DATE($A40,12,31)-DATE($A40,1,0))*O$34,IF(AND($A40=YEAR(O$30),$A40=YEAR(O$31)),(O$31-O$30)*O$34,IF($A40=YEAR(O$30),(DATE(YEAR(O$30),12,31)-O$30+1)*O$34,IF($A40=YEAR(O$31),(O$31-DATE(YEAR(O$31),1,1)+1)*O$34,0)))) -> 0
A41: =FEO!$I$5 -> 2030 | B41: =IF(AND($A41>YEAR(B$30),$A41<YEAR(B$31)),(DATE($A41,12,31)-DATE($A41,1,0))*B$34,IF(AND($A41=YEAR(B$30),$A41=YEAR(B$31)),(B$31-B$30)*B$34,IF($A41=YEAR(B$30),(DATE(YEAR(B$30),12,31)-B$30+1)*B$34,IF($A41=YEAR(B$31),(B$31-DATE(YEAR(B$31),1,1)+1)*B$34,0)))) -> 0 | C41: =IF(AND($A41>YEAR(C$30),$A41<YEAR(C$31)),(DATE($A41,12,31)-DATE($A41,1,0))*C$34,IF(AND($A41=YEAR(C$30),$A41=YEAR(C$31)),(C$31-C$30)*C$34,IF($A41=YEAR(C$30),(DATE(YEAR(C$30),12,31)-C$30+1)*C$34,IF($A41=YEAR(C$31),(C$31-DATE(YEAR(C$31),1,1)+1)*C$34,0)))) -> 0 | D41: =IF(AND($A41>YEAR(D$30),$A41<YEAR(D$31)),(DATE($A41,12,31)-DATE($A41,1,0))*D$34,IF(AND($A41=YEAR(D$30),$A41=YEAR(D$31)),(D$31-D$30)*D$34,IF($A41=YEAR(D$30),(DATE(YEAR(D$30),12,31)-D$30+1)*D$34,IF($A41=YEAR(D$31),(D$31-DATE(YEAR(D$31),1,1)+1)*D$34,0)))) -> 0 | E41: =IF(AND($A41>YEAR(E$30),$A41<YEAR(E$31)),(DATE($A41,12,31)-DATE($A41,1,0))*E$34,IF(AND($A41=YEAR(E$30),$A41=YEAR(E$31)),(E$31-E$30)*E$34,IF($A41=YEAR(E$30),(DATE(YEAR(E$30),12,31)-E$30+1)*E$34,IF($A41=YEAR(E$31),(E$31-DATE(YEAR(E$31),1,1)+1)*E$34,0)))) -> 0 | F41: =IF(AND($A41>YEAR(F$30),$A41<YEAR(F$31)),(DATE($A41,12,31)-DATE($A41,1,0))*F$34,IF(AND($A41=YEAR(F$30),$A41=YEAR(F$31)),(F$31-F$30)*F$34,IF($A41=YEAR(F$30),(DATE(YEAR(F$30),12,31)-F$30+1)*F$34,IF($A41=YEAR(F$31),(F$31-DATE(YEAR(F$31),1,1)+1)*F$34,0)))) -> 0 | G41: =IF(AND($A41>YEAR(G$30),$A41<YEAR(G$31)),(DATE($A41,12,31)-DATE($A41,1,0))*G$34,IF(AND($A41=YEAR(G$30),$A41=YEAR(G$31)),(G$31-G$30)*G$34,IF($A41=YEAR(G$30),(DATE(YEAR(G$30),12,31)-G$30+1)*G$34,IF($A41=YEAR(G$31),(G$31-DATE(YEAR(G$31),1,1)+1)*G$34,0)))) -> 0 | H41: =IF(AND($A41>YEAR(H$30),$A41<YEAR(H$31)),(DATE($A41,12,31)-DATE($A41,1,0))*H$34,IF(AND($A41=YEAR(H$30),$A41=YEAR(H$31)),(H$31-H$30)*H$34,IF($A41=YEAR(H$30),(DATE(YEAR(H$30),12,31)-H$30+1)*H$34,IF($A41=YEAR(H$31),(H$31-DATE(YEAR(H$31),1,1)+1)*H$34,0)))) -> 0 | I41: =IF(AND($A41>YEAR(I$30),$A41<YEAR(I$31)),(DATE($A41,12,31)-DATE($A41,1,0))*I$34,IF(AND($A41=YEAR(I$30),$A41=YEAR(I$31)),(I$31-I$30)*I$34,IF($A41=YEAR(I$30),(DATE(YEAR(I$30),12,31)-I$30+1)*I$34,IF($A41=YEAR(I$31),(I$31-DATE(YEAR(I$31),1,1)+1)*I$34,0)))) -> 0 | ... O41: =IF(AND($A41>YEAR(O$30),$A41<YEAR(O$31)),(DATE($A41,12,31)-DATE($A41,1,0))*O$34,IF(AND($A41=YEAR(O$30),$A41=YEAR(O$31)),(O$31-O$30)*O$34,IF($A41=YEAR(O$30),(DATE(YEAR(O$30),12,31)-O$30+1)*O$34,IF($A41=YEAR(O$31),(O$31-DATE(YEAR(O$31),1,1)+1)*O$34,0)))) -> 0
A42: =FEO!$J$5 -> 2031 | B42: =IF(AND($A42>YEAR(B$30),$A42<YEAR(B$31)),(DATE($A42,12,31)-DATE($A42,1,0))*B$34,IF(AND($A42=YEAR(B$30),$A42=YEAR(B$31)),(B$31-B$30)*B$34,IF($A42=YEAR(B$30),(DATE(YEAR(B$30),12,31)-B$30+1)*B$34,IF($A42=YEAR(B$31),(B$31-DATE(YEAR(B$31),1,1)+1)*B$34,0)))) -> 0 | C42: =IF(AND($A42>YEAR(C$30),$A42<YEAR(C$31)),(DATE($A42,12,31)-DATE($A42,1,0))*C$34,IF(AND($A42=YEAR(C$30),$A42=YEAR(C$31)),(C$31-C$30)*C$34,IF($A42=YEAR(C$30),(DATE(YEAR(C$30),12,31)-C$30+1)*C$34,IF($A42=YEAR(C$31),(C$31-DATE(YEAR(C$31),1,1)+1)*C$34,0)))) -> 0 | D42: =IF(AND($A42>YEAR(D$30),$A42<YEAR(D$31)),(DATE($A42,12,31)-DATE($A42,1,0))*D$34,IF(AND($A42=YEAR(D$30),$A42=YEAR(D$31)),(D$31-D$30)*D$34,IF($A42=YEAR(D$30),(DATE(YEAR(D$30),12,31)-D$30+1)*D$34,IF($A42=YEAR(D$31),(D$31-DATE(YEAR(D$31),1,1)+1)*D$34,0)))) -> 0 | E42: =IF(AND($A42>YEAR(E$30),$A42<YEAR(E$31)),(DATE($A42,12,31)-DATE($A42,1,0))*E$34,IF(AND($A42=YEAR(E$30),$A42=YEAR(E$31)),(E$31-E$30)*E$34,IF($A42=YEAR(E$30),(DATE(YEAR(E$30),12,31)-E$30+1)*E$34,IF($A42=YEAR(E$31),(E$31-DATE(YEAR(E$31),1,1)+1)*E$34,0)))) -> 0 | F42: =IF(AND($A42>YEAR(F$30),$A42<YEAR(F$31)),(DATE($A42,12,31)-DATE($A42,1,0))*F$34,IF(AND($A42=YEAR(F$30),$A42=YEAR(F$31)),(F$31-F$30)*F$34,IF($A42=YEAR(F$30),(DATE(YEAR(F$30),12,31)-F$30+1)*F$34,IF($A42=YEAR(F$31),(F$31-DATE(YEAR(F$31),1,1)+1)*F$34,0)))) -> 0 | G42: =IF(AND($A42>YEAR(G$30),$A42<YEAR(G$31)),(DATE($A42,12,31)-DATE($A42,1,0))*G$34,IF(AND($A42=YEAR(G$30),$A42=YEAR(G$31)),(G$31-G$30)*G$34,IF($A42=YEAR(G$30),(DATE(YEAR(G$30),12,31)-G$30+1)*G$34,IF($A42=YEAR(G$31),(G$31-DATE(YEAR(G$31),1,1)+1)*G$34,0)))) -> 0 | H42: =IF(AND($A42>YEAR(H$30),$A42<YEAR(H$31)),(DATE($A42,12,31)-DATE($A42,1,0))*H$34,IF(AND($A42=YEAR(H$30),$A42=YEAR(H$31)),(H$31-H$30)*H$34,IF($A42=YEAR(H$30),(DATE(YEAR(H$30),12,31)-H$30+1)*H$34,IF($A42=YEAR(H$31),(H$31-DATE(YEAR(H$31),1,1)+1)*H$34,0)))) -> 0 | I42: =IF(AND($A42>YEAR(I$30),$A42<YEAR(I$31)),(DATE($A42,12,31)-DATE($A42,1,0))*I$34,IF(AND($A42=YEAR(I$30),$A42=YEAR(I$31)),(I$31-I$30)*I$34,IF($A42=YEAR(I$30),(DATE(YEAR(I$30),12,31)-I$30+1)*I$34,IF($A42=YEAR(I$31),(I$31-DATE(YEAR(I$31),1,1)+1)*I$34,0)))) -> 0 | ... O42: =IF(AND($A42>YEAR(O$30),$A42<YEAR(O$31)),(DATE($A42,12,31)-DATE($A42,1,0))*O$34,IF(AND($A42=YEAR(O$30),$A42=YEAR(O$31)),(O$31-O$30)*O$34,IF($A42=YEAR(O$30),(DATE(YEAR(O$30),12,31)-O$30+1)*O$34,IF($A42=YEAR(O$31),(O$31-DATE(YEAR(O$31),1,1)+1)*O$34,0)))) -> 0
A43: =FEO!$K$5 -> 2032 | B43: =IF(AND($A43>YEAR(B$30),$A43<YEAR(B$31)),(DATE($A43,12,31)-DATE($A43,1,0))*B$34,IF(AND($A43=YEAR(B$30),$A43=YEAR(B$31)),(B$31-B$30)*B$34,IF($A43=YEAR(B$30),(DATE(YEAR(B$30),12,31)-B$30+1)*B$34,IF($A43=YEAR(B$31),(B$31-DATE(YEAR(B$31),1,1)+1)*B$34,0)))) -> 0 | C43: =IF(AND($A43>YEAR(C$30),$A43<YEAR(C$31)),(DATE($A43,12,31)-DATE($A43,1,0))*C$34,IF(AND($A43=YEAR(C$30),$A43=YEAR(C$31)),(C$31-C$30)*C$34,IF($A43=YEAR(C$30),(DATE(YEAR(C$30),12,31)-C$30+1)*C$34,IF($A43=YEAR(C$31),(C$31-DATE(YEAR(C$31),1,1)+1)*C$34,0)))) -> 0 | D43: =IF(AND($A43>YEAR(D$30),$A43<YEAR(D$31)),(DATE($A43,12,31)-DATE($A43,1,0))*D$34,IF(AND($A43=YEAR(D$30),$A43=YEAR(D$31)),(D$31-D$30)*D$34,IF($A43=YEAR(D$30),(DATE(YEAR(D$30),12,31)-D$30+1)*D$34,IF($A43=YEAR(D$31),(D$31-DATE(YEAR(D$31),1,1)+1)*D$34,0)))) -> 0 | E43: =IF(AND($A43>YEAR(E$30),$A43<YEAR(E$31)),(DATE($A43,12,31)-DATE($A43,1,0))*E$34,IF(AND($A43=YEAR(E$30),$A43=YEAR(E$31)),(E$31-E$30)*E$34,IF($A43=YEAR(E$30),(DATE(YEAR(E$30),12,31)-E$30+1)*E$34,IF($A43=YEAR(E$31),(E$31-DATE(YEAR(E$31),1,1)+1)*E$34,0)))) -> 0 | F43: =IF(AND($A43>YEAR(F$30),$A43<YEAR(F$31)),(DATE($A43,12,31)-DATE($A43,1,0))*F$34,IF(AND($A43=YEAR(F$30),$A43=YEAR(F$31)),(F$31-F$30)*F$34,IF($A43=YEAR(F$30),(DATE(YEAR(F$30),12,31)-F$30+1)*F$34,IF($A43=YEAR(F$31),(F$31-DATE(YEAR(F$31),1,1)+1)*F$34,0)))) -> 0 | G43: =IF(AND($A43>YEAR(G$30),$A43<YEAR(G$31)),(DATE($A43,12,31)-DATE($A43,1,0))*G$34,IF(AND($A43=YEAR(G$30),$A43=YEAR(G$31)),(G$31-G$30)*G$34,IF($A43=YEAR(G$30),(DATE(YEAR(G$30),12,31)-G$30+1)*G$34,IF($A43=YEAR(G$31),(G$31-DATE(YEAR(G$31),1,1)+1)*G$34,0)))) -> 0 | H43: =IF(AND($A43>YEAR(H$30),$A43<YEAR(H$31)),(DATE($A43,12,31)-DATE($A43,1,0))*H$34,IF(AND($A43=YEAR(H$30),$A43=YEAR(H$31)),(H$31-H$30)*H$34,IF($A43=YEAR(H$30),(DATE(YEAR(H$30),12,31)-H$30+1)*H$34,IF($A43=YEAR(H$31),(H$31-DATE(YEAR(H$31),1,1)+1)*H$34,0)))) -> 0 | I43: =IF(AND($A43>YEAR(I$30),$A43<YEAR(I$31)),(DATE($A43,12,31)-DATE($A43,1,0))*I$34,IF(AND($A43=YEAR(I$30),$A43=YEAR(I$31)),(I$31-I$30)*I$34,IF($A43=YEAR(I$30),(DATE(YEAR(I$30),12,31)-I$30+1)*I$34,IF($A43=YEAR(I$31),(I$31-DATE(YEAR(I$31),1,1)+1)*I$34,0)))) -> 0 | ... O43: =IF(AND($A43>YEAR(O$30),$A43<YEAR(O$31)),(DATE($A43,12,31)-DATE($A43,1,0))*O$34,IF(AND($A43=YEAR(O$30),$A43=YEAR(O$31)),(O$31-O$30)*O$34,IF($A43=YEAR(O$30),(DATE(YEAR(O$30),12,31)-O$30+1)*O$34,IF($A43=YEAR(O$31),(O$31-DATE(YEAR(O$31),1,1)+1)*O$34,0)))) -> 0
A44: =FEO!$L$5 -> 2033 | B44: =IF(AND($A44>YEAR(B$30),$A44<YEAR(B$31)),(DATE($A44,12,31)-DATE($A44,1,0))*B$34,IF(AND($A44=YEAR(B$30),$A44=YEAR(B$31)),(B$31-B$30)*B$34,IF($A44=YEAR(B$30),(DATE(YEAR(B$30),12,31)-B$30+1)*B$34,IF($A44=YEAR(B$31),(B$31-DATE(YEAR(B$31),1,1)+1)*B$34,0)))) -> 0 | C44: =IF(AND($A44>YEAR(C$30),$A44<YEAR(C$31)),(DATE($A44,12,31)-DATE($A44,1,0))*C$34,IF(AND($A44=YEAR(C$30),$A44=YEAR(C$31)),(C$31-C$30)*C$34,IF($A44=YEAR(C$30),(DATE(YEAR(C$30),12,31)-C$30+1)*C$34,IF($A44=YEAR(C$31),(C$31-DATE(YEAR(C$31),1,1)+1)*C$34,0)))) -> 0 | D44: =IF(AND($A44>YEAR(D$30),$A44<YEAR(D$31)),(DATE($A44,12,31)-DATE($A44,1,0))*D$34,IF(AND($A44=YEAR(D$30),$A44=YEAR(D$31)),(D$31-D$30)*D$34,IF($A44=YEAR(D$30),(DATE(YEAR(D$30),12,31)-D$30+1)*D$34,IF($A44=YEAR(D$31),(D$31-DATE(YEAR(D$31),1,1)+1)*D$34,0)))) -> 0 | E44: =IF(AND($A44>YEAR(E$30),$A44<YEAR(E$31)),(DATE($A44,12,31)-DATE($A44,1,0))*E$34,IF(AND($A44=YEAR(E$30),$A44=YEAR(E$31)),(E$31-E$30)*E$34,IF($A44=YEAR(E$30),(DATE(YEAR(E$30),12,31)-E$30+1)*E$34,IF($A44=YEAR(E$31),(E$31-DATE(YEAR(E$31),1,1)+1)*E$34,0)))) -> 0 | F44: =IF(AND($A44>YEAR(F$30),$A44<YEAR(F$31)),(DATE($A44,12,31)-DATE($A44,1,0))*F$34,IF(AND($A44=YEAR(F$30),$A44=YEAR(F$31)),(F$31-F$30)*F$34,IF($A44=YEAR(F$30),(DATE(YEAR(F$30),12,31)-F$30+1)*F$34,IF($A44=YEAR(F$31),(F$31-DATE(YEAR(F$31),1,1)+1)*F$34,0)))) -> 0 | G44: =IF(AND($A44>YEAR(G$30),$A44<YEAR(G$31)),(DATE($A44,12,31)-DATE($A44,1,0))*G$34,IF(AND($A44=YEAR(G$30),$A44=YEAR(G$31)),(G$31-G$30)*G$34,IF($A44=YEAR(G$30),(DATE(YEAR(G$30),12,31)-G$30+1)*G$34,IF($A44=YEAR(G$31),(G$31-DATE(YEAR(G$31),1,1)+1)*G$34,0)))) -> 0 | H44: =IF(AND($A44>YEAR(H$30),$A44<YEAR(H$31)),(DATE($A44,12,31)-DATE($A44,1,0))*H$34,IF(AND($A44=YEAR(H$30),$A44=YEAR(H$31)),(H$31-H$30)*H$34,IF($A44=YEAR(H$30),(DATE(YEAR(H$30),12,31)-H$30+1)*H$34,IF($A44=YEAR(H$31),(H$31-DATE(YEAR(H$31),1,1)+1)*H$34,0)))) -> 0 | I44: =IF(AND($A44>YEAR(I$30),$A44<YEAR(I$31)),(DATE($A44,12,31)-DATE($A44,1,0))*I$34,IF(AND($A44=YEAR(I$30),$A44=YEAR(I$31)),(I$31-I$30)*I$34,IF($A44=YEAR(I$30),(DATE(YEAR(I$30),12,31)-I$30+1)*I$34,IF($A44=YEAR(I$31),(I$31-DATE(YEAR(I$31),1,1)+1)*I$34,0)))) -> 0 | ... O44: =IF(AND($A44>YEAR(O$30),$A44<YEAR(O$31)),(DATE($A44,12,31)-DATE($A44,1,0))*O$34,IF(AND($A44=YEAR(O$30),$A44=YEAR(O$31)),(O$31-O$30)*O$34,IF($A44=YEAR(O$30),(DATE(YEAR(O$30),12,31)-O$30+1)*O$34,IF($A44=YEAR(O$31),(O$31-DATE(YEAR(O$31),1,1)+1)*O$34,0)))) -> 0
A45: =FEO!$M$5 -> 2034 | B45: =IF(AND($A45>YEAR(B$30),$A45<YEAR(B$31)),(DATE($A45,12,31)-DATE($A45,1,0))*B$34,IF(AND($A45=YEAR(B$30),$A45=YEAR(B$31)),(B$31-B$30)*B$34,IF($A45=YEAR(B$30),(DATE(YEAR(B$30),12,31)-B$30+1)*B$34,IF($A45=YEAR(B$31),(B$31-DATE(YEAR(B$31),1,1)+1)*B$34,0)))) -> 0 | C45: =IF(AND($A45>YEAR(C$30),$A45<YEAR(C$31)),(DATE($A45,12,31)-DATE($A45,1,0))*C$34,IF(AND($A45=YEAR(C$30),$A45=YEAR(C$31)),(C$31-C$30)*C$34,IF($A45=YEAR(C$30),(DATE(YEAR(C$30),12,31)-C$30+1)*C$34,IF($A45=YEAR(C$31),(C$31-DATE(YEAR(C$31),1,1)+1)*C$34,0)))) -> 0 | D45: =IF(AND($A45>YEAR(D$30),$A45<YEAR(D$31)),(DATE($A45,12,31)-DATE($A45,1,0))*D$34,IF(AND($A45=YEAR(D$30),$A45=YEAR(D$31)),(D$31-D$30)*D$34,IF($A45=YEAR(D$30),(DATE(YEAR(D$30),12,31)-D$30+1)*D$34,IF($A45=YEAR(D$31),(D$31-DATE(YEAR(D$31),1,1)+1)*D$34,0)))) -> 0 | E45: =IF(AND($A45>YEAR(E$30),$A45<YEAR(E$31)),(DATE($A45,12,31)-DATE($A45,1,0))*E$34,IF(AND($A45=YEAR(E$30),$A45=YEAR(E$31)),(E$31-E$30)*E$34,IF($A45=YEAR(E$30),(DATE(YEAR(E$30),12,31)-E$30+1)*E$34,IF($A45=YEAR(E$31),(E$31-DATE(YEAR(E$31),1,1)+1)*E$34,0)))) -> 0 | F45: =IF(AND($A45>YEAR(F$30),$A45<YEAR(F$31)),(DATE($A45,12,31)-DATE($A45,1,0))*F$34,IF(AND($A45=YEAR(F$30),$A45=YEAR(F$31)),(F$31-F$30)*F$34,IF($A45=YEAR(F$30),(DATE(YEAR(F$30),12,31)-F$30+1)*F$34,IF($A45=YEAR(F$31),(F$31-DATE(YEAR(F$31),1,1)+1)*F$34,0)))) -> 0 | G45: =IF(AND($A45>YEAR(G$30),$A45<YEAR(G$31)),(DATE($A45,12,31)-DATE($A45,1,0))*G$34,IF(AND($A45=YEAR(G$30),$A45=YEAR(G$31)),(G$31-G$30)*G$34,IF($A45=YEAR(G$30),(DATE(YEAR(G$30),12,31)-G$30+1)*G$34,IF($A45=YEAR(G$31),(G$31-DATE(YEAR(G$31),1,1)+1)*G$34,0)))) -> 0 | H45: =IF(AND($A45>YEAR(H$30),$A45<YEAR(H$31)),(DATE($A45,12,31)-DATE($A45,1,0))*H$34,IF(AND($A45=YEAR(H$30),$A45=YEAR(H$31)),(H$31-H$30)*H$34,IF($A45=YEAR(H$30),(DATE(YEAR(H$30),12,31)-H$30+1)*H$34,IF($A45=YEAR(H$31),(H$31-DATE(YEAR(H$31),1,1)+1)*H$34,0)))) -> 0 | I45: =IF(AND($A45>YEAR(I$30),$A45<YEAR(I$31)),(DATE($A45,12,31)-DATE($A45,1,0))*I$34,IF(AND($A45=YEAR(I$30),$A45=YEAR(I$31)),(I$31-I$30)*I$34,IF($A45=YEAR(I$30),(DATE(YEAR(I$30),12,31)-I$30+1)*I$34,IF($A45=YEAR(I$31),(I$31-DATE(YEAR(I$31),1,1)+1)*I$34,0)))) -> 0 | ... O45: =IF(AND($A45>YEAR(O$30),$A45<YEAR(O$31)),(DATE($A45,12,31)-DATE($A45,1,0))*O$34,IF(AND($A45=YEAR(O$30),$A45=YEAR(O$31)),(O$31-O$30)*O$34,IF($A45=YEAR(O$30),(DATE(YEAR(O$30),12,31)-O$30+1)*O$34,IF($A45=YEAR(O$31),(O$31-DATE(YEAR(O$31),1,1)+1)*O$34,0)))) -> 0
A47: TOTAAL | B47: =SUM(B39:B45) -> 0 | C47: =SUM(C39:C45) -> 0 | D47: =SUM(D39:D45) -> 0 | E47: =SUM(E39:E45) -> 0 | F47: =SUM(F39:F45) -> 0 | G47: =SUM(G39:G45) -> 0 | H47: =SUM(H39:H45) -> 0 | I47: =SUM(I39:I45) -> 0 | ... O47: =SUM(O39:O45) -> 0
A49: OVERNAMEWAARDE | B49: =B29-B47 -> 0 | C49: =C29-C47 -> 0 | D49: =D29-D47 -> 0 | E49: =E29-E47 -> 0 | F49: =F29-F47 -> 0 | G49: =G29-G47 -> 0 | H49: =H29-H47 -> 0 | I49: =I29-I47 -> 0 | ... O49: =O29-O47 -> 0
A50: Controle | B50: =(B32-B33)*B34-B49 -> 0 | C50: =(C32-C33)*C34-C49 -> 0 | D50: =(D32-D33)*D34-D49 -> 0 | E50: =(E32-E33)*E34-E49 -> 0 | F50: =(F32-F33)*F34-F49 -> 0 | G50: =(G32-G33)*G34-G49 -> 0 | H50: =(H32-H33)*H34-H49 -> 0 | I50: =(I32-I33)*I34-I49 -> 0 | ... O50: =(O32-O33)*O34-O49 -> 0
A52: BOEKWAARDE 31-12
A54: Jaren
A55: =FEO!$G$5 -> 2028 | B55: =IF(YEAR(B$30)=$A55,B$29,0)-B39 -> 0 | C55: =IF(YEAR(C$30)=$A55,C$29,0)-C39 -> 0 | D55: =IF(YEAR(D$30)=$A55,D$29,0)-D39 -> 0 | E55: =IF(YEAR(E$30)=$A55,E$29,0)-E39 -> 0 | F55: =IF(YEAR(F$30)=$A55,F$29,0)-F39 -> 0 | G55: =IF(YEAR(G$30)=$A55,G$29,0)-G39 -> 0 | H55: =IF(YEAR(H$30)=$A55,H$29,0)-H39 -> 0 | I55: =IF(YEAR(I$30)=$A55,I$29,0)-I39 -> 0 | ... O55: =IF(YEAR(O$30)=$A55,O$29,0)-O39 -> 0
A56: =FEO!$H$5 -> 2029 | B56: =IF(YEAR(B$30)=$A56,B$29,0)+B55-B40 -> 0 | C56: =IF(YEAR(C$30)=$A56,C$29,0)+C55-C40 -> 0 | D56: =IF(YEAR(D$30)=$A56,D$29,0)+D55-D40 -> 0 | E56: =IF(YEAR(E$30)=$A56,E$29,0)+E55-E40 -> 0 | F56: =IF(YEAR(F$30)=$A56,F$29,0)+F55-F40 -> 0 | G56: =IF(YEAR(G$30)=$A56,G$29,0)+G55-G40 -> 0 | H56: =IF(YEAR(H$30)=$A56,H$29,0)+H55-H40 -> 0 | I56: =IF(YEAR(I$30)=$A56,I$29,0)+I55-I40 -> 0 | ... O56: =IF(YEAR(O$30)=$A56,O$29,0)+O55-O40 -> 0
A57: =FEO!$I$5 -> 2030 | B57: =IF(YEAR(B$30)=$A57,B$29,0)+B56-B41 -> 0 | C57: =IF(YEAR(C$30)=$A57,C$29,0)+C56-C41 -> 0 | D57: =IF(YEAR(D$30)=$A57,D$29,0)+D56-D41 -> 0 | E57: =IF(YEAR(E$30)=$A57,E$29,0)+E56-E41 -> 0 | F57: =IF(YEAR(F$30)=$A57,F$29,0)+F56-F41 -> 0 | G57: =IF(YEAR(G$30)=$A57,G$29,0)+G56-G41 -> 0 | H57: =IF(YEAR(H$30)=$A57,H$29,0)+H56-H41 -> 0 | I57: =IF(YEAR(I$30)=$A57,I$29,0)+I56-I41 -> 0 | ... O57: =IF(YEAR(O$30)=$A57,O$29,0)+O56-O41 -> 0
A58: =FEO!$J$5 -> 2031 | B58: =IF(YEAR(B$30)=$A58,B$29,0)+B57-B42 -> 0 | C58: =IF(YEAR(C$30)=$A58,C$29,0)+C57-C42 -> 0 | D58: =IF(YEAR(D$30)=$A58,D$29,0)+D57-D42 -> 0 | E58: =IF(YEAR(E$30)=$A58,E$29,0)+E57-E42 -> 0 | F58: =IF(YEAR(F$30)=$A58,F$29,0)+F57-F42 -> 0 | G58: =IF(YEAR(G$30)=$A58,G$29,0)+G57-G42 -> 0 | H58: =IF(YEAR(H$30)=$A58,H$29,0)+H57-H42 -> 0 | I58: =IF(YEAR(I$30)=$A58,I$29,0)+I57-I42 -> 0 | ... O58: =IF(YEAR(O$30)=$A58,O$29,0)+O57-O42 -> 0
A59: =FEO!$K$5 -> 2032 | B59: =IF(YEAR(B$30)=$A59,B$29,0)+B58-B43 -> 0 | C59: =IF(YEAR(C$30)=$A59,C$29,0)+C58-C43 -> 0 | D59: =IF(YEAR(D$30)=$A59,D$29,0)+D58-D43 -> 0 | E59: =IF(YEAR(E$30)=$A59,E$29,0)+E58-E43 -> 0 | F59: =IF(YEAR(F$30)=$A59,F$29,0)+F58-F43 -> 0 | G59: =IF(YEAR(G$30)=$A59,G$29,0)+G58-G43 -> 0 | H59: =IF(YEAR(H$30)=$A59,H$29,0)+H58-H43 -> 0 | I59: =IF(YEAR(I$30)=$A59,I$29,0)+I58-I43 -> 0 | ... O59: =IF(YEAR(O$30)=$A59,O$29,0)+O58-O43 -> 0
A60: =FEO!$L$5 -> 2033 | B60: =IF(YEAR(B$30)=$A60,B$29,0)+B59-B44 -> 0 | C60: =IF(YEAR(C$30)=$A60,C$29,0)+C59-C44 -> 0 | D60: =IF(YEAR(D$30)=$A60,D$29,0)+D59-D44 -> 0 | E60: =IF(YEAR(E$30)=$A60,E$29,0)+E59-E44 -> 0 | F60: =IF(YEAR(F$30)=$A60,F$29,0)+F59-F44 -> 0 | G60: =IF(YEAR(G$30)=$A60,G$29,0)+G59-G44 -> 0 | H60: =IF(YEAR(H$30)=$A60,H$29,0)+H59-H44 -> 0 | I60: =IF(YEAR(I$30)=$A60,I$29,0)+I59-I44 -> 0 | ... O60: =IF(YEAR(O$30)=$A60,O$29,0)+O59-O44 -> 0
A61: =FEO!$M$5 -> 2034 | B61: =IF(YEAR(B$30)=$A61,B$29,0)+B60-B45 -> 0 | C61: =IF(YEAR(C$30)=$A61,C$29,0)+C60-C45 -> 0 | D61: =IF(YEAR(D$30)=$A61,D$29,0)+D60-D45 -> 0 | E61: =IF(YEAR(E$30)=$A61,E$29,0)+E60-E45 -> 0 | F61: =IF(YEAR(F$30)=$A61,F$29,0)+F60-F45 -> 0 | G61: =IF(YEAR(G$30)=$A61,G$29,0)+G60-G45 -> 0 | H61: =IF(YEAR(H$30)=$A61,H$29,0)+H60-H45 -> 0 | I61: =IF(YEAR(I$30)=$A61,I$29,0)+I60-I45 -> 0 | ... O61: =IF(YEAR(O$30)=$A61,O$29,0)+O60-O45 -> 0

Sheet F.03
A1: F.03 Inrichtingskosten | L1: Instructie | M1: Vul de oranje cellen in
A2: terug | N2: =FEO!R1 -> Versie | O2: =FEO!R2 -> Publicatie
A4: Locatie
A5: Adres
A6: Type locatie
A7: Afschrijvingstermijn in jaren
A9: Specificatie aanschafprijs
A10: …
A11: …
A12: …
A13: …
A14: …
A15: …
A16: …
... A23: …
A24: Totaal aanschafprijs | B24: =SUM(B10:B23) -> 0 | C24: =SUM(C10:C23) -> 0 | D24: =SUM(D10:D23) -> 0 | E24: =SUM(E10:E23) -> 0 | F24: =SUM(F10:F23) -> 0 | G24: =SUM(G10:G23) -> 0 | H24: =SUM(H10:H23) -> 0 | I24: =SUM(I10:I23) -> 0 | ... O24: =SUM(O10:O23) -> 0
A25: Subsidies
A26: Fiscale regelingen
A27: Overige
A28: Totaal baten | B28: =SUM(B25:B27) -> 0 | C28: =SUM(C25:C27) -> 0 | D28: =SUM(D25:D27) -> 0 | E28: =SUM(E25:E27) -> 0 | F28: =SUM(F25:F27) -> 0 | G28: =SUM(G25:G27) -> 0 | H28: =SUM(H25:H27) -> 0 | I28: =SUM(I25:I27) -> 0 | ... O28: =SUM(O25:O27) -> 0
A29: Totaal aanschafwaarde | B29: =B28+B24 -> 0 | C29: =C28+C24 -> 0 | D29: =D28+D24 -> 0 | E29: =E28+E24 -> 0 | F29: =F28+F24 -> 0 | G29: =G28+G24 -> 0 | H29: =H28+H24 -> 0 | I29: =I28+I24 -> 0 | ... O29: =O28+O24 -> 0
A30: Datum in concessie
A31: Datum uit concessie
A32: Afschrijvingstermijn in dagen totaal | B32: =365.25*B7 -> 0 | C32: =365.25*C7 -> 0 | D32: =365.25*D7 -> 0 | E32: =365.25*E7 -> 0 | F32: =365.25*F7 -> 0 | G32: =365.25*G7 -> 0 | H32: =365.25*H7 -> 0 | I32: =365.25*I7 -> 0 | ... O32: =365.25*O7 -> 0
A33: Afschrijvingstermijn in dagen Concessie | B33: =IF(B30=0,0,B31-B30+1) -> 0 | C33: =IF(C30=0,0,C31-C30+1) -> 0 | D33: =IF(D30=0,0,D31-D30+1) -> 0 | E33: =IF(E30=0,0,E31-E30+1) -> 0 | F33: =IF(F30=0,0,F31-F30+1) -> 0 | G33: =IF(G30=0,0,G31-G30+1) -> 0 | H33: =IF(H30=0,0,H31-H30+1) -> 0 | I33: =IF(I30=0,0,I31-I30+1) -> 0 | ... O33: =IF(O30=0,0,O31-O30+1) -> 0
A34: Afschrijving per dag | B34: =IFERROR((B29)/B32,0) -> 0 | C34: =IFERROR((C29)/C32,0) -> 0 | D34: =IFERROR((D29)/D32,0) -> 0 | E34: =IFERROR((E29)/E32,0) -> 0 | F34: =IFERROR((F29)/F32,0) -> 0 | G34: =IFERROR((G29)/G32,0) -> 0 | H34: =IFERROR((H29)/H32,0) -> 0 | I34: =IFERROR((I29)/I32,0) -> 0 | ... O34: =IFERROR((O29)/O32,0) -> 0
A36: AFSCHRIJVINGEN
A38: Jaren
A39: =FEO!$G$5 -> 2028 | B39: =IF(AND($A39>YEAR(B$30),$A39<YEAR(B$31)),(DATE($A39,12,31)-DATE($A39,1,0))*B$34,IF(AND($A39=YEAR(B$30),$A39=YEAR(B$31)),(B$31-B$30+1)*B$34,IF($A39=YEAR(B$30),(DATE(YEAR(B$30),12,31)-B$30+1)*B$34,IF($A39=YEAR(B$31),(B$31-DATE(YEAR(B$31),1,1)+1)*B$34,0)))) -> 0 | C39: =IF(AND($A39>YEAR(C$30),$A39<YEAR(C$31)),(DATE($A39,12,31)-DATE($A39,1,0))*C$34,IF(AND($A39=YEAR(C$30),$A39=YEAR(C$31)),(C$31-C$30+1)*C$34,IF($A39=YEAR(C$30),(DATE(YEAR(C$30),12,31)-C$30+1)*C$34,IF($A39=YEAR(C$31),(C$31-DATE(YEAR(C$31),1,1)+1)*C$34,0)))) -> 0 | D39: =IF(AND($A39>YEAR(D$30),$A39<YEAR(D$31)),(DATE($A39,12,31)-DATE($A39,1,0))*D$34,IF(AND($A39=YEAR(D$30),$A39=YEAR(D$31)),(D$31-D$30+1)*D$34,IF($A39=YEAR(D$30),(DATE(YEAR(D$30),12,31)-D$30+1)*D$34,IF($A39=YEAR(D$31),(D$31-DATE(YEAR(D$31),1,1)+1)*D$34,0)))) -> 0 | E39: =IF(AND($A39>YEAR(E$30),$A39<YEAR(E$31)),(DATE($A39,12,31)-DATE($A39,1,0))*E$34,IF(AND($A39=YEAR(E$30),$A39=YEAR(E$31)),(E$31-E$30+1)*E$34,IF($A39=YEAR(E$30),(DATE(YEAR(E$30),12,31)-E$30+1)*E$34,IF($A39=YEAR(E$31),(E$31-DATE(YEAR(E$31),1,1)+1)*E$34,0)))) -> 0 | F39: =IF(AND($A39>YEAR(F$30),$A39<YEAR(F$31)),(DATE($A39,12,31)-DATE($A39,1,0))*F$34,IF(AND($A39=YEAR(F$30),$A39=YEAR(F$31)),(F$31-F$30+1)*F$34,IF($A39=YEAR(F$30),(DATE(YEAR(F$30),12,31)-F$30+1)*F$34,IF($A39=YEAR(F$31),(F$31-DATE(YEAR(F$31),1,1)+1)*F$34,0)))) -> 0 | G39: =IF(AND($A39>YEAR(G$30),$A39<YEAR(G$31)),(DATE($A39,12,31)-DATE($A39,1,0))*G$34,IF(AND($A39=YEAR(G$30),$A39=YEAR(G$31)),(G$31-G$30+1)*G$34,IF($A39=YEAR(G$30),(DATE(YEAR(G$30),12,31)-G$30+1)*G$34,IF($A39=YEAR(G$31),(G$31-DATE(YEAR(G$31),1,1)+1)*G$34,0)))) -> 0 | H39: =IF(AND($A39>YEAR(H$30),$A39<YEAR(H$31)),(DATE($A39,12,31)-DATE($A39,1,0))*H$34,IF(AND($A39=YEAR(H$30),$A39=YEAR(H$31)),(H$31-H$30+1)*H$34,IF($A39=YEAR(H$30),(DATE(YEAR(H$30),12,31)-H$30+1)*H$34,IF($A39=YEAR(H$31),(H$31-DATE(YEAR(H$31),1,1)+1)*H$34,0)))) -> 0 | I39: =IF(AND($A39>YEAR(I$30),$A39<YEAR(I$31)),(DATE($A39,12,31)-DATE($A39,1,0))*I$34,IF(AND($A39=YEAR(I$30),$A39=YEAR(I$31)),(I$31-I$30+1)*I$34,IF($A39=YEAR(I$30),(DATE(YEAR(I$30),12,31)-I$30+1)*I$34,IF($A39=YEAR(I$31),(I$31-DATE(YEAR(I$31),1,1)+1)*I$34,0)))) -> 0 | ... O39: =IF(AND($A39>YEAR(O$30),$A39<YEAR(O$31)),(DATE($A39,12,31)-DATE($A39,1,0))*O$34,IF(AND($A39=YEAR(O$30),$A39=YEAR(O$31)),(O$31-O$30+1)*O$34,IF($A39=YEAR(O$30),(DATE(YEAR(O$30),12,31)-O$30+1)*O$34,IF($A39=YEAR(O$31),(O$31-DATE(YEAR(O$31),1,1)+1)*O$34,0)))) -> 0
A40: =FEO!$H$5 -> 2029 | B40: =IF(AND($A40>YEAR(B$30),$A40<YEAR(B$31)),(DATE($A40,12,31)-DATE($A40,1,0))*B$34,IF(AND($A40=YEAR(B$30),$A40=YEAR(B$31)),(B$31-B$30+1)*B$34,IF($A40=YEAR(B$30),(DATE(YEAR(B$30),12,31)-B$30+1)*B$34,IF($A40=YEAR(B$31),(B$31-DATE(YEAR(B$31),1,1)+1)*B$34,0)))) -> 0 | C40: =IF(AND($A40>YEAR(C$30),$A40<YEAR(C$31)),(DATE($A40,12,31)-DATE($A40,1,0))*C$34,IF(AND($A40=YEAR(C$30),$A40=YEAR(C$31)),(C$31-C$30+1)*C$34,IF($A40=YEAR(C$30),(DATE(YEAR(C$30),12,31)-C$30+1)*C$34,IF($A40=YEAR(C$31),(C$31-DATE(YEAR(C$31),1,1)+1)*C$34,0)))) -> 0 | D40: =IF(AND($A40>YEAR(D$30),$A40<YEAR(D$31)),(DATE($A40,12,31)-DATE($A40,1,0))*D$34,IF(AND($A40=YEAR(D$30),$A40=YEAR(D$31)),(D$31-D$30+1)*D$34,IF($A40=YEAR(D$30),(DATE(YEAR(D$30),12,31)-D$30+1)*D$34,IF($A40=YEAR(D$31),(D$31-DATE(YEAR(D$31),1,1)+1)*D$34,0)))) -> 0 | E40: =IF(AND($A40>YEAR(E$30),$A40<YEAR(E$31)),(DATE($A40,12,31)-DATE($A40,1,0))*E$34,IF(AND($A40=YEAR(E$30),$A40=YEAR(E$31)),(E$31-E$30+1)*E$34,IF($A40=YEAR(E$30),(DATE(YEAR(E$30),12,31)-E$30+1)*E$34,IF($A40=YEAR(E$31),(E$31-DATE(YEAR(E$31),1,1)+1)*E$34,0)))) -> 0 | F40: =IF(AND($A40>YEAR(F$30),$A40<YEAR(F$31)),(DATE($A40,12,31)-DATE($A40,1,0))*F$34,IF(AND($A40=YEAR(F$30),$A40=YEAR(F$31)),(F$31-F$30+1)*F$34,IF($A40=YEAR(F$30),(DATE(YEAR(F$30),12,31)-F$30+1)*F$34,IF($A40=YEAR(F$31),(F$31-DATE(YEAR(F$31),1,1)+1)*F$34,0)))) -> 0 | G40: =IF(AND($A40>YEAR(G$30),$A40<YEAR(G$31)),(DATE($A40,12,31)-DATE($A40,1,0))*G$34,IF(AND($A40=YEAR(G$30),$A40=YEAR(G$31)),(G$31-G$30+1)*G$34,IF($A40=YEAR(G$30),(DATE(YEAR(G$30),12,31)-G$30+1)*G$34,IF($A40=YEAR(G$31),(G$31-DATE(YEAR(G$31),1,1)+1)*G$34,0)))) -> 0 | H40: =IF(AND($A40>YEAR(H$30),$A40<YEAR(H$31)),(DATE($A40,12,31)-DATE($A40,1,0))*H$34,IF(AND($A40=YEAR(H$30),$A40=YEAR(H$31)),(H$31-H$30+1)*H$34,IF($A40=YEAR(H$30),(DATE(YEAR(H$30),12,31)-H$30+1)*H$34,IF($A40=YEAR(H$31),(H$31-DATE(YEAR(H$31),1,1)+1)*H$34,0)))) -> 0 | I40: =IF(AND($A40>YEAR(I$30),$A40<YEAR(I$31)),(DATE($A40,12,31)-DATE($A40,1,0))*I$34,IF(AND($A40=YEAR(I$30),$A40=YEAR(I$31)),(I$31-I$30+1)*I$34,IF($A40=YEAR(I$30),(DATE(YEAR(I$30),12,31)-I$30+1)*I$34,IF($A40=YEAR(I$31),(I$31-DATE(YEAR(I$31),1,1)+1)*I$34,0)))) -> 0 | ... O40: =IF(AND($A40>YEAR(O$30),$A40<YEAR(O$31)),(DATE($A40,12,31)-DATE($A40,1,0))*O$34,IF(AND($A40=YEAR(O$30),$A40=YEAR(O$31)),(O$31-O$30+1)*O$34,IF($A40=YEAR(O$30),(DATE(YEAR(O$30),12,31)-O$30+1)*O$34,IF($A40=YEAR(O$31),(O$31-DATE(YEAR(O$31),1,1)+1)*O$34,0)))) -> 0
A41: =FEO!$I$5 -> 2030 | B41: =IF(AND($A41>YEAR(B$30),$A41<YEAR(B$31)),(DATE($A41,12,31)-DATE($A41,1,0))*B$34,IF(AND($A41=YEAR(B$30),$A41=YEAR(B$31)),(B$31-B$30+1)*B$34,IF($A41=YEAR(B$30),(DATE(YEAR(B$30),12,31)-B$30+1)*B$34,IF($A41=YEAR(B$31),(B$31-DATE(YEAR(B$31),1,1)+1)*B$34,0)))) -> 0 | C41: =IF(AND($A41>YEAR(C$30),$A41<YEAR(C$31)),(DATE($A41,12,31)-DATE($A41,1,0))*C$34,IF(AND($A41=YEAR(C$30),$A41=YEAR(C$31)),(C$31-C$30+1)*C$34,IF($A41=YEAR(C$30),(DATE(YEAR(C$30),12,31)-C$30+1)*C$34,IF($A41=YEAR(C$31),(C$31-DATE(YEAR(C$31),1,1)+1)*C$34,0)))) -> 0 | D41: =IF(AND($A41>YEAR(D$30),$A41<YEAR(D$31)),(DATE($A41,12,31)-DATE($A41,1,0))*D$34,IF(AND($A41=YEAR(D$30),$A41=YEAR(D$31)),(D$31-D$30+1)*D$34,IF($A41=YEAR(D$30),(DATE(YEAR(D$30),12,31)-D$30+1)*D$34,IF($A41=YEAR(D$31),(D$31-DATE(YEAR(D$31),1,1)+1)*D$34,0)))) -> 0 | E41: =IF(AND($A41>YEAR(E$30),$A41<YEAR(E$31)),(DATE($A41,12,31)-DATE($A41,1,0))*E$34,IF(AND($A41=YEAR(E$30),$A41=YEAR(E$31)),(E$31-E$30+1)*E$34,IF($A41=YEAR(E$30),(DATE(YEAR(E$30),12,31)-E$30+1)*E$34,IF($A41=YEAR(E$31),(E$31-DATE(YEAR(E$31),1,1)+1)*E$34,0)))) -> 0 | F41: =IF(AND($A41>YEAR(F$30),$A41<YEAR(F$31)),(DATE($A41,12,31)-DATE($A41,1,0))*F$34,IF(AND($A41=YEAR(F$30),$A41=YEAR(F$31)),(F$31-F$30+1)*F$34,IF($A41=YEAR(F$30),(DATE(YEAR(F$30),12,31)-F$30+1)*F$34,IF($A41=YEAR(F$31),(F$31-DATE(YEAR(F$31),1,1)+1)*F$34,0)))) -> 0 | G41: =IF(AND($A41>YEAR(G$30),$A41<YEAR(G$31)),(DATE($A41,12,31)-DATE($A41,1,0))*G$34,IF(AND($A41=YEAR(G$30),$A41=YEAR(G$31)),(G$31-G$30+1)*G$34,IF($A41=YEAR(G$30),(DATE(YEAR(G$30),12,31)-G$30+1)*G$34,IF($A41=YEAR(G$31),(G$31-DATE(YEAR(G$31),1,1)+1)*G$34,0)))) -> 0 | H41: =IF(AND($A41>YEAR(H$30),$A41<YEAR(H$31)),(DATE($A41,12,31)-DATE($A41,1,0))*H$34,IF(AND($A41=YEAR(H$30),$A41=YEAR(H$31)),(H$31-H$30+1)*H$34,IF($A41=YEAR(H$30),(DATE(YEAR(H$30),12,31)-H$30+1)*H$34,IF($A41=YEAR(H$31),(H$31-DATE(YEAR(H$31),1,1)+1)*H$34,0)))) -> 0 | I41: =IF(AND($A41>YEAR(I$30),$A41<YEAR(I$31)),(DATE($A41,12,31)-DATE($A41,1,0))*I$34,IF(AND($A41=YEAR(I$30),$A41=YEAR(I$31)),(I$31-I$30+1)*I$34,IF($A41=YEAR(I$30),(DATE(YEAR(I$30),12,31)-I$30+1)*I$34,IF($A41=YEAR(I$31),(I$31-DATE(YEAR(I$31),1,1)+1)*I$34,0)))) -> 0 | ... O41: =IF(AND($A41>YEAR(O$30),$A41<YEAR(O$31)),(DATE($A41,12,31)-DATE($A41,1,0))*O$34,IF(AND($A41=YEAR(O$30),$A41=YEAR(O$31)),(O$31-O$30+1)*O$34,IF($A41=YEAR(O$30),(DATE(YEAR(O$30),12,31)-O$30+1)*O$34,IF($A41=YEAR(O$31),(O$31-DATE(YEAR(O$31),1,1)+1)*O$34,0)))) -> 0
A42: =FEO!$J$5 -> 2031 | B42: =IF(AND($A42>YEAR(B$30),$A42<YEAR(B$31)),(DATE($A42,12,31)-DATE($A42,1,0))*B$34,IF(AND($A42=YEAR(B$30),$A42=YEAR(B$31)),(B$31-B$30+1)*B$34,IF($A42=YEAR(B$30),(DATE(YEAR(B$30),12,31)-B$30+1)*B$34,IF($A42=YEAR(B$31),(B$31-DATE(YEAR(B$31),1,1)+1)*B$34,0)))) -> 0 | C42: =IF(AND($A42>YEAR(C$30),$A42<YEAR(C$31)),(DATE($A42,12,31)-DATE($A42,1,0))*C$34,IF(AND($A42=YEAR(C$30),$A42=YEAR(C$31)),(C$31-C$30+1)*C$34,IF($A42=YEAR(C$30),(DATE(YEAR(C$30),12,31)-C$30+1)*C$34,IF($A42=YEAR(C$31),(C$31-DATE(YEAR(C$31),1,1)+1)*C$34,0)))) -> 0 | D42: =IF(AND($A42>YEAR(D$30),$A42<YEAR(D$31)),(DATE($A42,12,31)-DATE($A42,1,0))*D$34,IF(AND($A42=YEAR(D$30),$A42=YEAR(D$31)),(D$31-D$30+1)*D$34,IF($A42=YEAR(D$30),(DATE(YEAR(D$30),12,31)-D$30+1)*D$34,IF($A42=YEAR(D$31),(D$31-DATE(YEAR(D$31),1,1)+1)*D$34,0)))) -> 0 | E42: =IF(AND($A42>YEAR(E$30),$A42<YEAR(E$31)),(DATE($A42,12,31)-DATE($A42,1,0))*E$34,IF(AND($A42=YEAR(E$30),$A42=YEAR(E$31)),(E$31-E$30+1)*E$34,IF($A42=YEAR(E$30),(DATE(YEAR(E$30),12,31)-E$30+1)*E$34,IF($A42=YEAR(E$31),(E$31-DATE(YEAR(E$31),1,1)+1)*E$34,0)))) -> 0 | F42: =IF(AND($A42>YEAR(F$30),$A42<YEAR(F$31)),(DATE($A42,12,31)-DATE($A42,1,0))*F$34,IF(AND($A42=YEAR(F$30),$A42=YEAR(F$31)),(F$31-F$30+1)*F$34,IF($A42=YEAR(F$30),(DATE(YEAR(F$30),12,31)-F$30+1)*F$34,IF($A42=YEAR(F$31),(F$31-DATE(YEAR(F$31),1,1)+1)*F$34,0)))) -> 0 | G42: =IF(AND($A42>YEAR(G$30),$A42<YEAR(G$31)),(DATE($A42,12,31)-DATE($A42,1,0))*G$34,IF(AND($A42=YEAR(G$30),$A42=YEAR(G$31)),(G$31-G$30+1)*G$34,IF($A42=YEAR(G$30),(DATE(YEAR(G$30),12,31)-G$30+1)*G$34,IF($A42=YEAR(G$31),(G$31-DATE(YEAR(G$31),1,1)+1)*G$34,0)))) -> 0 | H42: =IF(AND($A42>YEAR(H$30),$A42<YEAR(H$31)),(DATE($A42,12,31)-DATE($A42,1,0))*H$34,IF(AND($A42=YEAR(H$30),$A42=YEAR(H$31)),(H$31-H$30+1)*H$34,IF($A42=YEAR(H$30),(DATE(YEAR(H$30),12,31)-H$30+1)*H$34,IF($A42=YEAR(H$31),(H$31-DATE(YEAR(H$31),1,1)+1)*H$34,0)))) -> 0 | I42: =IF(AND($A42>YEAR(I$30),$A42<YEAR(I$31)),(DATE($A42,12,31)-DATE($A42,1,0))*I$34,IF(AND($A42=YEAR(I$30),$A42=YEAR(I$31)),(I$31-I$30+1)*I$34,IF($A42=YEAR(I$30),(DATE(YEAR(I$30),12,31)-I$30+1)*I$34,IF($A42=YEAR(I$31),(I$31-DATE(YEAR(I$31),1,1)+1)*I$34,0)))) -> 0 | ... O42: =IF(AND($A42>YEAR(O$30),$A42<YEAR(O$31)),(DATE($A42,12,31)-DATE($A42,1,0))*O$34,IF(AND($A42=YEAR(O$30),$A42=YEAR(O$31)),(O$31-O$30+1)*O$34,IF($A42=YEAR(O$30),(DATE(YEAR(O$30),12,31)-O$30+1)*O$34,IF($A42=YEAR(O$31),(O$31-DATE(YEAR(O$31),1,1)+1)*O$34,0)))) -> 0
A43: =FEO!$K$5 -> 2032 | B43: =IF(AND($A43>YEAR(B$30),$A43<YEAR(B$31)),(DATE($A43,12,31)-DATE($A43,1,0))*B$34,IF(AND($A43=YEAR(B$30),$A43=YEAR(B$31)),(B$31-B$30+1)*B$34,IF($A43=YEAR(B$30),(DATE(YEAR(B$30),12,31)-B$30+1)*B$34,IF($A43=YEAR(B$31),(B$31-DATE(YEAR(B$31),1,1)+1)*B$34,0)))) -> 0 | C43: =IF(AND($A43>YEAR(C$30),$A43<YEAR(C$31)),(DATE($A43,12,31)-DATE($A43,1,0))*C$34,IF(AND($A43=YEAR(C$30),$A43=YEAR(C$31)),(C$31-C$30+1)*C$34,IF($A43=YEAR(C$30),(DATE(YEAR(C$30),12,31)-C$30+1)*C$34,IF($A43=YEAR(C$31),(C$31-DATE(YEAR(C$31),1,1)+1)*C$34,0)))) -> 0 | D43: =IF(AND($A43>YEAR(D$30),$A43<YEAR(D$31)),(DATE($A43,12,31)-DATE($A43,1,0))*D$34,IF(AND($A43=YEAR(D$30),$A43=YEAR(D$31)),(D$31-D$30+1)*D$34,IF($A43=YEAR(D$30),(DATE(YEAR(D$30),12,31)-D$30+1)*D$34,IF($A43=YEAR(D$31),(D$31-DATE(YEAR(D$31),1,1)+1)*D$34,0)))) -> 0 | E43: =IF(AND($A43>YEAR(E$30),$A43<YEAR(E$31)),(DATE($A43,12,31)-DATE($A43,1,0))*E$34,IF(AND($A43=YEAR(E$30),$A43=YEAR(E$31)),(E$31-E$30+1)*E$34,IF($A43=YEAR(E$30),(DATE(YEAR(E$30),12,31)-E$30+1)*E$34,IF($A43=YEAR(E$31),(E$31-DATE(YEAR(E$31),1,1)+1)*E$34,0)))) -> 0 | F43: =IF(AND($A43>YEAR(F$30),$A43<YEAR(F$31)),(DATE($A43,12,31)-DATE($A43,1,0))*F$34,IF(AND($A43=YEAR(F$30),$A43=YEAR(F$31)),(F$31-F$30+1)*F$34,IF($A43=YEAR(F$30),(DATE(YEAR(F$30),12,31)-F$30+1)*F$34,IF($A43=YEAR(F$31),(F$31-DATE(YEAR(F$31),1,1)+1)*F$34,0)))) -> 0 | G43: =IF(AND($A43>YEAR(G$30),$A43<YEAR(G$31)),(DATE($A43,12,31)-DATE($A43,1,0))*G$34,IF(AND($A43=YEAR(G$30),$A43=YEAR(G$31)),(G$31-G$30+1)*G$34,IF($A43=YEAR(G$30),(DATE(YEAR(G$30),12,31)-G$30+1)*G$34,IF($A43=YEAR(G$31),(G$31-DATE(YEAR(G$31),1,1)+1)*G$34,0)))) -> 0 | H43: =IF(AND($A43>YEAR(H$30),$A43<YEAR(H$31)),(DATE($A43,12,31)-DATE($A43,1,0))*H$34,IF(AND($A43=YEAR(H$30),$A43=YEAR(H$31)),(H$31-H$30+1)*H$34,IF($A43=YEAR(H$30),(DATE(YEAR(H$30),12,31)-H$30+1)*H$34,IF($A43=YEAR(H$31),(H$31-DATE(YEAR(H$31),1,1)+1)*H$34,0)))) -> 0 | I43: =IF(AND($A43>YEAR(I$30),$A43<YEAR(I$31)),(DATE($A43,12,31)-DATE($A43,1,0))*I$34,IF(AND($A43=YEAR(I$30),$A43=YEAR(I$31)),(I$31-I$30+1)*I$34,IF($A43=YEAR(I$30),(DATE(YEAR(I$30),12,31)-I$30+1)*I$34,IF($A43=YEAR(I$31),(I$31-DATE(YEAR(I$31),1,1)+1)*I$34,0)))) -> 0 | ... O43: =IF(AND($A43>YEAR(O$30),$A43<YEAR(O$31)),(DATE($A43,12,31)-DATE($A43,1,0))*O$34,IF(AND($A43=YEAR(O$30),$A43=YEAR(O$31)),(O$31-O$30+1)*O$34,IF($A43=YEAR(O$30),(DATE(YEAR(O$30),12,31)-O$30+1)*O$34,IF($A43=YEAR(O$31),(O$31-DATE(YEAR(O$31),1,1)+1)*O$34,0)))) -> 0
A44: =FEO!$L$5 -> 2033 | B44: =IF(AND($A44>YEAR(B$30),$A44<YEAR(B$31)),(DATE($A44,12,31)-DATE($A44,1,0))*B$34,IF(AND($A44=YEAR(B$30),$A44=YEAR(B$31)),(B$31-B$30+1)*B$34,IF($A44=YEAR(B$30),(DATE(YEAR(B$30),12,31)-B$30+1)*B$34,IF($A44=YEAR(B$31),(B$31-DATE(YEAR(B$31),1,1)+1)*B$34,0)))) -> 0 | C44: =IF(AND($A44>YEAR(C$30),$A44<YEAR(C$31)),(DATE($A44,12,31)-DATE($A44,1,0))*C$34,IF(AND($A44=YEAR(C$30),$A44=YEAR(C$31)),(C$31-C$30+1)*C$34,IF($A44=YEAR(C$30),(DATE(YEAR(C$30),12,31)-C$30+1)*C$34,IF($A44=YEAR(C$31),(C$31-DATE(YEAR(C$31),1,1)+1)*C$34,0)))) -> 0 | D44: =IF(AND($A44>YEAR(D$30),$A44<YEAR(D$31)),(DATE($A44,12,31)-DATE($A44,1,0))*D$34,IF(AND($A44=YEAR(D$30),$A44=YEAR(D$31)),(D$31-D$30+1)*D$34,IF($A44=YEAR(D$30),(DATE(YEAR(D$30),12,31)-D$30+1)*D$34,IF($A44=YEAR(D$31),(D$31-DATE(YEAR(D$31),1,1)+1)*D$34,0)))) -> 0 | E44: =IF(AND($A44>YEAR(E$30),$A44<YEAR(E$31)),(DATE($A44,12,31)-DATE($A44,1,0))*E$34,IF(AND($A44=YEAR(E$30),$A44=YEAR(E$31)),(E$31-E$30+1)*E$34,IF($A44=YEAR(E$30),(DATE(YEAR(E$30),12,31)-E$30+1)*E$34,IF($A44=YEAR(E$31),(E$31-DATE(YEAR(E$31),1,1)+1)*E$34,0)))) -> 0 | F44: =IF(AND($A44>YEAR(F$30),$A44<YEAR(F$31)),(DATE($A44,12,31)-DATE($A44,1,0))*F$34,IF(AND($A44=YEAR(F$30),$A44=YEAR(F$31)),(F$31-F$30+1)*F$34,IF($A44=YEAR(F$30),(DATE(YEAR(F$30),12,31)-F$30+1)*F$34,IF($A44=YEAR(F$31),(F$31-DATE(YEAR(F$31),1,1)+1)*F$34,0)))) -> 0 | G44: =IF(AND($A44>YEAR(G$30),$A44<YEAR(G$31)),(DATE($A44,12,31)-DATE($A44,1,0))*G$34,IF(AND($A44=YEAR(G$30),$A44=YEAR(G$31)),(G$31-G$30+1)*G$34,IF($A44=YEAR(G$30),(DATE(YEAR(G$30),12,31)-G$30+1)*G$34,IF($A44=YEAR(G$31),(G$31-DATE(YEAR(G$31),1,1)+1)*G$34,0)))) -> 0 | H44: =IF(AND($A44>YEAR(H$30),$A44<YEAR(H$31)),(DATE($A44,12,31)-DATE($A44,1,0))*H$34,IF(AND($A44=YEAR(H$30),$A44=YEAR(H$31)),(H$31-H$30+1)*H$34,IF($A44=YEAR(H$30),(DATE(YEAR(H$30),12,31)-H$30+1)*H$34,IF($A44=YEAR(H$31),(H$31-DATE(YEAR(H$31),1,1)+1)*H$34,0)))) -> 0 | I44: =IF(AND($A44>YEAR(I$30),$A44<YEAR(I$31)),(DATE($A44,12,31)-DATE($A44,1,0))*I$34,IF(AND($A44=YEAR(I$30),$A44=YEAR(I$31)),(I$31-I$30+1)*I$34,IF($A44=YEAR(I$30),(DATE(YEAR(I$30),12,31)-I$30+1)*I$34,IF($A44=YEAR(I$31),(I$31-DATE(YEAR(I$31),1,1)+1)*I$34,0)))) -> 0 | ... O44: =IF(AND($A44>YEAR(O$30),$A44<YEAR(O$31)),(DATE($A44,12,31)-DATE($A44,1,0))*O$34,IF(AND($A44=YEAR(O$30),$A44=YEAR(O$31)),(O$31-O$30+1)*O$34,IF($A44=YEAR(O$30),(DATE(YEAR(O$30),12,31)-O$30+1)*O$34,IF($A44=YEAR(O$31),(O$31-DATE(YEAR(O$31),1,1)+1)*O$34,0)))) -> 0
A45: =FEO!$M$5 -> 2034 | B45: =IF(AND($A45>YEAR(B$30),$A45<YEAR(B$31)),(DATE($A45,12,31)-DATE($A45,1,0))*B$34,IF(AND($A45=YEAR(B$30),$A45=YEAR(B$31)),(B$31-B$30+1)*B$34,IF($A45=YEAR(B$30),(DATE(YEAR(B$30),12,31)-B$30+1)*B$34,IF($A45=YEAR(B$31),(B$31-DATE(YEAR(B$31),1,1)+1)*B$34,0)))) -> 0 | C45: =IF(AND($A45>YEAR(C$30),$A45<YEAR(C$31)),(DATE($A45,12,31)-DATE($A45,1,0))*C$34,IF(AND($A45=YEAR(C$30),$A45=YEAR(C$31)),(C$31-C$30+1)*C$34,IF($A45=YEAR(C$30),(DATE(YEAR(C$30),12,31)-C$30+1)*C$34,IF($A45=YEAR(C$31),(C$31-DATE(YEAR(C$31),1,1)+1)*C$34,0)))) -> 0 | D45: =IF(AND($A45>YEAR(D$30),$A45<YEAR(D$31)),(DATE($A45,12,31)-DATE($A45,1,0))*D$34,IF(AND($A45=YEAR(D$30),$A45=YEAR(D$31)),(D$31-D$30+1)*D$34,IF($A45=YEAR(D$30),(DATE(YEAR(D$30),12,31)-D$30+1)*D$34,IF($A45=YEAR(D$31),(D$31-DATE(YEAR(D$31),1,1)+1)*D$34,0)))) -> 0 | E45: =IF(AND($A45>YEAR(E$30),$A45<YEAR(E$31)),(DATE($A45,12,31)-DATE($A45,1,0))*E$34,IF(AND($A45=YEAR(E$30),$A45=YEAR(E$31)),(E$31-E$30+1)*E$34,IF($A45=YEAR(E$30),(DATE(YEAR(E$30),12,31)-E$30+1)*E$34,IF($A45=YEAR(E$31),(E$31-DATE(YEAR(E$31),1,1)+1)*E$34,0)))) -> 0 | F45: =IF(AND($A45>YEAR(F$30),$A45<YEAR(F$31)),(DATE($A45,12,31)-DATE($A45,1,0))*F$34,IF(AND($A45=YEAR(F$30),$A45=YEAR(F$31)),(F$31-F$30+1)*F$34,IF($A45=YEAR(F$30),(DATE(YEAR(F$30),12,31)-F$30+1)*F$34,IF($A45=YEAR(F$31),(F$31-DATE(YEAR(F$31),1,1)+1)*F$34,0)))) -> 0 | G45: =IF(AND($A45>YEAR(G$30),$A45<YEAR(G$31)),(DATE($A45,12,31)-DATE($A45,1,0))*G$34,IF(AND($A45=YEAR(G$30),$A45=YEAR(G$31)),(G$31-G$30+1)*G$34,IF($A45=YEAR(G$30),(DATE(YEAR(G$30),12,31)-G$30+1)*G$34,IF($A45=YEAR(G$31),(G$31-DATE(YEAR(G$31),1,1)+1)*G$34,0)))) -> 0 | H45: =IF(AND($A45>YEAR(H$30),$A45<YEAR(H$31)),(DATE($A45,12,31)-DATE($A45,1,0))*H$34,IF(AND($A45=YEAR(H$30),$A45=YEAR(H$31)),(H$31-H$30+1)*H$34,IF($A45=YEAR(H$30),(DATE(YEAR(H$30),12,31)-H$30+1)*H$34,IF($A45=YEAR(H$31),(H$31-DATE(YEAR(H$31),1,1)+1)*H$34,0)))) -> 0 | I45: =IF(AND($A45>YEAR(I$30),$A45<YEAR(I$31)),(DATE($A45,12,31)-DATE($A45,1,0))*I$34,IF(AND($A45=YEAR(I$30),$A45=YEAR(I$31)),(I$31-I$30+1)*I$34,IF($A45=YEAR(I$30),(DATE(YEAR(I$30),12,31)-I$30+1)*I$34,IF($A45=YEAR(I$31),(I$31-DATE(YEAR(I$31),1,1)+1)*I$34,0)))) -> 0 | ... O45: =IF(AND($A45>YEAR(O$30),$A45<YEAR(O$31)),(DATE($A45,12,31)-DATE($A45,1,0))*O$34,IF(AND($A45=YEAR(O$30),$A45=YEAR(O$31)),(O$31-O$30+1)*O$34,IF($A45=YEAR(O$30),(DATE(YEAR(O$30),12,31)-O$30+1)*O$34,IF($A45=YEAR(O$31),(O$31-DATE(YEAR(O$31),1,1)+1)*O$34,0)))) -> 0
A47: TOTAAL | B47: =SUM(B39:B45) -> 0 | C47: =SUM(C39:C45) -> 0 | D47: =SUM(D39:D45) -> 0 | E47: =SUM(E39:E45) -> 0 | F47: =SUM(F39:F45) -> 0 | G47: =SUM(G39:G45) -> 0 | H47: =SUM(H39:H45) -> 0 | I47: =SUM(I39:I45) -> 0 | ... O47: =SUM(O39:O45) -> 0
A49: OVERNAMEWAARDE | B49: =B29-B47 -> 0 | C49: =C29-C47 -> 0 | D49: =D29-D47 -> 0 | E49: =E29-E47 -> 0 | F49: =F29-F47 -> 0 | G49: =G29-G47 -> 0 | H49: =H29-H47 -> 0 | I49: =I29-I47 -> 0 | ... O49: =O29-O47 -> 0
A50: Controle | B50: =(B32-B33)*B34-B49 -> 0 | C50: =(C32-C33)*C34-C49 -> 0 | D50: =(D32-D33)*D34-D49 -> 0 | E50: =(E32-E33)*E34-E49 -> 0 | F50: =(F32-F33)*F34-F49 -> 0 | G50: =(G32-G33)*G34-G49 -> 0 | H50: =(H32-H33)*H34-H49 -> 0 | I50: =(I32-I33)*I34-I49 -> 0 | ... O50: =(O32-O33)*O34-O49 -> 0
A52: BOEKWAARDE 31-12
A54: Jaren
A55: =FEO!$G$5 -> 2028 | B55: =IF(YEAR(B$30)=$A55,B$29,0)-B39 -> 0 | C55: =IF(YEAR(C$30)=$A55,C$29,0)-C39 -> 0 | D55: =IF(YEAR(D$30)=$A55,D$29,0)-D39 -> 0 | E55: =IF(YEAR(E$30)=$A55,E$29,0)-E39 -> 0 | F55: =IF(YEAR(F$30)=$A55,F$29,0)-F39 -> 0 | G55: =IF(YEAR(G$30)=$A55,G$29,0)-G39 -> 0 | H55: =IF(YEAR(H$30)=$A55,H$29,0)-H39 -> 0 | I55: =IF(YEAR(I$30)=$A55,I$29,0)-I39 -> 0 | ... O55: =IF(YEAR(O$30)=$A55,O$29,0)-O39 -> 0
A56: =FEO!$H$5 -> 2029 | B56: =IF(YEAR(B$30)=$A56,B$29,0)+B55-B40 -> 0 | C56: =IF(YEAR(C$30)=$A56,C$29,0)+C55-C40 -> 0 | D56: =IF(YEAR(D$30)=$A56,D$29,0)+D55-D40 -> 0 | E56: =IF(YEAR(E$30)=$A56,E$29,0)+E55-E40 -> 0 | F56: =IF(YEAR(F$30)=$A56,F$29,0)+F55-F40 -> 0 | G56: =IF(YEAR(G$30)=$A56,G$29,0)+G55-G40 -> 0 | H56: =IF(YEAR(H$30)=$A56,H$29,0)+H55-H40 -> 0 | I56: =IF(YEAR(I$30)=$A56,I$29,0)+I55-I40 -> 0 | ... O56: =IF(YEAR(O$30)=$A56,O$29,0)+O55-O40 -> 0
A57: =FEO!$I$5 -> 2030 | B57: =IF(YEAR(B$30)=$A57,B$29,0)+B56-B41 -> 0 | C57: =IF(YEAR(C$30)=$A57,C$29,0)+C56-C41 -> 0 | D57: =IF(YEAR(D$30)=$A57,D$29,0)+D56-D41 -> 0 | E57: =IF(YEAR(E$30)=$A57,E$29,0)+E56-E41 -> 0 | F57: =IF(YEAR(F$30)=$A57,F$29,0)+F56-F41 -> 0 | G57: =IF(YEAR(G$30)=$A57,G$29,0)+G56-G41 -> 0 | H57: =IF(YEAR(H$30)=$A57,H$29,0)+H56-H41 -> 0 | I57: =IF(YEAR(I$30)=$A57,I$29,0)+I56-I41 -> 0 | ... O57: =IF(YEAR(O$30)=$A57,O$29,0)+O56-O41 -> 0
A58: =FEO!$J$5 -> 2031 | B58: =IF(YEAR(B$30)=$A58,B$29,0)+B57-B42 -> 0 | C58: =IF(YEAR(C$30)=$A58,C$29,0)+C57-C42 -> 0 | D58: =IF(YEAR(D$30)=$A58,D$29,0)+D57-D42 -> 0 | E58: =IF(YEAR(E$30)=$A58,E$29,0)+E57-E42 -> 0 | F58: =IF(YEAR(F$30)=$A58,F$29,0)+F57-F42 -> 0 | G58: =IF(YEAR(G$30)=$A58,G$29,0)+G57-G42 -> 0 | H58: =IF(YEAR(H$30)=$A58,H$29,0)+H57-H42 -> 0 | I58: =IF(YEAR(I$30)=$A58,I$29,0)+I57-I42 -> 0 | ... O58: =IF(YEAR(O$30)=$A58,O$29,0)+O57-O42 -> 0
A59: =FEO!$K$5 -> 2032 | B59: =IF(YEAR(B$30)=$A59,B$29,0)+B58-B43 -> 0 | C59: =IF(YEAR(C$30)=$A59,C$29,0)+C58-C43 -> 0 | D59: =IF(YEAR(D$30)=$A59,D$29,0)+D58-D43 -> 0 | E59: =IF(YEAR(E$30)=$A59,E$29,0)+E58-E43 -> 0 | F59: =IF(YEAR(F$30)=$A59,F$29,0)+F58-F43 -> 0 | G59: =IF(YEAR(G$30)=$A59,G$29,0)+G58-G43 -> 0 | H59: =IF(YEAR(H$30)=$A59,H$29,0)+H58-H43 -> 0 | I59: =IF(YEAR(I$30)=$A59,I$29,0)+I58-I43 -> 0 | ... O59: =IF(YEAR(O$30)=$A59,O$29,0)+O58-O43 -> 0
A60: =FEO!$L$5 -> 2033 | B60: =IF(YEAR(B$30)=$A60,B$29,0)+B59-B44 -> 0 | C60: =IF(YEAR(C$30)=$A60,C$29,0)+C59-C44 -> 0 | D60: =IF(YEAR(D$30)=$A60,D$29,0)+D59-D44 -> 0 | E60: =IF(YEAR(E$30)=$A60,E$29,0)+E59-E44 -> 0 | F60: =IF(YEAR(F$30)=$A60,F$29,0)+F59-F44 -> 0 | G60: =IF(YEAR(G$30)=$A60,G$29,0)+G59-G44 -> 0 | H60: =IF(YEAR(H$30)=$A60,H$29,0)+H59-H44 -> 0 | I60: =IF(YEAR(I$30)=$A60,I$29,0)+I59-I44 -> 0 | ... O60: =IF(YEAR(O$30)=$A60,O$29,0)+O59-O44 -> 0
A61: =FEO!$M$5 -> 2034 | B61: =IF(YEAR(B$30)=$A61,B$29,0)+B60-B45 -> 0 | C61: =IF(YEAR(C$30)=$A61,C$29,0)+C60-C45 -> 0 | D61: =IF(YEAR(D$30)=$A61,D$29,0)+D60-D45 -> 0 | E61: =IF(YEAR(E$30)=$A61,E$29,0)+E60-E45 -> 0 | F61: =IF(YEAR(F$30)=$A61,F$29,0)+F60-F45 -> 0 | G61: =IF(YEAR(G$30)=$A61,G$29,0)+G60-G45 -> 0 | H61: =IF(YEAR(H$30)=$A61,H$29,0)+H60-H45 -> 0 | I61: =IF(YEAR(I$30)=$A61,I$29,0)+I60-I45 -> 0 | ... O61: =IF(YEAR(O$30)=$A61,O$29,0)+O60-O45 -> 0

Sheet F.10
A1: F.10 Implementatie- en overdrachtskosten | L1: Instructie | M1: Vul de oranje cellen in
A2: terug | N2: =FEO!R1 -> Versie | O2: =FEO!R2 -> Publicatie
A4: Omschrijving | F4: …
A5: Type kosten
A6: ...
A7: …
A8: …
A9: …
A10: …
A11: …
A12: …
A13: …
A14: …
A28: Restwaarde
A29: Totaal investeringen | B29: =(SUM(B6:B27)-B28) -> 0 | C29: =(SUM(C6:C27)-C28) -> 0 | D29: =(SUM(D6:D27)-D28) -> 0 | E29: =(SUM(E6:E27)-E28) -> 0 | F29: =(SUM(F6:F27)-F28) -> 0 | G29: =(SUM(G6:G27)-G28) -> 0 | H29: =(SUM(H6:H27)-H28) -> 0 | I29: =(SUM(I6:I27)-I28) -> 0 | ... O29: =(SUM(O6:O27)-O28) -> 0
A30: Datum start afschrijving
A31: Datum laatste termijn afschrijving
A32: Afschrijvingstermijn in dagen (dagen in concessie) | B32: =IF(B30=0,0,B31-B30+1) -> 0 | C32: =IF(C30=0,0,C31-C30+1) -> 0 | D32: =IF(D30=0,0,D31-D30+1) -> 0 | E32: =IF(E30=0,0,E31-E30+1) -> 0 | F32: =IF(F30=0,0,F31-F30+1) -> 0 | G32: =IF(G30=0,0,G31-G30+1) -> 0 | H32: =IF(H30=0,0,H31-H30+1) -> 0 | I32: =IF(I30=0,0,I31-I30+1) -> 0 | ... O32: =IF(O30=0,0,O31-O30+1) -> 0
A33: Afschrijving per dag | B33: =IFERROR(B29/B32,0) -> 0 | C33: =IFERROR(C29/C32,0) -> 0 | D33: =IFERROR(D29/D32,0) -> 0 | E33: =IFERROR(E29/E32,0) -> 0 | F33: =IFERROR(F29/F32,0) -> 0 | G33: =IFERROR(G29/G32,0) -> 0 | H33: =IFERROR(H29/H32,0) -> 0 | I33: =IFERROR(I29/I32,0) -> 0 | ... O33: =IFERROR(O29/O32,0) -> 0
A35: AFSCHRIJVINGEN
A37: Jaren
A38: =FEO!$G$5 -> 2028 | B38: =IF(AND($A38>YEAR(B$30),$A38<YEAR(B$31)),(DATE($A38,12,31)-DATE($A38,1,0))*B$33,IF(AND($A38=YEAR(B$30),$A38=YEAR(B$31)),(B$31-B$30+1)*B$33,IF($A38=YEAR(B$30),(DATE(YEAR(B$30),12,31)-B$30)*B$33,IF($A38=YEAR(B$31),(B$31-DATE(YEAR(B$31),1,0)+1)*B$33,0)))) -> 0 | C38: =IF(AND($A38>YEAR(C$30),$A38<YEAR(C$31)),(DATE($A38,12,31)-DATE($A38,1,0))*C$33,IF(AND($A38=YEAR(C$30),$A38=YEAR(C$31)),(C$31-C$30+1)*C$33,IF($A38=YEAR(C$30),(DATE(YEAR(C$30),12,31)-C$30)*C$33,IF($A38=YEAR(C$31),(C$31-DATE(YEAR(C$31),1,0)+1)*C$33,0)))) -> 0 | D38: =IF(AND($A38>YEAR(D$30),$A38<YEAR(D$31)),(DATE($A38,12,31)-DATE($A38,1,0))*D$33,IF(AND($A38=YEAR(D$30),$A38=YEAR(D$31)),(D$31-D$30+1)*D$33,IF($A38=YEAR(D$30),(DATE(YEAR(D$30),12,31)-D$30)*D$33,IF($A38=YEAR(D$31),(D$31-DATE(YEAR(D$31),1,0)+1)*D$33,0)))) -> 0 | E38: =IF(AND($A38>YEAR(E$30),$A38<YEAR(E$31)),(DATE($A38,12,31)-DATE($A38,1,0))*E$33,IF(AND($A38=YEAR(E$30),$A38=YEAR(E$31)),(E$31-E$30+1)*E$33,IF($A38=YEAR(E$30),(DATE(YEAR(E$30),12,31)-E$30)*E$33,IF($A38=YEAR(E$31),(E$31-DATE(YEAR(E$31),1,0)+1)*E$33,0)))) -> 0 | F38: =IF(AND($A38>YEAR(F$30),$A38<YEAR(F$31)),(DATE($A38,12,31)-DATE($A38,1,0))*F$33,IF(AND($A38=YEAR(F$30),$A38=YEAR(F$31)),(F$31-F$30+1)*F$33,IF($A38=YEAR(F$30),(DATE(YEAR(F$30),12,31)-F$30)*F$33,IF($A38=YEAR(F$31),(F$31-DATE(YEAR(F$31),1,0)+1)*F$33,0)))) -> 0 | G38: =IF(AND($A38>YEAR(G$30),$A38<YEAR(G$31)),(DATE($A38,12,31)-DATE($A38,1,0))*G$33,IF(AND($A38=YEAR(G$30),$A38=YEAR(G$31)),(G$31-G$30+1)*G$33,IF($A38=YEAR(G$30),(DATE(YEAR(G$30),12,31)-G$30)*G$33,IF($A38=YEAR(G$31),(G$31-DATE(YEAR(G$31),1,0)+1)*G$33,0)))) -> 0 | H38: =IF(AND($A38>YEAR(H$30),$A38<YEAR(H$31)),(DATE($A38,12,31)-DATE($A38,1,0))*H$33,IF(AND($A38=YEAR(H$30),$A38=YEAR(H$31)),(H$31-H$30+1)*H$33,IF($A38=YEAR(H$30),(DATE(YEAR(H$30),12,31)-H$30)*H$33,IF($A38=YEAR(H$31),(H$31-DATE(YEAR(H$31),1,0)+1)*H$33,0)))) -> 0 | I38: =IF(AND($A38>YEAR(I$30),$A38<YEAR(I$31)),(DATE($A38,12,31)-DATE($A38,1,0))*I$33,IF(AND($A38=YEAR(I$30),$A38=YEAR(I$31)),(I$31-I$30+1)*I$33,IF($A38=YEAR(I$30),(DATE(YEAR(I$30),12,31)-I$30)*I$33,IF($A38=YEAR(I$31),(I$31-DATE(YEAR(I$31),1,0)+1)*I$33,0)))) -> 0 | ... O38: =IF(AND($A38>YEAR(O$30),$A38<YEAR(O$31)),(DATE($A38,12,31)-DATE($A38,1,0))*O$33,IF(AND($A38=YEAR(O$30),$A38=YEAR(O$31)),(O$31-O$30+1)*O$33,IF($A38=YEAR(O$30),(DATE(YEAR(O$30),12,31)-O$30)*O$33,IF($A38=YEAR(O$31),(O$31-DATE(YEAR(O$31),1,0)+1)*O$33,0)))) -> 0
A39: =FEO!$H$5 -> 2029 | B39: =IF(AND($A39>YEAR(B$30),$A39<YEAR(B$31)),(DATE($A39,12,31)-DATE($A39,1,0))*B$33,IF(AND($A39=YEAR(B$30),$A39=YEAR(B$31)),(B$31-B$30+1)*B$33,IF($A39=YEAR(B$30),(DATE(YEAR(B$30),12,31)-B$30)*B$33,IF($A39=YEAR(B$31),(B$31-DATE(YEAR(B$31),1,0)+1)*B$33,0)))) -> 0 | C39: =IF(AND($A39>YEAR(C$30),$A39<YEAR(C$31)),(DATE($A39,12,31)-DATE($A39,1,0))*C$33,IF(AND($A39=YEAR(C$30),$A39=YEAR(C$31)),(C$31-C$30+1)*C$33,IF($A39=YEAR(C$30),(DATE(YEAR(C$30),12,31)-C$30)*C$33,IF($A39=YEAR(C$31),(C$31-DATE(YEAR(C$31),1,0)+1)*C$33,0)))) -> 0 | D39: =IF(AND($A39>YEAR(D$30),$A39<YEAR(D$31)),(DATE($A39,12,31)-DATE($A39,1,0))*D$33,IF(AND($A39=YEAR(D$30),$A39=YEAR(D$31)),(D$31-D$30+1)*D$33,IF($A39=YEAR(D$30),(DATE(YEAR(D$30),12,31)-D$30)*D$33,IF($A39=YEAR(D$31),(D$31-DATE(YEAR(D$31),1,0)+1)*D$33,0)))) -> 0 | E39: =IF(AND($A39>YEAR(E$30),$A39<YEAR(E$31)),(DATE($A39,12,31)-DATE($A39,1,0))*E$33,IF(AND($A39=YEAR(E$30),$A39=YEAR(E$31)),(E$31-E$30+1)*E$33,IF($A39=YEAR(E$30),(DATE(YEAR(E$30),12,31)-E$30)*E$33,IF($A39=YEAR(E$31),(E$31-DATE(YEAR(E$31),1,0)+1)*E$33,0)))) -> 0 | F39: =IF(AND($A39>YEAR(F$30),$A39<YEAR(F$31)),(DATE($A39,12,31)-DATE($A39,1,0))*F$33,IF(AND($A39=YEAR(F$30),$A39=YEAR(F$31)),(F$31-F$30+1)*F$33,IF($A39=YEAR(F$30),(DATE(YEAR(F$30),12,31)-F$30)*F$33,IF($A39=YEAR(F$31),(F$31-DATE(YEAR(F$31),1,0)+1)*F$33,0)))) -> 0 | G39: =IF(AND($A39>YEAR(G$30),$A39<YEAR(G$31)),(DATE($A39,12,31)-DATE($A39,1,0))*G$33,IF(AND($A39=YEAR(G$30),$A39=YEAR(G$31)),(G$31-G$30+1)*G$33,IF($A39=YEAR(G$30),(DATE(YEAR(G$30),12,31)-G$30)*G$33,IF($A39=YEAR(G$31),(G$31-DATE(YEAR(G$31),1,0)+1)*G$33,0)))) -> 0 | H39: =IF(AND($A39>YEAR(H$30),$A39<YEAR(H$31)),(DATE($A39,12,31)-DATE($A39,1,0))*H$33,IF(AND($A39=YEAR(H$30),$A39=YEAR(H$31)),(H$31-H$30+1)*H$33,IF($A39=YEAR(H$30),(DATE(YEAR(H$30),12,31)-H$30)*H$33,IF($A39=YEAR(H$31),(H$31-DATE(YEAR(H$31),1,0)+1)*H$33,0)))) -> 0 | I39: =IF(AND($A39>YEAR(I$30),$A39<YEAR(I$31)),(DATE($A39,12,31)-DATE($A39,1,0))*I$33,IF(AND($A39=YEAR(I$30),$A39=YEAR(I$31)),(I$31-I$30+1)*I$33,IF($A39=YEAR(I$30),(DATE(YEAR(I$30),12,31)-I$30)*I$33,IF($A39=YEAR(I$31),(I$31-DATE(YEAR(I$31),1,0)+1)*I$33,0)))) -> 0 | ... O39: =IF(AND($A39>YEAR(O$30),$A39<YEAR(O$31)),(DATE($A39,12,31)-DATE($A39,1,0))*O$33,IF(AND($A39=YEAR(O$30),$A39=YEAR(O$31)),(O$31-O$30+1)*O$33,IF($A39=YEAR(O$30),(DATE(YEAR(O$30),12,31)-O$30)*O$33,IF($A39=YEAR(O$31),(O$31-DATE(YEAR(O$31),1,0)+1)*O$33,0)))) -> 0
A40: =FEO!$I$5 -> 2030 | B40: =IF(AND($A40>YEAR(B$30),$A40<YEAR(B$31)),(DATE($A40,12,31)-DATE($A40,1,0))*B$33,IF(AND($A40=YEAR(B$30),$A40=YEAR(B$31)),(B$31-B$30+1)*B$33,IF($A40=YEAR(B$30),(DATE(YEAR(B$30),12,31)-B$30)*B$33,IF($A40=YEAR(B$31),(B$31-DATE(YEAR(B$31),1,0)+1)*B$33,0)))) -> 0 | C40: =IF(AND($A40>YEAR(C$30),$A40<YEAR(C$31)),(DATE($A40,12,31)-DATE($A40,1,0))*C$33,IF(AND($A40=YEAR(C$30),$A40=YEAR(C$31)),(C$31-C$30+1)*C$33,IF($A40=YEAR(C$30),(DATE(YEAR(C$30),12,31)-C$30)*C$33,IF($A40=YEAR(C$31),(C$31-DATE(YEAR(C$31),1,0)+1)*C$33,0)))) -> 0 | D40: =IF(AND($A40>YEAR(D$30),$A40<YEAR(D$31)),(DATE($A40,12,31)-DATE($A40,1,0))*D$33,IF(AND($A40=YEAR(D$30),$A40=YEAR(D$31)),(D$31-D$30+1)*D$33,IF($A40=YEAR(D$30),(DATE(YEAR(D$30),12,31)-D$30)*D$33,IF($A40=YEAR(D$31),(D$31-DATE(YEAR(D$31),1,0)+1)*D$33,0)))) -> 0 | E40: =IF(AND($A40>YEAR(E$30),$A40<YEAR(E$31)),(DATE($A40,12,31)-DATE($A40,1,0))*E$33,IF(AND($A40=YEAR(E$30),$A40=YEAR(E$31)),(E$31-E$30+1)*E$33,IF($A40=YEAR(E$30),(DATE(YEAR(E$30),12,31)-E$30)*E$33,IF($A40=YEAR(E$31),(E$31-DATE(YEAR(E$31),1,0)+1)*E$33,0)))) -> 0 | F40: =IF(AND($A40>YEAR(F$30),$A40<YEAR(F$31)),(DATE($A40,12,31)-DATE($A40,1,0))*F$33,IF(AND($A40=YEAR(F$30),$A40=YEAR(F$31)),(F$31-F$30+1)*F$33,IF($A40=YEAR(F$30),(DATE(YEAR(F$30),12,31)-F$30)*F$33,IF($A40=YEAR(F$31),(F$31-DATE(YEAR(F$31),1,0)+1)*F$33,0)))) -> 0 | G40: =IF(AND($A40>YEAR(G$30),$A40<YEAR(G$31)),(DATE($A40,12,31)-DATE($A40,1,0))*G$33,IF(AND($A40=YEAR(G$30),$A40=YEAR(G$31)),(G$31-G$30+1)*G$33,IF($A40=YEAR(G$30),(DATE(YEAR(G$30),12,31)-G$30)*G$33,IF($A40=YEAR(G$31),(G$31-DATE(YEAR(G$31),1,0)+1)*G$33,0)))) -> 0 | H40: =IF(AND($A40>YEAR(H$30),$A40<YEAR(H$31)),(DATE($A40,12,31)-DATE($A40,1,0))*H$33,IF(AND($A40=YEAR(H$30),$A40=YEAR(H$31)),(H$31-H$30+1)*H$33,IF($A40=YEAR(H$30),(DATE(YEAR(H$30),12,31)-H$30)*H$33,IF($A40=YEAR(H$31),(H$31-DATE(YEAR(H$31),1,0)+1)*H$33,0)))) -> 0 | I40: =IF(AND($A40>YEAR(I$30),$A40<YEAR(I$31)),(DATE($A40,12,31)-DATE($A40,1,0))*I$33,IF(AND($A40=YEAR(I$30),$A40=YEAR(I$31)),(I$31-I$30+1)*I$33,IF($A40=YEAR(I$30),(DATE(YEAR(I$30),12,31)-I$30)*I$33,IF($A40=YEAR(I$31),(I$31-DATE(YEAR(I$31),1,0)+1)*I$33,0)))) -> 0 | ... O40: =IF(AND($A40>YEAR(O$30),$A40<YEAR(O$31)),(DATE($A40,12,31)-DATE($A40,1,0))*O$33,IF(AND($A40=YEAR(O$30),$A40=YEAR(O$31)),(O$31-O$30+1)*O$33,IF($A40=YEAR(O$30),(DATE(YEAR(O$30),12,31)-O$30)*O$33,IF($A40=YEAR(O$31),(O$31-DATE(YEAR(O$31),1,0)+1)*O$33,0)))) -> 0
A41: =FEO!$J$5 -> 2031 | B41: =IF(AND($A41>YEAR(B$30),$A41<YEAR(B$31)),(DATE($A41,12,31)-DATE($A41,1,0))*B$33,IF(AND($A41=YEAR(B$30),$A41=YEAR(B$31)),(B$31-B$30+1)*B$33,IF($A41=YEAR(B$30),(DATE(YEAR(B$30),12,31)-B$30)*B$33,IF($A41=YEAR(B$31),(B$31-DATE(YEAR(B$31),1,0)+1)*B$33,0)))) -> 0 | C41: =IF(AND($A41>YEAR(C$30),$A41<YEAR(C$31)),(DATE($A41,12,31)-DATE($A41,1,0))*C$33,IF(AND($A41=YEAR(C$30),$A41=YEAR(C$31)),(C$31-C$30+1)*C$33,IF($A41=YEAR(C$30),(DATE(YEAR(C$30),12,31)-C$30)*C$33,IF($A41=YEAR(C$31),(C$31-DATE(YEAR(C$31),1,0)+1)*C$33,0)))) -> 0 | D41: =IF(AND($A41>YEAR(D$30),$A41<YEAR(D$31)),(DATE($A41,12,31)-DATE($A41,1,0))*D$33,IF(AND($A41=YEAR(D$30),$A41=YEAR(D$31)),(D$31-D$30+1)*D$33,IF($A41=YEAR(D$30),(DATE(YEAR(D$30),12,31)-D$30)*D$33,IF($A41=YEAR(D$31),(D$31-DATE(YEAR(D$31),1,0)+1)*D$33,0)))) -> 0 | E41: =IF(AND($A41>YEAR(E$30),$A41<YEAR(E$31)),(DATE($A41,12,31)-DATE($A41,1,0))*E$33,IF(AND($A41=YEAR(E$30),$A41=YEAR(E$31)),(E$31-E$30+1)*E$33,IF($A41=YEAR(E$30),(DATE(YEAR(E$30),12,31)-E$30)*E$33,IF($A41=YEAR(E$31),(E$31-DATE(YEAR(E$31),1,0)+1)*E$33,0)))) -> 0 | F41: =IF(AND($A41>YEAR(F$30),$A41<YEAR(F$31)),(DATE($A41,12,31)-DATE($A41,1,0))*F$33,IF(AND($A41=YEAR(F$30),$A41=YEAR(F$31)),(F$31-F$30+1)*F$33,IF($A41=YEAR(F$30),(DATE(YEAR(F$30),12,31)-F$30)*F$33,IF($A41=YEAR(F$31),(F$31-DATE(YEAR(F$31),1,0)+1)*F$33,0)))) -> 0 | G41: =IF(AND($A41>YEAR(G$30),$A41<YEAR(G$31)),(DATE($A41,12,31)-DATE($A41,1,0))*G$33,IF(AND($A41=YEAR(G$30),$A41=YEAR(G$31)),(G$31-G$30+1)*G$33,IF($A41=YEAR(G$30),(DATE(YEAR(G$30),12,31)-G$30)*G$33,IF($A41=YEAR(G$31),(G$31-DATE(YEAR(G$31),1,0)+1)*G$33,0)))) -> 0 | H41: =IF(AND($A41>YEAR(H$30),$A41<YEAR(H$31)),(DATE($A41,12,31)-DATE($A41,1,0))*H$33,IF(AND($A41=YEAR(H$30),$A41=YEAR(H$31)),(H$31-H$30+1)*H$33,IF($A41=YEAR(H$30),(DATE(YEAR(H$30),12,31)-H$30)*H$33,IF($A41=YEAR(H$31),(H$31-DATE(YEAR(H$31),1,0)+1)*H$33,0)))) -> 0 | I41: =IF(AND($A41>YEAR(I$30),$A41<YEAR(I$31)),(DATE($A41,12,31)-DATE($A41,1,0))*I$33,IF(AND($A41=YEAR(I$30),$A41=YEAR(I$31)),(I$31-I$30+1)*I$33,IF($A41=YEAR(I$30),(DATE(YEAR(I$30),12,31)-I$30)*I$33,IF($A41=YEAR(I$31),(I$31-DATE(YEAR(I$31),1,0)+1)*I$33,0)))) -> 0 | ... O41: =IF(AND($A41>YEAR(O$30),$A41<YEAR(O$31)),(DATE($A41,12,31)-DATE($A41,1,0))*O$33,IF(AND($A41=YEAR(O$30),$A41=YEAR(O$31)),(O$31-O$30+1)*O$33,IF($A41=YEAR(O$30),(DATE(YEAR(O$30),12,31)-O$30)*O$33,IF($A41=YEAR(O$31),(O$31-DATE(YEAR(O$31),1,0)+1)*O$33,0)))) -> 0
A42: =FEO!$K$5 -> 2032 | B42: =IF(AND($A42>YEAR(B$30),$A42<YEAR(B$31)),(DATE($A42,12,31)-DATE($A42,1,0))*B$33,IF(AND($A42=YEAR(B$30),$A42=YEAR(B$31)),(B$31-B$30+1)*B$33,IF($A42=YEAR(B$30),(DATE(YEAR(B$30),12,31)-B$30)*B$33,IF($A42=YEAR(B$31),(B$31-DATE(YEAR(B$31),1,0)+1)*B$33,0)))) -> 0 | C42: =IF(AND($A42>YEAR(C$30),$A42<YEAR(C$31)),(DATE($A42,12,31)-DATE($A42,1,0))*C$33,IF(AND($A42=YEAR(C$30),$A42=YEAR(C$31)),(C$31-C$30+1)*C$33,IF($A42=YEAR(C$30),(DATE(YEAR(C$30),12,31)-C$30)*C$33,IF($A42=YEAR(C$31),(C$31-DATE(YEAR(C$31),1,0)+1)*C$33,0)))) -> 0 | D42: =IF(AND($A42>YEAR(D$30),$A42<YEAR(D$31)),(DATE($A42,12,31)-DATE($A42,1,0))*D$33,IF(AND($A42=YEAR(D$30),$A42=YEAR(D$31)),(D$31-D$30+1)*D$33,IF($A42=YEAR(D$30),(DATE(YEAR(D$30),12,31)-D$30)*D$33,IF($A42=YEAR(D$31),(D$31-DATE(YEAR(D$31),1,0)+1)*D$33,0)))) -> 0 | E42: =IF(AND($A42>YEAR(E$30),$A42<YEAR(E$31)),(DATE($A42,12,31)-DATE($A42,1,0))*E$33,IF(AND($A42=YEAR(E$30),$A42=YEAR(E$31)),(E$31-E$30+1)*E$33,IF($A42=YEAR(E$30),(DATE(YEAR(E$30),12,31)-E$30)*E$33,IF($A42=YEAR(E$31),(E$31-DATE(YEAR(E$31),1,0)+1)*E$33,0)))) -> 0 | F42: =IF(AND($A42>YEAR(F$30),$A42<YEAR(F$31)),(DATE($A42,12,31)-DATE($A42,1,0))*F$33,IF(AND($A42=YEAR(F$30),$A42=YEAR(F$31)),(F$31-F$30+1)*F$33,IF($A42=YEAR(F$30),(DATE(YEAR(F$30),12,31)-F$30)*F$33,IF($A42=YEAR(F$31),(F$31-DATE(YEAR(F$31),1,0)+1)*F$33,0)))) -> 0 | G42: =IF(AND($A42>YEAR(G$30),$A42<YEAR(G$31)),(DATE($A42,12,31)-DATE($A42,1,0))*G$33,IF(AND($A42=YEAR(G$30),$A42=YEAR(G$31)),(G$31-G$30+1)*G$33,IF($A42=YEAR(G$30),(DATE(YEAR(G$30),12,31)-G$30)*G$33,IF($A42=YEAR(G$31),(G$31-DATE(YEAR(G$31),1,0)+1)*G$33,0)))) -> 0 | H42: =IF(AND($A42>YEAR(H$30),$A42<YEAR(H$31)),(DATE($A42,12,31)-DATE($A42,1,0))*H$33,IF(AND($A42=YEAR(H$30),$A42=YEAR(H$31)),(H$31-H$30+1)*H$33,IF($A42=YEAR(H$30),(DATE(YEAR(H$30),12,31)-H$30)*H$33,IF($A42=YEAR(H$31),(H$31-DATE(YEAR(H$31),1,0)+1)*H$33,0)))) -> 0 | I42: =IF(AND($A42>YEAR(I$30),$A42<YEAR(I$31)),(DATE($A42,12,31)-DATE($A42,1,0))*I$33,IF(AND($A42=YEAR(I$30),$A42=YEAR(I$31)),(I$31-I$30+1)*I$33,IF($A42=YEAR(I$30),(DATE(YEAR(I$30),12,31)-I$30)*I$33,IF($A42=YEAR(I$31),(I$31-DATE(YEAR(I$31),1,0)+1)*I$33,0)))) -> 0 | ... O42: =IF(AND($A42>YEAR(O$30),$A42<YEAR(O$31)),(DATE($A42,12,31)-DATE($A42,1,0))*O$33,IF(AND($A42=YEAR(O$30),$A42=YEAR(O$31)),(O$31-O$30+1)*O$33,IF($A42=YEAR(O$30),(DATE(YEAR(O$30),12,31)-O$30)*O$33,IF($A42=YEAR(O$31),(O$31-DATE(YEAR(O$31),1,0)+1)*O$33,0)))) -> 0
A43: =FEO!$L$5 -> 2033 | B43: =IF(AND($A43>YEAR(B$30),$A43<YEAR(B$31)),(DATE($A43,12,31)-DATE($A43,1,0))*B$33,IF(AND($A43=YEAR(B$30),$A43=YEAR(B$31)),(B$31-B$30+1)*B$33,IF($A43=YEAR(B$30),(DATE(YEAR(B$30),12,31)-B$30)*B$33,IF($A43=YEAR(B$31),(B$31-DATE(YEAR(B$31),1,0)+1)*B$33,0)))) -> 0 | C43: =IF(AND($A43>YEAR(C$30),$A43<YEAR(C$31)),(DATE($A43,12,31)-DATE($A43,1,0))*C$33,IF(AND($A43=YEAR(C$30),$A43=YEAR(C$31)),(C$31-C$30+1)*C$33,IF($A43=YEAR(C$30),(DATE(YEAR(C$30),12,31)-C$30)*C$33,IF($A43=YEAR(C$31),(C$31-DATE(YEAR(C$31),1,0)+1)*C$33,0)))) -> 0 | D43: =IF(AND($A43>YEAR(D$30),$A43<YEAR(D$31)),(DATE($A43,12,31)-DATE($A43,1,0))*D$33,IF(AND($A43=YEAR(D$30),$A43=YEAR(D$31)),(D$31-D$30+1)*D$33,IF($A43=YEAR(D$30),(DATE(YEAR(D$30),12,31)-D$30)*D$33,IF($A43=YEAR(D$31),(D$31-DATE(YEAR(D$31),1,0)+1)*D$33,0)))) -> 0 | E43: =IF(AND($A43>YEAR(E$30),$A43<YEAR(E$31)),(DATE($A43,12,31)-DATE($A43,1,0))*E$33,IF(AND($A43=YEAR(E$30),$A43=YEAR(E$31)),(E$31-E$30+1)*E$33,IF($A43=YEAR(E$30),(DATE(YEAR(E$30),12,31)-E$30)*E$33,IF($A43=YEAR(E$31),(E$31-DATE(YEAR(E$31),1,0)+1)*E$33,0)))) -> 0 | F43: =IF(AND($A43>YEAR(F$30),$A43<YEAR(F$31)),(DATE($A43,12,31)-DATE($A43,1,0))*F$33,IF(AND($A43=YEAR(F$30),$A43=YEAR(F$31)),(F$31-F$30+1)*F$33,IF($A43=YEAR(F$30),(DATE(YEAR(F$30),12,31)-F$30)*F$33,IF($A43=YEAR(F$31),(F$31-DATE(YEAR(F$31),1,0)+1)*F$33,0)))) -> 0 | G43: =IF(AND($A43>YEAR(G$30),$A43<YEAR(G$31)),(DATE($A43,12,31)-DATE($A43,1,0))*G$33,IF(AND($A43=YEAR(G$30),$A43=YEAR(G$31)),(G$31-G$30+1)*G$33,IF($A43=YEAR(G$30),(DATE(YEAR(G$30),12,31)-G$30)*G$33,IF($A43=YEAR(G$31),(G$31-DATE(YEAR(G$31),1,0)+1)*G$33,0)))) -> 0 | H43: =IF(AND($A43>YEAR(H$30),$A43<YEAR(H$31)),(DATE($A43,12,31)-DATE($A43,1,0))*H$33,IF(AND($A43=YEAR(H$30),$A43=YEAR(H$31)),(H$31-H$30+1)*H$33,IF($A43=YEAR(H$30),(DATE(YEAR(H$30),12,31)-H$30)*H$33,IF($A43=YEAR(H$31),(H$31-DATE(YEAR(H$31),1,0)+1)*H$33,0)))) -> 0 | I43: =IF(AND($A43>YEAR(I$30),$A43<YEAR(I$31)),(DATE($A43,12,31)-DATE($A43,1,0))*I$33,IF(AND($A43=YEAR(I$30),$A43=YEAR(I$31)),(I$31-I$30+1)*I$33,IF($A43=YEAR(I$30),(DATE(YEAR(I$30),12,31)-I$30)*I$33,IF($A43=YEAR(I$31),(I$31-DATE(YEAR(I$31),1,0)+1)*I$33,0)))) -> 0 | ... O43: =IF(AND($A43>YEAR(O$30),$A43<YEAR(O$31)),(DATE($A43,12,31)-DATE($A43,1,0))*O$33,IF(AND($A43=YEAR(O$30),$A43=YEAR(O$31)),(O$31-O$30+1)*O$33,IF($A43=YEAR(O$30),(DATE(YEAR(O$30),12,31)-O$30)*O$33,IF($A43=YEAR(O$31),(O$31-DATE(YEAR(O$31),1,0)+1)*O$33,0)))) -> 0
A44: =FEO!$M$5 -> 2034 | B44: =IF(AND($A44>YEAR(B$30),$A44<YEAR(B$31)),(DATE($A44,12,31)-DATE($A44,1,0))*B$33,IF(AND($A44=YEAR(B$30),$A44=YEAR(B$31)),(B$31-B$30+1)*B$33,IF($A44=YEAR(B$30),(DATE(YEAR(B$30),12,31)-B$30)*B$33,IF($A44=YEAR(B$31),(B$31-DATE(YEAR(B$31),1,0)+1)*B$33,0)))) -> 0 | C44: =IF(AND($A44>YEAR(C$30),$A44<YEAR(C$31)),(DATE($A44,12,31)-DATE($A44,1,0))*C$33,IF(AND($A44=YEAR(C$30),$A44=YEAR(C$31)),(C$31-C$30+1)*C$33,IF($A44=YEAR(C$30),(DATE(YEAR(C$30),12,31)-C$30)*C$33,IF($A44=YEAR(C$31),(C$31-DATE(YEAR(C$31),1,0)+1)*C$33,0)))) -> 0 | D44: =IF(AND($A44>YEAR(D$30),$A44<YEAR(D$31)),(DATE($A44,12,31)-DATE($A44,1,0))*D$33,IF(AND($A44=YEAR(D$30),$A44=YEAR(D$31)),(D$31-D$30+1)*D$33,IF($A44=YEAR(D$30),(DATE(YEAR(D$30),12,31)-D$30)*D$33,IF($A44=YEAR(D$31),(D$31-DATE(YEAR(D$31),1,0)+1)*D$33,0)))) -> 0 | E44: =IF(AND($A44>YEAR(E$30),$A44<YEAR(E$31)),(DATE($A44,12,31)-DATE($A44,1,0))*E$33,IF(AND($A44=YEAR(E$30),$A44=YEAR(E$31)),(E$31-E$30+1)*E$33,IF($A44=YEAR(E$30),(DATE(YEAR(E$30),12,31)-E$30)*E$33,IF($A44=YEAR(E$31),(E$31-DATE(YEAR(E$31),1,0)+1)*E$33,0)))) -> 0 | F44: =IF(AND($A44>YEAR(F$30),$A44<YEAR(F$31)),(DATE($A44,12,31)-DATE($A44,1,0))*F$33,IF(AND($A44=YEAR(F$30),$A44=YEAR(F$31)),(F$31-F$30+1)*F$33,IF($A44=YEAR(F$30),(DATE(YEAR(F$30),12,31)-F$30)*F$33,IF($A44=YEAR(F$31),(F$31-DATE(YEAR(F$31),1,0)+1)*F$33,0)))) -> 0 | G44: =IF(AND($A44>YEAR(G$30),$A44<YEAR(G$31)),(DATE($A44,12,31)-DATE($A44,1,0))*G$33,IF(AND($A44=YEAR(G$30),$A44=YEAR(G$31)),(G$31-G$30+1)*G$33,IF($A44=YEAR(G$30),(DATE(YEAR(G$30),12,31)-G$30)*G$33,IF($A44=YEAR(G$31),(G$31-DATE(YEAR(G$31),1,0)+1)*G$33,0)))) -> 0 | H44: =IF(AND($A44>YEAR(H$30),$A44<YEAR(H$31)),(DATE($A44,12,31)-DATE($A44,1,0))*H$33,IF(AND($A44=YEAR(H$30),$A44=YEAR(H$31)),(H$31-H$30+1)*H$33,IF($A44=YEAR(H$30),(DATE(YEAR(H$30),12,31)-H$30)*H$33,IF($A44=YEAR(H$31),(H$31-DATE(YEAR(H$31),1,0)+1)*H$33,0)))) -> 0 | I44: =IF(AND($A44>YEAR(I$30),$A44<YEAR(I$31)),(DATE($A44,12,31)-DATE($A44,1,0))*I$33,IF(AND($A44=YEAR(I$30),$A44=YEAR(I$31)),(I$31-I$30+1)*I$33,IF($A44=YEAR(I$30),(DATE(YEAR(I$30),12,31)-I$30)*I$33,IF($A44=YEAR(I$31),(I$31-DATE(YEAR(I$31),1,0)+1)*I$33,0)))) -> 0 | ... O44: =IF(AND($A44>YEAR(O$30),$A44<YEAR(O$31)),(DATE($A44,12,31)-DATE($A44,1,0))*O$33,IF(AND($A44=YEAR(O$30),$A44=YEAR(O$31)),(O$31-O$30+1)*O$33,IF($A44=YEAR(O$30),(DATE(YEAR(O$30),12,31)-O$30)*O$33,IF($A44=YEAR(O$31),(O$31-DATE(YEAR(O$31),1,0)+1)*O$33,0)))) -> 0
A46: TOTAAL | B46: =SUM(B38:B44) -> 0 | C46: =SUM(C38:C44) -> 0 | D46: =SUM(D38:D44) -> 0 | E46: =SUM(E38:E44) -> 0 | F46: =SUM(F38:F44) -> 0 | G46: =SUM(G38:G44) -> 0 | H46: =SUM(H38:H44) -> 0 | I46: =SUM(I38:I44) -> 0 | ... O46: =SUM(O38:O44) -> 0
A48: BOEKWAARDE 31-12
A50: Jaren
A51: =FEO!$G$5 -> 2028 | B51: =IF(YEAR(B$30)=$A51,B$29,0)-B38 -> 0 | C51: =IF(YEAR(C$30)=$A51,C$29,0)-C38 -> 0 | D51: =IF(YEAR(D$30)=$A51,D$29,0)-D38 -> 0 | E51: =IF(YEAR(E$30)=$A51,E$29,0)-E38 -> 0 | F51: =IF(YEAR(F$30)=$A51,F$29,0)-F38 -> 0 | G51: =IF(YEAR(G$30)=$A51,G$29,0)-G38 -> 0 | H51: =IF(YEAR(H$30)=$A51,H$29,0)-H38 -> 0 | I51: =IF(YEAR(I$30)=$A51,I$29,0)-I38 -> 0 | ... O51: =IF(YEAR(O$30)=$A51,O$29,0)-O38 -> 0
A52: =FEO!$H$5 -> 2029 | B52: =IF(YEAR(B$30)=$A52,B$29,0)+B51-B39 -> 0 | C52: =IF(YEAR(C$30)=$A52,C$29,0)+C51-C39 -> 0 | D52: =IF(YEAR(D$30)=$A52,D$29,0)+D51-D39 -> 0 | E52: =IF(YEAR(E$30)=$A52,E$29,0)+E51-E39 -> 0 | F52: =IF(YEAR(F$30)=$A52,F$29,0)+F51-F39 -> 0 | G52: =IF(YEAR(G$30)=$A52,G$29,0)+G51-G39 -> 0 | H52: =IF(YEAR(H$30)=$A52,H$29,0)+H51-H39 -> 0 | I52: =IF(YEAR(I$30)=$A52,I$29,0)+I51-I39 -> 0 | ... O52: =IF(YEAR(O$30)=$A52,O$29,0)+O51-O39 -> 0
A53: =FEO!$I$5 -> 2030 | B53: =IF(YEAR(B$30)=$A53,B$29,0)+B52-B40 -> 0 | C53: =IF(YEAR(C$30)=$A53,C$29,0)+C52-C40 -> 0 | D53: =IF(YEAR(D$30)=$A53,D$29,0)+D52-D40 -> 0 | E53: =IF(YEAR(E$30)=$A53,E$29,0)+E52-E40 -> 0 | F53: =IF(YEAR(F$30)=$A53,F$29,0)+F52-F40 -> 0 | G53: =IF(YEAR(G$30)=$A53,G$29,0)+G52-G40 -> 0 | H53: =IF(YEAR(H$30)=$A53,H$29,0)+H52-H40 -> 0 | I53: =IF(YEAR(I$30)=$A53,I$29,0)+I52-I40 -> 0 | ... O53: =IF(YEAR(O$30)=$A53,O$29,0)+O52-O40 -> 0
A54: =FEO!$J$5 -> 2031 | B54: =IF(YEAR(B$30)=$A54,B$29,0)+B53-B41 -> 0 | C54: =IF(YEAR(C$30)=$A54,C$29,0)+C53-C41 -> 0 | D54: =IF(YEAR(D$30)=$A54,D$29,0)+D53-D41 -> 0 | E54: =IF(YEAR(E$30)=$A54,E$29,0)+E53-E41 -> 0 | F54: =IF(YEAR(F$30)=$A54,F$29,0)+F53-F41 -> 0 | G54: =IF(YEAR(G$30)=$A54,G$29,0)+G53-G41 -> 0 | H54: =IF(YEAR(H$30)=$A54,H$29,0)+H53-H41 -> 0 | I54: =IF(YEAR(I$30)=$A54,I$29,0)+I53-I41 -> 0 | ... O54: =IF(YEAR(O$30)=$A54,O$29,0)+O53-O41 -> 0
A55: =FEO!$K$5 -> 2032 | B55: =IF(YEAR(B$30)=$A55,B$29,0)+B54-B42 -> 0 | C55: =IF(YEAR(C$30)=$A55,C$29,0)+C54-C42 -> 0 | D55: =IF(YEAR(D$30)=$A55,D$29,0)+D54-D42 -> 0 | E55: =IF(YEAR(E$30)=$A55,E$29,0)+E54-E42 -> 0 | F55: =IF(YEAR(F$30)=$A55,F$29,0)+F54-F42 -> 0 | G55: =IF(YEAR(G$30)=$A55,G$29,0)+G54-G42 -> 0 | H55: =IF(YEAR(H$30)=$A55,H$29,0)+H54-H42 -> 0 | I55: =IF(YEAR(I$30)=$A55,I$29,0)+I54-I42 -> 0 | ... O55: =IF(YEAR(O$30)=$A55,O$29,0)+O54-O42 -> 0
A56: =FEO!$L$5 -> 2033 | B56: =IF(YEAR(B$30)=$A56,B$29,0)+B55-B43 -> 0 | C56: =IF(YEAR(C$30)=$A56,C$29,0)+C55-C43 -> 0 | D56: =IF(YEAR(D$30)=$A56,D$29,0)+D55-D43 -> 0 | E56: =IF(YEAR(E$30)=$A56,E$29,0)+E55-E43 -> 0 | F56: =IF(YEAR(F$30)=$A56,F$29,0)+F55-F43 -> 0 | G56: =IF(YEAR(G$30)=$A56,G$29,0)+G55-G43 -> 0 | H56: =IF(YEAR(H$30)=$A56,H$29,0)+H55-H43 -> 0 | I56: =IF(YEAR(I$30)=$A56,I$29,0)+I55-I43 -> 0 | ... O56: =IF(YEAR(O$30)=$A56,O$29,0)+O55-O43 -> 0
A57: =FEO!$M$5 -> 2034 | B57: =IF(YEAR(B$30)=$A57,B$29,0)+B56-B44 -> 0 | C57: =IF(YEAR(C$30)=$A57,C$29,0)+C56-C44 -> 0 | D57: =IF(YEAR(D$30)=$A57,D$29,0)+D56-D44 -> 0 | E57: =IF(YEAR(E$30)=$A57,E$29,0)+E56-E44 -> 0 | F57: =IF(YEAR(F$30)=$A57,F$29,0)+F56-F44 -> 0 | G57: =IF(YEAR(G$30)=$A57,G$29,0)+G56-G44 -> 0 | H57: =IF(YEAR(H$30)=$A57,H$29,0)+H56-H44 -> 0 | I57: =IF(YEAR(I$30)=$A57,I$29,0)+I56-I44 -> 0 | ... O57: =IF(YEAR(O$30)=$A57,O$29,0)+O56-O44 -> 0

Sheet I.01 DRK ZHO
A1: L.01 Opgave dienstregelingskilometers RS21 Zutphen-Oldenzaal | T1: Instructie | U1: Vul de oranje cellen in
A2: terug | V2: =FEO!R1 -> Versie | W2: =Legenda!D11 -> Publicatie
A4: Station | P4: Halteringsklasse | Q4: Afstanden | S4: Fig 2.1 PVE
A5: Zutphen | O5: =$Q$12-Q5 -> 55.8 | P5: Plus | Q5: 0 | S5: 0
A6: Lochem | O6: =$Q$12-Q6 -> 38.9 | P6: Halte | Q6: 16.9 | S6: 16.9
A7: Goor | O7: =$Q$12-Q7 -> 25.8 | P7: Basis | Q7: 30 | S7: 30.1
A8: Delden | O8: =$Q$12-Q8 -> 16.2 | P8: Halte | Q8: 39.6 | S8: 39.7
A9: Hengelo Gezondheidspark | O9: =$Q$12-Q9 -> 12.6 | P9: Halte | Q9: 43.2 | S9: 43.4
A10: Hengelo | O10: =$Q$12-Q10 -> 10.8 | P10: Plus | Q10: 45 | S10: 45.6
A11: Hengelo Oost | O11: =$Q$12-Q11 -> 9 | P11: Halte | Q11: 46.8 | S11: =S10+(17.2-15.4) -> 47.4
A12: Oldenzaal | O12: 0 | P12: Basis | Q12: 55.8 | S12: =S11+(26.2-17.2) -> 56.4
R13: Verschil | S13: =S12/Q12-1 -> 0.010752688
A14: Ritten per dag treindienst Zutphen-Oldenzaal
A16: Rit | E16: Trein | P16: Aantal | Q16: Traject | R16: Dienst- | S16: Trein | T16: Aantal halteringen per rit en stationsklasse | Y16: Aantal | AA16: Aantal
A17: Concessiedeel | E17: Ma / Vr | J17: Za | M17: Zo | P17: ritten | Q17: Lengte | R17: regelings- | S17: halterings- | Y17: haltering per | AA17: bakkilometers
A18: Van | B18: Naar | C18: Bakken | D18: Zitplaatsen | E18: Standaard | J18: Standaard | M18: Standaard | P18: per jaar | R18: kilometers | S18: code | T18: Halte | U18: Basis | V18: Plus | W18: Mega | X18: Kathedraal | Y18: jaar | AA18: jaar
A19: Zutphen | B19: Oldenzaal | C19: 2 | D19: 132 | E19: 1 | J19: 1 | M19: 1 | P19: =E19*$E$54+F19*$F$54+G19*$G$54+H19*$H$54+I19*$I$54+J19*$J$54+K19*$K$54+L19*$L$54+M19*$M$54+N19*$N$54+O19*$O$54 -> 365 | Q19: {=IF(SUMIF($A$5:$A$12,B19,$Q$5:$Q$12)>SUMIF($A$5:$A$12,A19,$Q$5:$Q$12),SUMIF($A$5:$A$12,B19,$Q$5:$Q$12)-SUMIF($A$5:$A$12,A19,$Q$5:$Q$12),SUMIF($A$5:$A$12,A19,$Q$5:$Q$12)-SUMIF($A$5:$A$12,B19,$Q$5:$Q$12))} -> 55.8 | R19: =P19*Q19 -> 20367 | S19: A | T19: 4 | U19: 1 | Y19: =P19*SUM(T19:X19) -> 1825 | AA19: =R19*C19 -> 40734
P20: =E20*$E$54+F20*$F$54+G20*$G$54+H20*$H$54+I20*$I$54+J20*$J$54+K20*$K$54+L20*$L$54+M20*$M$54+N20*$N$54+O20*$O$54 -> 0 | Q20: {=IF(SUMIF($A$5:$A$12,B20,$Q$5:$Q$12)>SUMIF($A$5:$A$12,A20,$Q$5:$Q$12),SUMIF($A$5:$A$12,B20,$Q$5:$Q$12)-SUMIF($A$5:$A$12,A20,$Q$5:$Q$12),SUMIF($A$5:$A$12,A20,$Q$5:$Q$12)-SUMIF($A$5:$A$12,B20,$Q$5:$Q$12))} -> 0 | R20: =P20*Q20 -> 0 | Y20: =P20*SUM(T20:X20) -> 0 | AA20: =R20*C20 -> 0
P21: =E21*$E$54+F21*$F$54+G21*$G$54+H21*$H$54+I21*$I$54+J21*$J$54+K21*$K$54+L21*$L$54+M21*$M$54+N21*$N$54+O21*$O$54 -> 0 | Q21: {=IF(SUMIF($A$5:$A$12,B21,$Q$5:$Q$12)>SUMIF($A$5:$A$12,A21,$Q$5:$Q$12),SUMIF($A$5:$A$12,B21,$Q$5:$Q$12)-SUMIF($A$5:$A$12,A21,$Q$5:$Q$12),SUMIF($A$5:$A$12,A21,$Q$5:$Q$12)-SUMIF($A$5:$A$12,B21,$Q$5:$Q$12))} -> 0 | R21: =P21*Q21 -> 0 | Y21: =P21*SUM(T21:X21) -> 0 | AA21: =R21*C21 -> 0
P22: =E22*$E$54+F22*$F$54+G22*$G$54+H22*$H$54+I22*$I$54+J22*$J$54+K22*$K$54+L22*$L$54+M22*$M$54+N22*$N$54+O22*$O$54 -> 0 | Q22: {=IF(SUMIF($A$5:$A$12,B22,$Q$5:$Q$12)>SUMIF($A$5:$A$12,A22,$Q$5:$Q$12),SUMIF($A$5:$A$12,B22,$Q$5:$Q$12)-SUMIF($A$5:$A$12,A22,$Q$5:$Q$12),SUMIF($A$5:$A$12,A22,$Q$5:$Q$12)-SUMIF($A$5:$A$12,B22,$Q$5:$Q$12))} -> 0 | R22: =P22*Q22 -> 0 | Y22: =P22*SUM(T22:X22) -> 0 | AA22: =R22*C22 -> 0
P23: =E23*$E$54+F23*$F$54+G23*$G$54+H23*$H$54+I23*$I$54+J23*$J$54+K23*$K$54+L23*$L$54+M23*$M$54+N23*$N$54+O23*$O$54 -> 0 | Q23: {=IF(SUMIF($A$5:$A$12,B23,$Q$5:$Q$12)>SUMIF($A$5:$A$12,A23,$Q$5:$Q$12),SUMIF($A$5:$A$12,B23,$Q$5:$Q$12)-SUMIF($A$5:$A$12,A23,$Q$5:$Q$12),SUMIF($A$5:$A$12,A23,$Q$5:$Q$12)-SUMIF($A$5:$A$12,B23,$Q$5:$Q$12))} -> 0 | R23: =P23*Q23 -> 0 | Y23: =P23*SUM(T23:X23) -> 0 | AA23: =R23*C23 -> 0
P24: =E24*$E$54+F24*$F$54+G24*$G$54+H24*$H$54+I24*$I$54+J24*$J$54+K24*$K$54+L24*$L$54+M24*$M$54+N24*$N$54+O24*$O$54 -> 0 | Q24: {=IF(SUMIF($A$5:$A$12,B24,$Q$5:$Q$12)>SUMIF($A$5:$A$12,A24,$Q$5:$Q$12),SUMIF($A$5:$A$12,B24,$Q$5:$Q$12)-SUMIF($A$5:$A$12,A24,$Q$5:$Q$12),SUMIF($A$5:$A$12,A24,$Q$5:$Q$12)-SUMIF($A$5:$A$12,B24,$Q$5:$Q$12))} -> 0 | R24: =P24*Q24 -> 0 | Y24: =P24*SUM(T24:X24) -> 0 | AA24: =R24*C24 -> 0
P25: =E25*$E$54+F25*$F$54+G25*$G$54+H25*$H$54+I25*$I$54+J25*$J$54+K25*$K$54+L25*$L$54+M25*$M$54+N25*$N$54+O25*$O$54 -> 0 | Q25: {=IF(SUMIF($A$5:$A$12,B25,$Q$5:$Q$12)>SUMIF($A$5:$A$12,A25,$Q$5:$Q$12),SUMIF($A$5:$A$12,B25,$Q$5:$Q$12)-SUMIF($A$5:$A$12,A25,$Q$5:$Q$12),SUMIF($A$5:$A$12,A25,$Q$5:$Q$12)-SUMIF($A$5:$A$12,B25,$Q$5:$Q$12))} -> 0 | R25: =P25*Q25 -> 0 | Y25: =P25*SUM(T25:X25) -> 0 | AA25: =R25*C25 -> 0
P26: =E26*$E$54+F26*$F$54+G26*$G$54+H26*$H$54+I26*$I$54+J26*$J$54+K26*$K$54+L26*$L$54+M26*$M$54+N26*$N$54+O26*$O$54 -> 0 | Q26: {=IF(SUMIF($A$5:$A$12,B26,$Q$5:$Q$12)>SUMIF($A$5:$A$12,A26,$Q$5:$Q$12),SUMIF($A$5:$A$12,B26,$Q$5:$Q$12)-SUMIF($A$5:$A$12,A26,$Q$5:$Q$12),SUMIF($A$5:$A$12,A26,$Q$5:$Q$12)-SUMIF($A$5:$A$12,B26,$Q$5:$Q$12))} -> 0 | R26: =P26*Q26 -> 0 | Y26: =P26*SUM(T26:X26) -> 0 | AA26: =R26*C26 -> 0
P27: =E27*$E$54+F27*$F$54+G27*$G$54+H27*$H$54+I27*$I$54+J27*$J$54+K27*$K$54+L27*$L$54+M27*$M$54+N27*$N$54+O27*$O$54 -> 0 | Q27: {=IF(SUMIF($A$5:$A$12,B27,$Q$5:$Q$12)>SUMIF($A$5:$A$12,A27,$Q$5:$Q$12),SUMIF($A$5:$A$12,B27,$Q$5:$Q$12)-SUMIF($A$5:$A$12,A27,$Q$5:$Q$12),SUMIF($A$5:$A$12,A27,$Q$5:$Q$12)-SUMIF($A$5:$A$12,B27,$Q$5:$Q$12))} -> 0 | R27: =P27*Q27 -> 0 | Y27: =P27*SUM(T27:X27) -> 0 | AA27: =R27*C27 -> 0
P28: =E28*$E$54+F28*$F$54+G28*$G$54+H28*$H$54+I28*$I$54+J28*$J$54+K28*$K$54+L28*$L$54+M28*$M$54+N28*$N$54+O28*$O$54 -> 0 | Q28: {=IF(SUMIF($A$5:$A$12,B28,$Q$5:$Q$12)>SUMIF($A$5:$A$12,A28,$Q$5:$Q$12),SUMIF($A$5:$A$12,B28,$Q$5:$Q$12)-SUMIF($A$5:$A$12,A28,$Q$5:$Q$12),SUMIF($A$5:$A$12,A28,$Q$5:$Q$12)-SUMIF($A$5:$A$12,B28,$Q$5:$Q$12))} -> 0 | R28: =P28*Q28 -> 0 | Y28: =P28*SUM(T28:X28) -> 0 | AA28: =R28*C28 -> 0
P29: =E29*$E$54+F29*$F$54+G29*$G$54+H29*$H$54+I29*$I$54+J29*$J$54+K29*$K$54+L29*$L$54+M29*$M$54+N29*$N$54+O29*$O$54 -> 0 | Q29: {=IF(SUMIF($A$5:$A$12,B29,$Q$5:$Q$12)>SUMIF($A$5:$A$12,A29,$Q$5:$Q$12),SUMIF($A$5:$A$12,B29,$Q$5:$Q$12)-SUMIF($A$5:$A$12,A29,$Q$5:$Q$12),SUMIF($A$5:$A$12,A29,$Q$5:$Q$12)-SUMIF($A$5:$A$12,B29,$Q$5:$Q$12))} -> 0 | R29: =P29*Q29 -> 0 | Y29: =P29*SUM(T29:X29) -> 0 | AA29: =R29*C29 -> 0
P30: =E30*$E$54+F30*$F$54+G30*$G$54+H30*$H$54+I30*$I$54+J30*$J$54+K30*$K$54+L30*$L$54+M30*$M$54+N30*$N$54+O30*$O$54 -> 0 | Q30: {=IF(SUMIF($A$5:$A$12,B30,$Q$5:$Q$12)>SUMIF($A$5:$A$12,A30,$Q$5:$Q$12),SUMIF($A$5:$A$12,B30,$Q$5:$Q$12)-SUMIF($A$5:$A$12,A30,$Q$5:$Q$12),SUMIF($A$5:$A$12,A30,$Q$5:$Q$12)-SUMIF($A$5:$A$12,B30,$Q$5:$Q$12))} -> 0 | R30: =P30*Q30 -> 0 | Y30: =P30*SUM(T30:X30) -> 0 | AA30: =R30*C30 -> 0
P31: =E31*$E$54+F31*$F$54+G31*$G$54+H31*$H$54+I31*$I$54+J31*$J$54+K31*$K$54+L31*$L$54+M31*$M$54+N31*$N$54+O31*$O$54 -> 0 | Q31: {=IF(SUMIF($A$5:$A$12,B31,$Q$5:$Q$12)>SUMIF($A$5:$A$12,A31,$Q$5:$Q$12),SUMIF($A$5:$A$12,B31,$Q$5:$Q$12)-SUMIF($A$5:$A$12,A31,$Q$5:$Q$12),SUMIF($A$5:$A$12,A31,$Q$5:$Q$12)-SUMIF($A$5:$A$12,B31,$Q$5:$Q$12))} -> 0 | R31: =P31*Q31 -> 0 | Y31: =P31*SUM(T31:X31) -> 0 | AA31: =R31*C31 -> 0
... P43: =E43*$E$54+F43*$F$54+G43*$G$54+H43*$H$54+I43*$I$54+J43*$J$54+K43*$K$54+L43*$L$54+M43*$M$54+N43*$N$54+O43*$O$54 -> 0 | Q43: {=IF(SUMIF($A$5:$A$12,B43,$Q$5:$Q$12)>SUMIF($A$5:$A$12,A43,$Q$5:$Q$12),SUMIF($A$5:$A$12,B43,$Q$5:$Q$12)-SUMIF($A$5:$A$12,A43,$Q$5:$Q$12),SUMIF($A$5:$A$12,A43,$Q$5:$Q$12)-SUMIF($A$5:$A$12,B43,$Q$5:$Q$12))} -> 0 | R43: =P43*Q43 -> 0 | Y43: =P43*SUM(T43:X43) -> 0 | AA43: =R43*C43 -> 0
A44: Totaal | E44: =SUM(E19:E43) -> 1 | F44: =SUM(F19:F43) -> 0 | G44: =SUM(G19:G43) -> 0 | H44: =SUM(H19:H43) -> 0 | I44: =SUM(I19:I43) -> 0 | J44: =SUM(J19:J43) -> 1 | K44: =SUM(K19:K43) -> 0 | L44: =SUM(L19:L43) -> 0 | ... P44: =SUM(P19:P43) -> 365
A45: Totaal jaar | E45: =SUMPRODUCT($Q$19:$Q$43,E19:E43)*E54 -> 14229 | F45: =SUMPRODUCT($Q$19:$Q$43,F19:F43)*F54 -> 0 | G45: =SUMPRODUCT($Q$19:$Q$43,G19:G43)*G54 -> 0 | H45: =SUMPRODUCT($Q$19:$Q$43,H19:H43)*H54 -> 0 | I45: =SUMPRODUCT($Q$19:$Q$43,I19:I43)*I54 -> 0 | J45: =SUMPRODUCT($Q$19:$Q$43,J19:J43)*J54 -> 2901.6 | K45: =SUMPRODUCT($Q$19:$Q$43,K19:K43)*K54 -> 0 | L45: =SUMPRODUCT($Q$19:$Q$43,L19:L43)*L54 -> 0 | ... O45: =SUMPRODUCT($Q$19:$Q$43,O19:O43)*O54 -> 0 | R45: =SUM(R19:R43) -> 20367 | T45: =SUMPRODUCT($P$19:$P$43,T19:T43) -> 1460 | U45: =SUMPRODUCT($P$19:$P$43,U19:U43) -> 365 | V45: =SUMPRODUCT($P$19:$P$43,V19:V43) -> 0 | W45: =SUMPRODUCT($P$19:$P$43,W19:W43) -> 0 | X45: =SUMPRODUCT($P$19:$P$43,X19:X43) -> 0 | Y45: =SUM(Y19:Y43) -> 1825 | AA45: =SUM(AA19:AA43) -> 40734
S46: A | T46: {=SUMPRODUCT(($S$19:$S$43=$S46)*$P$19:$P$43,T$19:T$43)} -> 1460 | U46: {=SUMPRODUCT(($S$19:$S$43=$S46)*$P$19:$P$43,U$19:U$43)} -> 365 | V46: {=SUMPRODUCT(($S$19:$S$43=$S46)*$P$19:$P$43,V$19:V$43)} -> 0 | W46: {=SUMPRODUCT(($S$19:$S$43=$S46)*$P$19:$P$43,W$19:W$43)} -> 0 | X46: {=SUMPRODUCT(($S$19:$S$43=$S46)*$P$19:$P$43,X$19:X$43)} -> 0 | Y46: =SUM(T46:X46) -> 1825
S47: B | T47: {=SUMPRODUCT(($S$19:$S$43=$S47)*$P$19:$P$43,T$19:T$43)} -> 0 | U47: {=SUMPRODUCT(($S$19:$S$43=$S47)*$P$19:$P$43,U$19:U$43)} -> 0 | V47: {=SUMPRODUCT(($S$19:$S$43=$S47)*$P$19:$P$43,V$19:V$43)} -> 0 | W47: {=SUMPRODUCT(($S$19:$S$43=$S47)*$P$19:$P$43,W$19:W$43)} -> 0 | X47: {=SUMPRODUCT(($S$19:$S$43=$S47)*$P$19:$P$43,X$19:X$43)} -> 0 | Y47: =SUM(T47:X47) -> 0
S48: C | T48: {=SUMPRODUCT(($S$19:$S$43=$S48)*$P$19:$P$43,T$19:T$43)} -> 0 | U48: {=SUMPRODUCT(($S$19:$S$43=$S48)*$P$19:$P$43,U$19:U$43)} -> 0 | V48: {=SUMPRODUCT(($S$19:$S$43=$S48)*$P$19:$P$43,V$19:V$43)} -> 0 | W48: {=SUMPRODUCT(($S$19:$S$43=$S48)*$P$19:$P$43,W$19:W$43)} -> 0 | X48: {=SUMPRODUCT(($S$19:$S$43=$S48)*$P$19:$P$43,X$19:X$43)} -> 0 | Y48: =SUM(T48:X48) -> 0
A49: Ongewogen DRK treindienst Zutphen-Oldenzaal per Dienstregelingsjaar
S50: Trein | T50: Aantal halteringen per rit en stationsklasse | Y50: Aantal | AA50: Aantal
E51: Trein | P51: Totaal | S51: halterings- | Y51: haltering per | AA51: bakkilometers
A52: Concessiedeel | E52: Ma / Vr | J52: Za | M52: Zo | S52: code | T52: Halte | U52: Basis | V52: Plus | W52: Mega | X52: Kathedraal | Y52: jaar | AA52: jaar
E53: =IF(E$18<>"",E$18,"") -> Standaard | F53: =IF(F$18<>"",F$18,"") | G53: =IF(G$18<>"",G$18,"") | H53: =IF(H$18<>"",H$18,"") | I53: =IF(I$18<>"",I$18,"") | J53: Standaard | K53: =IF(K$18<>"",K$18,"") | L53: =IF(L$18<>"",L$18,"") | M53: =IF(M$18<>"",M$18,"") -> Standaard | N53: =IF(N$18<>"",N$18,"") | O53: =IF(O$18<>"",O$18,"") | S53: A | T53: =T46 -> 1460 | U53: =U46 -> 365 | V53: =V46 -> 0 | W53: =W46 -> 0 | X53: =X46 -> 0 | Y53: =SUM(T53:X53) -> 1825
A54: Dagen per standaard jaar | E54: =255 -> 255 | F54: 205 | J54: =52 -> 52 | M54: =58 -> 58 | S54: B | T54: =T47 -> 0 | U54: =U47 -> 0 | V54: =V47 -> 0 | W54: =W47 -> 0 | X54: =X47 -> 0 | Y54: =SUM(T54:X54) -> 0
A55: DRK per jaar | E55: =SUMPRODUCT(E19:E43,$Q$19:$Q$43)*E$54 -> 14229 | F55: =SUMPRODUCT(F19:F43,$Q$19:$Q$43)*F$54 -> 0 | G55: =SUMPRODUCT(G19:G43,$Q$19:$Q$43)*G$54 -> 0 | H55: =SUMPRODUCT(H19:H43,$Q$19:$Q$43)*H$54 -> 0 | I55: =SUMPRODUCT(I19:I43,$Q$19:$Q$43)*I$54 -> 0 | J55: =SUMPRODUCT(J19:J43,$Q$19:$Q$43)*J$54 -> 2901.6 | K55: =SUMPRODUCT(K19:K43,$Q$19:$Q$43)*K$54 -> 0 | L55: =SUMPRODUCT(L19:L43,$Q$19:$Q$43)*L$54 -> 0 | ... O55: =SUMPRODUCT(O19:O43,$Q$19:$Q$43)*O$54 -> 0 | P55: =SUM(E55:O55) -> 20367 | S55: C | T55: =T48 -> 0 | U55: =U48 -> 0 | V55: =V48 -> 0 | W55: =W48 -> 0 | X55: =X48 -> 0 | Y55: =SUM(T55:X55) -> 0
A56: DRK per dag | E56: =SUMPRODUCT(E19:E43,$Q$19:$Q$43) -> 55.8 | F56: =SUMPRODUCT(F19:F43,$Q$19:$Q$43) -> 0 | G56: =SUMPRODUCT(G19:G43,$Q$19:$Q$43) -> 0 | H56: =SUMPRODUCT(H19:H43,$Q$19:$Q$43) -> 0 | I56: =SUMPRODUCT(I19:I43,$Q$19:$Q$43) -> 0 | J56: =SUMPRODUCT(J19:J43,$Q$19:$Q$43) -> 55.8 | K56: =SUMPRODUCT(K19:K43,$Q$19:$Q$43) -> 0 | L56: =SUMPRODUCT(L19:L43,$Q$19:$Q$43) -> 0 | ... O56: =SUMPRODUCT(O19:O43,$Q$19:$Q$43) -> 0 | S56: Totaal | T56: =SUM(T53:T55) -> 1460 | U56: =SUM(U53:U55) -> 365 | V56: =SUM(V53:V55) -> 0 | W56: =SUM(W53:W55) -> 0 | X56: =SUM(X53:X55) -> 0 | Y56: =SUM(Y53:Y55) -> 1825 | AA56: =AA45 -> 40734
A59: Ongewogen DRK aanbod treindienst Zutphen-Oldenzaal looptijd Concessie
E61: Kalender per jaar
D62: DRK p/ dag | E62: 2028 1 | F62: 2029 | G62: 2030 | H62: 2031 | I62: 2032 2 | J62: 2033 | K62: 2034 1
A63: Ma / Vr | B63: =IF($E$18<>"",$E$18,"") -> Standaard | D63: =E56 -> 55.8 | E63: =13-E67 -> 13 | F63: =$E$54 -> 255 | G63: =$E$54 -> 255 | H63: =$E$54 -> 255 | I63: =$E$54+1 -> 256 | J63: =$E$54 -> 255 | K63: =238+4 -> 242
B64: =IF($F$18<>"",$F$18,"") | D64: =F56 -> 0 | F64: =$F$54 -> 205 | G64: =$F$54 -> 205 | H64: =$F$54 -> 205 | I64: =$F$54+$C$64 -> 205 | J64: =$F$54 -> 205
B65: =IF($G$18<>"",$G$18,"") | D65: =G56 -> 0 | F65: =$G$54 -> 0 | G65: =$G$54 -> 0 | H65: =$G$54 -> 0 | I65: =$G$54+$C$65 -> 0 | J65: =$G$54 -> 0
B66: =IF($H$18<>"",$H$18,"") | D66: =H56 -> 0 | F66: =$H$54 -> 0 | G66: =$H$54 -> 0 | H66: =$H$54 -> 0 | I66: =$H$54+$C$66 -> 0 | J66: =$H$54 -> 0
B67: =IF($I$18<>"",$I$18,"") | D67: =I56 -> 0 | F67: =$I$54 -> 0 | G67: =$I$54 -> 0 | H67: =$I$54 -> 0 | I67: =$I$54+$C$67 -> 0 | J67: =$I$54 -> 0
A68: Zaterdag | B68: =IF($J$18<>"",$J$18,"") -> Standaard | D68: =J56 -> 55.8 | E68: =3-E70 -> 3 | F68: =$J$54 -> 52 | G68: =$J$54 -> 52 | H68: =$J$54 -> 52 | I68: =$J$54 -> 52 | J68: =$J$54 -> 52 | K68: =39+12 -> 51
B69: =IF($K$18<>"",$K$18,"") | D69: =K56 -> 0 | F69: =$K$54 -> 0 | G69: =$K$54 -> 0 | H69: =$K$54 -> 0 | I69: =$K$54 -> 0 | J69: =$K$54 -> 0
B70: =IF($L$18<>"",$L$18,"") | D70: =L56 -> 0 | F70: =$L$54 -> 0 | G70: =$L$54 -> 0 | H70: =$L$54 -> 0 | I70: =$L$54 -> 0 | J70: =$L$54 -> 0
A71: Zondag | B71: =IF($M$18<>"",$M$18,"") -> Standaard | D71: =M56 -> 55.8 | E71: =6-E73 -> 6 | F71: =$M$54 -> 58 | G71: =$M$54 -> 58 | H71: =$M$54 -> 58 | I71: =$M$54 -> 58 | J71: =$M$54 -> 58 | K71: =44+9 -> 53
B72: =IF($N$18<>"",$N$18,"") | D72: =N56 -> 0 | F72: =$N$54 -> 0 | G72: =$N$54 -> 0 | H72: =$N$54 -> 0 | I72: =$N$54 -> 0 | J72: =$N$54 -> 0
