Workbook

Sheet Legenda
B1: Legenda
C3: Financieel economische onderbouwing [zie voor meer informatie 6.3 T.2: Financieel economische onderbouwing, beschrijvend document]
C5: Opgave dienstregelingskilometers [zie voor meer informatie 7.4 G.1.2: Vervoersomvang (Dienstregelingskilometers), beschrijvend document]
C7: Rekenvoorbeeld exploitatiesubsidie [zie voor meer informatie, Bijlage D Financiele bepalingen]
B10: Versie geschiedenis
B11: dd-mm-jjjj | C11: 1.0 | D11: Publicatie
B13: Mutaties t.o.v. oorspronkelijke gepubliceerde versie:
B15: NvI | C15: Vraag | D15: Verwijziging | E15: Omschrijving aanpassing

Sheet FEO
B1: Standaardformulier 14 Financieel economische onderbouwing | L1: Instructie | R1: Versie
B2: (Prijspeil 2026) | L2: Vul de oranje cellen in | R2: =Legenda!D11 -> Publicatie
C5: Directe kosten | G5: 2028 | H5: 2029 | I5: 2030 | J5: 2031 | K5: 2032 | L5: 2033 | M5: 2034 | R5: Totaal | U5: Controle = 0
E6: Van | G6: 47097 | H6: 47119 | I6: 47484 | J6: 47849 | K6: 48214 | L6: 48580 | M6: 48945 | R6: =SMALL(G6:N6,1) -> 47097
E7: tot en met | G7: 47118 | H7: 47483 | I7: 47848 | J7: 48213 | K7: 48579 | L7: 48944 | M7: 49290 | R7: =LARGE(G7:N7,1) -> 49290
E8: Dagen | G8: =G7-G6+1 -> 22 | H8: =H7-H6+1 -> 365 | I8: =I7-I6+1 -> 365 | J8: =J7-J6+1 -> 365 | K8: =K7-K6+1 -> 366 | L8: =L7-L6+1 -> 365 | M8: =M7-M6+1 -> 346 | R8: =SUM(G8:N8) -> 2194
B10: A | C10: Loonkosten direct personeel | G10: =SUM(G12:G16) -> 0 | H10: =SUM(H12:H16) -> 0 | I10: =SUM(I12:I16) -> 0 | J10: =SUM(J12:J16) -> 0 | K10: =SUM(K12:K16) -> 0 | L10: =SUM(L12:L16) -> 0 | M10: =SUM(M12:M16) -> 0 | R10: =SUM(G10:M10) -> 0
B12: =MID($B$10,1,1)&".01" -> A.01 | C12: Loonkosten machinisten | D12: A.01 | E12: Variabel | G12: =A.01!B7 -> 0 | H12: =A.01!C7 -> 0 | I12: =A.01!D7 -> 0 | J12: =A.01!E7 -> 0 | K12: =A.01!F7 -> 0 | L12: =A.01!G7 -> 0 | M12: =A.01!H7 -> 0 | R12: =SUM(G12:M12) -> 0 | U12: =SUM(G12:M12)-SUM(A.01!B7:H7) -> 0
B13: =MID($B$10,1,1)&".02" -> A.02 | C13: Loonkosten servicemedewerkers | D13: A.02 | E13: Variabel | G13: =A.02!B7 -> 0 | H13: =A.02!C7 -> 0 | I13: =A.02!D7 -> 0 | J13: =A.02!E7 -> 0 | K13: =A.02!F7 -> 0 | L13: =A.02!G7 -> 0 | M13: =A.02!H7 -> 0 | R13: =SUM(G13:M13) -> 0 | U13: =SUM(G13:M13)-SUM(A.02!B7:H7) -> 0
B14: =MID($B$10,1,1)&".03" -> A.03 | C14: Loonkosten toezichthouders | D14: A.03 | E14: Vast | G14: =A.03!B7 -> 0 | H14: =A.03!C7 -> 0 | I14: =A.03!D7 -> 0 | J14: =A.03!E7 -> 0 | K14: =A.03!F7 -> 0 | L14: =A.03!G7 -> 0 | M14: =A.03!H7 -> 0 | R14: =SUM(G14:M14) -> 0 | U14: =SUM(G14:M14)-SUM(A.03!B7:H7) -> 0
B15: =MID($B$10,1,1)&".04" -> A.04 | C15: Loonkosten overige direct pers. | D15: A.04 | E15: Vast | G15: =A.04!B7 -> 0 | H15: =A.04!C7 -> 0 | I15: =A.04!D7 -> 0 | J15: =A.04!E7 -> 0 | K15: =A.04!F7 -> 0 | L15: =A.04!G7 -> 0 | M15: =A.04!H7 -> 0 | R15: =SUM(G15:M15) -> 0 | U15: =SUM(G15:M15)-SUM(A.04!B7:H7) -> 0
B16: A.05 | C16: Overige personeelskosten direct pers. | E16: Vast | R16: =SUM(G16:M16) -> 0
B18: B | C18: Kosten Materieel | G18: =SUM(G20:G30) -> 0 | H18: =SUM(H20:H30) -> 0 | I18: =SUM(I20:I30) -> 0 | J18: =SUM(J20:J30) -> 0 | K18: =SUM(K20:K30) -> 0 | L18: =SUM(L20:L30) -> 0 | M18: =SUM(M20:M30) -> 0 | R18: =SUM(G18:M18) -> 0
B20: =MID($B$18,1,1)&".01" -> B.01 | C20: Afschr. kosten Materieel | D20: B.01 | E20: Vast (NI) | G20: =SUM(B.01!$B36:$AO36) -> 0 | H20: =SUM(B.01!$B37:$AO37) -> 0 | I20: =SUM(B.01!$B38:$AO38) -> 0 | J20: =SUM(B.01!$B39:$AO39) -> 0 | K20: =SUM(B.01!$B40:$AO40) -> 0 | L20: =SUM(B.01!$B41:$AO41) -> 0 | M20: =SUM(B.01!$B42:$AO42) -> 0 | R20: =SUM(G20:M20) -> 0 | U20: =SUM(G20:K20)-SUM(B.01!B36:AO40) -> 0
B21: =MID($B$18,1,1)&".02" -> B.02 | C21: Kosten financiering Materieel | E21: Vast (NI) | R21: =SUM(G21:M21) -> 0
B22: =MID($B$18,1,1)&".03" -> B.03 | C22: Leasekosten Materieel | D22: B.03 | E22: Vast (NI) | G22: =SUM(B.03!$B$17:$O$17) -> 0 | H22: =SUM(B.03!$B$18:$O$18) -> 0 | I22: =SUM(B.03!$B$19:$O$19) -> 0 | J22: =SUM(B.03!$B$20:$O$20) -> 0 | K22: =SUM(B.03!$B$21:$O$21) -> 0 | L22: =SUM(B.03!$B$22:$O$22) -> 0 | M22: =SUM(B.03!$B$23:$O$23) -> 0 | R22: =SUM(G22:M22) -> 0
B23: =MID($B$18,1,1)&".04" -> B.04 | C23: Onderhoudskosten Materieel | E23: Variabel | R23: =SUM(G23:M23) -> 0
B24: =MID($B$18,1,1)&".05" -> B.05 | C24: Schoonmaakkosten Materieel | E24: Variabel | R24: =SUM(G24:M24) -> 0
B25: =MID($B$18,1,1)&".06" -> B.06 | C25: Schade Materieel | E25: Variabel | R25: =SUM(G25:M25) -> 0
B26: =MID($B$18,1,1)&".07" -> B.07 | C26: Verzekering Materieel | E26: Variabel | R26: =SUM(G26:M26) -> 0
B27: =MID($B$18,1,1)&".08" -> B.08 | C27: Onderhoud apparatuur Materieel | E27: Variabel | R27: =SUM(G27:M27) -> 0
B28: =MID($B$18,1,1)&".09" -> B.09 | C28: Brandstof en/of energie Materieel | E28: Variabel | R28: =SUM(G28:M28) -> 0
B29: =MID($B$18,1,1)&".10" -> B.10 | C29: Certificaten / keuringen Materieel | E29: Variabel | R29: =SUM(G29:M29) -> 0
B31: C | C31: Inhuur | G31: =SUM(G32:G34) -> 0 | H31: =SUM(H32:H34) -> 0 | I31: =SUM(I32:I34) -> 0 | J31: =SUM(J32:J34) -> 0 | K31: =SUM(K32:K34) -> 0 | L31: =SUM(L32:L34) -> 0 | M31: =SUM(M32:M34) -> 0 | R31: =SUM(G31:M31) -> 0
B33: =MID($B$31,1,1)&".01" -> C.01 | C33: Inhuurkosten Treinvervangend vervoer | E33: Variabel | R33: =SUM(G33:M33) -> 0
B35: D | C35: Gebruiksvergoeding ProRail | G35: =SUM(G36:G38) -> 0 | H35: =SUM(H36:H38) -> 0 | I35: =SUM(I36:I38) -> 0 | J35: =SUM(J36:J38) -> 0 | K35: =SUM(K36:K38) -> 0 | L35: =SUM(L36:L38) -> 0 | M35: =SUM(M36:M38) -> 0 | R35: =SUM(G35:M35) -> 0
B37: =MID($B$35,1,1)&".01" -> D.01 | C37: Gebruiksvergoeding ZHO | D37: D.01 | E37: Variabel | G37: =D.01!C149 -> 0 | H37: =D.01!D149 -> 0 | I37: =D.01!E149 -> 0 | J37: =D.01!F149 -> 0 | K37: =D.01!G149 -> 0 | L37: =D.01!H149 -> 0 | M37: =D.01!I149 -> 0 | R37: =SUM(G37:M37) -> 0
C39: Indirecte kosten | G39: =G$5 -> 2028 | H39: =H$5 -> 2029 | I39: =I$5 -> 2030 | J39: =J$5 -> 2031 | K39: =K$5 -> 2032 | L39: =L$5 -> 2033 | M39: =M$5 -> 2034 | R39: Totaal
B41: E | C41: Loonkosten indirect personeel | G41: =SUM(G43:G45) -> 0 | H41: =SUM(H43:H45) -> 0 | I41: =SUM(I43:I45) -> 0 | J41: =SUM(J43:J45) -> 0 | K41: =SUM(K43:K45) -> 0 | L41: =SUM(L43:L45) -> 0 | M41: =SUM(M43:M45) -> 0 | R41: =SUM(G41:M41) -> 0
B43: =MID($B$41,1,1)&".01" -> E.01 | C43: Loonkosten onderhoudspersoneel | D43: E.01 | E43: Vast | G43: =E.01!B7 -> 0 | H43: =E.01!C7 -> 0 | I43: =E.01!D7 -> 0 | J43: =E.01!E7 -> 0 | K43: =E.01!F7 -> 0 | L43: =E.01!G7 -> 0 | M43: =E.01!H7 -> 0 | R43: =SUM(G43:M43) -> 0 | U43: =SUM(G43:K43)-SUM(E.01!B7:F7) -> 0
B44: =MID($B$41,1,1)&".02" -> E.02 | C44: Loonkosten overig indirect pers. | D44: E.02 | E44: Vast | G44: =E.02!B7 -> 0 | H44: =E.02!C7 -> 0 | I44: =E.02!D7 -> 0 | J44: =E.02!E7 -> 0 | K44: =E.02!F7 -> 0 | L44: =E.02!G7 -> 0 | M44: =E.02!H7 -> 0 | R44: =SUM(G44:M44) -> 0 | U44: =SUM(G44:M44)-SUM(E.02!B7:H7) -> 0
B45: =MID($B$41,1,1)&".03" -> E.03 | C45: Overige personeelkst indirect pers. | E45: Vast | R45: =SUM(G45:M45) -> 0
B47: F | C47: Overige indirecte kosten | G47: =SUM(G49:G59) -> 0 | H47: =SUM(H49:H59) -> 0 | I47: =SUM(I49:I59) -> 0 | J47: =SUM(J49:J59) -> 0 | K47: =SUM(K49:K59) -> 0 | L47: =SUM(L49:L59) -> 0 | M47: =SUM(M49:M59) -> 0 | R47: =SUM(G47:M47) -> 0
B49: =MID($B$47,1,1)&".01" -> F.01 | C49: Huisvesting | D49: F.01 | E49: Vast | G49: {=SUM(IF((F.01!$A$62:$A$68=FEO!G$5),F.01!$B$62:$O$68))} -> 0 | H49: {=SUM(IF((F.01!$A$62:$A$68=FEO!H$5),F.01!$B$62:$O$68))} -> 0 | I49: {=SUM(IF((F.01!$A$62:$A$68=FEO!I$5),F.01!$B$62:$O$68))} -> 0 | J49: {=SUM(IF((F.01!$A$62:$A$68=FEO!J$5),F.01!$B$62:$O$68))} -> 0 | K49: {=SUM(IF((F.01!$A$62:$A$68=FEO!K$5),F.01!$B$62:$O$68))} -> 0 | L49: {=SUM(IF((F.01!$A$62:$A$68=FEO!L$5),F.01!$B$62:$O$68))} -> 0 | M49: {=SUM(IF((F.01!$A$62:$A$68=FEO!M$5),F.01!$B$62:$O$68))} -> 0 | R49: =SUM(G49:M49) -> 0 | U49: =R49-SUM(F.01!B70:O70) -> 0
B50: =MID($B$47,1,1)&".02" -> F.02 | C50: Afschr. kst. Installaties Locaties | D50: F.02 | E50: Vast (NI) | G50: {=SUM(IF((F.02!$A$39:$A$45=FEO!G$5),F.02!$B$39:$O$45))} -> 0 | H50: {=SUM(IF((F.02!$A$39:$A$45=FEO!H$5),F.02!$B$39:$O$45))} -> 0 | I50: {=SUM(IF((F.02!$A$39:$A$45=FEO!I$5),F.02!$B$39:$O$45))} -> 0 | J50: {=SUM(IF((F.02!$A$39:$A$45=FEO!J$5),F.02!$B$39:$O$45))} -> 0 | K50: {=SUM(IF((F.02!$A$39:$A$45=FEO!K$5),F.02!$B$39:$O$45))} -> 0 | L50: {=SUM(IF((F.02!$A$39:$A$45=FEO!L$5),F.02!$B$39:$O$45))} -> 0 | M50: {=SUM(IF((F.02!$A$39:$A$45=FEO!M$5),F.02!$B$39:$O$45))} -> 0 | R50: =SUM(G50:M50) -> 0 | U50: =R50-SUM(F.02!B47:O47) -> 0
B51: =MID($B$47,1,1)&".03" -> F.03 | C51: Afschr. kst. Inrichting Locaties | D51: F.03 | E51: Vast (NI) | G51: {=SUM(IF((F.03!$A$39:$A$45=FEO!G$5),F.03!$B$39:$O$45))} -> 0 | H51: {=SUM(IF((F.03!$A$39:$A$45=FEO!H$5),F.03!$B$39:$O$45))} -> 0 | I51: {=SUM(IF((F.03!$A$39:$A$45=FEO!I$5),F.03!$B$39:$O$45))} -> 0 | J51: {=SUM(IF((F.03!$A$39:$A$45=FEO!J$5),F.03!$B$39:$O$45))} -> 0 | K51: {=SUM(IF((F.03!$A$39:$A$45=FEO!K$5),F.03!$B$39:$O$45))} -> 0 | L51: {=SUM(IF((F.03!$A$39:$A$45=FEO!L$5),F.03!$B$39:$O$45))} -> 0 | M51: {=SUM(IF((F.03!$A$39:$A$45=FEO!M$5),F.03!$B$39:$O$45))} -> 0 | R51: =SUM(G51:M51) -> 0 | U51: =R51-SUM(F.03!B47:O47) -> 0
B52: =MID($B$47,1,1)&".04" -> F.04 | C52: Financieringskosten overig | E52: Vast (NI) | R52: =SUM(G52:M52) -> 0
B53: =MID($B$47,1,1)&".05" -> F.05 | C53: Merk en huisstijl | E53: Vast | R53: =SUM(G53:M53) -> 0
B54: =MID($B$47,1,1)&".06" -> F.06 | C54: Marketingbudget | E54: Vast | R54: =SUM(G54:M54) -> 0
B55: =MID($B$47,1,1)&".07" -> F.07 | C55: Verkoop- en servicekosten | E55: Vast | R55: =SUM(G55:M55) -> 0
...

Sheet A.01
A1: A.01 Loonkosten machinisten | I1: Instructie | J1: Vul de oranje cellen in
A2: terug | K2: =FEO!R1 -> Versie | L2: =FEO!R2 -> Publicatie
A4: Jaar | B4: =FEO!G5 -> 2028 | C4: =FEO!H5 -> 2029 | D4: =FEO!I5 -> 2030 | E4: =FEO!J5 -> 2031 | F4: =FEO!K5 -> 2032 | G4: =FEO!L5 -> 2033 | H4: =FEO!M5 -> 2034
A5: Gemiddelde jaarloonsom per fte
A6: Aantal fte
A7: Totale loonsom | B7: =B5*B6 -> 0 | C7: =C5*C6 -> 0 | D7: =D5*D6 -> 0 | E7: =E5*E6 -> 0 | F7: =F5*F6 -> 0 | G7: =G5*G6 -> 0 | H7: =H5*H6 -> 0

Sheet A.02
A1: A.02 Loonkosten servicemedewerker (zie 9.2.2 programma van eisen) | I1: Instructie | J1: Vul de oranje cellen in
A2: terug | K2: =FEO!R1 -> Versie | L2: =FEO!R2 -> Publicatie
A4: Jaar | B4: =FEO!G5 -> 2028 | C4: =FEO!H5 -> 2029 | D4: =FEO!I5 -> 2030 | E4: =FEO!J5 -> 2031 | F4: =FEO!K5 -> 2032 | G4: =FEO!L5 -> 2033 | H4: =FEO!M5 -> 2034
A5: Gemiddelde jaarloonsom per fte
A6: Aantal fte
A7: Totale loonsom | B7: =B5*B6 -> 0 | C7: =C5*C6 -> 0 | D7: =D5*D6 -> 0 | E7: =E5*E6 -> 0 | F7: =F5*F6 -> 0 | G7: =G5*G6 -> 0 | H7: =H5*H6 -> 0

Sheet A.03
A1: A.03 Loonkosten toezichthouders (zie 10.5.2 programma van eisen) | I1: Instructie | J1: Vul de oranje cellen in
A2: terug | K2: =FEO!R1 -> Versie | L2: =FEO!R2 -> Publicatie
A4: Jaar | B4: =FEO!G5 -> 2028 | C4: =FEO!H5 -> 2029 | D4: =FEO!I5 -> 2030 | E4: =FEO!J5 -> 2031 | F4: =FEO!K5 -> 2032 | G4: =FEO!L5 -> 2033 | H4: =FEO!M5 -> 2034
A5: Gemiddelde jaarloonsom per fte
A6: Aantal fte
A7: Totale loonsom | B7: =B5*B6 -> 0 | C7: =C5*C6 -> 0 | D7: =D5*D6 -> 0 | E7: =E5*E6 -> 0 | F7: =F5*F6 -> 0 | G7: =G5*G6 -> 0 | H7: =H5*H6 -> 0

Sheet A.04
A1: A.04 Loonkosten overige direct personeel | I1: Instructie | J1: Vul de oranje cellen in
A2: terug | K2: =FEO!R1 -> Versie | L2: =FEO!R2 -> Publicatie
A4: Jaar | B4: =FEO!G5 -> 2028 | C4: =FEO!H5 -> 2029 | D4: =FEO!I5 -> 2030 | E4: =FEO!J5 -> 2031 | F4: =FEO!K5 -> 2032 | G4: =FEO!L5 -> 2033 | H4: =FEO!M5 -> 2034
A5: Gemiddelde jaarloonsom per fte
A6: Aantal fte
A7: Totale loonsom | B7: =B5*B6 -> 0 | C7: =C5*C6 -> 0 | D7: =D5*D6 -> 0 | E7: =E5*E6 -> 0 | F7: =F5*F6 -> 0 | G7: =G5*G6 -> 0 | H7: =H5*H6 -> 0

Sheet B.01
A1: B.01 Afschrijving Materieel | AL1: Instructie | AM1: Vul de oranje cellen in
A2: terug | AN2: =FEO!R1 -> Versie | AO2: =FEO!R2 -> Publicatie
A4: Omschrijving type Materieel
A5: Nieuw / bestaand
A6: Bouwjaar
A7: Aandrijving
A8: Aantal treinstellen
A9: Afschrijvingstermijn in jaren | B9: =B30/365.25 -> -128.94182 | C9: =C30/365.25 -> 0 | D9: =D30/365.25 -> 0 | E9: =E30/365.25 -> 0 | F9: =F30/365.25 -> 0 | G9: =G30/365.25 -> 0 | H9: =H30/365.25 -> 0 | I9: =I30/365.25 -> 0 | ... AO9: =AO30/365.25 -> 0
A10: Aanschafprijs per treinstel
A11: Aanschafprijs treinstel
A12: Subtotaal treinen | B12: =B11*B8 -> 0 | G12: =G11*G8 -> 0 | L12: =L11*L8 -> 0 | Q12: =Q11*Q8 -> 0 | V12: =V11*V8 -> 0 | AA12: =AA11*AA8 -> 0 | AF12: =AF11*AF8 -> 0 | AK12: =AK11*AK8 -> 0
A13: Aanschafprijs apparatuur nieuw of ter vervanging per treinstel
A14: - Tussenbakken
A15: - Energiemeters
A16: - Hoofd- en reservedelen
A17: - …
A18: - …
A19: - …
A20: Subtotaal aanschafprijs apparatuur nieuw (of vervanging) | B20: =SUM(B14:B19)*SUM(B8:B8) -> 0 | C20: =SUM(C14:C19)*SUM(C8:C8) -> 0 | D20: =SUM(D14:D19)*SUM(D8:D8) -> 0 | E20: =SUM(E14:E19)*SUM(E8:E8) -> 0 | F20: =SUM(F14:F19)*SUM(F8:F8) -> 0 | G20: =SUM(G14:G19)*SUM(G8:G8) -> 0 | H20: =SUM(H14:H19)*SUM(H8:H8) -> 0 | I20: =SUM(I14:I19)*SUM(I8:I8) -> 0 | ... AO20: =SUM(AO14:AO19)*SUM(AO8:AO8) -> 0
A21: Totaal aanschafprijs | B21: =B20+B12 -> 0 | C21: =C20+C12 -> 0 | D21: =D20+D12 -> 0 | E21: =E20+E12 -> 0 | F21: =F20+F12 -> 0 | G21: =G20+G12 -> 0 | H21: =H20+H12 -> 0 | I21: =I20+I12 -> 0 | ... AO21: =AO20+AO12 -> 0
A22: Subsidies per treinstel
A23: Fiscale regelingen per treinstel
A24: Overige per treinstel
A25: Totaal baten | B25: =SUM(B22:B24)*B8 -> 0 | C25: =SUM(C22:C24)*C8 -> 0 | D25: =SUM(D22:D24)*D8 -> 0 | E25: =SUM(E22:E24)*E8 -> 0 | F25: =SUM(F22:F24)*F8 -> 0 | G25: =SUM(G22:G24)*G8 -> 0 | H25: =SUM(H22:H24)*H8 -> 0 | I25: =SUM(I22:I24)*I8 -> 0 | ... AO25: =SUM(AO22:AO24)*AO8 -> 0
A26: Totaal aanschafwaarde | B26: =B21+B25 -> 0 | C26: =C21+C25 -> 0 | D26: =D21+D25 -> 0 | E26: =E21+E25 -> 0 | F26: =F21+F25 -> 0 | G26: =G21+G25 -> 0 | H26: =H21+H25 -> 0 | I26: =I21+I25 -> 0 | ... AO26: =AO21+AO25 -> 0
A27: Datum Instroom Concessie | B27: =FEO!$G$6 -> 47097
A28: Datum Uitstroom Concessie
A29: Afschrijvingstermijn in dagen totaal | B29: =B9*365.25 -> -47096 | C29: =C9*365.25 -> 0 | D29: =D9*365.25 -> 0 | E29: =E9*365.25 -> 0 | F29: =F9*365.25 -> 0 | G29: =G9*365.25 -> 0 | H29: =H9*365.25 -> 0 | I29: =I9*365.25 -> 0 | ... AO29: =AO9*365.25 -> 0
A30: Afschrijvingstermijn in dagen Concessie | B30: =IF(B27=0,0,B28-B27+1) -> -47096 | C30: =IF(C27=0,0,C28-C27+1) -> 0 | D30: =IF(D27=0,0,D28-D27+1) -> 0 | E30: =IF(E27=0,0,E28-E27+1) -> 0 | F30: =IF(F27=0,0,F28-F27+1) -> 0 | G30: =IF(G27=0,0,G28-G27+1) -> 0 | H30: =IF(H27=0,0,H28-H27+1) -> 0 | I30: =IF(I27=0,0,I28-I27+1) -> 0 | ... AO30: =IF(AO27=0,0,AO28-AO27+1) -> 0
A31: Afschrijving per dag | B31: =IFERROR((B26)/B29,0) -> 0 | C31: =IFERROR((C26)/C29,0) -> 0 | D31: =IFERROR((D26)/D29,0) -> 0 | E31: =IFERROR((E26)/E29,0) -> 0 | F31: =IFERROR((F26)/F29,0) -> 0 | G31: =IFERROR((G26)/G29,0) -> 0 | H31: =IFERROR((H26)/H29,0) -> 0 | I31: =IFERROR((I26)/I29,0) -> 0 | ... AO31: =IFERROR((AO26)/AO29,0) -> 0
A33: AFSCHRIJVINGEN
A35: Jaren
A36: =FEO!$G$5 -> 2028 | B36: =IF(AND($A36>YEAR(B$27),$A36<YEAR(B$28)),(DATE($A36,12,31)-DATE($A36,1,0))*B$31,IF(AND($A36=YEAR(B$27),$A36=YEAR(B$28)),(B$28-B$27+1)*B$31,IF($A36=YEAR(B$27),(DATE(YEAR(B$27),12,31)-B$27+1)*B$31,IF($A36=YEAR(B$28),(B$28-DATE(YEAR(B$28),1,1))*B$31,0)))) -> 0 | C36: =IF(AND($A36>YEAR(C$27),$A36<YEAR(C$28)),(DATE($A36,12,31)-DATE($A36,1,0))*C$31,IF(AND($A36=YEAR(C$27),$A36=YEAR(C$28)),(C$28-C$27+1)*C$31,IF($A36=YEAR(C$27),(DATE(YEAR(C$27),12,31)-C$27+1)*C$31,IF($A36=YEAR(C$28),(C$28-DATE(YEAR(C$28),1,1))*C$31,0)))) -> 0 | D36: =IF(AND($A36>YEAR(D$27),$A36<YEAR(D$28)),(DATE($A36,12,31)-DATE($A36,1,0))*D$31,IF(AND($A36=YEAR(D$27),$A36=YEAR(D$28)),(D$28-D$27+1)*D$31,IF($A36=YEAR(D$27),(DATE(YEAR(D$27),12,31)-D$27+1)*D$31,IF($A36=YEAR(D$28),(D$28-DATE(YEAR(D$28),1,1))*D$31,0)))) -> 0 | E36: =IF(AND($A36>YEAR(E$27),$A36<YEAR(E$28)),(DATE($A36,12,31)-DATE($A36,1,0))*E$31,IF(AND($A36=YEAR(E$27),$A36=YEAR(E$28)),(E$28-E$27+1)*E$31,IF($A36=YEAR(E$27),(DATE(YEAR(E$27),12,31)-E$27+1)*E$31,IF($A36=YEAR(E$28),(E$28-DATE(YEAR(E$28),1,1))*E$31,0)))) -> 0 | F36: =IF(AND($A36>YEAR(F$27),$A36<YEAR(F$28)),(DATE($A36,12,31)-DATE($A36,1,0))*F$31,IF(AND($A36=YEAR(F$27),$A36=YEAR(F$28)),(F$28-F$27+1)*F$31,IF($A36=YEAR(F$27),(DATE(YEAR(F$27),12,31)-F$27+1)*F$31,IF($A36=YEAR(F$28),(F$28-DATE(YEAR(F$28),1,1))*F$31,0)))) -> 0 | G36: =IF(AND($A36>YEAR(G$27),$A36<YEAR(G$28)),(DATE($A36,12,31)-DATE($A36,1,0))*G$31,IF(AND($A36=YEAR(G$27),$A36=YEAR(G$28)),(G$28-G$27+1)*G$31,IF($A36=YEAR(G$27),(DATE(YEAR(G$27),12,31)-G$27+1)*G$31,IF($A36=YEAR(G$28),(G$28-DATE(YEAR(G$28),1,1))*G$31,0)))) -> 0 | H36: =IF(AND($A36>YEAR(H$27),$A36<YEAR(H$28)),(DATE($A36,12,31)-DATE($A36,1,0))*H$31,IF(AND($A36=YEAR(H$27),$A36=YEAR(H$28)),(H$28-H$27+1)*H$31,IF($A36=YEAR(H$27),(DATE(YEAR(H$27),12,31)-H$27+1)*H$31,IF($A36=YEAR(H$28),(H$28-DATE(YEAR(H$28),1,1))*H$31,0)))) -> 0 | I36: =IF(AND($A36>YEAR(I$27),$A36<YEAR(I$28)),(DATE($A36,12,31)-DATE($A36,1,0))*I$31,IF(AND($A36=YEAR(I$27),$A36=YEAR(I$28)),(I$28-I$27+1)*I$31,IF($A36=YEAR(I$27),(DATE(YEAR(I$27),12,31)-I$27+1)*I$31,IF($A36=YEAR(I$28),(I$28-DATE(YEAR(I$28),1,1))*I$31,0)))) -> 0 | ... AO36: =IF(AND($A36>YEAR(AO$27),$A36<YEAR(AO$28)),(DATE($A36,12,31)-DATE($A36,1,0))*AO$31,IF(AND($A36=YEAR(AO$27),$A36=YEAR(AO$28)),(AO$28-AO$27+1)*AO$31,IF($A36=YEAR(AO$27),(DATE(YEAR(AO$27),12,31)-AO$27+1)*AO$31,IF($A36=YEAR(AO$28),(AO$28-DATE(YEAR(AO$28),1,1))*AO$31,0)))) -> 0
A37: =FEO!$H$5 -> 2029 | B37: =IF(AND($A37>YEAR(B$27),$A37<YEAR(B$28)),(DATE($A37,12,31)-DATE($A37,1,0))*B$31,IF(AND($A37=YEAR(B$27),$A37=YEAR(B$28)),(B$28-B$27+1)*B$31,IF($A37=YEAR(B$27),(DATE(YEAR(B$27),12,31)-B$27+1)*B$31,IF($A37=YEAR(B$28),(B$28-DATE(YEAR(B$28),1,1))*B$31,0)))) -> 0 | C37: =IF(AND($A37>YEAR(C$27),$A37<YEAR(C$28)),(DATE($A37,12,31)-DATE($A37,1,0))*C$31,IF(AND($A37=YEAR(C$27),$A37=YEAR(C$28)),(C$28-C$27+1)*C$31,IF($A37=YEAR(C$27),(DATE(YEAR(C$27),12,31)-C$27+1)*C$31,IF($A37=YEAR(C$28),(C$28-DATE(YEAR(C$28),1,1))*C$31,0)))) -> 0 | D37: =IF(AND($A37>YEAR(D$27),$A37<YEAR(D$28)),(DATE($A37,12,31)-DATE($A37,1,0))*D$31,IF(AND($A37=YEAR(D$27),$A37=YEAR(D$28)),(D$28-D$27+1)*D$31,IF($A37=YEAR(D$27),(DATE(YEAR(D$27),12,31)-D$27+1)*D$31,IF($A37=YEAR(D$28),(D$28-DATE(YEAR(D$28),1,1))*D$31,0)))) -> 0 | E37: =IF(AND($A37>YEAR(E$27),$A37<YEAR(E$28)),(DATE($A37,12,31)-DATE($A37,1,0))*E$31,IF(AND($A37=YEAR(E$27),$A37=YEAR(E$28)),(E$28-E$27+1)*E$31,IF($A37=YEAR(E$27),(DATE(YEAR(E$27),12,31)-E$27+1)*E$31,IF($A37=YEAR(E$28),(E$28-DATE(YEAR(E$28),1,1))*E$31,0)))) -> 0 | F37: =IF(AND($A37>YEAR(F$27),$A37<YEAR(F$28)),(DATE($A37,12,31)-DATE($A37,1,0))*F$31,IF(AND($A37=YEAR(F$27),$A37=YEAR(F$28)),(F$28-F$27+1)*F$31,IF($A37=YEAR(F$27),(DATE(YEAR(F$27),12,31)-F$27+1)*F$31,IF($A37=YEAR(F$28),(F$28-DATE(YEAR(F$28),1,1))*F$31,0)))) -> 0 | G37: =IF(AND($A37>YEAR(G$27),$A37<YEAR(G$28)),(DATE($A37,12,31)-DATE($A37,1,0))*G$31,IF(AND($A37=YEAR(G$27),$A37=YEAR(G$28)),(G$28-G$27+1)*G$31,IF($A37=YEAR(G$27),(DATE(YEAR(G$27),12,31)-G$27+1)*G$31,IF($A37=YEAR(G$28),(G$28-DATE(YEAR(G$28),1,1))*G$31,0)))) -> 0 | H37: =IF(AND($A37>YEAR(H$27),$A37<YEAR(H$28)),(DATE($A37,12,31)-DATE($A37,1,0))*H$31,IF(AND($A37=YEAR(H$27),$A37=YEAR(H$28)),(H$28-H$27+1)*H$31,IF($A37=YEAR(H$27),(DATE(YEAR(H$27),12,31)-H$27+1)*H$31,IF($A37=YEAR(H$28),(H$28-DATE(YEAR(H$28),1,1))*H$31,0)))) -> 0 | I37: =IF(AND($A37>YEAR(I$27),$A37<YEAR(I$28)),(DATE($A37,12,31)-DATE($A37,1,0))*I$31,IF(AND($A37=YEAR(I$27),$A37=YEAR(I$28)),(I$28-I$27+1)*I$31,IF($A37=YEAR(I$27),(DATE(YEAR(I$27),12,31)-I$27+1)*I$31,IF($A37=YEAR(I$28),(I$28-DATE(YEAR(I$28),1,1))*I$31,0)))) -> 0 | ... AO37: =IF(AND($A37>YEAR(AO$27),$A37<YEAR(AO$28)),(DATE($A37,12,31)-DATE($A37,1,0))*AO$31,IF(AND($A37=YEAR(AO$27),$A37=YEAR(AO$28)),(AO$28-AO$27+1)*AO$31,IF($A37=YEAR(AO$27),(DATE(YEAR(AO$27),12,31)-AO$27+1)*AO$31,IF($A37=YEAR(AO$28),(AO$28-DATE(YEAR(AO$28),1,1))*AO$31,0)))) -> 0
A38: =FEO!$I$5 -> 2030 | B38: =IF(AND($A38>YEAR(B$27),$A38<YEAR(B$28)),(DATE($A38,12,31)-DATE($A38,1,0))*B$31,IF(AND($A38=YEAR(B$27),$A38=YEAR(B$28)),(B$28-B$27+1)*B$31,IF($A38=YEAR(B$27),(DATE(YEAR(B$27),12,31)-B$27+1)*B$31,IF($A38=YEAR(B$28),(B$28-DATE(YEAR(B$28),1,1))*B$31,0)))) -> 0 | C38: =IF(AND($A38>YEAR(C$27),$A38<YEAR(C$28)),(DATE($A38,12,31)-DATE($A38,1,0))*C$31,IF(AND($A38=YEAR(C$27),$A38=YEAR(C$28)),(C$28-C$27+1)*C$31,IF($A38=YEAR(C$27),(DATE(YEAR(C$27),12,31)-C$27+1)*C$31,IF($A38=YEAR(C$28),(C$28-DATE(YEAR(C$28),1,1))*C$31,0)))) -> 0 | D38: =IF(AND($A38>YEAR(D$27),$A38<YEAR(D$28)),(DATE($A38,12,31)-DATE($A38,1,0))*D$31,IF(AND($A38=YEAR(D$27),$A38=YEAR(D$28)),(D$28-D$27+1)*D$31,IF($A38=YEAR(D$27),(DATE(YEAR(D$27),12,31)-D$27+1)*D$31,IF($A38=YEAR(D$28),(D$28-DATE(YEAR(D$28),1,1))*D$31,0)))) -> 0 | E38: =IF(AND($A38>YEAR(E$27),$A38<YEAR(E$28)),(DATE($A38,12,31)-DATE($A38,1,0))*E$31,IF(AND($A38=YEAR(E$27),$A38=YEAR(E$28)),(E$28-E$27+1)*E$31,IF($A38=YEAR(E$27),(DATE(YEAR(E$27),12,31)-E$27+1)*E$31,IF($A38=YEAR(E$28),(E$28-DATE(YEAR(E$28),1,1))*E$31,0)))) -> 0 | F38: =IF(AND($A38>YEAR(F$27),$A38<YEAR(F$28)),(DATE($A38,12,31)-DATE($A38,1,0))*F$31,IF(AND($A38=YEAR(F$27),$A38=YEAR(F$28)),(F$28-F$27+1)*F$31,IF($A38=YEAR(F$27),(DATE(YEAR(F$27),12,31)-F$27+1)*F$31,IF($A38=YEAR(F$28),(F$28-DATE(YEAR(F$28),1,1))*F$31,0)))) -> 0 | G38: =IF(AND($A38>YEAR(G$27),$A38<YEAR(G$28)),(DATE($A38,12,31)-DATE($A38,1,0))*G$31,IF(AND($A38=YEAR(G$27),$A38=YEAR(G$28)),(G$28-G$27+1)*G$31,IF($A38=YEAR(G$27),(DATE(YEAR(G$27),12,31)-G$27+1)*G$31,IF($A38=YEAR(G$28),(G$28-DATE(YEAR(G$28),1,1))*G$31,0)))) -> 0 | H38: =IF(AND($A38>YEAR(H$27),$A38<YEAR(H$28)),(DATE($A38,12,31)-DATE($A38,1,0))*H$31,IF(AND($A38=YEAR(H$27),$A38=YEAR(H$28)),(H$28-H$27+1)*H$31,IF($A38=YEAR(H$27),(DATE(YEAR(H$27),12,31)-H$27+1)*H$31,IF($A38=YEAR(H$28),(H$28-DATE(YEAR(H$28),1,1))*H$31,0)))) -> 0 | I38: =IF(AND($A38>YEAR(I$27),$A38<YEAR(I$28)),(DATE($A38,12,31)-DATE($A38,1,0))*I$31,IF(AND($A38=YEAR(I$27),$A38=YEAR(I$28)),(I$28-I$27+1)*I$31,IF($A38=YEAR(I$27),(DATE(YEAR(I$27),12,31)-I$27+1)*I$31,IF($A38=YEAR(I$28),(I$28-DATE(YEAR(I$28),1,1))*I$31,0)))) -> 0 | ... AO38: =IF(AND($A38>YEAR(AO$27),$A38<YEAR(AO$28)),(DATE($A38,12,31)-DATE($A38,1,0))*AO$31,IF(AND($A38=YEAR(AO$27),$A38=YEAR(AO$28)),(AO$28-AO$27+1)*AO$31,IF($A38=YEAR(AO$27),(DATE(YEAR(AO$27),12,31)-AO$27+1)*AO$31,IF($A38=YEAR(AO$28),(AO$28-DATE(YEAR(AO$28),1,1))*AO$31,0)))) -> 0
A39: =FEO!$J$5 -> 2031 | B39: =IF(AND($A39>YEAR(B$27),$A39<YEAR(B$28)),(DATE($A39,12,31)-DATE($A39,1,0))*B$31,IF(AND($A39=YEAR(B$27),$A39=YEAR(B$28)),(B$28-B$27+1)*B$31,IF($A39=YEAR(B$27),(DATE(YEAR(B$27),12,31)-B$27+1)*B$31,IF($A39=YEAR(B$28),(B$28-DATE(YEAR(B$28),1,1))*B$31,0)))) -> 0 | C39: =IF(AND($A39>YEAR(C$27),$A39<YEAR(C$28)),(DATE($A39,12,31)-DATE($A39,1,0))*C$31,IF(AND($A39=YEAR(C$27),$A39=YEAR(C$28)),(C$28-C$27+1)*C$31,IF($A39=YEAR(C$27),(DATE(YEAR(C$27),12,31)-C$27+1)*C$31,IF($A39=YEAR(C$28),(C$28-DATE(YEAR(C$28),1,1))*C$31,0)))) -> 0 | D39: =IF(AND($A39>YEAR(D$27),$A39<YEAR(D$28)),(DATE($A39,12,31)-DATE($A39,1,0))*D$31,IF(AND($A39=YEAR(D$27),$A39=YEAR(D$28)),(D$28-D$27+1)*D$31,IF($A39=YEAR(D$27),(DATE(YEAR(D$27),12,31)-D$27+1)*D$31,IF($A39=YEAR(D$28),(D$28-DATE(YEAR(D$28),1,1))*D$31,0)))) -> 0 | E39: =IF(AND($A39>YEAR(E$27),$A39<YEAR(E$28)),(DATE($A39,12,31)-DATE($A39,1,0))*E$31,IF(AND($A39=YEAR(E$27),$A39=YEAR(E$28)),(E$28-E$27+1)*E$31,IF($A39=YEAR(E$27),(DATE(YEAR(E$27),12,31)-E$27+1)*E$31,IF($A39=YEAR(E$28),(E$28-DATE(YEAR(E$28),1,1))*E$31,0)))) -> 0 | F39: =IF(AND($A39>YEAR(F$27),$A39<YEAR(F$28)),(DATE($A39,12,31)-DATE($A39,1,0))*F$31,IF(AND($A39=YEAR(F$27),$A39=YEAR(F$28)),(F$28-F$27+1)*F$31,IF($A39=YEAR(F$27),(DATE(YEAR(F$27),12,31)-F$27+1)*F$31,IF($A39=YEAR(F$28),(F$28-DATE(YEAR(F$28),1,1))*F$31,0)))) -> 0 | G39: =IF(AND($A39>YEAR(G$27),$A39<YEAR(G$28)),(DATE($A39,12,31)-DATE($A39,1,0))*G$31,IF(AND($A39=YEAR(G$27),$A39=YEAR(G$28)),(G$28-G$27+1)*G$31,IF($A39=YEAR(G$27),(DATE(YEAR(G$27),12,31)-G$27+1)*G$31,IF($A39=YEAR(G$28),(G$28-DATE(YEAR(G$28),1,1))*G$31,0)))) -> 0 | H39: =IF(AND($A39>YEAR(H$27),$A39<YEAR(H$28)),(DATE($A39,12,31)-DATE($A39,1,0))*H$31,IF(AND($A39=YEAR(H$27),$A39=YEAR(H$28)),(H$28-H$27+1)*H$31,IF($A39=YEAR(H$27),(DATE(YEAR(H$27),12,31)-H$27+1)*H$31,IF($A39=YEAR(H$28),(H$28-DATE(YEAR(H$28),1,1))*H$31,0)))) -> 0 | I39: =IF(AND($A39>YEAR(I$27),$A39<YEAR(I$28)),(DATE($A39,12,31)-DATE($A39,1,0))*I$31,IF(AND($A39=YEAR(I$27),$A39=YEAR(I$28)),(I$28-I$27+1)*I$31,IF($A39=YEAR(I$27),(DATE(YEAR(I$27),12,31)-I$27+1)*I$31,IF($A39=YEAR(I$28),(I$28-DATE(YEAR(I$28),1,1))*I$31,0)))) -> 0 | ... AO39: =IF(AND($A39>YEAR(AO$27),$A39<YEAR(AO$28)),(DATE($A39,12,31)-DATE($A39,1,0))*AO$31,IF(AND($A39=YEAR(AO$27),$A39=YEAR(AO$28)),(AO$28-AO$27+1)*AO$31,IF($A39=YEAR(AO$27),(DATE(YEAR(AO$27),12,31)-AO$27+1)*AO$31,IF($A39=YEAR(AO$28),(AO$28-DATE(YEAR(AO$28),1,1))*AO$31,0)))) -> 0
A40: =FEO!$K$5 -> 2032 | B40: =IF(AND($A40>YEAR(B$27),$A40<YEAR(B$28)),(DATE($A40,12,31)-DATE($A40,1,0))*B$31,IF(AND($A40=YEAR(B$27),$A40=YEAR(B$28)),(B$28-B$27+1)*B$31,IF($A40=YEAR(B$27),(DATE(YEAR(B$27),12,31)-B$27+1)*B$31,IF($A40=YEAR(B$28),(B$28-DATE(YEAR(B$28),1,1))*B$31,0)))) -> 0 | C40: =IF(AND($A40>YEAR(C$27),$A40<YEAR(C$28)),(DATE($A40,12,31)-DATE($A40,1,0))*C$31,IF(AND($A40=YEAR(C$27),$A40=YEAR(C$28)),(C$28-C$27+1)*C$31,IF($A40=YEAR(C$27),(DATE(YEAR(C$27),12,31)-C$27+1)*C$31,IF($A40=YEAR(C$28),(C$28-DATE(YEAR(C$28),1,1))*C$31,0)))) -> 0 | D40: =IF(AND($A40>YEAR(D$27),$A40<YEAR(D$28)),(DATE($A40,12,31)-DATE($A40,1,0))*D$31,IF(AND($A40=YEAR(D$27),$A40=YEAR(D$28)),(D$28-D$27+1)*D$31,IF($A40=YEAR(D$27),(DATE(YEAR(D$27),12,31)-D$27+1)*D$31,IF($A40=YEAR(D$28),(D$28-DATE(YEAR(D$28),1,1))*D$31,0)))) -> 0 | E40: =IF(AND($A40>YEAR(E$27),$A40<YEAR(E$28)),(DATE($A40,12,31)-DATE($A40,1,0))*E$31,IF(AND($A40=YEAR(E$27),$A40=YEAR(E$28)),(E$28-E$27+1)*E$31,IF($A40=YEAR(E$27),(DATE(YEAR(E$27),12,31)-E$27+1)*E$31,IF($A40=YEAR(E$28),(E$28-DATE(YEAR(E$28),1,1))*E$31,0)))) -> 0 | F40: =IF(AND($A40>YEAR(F$27),$A40<YEAR(F$28)),(DATE($A40,12,31)-DATE($A40,1,0))*F$31,IF(AND($A40=YEAR(F$27),$A40=YEAR(F$28)),(F$28-F$27+1)*F$31,IF($A40=YEAR(F$27),(DATE(YEAR(F$27),12,31)-F$27+1)*F$31,IF($A40=YEAR(F$28),(F$28-DATE(YEAR(F$28),1,1))*F$31,0)))) -> 0 | G40: =IF(AND($A40>YEAR(G$27),$A40<YEAR(G$28)),(DATE($A40,12,31)-DATE($A40,1,0))*G$31,IF(AND($A40=YEAR(G$27),$A40=YEAR(G$28)),(G$28-G$27+1)*G$31,IF($A40=YEAR(G$27),(DATE(YEAR(G$27),12,31)-G$27+1)*G$31,IF($A40=YEAR(G$28),(G$28-DATE(YEAR(G$28),1,1))*G$31,0)))) -> 0 | H40: =IF(AND($A40>YEAR(H$27),$A40<YEAR(H$28)),(DATE($A40,12,31)-DATE($A40,1,0))*H$31,IF(AND($A40=YEAR(H$27),$A40=YEAR(H$28)),(H$28-H$27+1)*H$31,IF($A40=YEAR(H$27),(DATE(YEAR(H$27),12,31)-H$27+1)*H$31,IF($A40=YEAR(H$28),(H$28-DATE(YEAR(H$28),1,1))*H$31,0)))) -> 0 | I40: =IF(AND($A40>YEAR(I$27),$A40<YEAR(I$28)),(DATE($A40,12,31)-DATE($A40,1,0))*I$31,IF(AND($A40=YEAR(I$27),$A40=YEAR(I$28)),(I$28-I$27+1)*I$31,IF($A40=YEAR(I$27),(DATE(YEAR(I$27),12,31)-I$27+1)*I$31,IF($A40=YEAR(I$28),(I$28-DATE(YEAR(I$28),1,1))*I$31,0)))) -> 0 | ... AO40: =IF(AND($A40>YEAR(AO$27),$A40<YEAR(AO$28)),(DATE($A40,12,31)-DATE($A40,1,0))*AO$31,IF(AND($A40=YEAR(AO$27),$A40=YEAR(AO$28)),(AO$28-AO$27+1)*AO$31,IF($A40=YEAR(AO$27),(DATE(YEAR(AO$27),12,31)-AO$27+1)*AO$31,IF($A40=YEAR(AO$28),(AO$28-DATE(YEAR(AO$28),1,1))*AO$31,0)))) -> 0
A41: =FEO!$L$5 -> 2033 | B41: =IF(AND($A41>YEAR(B$27),$A41<YEAR(B$28)),(DATE($A41,12,31)-DATE($A41,1,0))*B$31,IF(AND($A41=YEAR(B$27),$A41=YEAR(B$28)),(B$28-B$27+1)*B$31,IF($A41=YEAR(B$27),(DATE(YEAR(B$27),12,31)-B$27+1)*B$31,IF($A41=YEAR(B$28),(B$28-DATE(YEAR(B$28),1,1))*B$31,0)))) -> 0 | C41: =IF(AND($A41>YEAR(C$27),$A41<YEAR(C$28)),(DATE($A41,12,31)-DATE($A41,1,0))*C$31,IF(AND($A41=YEAR(C$27),$A41=YEAR(C$28)),(C$28-C$27+1)*C$31,IF($A41=YEAR(C$27),(DATE(YEAR(C$27),12,31)-C$27+1)*C$31,IF($A41=YEAR(C$28),(C$28-DATE(YEAR(C$28),1,1))*C$31,0)))) -> 0 | D41: =IF(AND($A41>YEAR(D$27),$A41<YEAR(D$28)),(DATE($A41,12,31)-DATE($A41,1,0))*D$31,IF(AND($A41=YEAR(D$27),$A41=YEAR(D$28)),(D$28-D$27+1)*D$31,IF($A41=YEAR(D$27),(DATE(YEAR(D$27),12,31)-D$27+1)*D$31,IF($A41=YEAR(D$28),(D$28-DATE(YEAR(D$28),1,1))*D$31,0)))) -> 0 | E41: =IF(AND($A41>YEAR(E$27),$A41<YEAR(E$28)),(DATE($A41,12,31)-DATE($A41,1,0))*E$31,IF(AND($A41=YEAR(E$27),$A41=YEAR(E$28)),(E$28-E$27+1)*E$31,IF($A41=YEAR(E$27),(DATE(YEAR(E$27),12,31)-E$27+1)*E$31,IF($A41=YEAR(E$28),(E$28-DATE(YEAR(E$28),1,1))*E$31,0)))) -> 0 | F41: =IF(AND($A41>YEAR(F$27),$A41<YEAR(F$28)),(DATE($A41,12,31)-DATE($A41,1,0))*F$31,IF(AND($A41=YEAR(F$27),$A41=YEAR(F$28)),(F$28-F$27+1)*F$31,IF($A41=YEAR(F$27),(DATE(YEAR(F$27),12,31)-F$27+1)*F$31,IF($A41=YEAR(F$28),(F$28-DATE(YEAR(F$28),1,1))*F$31,0)))) -> 0 | G41: =IF(AND($A41>YEAR(G$27),$A41<YEAR(G$28)),(DATE($A41,12,31)-DATE($A41,1,0))*G$31,IF(AND($A41=YEAR(G$27),$A41=YEAR(G$28)),(G$28-G$27+1)*G$31,IF($A41=YEAR(G$27),(DATE(YEAR(G$27),12,31)-G$27+1)*G$31,IF($A41=YEAR(G$28),(G$28-DATE(YEAR(G$28),1,1))*G$31,0)))) -> 0 | H41: =IF(AND($A41>YEAR(H$27),$A41<YEAR(H$28)),(DATE($A41,12,31)-DATE($A41,1,0))*H$31,IF(AND($A41=YEAR(H$27),$A41=YEAR(H$28)),(H$28-H$27+1)*H$31,IF($A41=YEAR(H$27),(DATE(YEAR(H$27),12,31)-H$27+1)*H$31,IF($A41=YEAR(H$28),(H$28-DATE(YEAR(H$28),1,1))*H$31,0)))) -> 0 | I41: =IF(AND($A41>YEAR(I$27),$A41<YEAR(I$28)),(DATE($A41,12,31)-DATE($A41,1,0))*I$31,IF(AND($A41=YEAR(I$27),$A41=YEAR(I$28)),(I$28-I$27+1)*I$31,IF($A41=YEAR(I$27),(DATE(YEAR(I$27),12,31)-I$27+1)*I$31,IF($A41=YEAR(I$28),(I$28-DATE(YEAR(I$28),1,1))*I$31,0)))) -> 0 | ... AO41: =IF(AND($A41>YEAR(AO$27),$A41<YEAR(AO$28)),(DATE($A41,12,31)-DATE($A41,1,0))*AO$31,IF(AND($A41=YEAR(AO$27),$A41=YEAR(AO$28)),(AO$28-AO$27+1)*AO$31,IF($A41=YEAR(AO$27),(DATE(YEAR(AO$27),12,31)-AO$27+1)*AO$31,IF($A41=YEAR(AO$28),(AO$28-DATE(YEAR(AO$28),1,1))*AO$31,0)))) -> 0
A42: =FEO!$M$5 -> 2034 | B42: =IF(AND($A42>YEAR(B$27),$A42<YEAR(B$28)),(DATE($A42,12,31)-DATE($A42,1,0))*B$31,IF(AND($A42=YEAR(B$27),$A42=YEAR(B$28)),(B$28-B$27+1)*B$31,IF($A42=YEAR(B$27),(DATE(YEAR(B$27),12,31)-B$27+1)*B$31,IF($A42=YEAR(B$28),(B$28-DATE(YEAR(B$28),1,1)+1)*B$31,0)))) -> 0 | C42: =IF(AND($A42>YEAR(C$27),$A42<YEAR(C$28)),(DATE($A42,12,31)-DATE($A42,1,0))*C$31,IF(AND($A42=YEAR(C$27),$A42=YEAR(C$28)),(C$28-C$27+1)*C$31,IF($A42=YEAR(C$27),(DATE(YEAR(C$27),12,31)-C$27+1)*C$31,IF($A42=YEAR(C$28),(C$28-DATE(YEAR(C$28),1,1)+1)*C$31,0)))) -> 0 | D42: =IF(AND($A42>YEAR(D$27),$A42<YEAR(D$28)),(DATE($A42,12,31)-DATE($A42,1,0))*D$31,IF(AND($A42=YEAR(D$27),$A42=YEAR(D$28)),(D$28-D$27+1)*D$31,IF($A42=YEAR(D$27),(DATE(YEAR(D$27),12,31)-D$27+1)*D$31,IF($A42=YEAR(D$28),(D$28-DATE(YEAR(D$28),1,1)+1)*D$31,0)))) -> 0 | E42: =IF(AND($A42>YEAR(E$27),$A42<YEAR(E$28)),(DATE($A42,12,31)-DATE($A42,1,0))*E$31,IF(AND($A42=YEAR(E$27),$A42=YEAR(E$28)),(E$28-E$27+1)*E$31,IF($A42=YEAR(E$27),(DATE(YEAR(E$27),12,31)-E$27+1)*E$31,IF($A42=YEAR(E$28),(E$28-DATE(YEAR(E$28),1,1)+1)*E$31,0)))) -> 0 | F42: =IF(AND($A42>YEAR(F$27),$A42<YEAR(F$28)),(DATE($A42,12,31)-DATE($A42,1,0))*F$31,IF(AND($A42=YEAR(F$27),$A42=YEAR(F$28)),(F$28-F$27+1)*F$31,IF($A42=YEAR(F$27),(DATE(YEAR(F$27),12,31)-F$27+1)*F$31,IF($A42=YEAR(F$28),(F$28-DATE(YEAR(F$28),1,1)+1)*F$31,0)))) -> 0 | G42: =IF(AND($A42>YEAR(G$27),$A42<YEAR(G$28)),(DATE($A42,12,31)-DATE($A42,1,0))*G$31,IF(AND($A42=YEAR(G$27),$A42=YEAR(G$28)),(G$28-G$27+1)*G$31,IF($A42=YEAR(G$27),(DATE(YEAR(G$27),12,31)-G$27+1)*G$31,IF($A42=YEAR(G$28),(G$28-DATE(YEAR(G$28),1,1)+1)*G$31,0)))) -> 0 | H42: =IF(AND($A42>YEAR(H$27),$A42<YEAR(H$28)),(DATE($A42,12,31)-DATE($A42,1,0))*H$31,IF(AND($A42=YEAR(H$27),$A42=YEAR(H$28)),(H$28-H$27+1)*H$31,IF($A42=YEAR(H$27),(DATE(YEAR(H$27),12,31)-H$27+1)*H$31,IF($A42=YEAR(H$28),(H$28-DATE(YEAR(H$28),1,1)+1)*H$31,0)))) -> 0 | I42: =IF(AND($A42>YEAR(I$27),$A42<YEAR(I$28)),(DATE($A42,12,31)-DATE($A42,1,0))*I$31,IF(AND($A42=YEAR(I$27),$A42=YEAR(I$28)),(I$28-I$27+1)*I$31,IF($A42=YEAR(I$27),(DATE(YEAR(I$27),12,31)-I$27+1)*I$31,IF($A42=YEAR(I$28),(I$28-DATE(YEAR(I$28),1,1)+1)*I$31,0)))) -> 0 | ... AO42: =IF(AND($A42>YEAR(AO$27),$A42<YEAR(AO$28)),(DATE($A42,12,31)-DATE($A42,1,0))*AO$31,IF(AND($A42=YEAR(AO$27),$A42=YEAR(AO$28)),(AO$28-AO$27+1)*AO$31,IF($A42=YEAR(AO$27),(DATE(YEAR(AO$27),12,31)-AO$27+1)*AO$31,IF($A42=YEAR(AO$28),(AO$28-DATE(YEAR(AO$28),1,1)+1)*AO$31,0)))) -> 0
A44: TOTAAL | B44: =SUM(B36:B43) -> 0 | C44: =SUM(C36:C43) -> 0 | D44: =SUM(D36:D43) -> 0 | E44: =SUM(E36:E43) -> 0 | F44: =SUM(F36:F43) -> 0 | G44: =SUM(G36:G43) -> 0 | H44: =SUM(H36:H43) -> 0 | I44: =SUM(I36:I43) -> 0 | ... AO44: =SUM(AO36:AO43) -> 0
...

Sheet B.03
A1: B.03 Leasekosten treinmaterieel | L1: Instructie | M1: Vul de oranje cellen in
A2: terug | N2: =FEO!R1 -> Versie | O2: =FEO!R2 -> Publicatie
A4: Omschrijving treinstel | B4: <tekst>
A5: Bouwjaar | B5: <JJJJ>
A6: Aandrijving | B6: <tekst>
A7: Type leaseovereenkomst
A8: Aantal treinstellen
A9: Leasebedrag per treinstel
A10: Totaal treinstellen | B10: =B9*B8 -> 0 | C10: =C9*C8 -> 0 | D10: =D9*D8 -> 0 | E10: =E9*E8 -> 0 | F10: =F9*F8 -> 0 | G10: =G9*G8 -> 0 | H10: =H9*H8 -> 0 | I10: =I9*I8 -> 0 | ... O10: =O9*O8 -> 0
A11: Datum Instroom concessie
A12: Datum Uitstroom concessie
A13: Leasetermijn in maanden | B13: =DATEDIF(B11,B12,"M") -> 0 | C13: =DATEDIF(C11,C12,"M") -> 0 | D13: =DATEDIF(D11,D12,"M") -> 0 | E13: =DATEDIF(E11,E12,"M") -> 0 | F13: =DATEDIF(F11,F12,"M") -> 0 | G13: =DATEDIF(G11,G12,"M") -> 0 | H13: =DATEDIF(H11,H12,"M") -> 0 | I13: =DATEDIF(I11,I12,"M") -> 0 | ... O13: =DATEDIF(O11,O12,"M") -> 0
A14: Leasebedrag per maand | B14: =IFERROR(B10/B13,0) -> 0 | C14: =IFERROR(C10/C13,0) -> 0 | D14: =IFERROR(D10/D13,0) -> 0 | E14: =IFERROR(E10/E13,0) -> 0 | F14: =IFERROR(F10/F13,0) -> 0 | G14: =IFERROR(G10/G13,0) -> 0 | H14: =IFERROR(H10/H13,0) -> 0 | I14: =IFERROR(I10/I13,0) -> 0 | ... O14: =IFERROR(O10/O13,0) -> 0
A16: Jaren
A17: =FEO!$G$5 -> 2028 | B17: =IF(AND($A17>YEAR(B$11),$A17<YEAR(B$12)),12*B$14,IF($A17=YEAR(B$11),(12-MONTH(B$11)+1)*B$14,IF($A17=YEAR(B$12),(MONTH(B$12))*B$14,0))) -> 0 | C17: =IF(AND($A17>YEAR(C$11),$A17<YEAR(C$12)),12*C$14,IF($A17=YEAR(C$11),(12-MONTH(C$11)+1)*C$14,IF($A17=YEAR(C$12),(MONTH(C$12))*C$14,0))) -> 0 | D17: =IF(AND($A17>YEAR(D$11),$A17<YEAR(D$12)),12*D$14,IF($A17=YEAR(D$11),(12-MONTH(D$11)+1)*D$14,IF($A17=YEAR(D$12),(MONTH(D$12))*D$14,0))) -> 0 | E17: =IF(AND($A17>YEAR(E$11),$A17<YEAR(E$12)),12*E$14,IF($A17=YEAR(E$11),(12-MONTH(E$11)+1)*E$14,IF($A17=YEAR(E$12),(MONTH(E$12))*E$14,0))) -> 0 | F17: =IF(AND($A17>YEAR(F$11),$A17<YEAR(F$12)),12*F$14,IF($A17=YEAR(F$11),(12-MONTH(F$11)+1)*F$14,IF($A17=YEAR(F$12),(MONTH(F$12))*F$14,0))) -> 0 | G17: =IF(AND($A17>YEAR(G$11),$A17<YEAR(G$12)),12*G$14,IF($A17=YEAR(G$11),(12-MONTH(G$11)+1)*G$14,IF($A17=YEAR(G$12),(MONTH(G$12))*G$14,0))) -> 0 | H17: =IF(AND($A17>YEAR(H$11),$A17<YEAR(H$12)),12*H$14,IF($A17=YEAR(H$11),(12-MONTH(H$11)+1)*H$14,IF($A17=YEAR(H$12),(MONTH(H$12))*H$14,0))) -> 0 | I17: =IF(AND($A17>YEAR(I$11),$A17<YEAR(I$12)),12*I$14,IF($A17=YEAR(I$11),(12-MONTH(I$11)+1)*I$14,IF($A17=YEAR(I$12),(MONTH(I$12))*I$14,0))) -> 0 | ... O17: =IF(AND($A17>YEAR(O$11),$A17<YEAR(O$12)),12*O$14,IF($A17=YEAR(O$11),(12-MONTH(O$11)+1)*O$14,IF($A17=YEAR(O$12),(MONTH(O$12))*O$14,0))) -> 0
A18: =FEO!$H$5 -> 2029 | B18: =IF(AND($A18>YEAR(B$11),$A18<YEAR(B$12)),12*B$14,IF($A18=YEAR(B$11),(12-MONTH(B$11)+1)*B$14,IF($A18=YEAR(B$12),(MONTH(B$12))*B$14,0))) -> 0 | C18: =IF(AND($A18>YEAR(C$11),$A18<YEAR(C$12)),12*C$14,IF($A18=YEAR(C$11),(12-MONTH(C$11)+1)*C$14,IF($A18=YEAR(C$12),(MONTH(C$12))*C$14,0))) -> 0 | D18: =IF(AND($A18>YEAR(D$11),$A18<YEAR(D$12)),12*D$14,IF($A18=YEAR(D$11),(12-MONTH(D$11)+1)*D$14,IF($A18=YEAR(D$12),(MONTH(D$12))*D$14,0))) -> 0 | E18: =IF(AND($A18>YEAR(E$11),$A18<YEAR(E$12)),12*E$14,IF($A18=YEAR(E$11),(12-MONTH(E$11)+1)*E$14,IF($A18=YEAR(E$12),(MONTH(E$12))*E$14,0))) -> 0 | F18: =IF(AND($A18>YEAR(F$11),$A18<YEAR(F$12)),12*F$14,IF($A18=YEAR(F$11),(12-MONTH(F$11)+1)*F$14,IF($A18=YEAR(F$12),(MONTH(F$12))*F$14,0))) -> 0 | G18: =IF(AND($A18>YEAR(G$11),$A18<YEAR(G$12)),12*G$14,IF($A18=YEAR(G$11),(12-MONTH(G$11)+1)*G$14,IF($A18=YEAR(G$12),(MONTH(G$12))*G$14,0))) -> 0 | H18: =IF(AND($A18>YEAR(H$11),$A18<YEAR(H$12)),12*H$14,IF($A18=YEAR(H$11),(12-MONTH(H$11)+1)*H$14,IF($A18=YEAR(H$12),(MONTH(H$12))*H$14,0))) -> 0 | I18: =IF(AND($A18>YEAR(I$11),$A18<YEAR(I$12)),12*I$14,IF($A18=YEAR(I$11),(12-MONTH(I$11)+1)*I$14,IF($A18=YEAR(I$12),(MONTH(I$12))*I$14,0))) -> 0 | ... O18: =IF(AND($A18>YEAR(O$11),$A18<YEAR(O$12)),12*O$14,IF($A18=YEAR(O$11),(12-MONTH(O$11)+1)*O$14,IF($A18=YEAR(O$12),(MONTH(O$12))*O$14,0))) -> 0
A19: =FEO!$I$5 -> 2030 | B19: =IF(AND($A19>YEAR(B$11),$A19<YEAR(B$12)),12*B$14,IF($A19=YEAR(B$11),(12-MONTH(B$11)+1)*B$14,IF($A19=YEAR(B$12),(MONTH(B$12))*B$14,0))) -> 0 | C19: =IF(AND($A19>YEAR(C$11),$A19<YEAR(C$12)),12*C$14,IF($A19=YEAR(C$11),(12-MONTH(C$11)+1)*C$14,IF($A19=YEAR(C$12),(MONTH(C$12))*C$14,0))) -> 0 | D19: =IF(AND($A19>YEAR(D$11),$A19<YEAR(D$12)),12*D$14,IF($A19=YEAR(D$11),(12-MONTH(D$11)+1)*D$14,IF($A19=YEAR(D$12),(MONTH(D$12))*D$14,0))) -> 0 | E19: =IF(AND($A19>YEAR(E$11),$A19<YEAR(E$12)),12*E$14,IF($A19=YEAR(E$11),(12-MONTH(E$11)+1)*E$14,IF($A19=YEAR(E$12),(MONTH(E$12))*E$14,0))) -> 0 | F19: =IF(AND($A19>YEAR(F$11),$A19<YEAR(F$12)),12*F$14,IF($A19=YEAR(F$11),(12-MONTH(F$11)+1)*F$14,IF($A19=YEAR(F$12),(MONTH(F$12))*F$14,0))) -> 0 | G19: =IF(AND($A19>YEAR(G$11),$A19<YEAR(G$12)),12*G$14,IF($A19=YEAR(G$11),(12-MONTH(G$11)+1)*G$14,IF($A19=YEAR(G$12),(MONTH(G$12))*G$14,0))) -> 0 | H19: =IF(AND($A19>YEAR(H$11),$A19<YEAR(H$12)),12*H$14,IF($A19=YEAR(H$11),(12-MONTH(H$11)+1)*H$14,IF($A19=YEAR(H$12),(MONTH(H$12))*H$14,0))) -> 0 | I19: =IF(AND($A19>YEAR(I$11),$A19<YEAR(I$12)),12*I$14,IF($A19=YEAR(I$11),(12-MONTH(I$11)+1)*I$14,IF($A19=YEAR(I$12),(MONTH(I$12))*I$14,0))) -> 0 | ... O19: =IF(AND($A19>YEAR(O$11),$A19<YEAR(O$12)),12*O$14,IF($A19=YEAR(O$11),(12-MONTH(O$11)+1)*O$14,IF($A19=YEAR(O$12),(MONTH(O$12))*O$14,0))) -> 0
A20: =FEO!$J$5 -> 2031 | B20: =IF(AND($A20>YEAR(B$11),$A20<YEAR(B$12)),12*B$14,IF($A20=YEAR(B$11),(12-MONTH(B$11)+1)*B$14,IF($A20=YEAR(B$12),(MONTH(B$12))*B$14,0))) -> 0 | C20: =IF(AND($A20>YEAR(C$11),$A20<YEAR(C$12)),12*C$14,IF($A20=YEAR(C$11),(12-MONTH(C$11)+1)*C$14,IF($A20=YEAR(C$12),(MONTH(C$12))*C$14,0))) -> 0 | D20: =IF(AND($A20>YEAR(D$11),$A20<YEAR(D$12)),12*D$14,IF($A20=YEAR(D$11),(12-MONTH(D$11)+1)*D$14,IF($A20=YEAR(D$12),(MONTH(D$12))*D$14,0))) -> 0 | E20: =IF(AND($A20>YEAR(E$11),$A20<YEAR(E$12)),12*E$14,IF($A20=YEAR(E$11),(12-MONTH(E$11)+1)*E$14,IF($A20=YEAR(E$12),(MONTH(E$12))*E$14,0))) -> 0 | F20: =IF(AND($A20>YEAR(F$11),$A20<YEAR(F$12)),12*F$14,IF($A20=YEAR(F$11),(12-MONTH(F$11)+1)*F$14,IF($A20=YEAR(F$12),(MONTH(F$12))*F$14,0))) -> 0 | G20: =IF(AND($A20>YEAR(G$11),$A20<YEAR(G$12)),12*G$14,IF($A20=YEAR(G$11),(12-MONTH(G$11)+1)*G$14,IF($A20=YEAR(G$12),(MONTH(G$12))*G$14,0))) -> 0 | H20: =IF(AND($A20>YEAR(H$11),$A20<YEAR(H$12)),12*H$14,IF($A20=YEAR(H$11),(12-MONTH(H$11)+1)*H$14,IF($A20=YEAR(H$12),(MONTH(H$12))*H$14,0))) -> 0 | I20: =IF(AND($A20>YEAR(I$11),$A20<YEAR(I$12)),12*I$14,IF($A20=YEAR(I$11),(12-MONTH(I$11)+1)*I$14,IF($A20=YEAR(I$12),(MONTH(I$12))*I$14,0))) -> 0 | ... O20: =IF(AND($A20>YEAR(O$11),$A20<YEAR(O$12)),12*O$14,IF($A20=YEAR(O$11),(12-MONTH(O$11)+1)*O$14,IF($A20=YEAR(O$12),(MONTH(O$12))*O$14,0))) -> 0
A21: =FEO!$K$5 -> 2032 | B21: =IF(AND($A21>YEAR(B$11),$A21<YEAR(B$12)),12*B$14,IF($A21=YEAR(B$11),(12-MONTH(B$11)+1)*B$14,IF($A21=YEAR(B$12),(MONTH(B$12))*B$14,0))) -> 0 | C21: =IF(AND($A21>YEAR(C$11),$A21<YEAR(C$12)),12*C$14,IF($A21=YEAR(C$11),(12-MONTH(C$11)+1)*C$14,IF($A21=YEAR(C$12),(MONTH(C$12))*C$14,0))) -> 0 | D21: =IF(AND($A21>YEAR(D$11),$A21<YEAR(D$12)),12*D$14,IF($A21=YEAR(D$11),(12-MONTH(D$11)+1)*D$14,IF($A21=YEAR(D$12),(MONTH(D$12))*D$14,0))) -> 0 | E21: =IF(AND($A21>YEAR(E$11),$A21<YEAR(E$12)),12*E$14,IF($A21=YEAR(E$11),(12-MONTH(E$11)+1)*E$14,IF($A21=YEAR(E$12),(MONTH(E$12))*E$14,0))) -> 0 | F21: =IF(AND($A21>YEAR(F$11),$A21<YEAR(F$12)),12*F$14,IF($A21=YEAR(F$11),(12-MONTH(F$11)+1)*F$14,IF($A21=YEAR(F$12),(MONTH(F$12))*F$14,0))) -> 0 | G21: =IF(AND($A21>YEAR(G$11),$A21<YEAR(G$12)),12*G$14,IF($A21=YEAR(G$11),(12-MONTH(G$11)+1)*G$14,IF($A21=YEAR(G$12),(MONTH(G$12))*G$14,0))) -> 0 | H21: =IF(AND($A21>YEAR(H$11),$A21<YEAR(H$12)),12*H$14,IF($A21=YEAR(H$11),(12-MONTH(H$11)+1)*H$14,IF($A21=YEAR(H$12),(MONTH(H$12))*H$14,0))) -> 0 | I21: =IF(AND($A21>YEAR(I$11),$A21<YEAR(I$12)),12*I$14,IF($A21=YEAR(I$11),(12-MONTH(I$11)+1)*I$14,IF($A21=YEAR(I$12),(MONTH(I$12))*I$14,0))) -> 0 | ... O21: =IF(AND($A21>YEAR(O$11),$A21<YEAR(O$12)),12*O$14,IF($A21=YEAR(O$11),(12-MONTH(O$11)+1)*O$14,IF($A21=YEAR(O$12),(MONTH(O$12))*O$14,0))) -> 0
A22: =FEO!$L$5 -> 2033 | B22: =IF(AND($A22>YEAR(B$11),$A22<YEAR(B$12)),12*B$14,IF($A22=YEAR(B$11),(12-MONTH(B$11)+1)*B$14,IF($A22=YEAR(B$12),(MONTH(B$12))*B$14,0))) -> 0 | C22: =IF(AND($A22>YEAR(C$11),$A22<YEAR(C$12)),12*C$14,IF($A22=YEAR(C$11),(12-MONTH(C$11)+1)*C$14,IF($A22=YEAR(C$12),(MONTH(C$12))*C$14,0))) -> 0 | D22: =IF(AND($A22>YEAR(D$11),$A22<YEAR(D$12)),12*D$14,IF($A22=YEAR(D$11),(12-MONTH(D$11)+1)*D$14,IF($A22=YEAR(D$12),(MONTH(D$12))*D$14,0))) -> 0 | E22: =IF(AND($A22>YEAR(E$11),$A22<YEAR(E$12)),12*E$14,IF($A22=YEAR(E$11),(12-MONTH(E$11)+1)*E$14,IF($A22=YEAR(E$12),(MONTH(E$12))*E$14,0))) -> 0 | F22: =IF(AND($A22>YEAR(F$11),$A22<YEAR(F$12)),12*F$14,IF($A22=YEAR(F$11),(12-MONTH(F$11)+1)*F$14,IF($A22=YEAR(F$12),(MONTH(F$12))*F$14,0))) -> 0 | G22: =IF(AND($A22>YEAR(G$11),$A22<YEAR(G$12)),12*G$14,IF($A22=YEAR(G$11),(12-MONTH(G$11)+1)*G$14,IF($A22=YEAR(G$12),(MONTH(G$12))*G$14,0))) -> 0 | H22: =IF(AND($A22>YEAR(H$11),$A22<YEAR(H$12)),12*H$14,IF($A22=YEAR(H$11),(12-MONTH(H$11)+1)*H$14,IF($A22=YEAR(H$12),(MONTH(H$12))*H$14,0))) -> 0 | I22: =IF(AND($A22>YEAR(I$11),$A22<YEAR(I$12)),12*I$14,IF($A22=YEAR(I$11),(12-MONTH(I$11)+1)*I$14,IF($A22=YEAR(I$12),(MONTH(I$12))*I$14,0))) -> 0 | ... O22: =IF(AND($A22>YEAR(O$11),$A22<YEAR(O$12)),12*O$14,IF($A22=YEAR(O$11),(12-MONTH(O$11)+1)*O$14,IF($A22=YEAR(O$12),(MONTH(O$12))*O$14,0))) -> 0
A23: =FEO!$M$5 -> 2034 | B23: =IF(AND($A23>YEAR(B$11),$A23<YEAR(B$12)),12*B$14,IF($A23=YEAR(B$11),(12-MONTH(B$11)+1)*B$14,IF($A23=YEAR(B$12),(MONTH(B$12))*B$14,0))) -> 0 | C23: =IF(AND($A23>YEAR(C$11),$A23<YEAR(C$12)),12*C$14,IF($A23=YEAR(C$11),(12-MONTH(C$11)+1)*C$14,IF($A23=YEAR(C$12),(MONTH(C$12))*C$14,0))) -> 0 | D23: =IF(AND($A23>YEAR(D$11),$A23<YEAR(D$12)),12*D$14,IF($A23=YEAR(D$11),(12-MONTH(D$11)+1)*D$14,IF($A23=YEAR(D$12),(MONTH(D$12))*D$14,0))) -> 0 | E23: =IF(AND($A23>YEAR(E$11),$A23<YEAR(E$12)),12*E$14,IF($A23=YEAR(E$11),(12-MONTH(E$11)+1)*E$14,IF($A23=YEAR(E$12),(MONTH(E$12))*E$14,0))) -> 0 | F23: =IF(AND($A23>YEAR(F$11),$A23<YEAR(F$12)),12*F$14,IF($A23=YEAR(F$11),(12-MONTH(F$11)+1)*F$14,IF($A23=YEAR(F$12),(MONTH(F$12))*F$14,0))) -> 0 | G23: =IF(AND($A23>YEAR(G$11),$A23<YEAR(G$12)),12*G$14,IF($A23=YEAR(G$11),(12-MONTH(G$11)+1)*G$14,IF($A23=YEAR(G$12),(MONTH(G$12))*G$14,0))) -> 0 | H23: =IF(AND($A23>YEAR(H$11),$A23<YEAR(H$12)),12*H$14,IF($A23=YEAR(H$11),(12-MONTH(H$11)+1)*H$14,IF($A23=YEAR(H$12),(MONTH(H$12))*H$14,0))) -> 0 | I23: =IF(AND($A23>YEAR(I$11),$A23<YEAR(I$12)),12*I$14,IF($A23=YEAR(I$11),(12-MONTH(I$11)+1)*I$14,IF($A23=YEAR(I$12),(MONTH(I$12))*I$14,0))) -> 0 | ... O23: =IF(AND($A23>YEAR(O$11),$A23<YEAR(O$12)),12*O$14,IF($A23=YEAR(O$11),(12-MONTH(O$11)+1)*O$14,IF($A23=YEAR(O$12),(MONTH(O$12))*O$14,0))) -> 0
A25: TOTAAL | B25: =SUM(B17:B24) -> 0 | C25: =SUM(C17:C24) -> 0 | D25: =SUM(D17:D24) -> 0 | E25: =SUM(E17:E24) -> 0 | F25: =SUM(F17:F24) -> 0 | G25: =SUM(G17:G24) -> 0 | H25: =SUM(H17:H24) -> 0 | I25: =SUM(I17:I24) -> 0 | ... O25: =SUM(O17:O24) -> 0

Sheet D.01
A1: D.01 Gebruiksvergoeding ProRail Zutphen-Oldenzaal
A2: terug | H2: =FEO!R1 -> Versie | I2: =FEO!R2 -> Publicatie
A4: Toelichting: Vooraf ingevulde tarieven zijn ontleent aan de Netverklaring 2026 - bijgewerkt t/m aanvulling 3 van 21 november 2025
A6: Minimumtoegangspakket
A8: Tarieven treinpad + extra heffing
A10: Treinpad | C10: =FEO!G5 -> 2028 | D10: =FEO!H5 -> 2029 | E10: =FEO!I5 -> 2030 | F10: =FEO!J5 -> 2031 | G10: =FEO!K5 -> 2032 | H10: =FEO!L5 -> 2033 | I10: =FEO!M5 -> 2034
A11: 0-120 ton | C11: 0.5934 | D11: 0.5934 | E11: 0.5934 | F11: 0.5934 | G11: 0.5934 | H11: 0.5934 | I11: 0.5934
A12: 121-160 ton | C12: 0.7417 | D12: 0.7417 | E12: 0.7417 | F12: 0.7417 | G12: 0.7417 | H12: 0.7417 | I12: 0.7417
A13: 161-320 ton | C13: 0.9435 | D13: 0.9435 | E13: 0.9435 | F13: 0.9435 | G13: 0.9435 | H13: 0.9435 | I13: 0.9435
A14: 321-600 ton | C14: 1.3114 | D14: 1.3114 | E14: 1.3114 | F14: 1.3114 | G14: 1.3114 | H14: 1.3114 | I14: 1.3114
A16: Extra heffing | C16: =C$10 -> 2028 | D16: =D$10 -> 2029 | E16: =E$10 -> 2030 | F16: =F$10 -> 2031 | G16: =G$10 -> 2032 | H16: =H$10 -> 2033 | I16: =I$10 -> 2034
A17: 0-120 ton
A18: 121-160 ton
A19: 161-320 ton
A20: 321-600 ton
A22: Aantal Dienstregelingskilometers cf. dienstregeling
A24: Treinpad + extra heffing - Dienstregeling | C24: =C$10 -> 2028 | D24: =D$10 -> 2029 | E24: =E$10 -> 2030 | F24: =F$10 -> 2031 | G24: =G$10 -> 2032 | H24: =H$10 -> 2033 | I24: =I$10 -> 2034
A25: 0-120 ton
A26: 121-160 ton
A27: 161-320 ton
A28: 161-320 ton
A29: Totaal kilometers | C29: =SUM(C25:C28) -> 0 | D29: =SUM(D25:D28) -> 0 | E29: =SUM(E25:E28) -> 0 | F29: =SUM(F25:F28) -> 0 | G29: =SUM(G25:G28) -> 0 | H29: =SUM(H25:H28) -> 0 | I29: =SUM(I25:I28) -> 0
A30: Controle = 0 | C30: =C29-'I.01 DRK ZHO'!E74 -> -1227.6 | D30: =D29-'I.01 DRK ZHO'!F74 -> -20367 | E30: =E29-'I.01 DRK ZHO'!G74 -> -20367 | F30: =F29-'I.01 DRK ZHO'!H74 -> -20367 | G30: =G29-'I.01 DRK ZHO'!I74 -> -20422.8 | H30: =H29-'I.01 DRK ZHO'!J74 -> -20367 | I30: =I29-'I.01 DRK ZHO'!K74 -> -19306.8
A32: Subtotaal kosten | C32: =(C$11+C$17)*C25+(C$12+C$18)*C26+(C$13+C$19)*C27+(C$14+C$20)*C28 -> 0 | D32: =(D$11+D$17)*D25+(D$12+D$18)*D26+(D$13+D$19)*D27+(D$14+D$20)*D28 -> 0 | E32: =(E$11+E$17)*E25+(E$12+E$18)*E26+(E$13+E$19)*E27+(E$14+E$20)*E28 -> 0 | F32: =(F$11+F$17)*F25+(F$12+F$18)*F26+(F$13+F$19)*F27+(F$14+F$20)*F28 -> 0 | G32: =(G$11+G$17)*G25+(G$12+G$18)*G26+(G$13+G$19)*G27+(G$14+G$20)*G28 -> 0 | H32: =(H$11+H$17)*H25+(H$12+H$18)*H26+(H$13+H$19)*H27+(H$14+H$20)*H28 -> 0 | I32: =(I$11+I$17)*I25+(I$12+I$18)*I26+(I$13+I$19)*I27+(I$14+I$20)*I28 -> 0
A34: Aantal overige kilometers Mat-ritten
A36: Treinpad + extra heffing | C36: =C$10 -> 2028 | D36: =D$10 -> 2029 | E36: =E$10 -> 2030 | F36: =F$10 -> 2031 | G36: =G$10 -> 2032 | H36: =H$10 -> 2033 | I36: =I$10 -> 2034
A37: 0-120 ton
A38: 121-160 ton
A39: 161-320 ton
A40: 161-320 ton
A41: Totaal kilometers | C41: =SUM(C37:C40) -> 0 | D41: =SUM(D37:D40) -> 0 | E41: =SUM(E37:E40) -> 0 | F41: =SUM(F37:F40) -> 0 | G41: =SUM(G37:G40) -> 0 | H41: =SUM(H37:H40) -> 0 | I41: =SUM(I37:I40) -> 0
A43: Subtotaal kosten | C43: =(C$11+C$17)*C37+(C$12+C$18)*C38+(C$13+C$19)*C39+(C$14+C$20)*C40 -> 0 | D43: =(D$11+D$17)*D37+(D$12+D$18)*D38+(D$13+D$19)*D39+(D$14+D$20)*D40 -> 0 | E43: =(E$11+E$17)*E37+(E$12+E$18)*E38+(E$13+E$19)*E39+(E$14+E$20)*E40 -> 0 | F43: =(F$11+F$17)*F37+(F$12+F$18)*F38+(F$13+F$19)*F39+(F$14+F$20)*F40 -> 0 | G43: =(G$11+G$17)*G37+(G$12+G$18)*G38+(G$13+G$19)*G39+(G$14+G$20)*G40 -> 0 | H43: =(H$11+H$17)*H37+(H$12+H$18)*H38+(H$13+H$19)*H39+(H$14+H$20)*H40 -> 0 | I43: =(I$11+I$17)*I37+(I$12+I$18)*I38+(I$13+I$19)*I39+(I$14+I$20)*I40 -> 0
A45: Tarieven Perrons
A47: Perron | C47: =C$10 -> 2028 | D47: =D$10 -> 2029 | E47: =E$10 -> 2030 | F47: =F$10 -> 2031 | G47: =G$10 -> 2032 | H47: =H$10 -> 2033 | I47: =I$10 -> 2034
A48: Halte | C48: 0.07 | D48: 0.07 | E48: 0.07 | F48: 0.07 | G48: 0.07 | H48: 0.07 | I48: 0.07
A49: Basis | C49: 0.3 | D49: 0.3 | E49: 0.3 | F49: 0.3 | G49: 0.3 | H49: 0.3 | I49: 0.3
A50: Plus | C50: 0.8 | D50: 0.8 | E50: 0.8 | F50: 0.8 | G50: 0.8 | H50: 0.8 | I50: 0.8
A51: Mega | C51: 1.26 | D51: 1.26 | E51: 1.26 | F51: 1.26 | G51: 1.26 | H51: 1.26 | I51: 1.26
A52: Kathedraal | C52: 2.46 | D52: 2.46 | E52: 2.46 | F52: 2.46 | G52: 2.46 | H52: 2.46 | I52: 2.46
A54: Aantal halteringen Perron (zie transfer)
...

Sheet E.01
A1: E.01 Loonkosten onderhoudspersoneel | E1: Instructie | F1: Vul de oranje cellen in
A2: terug | G2: =FEO!R1 -> Versie | H2: =FEO!R2 -> Publicatie
A4: Jaar | B4: =FEO!G5 -> 2028 | C4: =FEO!H5 -> 2029 | D4: =FEO!I5 -> 2030 | E4: =FEO!J5 -> 2031 | F4: =FEO!K5 -> 2032 | G4: =FEO!L5 -> 2033 | H4: =FEO!M5 -> 2034
A5: Gemiddelde jaarloonsom per fte
A6: Aantal fte
A7: Totale loonsom | B7: =B5*B6 -> 0 | C7: =C5*C6 -> 0 | D7: =D5*D6 -> 0 | E7: =E5*E6 -> 0 | F7: =F5*F6 -> 0 | G7: =G5*G6 -> 0 | H7: =H5*H6 -> 0

Sheet E.02
A1: E.02 Loonkosten overige indirect personeel | E1: Instructie | F1: Vul de oranje cellen in
A2: terug | G2: =FEO!R1 -> Versie | H2: =FEO!R2 -> Publicatie
A4: Jaar | B4: =FEO!G5 -> 2028 | C4: =FEO!H5 -> 2029 | D4: =FEO!I5 -> 2030 | E4: =FEO!J5 -> 2031 | F4: =FEO!K5 -> 2032 | G4: =FEO!L5 -> 2033 | H4: =FEO!M5 -> 2034
A5: Gemiddelde jaarloonsom per fte
A6: Aantal fte
A7: Totale loonsom | B7: =B5*B6 -> 0 | C7: =C5*C6 -> 0 | D7: =D5*D6 -> 0 | E7: =E5*E6 -> 0 | F7: =F5*F6 -> 0 | G7: =G5*G6 -> 0 | H7: =H5*H6 -> 0

Sheet F.01
A1: F.01 Huisvesting | L1: Instructie | M1: Vul de oranje cellen in
A2: terug | N2: =FEO!R1 -> Versie | O2: =FEO!R2 -> Publicatie
A4: Locatie
A5: Adres
A6: Type locatie
A7: Eigendoms-situatie
A9: INVESTERINGSKOSTEN ONROEREND GOED
A11: Afschrijvingstermijn in jaren
A12: Specificatie aanschafprijs
A13: Aanschafprijs grond/kaval
A14: Specificatie aanschafprijs
A15: …
A16: …
A17: …
... A27: …
A28: Totaal aanschafprijs | B28: =(SUM(B15:B27)) -> 0 | C28: =(SUM(C15:C27)) -> 0 | D28: =(SUM(D15:D27)) -> 0 | E28: =(SUM(E15:E27)) -> 0 | F28: =(SUM(F15:F27)) -> 0 | G28: =(SUM(G15:G27)) -> 0 | H28: =(SUM(H15:H27)) -> 0 | I28: =(SUM(I15:I27)) -> 0 | ... O28: =(SUM(O15:O27)) -> 0
A29: Subsidies
A30: Fiscale regelingen
A31: Overige
A32: Totaal baten | B32: =(SUM(B29:B31)) -> 0 | C32: =(SUM(C29:C31)) -> 0 | D32: =(SUM(D29:D31)) -> 0 | E32: =(SUM(E29:E31)) -> 0 | F32: =(SUM(F29:F31)) -> 0 | G32: =(SUM(G29:G31)) -> 0 | H32: =(SUM(H29:H31)) -> 0 | I32: =(SUM(I29:I31)) -> 0 | ... O32: =(SUM(O29:O31)) -> 0
A33: Totaal aanschafwaarde | B33: =B32+B28 -> 0 | C33: =C32+C28 -> 0 | D33: =D32+D28 -> 0 | E33: =E32+E28 -> 0 | F33: =F32+F28 -> 0 | G33: =G32+G28 -> 0 | H33: =H32+H28 -> 0 | I33: =I32+I28 -> 0 | ... O33: =O32+O28 -> 0
A34: Datum in concessie
A35: Datum uit concessie
A36: Afschrijvingstermijn in dagen totaal | B36: =B11*365.25 -> 0 | C36: =C11*365.25 -> 0 | D36: =D11*365.25 -> 0 | E36: =E11*365.25 -> 0 | F36: =F11*365.25 -> 0 | G36: =G11*365.25 -> 0 | H36: =H11*365.25 -> 0 | I36: =I11*365.25 -> 0 | ... O36: =O11*365.25 -> 0
A37: Afschrijvingstermijn in dagen Concessie | B37: =IF(B34=0,0,B35-B34+1) -> 0 | C37: =IF(C34=0,0,C35-C34+1) -> 0 | D37: =IF(D34=0,0,D35-D34+1) -> 0 | E37: =IF(E34=0,0,E35-E34+1) -> 0 | F37: =IF(F34=0,0,F35-F34+1) -> 0 | G37: =IF(G34=0,0,G35-G34+1) -> 0 | H37: =IF(H34=0,0,H35-H34+1) -> 0 | I37: =IF(I34=0,0,I35-I34+1) -> 0 | ... O37: =IF(O34=0,0,O35-O34+1) -> 0
A38: Afschrijving per dag | B38: =IFERROR((B33)/B36,0) -> 0 | C38: =IFERROR((C33)/C36,0) -> 0 | D38: =IFERROR((D33)/D36,0) -> 0 | E38: =IFERROR((E33)/E36,0) -> 0 | F38: =IFERROR((F33)/F36,0) -> 0 | G38: =IFERROR((G33)/G36,0) -> 0 | H38: =IFERROR((H33)/H36,0) -> 0 | I38: =IFERROR((I33)/I36,0) -> 0 | ... O38: =IFERROR((O33)/O36,0) -> 0
A40: JAARLIJKSE KOSTEN BEHEER EN ONDERHOUD ONROEREND GOED
A42: Specificatie kostenpost
A43: …
A44: …
A45: …
A46: …
A47: …
A48: …
A49: …
A50: …
A51: …
A52: …
... A55: …
A56: Totaal jaarlijkste kosten | B56: =(SUM(B43:B55)) -> 0 | C56: =(SUM(C43:C55)) -> 0 | D56: =(SUM(D43:D55)) -> 0 | E56: =(SUM(E43:E55)) -> 0 | F56: =(SUM(F43:F55)) -> 0 | G56: =(SUM(G43:G55)) -> 0 | H56: =(SUM(H43:H55)) -> 0 | I56: =(SUM(I43:I55)) -> 0 | ... O56: =(SUM(O43:O55)) -> 0
...

Sheet F.02
A1: F.02 Installaties | L1: Instructie | M1: Vul de oranje cellen in
A2: terug | N2: =FEO!R1 -> Versie | O2: =FEO!R2 -> Publicatie
A4: Locatie
A5: Adres
A6: Type locatie
A7: Afschrijvingstermijn in jaren
A9: Specificatie aanschafprijs
A10: …
A11: …
A12: …
A13: …
A14: …
A15: …
A16: …
... A23: …
A24: Totaal aanschafprijs | B24: =SUM(B10:B23) -> 0 | C24: =SUM(C10:C23) -> 0 | D24: =SUM(D10:D23) -> 0 | E24: =SUM(E10:E23) -> 0 | F24: =SUM(F10:F23) -> 0 | G24: =SUM(G10:G23) -> 0 | H24: =SUM(H10:H23) -> 0 | I24: =SUM(I10:I23) -> 0 | ... O24: =SUM(O10:O23) -> 0
A25: Subsidies
A26: Fiscale regelingen
A27: Overige
A28: Totaal baten | B28: =SUM(B25:B27) -> 0 | C28: =SUM(C25:C27) -> 0 | D28: =SUM(D25:D27) -> 0 | E28: =SUM(E25:E27) -> 0 | F28: =SUM(F25:F27) -> 0 | G28: =SUM(G25:G27) -> 0 | H28: =SUM(H25:H27) -> 0 | I28: =SUM(I25:I27) -> 0 | ... O28: =SUM(O25:O27) -> 0
A29: Totaal aanschafwaarde | B29: =B28+B24 -> 0 | C29: =C28+C24 -> 0 | D29: =D28+D24 -> 0 | E29: =E28+E24 -> 0 | F29: =F28+F24 -> 0 | G29: =G28+G24 -> 0 | H29: =H28+H24 -> 0 | I29: =I28+I24 -> 0 | ... O29: =O28+O24 -> 0
A30: Datum in concessie | B30: 47097
A31: Datum uit concessie | B31: 52577
A32: Afschrijvingstermijn in dagen totaal | B32: =365.25*B7 -> 0 | C32: =365.25*C7 -> 0 | D32: =365.25*D7 -> 0 | E32: =365.25*E7 -> 0 | F32: =365.25*F7 -> 0 | G32: =365.25*G7 -> 0 | H32: =365.25*H7 -> 0 | I32: =365.25*I7 -> 0 | ... O32: =365.25*O7 -> 0
A33: Afschrijvingstermijn in dagen Concessie | B33: =IF(B30=0,0,B31-B30+1) -> 5481 | C33: =IF(C30=0,0,C31-C30+1) -> 0 | D33: =IF(D30=0,0,D31-D30+1) -> 0 | E33: =IF(E30=0,0,E31-E30+1) -> 0 | F33: =IF(F30=0,0,F31-F30+1) -> 0 | G33: =IF(G30=0,0,G31-G30+1) -> 0 | H33: =IF(H30=0,0,H31-H30+1) -> 0 | I33: =IF(I30=0,0,I31-I30+1) -> 0 | ... O33: =IF(O30=0,0,O31-O30+1) -> 0
A34: Afschrijving per dag | B34: =IFERROR((B29)/B32,0) -> 0 | C34: =IFERROR((C29)/C32,0) -> 0 | D34: =IFERROR((D29)/D32,0) -> 0 | E34: =IFERROR((E29)/E32,0) -> 0 | F34: =IFERROR((F29)/F32,0) -> 0 | G34: =IFERROR((G29)/G32,0) -> 0 | H34: =IFERROR((H29)/H32,0) -> 0 | I34: =IFERROR((I29)/I32,0) -> 0 | ... O34: =IFERROR((O29)/O32,0) -> 0
A36: AFSCHRIJVINGEN
A38: Jaren
A39: =FEO!$G$5 -> 2028 | B39: =IF(AND($A39>YEAR(B$30),$A39<YEAR(B$31)),(DATE($A39,12,31)-DATE($A39,1,0))*B$34,IF(AND($A39=YEAR(B$30),$A39=YEAR(B$31)),(B$31-B$30+1)*B$34,IF($A39=YEAR(B$30),(DATE(YEAR(B$30),12,31)-B$30+1)*B$34,IF($A39=YEAR(B$31),(B$31-DATE(YEAR(B$31),1,1)+1)*B$34,0)))) -> 0 | C39: =IF(AND($A39>YEAR(C$30),$A39<YEAR(C$31)),(DATE($A39,12,31)-DATE($A39,1,0))*C$34,IF(AND($A39=YEAR(C$30),$A39=YEAR(C$31)),(C$31-C$30)*C$34,IF($A39=YEAR(C$30),(DATE(YEAR(C$30),12,31)-C$30+1)*C$34,IF($A39=YEAR(C$31),(C$31-DATE(YEAR(C$31),1,1)+1)*C$34,0)))) -> 0 | D39: =IF(AND($A39>YEAR(D$30),$A39<YEAR(D$31)),(DATE($A39,12,31)-DATE($A39,1,0))*D$34,IF(AND($A39=YEAR(D$30),$A39=YEAR(D$31)),(D$31-D$30)*D$34,IF($A39=YEAR(D$30),(DATE(YEAR(D$30),12,31)-D$30+1)*D$34,IF($A39=YEAR(D$31),(D$31-DATE(YEAR(D$31),1,1)+1)*D$34,0)))) -> 0 | E39: =IF(AND($A39>YEAR(E$30),$A39<YEAR(E$31)),(DATE($A39,12,31)-DATE($A39,1,0))*E$34,IF(AND($A39=YEAR(E$30),$A39=YEAR(E$31)),(E$31-E$30)*E$34,IF($A39=YEAR(E$30),(DATE(YEAR(E$30),12,31)-E$30+1)*E$34,IF($A39=YEAR(E$31),(E$31-DATE(YEAR(E$31),1,1)+1)*E$34,0)))) -> 0 | F39: =IF(AND($A39>YEAR(F$30),$A39<YEAR(F$31)),(DATE($A39,12,31)-DATE($A39,1,0))*F$34,IF(AND($A39=YEAR(F$30),$A39=YEAR(F$31)),(F$31-F$30)*F$34,IF($A39=YEAR(F$30),(DATE(YEAR(F$30),12,31)-F$30+1)*F$34,IF($A39=YEAR(F$31),(F$31-DATE(YEAR(F$31),1,1)+1)*F$34,0)))) -> 0 | G39: =IF(AND($A39>YEAR(G$30),$A39<YEAR(G$31)),(DATE($A39,12,31)-DATE($A39,1,0))*G$34,IF(AND($A39=YEAR(G$30),$A39=YEAR(G$31)),(G$31-G$30)*G$34,IF($A39=YEAR(G$30),(DATE(YEAR(G$30),12,31)-G$30+1)*G$34,IF($A39=YEAR(G$31),(G$31-DATE(YEAR(G$31),1,1)+1)*G$34,0)))) -> 0 | H39: =IF(AND($A39>YEAR(H$30),$A39<YEAR(H$31)),(DATE($A39,12,31)-DATE($A39,1,0))*H$34,IF(AND($A39=YEAR(H$30),$A39=YEAR(H$31)),(H$31-H$30)*H$34,IF($A39=YEAR(H$30),(DATE(YEAR(H$30),12,31)-H$30+1)*H$34,IF($A39=YEAR(H$31),(H$31-DATE(YEAR(H$31),1,1)+1)*H$34,0)))) -> 0 | I39: =IF(AND($A39>YEAR(I$30),$A39<YEAR(I$31)),(DATE($A39,12,31)-DATE($A39,1,0))*I$34,IF(AND($A39=YEAR(I$30),$A39=YEAR(I$31)),(I$31-I$30)*I$34,IF($A39=YEAR(I$30),(DATE(YEAR(I$30),12,31)-I$30+1)*I$34,IF($A39=YEAR(I$31),(I$31-DATE(YEAR(I$31),1,1)+1)*I$34,0)))) -> 0 | J39: =IF(AND($A39>YEAR(J$30),$A39<YEAR(J$31)),(DATE($A39,12,31)-DATE($A39,1,0))*J$34,IF(AND($A39=YEAR(J$30),$A39=YEAR(J$31)),(J$31-J$30)*J$34,IF($A39=YEAR(J$30),(DATE(YEAR(J$30),12,31)-J$30+1)*J$34,IF($A39=YEAR(J$31),(J$31-DATE(YEAR(J$31),1,1)+1)*J$34,0)))) -> 0 | ... O39: =IF(AND($A39>YEAR(O$30),$A39<YEAR(O$31)),(DATE($A39,12,31)-DATE($A39,1,0))*O$34,IF(AND($A39=YEAR(O$30),$A39=YEAR(O$31)),(O$31-O$30)*O$34,IF($A39=YEAR(O$30),(DATE(YEAR(O$30),12,31)-O$30+1)*O$34,IF($A39=YEAR(O$31),(O$31-DATE(YEAR(O$31),1,1)+1)*O$34,0)))) -> 0
A40: =FEO!$H$5 -> 2029 | B40: =IF(AND($A40>YEAR(B$30),$A40<YEAR(B$31)),(DATE($A40,12,31)-DATE($A40,1,0))*B$34,IF(AND($A40=YEAR(B$30),$A40=YEAR(B$31)),(B$31-B$30)*B$34,IF($A40=YEAR(B$30),(DATE(YEAR(B$30),12,31)-B$30+1)*B$34,IF($A40=YEAR(B$31),(B$31-DATE(YEAR(B$31),1,1)+1)*B$34,0)))) -> 0 | C40: =IF(AND($A40>YEAR(C$30),$A40<YEAR(C$31)),(DATE($A40,12,31)-DATE($A40,1,0))*C$34,IF(AND($A40=YEAR(C$30),$A40=YEAR(C$31)),(C$31-C$30)*C$34,IF($A40=YEAR(C$30),(DATE(YEAR(C$30),12,31)-C$30+1)*C$34,IF($A40=YEAR(C$31),(C$31-DATE(YEAR(C$31),1,1)+1)*C$34,0)))) -> 0 | D40: =IF(AND($A40>YEAR(D$30),$A40<YEAR(D$31)),(DATE($A40,12,31)-DATE($A40,1,0))*D$34,IF(AND($A40=YEAR(D$30),$A40=YEAR(D$31)),(D$31-D$30)*D$34,IF($A40=YEAR(D$30),(DATE(YEAR(D$30),12,31)-D$30+1)*D$34,IF($A40=YEAR(D$31),(D$31-DATE(YEAR(D$31),1,1)+1)*D$34,0)))) -> 0 | E40: =IF(AND($A40>YEAR(E$30),$A40<YEAR(E$31)),(DATE($A40,12,31)-DATE($A40,1,0))*E$34,IF(AND($A40=YEAR(E$30),$A40=YEAR(E$31)),(E$31-E$30)*E$34,IF($A40=YEAR(E$30),(DATE(YEAR(E$30),12,31)-E$30+1)*E$34,IF($A40=YEAR(E$31),(E$31-DATE(YEAR(E$31),1,1)+1)*E$34,0)))) -> 0 | F40: =IF(AND($A40>YEAR(F$30),$A40<YEAR(F$31)),(DATE($A40,12,31)-DATE($A40,1,0))*F$34,IF(AND($A40=YEAR(F$30),$A40=YEAR(F$31)),(F$31-F$30)*F$34,IF($A40=YEAR(F$30),(DATE(YEAR(F$30),12,31)-F$30+1)*F$34,IF($A40=YEAR(F$31),(F$31-DATE(YEAR(F$31),1,1)+1)*F$34,0)))) -> 0 | G40: =IF(AND($A40>YEAR(G$30),$A40<YEAR(G$31)),(DATE($A40,12,31)-DATE($A40,1,0))*G$34,IF(AND($A40=YEAR(G$30),$A40=YEAR(G$31)),(G$31-G$30)*G$34,IF($A40=YEAR(G$30),(DATE(YEAR(G$30),12,31)-G$30+1)*G$34,IF($A40=YEAR(G$31),(G$31-DATE(YEAR(G$31),1,1)+1)*G$34,0)))) -> 0 | H40: =IF(AND($A40>YEAR(H$30),$A40<YEAR(H$31)),(DATE($A40,12,31)-DATE($A40,1,0))*H$34,IF(AND($A40=YEAR(H$30),$A40=YEAR(H$31)),(H$31-H$30)*H$34,IF($A40=YEAR(H$30),(DATE(YEAR(H$30),12,31)-H$30+1)*H$34,IF($A40=YEAR(H$31),(H$31-DATE(YEAR(H$31),1,1)+1)*H$34,0)))) -> 0 | I40: =IF(AND($A40>YEAR(I$30),$A40<YEAR(I$31)),(DATE($A40,12,31)-DATE($A40,1,0))*I$34,IF(AND($A40=YEAR(I$30),$A40=YEAR(I$31)),(I$31-I$30)*I$34,IF($A40=YEAR(I$30),(DATE(YEAR(I$30),12,31)-I$30+1)*I$34,IF($A40=YEAR(I$31),(I$31-DATE(YEAR(I$31),1,1)+1)*I$34,0)))) -> 0 | ... O40: =IF(AND($A40>YEAR(O$30),$A40<YEAR(O$31)),(DATE($A40,12,31)-DATE($A40,1,0))*O$34,IF(AND($A40=YEAR(O$30),$A40=YEAR(O$31)),(O$31-O$30)*O$34,IF($A40=YEAR(O$30),(DATE(YEAR(O$30),12,31)-O$30+1)*O$34,IF($A40=YEAR(O$31),(O$31-DATE(YEAR(O$31),1,1)+1)*O$34,0)))) -> 0
