Workbook

Sheet totaal
A1: 4.57 | B1: 8 | C1: 19.57 | D1: 47.57 | F1: 10
A2: STUKLIJST | G2: Versie 4.0
A3: POS | B3: AANTAL | C3: BENAMING | D3: FABRIKAAT | E3: TYPE | F3: CODE | G3: KLEUR | I3: TR01 1e verd | J3: TR02 2e verd | K3: bwd A kelder | L3: bwd A BG | M3: bwd A 1e verd | N3: bwd A 2e verd | O3: bwd A dak | P3: bwd B BG | Q3: bwd B 1e verd | R3: bwd B 2e verd | S3: bwd B dak | T3: bwd C BG | U3: bwd C 1e verd | V3: bwd C 2e verd | W3: bwd C dak
A4: 1 | B4: =IF(SUM($I$4:$W$4)=0,"",SUM($I$4:$W$4)) | C4: Gasfilter | D4: Econosto | E4: fig.1014 1/2" | I4: =IF(INDIRECT("'"&I$3&"'!B4")=0,"",INDIRECT("'"&I$3&"'!B4")) | J4: =IF(INDIRECT("'"&J$3&"'!B4")=0,"",INDIRECT("'"&J$3&"'!B4")) | K4: =IF(INDIRECT("'"&K$3&"'!B4")=0,"",INDIRECT("'"&K$3&"'!B4")) | L4: =IF(INDIRECT("'"&L$3&"'!B4")=0,"",INDIRECT("'"&L$3&"'!B4")) | M4: =IF(INDIRECT("'"&M$3&"'!B4")=0,"",INDIRECT("'"&M$3&"'!B4")) | N4: =IF(INDIRECT("'"&N$3&"'!B4")=0,"",INDIRECT("'"&N$3&"'!B4")) | O4: =IF(INDIRECT("'"&O$3&"'!B4")=0,"",INDIRECT("'"&O$3&"'!B4")) | P4: =IF(INDIRECT("'"&P$3&"'!B4")=0,"",INDIRECT("'"&P$3&"'!B4")) | ... W4: =IF(INDIRECT("'"&W$3&"'!B4")=0,"",INDIRECT("'"&W$3&"'!B4"))
A5: 2 | B5: =IF(SUM($I$5:$W$5)=0,"",SUM($I$5:$W$5)) | C5: Gasfilter | D5: Econosto | E5: fig.1014 3/4" | I5: =IF(INDIRECT("'"&I$3&"'!B5")=0,"",INDIRECT("'"&I$3&"'!B5")) | J5: =IF(INDIRECT("'"&J$3&"'!B5")=0,"",INDIRECT("'"&J$3&"'!B5")) | K5: =IF(INDIRECT("'"&K$3&"'!B5")=0,"",INDIRECT("'"&K$3&"'!B5")) | L5: =IF(INDIRECT("'"&L$3&"'!B5")=0,"",INDIRECT("'"&L$3&"'!B5")) | M5: =IF(INDIRECT("'"&M$3&"'!B5")=0,"",INDIRECT("'"&M$3&"'!B5")) | N5: =IF(INDIRECT("'"&N$3&"'!B5")=0,"",INDIRECT("'"&N$3&"'!B5")) | O5: =IF(INDIRECT("'"&O$3&"'!B5")=0,"",INDIRECT("'"&O$3&"'!B5")) | P5: =IF(INDIRECT("'"&P$3&"'!B5")=0,"",INDIRECT("'"&P$3&"'!B5")) | ... W5: =IF(INDIRECT("'"&W$3&"'!B5")=0,"",INDIRECT("'"&W$3&"'!B5"))
A6: 3 | B6: =IF(SUM($I$6:$W$6)=0,"",SUM($I$6:$W$6)) | C6: Gasfilter | D6: Econosto | E6: fig.1014 1" | I6: =IF(INDIRECT("'"&I$3&"'!B6")=0,"",INDIRECT("'"&I$3&"'!B6")) | J6: =IF(INDIRECT("'"&J$3&"'!B6")=0,"",INDIRECT("'"&J$3&"'!B6")) | K6: =IF(INDIRECT("'"&K$3&"'!B6")=0,"",INDIRECT("'"&K$3&"'!B6")) | L6: =IF(INDIRECT("'"&L$3&"'!B6")=0,"",INDIRECT("'"&L$3&"'!B6")) | M6: =IF(INDIRECT("'"&M$3&"'!B6")=0,"",INDIRECT("'"&M$3&"'!B6")) | N6: =IF(INDIRECT("'"&N$3&"'!B6")=0,"",INDIRECT("'"&N$3&"'!B6")) | O6: =IF(INDIRECT("'"&O$3&"'!B6")=0,"",INDIRECT("'"&O$3&"'!B6")) | P6: =IF(INDIRECT("'"&P$3&"'!B6")=0,"",INDIRECT("'"&P$3&"'!B6")) | ... W6: =IF(INDIRECT("'"&W$3&"'!B6")=0,"",INDIRECT("'"&W$3&"'!B6"))
A7: 4 | B7: =IF(SUM($I$7:$W$7)=0,"",SUM($I$7:$W$7)) | C7: Gaskogelafsluiter | D7: Econosto | E7: Figuur 1937 1 ½" | I7: =IF(INDIRECT("'"&I$3&"'!B7")=0,"",INDIRECT("'"&I$3&"'!B7")) | J7: =IF(INDIRECT("'"&J$3&"'!B7")=0,"",INDIRECT("'"&J$3&"'!B7")) | K7: =IF(INDIRECT("'"&K$3&"'!B7")=0,"",INDIRECT("'"&K$3&"'!B7")) | L7: =IF(INDIRECT("'"&L$3&"'!B7")=0,"",INDIRECT("'"&L$3&"'!B7")) | M7: =IF(INDIRECT("'"&M$3&"'!B7")=0,"",INDIRECT("'"&M$3&"'!B7")) | N7: =IF(INDIRECT("'"&N$3&"'!B7")=0,"",INDIRECT("'"&N$3&"'!B7")) | O7: =IF(INDIRECT("'"&O$3&"'!B7")=0,"",INDIRECT("'"&O$3&"'!B7")) | P7: =IF(INDIRECT("'"&P$3&"'!B7")=0,"",INDIRECT("'"&P$3&"'!B7")) | ... W7: =IF(INDIRECT("'"&W$3&"'!B7")=0,"",INDIRECT("'"&W$3&"'!B7"))
A8: 5 | B8: =IF(SUM($I$8:$W$8)=0,"",SUM($I$8:$W$8)) -> 1 | C8: Gaskogelafsluiter | D8: VSH | E8: Figuur 060431.8 1 1/4" Bin × Bui | F8: TU785162 | I8: =IF(INDIRECT("'"&I$3&"'!B8")=0,"",INDIRECT("'"&I$3&"'!B8")) | J8: =IF(INDIRECT("'"&J$3&"'!B8")=0,"",INDIRECT("'"&J$3&"'!B8")) -> 1 | K8: =IF(INDIRECT("'"&K$3&"'!B8")=0,"",INDIRECT("'"&K$3&"'!B8")) | L8: =IF(INDIRECT("'"&L$3&"'!B8")=0,"",INDIRECT("'"&L$3&"'!B8")) | M8: =IF(INDIRECT("'"&M$3&"'!B8")=0,"",INDIRECT("'"&M$3&"'!B8")) | N8: =IF(INDIRECT("'"&N$3&"'!B8")=0,"",INDIRECT("'"&N$3&"'!B8")) | O8: =IF(INDIRECT("'"&O$3&"'!B8")=0,"",INDIRECT("'"&O$3&"'!B8")) | P8: =IF(INDIRECT("'"&P$3&"'!B8")=0,"",INDIRECT("'"&P$3&"'!B8")) | ... W8: =IF(INDIRECT("'"&W$3&"'!B8")=0,"",INDIRECT("'"&W$3&"'!B8"))
A9: 6 | B9: =IF(SUM($I$9:$W$9)=0,"",SUM($I$9:$W$9)) | C9: Gaskogelafsluiter | D9: Econosto | I9: =IF(INDIRECT("'"&I$3&"'!B9")=0,"",INDIRECT("'"&I$3&"'!B9")) | J9: =IF(INDIRECT("'"&J$3&"'!B9")=0,"",INDIRECT("'"&J$3&"'!B9")) | K9: =IF(INDIRECT("'"&K$3&"'!B9")=0,"",INDIRECT("'"&K$3&"'!B9")) | L9: =IF(INDIRECT("'"&L$3&"'!B9")=0,"",INDIRECT("'"&L$3&"'!B9")) | M9: =IF(INDIRECT("'"&M$3&"'!B9")=0,"",INDIRECT("'"&M$3&"'!B9")) | N9: =IF(INDIRECT("'"&N$3&"'!B9")=0,"",INDIRECT("'"&N$3&"'!B9")) | O9: =IF(INDIRECT("'"&O$3&"'!B9")=0,"",INDIRECT("'"&O$3&"'!B9")) | P9: =IF(INDIRECT("'"&P$3&"'!B9")=0,"",INDIRECT("'"&P$3&"'!B9")) | ... W9: =IF(INDIRECT("'"&W$3&"'!B9")=0,"",INDIRECT("'"&W$3&"'!B9"))
A10: 7 | B10: =IF(SUM($I$10:$W$10)=0,"",SUM($I$10:$W$10)) | C10: Gaskogelafsluiter | D10: Econosto | E10: fig.1619 2" | I10: =IF(INDIRECT("'"&I$3&"'!B10")=0,"",INDIRECT("'"&I$3&"'!B10")) | J10: =IF(INDIRECT("'"&J$3&"'!B10")=0,"",INDIRECT("'"&J$3&"'!B10")) | K10: =IF(INDIRECT("'"&K$3&"'!B10")=0,"",INDIRECT("'"&K$3&"'!B10")) | L10: =IF(INDIRECT("'"&L$3&"'!B10")=0,"",INDIRECT("'"&L$3&"'!B10")) | M10: =IF(INDIRECT("'"&M$3&"'!B10")=0,"",INDIRECT("'"&M$3&"'!B10")) | N10: =IF(INDIRECT("'"&N$3&"'!B10")=0,"",INDIRECT("'"&N$3&"'!B10")) | O10: =IF(INDIRECT("'"&O$3&"'!B10")=0,"",INDIRECT("'"&O$3&"'!B10")) | P10: =IF(INDIRECT("'"&P$3&"'!B10")=0,"",INDIRECT("'"&P$3&"'!B10")) | ... W10: =IF(INDIRECT("'"&W$3&"'!B10")=0,"",INDIRECT("'"&W$3&"'!B10"))
A11: 8 | B11: =IF(SUM($I$11:$W$11)=0,"",SUM($I$11:$W$11)) | C11: Gasklepafsluiter | D11: Econosto | E11: fig.2011 DN100 PN10 | I11: =IF(INDIRECT("'"&I$3&"'!B11")=0,"",INDIRECT("'"&I$3&"'!B11")) | J11: =IF(INDIRECT("'"&J$3&"'!B11")=0,"",INDIRECT("'"&J$3&"'!B11")) | K11: =IF(INDIRECT("'"&K$3&"'!B11")=0,"",INDIRECT("'"&K$3&"'!B11")) | L11: =IF(INDIRECT("'"&L$3&"'!B11")=0,"",INDIRECT("'"&L$3&"'!B11")) | M11: =IF(INDIRECT("'"&M$3&"'!B11")=0,"",INDIRECT("'"&M$3&"'!B11")) | N11: =IF(INDIRECT("'"&N$3&"'!B11")=0,"",INDIRECT("'"&N$3&"'!B11")) | O11: =IF(INDIRECT("'"&O$3&"'!B11")=0,"",INDIRECT("'"&O$3&"'!B11")) | P11: =IF(INDIRECT("'"&P$3&"'!B11")=0,"",INDIRECT("'"&P$3&"'!B11")) | ... W11: =IF(INDIRECT("'"&W$3&"'!B11")=0,"",INDIRECT("'"&W$3&"'!B11"))
A12: 9 | B12: =IF(SUM($I$12:$W$12)=0,"",SUM($I$12:$W$12)) | C12: Gasgebrekklep | D12: Schlumberger | I12: =IF(INDIRECT("'"&I$3&"'!B12")=0,"",INDIRECT("'"&I$3&"'!B12")) | J12: =IF(INDIRECT("'"&J$3&"'!B12")=0,"",INDIRECT("'"&J$3&"'!B12")) | K12: =IF(INDIRECT("'"&K$3&"'!B12")=0,"",INDIRECT("'"&K$3&"'!B12")) | L12: =IF(INDIRECT("'"&L$3&"'!B12")=0,"",INDIRECT("'"&L$3&"'!B12")) | M12: =IF(INDIRECT("'"&M$3&"'!B12")=0,"",INDIRECT("'"&M$3&"'!B12")) | N12: =IF(INDIRECT("'"&N$3&"'!B12")=0,"",INDIRECT("'"&N$3&"'!B12")) | O12: =IF(INDIRECT("'"&O$3&"'!B12")=0,"",INDIRECT("'"&O$3&"'!B12")) | P12: =IF(INDIRECT("'"&P$3&"'!B12")=0,"",INDIRECT("'"&P$3&"'!B12")) | ... W12: =IF(INDIRECT("'"&W$3&"'!B12")=0,"",INDIRECT("'"&W$3&"'!B12"))
A13: 10 | B13: =IF(SUM($I$13:$W$13)=0,"",SUM($I$13:$W$13)) | C13: Klepafsluiter Rayon Patent | D13: Econosto | E13: fig.2011 DN100 | I13: =IF(INDIRECT("'"&I$3&"'!B13")=0,"",INDIRECT("'"&I$3&"'!B13")) | J13: =IF(INDIRECT("'"&J$3&"'!B13")=0,"",INDIRECT("'"&J$3&"'!B13")) | K13: =IF(INDIRECT("'"&K$3&"'!B13")=0,"",INDIRECT("'"&K$3&"'!B13")) | L13: =IF(INDIRECT("'"&L$3&"'!B13")=0,"",INDIRECT("'"&L$3&"'!B13")) | M13: =IF(INDIRECT("'"&M$3&"'!B13")=0,"",INDIRECT("'"&M$3&"'!B13")) | N13: =IF(INDIRECT("'"&N$3&"'!B13")=0,"",INDIRECT("'"&N$3&"'!B13")) | O13: =IF(INDIRECT("'"&O$3&"'!B13")=0,"",INDIRECT("'"&O$3&"'!B13")) | P13: =IF(INDIRECT("'"&P$3&"'!B13")=0,"",INDIRECT("'"&P$3&"'!B13")) | ... W13: =IF(INDIRECT("'"&W$3&"'!B13")=0,"",INDIRECT("'"&W$3&"'!B13"))
A14: 11 | B14: =IF(SUM($I$14:$W$14)=0,"",SUM($I$14:$W$14)) | C14: Gasmagneetafsluiter NO | D14: Watts Industrie | E14: type ? 3/4" | I14: =IF(INDIRECT("'"&I$3&"'!B14")=0,"",INDIRECT("'"&I$3&"'!B14")) | J14: =IF(INDIRECT("'"&J$3&"'!B14")=0,"",INDIRECT("'"&J$3&"'!B14")) | K14: =IF(INDIRECT("'"&K$3&"'!B14")=0,"",INDIRECT("'"&K$3&"'!B14")) | L14: =IF(INDIRECT("'"&L$3&"'!B14")=0,"",INDIRECT("'"&L$3&"'!B14")) | M14: =IF(INDIRECT("'"&M$3&"'!B14")=0,"",INDIRECT("'"&M$3&"'!B14")) | N14: =IF(INDIRECT("'"&N$3&"'!B14")=0,"",INDIRECT("'"&N$3&"'!B14")) | O14: =IF(INDIRECT("'"&O$3&"'!B14")=0,"",INDIRECT("'"&O$3&"'!B14")) | P14: =IF(INDIRECT("'"&P$3&"'!B14")=0,"",INDIRECT("'"&P$3&"'!B14")) | ... W14: =IF(INDIRECT("'"&W$3&"'!B14")=0,"",INDIRECT("'"&W$3&"'!B14"))
A15: 16 | B15: =IF(SUM($I$15:$W$15)=0,"",SUM($I$15:$W$15)) | C15: Gasfilter | D15: Econosto | E15: fig.1014 1 1/4" | I15: =IF(INDIRECT("'"&I$3&"'!B19")=0,"",INDIRECT("'"&I$3&"'!B19")) | J15: =IF(INDIRECT("'"&J$3&"'!B19")=0,"",INDIRECT("'"&J$3&"'!B19")) | K15: =IF(INDIRECT("'"&K$3&"'!B19")=0,"",INDIRECT("'"&K$3&"'!B19")) | L15: =IF(INDIRECT("'"&L$3&"'!B19")=0,"",INDIRECT("'"&L$3&"'!B19")) | M15: =IF(INDIRECT("'"&M$3&"'!B19")=0,"",INDIRECT("'"&M$3&"'!B19")) | N15: =IF(INDIRECT("'"&N$3&"'!B19")=0,"",INDIRECT("'"&N$3&"'!B19")) | O15: =IF(INDIRECT("'"&O$3&"'!B19")=0,"",INDIRECT("'"&O$3&"'!B19")) | P15: =IF(INDIRECT("'"&P$3&"'!B19")=0,"",INDIRECT("'"&P$3&"'!B19")) | ... W15: =IF(INDIRECT("'"&W$3&"'!B19")=0,"",INDIRECT("'"&W$3&"'!B19"))
A16: 17 | B16: =IF(SUM($I$16:$W$16)=0,"",SUM($I$16:$W$16)) | C16: Gaskogelafsluiter | D16: Econosto | E16: fig. 1619 1" | I16: =IF(INDIRECT("'"&I$3&"'!B20")=0,"",INDIRECT("'"&I$3&"'!B20")) | J16: =IF(INDIRECT("'"&J$3&"'!B20")=0,"",INDIRECT("'"&J$3&"'!B20")) | K16: =IF(INDIRECT("'"&K$3&"'!B20")=0,"",INDIRECT("'"&K$3&"'!B20")) | L16: =IF(INDIRECT("'"&L$3&"'!B20")=0,"",INDIRECT("'"&L$3&"'!B20")) | M16: =IF(INDIRECT("'"&M$3&"'!B20")=0,"",INDIRECT("'"&M$3&"'!B20")) | N16: =IF(INDIRECT("'"&N$3&"'!B20")=0,"",INDIRECT("'"&N$3&"'!B20")) | O16: =IF(INDIRECT("'"&O$3&"'!B20")=0,"",INDIRECT("'"&O$3&"'!B20")) | P16: =IF(INDIRECT("'"&P$3&"'!B20")=0,"",INDIRECT("'"&P$3&"'!B20")) | ... W16: =IF(INDIRECT("'"&W$3&"'!B20")=0,"",INDIRECT("'"&W$3&"'!B20"))
A17: 20 | B17: =IF(SUM($I$17:$W$17)=0,"",SUM($I$17:$W$17)) -> 1 | C17: Bufffervat 1500 ltr | D17: Horos | E17: Verticaal Buffervat VK 1500 diameter ø990mm × 2470mm | F17: 816 020 070 | I17: =IF(INDIRECT("'"&I$3&"'!B23")=0,"",INDIRECT("'"&I$3&"'!B23")) | J17: =IF(INDIRECT("'"&J$3&"'!B23")=0,"",INDIRECT("'"&J$3&"'!B23")) -> 1 | K17: =IF(INDIRECT("'"&K$3&"'!B23")=0,"",INDIRECT("'"&K$3&"'!B23")) | L17: =IF(INDIRECT("'"&L$3&"'!B23")=0,"",INDIRECT("'"&L$3&"'!B23")) | M17: =IF(INDIRECT("'"&M$3&"'!B23")=0,"",INDIRECT("'"&M$3&"'!B23")) | N17: =IF(INDIRECT("'"&N$3&"'!B23")=0,"",INDIRECT("'"&N$3&"'!B23")) | O17: =IF(INDIRECT("'"&O$3&"'!B23")=0,"",INDIRECT("'"&O$3&"'!B23")) | P17: =IF(INDIRECT("'"&P$3&"'!B23")=0,"",INDIRECT("'"&P$3&"'!B23")) | ... W17: =IF(INDIRECT("'"&W$3&"'!B23")=0,"",INDIRECT("'"&W$3&"'!B23"))
A18: 21 | B18: =IF(SUM($I$18:$W$18)=0,"",SUM($I$18:$W$18)) | E18: Uitw. geïsoleerd met 20 mm dampdichte isolatie | I18: =IF(INDIRECT("'"&I$3&"'!B24")=0,"",INDIRECT("'"&I$3&"'!B24")) | J18: =IF(INDIRECT("'"&J$3&"'!B24")=0,"",INDIRECT("'"&J$3&"'!B24")) | K18: =IF(INDIRECT("'"&K$3&"'!B24")=0,"",INDIRECT("'"&K$3&"'!B24")) | L18: =IF(INDIRECT("'"&L$3&"'!B24")=0,"",INDIRECT("'"&L$3&"'!B24")) | M18: =IF(INDIRECT("'"&M$3&"'!B24")=0,"",INDIRECT("'"&M$3&"'!B24")) | N18: =IF(INDIRECT("'"&N$3&"'!B24")=0,"",INDIRECT("'"&N$3&"'!B24")) | O18: =IF(INDIRECT("'"&O$3&"'!B24")=0,"",INDIRECT("'"&O$3&"'!B24")) | P18: =IF(INDIRECT("'"&P$3&"'!B24")=0,"",INDIRECT("'"&P$3&"'!B24")) | ... W18: =IF(INDIRECT("'"&W$3&"'!B24")=0,"",INDIRECT("'"&W$3&"'!B24"))
A19: 22 | B19: =IF(SUM($I$19:$W$19)=0,"",SUM($I$19:$W$19)) | E19: Inclusief 2× ¾" voor aftap en beluchting | I19: =IF(INDIRECT("'"&I$3&"'!B25")=0,"",INDIRECT("'"&I$3&"'!B25")) | J19: =IF(INDIRECT("'"&J$3&"'!B25")=0,"",INDIRECT("'"&J$3&"'!B25")) | K19: =IF(INDIRECT("'"&K$3&"'!B25")=0,"",INDIRECT("'"&K$3&"'!B25")) | L19: =IF(INDIRECT("'"&L$3&"'!B25")=0,"",INDIRECT("'"&L$3&"'!B25")) | M19: =IF(INDIRECT("'"&M$3&"'!B25")=0,"",INDIRECT("'"&M$3&"'!B25")) | N19: =IF(INDIRECT("'"&N$3&"'!B25")=0,"",INDIRECT("'"&N$3&"'!B25")) | O19: =IF(INDIRECT("'"&O$3&"'!B25")=0,"",INDIRECT("'"&O$3&"'!B25")) | P19: =IF(INDIRECT("'"&P$3&"'!B25")=0,"",INDIRECT("'"&P$3&"'!B25")) | ... W19: =IF(INDIRECT("'"&W$3&"'!B25")=0,"",INDIRECT("'"&W$3&"'!B25"))
A20: 23 | B20: =IF(SUM($I$20:$W$20)=0,"",SUM($I$20:$W$20)) -> 1 | C20: Bufffervat 2000 ltr | D20: Horos | E20: Verticaal Buffervat VK 2000 diameter ø1140mm × 2510mm | F20: 816 020 071 | I20: =IF(INDIRECT("'"&I$3&"'!B26")=0,"",INDIRECT("'"&I$3&"'!B26")) | J20: =IF(INDIRECT("'"&J$3&"'!B26")=0,"",INDIRECT("'"&J$3&"'!B26")) -> 1 | K20: =IF(INDIRECT("'"&K$3&"'!B26")=0,"",INDIRECT("'"&K$3&"'!B26")) | L20: =IF(INDIRECT("'"&L$3&"'!B26")=0,"",INDIRECT("'"&L$3&"'!B26")) | M20: =IF(INDIRECT("'"&M$3&"'!B26")=0,"",INDIRECT("'"&M$3&"'!B26")) | N20: =IF(INDIRECT("'"&N$3&"'!B26")=0,"",INDIRECT("'"&N$3&"'!B26")) | O20: =IF(INDIRECT("'"&O$3&"'!B26")=0,"",INDIRECT("'"&O$3&"'!B26")) | P20: =IF(INDIRECT("'"&P$3&"'!B26")=0,"",INDIRECT("'"&P$3&"'!B26")) | ... W20: =IF(INDIRECT("'"&W$3&"'!B26")=0,"",INDIRECT("'"&W$3&"'!B26"))
A21: 24 | B21: =IF(SUM($I$21:$W$21)=0,"",SUM($I$21:$W$21)) | E21: Uitwendig gesioleerd met 20 mm dampdichte isolatie | I21: =IF(INDIRECT("'"&I$3&"'!B27")=0,"",INDIRECT("'"&I$3&"'!B27")) | J21: =IF(INDIRECT("'"&J$3&"'!B27")=0,"",INDIRECT("'"&J$3&"'!B27")) | K21: =IF(INDIRECT("'"&K$3&"'!B27")=0,"",INDIRECT("'"&K$3&"'!B27")) | L21: =IF(INDIRECT("'"&L$3&"'!B27")=0,"",INDIRECT("'"&L$3&"'!B27")) | M21: =IF(INDIRECT("'"&M$3&"'!B27")=0,"",INDIRECT("'"&M$3&"'!B27")) | N21: =IF(INDIRECT("'"&N$3&"'!B27")=0,"",INDIRECT("'"&N$3&"'!B27")) | O21: =IF(INDIRECT("'"&O$3&"'!B27")=0,"",INDIRECT("'"&O$3&"'!B27")) | P21: =IF(INDIRECT("'"&P$3&"'!B27")=0,"",INDIRECT("'"&P$3&"'!B27")) | ... W21: =IF(INDIRECT("'"&W$3&"'!B27")=0,"",INDIRECT("'"&W$3&"'!B27"))
A22: 25 | B22: =IF(SUM($I$22:$W$22)=0,"",SUM($I$22:$W$22)) | E22: Inclusief 2× ¾" voor aftap en beluchting | I22: =IF(INDIRECT("'"&I$3&"'!B28")=0,"",INDIRECT("'"&I$3&"'!B28")) | J22: =IF(INDIRECT("'"&J$3&"'!B28")=0,"",INDIRECT("'"&J$3&"'!B28")) | K22: =IF(INDIRECT("'"&K$3&"'!B28")=0,"",INDIRECT("'"&K$3&"'!B28")) | L22: =IF(INDIRECT("'"&L$3&"'!B28")=0,"",INDIRECT("'"&L$3&"'!B28")) | M22: =IF(INDIRECT("'"&M$3&"'!B28")=0,"",INDIRECT("'"&M$3&"'!B28")) | N22: =IF(INDIRECT("'"&N$3&"'!B28")=0,"",INDIRECT("'"&N$3&"'!B28")) | O22: =IF(INDIRECT("'"&O$3&"'!B28")=0,"",INDIRECT("'"&O$3&"'!B28")) | P22: =IF(INDIRECT("'"&P$3&"'!B28")=0,"",INDIRECT("'"&P$3&"'!B28")) | ... W22: =IF(INDIRECT("'"&W$3&"'!B28")=0,"",INDIRECT("'"&W$3&"'!B28"))
A23: 62 | B23: =IF(SUM($I$23:$W$23)=0,"",SUM($I$23:$W$23)) -> 1 | C23: Radiator | D23: Veha | E23: type standaard 1600-900-22 | I23: =IF(INDIRECT("'"&I$3&"'!B43")=0,"",INDIRECT("'"&I$3&"'!B43")) | J23: =IF(INDIRECT("'"&J$3&"'!B43")=0,"",INDIRECT("'"&J$3&"'!B43")) | K23: =IF(INDIRECT("'"&K$3&"'!B43")=0,"",INDIRECT("'"&K$3&"'!B43")) -> 1 | L23: =IF(INDIRECT("'"&L$3&"'!B43")=0,"",INDIRECT("'"&L$3&"'!B43")) | M23: =IF(INDIRECT("'"&M$3&"'!B43")=0,"",INDIRECT("'"&M$3&"'!B43")) | N23: =IF(INDIRECT("'"&N$3&"'!B43")=0,"",INDIRECT("'"&N$3&"'!B43")) | O23: =IF(INDIRECT("'"&O$3&"'!B43")=0,"",INDIRECT("'"&O$3&"'!B43")) | P23: =IF(INDIRECT("'"&P$3&"'!B43")=0,"",INDIRECT("'"&P$3&"'!B43")) | ... W23: =IF(INDIRECT("'"&W$3&"'!B43")=0,"",INDIRECT("'"&W$3&"'!B43"))
A24: 63 | B24: =IF(SUM($I$24:$W$24)=0,"",SUM($I$24:$W$24)) | C24: Radiator | D24: Veha | E24: type Plana 22 afmeting 3000x500 | I24: =IF(INDIRECT("'"&I$3&"'!B52")=0,"",INDIRECT("'"&I$3&"'!B52")) | J24: =IF(INDIRECT("'"&J$3&"'!B52")=0,"",INDIRECT("'"&J$3&"'!B52")) | K24: =IF(INDIRECT("'"&K$3&"'!B52")=0,"",INDIRECT("'"&K$3&"'!B52")) | L24: =IF(INDIRECT("'"&L$3&"'!B52")=0,"",INDIRECT("'"&L$3&"'!B52")) | M24: =IF(INDIRECT("'"&M$3&"'!B52")=0,"",INDIRECT("'"&M$3&"'!B52")) | N24: =IF(INDIRECT("'"&N$3&"'!B52")=0,"",INDIRECT("'"&N$3&"'!B52")) | O24: =IF(INDIRECT("'"&O$3&"'!B52")=0,"",INDIRECT("'"&O$3&"'!B52")) | P24: =IF(INDIRECT("'"&P$3&"'!B52")=0,"",INDIRECT("'"&P$3&"'!B52")) | ... W24: =IF(INDIRECT("'"&W$3&"'!B52")=0,"",INDIRECT("'"&W$3&"'!B52"))
A25: 64 | B25: =IF(SUM($I$25:$W$25)=0,"",SUM($I$25:$W$25)) | C25: Radiator | D25: Veha | E25: type Plana 22 afmeting 2000x600 Q=1110 W | I25: =IF(INDIRECT("'"&I$3&"'!B53")=0,"",INDIRECT("'"&I$3&"'!B53")) | J25: =IF(INDIRECT("'"&J$3&"'!B53")=0,"",INDIRECT("'"&J$3&"'!B53")) | K25: =IF(INDIRECT("'"&K$3&"'!B53")=0,"",INDIRECT("'"&K$3&"'!B53")) | L25: =IF(INDIRECT("'"&L$3&"'!B53")=0,"",INDIRECT("'"&L$3&"'!B53")) | M25: =IF(INDIRECT("'"&M$3&"'!B53")=0,"",INDIRECT("'"&M$3&"'!B53")) | N25: =IF(INDIRECT("'"&N$3&"'!B53")=0,"",INDIRECT("'"&N$3&"'!B53")) | O25: =IF(INDIRECT("'"&O$3&"'!B53")=0,"",INDIRECT("'"&O$3&"'!B53")) | P25: =IF(INDIRECT("'"&P$3&"'!B53")=0,"",INDIRECT("'"&P$3&"'!B53")) | ... W25: =IF(INDIRECT("'"&W$3&"'!B53")=0,"",INDIRECT("'"&W$3&"'!B53"))
A26: 65 | B26: =IF(SUM($I$26:$W$26)=0,"",SUM($I$26:$W$26)) | C26: Radiator | D26: Veha | E26: type Plana 22 afmeting 3800x600 Q=2110 W | I26: =IF(INDIRECT("'"&I$3&"'!B54")=0,"",INDIRECT("'"&I$3&"'!B54")) | J26: =IF(INDIRECT("'"&J$3&"'!B54")=0,"",INDIRECT("'"&J$3&"'!B54")) | K26: =IF(INDIRECT("'"&K$3&"'!B54")=0,"",INDIRECT("'"&K$3&"'!B54")) | L26: =IF(INDIRECT("'"&L$3&"'!B54")=0,"",INDIRECT("'"&L$3&"'!B54")) | M26: =IF(INDIRECT("'"&M$3&"'!B54")=0,"",INDIRECT("'"&M$3&"'!B54")) | N26: =IF(INDIRECT("'"&N$3&"'!B54")=0,"",INDIRECT("'"&N$3&"'!B54")) | O26: =IF(INDIRECT("'"&O$3&"'!B54")=0,"",INDIRECT("'"&O$3&"'!B54")) | P26: =IF(INDIRECT("'"&P$3&"'!B54")=0,"",INDIRECT("'"&P$3&"'!B54")) | ... W26: =IF(INDIRECT("'"&W$3&"'!B54")=0,"",INDIRECT("'"&W$3&"'!B54"))
A27: 66 | B27: =IF(SUM($I$27:$W$27)=0,"",SUM($I$27:$W$27)) | C27: Radiator | D27: Veha | E27: type Plana 22 afmeting 1000x600 Q=554 W | I27: =IF(INDIRECT("'"&I$3&"'!B55")=0,"",INDIRECT("'"&I$3&"'!B55")) | J27: =IF(INDIRECT("'"&J$3&"'!B55")=0,"",INDIRECT("'"&J$3&"'!B55")) | K27: =IF(INDIRECT("'"&K$3&"'!B55")=0,"",INDIRECT("'"&K$3&"'!B55")) | L27: =IF(INDIRECT("'"&L$3&"'!B55")=0,"",INDIRECT("'"&L$3&"'!B55")) | M27: =IF(INDIRECT("'"&M$3&"'!B55")=0,"",INDIRECT("'"&M$3&"'!B55")) | N27: =IF(INDIRECT("'"&N$3&"'!B55")=0,"",INDIRECT("'"&N$3&"'!B55")) | O27: =IF(INDIRECT("'"&O$3&"'!B55")=0,"",INDIRECT("'"&O$3&"'!B55")) | P27: =IF(INDIRECT("'"&P$3&"'!B55")=0,"",INDIRECT("'"&P$3&"'!B55")) | ... W27: =IF(INDIRECT("'"&W$3&"'!B55")=0,"",INDIRECT("'"&W$3&"'!B55"))
A28: 67 | B28: =IF(SUM($I$28:$W$28)=0,"",SUM($I$28:$W$28)) | C28: Radiator | D28: Veha | E28: type Plana 22 afmeting 2200x600 Q=1230 W | I28: =IF(INDIRECT("'"&I$3&"'!B56")=0,"",INDIRECT("'"&I$3&"'!B56")) | J28: =IF(INDIRECT("'"&J$3&"'!B56")=0,"",INDIRECT("'"&J$3&"'!B56")) | K28: =IF(INDIRECT("'"&K$3&"'!B56")=0,"",INDIRECT("'"&K$3&"'!B56")) | L28: =IF(INDIRECT("'"&L$3&"'!B56")=0,"",INDIRECT("'"&L$3&"'!B56")) | M28: =IF(INDIRECT("'"&M$3&"'!B56")=0,"",INDIRECT("'"&M$3&"'!B56")) | N28: =IF(INDIRECT("'"&N$3&"'!B56")=0,"",INDIRECT("'"&N$3&"'!B56")) | O28: =IF(INDIRECT("'"&O$3&"'!B56")=0,"",INDIRECT("'"&O$3&"'!B56")) | P28: =IF(INDIRECT("'"&P$3&"'!B56")=0,"",INDIRECT("'"&P$3&"'!B56")) | ... W28: =IF(INDIRECT("'"&W$3&"'!B56")=0,"",INDIRECT("'"&W$3&"'!B56"))
A29: 68 | B29: =IF(SUM($I$29:$W$29)=0,"",SUM($I$29:$W$29)) | C29: Radiator | D29: Henrad | E29: type 22 afmeting 1400x600 Q=990 W | I29: =IF(INDIRECT("'"&I$3&"'!B57")=0,"",INDIRECT("'"&I$3&"'!B57")) | J29: =IF(INDIRECT("'"&J$3&"'!B57")=0,"",INDIRECT("'"&J$3&"'!B57")) | K29: =IF(INDIRECT("'"&K$3&"'!B57")=0,"",INDIRECT("'"&K$3&"'!B57")) | L29: =IF(INDIRECT("'"&L$3&"'!B57")=0,"",INDIRECT("'"&L$3&"'!B57")) | M29: =IF(INDIRECT("'"&M$3&"'!B57")=0,"",INDIRECT("'"&M$3&"'!B57")) | N29: =IF(INDIRECT("'"&N$3&"'!B57")=0,"",INDIRECT("'"&N$3&"'!B57")) | O29: =IF(INDIRECT("'"&O$3&"'!B57")=0,"",INDIRECT("'"&O$3&"'!B57")) | P29: =IF(INDIRECT("'"&P$3&"'!B57")=0,"",INDIRECT("'"&P$3&"'!B57")) | ... W29: =IF(INDIRECT("'"&W$3&"'!B57")=0,"",INDIRECT("'"&W$3&"'!B57"))
A30: 69 | B30: =IF(SUM($I$30:$W$30)=0,"",SUM($I$30:$W$30)) | C30: Radiator | D30: Henrad | E30: type 22 afmeting 1600x600 Q=1131 W | I30: =IF(INDIRECT("'"&I$3&"'!B58")=0,"",INDIRECT("'"&I$3&"'!B58")) | J30: =IF(INDIRECT("'"&J$3&"'!B58")=0,"",INDIRECT("'"&J$3&"'!B58")) | K30: =IF(INDIRECT("'"&K$3&"'!B58")=0,"",INDIRECT("'"&K$3&"'!B58")) | L30: =IF(INDIRECT("'"&L$3&"'!B58")=0,"",INDIRECT("'"&L$3&"'!B58")) | M30: =IF(INDIRECT("'"&M$3&"'!B58")=0,"",INDIRECT("'"&M$3&"'!B58")) | N30: =IF(INDIRECT("'"&N$3&"'!B58")=0,"",INDIRECT("'"&N$3&"'!B58")) | O30: =IF(INDIRECT("'"&O$3&"'!B58")=0,"",INDIRECT("'"&O$3&"'!B58")) | P30: =IF(INDIRECT("'"&P$3&"'!B58")=0,"",INDIRECT("'"&P$3&"'!B58")) | ... W30: =IF(INDIRECT("'"&W$3&"'!B58")=0,"",INDIRECT("'"&W$3&"'!B58"))
A31: 70 | B31: =IF(SUM($I$31:$W$31)=0,"",SUM($I$31:$W$31)) | C31: Radiator | D31: Henrad | E31: type 22 afmeting 2000x600 Q=1414 W | I31: =IF(INDIRECT("'"&I$3&"'!B59")=0,"",INDIRECT("'"&I$3&"'!B59")) | J31: =IF(INDIRECT("'"&J$3&"'!B59")=0,"",INDIRECT("'"&J$3&"'!B59")) | K31: =IF(INDIRECT("'"&K$3&"'!B59")=0,"",INDIRECT("'"&K$3&"'!B59")) | L31: =IF(INDIRECT("'"&L$3&"'!B59")=0,"",INDIRECT("'"&L$3&"'!B59")) | M31: =IF(INDIRECT("'"&M$3&"'!B59")=0,"",INDIRECT("'"&M$3&"'!B59")) | N31: =IF(INDIRECT("'"&N$3&"'!B59")=0,"",INDIRECT("'"&N$3&"'!B59")) | O31: =IF(INDIRECT("'"&O$3&"'!B59")=0,"",INDIRECT("'"&O$3&"'!B59")) | P31: =IF(INDIRECT("'"&P$3&"'!B59")=0,"",INDIRECT("'"&P$3&"'!B59")) | ... W31: =IF(INDIRECT("'"&W$3&"'!B59")=0,"",INDIRECT("'"&W$3&"'!B59"))
A32: 71 | B32: =IF(SUM($I$32:$W$32)=0,"",SUM($I$32:$W$32)) | C32: Radiator | D32: Henrad | E32: type 22 afmeting 1600x600 Q=1131 W | I32: =IF(INDIRECT("'"&I$3&"'!B60")=0,"",INDIRECT("'"&I$3&"'!B60")) | J32: =IF(INDIRECT("'"&J$3&"'!B60")=0,"",INDIRECT("'"&J$3&"'!B60")) | K32: =IF(INDIRECT("'"&K$3&"'!B60")=0,"",INDIRECT("'"&K$3&"'!B60")) | L32: =IF(INDIRECT("'"&L$3&"'!B60")=0,"",INDIRECT("'"&L$3&"'!B60")) | M32: =IF(INDIRECT("'"&M$3&"'!B60")=0,"",INDIRECT("'"&M$3&"'!B60")) | N32: =IF(INDIRECT("'"&N$3&"'!B60")=0,"",INDIRECT("'"&N$3&"'!B60")) | O32: =IF(INDIRECT("'"&O$3&"'!B60")=0,"",INDIRECT("'"&O$3&"'!B60")) | P32: =IF(INDIRECT("'"&P$3&"'!B60")=0,"",INDIRECT("'"&P$3&"'!B60")) | ... W32: =IF(INDIRECT("'"&W$3&"'!B60")=0,"",INDIRECT("'"&W$3&"'!B60"))
A33: 72 | B33: =IF(SUM($I$33:$W$33)=0,"",SUM($I$33:$W$33)) | C33: Radiator | D33: Henrad | E33: type 11 afmeting 1200x600 Q-1200 W | I33: =IF(INDIRECT("'"&I$3&"'!B61")=0,"",INDIRECT("'"&I$3&"'!B61")) | J33: =IF(INDIRECT("'"&J$3&"'!B61")=0,"",INDIRECT("'"&J$3&"'!B61")) | K33: =IF(INDIRECT("'"&K$3&"'!B61")=0,"",INDIRECT("'"&K$3&"'!B61")) | L33: =IF(INDIRECT("'"&L$3&"'!B61")=0,"",INDIRECT("'"&L$3&"'!B61")) | M33: =IF(INDIRECT("'"&M$3&"'!B61")=0,"",INDIRECT("'"&M$3&"'!B61")) | N33: =IF(INDIRECT("'"&N$3&"'!B61")=0,"",INDIRECT("'"&N$3&"'!B61")) | O33: =IF(INDIRECT("'"&O$3&"'!B61")=0,"",INDIRECT("'"&O$3&"'!B61")) | P33: =IF(INDIRECT("'"&P$3&"'!B61")=0,"",INDIRECT("'"&P$3&"'!B61")) | ... W33: =IF(INDIRECT("'"&W$3&"'!B61")=0,"",INDIRECT("'"&W$3&"'!B61"))
A34: 73 | B34: =IF(SUM($I$34:$W$34)=0,"",SUM($I$34:$W$34)) | C34: Radiator | D34: Henrad | E34: type 11 afmeting 1400x600 Q=1400 W | I34: =IF(INDIRECT("'"&I$3&"'!B62")=0,"",INDIRECT("'"&I$3&"'!B62")) | J34: =IF(INDIRECT("'"&J$3&"'!B62")=0,"",INDIRECT("'"&J$3&"'!B62")) | K34: =IF(INDIRECT("'"&K$3&"'!B62")=0,"",INDIRECT("'"&K$3&"'!B62")) | L34: =IF(INDIRECT("'"&L$3&"'!B62")=0,"",INDIRECT("'"&L$3&"'!B62")) | M34: =IF(INDIRECT("'"&M$3&"'!B62")=0,"",INDIRECT("'"&M$3&"'!B62")) | N34: =IF(INDIRECT("'"&N$3&"'!B62")=0,"",INDIRECT("'"&N$3&"'!B62")) | O34: =IF(INDIRECT("'"&O$3&"'!B62")=0,"",INDIRECT("'"&O$3&"'!B62")) | P34: =IF(INDIRECT("'"&P$3&"'!B62")=0,"",INDIRECT("'"&P$3&"'!B62")) | ... W34: =IF(INDIRECT("'"&W$3&"'!B62")=0,"",INDIRECT("'"&W$3&"'!B62"))
A35: 74 | B35: =IF(SUM($I$35:$W$35)=0,"",SUM($I$35:$W$35)) | C35: Radiator | D35: Henrad | E35: type 11 afmeting 800x600 Q=800 W | I35: =IF(INDIRECT("'"&I$3&"'!B63")=0,"",INDIRECT("'"&I$3&"'!B63")) | J35: =IF(INDIRECT("'"&J$3&"'!B63")=0,"",INDIRECT("'"&J$3&"'!B63")) | K35: =IF(INDIRECT("'"&K$3&"'!B63")=0,"",INDIRECT("'"&K$3&"'!B63")) | L35: =IF(INDIRECT("'"&L$3&"'!B63")=0,"",INDIRECT("'"&L$3&"'!B63")) | M35: =IF(INDIRECT("'"&M$3&"'!B63")=0,"",INDIRECT("'"&M$3&"'!B63")) | N35: =IF(INDIRECT("'"&N$3&"'!B63")=0,"",INDIRECT("'"&N$3&"'!B63")) | O35: =IF(INDIRECT("'"&O$3&"'!B63")=0,"",INDIRECT("'"&O$3&"'!B63")) | P35: =IF(INDIRECT("'"&P$3&"'!B63")=0,"",INDIRECT("'"&P$3&"'!B63")) | ... W35: =IF(INDIRECT("'"&W$3&"'!B63")=0,"",INDIRECT("'"&W$3&"'!B63"))
A36: 75 | B36: =IF(SUM($I$36:$W$36)=0,"",SUM($I$36:$W$36)) | C36: Radiator | D36: Henrad | E36: type 22 afmeting 1000x600 Q=707 W | I36: =IF(INDIRECT("'"&I$3&"'!B64")=0,"",INDIRECT("'"&I$3&"'!B64")) | J36: =IF(INDIRECT("'"&J$3&"'!B64")=0,"",INDIRECT("'"&J$3&"'!B64")) | K36: =IF(INDIRECT("'"&K$3&"'!B64")=0,"",INDIRECT("'"&K$3&"'!B64")) | L36: =IF(INDIRECT("'"&L$3&"'!B64")=0,"",INDIRECT("'"&L$3&"'!B64")) | M36: =IF(INDIRECT("'"&M$3&"'!B64")=0,"",INDIRECT("'"&M$3&"'!B64")) | N36: =IF(INDIRECT("'"&N$3&"'!B64")=0,"",INDIRECT("'"&N$3&"'!B64")) | O36: =IF(INDIRECT("'"&O$3&"'!B64")=0,"",INDIRECT("'"&O$3&"'!B64")) | P36: =IF(INDIRECT("'"&P$3&"'!B64")=0,"",INDIRECT("'"&P$3&"'!B64")) | ... W36: =IF(INDIRECT("'"&W$3&"'!B64")=0,"",INDIRECT("'"&W$3&"'!B64"))
A37: 76 | B37: =IF(SUM($I$37:$W$37)=0,"",SUM($I$37:$W$37)) | C37: Radiator | D37: Henrad | E37: type 33 afmeting 2000x600 Q=1976 W | I37: =IF(INDIRECT("'"&I$3&"'!B65")=0,"",INDIRECT("'"&I$3&"'!B65")) | J37: =IF(INDIRECT("'"&J$3&"'!B65")=0,"",INDIRECT("'"&J$3&"'!B65")) | K37: =IF(INDIRECT("'"&K$3&"'!B65")=0,"",INDIRECT("'"&K$3&"'!B65")) | L37: =IF(INDIRECT("'"&L$3&"'!B65")=0,"",INDIRECT("'"&L$3&"'!B65")) | M37: =IF(INDIRECT("'"&M$3&"'!B65")=0,"",INDIRECT("'"&M$3&"'!B65")) | N37: =IF(INDIRECT("'"&N$3&"'!B65")=0,"",INDIRECT("'"&N$3&"'!B65")) | O37: =IF(INDIRECT("'"&O$3&"'!B65")=0,"",INDIRECT("'"&O$3&"'!B65")) | P37: =IF(INDIRECT("'"&P$3&"'!B65")=0,"",INDIRECT("'"&P$3&"'!B65")) | ... W37: =IF(INDIRECT("'"&W$3&"'!B65")=0,"",INDIRECT("'"&W$3&"'!B65"))
A38: 77 | B38: =IF(SUM($I$38:$W$38)=0,"",SUM($I$38:$W$38)) | C38: Radiator | D38: Henrad | E38: type 22 afmeting 2200x600 Q=1555 W | I38: =IF(INDIRECT("'"&I$3&"'!B66")=0,"",INDIRECT("'"&I$3&"'!B66")) | J38: =IF(INDIRECT("'"&J$3&"'!B66")=0,"",INDIRECT("'"&J$3&"'!B66")) | K38: =IF(INDIRECT("'"&K$3&"'!B66")=0,"",INDIRECT("'"&K$3&"'!B66")) | L38: =IF(INDIRECT("'"&L$3&"'!B66")=0,"",INDIRECT("'"&L$3&"'!B66")) | M38: =IF(INDIRECT("'"&M$3&"'!B66")=0,"",INDIRECT("'"&M$3&"'!B66")) | N38: =IF(INDIRECT("'"&N$3&"'!B66")=0,"",INDIRECT("'"&N$3&"'!B66")) | O38: =IF(INDIRECT("'"&O$3&"'!B66")=0,"",INDIRECT("'"&O$3&"'!B66")) | P38: =IF(INDIRECT("'"&P$3&"'!B66")=0,"",INDIRECT("'"&P$3&"'!B66")) | ... W38: =IF(INDIRECT("'"&W$3&"'!B66")=0,"",INDIRECT("'"&W$3&"'!B66"))
A39: 78 | B39: =IF(SUM($I$39:$W$39)=0,"",SUM($I$39:$W$39)) | C39: Radiator | D39: Henrad | E39: type 11 afmeting 1000x600 Q=1000 W | I39: =IF(INDIRECT("'"&I$3&"'!B67")=0,"",INDIRECT("'"&I$3&"'!B67")) | J39: =IF(INDIRECT("'"&J$3&"'!B67")=0,"",INDIRECT("'"&J$3&"'!B67")) | K39: =IF(INDIRECT("'"&K$3&"'!B67")=0,"",INDIRECT("'"&K$3&"'!B67")) | L39: =IF(INDIRECT("'"&L$3&"'!B67")=0,"",INDIRECT("'"&L$3&"'!B67")) | M39: =IF(INDIRECT("'"&M$3&"'!B67")=0,"",INDIRECT("'"&M$3&"'!B67")) | N39: =IF(INDIRECT("'"&N$3&"'!B67")=0,"",INDIRECT("'"&N$3&"'!B67")) | O39: =IF(INDIRECT("'"&O$3&"'!B67")=0,"",INDIRECT("'"&O$3&"'!B67")) | P39: =IF(INDIRECT("'"&P$3&"'!B67")=0,"",INDIRECT("'"&P$3&"'!B67")) | ... W39: =IF(INDIRECT("'"&W$3&"'!B67")=0,"",INDIRECT("'"&W$3&"'!B67"))
A40: 79 | B40: =IF(SUM($I$40:$W$40)=0,"",SUM($I$40:$W$40)) | C40: Radiator | D40: Henrad | E40: type 11 afmeting 700x600 Q=700 W | I40: =IF(INDIRECT("'"&I$3&"'!B68")=0,"",INDIRECT("'"&I$3&"'!B68")) | J40: =IF(INDIRECT("'"&J$3&"'!B68")=0,"",INDIRECT("'"&J$3&"'!B68")) | K40: =IF(INDIRECT("'"&K$3&"'!B68")=0,"",INDIRECT("'"&K$3&"'!B68")) | L40: =IF(INDIRECT("'"&L$3&"'!B68")=0,"",INDIRECT("'"&L$3&"'!B68")) | M40: =IF(INDIRECT("'"&M$3&"'!B68")=0,"",INDIRECT("'"&M$3&"'!B68")) | N40: =IF(INDIRECT("'"&N$3&"'!B68")=0,"",INDIRECT("'"&N$3&"'!B68")) | O40: =IF(INDIRECT("'"&O$3&"'!B68")=0,"",INDIRECT("'"&O$3&"'!B68")) | P40: =IF(INDIRECT("'"&P$3&"'!B68")=0,"",INDIRECT("'"&P$3&"'!B68")) | ... W40: =IF(INDIRECT("'"&W$3&"'!B68")=0,"",INDIRECT("'"&W$3&"'!B68"))
...

Sheet TR01 1e verd
A1: 4.57 | B1: 8 | C1: 19.57 | D1: 47.57 | F1: 10 | G1: 10
A2: =IF(totaal!A2=0,"",totaal!A2) -> STUKLIJST | G2: Versie 4.1 (750)
A3: =IF(totaal!A3=0,"",totaal!A3) -> POS | B3: =IF(totaal!B3=0,"",totaal!B3) -> AANTAL | C3: =IF(totaal!C3=0,"",totaal!C3) -> BENAMING | D3: =IF(totaal!D3=0,"",totaal!D3) -> FABRIKAAT | E3: =IF(totaal!E3=0,"",totaal!E3) -> TYPE | F3: =IF(totaal!F3=0,"",totaal!F3) -> CODE | G3: =IF(totaal!G3=0,"",totaal!G3) -> KLEUR | H3: Mededeling Patrick
A4: =IF(totaal!A4=0,"",totaal!A4) -> 1 | C4: =IF(totaal!C4=0,"",totaal!C4) -> Gasfilter | D4: =IF(totaal!D4=0,"",totaal!D4) -> Econosto | E4: =IF(totaal!E4=0,"",totaal!E4) -> fig.1014 1/2" | F4: =IF(totaal!F4=0,"",totaal!F4) | G4: =IF(totaal!G4=0,"",totaal!G4)
A5: =IF(totaal!A5=0,"",totaal!A5) -> 2 | C5: =IF(totaal!C5=0,"",totaal!C5) -> Gasfilter | D5: =IF(totaal!D5=0,"",totaal!D5) -> Econosto | E5: =IF(totaal!E5=0,"",totaal!E5) -> fig.1014 3/4" | F5: =IF(totaal!F5=0,"",totaal!F5) | G5: =IF(totaal!G5=0,"",totaal!G5)
A6: =IF(totaal!A6=0,"",totaal!A6) -> 3 | C6: =IF(totaal!C6=0,"",totaal!C6) -> Gasfilter | D6: =IF(totaal!D6=0,"",totaal!D6) -> Econosto | E6: =IF(totaal!E6=0,"",totaal!E6) -> fig.1014 1" | F6: =IF(totaal!F6=0,"",totaal!F6) | G6: =IF(totaal!G6=0,"",totaal!G6)
A7: =IF(totaal!A7=0,"",totaal!A7) -> 4 | C7: =IF(totaal!C7=0,"",totaal!C7) -> Gaskogelafsluiter | D7: =IF(totaal!D7=0,"",totaal!D7) -> Econosto | E7: =IF(totaal!E7=0,"",totaal!E7) -> Figuur 1937 1 ½" | F7: =IF(totaal!F7=0,"",totaal!F7) | G7: =IF(totaal!G7=0,"",totaal!G7)
A8: =IF(totaal!A8=0,"",totaal!A8) -> 5 | C8: =IF(totaal!C8=0,"",totaal!C8) -> Gaskogelafsluiter | D8: =IF(totaal!D8=0,"",totaal!D8) -> VSH | E8: =IF(totaal!E8=0,"",totaal!E8) -> Figuur 060431.8 1 1/4" Bin × Bui | F8: =IF(totaal!F8=0,"",totaal!F8) -> TU785162 | G8: =IF(totaal!G8=0,"",totaal!G8)
A9: =IF(totaal!A9=0,"",totaal!A9) -> 6 | C9: =IF(totaal!C9=0,"",totaal!C9) -> Gaskogelafsluiter | D9: =IF(totaal!D9=0,"",totaal!D9) -> Econosto | E9: =IF(totaal!E9=0,"",totaal!E9) | F9: =IF(totaal!F9=0,"",totaal!F9) | G9: =IF(totaal!G9=0,"",totaal!G9)
A10: =IF(totaal!A10=0,"",totaal!A10) -> 7 | C10: =IF(totaal!C10=0,"",totaal!C10) -> Gaskogelafsluiter | D10: =IF(totaal!D10=0,"",totaal!D10) -> Econosto | E10: =IF(totaal!E10=0,"",totaal!E10) -> fig.1619 2" | F10: =IF(totaal!F10=0,"",totaal!F10) | G10: =IF(totaal!G10=0,"",totaal!G10)
A11: =IF(totaal!A11=0,"",totaal!A11) -> 8 | C11: =IF(totaal!C11=0,"",totaal!C11) -> Gasklepafsluiter | D11: =IF(totaal!D11=0,"",totaal!D11) -> Econosto | E11: =IF(totaal!E11=0,"",totaal!E11) -> fig.2011 DN100 PN10 | F11: =IF(totaal!F11=0,"",totaal!F11) | G11: =IF(totaal!G11=0,"",totaal!G11)
A12: =IF(totaal!A12=0,"",totaal!A12) -> 9 | C12: =IF(totaal!C12=0,"",totaal!C12) -> Gasgebrekklep | D12: =IF(totaal!D12=0,"",totaal!D12) -> Schlumberger | E12: =IF(totaal!E12=0,"",totaal!E12) | F12: =IF(totaal!F12=0,"",totaal!F12) | G12: =IF(totaal!G12=0,"",totaal!G12)
A13: =IF(totaal!A13=0,"",totaal!A13) -> 10 | C13: =IF(totaal!C13=0,"",totaal!C13) -> Klepafsluiter Rayon Patent | D13: =IF(totaal!D13=0,"",totaal!D13) -> Econosto | E13: =IF(totaal!E13=0,"",totaal!E13) -> fig.2011 DN100 | F13: =IF(totaal!F13=0,"",totaal!F13) | G13: =IF(totaal!G13=0,"",totaal!G13)
A14: =IF(totaal!A14=0,"",totaal!A14) -> 11 | C14: =IF(totaal!C14=0,"",totaal!C14) -> Gasmagneetafsluiter NO | D14: =IF(totaal!D14=0,"",totaal!D14) -> Watts Industrie | E14: =IF(totaal!E14=0,"",totaal!E14) -> type ? 3/4" | F14: =IF(totaal!F14=0,"",totaal!F14) | G14: =IF(totaal!G14=0,"",totaal!G14)
A15: =IF(totaal!#REF!=0,"",totaal!#REF!) -> #REF! | C15: =IF(totaal!#REF!=0,"",totaal!#REF!) -> #REF! | D15: =IF(totaal!#REF!=0,"",totaal!#REF!) -> #REF! | E15: =IF(totaal!#REF!=0,"",totaal!#REF!) -> #REF! | F15: =IF(totaal!#REF!=0,"",totaal!#REF!) -> #REF! | G15: =IF(totaal!#REF!=0,"",totaal!#REF!) -> #REF!
A16: =IF(totaal!#REF!=0,"",totaal!#REF!) -> #REF! | C16: =IF(totaal!#REF!=0,"",totaal!#REF!) -> #REF! | D16: =IF(totaal!#REF!=0,"",totaal!#REF!) -> #REF! | E16: =IF(totaal!#REF!=0,"",totaal!#REF!) -> #REF! | F16: =IF(totaal!#REF!=0,"",totaal!#REF!) -> #REF! | G16: =IF(totaal!#REF!=0,"",totaal!#REF!) -> #REF!
A17: =IF(totaal!#REF!=0,"",totaal!#REF!) -> #REF! | C17: =IF(totaal!#REF!=0,"",totaal!#REF!) -> #REF! | D17: =IF(totaal!#REF!=0,"",totaal!#REF!) -> #REF! | E17: =IF(totaal!#REF!=0,"",totaal!#REF!) -> #REF! | F17: =IF(totaal!#REF!=0,"",totaal!#REF!) -> #REF! | G17: =IF(totaal!#REF!=0,"",totaal!#REF!) -> #REF!
A18: =IF(totaal!#REF!=0,"",totaal!#REF!) -> #REF! | C18: =IF(totaal!#REF!=0,"",totaal!#REF!) -> #REF! | D18: =IF(totaal!#REF!=0,"",totaal!#REF!) -> #REF! | E18: =IF(totaal!#REF!=0,"",totaal!#REF!) -> #REF! | F18: =IF(totaal!#REF!=0,"",totaal!#REF!) -> #REF! | G18: =IF(totaal!#REF!=0,"",totaal!#REF!) -> #REF!
A19: =IF(totaal!A15=0,"",totaal!A15) -> 16 | C19: =IF(totaal!C15=0,"",totaal!C15) -> Gasfilter | D19: =IF(totaal!D15=0,"",totaal!D15) -> Econosto | E19: =IF(totaal!E15=0,"",totaal!E15) -> fig.1014 1 1/4" | F19: =IF(totaal!F15=0,"",totaal!F15) | G19: =IF(totaal!G15=0,"",totaal!G15)
A20: =IF(totaal!A16=0,"",totaal!A16) -> 17 | C20: =IF(totaal!C16=0,"",totaal!C16) -> Gaskogelafsluiter | D20: =IF(totaal!D16=0,"",totaal!D16) -> Econosto | E20: =IF(totaal!E16=0,"",totaal!E16) -> fig. 1619 1" | F20: =IF(totaal!F16=0,"",totaal!F16) | G20: =IF(totaal!G16=0,"",totaal!G16)
A21: =IF(totaal!#REF!=0,"",totaal!#REF!) -> #REF! | C21: =IF(totaal!#REF!=0,"",totaal!#REF!) -> #REF! | D21: =IF(totaal!#REF!=0,"",totaal!#REF!) -> #REF! | E21: =IF(totaal!#REF!=0,"",totaal!#REF!) -> #REF! | F21: =IF(totaal!#REF!=0,"",totaal!#REF!) -> #REF! | G21: =IF(totaal!#REF!=0,"",totaal!#REF!) -> #REF!
A22: =IF(totaal!#REF!=0,"",totaal!#REF!) -> #REF! | C22: =IF(totaal!#REF!=0,"",totaal!#REF!) -> #REF! | D22: =IF(totaal!#REF!=0,"",totaal!#REF!) -> #REF! | E22: =IF(totaal!#REF!=0,"",totaal!#REF!) -> #REF! | F22: =IF(totaal!#REF!=0,"",totaal!#REF!) -> #REF! | G22: =IF(totaal!#REF!=0,"",totaal!#REF!) -> #REF!
A23: =IF(totaal!A17=0,"",totaal!A17) -> 20 | C23: =IF(totaal!C17=0,"",totaal!C17) -> Bufffervat 1500 ltr | D23: =IF(totaal!D17=0,"",totaal!D17) -> Horos | E23: =IF(totaal!E17=0,"",totaal!E17) -> Verticaal Buffervat VK 1500 diameter ø990mm × 2470mm | F23: =IF(totaal!F17=0,"",totaal!F17) -> 816 020 070 | G23: =IF(totaal!G17=0,"",totaal!G17)
A24: =IF(totaal!A18=0,"",totaal!A18) -> 21 | C24: =IF(totaal!C18=0,"",totaal!C18) | D24: =IF(totaal!D18=0,"",totaal!D18) | E24: =IF(totaal!E18=0,"",totaal!E18) -> Uitw. geïsoleerd met 20 mm dampdichte isolatie | F24: =IF(totaal!F18=0,"",totaal!F18) | G24: =IF(totaal!G18=0,"",totaal!G18)
A25: =IF(totaal!A19=0,"",totaal!A19) -> 22 | C25: =IF(totaal!C19=0,"",totaal!C19) | D25: =IF(totaal!D19=0,"",totaal!D19) | E25: =IF(totaal!E19=0,"",totaal!E19) -> Inclusief 2× ¾" voor aftap en beluchting | F25: =IF(totaal!F19=0,"",totaal!F19) | G25: =IF(totaal!G19=0,"",totaal!G19)
A26: =IF(totaal!A20=0,"",totaal!A20) -> 23 | C26: =IF(totaal!C20=0,"",totaal!C20) -> Bufffervat 2000 ltr | D26: =IF(totaal!D20=0,"",totaal!D20) -> Horos | E26: =IF(totaal!E20=0,"",totaal!E20) -> Verticaal Buffervat VK 2000 diameter ø1140mm × 2510mm | F26: =IF(totaal!F20=0,"",totaal!F20) -> 816 020 071 | G26: =IF(totaal!G20=0,"",totaal!G20)
A27: =IF(totaal!A21=0,"",totaal!A21) -> 24 | C27: =IF(totaal!C21=0,"",totaal!C21) | D27: =IF(totaal!D21=0,"",totaal!D21) | E27: =IF(totaal!E21=0,"",totaal!E21) -> Uitwendig gesioleerd met 20 mm dampdichte isolatie | F27: =IF(totaal!F21=0,"",totaal!F21) | G27: =IF(totaal!G21=0,"",totaal!G21)
A28: =IF(totaal!A22=0,"",totaal!A22) -> 25 | C28: =IF(totaal!C22=0,"",totaal!C22) | D28: =IF(totaal!D22=0,"",totaal!D22) | E28: =IF(totaal!E22=0,"",totaal!E22) -> Inclusief 2× ¾" voor aftap en beluchting | F28: =IF(totaal!F22=0,"",totaal!F22) | G28: =IF(totaal!G22=0,"",totaal!G22)
A29: =IF(totaal!#REF!=0,"",totaal!#REF!) -> #REF! | C29: =IF(totaal!#REF!=0,"",totaal!#REF!) -> #REF! | D29: =IF(totaal!#REF!=0,"",totaal!#REF!) -> #REF! | E29: =IF(totaal!#REF!=0,"",totaal!#REF!) -> #REF! | F29: =IF(totaal!#REF!=0,"",totaal!#REF!) -> #REF! | G29: =IF(totaal!#REF!=0,"",totaal!#REF!) -> #REF!
A30: =IF(totaal!#REF!=0,"",totaal!#REF!) -> #REF! | C30: =IF(totaal!#REF!=0,"",totaal!#REF!) -> #REF! | D30: =IF(totaal!#REF!=0,"",totaal!#REF!) -> #REF! | E30: =IF(totaal!#REF!=0,"",totaal!#REF!) -> #REF! | F30: =IF(totaal!#REF!=0,"",totaal!#REF!) -> #REF! | G30: =IF(totaal!#REF!=0,"",totaal!#REF!) -> #REF!
A31: =IF(totaal!#REF!=0,"",totaal!#REF!) -> #REF! | C31: =IF(totaal!#REF!=0,"",totaal!#REF!) -> #REF! | D31: =IF(totaal!#REF!=0,"",totaal!#REF!) -> #REF! | E31: =IF(totaal!#REF!=0,"",totaal!#REF!) -> #REF! | F31: =IF(totaal!#REF!=0,"",totaal!#REF!) -> #REF! | G31: =IF(totaal!#REF!=0,"",totaal!#REF!) -> #REF!
A32: =IF(totaal!#REF!=0,"",totaal!#REF!) -> #REF! | C32: =IF(totaal!#REF!=0,"",totaal!#REF!) -> #REF! | D32: =IF(totaal!#REF!=0,"",totaal!#REF!) -> #REF! | E32: =IF(totaal!#REF!=0,"",totaal!#REF!) -> #REF! | F32: =IF(totaal!#REF!=0,"",totaal!#REF!) -> #REF! | G32: =IF(totaal!#REF!=0,"",totaal!#REF!) -> #REF!
A33: =IF(totaal!#REF!=0,"",totaal!#REF!) -> #REF! | C33: =IF(totaal!#REF!=0,"",totaal!#REF!) -> #REF! | D33: =IF(totaal!#REF!=0,"",totaal!#REF!) -> #REF! | E33: =IF(totaal!#REF!=0,"",totaal!#REF!) -> #REF! | F33: =IF(totaal!#REF!=0,"",totaal!#REF!) -> #REF! | G33: =IF(totaal!#REF!=0,"",totaal!#REF!) -> #REF!
A34: =IF(totaal!#REF!=0,"",totaal!#REF!) -> #REF! | C34: =IF(totaal!#REF!=0,"",totaal!#REF!) -> #REF! | D34: =IF(totaal!#REF!=0,"",totaal!#REF!) -> #REF! | E34: =IF(totaal!#REF!=0,"",totaal!#REF!) -> #REF! | F34: =IF(totaal!#REF!=0,"",totaal!#REF!) -> #REF! | G34: =IF(totaal!#REF!=0,"",totaal!#REF!) -> #REF!
A35: =IF(totaal!#REF!=0,"",totaal!#REF!) -> #REF! | C35: =IF(totaal!#REF!=0,"",totaal!#REF!) -> #REF! | D35: =IF(totaal!#REF!=0,"",totaal!#REF!) -> #REF! | E35: =IF(totaal!#REF!=0,"",totaal!#REF!) -> #REF! | F35: =IF(totaal!#REF!=0,"",totaal!#REF!) -> #REF! | G35: =IF(totaal!#REF!=0,"",totaal!#REF!) -> #REF!
A36: =IF(totaal!#REF!=0,"",totaal!#REF!) -> #REF! | C36: =IF(totaal!#REF!=0,"",totaal!#REF!) -> #REF! | D36: =IF(totaal!#REF!=0,"",totaal!#REF!) -> #REF! | E36: =IF(totaal!#REF!=0,"",totaal!#REF!) -> #REF! | F36: =IF(totaal!#REF!=0,"",totaal!#REF!) -> #REF! | G36: =IF(totaal!#REF!=0,"",totaal!#REF!) -> #REF!
A37: =IF(totaal!#REF!=0,"",totaal!#REF!) -> #REF! | C37: =IF(totaal!#REF!=0,"",totaal!#REF!) -> #REF! | D37: =IF(totaal!#REF!=0,"",totaal!#REF!) -> #REF! | E37: =IF(totaal!#REF!=0,"",totaal!#REF!) -> #REF! | F37: =IF(totaal!#REF!=0,"",totaal!#REF!) -> #REF! | G37: =IF(totaal!#REF!=0,"",totaal!#REF!) -> #REF!
A38: =IF(totaal!#REF!=0,"",totaal!#REF!) -> #REF! | C38: =IF(totaal!#REF!=0,"",totaal!#REF!) -> #REF! | D38: =IF(totaal!#REF!=0,"",totaal!#REF!) -> #REF! | E38: =IF(totaal!#REF!=0,"",totaal!#REF!) -> #REF! | F38: =IF(totaal!#REF!=0,"",totaal!#REF!) -> #REF! | G38: =IF(totaal!#REF!=0,"",totaal!#REF!) -> #REF!
A39: =IF(totaal!#REF!=0,"",totaal!#REF!) -> #REF! | C39: =IF(totaal!#REF!=0,"",totaal!#REF!) -> #REF! | D39: =IF(totaal!#REF!=0,"",totaal!#REF!) -> #REF! | E39: =IF(totaal!#REF!=0,"",totaal!#REF!) -> #REF! | F39: =IF(totaal!#REF!=0,"",totaal!#REF!) -> #REF! | G39: =IF(totaal!#REF!=0,"",totaal!#REF!) -> #REF!
A40: =IF(totaal!#REF!=0,"",totaal!#REF!) -> #REF! | C40: =IF(totaal!#REF!=0,"",totaal!#REF!) -> #REF! | D40: =IF(totaal!#REF!=0,"",totaal!#REF!) -> #REF! | E40: =IF(totaal!#REF!=0,"",totaal!#REF!) -> #REF! | F40: =IF(totaal!#REF!=0,"",totaal!#REF!) -> #REF! | G40: =IF(totaal!#REF!=0,"",totaal!#REF!) -> #REF!
...

Sheet TR02 2e verd
A1: 4.57 | B1: 8 | C1: 19.57 | D1: 47.57 | F1: 10 | G1: 10
A2: =IF(totaal!A2=0,"",totaal!A2) -> STUKLIJST | G2: Versie 4.0 (751)
A3: =IF(totaal!A3=0,"",totaal!A3) -> POS | B3: =IF(totaal!B3=0,"",totaal!B3) -> AANTAL | C3: =IF(totaal!C3=0,"",totaal!C3) -> BENAMING | D3: =IF(totaal!D3=0,"",totaal!D3) -> FABRIKAAT | E3: =IF(totaal!E3=0,"",totaal!E3) -> TYPE | F3: =IF(totaal!F3=0,"",totaal!F3) -> CODE | G3: KLEUR | J3: Mededeling Patrick
A4: =IF(totaal!A4=0,"",totaal!A4) -> 1 | C4: =IF(totaal!C4=0,"",totaal!C4) -> Gasfilter | D4: =IF(totaal!D4=0,"",totaal!D4) -> Econosto | E4: =IF(totaal!E4=0,"",totaal!E4) -> fig.1014 1/2" | F4: =IF(totaal!F4=0,"",totaal!F4) | G4: =IF(totaal!G4=0,"",totaal!G4)
A5: =IF(totaal!A5=0,"",totaal!A5) -> 2 | C5: =IF(totaal!C5=0,"",totaal!C5) -> Gasfilter | D5: =IF(totaal!D5=0,"",totaal!D5) -> Econosto | E5: =IF(totaal!E5=0,"",totaal!E5) -> fig.1014 3/4" | F5: =IF(totaal!F5=0,"",totaal!F5) | G5: =IF(totaal!G5=0,"",totaal!G5)
A6: =IF(totaal!A6=0,"",totaal!A6) -> 3 | C6: =IF(totaal!C6=0,"",totaal!C6) -> Gasfilter | D6: =IF(totaal!D6=0,"",totaal!D6) -> Econosto | E6: =IF(totaal!E6=0,"",totaal!E6) -> fig.1014 1" | F6: =IF(totaal!F6=0,"",totaal!F6) | G6: =IF(totaal!G6=0,"",totaal!G6)
A7: =IF(totaal!A7=0,"",totaal!A7) -> 4 | C7: =IF(totaal!C7=0,"",totaal!C7) -> Gaskogelafsluiter | D7: =IF(totaal!D7=0,"",totaal!D7) -> Econosto | E7: =IF(totaal!E7=0,"",totaal!E7) -> Figuur 1937 1 ½" | F7: =IF(totaal!F7=0,"",totaal!F7) | G7: =IF(totaal!G7=0,"",totaal!G7)
A8: =IF(totaal!A8=0,"",totaal!A8) -> 5 | B8: 1 | C8: =IF(totaal!C8=0,"",totaal!C8) -> Gaskogelafsluiter | D8: =IF(totaal!D8=0,"",totaal!D8) -> VSH | E8: =IF(totaal!E8=0,"",totaal!E8) -> Figuur 060431.8 1 1/4" Bin × Bui | F8: =IF(totaal!F8=0,"",totaal!F8) -> TU785162 | G8: =IF(totaal!G8=0,"",totaal!G8)
A9: =IF(totaal!A9=0,"",totaal!A9) -> 6 | C9: =IF(totaal!C9=0,"",totaal!C9) -> Gaskogelafsluiter | D9: =IF(totaal!D9=0,"",totaal!D9) -> Econosto | E9: =IF(totaal!E9=0,"",totaal!E9) | F9: =IF(totaal!F9=0,"",totaal!F9) | G9: =IF(totaal!G9=0,"",totaal!G9)
A10: =IF(totaal!A10=0,"",totaal!A10) -> 7 | C10: =IF(totaal!C10=0,"",totaal!C10) -> Gaskogelafsluiter | D10: =IF(totaal!D10=0,"",totaal!D10) -> Econosto | E10: =IF(totaal!E10=0,"",totaal!E10) -> fig.1619 2" | F10: =IF(totaal!F10=0,"",totaal!F10) | G10: =IF(totaal!G10=0,"",totaal!G10)
A11: =IF(totaal!A11=0,"",totaal!A11) -> 8 | C11: =IF(totaal!C11=0,"",totaal!C11) -> Gasklepafsluiter | D11: =IF(totaal!D11=0,"",totaal!D11) -> Econosto | E11: =IF(totaal!E11=0,"",totaal!E11) -> fig.2011 DN100 PN10 | F11: =IF(totaal!F11=0,"",totaal!F11) | G11: =IF(totaal!G11=0,"",totaal!G11)
A12: =IF(totaal!A12=0,"",totaal!A12) -> 9 | C12: =IF(totaal!C12=0,"",totaal!C12) -> Gasgebrekklep | D12: =IF(totaal!D12=0,"",totaal!D12) -> Schlumberger | E12: =IF(totaal!E12=0,"",totaal!E12) | F12: =IF(totaal!F12=0,"",totaal!F12) | G12: =IF(totaal!G12=0,"",totaal!G12)
A13: =IF(totaal!A13=0,"",totaal!A13) -> 10 | C13: =IF(totaal!C13=0,"",totaal!C13) -> Klepafsluiter Rayon Patent | D13: =IF(totaal!D13=0,"",totaal!D13) -> Econosto | E13: =IF(totaal!E13=0,"",totaal!E13) -> fig.2011 DN100 | F13: =IF(totaal!F13=0,"",totaal!F13) | G13: =IF(totaal!G13=0,"",totaal!G13)
A14: =IF(totaal!A14=0,"",totaal!A14) -> 11 | C14: =IF(totaal!C14=0,"",totaal!C14) -> Gasmagneetafsluiter NO | D14: =IF(totaal!D14=0,"",totaal!D14) -> Watts Industrie | E14: =IF(totaal!E14=0,"",totaal!E14) -> type ? 3/4" | F14: =IF(totaal!F14=0,"",totaal!F14) | G14: =IF(totaal!G14=0,"",totaal!G14)
A15: =IF(totaal!#REF!=0,"",totaal!#REF!) -> #REF! | C15: =IF(totaal!#REF!=0,"",totaal!#REF!) -> #REF! | D15: =IF(totaal!#REF!=0,"",totaal!#REF!) -> #REF! | E15: =IF(totaal!#REF!=0,"",totaal!#REF!) -> #REF! | F15: =IF(totaal!#REF!=0,"",totaal!#REF!) -> #REF! | G15: =IF(totaal!#REF!=0,"",totaal!#REF!) -> #REF!
A16: =IF(totaal!#REF!=0,"",totaal!#REF!) -> #REF! | C16: =IF(totaal!#REF!=0,"",totaal!#REF!) -> #REF! | D16: =IF(totaal!#REF!=0,"",totaal!#REF!) -> #REF! | E16: =IF(totaal!#REF!=0,"",totaal!#REF!) -> #REF! | F16: =IF(totaal!#REF!=0,"",totaal!#REF!) -> #REF! | G16: =IF(totaal!#REF!=0,"",totaal!#REF!) -> #REF!
A17: =IF(totaal!#REF!=0,"",totaal!#REF!) -> #REF! | C17: =IF(totaal!#REF!=0,"",totaal!#REF!) -> #REF! | D17: =IF(totaal!#REF!=0,"",totaal!#REF!) -> #REF! | E17: =IF(totaal!#REF!=0,"",totaal!#REF!) -> #REF! | F17: =IF(totaal!#REF!=0,"",totaal!#REF!) -> #REF! | G17: =IF(totaal!#REF!=0,"",totaal!#REF!) -> #REF!
A18: =IF(totaal!#REF!=0,"",totaal!#REF!) -> #REF! | C18: =IF(totaal!#REF!=0,"",totaal!#REF!) -> #REF! | D18: =IF(totaal!#REF!=0,"",totaal!#REF!) -> #REF! | E18: =IF(totaal!#REF!=0,"",totaal!#REF!) -> #REF! | F18: =IF(totaal!#REF!=0,"",totaal!#REF!) -> #REF! | G18: =IF(totaal!#REF!=0,"",totaal!#REF!) -> #REF!
A19: =IF(totaal!A15=0,"",totaal!A15) -> 16 | C19: =IF(totaal!C15=0,"",totaal!C15) -> Gasfilter | D19: =IF(totaal!D15=0,"",totaal!D15) -> Econosto | E19: =IF(totaal!E15=0,"",totaal!E15) -> fig.1014 1 1/4" | F19: =IF(totaal!F15=0,"",totaal!F15) | G19: =IF(totaal!G15=0,"",totaal!G15)
A20: =IF(totaal!A16=0,"",totaal!A16) -> 17 | C20: =IF(totaal!C16=0,"",totaal!C16) -> Gaskogelafsluiter | D20: =IF(totaal!D16=0,"",totaal!D16) -> Econosto | E20: =IF(totaal!E16=0,"",totaal!E16) -> fig. 1619 1" | F20: =IF(totaal!F16=0,"",totaal!F16) | G20: =IF(totaal!G16=0,"",totaal!G16)
A21: =IF(totaal!#REF!=0,"",totaal!#REF!) -> #REF! | C21: =IF(totaal!#REF!=0,"",totaal!#REF!) -> #REF! | D21: =IF(totaal!#REF!=0,"",totaal!#REF!) -> #REF! | E21: =IF(totaal!#REF!=0,"",totaal!#REF!) -> #REF! | F21: =IF(totaal!#REF!=0,"",totaal!#REF!) -> #REF! | G21: =IF(totaal!#REF!=0,"",totaal!#REF!) -> #REF!
A22: =IF(totaal!#REF!=0,"",totaal!#REF!) -> #REF! | C22: =IF(totaal!#REF!=0,"",totaal!#REF!) -> #REF! | D22: =IF(totaal!#REF!=0,"",totaal!#REF!) -> #REF! | E22: =IF(totaal!#REF!=0,"",totaal!#REF!) -> #REF! | F22: =IF(totaal!#REF!=0,"",totaal!#REF!) -> #REF! | G22: =IF(totaal!#REF!=0,"",totaal!#REF!) -> #REF!
A23: =IF(totaal!A17=0,"",totaal!A17) -> 20 | B23: 1 | C23: =IF(totaal!C17=0,"",totaal!C17) -> Bufffervat 1500 ltr | D23: =IF(totaal!D17=0,"",totaal!D17) -> Horos | E23: =IF(totaal!E17=0,"",totaal!E17) -> Verticaal Buffervat VK 1500 diameter ø990mm × 2470mm | F23: =IF(totaal!F17=0,"",totaal!F17) -> 816 020 070 | G23: =IF(totaal!G17=0,"",totaal!G17)
A24: =IF(totaal!A18=0,"",totaal!A18) -> 21 | C24: =IF(totaal!C18=0,"",totaal!C18) | D24: =IF(totaal!D18=0,"",totaal!D18) | E24: =IF(totaal!E18=0,"",totaal!E18) -> Uitw. geïsoleerd met 20 mm dampdichte isolatie | F24: =IF(totaal!F18=0,"",totaal!F18) | G24: =IF(totaal!G18=0,"",totaal!G18)
A25: =IF(totaal!A19=0,"",totaal!A19) -> 22 | C25: =IF(totaal!C19=0,"",totaal!C19) | D25: =IF(totaal!D19=0,"",totaal!D19) | E25: =IF(totaal!E19=0,"",totaal!E19) -> Inclusief 2× ¾" voor aftap en beluchting | F25: =IF(totaal!F19=0,"",totaal!F19) | G25: =IF(totaal!G19=0,"",totaal!G19)
A26: =IF(totaal!A20=0,"",totaal!A20) -> 23 | B26: 1 | C26: =IF(totaal!C20=0,"",totaal!C20) -> Bufffervat 2000 ltr | D26: =IF(totaal!D20=0,"",totaal!D20) -> Horos | E26: =IF(totaal!E20=0,"",totaal!E20) -> Verticaal Buffervat VK 2000 diameter ø1140mm × 2510mm | F26: =IF(totaal!F20=0,"",totaal!F20) -> 816 020 071 | G26: =IF(totaal!G20=0,"",totaal!G20)
A27: =IF(totaal!A21=0,"",totaal!A21) -> 24 | C27: =IF(totaal!C21=0,"",totaal!C21) | D27: =IF(totaal!D21=0,"",totaal!D21) | E27: =IF(totaal!E21=0,"",totaal!E21) -> Uitwendig gesioleerd met 20 mm dampdichte isolatie | F27: =IF(totaal!F21=0,"",totaal!F21) | G27: =IF(totaal!G21=0,"",totaal!G21)
A28: =IF(totaal!A22=0,"",totaal!A22) -> 25 | C28: =IF(totaal!C22=0,"",totaal!C22) | D28: =IF(totaal!D22=0,"",totaal!D22) | E28: =IF(totaal!E22=0,"",totaal!E22) -> Inclusief 2× ¾" voor aftap en beluchting | F28: =IF(totaal!F22=0,"",totaal!F22) | G28: =IF(totaal!G22=0,"",totaal!G22)
A29: =IF(totaal!#REF!=0,"",totaal!#REF!) -> #REF! | C29: =IF(totaal!#REF!=0,"",totaal!#REF!) -> #REF! | D29: =IF(totaal!#REF!=0,"",totaal!#REF!) -> #REF! | E29: =IF(totaal!#REF!=0,"",totaal!#REF!) -> #REF! | F29: =IF(totaal!#REF!=0,"",totaal!#REF!) -> #REF! | G29: =IF(totaal!#REF!=0,"",totaal!#REF!) -> #REF!
A30: =IF(totaal!#REF!=0,"",totaal!#REF!) -> #REF! | C30: =IF(totaal!#REF!=0,"",totaal!#REF!) -> #REF! | D30: =IF(totaal!#REF!=0,"",totaal!#REF!) -> #REF! | E30: =IF(totaal!#REF!=0,"",totaal!#REF!) -> #REF! | F30: =IF(totaal!#REF!=0,"",totaal!#REF!) -> #REF! | G30: =IF(totaal!#REF!=0,"",totaal!#REF!) -> #REF!
A31: =IF(totaal!#REF!=0,"",totaal!#REF!) -> #REF! | C31: =IF(totaal!#REF!=0,"",totaal!#REF!) -> #REF! | D31: =IF(totaal!#REF!=0,"",totaal!#REF!) -> #REF! | E31: =IF(totaal!#REF!=0,"",totaal!#REF!) -> #REF! | F31: =IF(totaal!#REF!=0,"",totaal!#REF!) -> #REF! | G31: =IF(totaal!#REF!=0,"",totaal!#REF!) -> #REF!
A32: =IF(totaal!#REF!=0,"",totaal!#REF!) -> #REF! | C32: =IF(totaal!#REF!=0,"",totaal!#REF!) -> #REF! | D32: =IF(totaal!#REF!=0,"",totaal!#REF!) -> #REF! | E32: =IF(totaal!#REF!=0,"",totaal!#REF!) -> #REF! | F32: =IF(totaal!#REF!=0,"",totaal!#REF!) -> #REF! | G32: =IF(totaal!#REF!=0,"",totaal!#REF!) -> #REF!
A33: =IF(totaal!#REF!=0,"",totaal!#REF!) -> #REF! | C33: =IF(totaal!#REF!=0,"",totaal!#REF!) -> #REF! | D33: =IF(totaal!#REF!=0,"",totaal!#REF!) -> #REF! | E33: =IF(totaal!#REF!=0,"",totaal!#REF!) -> #REF! | F33: =IF(totaal!#REF!=0,"",totaal!#REF!) -> #REF! | G33: =IF(totaal!#REF!=0,"",totaal!#REF!) -> #REF!
A34: =IF(totaal!#REF!=0,"",totaal!#REF!) -> #REF! | C34: =IF(totaal!#REF!=0,"",totaal!#REF!) -> #REF! | D34: =IF(totaal!#REF!=0,"",totaal!#REF!) -> #REF! | E34: =IF(totaal!#REF!=0,"",totaal!#REF!) -> #REF! | F34: =IF(totaal!#REF!=0,"",totaal!#REF!) -> #REF! | G34: =IF(totaal!#REF!=0,"",totaal!#REF!) -> #REF!
A35: =IF(totaal!#REF!=0,"",totaal!#REF!) -> #REF! | C35: =IF(totaal!#REF!=0,"",totaal!#REF!) -> #REF! | D35: =IF(totaal!#REF!=0,"",totaal!#REF!) -> #REF! | E35: =IF(totaal!#REF!=0,"",totaal!#REF!) -> #REF! | F35: =IF(totaal!#REF!=0,"",totaal!#REF!) -> #REF! | G35: =IF(totaal!#REF!=0,"",totaal!#REF!) -> #REF!
A36: =IF(totaal!#REF!=0,"",totaal!#REF!) -> #REF! | C36: =IF(totaal!#REF!=0,"",totaal!#REF!) -> #REF! | D36: =IF(totaal!#REF!=0,"",totaal!#REF!) -> #REF! | E36: =IF(totaal!#REF!=0,"",totaal!#REF!) -> #REF! | F36: =IF(totaal!#REF!=0,"",totaal!#REF!) -> #REF! | G36: =IF(totaal!#REF!=0,"",totaal!#REF!) -> #REF!
A37: =IF(totaal!#REF!=0,"",totaal!#REF!) -> #REF! | C37: =IF(totaal!#REF!=0,"",totaal!#REF!) -> #REF! | D37: =IF(totaal!#REF!=0,"",totaal!#REF!) -> #REF! | E37: =IF(totaal!#REF!=0,"",totaal!#REF!) -> #REF! | F37: =IF(totaal!#REF!=0,"",totaal!#REF!) -> #REF! | G37: =IF(totaal!#REF!=0,"",totaal!#REF!) -> #REF!
A38: =IF(totaal!#REF!=0,"",totaal!#REF!) -> #REF! | C38: =IF(totaal!#REF!=0,"",totaal!#REF!) -> #REF! | D38: =IF(totaal!#REF!=0,"",totaal!#REF!) -> #REF! | E38: =IF(totaal!#REF!=0,"",totaal!#REF!) -> #REF! | F38: =IF(totaal!#REF!=0,"",totaal!#REF!) -> #REF! | G38: =IF(totaal!#REF!=0,"",totaal!#REF!) -> #REF!
A39: =IF(totaal!#REF!=0,"",totaal!#REF!) -> #REF! | C39: =IF(totaal!#REF!=0,"",totaal!#REF!) -> #REF! | D39: =IF(totaal!#REF!=0,"",totaal!#REF!) -> #REF! | E39: =IF(totaal!#REF!=0,"",totaal!#REF!) -> #REF! | F39: =IF(totaal!#REF!=0,"",totaal!#REF!) -> #REF! | G39: =IF(totaal!#REF!=0,"",totaal!#REF!) -> #REF!
A40: =IF(totaal!#REF!=0,"",totaal!#REF!) -> #REF! | C40: =IF(totaal!#REF!=0,"",totaal!#REF!) -> #REF! | D40: =IF(totaal!#REF!=0,"",totaal!#REF!) -> #REF! | E40: =IF(totaal!#REF!=0,"",totaal!#REF!) -> #REF! | F40: =IF(totaal!#REF!=0,"",totaal!#REF!) -> #REF! | G40: =IF(totaal!#REF!=0,"",totaal!#REF!) -> #REF!
...

Sheet bwd A kelder
A1: 4.57 | B1: 8 | C1: 19.57 | D1: 47.57 | F1: 10
A2: =IF(totaal!A2=0,"",totaal!A2) -> STUKLIJST | G2: Versie 4.0 (677)
A3: POS | B3: AANTAL | C3: BENAMING | D3: FABRIKAAT | E3: TYPE | F3: CODE | G3: KLEUR | H3: Mededeling Patrick
A4: =IF(totaal!A4=0,"",totaal!A4) -> 1 | C4: =IF(totaal!C4=0,"",totaal!C4) -> Gasfilter | D4: =IF(totaal!D4=0,"",totaal!D4) -> Econosto | E4: =IF(totaal!E4=0,"",totaal!E4) -> fig.1014 1/2" | F4: =IF(totaal!F4=0,"",totaal!F4) | G4: =IF(totaal!G4=0,"",totaal!G4)
A5: =IF(totaal!A5=0,"",totaal!A5) -> 2 | C5: =IF(totaal!C5=0,"",totaal!C5) -> Gasfilter | D5: =IF(totaal!D5=0,"",totaal!D5) -> Econosto | E5: =IF(totaal!E5=0,"",totaal!E5) -> fig.1014 3/4" | F5: =IF(totaal!F5=0,"",totaal!F5) | G5: =IF(totaal!G5=0,"",totaal!G5)
A6: =IF(totaal!A6=0,"",totaal!A6) -> 3 | C6: =IF(totaal!C6=0,"",totaal!C6) -> Gasfilter | D6: =IF(totaal!D6=0,"",totaal!D6) -> Econosto | E6: =IF(totaal!E6=0,"",totaal!E6) -> fig.1014 1" | F6: =IF(totaal!F6=0,"",totaal!F6) | G6: =IF(totaal!G6=0,"",totaal!G6)
A7: =IF(totaal!A7=0,"",totaal!A7) -> 4 | C7: =IF(totaal!C7=0,"",totaal!C7) -> Gaskogelafsluiter | D7: =IF(totaal!D7=0,"",totaal!D7) -> Econosto | E7: =IF(totaal!E7=0,"",totaal!E7) -> Figuur 1937 1 ½" | F7: =IF(totaal!F7=0,"",totaal!F7) | G7: =IF(totaal!G7=0,"",totaal!G7)
A8: =IF(totaal!A8=0,"",totaal!A8) -> 5 | C8: =IF(totaal!C8=0,"",totaal!C8) -> Gaskogelafsluiter | D8: =IF(totaal!D8=0,"",totaal!D8) -> VSH | E8: =IF(totaal!E8=0,"",totaal!E8) -> Figuur 060431.8 1 1/4" Bin × Bui | F8: =IF(totaal!F8=0,"",totaal!F8) -> TU785162 | G8: =IF(totaal!G8=0,"",totaal!G8)
A9: =IF(totaal!A9=0,"",totaal!A9) -> 6 | C9: =IF(totaal!C9=0,"",totaal!C9) -> Gaskogelafsluiter | D9: =IF(totaal!D9=0,"",totaal!D9) -> Econosto | E9: =IF(totaal!E9=0,"",totaal!E9) | F9: =IF(totaal!F9=0,"",totaal!F9) | G9: =IF(totaal!G9=0,"",totaal!G9)
A10: =IF(totaal!A10=0,"",totaal!A10) -> 7 | C10: =IF(totaal!C10=0,"",totaal!C10) -> Gaskogelafsluiter | D10: =IF(totaal!D10=0,"",totaal!D10) -> Econosto | E10: =IF(totaal!E10=0,"",totaal!E10) -> fig.1619 2" | F10: =IF(totaal!F10=0,"",totaal!F10) | G10: =IF(totaal!G10=0,"",totaal!G10)
A11: =IF(totaal!A11=0,"",totaal!A11) -> 8 | C11: =IF(totaal!C11=0,"",totaal!C11) -> Gasklepafsluiter | D11: =IF(totaal!D11=0,"",totaal!D11) -> Econosto | E11: =IF(totaal!E11=0,"",totaal!E11) -> fig.2011 DN100 PN10 | F11: =IF(totaal!F11=0,"",totaal!F11) | G11: =IF(totaal!G11=0,"",totaal!G11)
A12: =IF(totaal!A12=0,"",totaal!A12) -> 9 | C12: =IF(totaal!C12=0,"",totaal!C12) -> Gasgebrekklep | D12: =IF(totaal!D12=0,"",totaal!D12) -> Schlumberger | E12: =IF(totaal!E12=0,"",totaal!E12) | F12: =IF(totaal!F12=0,"",totaal!F12) | G12: =IF(totaal!G12=0,"",totaal!G12)
A13: =IF(totaal!A13=0,"",totaal!A13) -> 10 | C13: =IF(totaal!C13=0,"",totaal!C13) -> Klepafsluiter Rayon Patent | D13: =IF(totaal!D13=0,"",totaal!D13) -> Econosto | E13: =IF(totaal!E13=0,"",totaal!E13) -> fig.2011 DN100 | F13: =IF(totaal!F13=0,"",totaal!F13) | G13: =IF(totaal!G13=0,"",totaal!G13)
A14: =IF(totaal!A14=0,"",totaal!A14) -> 11 | C14: =IF(totaal!C14=0,"",totaal!C14) -> Gasmagneetafsluiter NO | D14: =IF(totaal!D14=0,"",totaal!D14) -> Watts Industrie | E14: =IF(totaal!E14=0,"",totaal!E14) -> type ? 3/4" | F14: =IF(totaal!F14=0,"",totaal!F14) | G14: =IF(totaal!G14=0,"",totaal!G14)
A15: =IF(totaal!#REF!=0,"",totaal!#REF!) -> #REF! | C15: =IF(totaal!#REF!=0,"",totaal!#REF!) -> #REF! | D15: =IF(totaal!#REF!=0,"",totaal!#REF!) -> #REF! | E15: =IF(totaal!#REF!=0,"",totaal!#REF!) -> #REF! | F15: =IF(totaal!#REF!=0,"",totaal!#REF!) -> #REF! | G15: =IF(totaal!#REF!=0,"",totaal!#REF!) -> #REF!
A16: =IF(totaal!#REF!=0,"",totaal!#REF!) -> #REF! | C16: =IF(totaal!#REF!=0,"",totaal!#REF!) -> #REF! | D16: =IF(totaal!#REF!=0,"",totaal!#REF!) -> #REF! | E16: =IF(totaal!#REF!=0,"",totaal!#REF!) -> #REF! | F16: =IF(totaal!#REF!=0,"",totaal!#REF!) -> #REF! | G16: =IF(totaal!#REF!=0,"",totaal!#REF!) -> #REF!
A17: =IF(totaal!#REF!=0,"",totaal!#REF!) -> #REF! | C17: =IF(totaal!#REF!=0,"",totaal!#REF!) -> #REF! | D17: =IF(totaal!#REF!=0,"",totaal!#REF!) -> #REF! | E17: =IF(totaal!#REF!=0,"",totaal!#REF!) -> #REF! | F17: =IF(totaal!#REF!=0,"",totaal!#REF!) -> #REF! | G17: =IF(totaal!#REF!=0,"",totaal!#REF!) -> #REF!
A18: =IF(totaal!#REF!=0,"",totaal!#REF!) -> #REF! | C18: =IF(totaal!#REF!=0,"",totaal!#REF!) -> #REF! | D18: =IF(totaal!#REF!=0,"",totaal!#REF!) -> #REF! | E18: =IF(totaal!#REF!=0,"",totaal!#REF!) -> #REF! | F18: =IF(totaal!#REF!=0,"",totaal!#REF!) -> #REF! | G18: =IF(totaal!#REF!=0,"",totaal!#REF!) -> #REF!
A19: =IF(totaal!A15=0,"",totaal!A15) -> 16 | C19: =IF(totaal!C15=0,"",totaal!C15) -> Gasfilter | D19: =IF(totaal!D15=0,"",totaal!D15) -> Econosto | E19: =IF(totaal!E15=0,"",totaal!E15) -> fig.1014 1 1/4" | F19: =IF(totaal!F15=0,"",totaal!F15) | G19: =IF(totaal!G15=0,"",totaal!G15)
A20: =IF(totaal!A16=0,"",totaal!A16) -> 17 | C20: =IF(totaal!C16=0,"",totaal!C16) -> Gaskogelafsluiter | D20: =IF(totaal!D16=0,"",totaal!D16) -> Econosto | E20: =IF(totaal!E16=0,"",totaal!E16) -> fig. 1619 1" | F20: =IF(totaal!F16=0,"",totaal!F16) | G20: =IF(totaal!G16=0,"",totaal!G16)
A21: =IF(totaal!#REF!=0,"",totaal!#REF!) -> #REF! | C21: =IF(totaal!#REF!=0,"",totaal!#REF!) -> #REF! | D21: =IF(totaal!#REF!=0,"",totaal!#REF!) -> #REF! | E21: =IF(totaal!#REF!=0,"",totaal!#REF!) -> #REF! | F21: =IF(totaal!#REF!=0,"",totaal!#REF!) -> #REF! | G21: =IF(totaal!#REF!=0,"",totaal!#REF!) -> #REF!
A22: =IF(totaal!#REF!=0,"",totaal!#REF!) -> #REF! | C22: =IF(totaal!#REF!=0,"",totaal!#REF!) -> #REF! | D22: =IF(totaal!#REF!=0,"",totaal!#REF!) -> #REF! | E22: =IF(totaal!#REF!=0,"",totaal!#REF!) -> #REF! | F22: =IF(totaal!#REF!=0,"",totaal!#REF!) -> #REF! | G22: =IF(totaal!#REF!=0,"",totaal!#REF!) -> #REF!
A23: =IF(totaal!A17=0,"",totaal!A17) -> 20 | C23: =IF(totaal!C17=0,"",totaal!C17) -> Bufffervat 1500 ltr | D23: =IF(totaal!D17=0,"",totaal!D17) -> Horos | E23: =IF(totaal!E17=0,"",totaal!E17) -> Verticaal Buffervat VK 1500 diameter ø990mm × 2470mm | F23: =IF(totaal!F17=0,"",totaal!F17) -> 816 020 070 | G23: =IF(totaal!G17=0,"",totaal!G17)
A24: =IF(totaal!A18=0,"",totaal!A18) -> 21 | C24: =IF(totaal!C18=0,"",totaal!C18) | D24: =IF(totaal!D18=0,"",totaal!D18) | E24: =IF(totaal!E18=0,"",totaal!E18) -> Uitw. geïsoleerd met 20 mm dampdichte isolatie | F24: =IF(totaal!F18=0,"",totaal!F18) | G24: =IF(totaal!G18=0,"",totaal!G18)
A25: =IF(totaal!A19=0,"",totaal!A19) -> 22 | C25: =IF(totaal!C19=0,"",totaal!C19) | D25: =IF(totaal!D19=0,"",totaal!D19) | E25: =IF(totaal!E19=0,"",totaal!E19) -> Inclusief 2× ¾" voor aftap en beluchting | F25: =IF(totaal!F19=0,"",totaal!F19) | G25: =IF(totaal!G19=0,"",totaal!G19)
A26: =IF(totaal!A20=0,"",totaal!A20) -> 23 | C26: =IF(totaal!C20=0,"",totaal!C20) -> Bufffervat 2000 ltr | D26: =IF(totaal!D20=0,"",totaal!D20) -> Horos | E26: =IF(totaal!E20=0,"",totaal!E20) -> Verticaal Buffervat VK 2000 diameter ø1140mm × 2510mm | F26: =IF(totaal!F20=0,"",totaal!F20) -> 816 020 071 | G26: =IF(totaal!G20=0,"",totaal!G20)
A27: =IF(totaal!A21=0,"",totaal!A21) -> 24 | C27: =IF(totaal!C21=0,"",totaal!C21) | D27: =IF(totaal!D21=0,"",totaal!D21) | E27: =IF(totaal!E21=0,"",totaal!E21) -> Uitwendig gesioleerd met 20 mm dampdichte isolatie | F27: =IF(totaal!F21=0,"",totaal!F21) | G27: =IF(totaal!G21=0,"",totaal!G21)
A28: =IF(totaal!A22=0,"",totaal!A22) -> 25 | C28: =IF(totaal!C22=0,"",totaal!C22) | D28: =IF(totaal!D22=0,"",totaal!D22) | E28: =IF(totaal!E22=0,"",totaal!E22) -> Inclusief 2× ¾" voor aftap en beluchting | F28: =IF(totaal!F22=0,"",totaal!F22) | G28: =IF(totaal!G22=0,"",totaal!G22)
A29: =IF(totaal!#REF!=0,"",totaal!#REF!) -> #REF! | C29: =IF(totaal!#REF!=0,"",totaal!#REF!) -> #REF! | D29: =IF(totaal!#REF!=0,"",totaal!#REF!) -> #REF! | E29: =IF(totaal!#REF!=0,"",totaal!#REF!) -> #REF! | F29: =IF(totaal!#REF!=0,"",totaal!#REF!) -> #REF! | G29: =IF(totaal!#REF!=0,"",totaal!#REF!) -> #REF!
A30: =IF(totaal!#REF!=0,"",totaal!#REF!) -> #REF! | C30: =IF(totaal!#REF!=0,"",totaal!#REF!) -> #REF! | D30: =IF(totaal!#REF!=0,"",totaal!#REF!) -> #REF! | E30: =IF(totaal!#REF!=0,"",totaal!#REF!) -> #REF! | F30: =IF(totaal!#REF!=0,"",totaal!#REF!) -> #REF! | G30: =IF(totaal!#REF!=0,"",totaal!#REF!) -> #REF!
A31: =IF(totaal!#REF!=0,"",totaal!#REF!) -> #REF! | C31: =IF(totaal!#REF!=0,"",totaal!#REF!) -> #REF! | D31: =IF(totaal!#REF!=0,"",totaal!#REF!) -> #REF! | E31: =IF(totaal!#REF!=0,"",totaal!#REF!) -> #REF! | F31: =IF(totaal!#REF!=0,"",totaal!#REF!) -> #REF! | G31: =IF(totaal!#REF!=0,"",totaal!#REF!) -> #REF!
A32: =IF(totaal!#REF!=0,"",totaal!#REF!) -> #REF! | C32: =IF(totaal!#REF!=0,"",totaal!#REF!) -> #REF! | D32: =IF(totaal!#REF!=0,"",totaal!#REF!) -> #REF! | E32: =IF(totaal!#REF!=0,"",totaal!#REF!) -> #REF! | F32: =IF(totaal!#REF!=0,"",totaal!#REF!) -> #REF! | G32: =IF(totaal!#REF!=0,"",totaal!#REF!) -> #REF!
