Workbook

Sheet totaal
A1: 4.57 | B1: 8 | C1: 19.57 | D1: 47.57 | F1: 10
A2: STUKLIJST | G2: Versie 4.0
A3: POS | B3: AANTAL | C3: BENAMING | D3: FABRIKAAT | E3: TYPE | F3: CODE | G3: KLEUR | I3: TR01 1e verd | J3: TR02 2e verd | K3: bwd A kelder | L3: bwd A BG | M3: bwd A 1e verd | N3: bwd A 2e verd | O3: bwd A dak | P3: bwd B BG | Q3: bwd B 1e verd | R3: bwd B 2e verd | S3: bwd B dak | T3: bwd C BG | U3: bwd C 1e verd | V3: bwd C 2e verd | W3: bwd C dak
A4: 1 | B4: =IF(SUM($I$4:$W$4)=0,"",SUM($I$4:$W$4)) | C4: Gasfilter | D4: Econosto | E4: fig.1014 1/2" | I4: =IF(INDIRECT("'"&I$3&"'!B4")=0,"",INDIRECT("'"&I$3&"'!B4")) | J4: =IF(INDIRECT("'"&J$3&"'!B4")=0,"",INDIRECT("'"&J$3&"'!B4")) | K4: =IF(INDIRECT("'"&K$3&"'!B4")=0,"",INDIRECT("'"&K$3&"'!B4")) | L4: =IF(INDIRECT("'"&L$3&"'!B4")=0,"",INDIRECT("'"&L$3&"'!B4")) | M4: =IF(INDIRECT("'"&M$3&"'!B4")=0,"",INDIRECT("'"&M$3&"'!B4")) | N4: =IF(INDIRECT("'"&N$3&"'!B4")=0,"",INDIRECT("'"&N$3&"'!B4")) | O4: =IF(INDIRECT("'"&O$3&"'!B4")=0,"",INDIRECT("'"&O$3&"'!B4")) | P4: =IF(INDIRECT("'"&P$3&"'!B4")=0,"",INDIRECT("'"&P$3&"'!B4")) | ... W4: =IF(INDIRECT("'"&W$3&"'!B4")=0,"",INDIRECT("'"&W$3&"'!B4"))
A5: 2 | B5: =IF(SUM($I$5:$W$5)=0,"",SUM($I$5:$W$5)) | C5: Gasfilter | D5: Econosto | E5: fig.1014 3/4" | I5: =IF(INDIRECT("'"&I$3&"'!B5")=0,"",INDIRECT("'"&I$3&"'!B5")) | J5: =IF(INDIRECT("'"&J$3&"'!B5")=0,"",INDIRECT("'"&J$3&"'!B5")) | K5: =IF(INDIRECT("'"&K$3&"'!B5")=0,"",INDIRECT("'"&K$3&"'!B5")) | L5: =IF(INDIRECT("'"&L$3&"'!B5")=0,"",INDIRECT("'"&L$3&"'!B5")) | M5: =IF(INDIRECT("'"&M$3&"'!B5")=0,"",INDIRECT("'"&M$3&"'!B5")) | N5: =IF(INDIRECT("'"&N$3&"'!B5")=0,"",INDIRECT("'"&N$3&"'!B5")) | O5: =IF(INDIRECT("'"&O$3&"'!B5")=0,"",INDIRECT("'"&O$3&"'!B5")) | P5: =IF(INDIRECT("'"&P$3&"'!B5")=0,"",INDIRECT("'"&P$3&"'!B5")) | ... W5: =IF(INDIRECT("'"&W$3&"'!B5")=0,"",INDIRECT("'"&W$3&"'!B5"))
A6: 3 | B6: =IF(SUM($I$6:$W$6)=0,"",SUM($I$6:$W$6)) | C6: Gasfilter | D6: Econosto | E6: fig.1014 1" | I6: =IF(INDIRECT("'"&I$3&"'!B6")=0,"",INDIRECT("'"&I$3&"'!B6")) | J6: =IF(INDIRECT("'"&J$3&"'!B6")=0,"",INDIRECT("'"&J$3&"'!B6")) | K6: =IF(INDIRECT("'"&K$3&"'!B6")=0,"",INDIRECT("'"&K$3&"'!B6")) | L6: =IF(INDIRECT("'"&L$3&"'!B6")=0,"",INDIRECT("'"&L$3&"'!B6")) | M6: =IF(INDIRECT("'"&M$3&"'!B6")=0,"",INDIRECT("'"&M$3&"'!B6")) | N6: =IF(INDIRECT("'"&N$3&"'!B6")=0,"",INDIRECT("'"&N$3&"'!B6")) | O6: =IF(INDIRECT("'"&O$3&"'!B6")=0,"",INDIRECT("'"&O$3&"'!B6")) | P6: =IF(INDIRECT("'"&P$3&"'!B6")=0,"",INDIRECT("'"&P$3&"'!B6")) | ... W6: =IF(INDIRECT("'"&W$3&"'!B6")=0,"",INDIRECT("'"&W$3&"'!B6"))
A7: 4 | B7: =IF(SUM($I$7:$W$7)=0,"",SUM($I$7:$W$7)) | C7: Gaskogelafsluiter | D7: Econosto | E7: Figuur 1937 1 ½" | I7: =IF(INDIRECT("'"&I$3&"'!B7")=0,"",INDIRECT("'"&I$3&"'!B7")) | J7: =IF(INDIRECT("'"&J$3&"'!B7")=0,"",INDIRECT("'"&J$3&"'!B7")) | K7: =IF(INDIRECT("'"&K$3&"'!B7")=0,"",INDIRECT("'"&K$3&"'!B7")) | L7: =IF(INDIRECT("'"&L$3&"'!B7")=0,"",INDIRECT("'"&L$3&"'!B7")) | M7: =IF(INDIRECT("'"&M$3&"'!B7")=0,"",INDIRECT("'"&M$3&"'!B7")) | N7: =IF(INDIRECT("'"&N$3&"'!B7")=0,"",INDIRECT("'"&N$3&"'!B7")) | O7: =IF(INDIRECT("'"&O$3&"'!B7")=0,"",INDIRECT("'"&O$3&"'!B7")) | P7: =IF(INDIRECT("'"&P$3&"'!B7")=0,"",INDIRECT("'"&P$3&"'!B7")) | ... W7: =IF(INDIRECT("'"&W$3&"'!B7")=0,"",INDIRECT("'"&W$3&"'!B7"))
A8: 5 | B8: =IF(SUM($I$8:$W$8)=0,"",SUM($I$8:$W$8)) -> 1 | C8: Gaskogelafsluiter | D8: VSH | E8: Figuur 060431.8 1 1/4" Bin × Bui | F8: TU785162 | I8: =IF(INDIRECT("'"&I$3&"'!B8")=0,"",INDIRECT("'"&I$3&"'!B8")) | J8: =IF(INDIRECT("'"&J$3&"'!B8")=0,"",INDIRECT("'"&J$3&"'!B8")) -> 1 | K8: =IF(INDIRECT("'"&K$3&"'!B8")=0,"",INDIRECT("'"&K$3&"'!B8")) | L8: =IF(INDIRECT("'"&L$3&"'!B8")=0,"",INDIRECT("'"&L$3&"'!B8")) | M8: =IF(INDIRECT("'"&M$3&"'!B8")=0,"",INDIRECT("'"&M$3&"'!B8")) | N8: =IF(INDIRECT("'"&N$3&"'!B8")=0,"",INDIRECT("'"&N$3&"'!B8")) | O8: =IF(INDIRECT("'"&O$3&"'!B8")=0,"",INDIRECT("'"&O$3&"'!B8")) | P8: =IF(INDIRECT("'"&P$3&"'!B8")=0,"",INDIRECT("'"&P$3&"'!B8")) | ... W8: =IF(INDIRECT("'"&W$3&"'!B8")=0,"",INDIRECT("'"&W$3&"'!B8"))
A9: 6 | B9: =IF(SUM($I$9:$W$9)=0,"",SUM($I$9:$W$9)) | C9: Gaskogelafsluiter | D9: Econosto | I9: =IF(INDIRECT("'"&I$3&"'!B9")=0,"",INDIRECT("'"&I$3&"'!B9")) | J9: =IF(INDIRECT("'"&J$3&"'!B9")=0,"",INDIRECT("'"&J$3&"'!B9")) | K9: =IF(INDIRECT("'"&K$3&"'!B9")=0,"",INDIRECT("'"&K$3&"'!B9")) | L9: =IF(INDIRECT("'"&L$3&"'!B9")=0,"",INDIRECT("'"&L$3&"'!B9")) | M9: =IF(INDIRECT("'"&M$3&"'!B9")=0,"",INDIRECT("'"&M$3&"'!B9")) | N9: =IF(INDIRECT("'"&N$3&"'!B9")=0,"",INDIRECT("'"&N$3&"'!B9")) | O9: =IF(INDIRECT("'"&O$3&"'!B9")=0,"",INDIRECT("'"&O$3&"'!B9")) | P9: =IF(INDIRECT("'"&P$3&"'!B9")=0,"",INDIRECT("'"&P$3&"'!B9")) | ... W9: =IF(INDIRECT("'"&W$3&"'!B9")=0,"",INDIRECT("'"&W$3&"'!B9"))
A10: 7 | B10: =IF(SUM($I$10:$W$10)=0,"",SUM($I$10:$W$10)) | C10: Gaskogelafsluiter | D10: Econosto | E10: fig.1619 2" | I10: =IF(INDIRECT("'"&I$3&"'!B10")=0,"",INDIRECT("'"&I$3&"'!B10")) | J10: =IF(INDIRECT("'"&J$3&"'!B10")=0,"",INDIRECT("'"&J$3&"'!B10")) | K10: =IF(INDIRECT("'"&K$3&"'!B10")=0,"",INDIRECT("'"&K$3&"'!B10")) | L10: =IF(INDIRECT("'"&L$3&"'!B10")=0,"",INDIRECT("'"&L$3&"'!B10")) | M10: =IF(INDIRECT("'"&M$3&"'!B10")=0,"",INDIRECT("'"&M$3&"'!B10")) | N10: =IF(INDIRECT("'"&N$3&"'!B10")=0,"",INDIRECT("'"&N$3&"'!B10")) | O10: =IF(INDIRECT("'"&O$3&"'!B10")=0,"",INDIRECT("'"&O$3&"'!B10")) | P10: =IF(INDIRECT("'"&P$3&"'!B10")=0,"",INDIRECT("'"&P$3&"'!B10")) | ... W10: =IF(INDIRECT("'"&W$3&"'!B10")=0,"",INDIRECT("'"&W$3&"'!B10"))
A11: 8 | B11: =IF(SUM($I$11:$W$11)=0,"",SUM($I$11:$W$11)) | C11: Gasklepafsluiter | D11: Econosto | E11: fig.2011 DN100 PN10 | I11: =IF(INDIRECT("'"&I$3&"'!B11")=0,"",INDIRECT("'"&I$3&"'!B11")) | J11: =IF(INDIRECT("'"&J$3&"'!B11")=0,"",INDIRECT("'"&J$3&"'!B11")) | K11: =IF(INDIRECT("'"&K$3&"'!B11")=0,"",INDIRECT("'"&K$3&"'!B11")) | L11: =IF(INDIRECT("'"&L$3&"'!B11")=0,"",INDIRECT("'"&L$3&"'!B11")) | M11: =IF(INDIRECT("'"&M$3&"'!B11")=0,"",INDIRECT("'"&M$3&"'!B11")) | N11: =IF(INDIRECT("'"&N$3&"'!B11")=0,"",INDIRECT("'"&N$3&"'!B11")) | O11: =IF(INDIRECT("'"&O$3&"'!B11")=0,"",INDIRECT("'"&O$3&"'!B11")) | P11: =IF(INDIRECT("'"&P$3&"'!B11")=0,"",INDIRECT("'"&P$3&"'!B11")) | ... W11: =IF(INDIRECT("'"&W$3&"'!B11")=0,"",INDIRECT("'"&W$3&"'!B11"))
A12: 9 | B12: =IF(SUM($I$12:$W$12)=0,"",SUM($I$12:$W$12)) | C12: Gasgebrekklep | D12: Schlumberger | I12: =IF(INDIRECT("'"&I$3&"'!B12")=0,"",INDIRECT("'"&I$3&"'!B12")) | J12: =IF(INDIRECT("'"&J$3&"'!B12")=0,"",INDIRECT("'"&J$3&"'!B12")) | K12: =IF(INDIRECT("'"&K$3&"'!B12")=0,"",INDIRECT("'"&K$3&"'!B12")) | L12: =IF(INDIRECT("'"&L$3&"'!B12")=0,"",INDIRECT("'"&L$3&"'!B12")) | M12: =IF(INDIRECT("'"&M$3&"'!B12")=0,"",INDIRECT("'"&M$3&"'!B12")) | N12: =IF(INDIRECT("'"&N$3&"'!B12")=0,"",INDIRECT("'"&N$3&"'!B12")) | O12: =IF(INDIRECT("'"&O$3&"'!B12")=0,"",INDIRECT("'"&O$3&"'!B12")) | P12: =IF(INDIRECT("'"&P$3&"'!B12")=0,"",INDIRECT("'"&P$3&"'!B12")) | ... W12: =IF(INDIRECT("'"&W$3&"'!B12")=0,"",INDIRECT("'"&W$3&"'!B12"))
A13: 10 | B13: =IF(SUM($I$13:$W$13)=0,"",SUM($I$13:$W$13)) | C13: Klepafsluiter Rayon Patent | D13: Econosto | E13: fig.2011 DN100 | I13: =IF(INDIRECT("'"&I$3&"'!B13")=0,"",INDIRECT("'"&I$3&"'!B13")) | J13: =IF(INDIRECT("'"&J$3&"'!B13")=0,"",INDIRECT("'"&J$3&"'!B13")) | K13: =IF(INDIRECT("'"&K$3&"'!B13")=0,"",INDIRECT("'"&K$3&"'!B13")) | L13: =IF(INDIRECT("'"&L$3&"'!B13")=0,"",INDIRECT("'"&L$3&"'!B13")) | M13: =IF(INDIRECT("'"&M$3&"'!B13")=0,"",INDIRECT("'"&M$3&"'!B13")) | N13: =IF(INDIRECT("'"&N$3&"'!B13")=0,"",INDIRECT("'"&N$3&"'!B13")) | O13: =IF(INDIRECT("'"&O$3&"'!B13")=0,"",INDIRECT("'"&O$3&"'!B13")) | P13: =IF(INDIRECT("'"&P$3&"'!B13")=0,"",INDIRECT("'"&P$3&"'!B13")) | ... W13: =IF(INDIRECT("'"&W$3&"'!B13")=0,"",INDIRECT("'"&W$3&"'!B13"))
A14: 11 | B14: =IF(SUM($I$14:$W$14)=0,"",SUM($I$14:$W$14)) | C14: Gasmagneetafsluiter NO | D14: Watts Industrie | E14: type ? 3/4" | I14: =IF(INDIRECT("'"&I$3&"'!B14")=0,"",INDIRECT("'"&I$3&"'!B14")) | J14: =IF(INDIRECT("'"&J$3&"'!B14")=0,"",INDIRECT("'"&J$3&"'!B14")) | K14: =IF(INDIRECT("'"&K$3&"'!B14")=0,"",INDIRECT("'"&K$3&"'!B14")) | L14: =IF(INDIRECT("'"&L$3&"'!B14")=0,"",INDIRECT("'"&L$3&"'!B14")) | M14: =IF(INDIRECT("'"&M$3&"'!B14")=0,"",INDIRECT("'"&M$3&"'!B14")) | N14: =IF(INDIRECT("'"&N$3&"'!B14")=0,"",INDIRECT("'"&N$3&"'!B14")) | O14: =IF(INDIRECT("'"&O$3&"'!B14")=0,"",INDIRECT("'"&O$3&"'!B14")) | P14: =IF(INDIRECT("'"&P$3&"'!B14")=0,"",INDIRECT("'"&P$3&"'!B14")) | ... W14: =IF(INDIRECT("'"&W$3&"'!B14")=0,"",INDIRECT("'"&W$3&"'!B14"))
A15: 16 | B15: =IF(SUM($I$15:$W$15)=0,"",SUM($I$15:$W$15)) | C15: Gasfilter | D15: Econosto | E15: fig.1014 1 1/4" | I15: =IF(INDIRECT("'"&I$3&"'!B19")=0,"",INDIRECT("'"&I$3&"'!B19")) | J15: =IF(INDIRECT("'"&J$3&"'!B19")=0,"",INDIRECT("'"&J$3&"'!B19")) | K15: =IF(INDIRECT("'"&K$3&"'!B19")=0,"",INDIRECT("'"&K$3&"'!B19")) | L15: =IF(INDIRECT("'"&L$3&"'!B19")=0,"",INDIRECT("'"&L$3&"'!B19")) | M15: =IF(INDIRECT("'"&M$3&"'!B19")=0,"",INDIRECT("'"&M$3&"'!B19")) | N15: =IF(INDIRECT("'"&N$3&"'!B19")=0,"",INDIRECT("'"&N$3&"'!B19")) | O15: =IF(INDIRECT("'"&O$3&"'!B19")=0,"",INDIRECT("'"&O$3&"'!B19")) | P15: =IF(INDIRECT("'"&P$3&"'!B19")=0,"",INDIRECT("'"&P$3&"'!B19")) | ... W15: =IF(INDIRECT("'"&W$3&"'!B19")=0,"",INDIRECT("'"&W$3&"'!B19"))
A16: 17 | B16: =IF(SUM($I$16:$W$16)=0,"",SUM($I$16:$W$16)) | C16: Gaskogelafsluiter | D16: Econosto | E16: fig. 1619 1" | I16: =IF(INDIRECT("'"&I$3&"'!B20")=0,"",INDIRECT("'"&I$3&"'!B20")) | J16: =IF(INDIRECT("'"&J$3&"'!B20")=0,"",INDIRECT("'"&J$3&"'!B20")) | K16: =IF(INDIRECT("'"&K$3&"'!B20")=0,"",INDIRECT("'"&K$3&"'!B20")) | L16: =IF(INDIRECT("'"&L$3&"'!B20")=0,"",INDIRECT("'"&L$3&"'!B20")) | M16: =IF(INDIRECT("'"&M$3&"'!B20")=0,"",INDIRECT("'"&M$3&"'!B20")) | N16: =IF(INDIRECT("'"&N$3&"'!B20")=0,"",INDIRECT("'"&N$3&"'!B20")) | O16: =IF(INDIRECT("'"&O$3&"'!B20")=0,"",INDIRECT("'"&O$3&"'!B20")) | P16: =IF(INDIRECT("'"&P$3&"'!B20")=0,"",INDIRECT("'"&P$3&"'!B20")) | ... W16: =IF(INDIRECT("'"&W$3&"'!B20")=0,"",INDIRECT("'"&W$3&"'!B20"))
A17: 20 | B17: =IF(SUM($I$17:$W$17)=0,"",SUM($I$17:$W$17)) -> 1 | C17: Bufffervat 1500 ltr | D17: Horos | E17: Verticaal Buffervat VK 1500 diameter ø990mm × 2470mm | F17: 816 020 070 | I17: =IF(INDIRECT("'"&I$3&"'!B23")=0,"",INDIRECT("'"&I$3&"'!B23")) | J17: =IF(INDIRECT("'"&J$3&"'!B23")=0,"",INDIRECT("'"&J$3&"'!B23")) -> 1 | K17: =IF(INDIRECT("'"&K$3&"'!B23")=0,"",INDIRECT("'"&K$3&"'!B23")) | L17: =IF(INDIRECT("'"&L$3&"'!B23")=0,"",INDIRECT("'"&L$3&"'!B23")) | M17: =IF(INDIRECT("'"&M$3&"'!B23")=0,"",INDIRECT("'"&M$3&"'!B23")) | N17: =IF(INDIRECT("'"&N$3&"'!B23")=0,"",INDIRECT("'"&N$3&"'!B23")) | O17: =IF(INDIRECT("'"&O$3&"'!B23")=0,"",INDIRECT("'"&O$3&"'!B23")) | P17: =IF(INDIRECT("'"&P$3&"'!B23")=0,"",INDIRECT("'"&P$3&"'!B23")) | ... W17: =IF(INDIRECT("'"&W$3&"'!B23")=0,"",INDIRECT("'"&W$3&"'!B23"))
A18: 21 | B18: =IF(SUM($I$18:$W$18)=0,"",SUM($I$18:$W$18)) | E18: Uitw. geïsoleerd met 20 mm dampdichte isolatie | I18: =IF(INDIRECT("'"&I$3&"'!B24")=0,"",INDIRECT("'"&I$3&"'!B24")) | J18: =IF(INDIRECT("'"&J$3&"'!B24")=0,"",INDIRECT("'"&J$3&"'!B24")) | K18: =IF(INDIRECT("'"&K$3&"'!B24")=0,"",INDIRECT("'"&K$3&"'!B24")) | L18: =IF(INDIRECT("'"&L$3&"'!B24")=0,"",INDIRECT("'"&L$3&"'!B24")) | M18: =IF(INDIRECT("'"&M$3&"'!B24")=0,"",INDIRECT("'"&M$3&"'!B24")) | N18: =IF(INDIRECT("'"&N$3&"'!B24")=0,"",INDIRECT("'"&N$3&"'!B24")) | O18: =IF(INDIRECT("'"&O$3&"'!B24")=0,"",INDIRECT("'"&O$3&"'!B24")) | P18: =IF(INDIRECT("'"&P$3&"'!B24")=0,"",INDIRECT("'"&P$3&"'!B24")) | ... W18: =IF(INDIRECT("'"&W$3&"'!B24")=0,"",INDIRECT("'"&W$3&"'!B24"))
A19: 22 | B19: =IF(SUM($I$19:$W$19)=0,"",SUM($I$19:$W$19)) | E19: Inclusief 2× ¾" voor aftap en beluchting | I19: =IF(INDIRECT("'"&I$3&"'!B25")=0,"",INDIRECT("'"&I$3&"'!B25")) | J19: =IF(INDIRECT("'"&J$3&"'!B25")=0,"",INDIRECT("'"&J$3&"'!B25")) | K19: =IF(INDIRECT("'"&K$3&"'!B25")=0,"",INDIRECT("'"&K$3&"'!B25")) | L19: =IF(INDIRECT("'"&L$3&"'!B25")=0,"",INDIRECT("'"&L$3&"'!B25")) | M19: =IF(INDIRECT("'"&M$3&"'!B25")=0,"",INDIRECT("'"&M$3&"'!B25")) | N19: =IF(INDIRECT("'"&N$3&"'!B25")=0,"",INDIRECT("'"&N$3&"'!B25")) | O19: =IF(INDIRECT("'"&O$3&"'!B25")=0,"",INDIRECT("'"&O$3&"'!B25")) | P19: =IF(INDIRECT("'"&P$3&"'!B25")=0,"",INDIRECT("'"&P$3&"'!B25")) | ... W19: =IF(INDIRECT("'"&W$3&"'!B25")=0,"",INDIRECT("'"&W$3&"'!B25"))
A20: 23 | B20: =IF(SUM($I$20:$W$20)=0,"",SUM($I$20:$W$20)) -> 1 | C20: Bufffervat 2000 ltr | D20: Horos | E20: Verticaal Buffervat VK 2000 diameter ø1140mm × 2510mm | F20: 816 020 071 | I20: =IF(INDIRECT("'"&I$3&"'!B26")=0,"",INDIRECT("'"&I$3&"'!B26")) | J20: =IF(INDIRECT("'"&J$3&"'!B26")=0,"",INDIRECT("'"&J$3&"'!B26")) -> 1 | K20: =IF(INDIRECT("'"&K$3&"'!B26")=0,"",INDIRECT("'"&K$3&"'!B26")) | L20: =IF(INDIRECT("'"&L$3&"'!B26")=0,"",INDIRECT("'"&L$3&"'!B26")) | M20: =IF(INDIRECT("'"&M$3&"'!B26")=0,"",INDIRECT("'"&M$3&"'!B26")) | N20: =IF(INDIRECT("'"&N$3&"'!B26")=0,"",INDIRECT("'"&N$3&"'!B26")) | O20: =IF(INDIRECT("'"&O$3&"'!B26")=0,"",INDIRECT("'"&O$3&"'!B26")) | P20: =IF(INDIRECT("'"&P$3&"'!B26")=0,"",INDIRECT("'"&P$3&"'!B26")) | ... W20: =IF(INDIRECT("'"&W$3&"'!B26")=0,"",INDIRECT("'"&W$3&"'!B26"))
A21: 24 | B21: =IF(SUM($I$21:$W$21)=0,"",SUM($I$21:$W$21)) | E21: Uitwendig gesioleerd met 20 mm dampdichte isolatie | I21: =IF(INDIRECT("'"&I$3&"'!B27")=0,"",INDIRECT("'"&I$3&"'!B27")) | J21: =IF(INDIRECT("'"&J$3&"'!B27")=0,"",INDIRECT("'"&J$3&"'!B27")) | K21: =IF(INDIRECT("'"&K$3&"'!B27")=0,"",INDIRECT("'"&K$3&"'!B27")) | L21: =IF(INDIRECT("'"&L$3&"'!B27")=0,"",INDIRECT("'"&L$3&"'!B27")) | M21: =IF(INDIRECT("'"&M$3&"'!B27")=0,"",INDIRECT("'"&M$3&"'!B27")) | N21: =IF(INDIRECT("'"&N$3&"'!B27")=0,"",INDIRECT("'"&N$3&"'!B27")) | O21: =IF(INDIRECT("'"&O$3&"'!B27")=0,"",INDIRECT("'"&O$3&"'!B27")) | P21: =IF(INDIRECT("'"&P$3&"'!B27")=0,"",INDIRECT("'"&P$3&"'!B27")) | ... W21: =IF(INDIRECT("'"&W$3&"'!B27")=0,"",INDIRECT("'"&W$3&"'!B27"))
A22: 25 | B22: =IF(SUM($I$22:$W$22)=0,"",SUM($I$22:$W$22)) | E22: Inclusief 2× ¾" voor aftap en beluchting | I22: =IF(INDIRECT("'"&I$3&"'!B28")=0,"",INDIRECT("'"&I$3&"'!B28")) | J22: =IF(INDIRECT("'"&J$3&"'!B28")=0,"",INDIRECT("'"&J$3&"'!B28")) | K22: =IF(INDIRECT("'"&K$3&"'!B28")=0,"",INDIRECT("'"&K$3&"'!B28")) | L22: =IF(INDIRECT("'"&L$3&"'!B28")=0,"",INDIRECT("'"&L$3&"'!B28")) | M22: =IF(INDIRECT("'"&M$3&"'!B28")=0,"",INDIRECT("'"&M$3&"'!B28")) | N22: =IF(INDIRECT("'"&N$3&"'!B28")=0,"",INDIRECT("'"&N$3&"'!B28")) | O22: =IF(INDIRECT("'"&O$3&"'!B28")=0,"",INDIRECT("'"&O$3&"'!B28")) | P22: =IF(INDIRECT("'"&P$3&"'!B28")=0,"",INDIRECT("'"&P$3&"'!B28")) | ... W22: =IF(INDIRECT("'"&W$3&"'!B28")=0,"",INDIRECT("'"&W$3&"'!B28"))
A23: 62 | B23: =IF(SUM($I$23:$W$23)=0,"",SUM($I$23:$W$23)) -> 1 | C23: Radiator | D23: Veha | E23: type standaard 1600-900-22 | I23: =IF(INDIRECT("'"&I$3&"'!B43")=0,"",INDIRECT("'"&I$3&"'!B43")) | J23: =IF(INDIRECT("'"&J$3&"'!B43")=0,"",INDIRECT("'"&J$3&"'!B43")) | K23: =IF(INDIRECT("'"&K$3&"'!B43")=0,"",INDIRECT("'"&K$3&"'!B43")) -> 1 | L23: =IF(INDIRECT("'"&L$3&"'!B43")=0,"",INDIRECT("'"&L$3&"'!B43")) | M23: =IF(INDIRECT("'"&M$3&"'!B43")=0,"",INDIRECT("'"&M$3&"'!B43")) | N23: =IF(INDIRECT("'"&N$3&"'!B43")=0,"",INDIRECT("'"&N$3&"'!B43")) | O23: =IF(INDIRECT("'"&O$3&"'!B43")=0,"",INDIRECT("'"&O$3&"'!B43")) | P23: =IF(INDIRECT("'"&P$3&"'!B43")=0,"",INDIRECT("'"&P$3&"'!B43")) | ... W23: =IF(INDIRECT("'"&W$3&"'!B43")=0,"",INDIRECT("'"&W$3&"'!B43"))
A24: 63 | B24: =IF(SUM($I$24:$W$24)=0,"",SUM($I$24:$W$24)) | C24: Radiator | D24: Veha | E24: type Plana 22 afmeting 3000x500 | I24: =IF(INDIRECT("'"&I$3&"'!B52")=0,"",INDIRECT("'"&I$3&"'!B52")) | J24: =IF(INDIRECT("'"&J$3&"'!B52")=0,"",INDIRECT("'"&J$3&"'!B52")) | K24: =IF(INDIRECT("'"&K$3&"'!B52")=0,"",INDIRECT("'"&K$3&"'!B52")) | L24: =IF(INDIRECT("'"&L$3&"'!B52")=0,"",INDIRECT("'"&L$3&"'!B52")) | M24: =IF(INDIRECT("'"&M$3&"'!B52")=0,"",INDIRECT("'"&M$3&"'!B52")) | N24: =IF(INDIRECT("'"&N$3&"'!B52")=0,"",INDIRECT("'"&N$3&"'!B52")) | O24: =IF(INDIRECT("'"&O$3&"'!B52")=0,"",INDIRECT("'"&O$3&"'!B52")) | P24: =IF(INDIRECT("'"&P$3&"'!B52")=0,"",INDIRECT("'"&P$3&"'!B52")) | ... W24: =IF(INDIRECT("'"&W$3&"'!B52")=0,"",INDIRECT("'"&W$3&"'!B52"))
A25: 64 | B25: =IF(SUM($I$25:$W$25)=0,"",SUM($I$25:$W$25)) | C25: Radiator | D25: Veha | E25: type Plana 22 afmeting 2000x600 Q=1110 W | I25: =IF(INDIRECT("'"&I$3&"'!B53")=0,"",INDIRECT("'"&I$3&"'!B53")) | J25: =IF(INDIRECT("'"&J$3&"'!B53")=0,"",INDIRECT("'"&J$3&"'!B53")) | K25: =IF(INDIRECT("'"&K$3&"'!B53")=0,"",INDIRECT("'"&K$3&"'!B53")) | L25: =IF(INDIRECT("'"&L$3&"'!B53")=0,"",INDIRECT("'"&L$3&"'!B53")) | M25: =IF(INDIRECT("'"&M$3&"'!B53")=0,"",INDIRECT("'"&M$3&"'!B53")) | N25: =IF(INDIRECT("'"&N$3&"'!B53")=0,"",INDIRECT("'"&N$3&"'!B53")) | O25: =IF(INDIRECT("'"&O$3&"'!B53")=0,"",INDIRECT("'"&O$3&"'!B53")) | P25: =IF(INDIRECT("'"&P$3&"'!B53")=0,"",INDIRECT("'"&P$3&"'!B53")) | ... W25: =IF(INDIRECT("'"&W$3&"'!B53")=0,"",INDIRECT("'"&W$3&"'!B53"))
A26: 65 | B26: =IF(SUM($I$26:$W$26)=0,"",SUM($I$26:$W$26)) | C26: Radiator | D26: Veha | E26: type Plana 22 afmeting 3800x600 Q=2110 W | I26: =IF(INDIRECT("'"&I$3&"'!B54")=0,"",INDIRECT("'"&I$3&"'!B54")) | J26: =IF(INDIRECT("'"&J$3&"'!B54")=0,"",INDIRECT("'"&J$3&"'!B54")) | K26: =IF(INDIRECT("'"&K$3&"'!B54")=0,"",INDIRECT("'"&K$3&"'!B54")) | L26: =IF(INDIRECT("'"&L$3&"'!B54")=0,"",INDIRECT("'"&L$3&"'!B54")) | M26: =IF(INDIRECT("'"&M$3&"'!B54")=0,"",INDIRECT("'"&M$3&"'!B54")) | N26: =IF(INDIRECT("'"&N$3&"'!B54")=0,"",INDIRECT("'"&N$3&"'!B54")) | O26: =IF(INDIRECT("'"&O$3&"'!B54")=0,"",INDIRECT("'"&O$3&"'!B54")) | P26: =IF(INDIRECT("'"&P$3&"'!B54")=0,"",INDIRECT("'"&P$3&"'!B54")) | ... W26: =IF(INDIRECT("'"&W$3&"'!B54")=0,"",INDIRECT("'"&W$3&"'!B54"))
A27: 66 | B27: =IF(SUM($I$27:$W$27)=0,"",SUM($I$27:$W$27)) | C27: Radiator | D27: Veha | E27: type Plana 22 afmeting 1000x600 Q=554 W | I27: =IF(INDIRECT("'"&I$3&"'!B55")=0,"",INDIRECT("'"&I$3&"'!B55")) | J27: =IF(INDIRECT("'"&J$3&"'!B55")=0,"",INDIRECT("'"&J$3&"'!B55")) | K27: =IF(INDIRECT("'"&K$3&"'!B55")=0,"",INDIRECT("'"&K$3&"'!B55")) | L27: =IF(INDIRECT("'"&L$3&"'!B55")=0,"",INDIRECT("'"&L$3&"'!B55")) | M27: =IF(INDIRECT("'"&M$3&"'!B55")=0,"",INDIRECT("'"&M$3&"'!B55")) | N27: =IF(INDIRECT("'"&N$3&"'!B55")=0,"",INDIRECT("'"&N$3&"'!B55")) | O27: =IF(INDIRECT("'"&O$3&"'!B55")=0,"",INDIRECT("'"&O$3&"'!B55")) | P27: =IF(INDIRECT("'"&P$3&"'!B55")=0,"",INDIRECT("'"&P$3&"'!B55")) | ... W27: =IF(INDIRECT("'"&W$3&"'!B55")=0,"",INDIRECT("'"&W$3&"'!B55"))
A28: 67 | B28: =IF(SUM($I$28:$W$28)=0,"",SUM($I$28:$W$28)) | C28: Radiator | D28: Veha | E28: type Plana 22 afmeting 2200x600 Q=1230 W | I28: =IF(INDIRECT("'"&I$3&"'!B56")=0,"",INDIRECT("'"&I$3&"'!B56")) | J28: =IF(INDIRECT("'"&J$3&"'!B56")=0,"",INDIRECT("'"&J$3&"'!B56")) | K28: =IF(INDIRECT("'"&K$3&"'!B56")=0,"",INDIRECT("'"&K$3&"'!B56")) | L28: =IF(INDIRECT("'"&L$3&"'!B56")=0,"",INDIRECT("'"&L$3&"'!B56")) | M28: =IF(INDIRECT("'"&M$3&"'!B56")=0,"",INDIRECT("'"&M$3&"'!B56")) | N28: =IF(INDIRECT("'"&N$3&"'!B56")=0,"",INDIRECT("'"&N$3&"'!B56")) | O28: =IF(INDIRECT("'"&O$3&"'!B56")=0,"",INDIRECT("'"&O$3&"'!B56")) | P28: =IF(INDIRECT("'"&P$3&"'!B56")=0,"",INDIRECT("'"&P$3&"'!B56")) | ... W28: =IF(INDIRECT("'"&W$3&"'!B56")=0,"",INDIRECT("'"&W$3&"'!B56"))
A29: 68 | B29: =IF(SUM($I$29:$W$29)=0,"",SUM($I$29:$W$29)) | C29: Radiator | D29: Henrad | E29: type 22 afmeting 1400x600 Q=990 W | I29: =IF(INDIRECT("'"&I$3&"'!B57")=0,"",INDIRECT("'"&I$3&"'!B57")) | J29: =IF(INDIRECT("'"&J$3&"'!B57")=0,"",INDIRECT("'"&J$3&"'!B57")) | K29: =IF(INDIRECT("'"&K$3&"'!B57")=0,"",INDIRECT("'"&K$3&"'!B57")) | L29: =IF(INDIRECT("'"&L$3&"'!B57")=0,"",INDIRECT("'"&L$3&"'!B57")) | M29: =IF(INDIRECT("'"&M$3&"'!B57")=0,"",INDIRECT("'"&M$3&"'!B57")) | N29: =IF(INDIRECT("'"&N$3&"'!B57")=0,"",INDIRECT("'"&N$3&"'!B57")) | O29: =IF(INDIRECT("'"&O$3&"'!B57")=0,"",INDIRECT("'"&O$3&"'!B57")) | P29: =IF(INDIRECT("'"&P$3&"'!B57")=0,"",INDIRECT("'"&P$3&"'!B57")) | ... W29: =IF(INDIRECT("'"&W$3&"'!B57")=0,"",INDIRECT("'"&W$3&"'!B57"))
A30: 69 | B30: =IF(SUM($I$30:$W$30)=0,"",SUM($I$30:$W$30)) | C30: Radiator | D30: Henrad | E30: type 22 afmeting 1600x600 Q=1131 W | I30: =IF(INDIRECT("'"&I$3&"'!B58")=0,"",INDIRECT("'"&I$3&"'!B58")) | J30: =IF(INDIRECT("'"&J$3&"'!B58")=0,"",INDIRECT("'"&J$3&"'!B58")) | K30: =IF(INDIRECT("'"&K$3&"'!B58")=0,"",INDIRECT("'"&K$3&"'!B58")) | L30: =IF(INDIRECT("'"&L$3&"'!B58")=0,"",INDIRECT("'"&L$3&"'!B58")) | M30: =IF(INDIRECT("'"&M$3&"'!B58")=0,"",INDIRECT("'"&M$3&"'!B58")) | N30: =IF(INDIRECT("'"&N$3&"'!B58")=0,"",INDIRECT("'"&N$3&"'!B58")) | O30: =IF(INDIRECT("'"&O$3&"'!B58")=0,"",INDIRECT("'"&O$3&"'!B58")) | P30: =IF(INDIRECT("'"&P$3&"'!B58")=0,"",INDIRECT("'"&P$3&"'!B58")) | ... W30: =IF(INDIRECT("'"&W$3&"'!B58")=0,"",INDIRECT("'"&W$3&"'!B58"))
A31: 70 | B31: =IF(SUM($I$31:$W$31)=0,"",SUM($I$31:$W$31)) | C31: Radiator | D31: Henrad | E31: type 22 afmeting 2000x600 Q=1414 W | I31: =IF(INDIRECT("'"&I$3&"'!B59")=0,"",INDIRECT("'"&I$3&"'!B59")) | J31: =IF(INDIRECT("'"&J$3&"'!B59")=0,"",INDIRECT("'"&J$3&"'!B59")) | K31: =IF(INDIRECT("'"&K$3&"'!B59")=0,"",INDIRECT("'"&K$3&"'!B59")) | L31: =IF(INDIRECT("'"&L$3&"'!B59")=0,"",INDIRECT("'"&L$3&"'!B59")) | M31: =IF(INDIRECT("'"&M$3&"'!B59")=0,"",INDIRECT("'"&M$3&"'!B59")) | N31: =IF(INDIRECT("'"&N$3&"'!B59")=0,"",INDIRECT("'"&N$3&"'!B59")) | O31: =IF(INDIRECT("'"&O$3&"'!B59")=0,"",INDIRECT("'"&O$3&"'!B59")) | P31: =IF(INDIRECT("'"&P$3&"'!B59")=0,"",INDIRECT("'"&P$3&"'!B59")) | ... W31: =IF(INDIRECT("'"&W$3&"'!B59")=0,"",INDIRECT("'"&W$3&"'!B59"))
A32: 71 | B32: =IF(SUM($I$32:$W$32)=0,"",SUM($I$32:$W$32)) | C32: Radiator | D32: Henrad | E32: type 22 afmeting 1600x600 Q=1131 W | I32: =IF(INDIRECT("'"&I$3&"'!B60")=0,"",INDIRECT("'"&I$3&"'!B60")) | J32: =IF(INDIRECT("'"&J$3&"'!B60")=0,"",INDIRECT("'"&J$3&"'!B60")) | K32: =IF(INDIRECT("'"&K$3&"'!B60")=0,"",INDIRECT("'"&K$3&"'!B60")) | L32: =IF(INDIRECT("'"&L$3&"'!B60")=0,"",INDIRECT("'"&L$3&"'!B60")) | M32: =IF(INDIRECT("'"&M$3&"'!B60")=0,"",INDIRECT("'"&M$3&"'!B60")) | N32: =IF(INDIRECT("'"&N$3&"'!B60")=0,"",INDIRECT("'"&N$3&"'!B60")) | O32: =IF(INDIRECT("'"&O$3&"'!B60")=0,"",INDIRECT("'"&O$3&"'!B60")) | P32: =IF(INDIRECT("'"&P$3&"'!B60")=0,"",INDIRECT("'"&P$3&"'!B60")) | ... W32: =IF(INDIRECT("'"&W$3&"'!B60")=0,"",INDIRECT("'"&W$3&"'!B60"))
A33: 72 | B33: =IF(SUM($I$33:$W$33)=0,"",SUM($I$33:$W$33)) | C33: Radiator | D33: Henrad | E33: type 11 afmeting 1200x600 Q-1200 W | I33: =IF(INDIRECT("'"&I$3&"'!B61")=0,"",INDIRECT("'"&I$3&"'!B61")) | J33: =IF(INDIRECT("'"&J$3&"'!B61")=0,"",INDIRECT("'"&J$3&"'!B61")) | K33: =IF(INDIRECT("'"&K$3&"'!B61")=0,"",INDIRECT("'"&K$3&"'!B61")) | L33: =IF(INDIRECT("'"&L$3&"'!B61")=0,"",INDIRECT("'"&L$3&"'!B61")) | M33: =IF(INDIRECT("'"&M$3&"'!B61")=0,"",INDIRECT("'"&M$3&"'!B61")) | N33: =IF(INDIRECT("'"&N$3&"'!B61")=0,"",INDIRECT("'"&N$3&"'!B61")) | O33: =IF(INDIRECT("'"&O$3&"'!B61")=0,"",INDIRECT("'"&O$3&"'!B61")) | P33: =IF(INDIRECT("'"&P$3&"'!B61")=0,"",INDIRECT("'"&P$3&"'!B61")) | ... W33: =IF(INDIRECT("'"&W$3&"'!B61")=0,"",INDIRECT("'"&W$3&"'!B61"))
A34: 73 | B34: =IF(SUM($I$34:$W$34)=0,"",SUM($I$34:$W$34)) | C34: Radiator | D34: Henrad | E34: type 11 afmeting 1400x600 Q=1400 W | I34: =IF(INDIRECT("'"&I$3&"'!B62")=0,"",INDIRECT("'"&I$3&"'!B62")) | J34: =IF(INDIRECT("'"&J$3&"'!B62")=0,"",INDIRECT("'"&J$3&"'!B62")) | K34: =IF(INDIRECT("'"&K$3&"'!B62")=0,"",INDIRECT("'"&K$3&"'!B62")) | L34: =IF(INDIRECT("'"&L$3&"'!B62")=0,"",INDIRECT("'"&L$3&"'!B62")) | M34: =IF(INDIRECT("'"&M$3&"'!B62")=0,"",INDIRECT("'"&M$3&"'!B62")) | N34: =IF(INDIRECT("'"&N$3&"'!B62")=0,"",INDIRECT("'"&N$3&"'!B62")) | O34: =IF(INDIRECT("'"&O$3&"'!B62")=0,"",INDIRECT("'"&O$3&"'!B62")) | P34: =IF(INDIRECT("'"&P$3&"'!B62")=0,"",INDIRECT("'"&P$3&"'!B62")) | ... W34: =IF(INDIRECT("'"&W$3&"'!B62")=0,"",INDIRECT("'"&W$3&"'!B62"))
A35: 74 | B35: =IF(SUM($I$35:$W$35)=0,"",SUM($I$35:$W$35)) | C35: Radiator | D35: Henrad | E35: type 11 afmeting 800x600 Q=800 W | I35: =IF(INDIRECT("'"&I$3&"'!B63")=0,"",INDIRECT("'"&I$3&"'!B63")) | J35: =IF(INDIRECT("'"&J$3&"'!B63")=0,"",INDIRECT("'"&J$3&"'!B63")) | K35: =IF(INDIRECT("'"&K$3&"'!B63")=0,"",INDIRECT("'"&K$3&"'!B63")) | L35: =IF(INDIRECT("'"&L$3&"'!B63")=0,"",INDIRECT("'"&L$3&"'!B63")) | M35: =IF(INDIRECT("'"&M$3&"'!B63")=0,"",INDIRECT("'"&M$3&"'!B63")) | N35: =IF(INDIRECT("'"&N$3&"'!B63")=0,"",INDIRECT("'"&N$3&"'!B63")) | O35: =IF(INDIRECT("'"&O$3&"'!B63")=0,"",INDIRECT("'"&O$3&"'!B63")) | P35: =IF(INDIRECT("'"&P$3&"'!B63")=0,"",INDIRECT("'"&P$3&"'!B63")) | ... W35: =IF(INDIRECT("'"&W$3&"'!B63")=0,"",INDIRECT("'"&W$3&"'!B63"))
A36: 75 | B36: =IF(SUM($I$36:$W$36)=0,"",SUM($I$36:$W$36)) | C36: Radiator | D36: Henrad | E36: type 22 afmeting 1000x600 Q=707 W | I36: =IF(INDIRECT("'"&I$3&"'!B64")=0,"",INDIRECT("'"&I$3&"'!B64")) | J36: =IF(INDIRECT("'"&J$3&"'!B64")=0,"",INDIRECT("'"&J$3&"'!B64")) | K36: =IF(INDIRECT("'"&K$3&"'!B64")=0,"",INDIRECT("'"&K$3&"'!B64")) | L36: =IF(INDIRECT("'"&L$3&"'!B64")=0,"",INDIRECT("'"&L$3&"'!B64")) | M36: =IF(INDIRECT("'"&M$3&"'!B64")=0,"",INDIRECT("'"&M$3&"'!B64")) | N36: =IF(INDIRECT("'"&N$3&"'!B64")=0,"",INDIRECT("'"&N$3&"'!B64")) | O36: =IF(INDIRECT("'"&O$3&"'!B64")=0,"",INDIRECT("'"&O$3&"'!B64")) | P36: =IF(INDIRECT("'"&P$3&"'!B64")=0,"",INDIRECT("'"&P$3&"'!B64")) | ... W36: =IF(INDIRECT("'"&W$3&"'!B64")=0,"",INDIRECT("'"&W$3&"'!B64"))
A37: 76 | B37: =IF(SUM($I$37:$W$37)=0,"",SUM($I$37:$W$37)) | C37: Radiator | D37: Henrad | E37: type 33 afmeting 2000x600 Q=1976 W | I37: =IF(INDIRECT("'"&I$3&"'!B65")=0,"",INDIRECT("'"&I$3&"'!B65")) | J37: =IF(INDIRECT("'"&J$3&"'!B65")=0,"",INDIRECT("'"&J$3&"'!B65")) | K37: =IF(INDIRECT("'"&K$3&"'!B65")=0,"",INDIRECT("'"&K$3&"'!B65")) | L37: =IF(INDIRECT("'"&L$3&"'!B65")=0,"",INDIRECT("'"&L$3&"'!B65")) | M37: =IF(INDIRECT("'"&M$3&"'!B65")=0,"",INDIRECT("'"&M$3&"'!B65")) | N37: =IF(INDIRECT("'"&N$3&"'!B65")=0,"",INDIRECT("'"&N$3&"'!B65")) | O37: =IF(INDIRECT("'"&O$3&"'!B65")=0,"",INDIRECT("'"&O$3&"'!B65")) | P37: =IF(INDIRECT("'"&P$3&"'!B65")=0,"",INDIRECT("'"&P$3&"'!B65")) | ... W37: =IF(INDIRECT("'"&W$3&"'!B65")=0,"",INDIRECT("'"&W$3&"'!B65"))
A38: 77 | B38: =IF(SUM($I$38:$W$38)=0,"",SUM($I$38:$W$38)) | C38: Radiator | D38: Henrad | E38: type 22 afmeting 2200x600 Q=1555 W | I38: =IF(INDIRECT("'"&I$3&"'!B66")=0,"",INDIRECT("'"&I$3&"'!B66")) | J38: =IF(INDIRECT("'"&J$3&"'!B66")=0,"",INDIRECT("'"&J$3&"'!B66")) | K38: =IF(INDIRECT("'"&K$3&"'!B66")=0,"",INDIRECT("'"&K$3&"'!B66")) | L38: =IF(INDIRECT("'"&L$3&"'!B66")=0,"",INDIRECT("'"&L$3&"'!B66")) | M38: =IF(INDIRECT("'"&M$3&"'!B66")=0,"",INDIRECT("'"&M$3&"'!B66")) | N38: =IF(INDIRECT("'"&N$3&"'!B66")=0,"",INDIRECT("'"&N$3&"'!B66")) | O38: =IF(INDIRECT("'"&O$3&"'!B66")=0,"",INDIRECT("'"&O$3&"'!B66")) | P38: =IF(INDIRECT("'"&P$3&"'!B66")=0,"",INDIRECT("'"&P$3&"'!B66")) | ... W38: =IF(INDIRECT("'"&W$3&"'!B66")=0,"",INDIRECT("'"&W$3&"'!B66"))
A39: 78 | B39: =IF(SUM($I$39:$W$39)=0,"",SUM($I$39:$W$39)) | C39: Radiator | D39: Henrad | E39: type 11 afmeting 1000x600 Q=1000 W | I39: =IF(INDIRECT("'"&I$3&"'!B67")=0,"",INDIRECT("'"&I$3&"'!B67")) | J39: =IF(INDIRECT("'"&J$3&"'!B67")=0,"",INDIRECT("'"&J$3&"'!B67")) | K39: =IF(INDIRECT("'"&K$3&"'!B67")=0,"",INDIRECT("'"&K$3&"'!B67")) | L39: =IF(INDIRECT("'"&L$3&"'!B67")=0,"",INDIRECT("'"&L$3&"'!B67")) | M39: =IF(INDIRECT("'"&M$3&"'!B67")=0,"",INDIRECT("'"&M$3&"'!B67")) | N39: =IF(INDIRECT("'"&N$3&"'!B67")=0,"",INDIRECT("'"&N$3&"'!B67")) | O39: =IF(INDIRECT("'"&O$3&"'!B67")=0,"",INDIRECT("'"&O$3&"'!B67")) | P39: =IF(INDIRECT("'"&P$3&"'!B67")=0,"",INDIRECT("'"&P$3&"'!B67")) | ... W39: =IF(INDIRECT("'"&W$3&"'!B67")=0,"",INDIRECT("'"&W$3&"'!B67"))
A40: 79 | B40: =IF(SUM($I$40:$W$40)=0,"",SUM($I$40:$W$40)) | C40: Radiator | D40: Henrad | E40: type 11 afmeting 700x600 Q=700 W | I40: =IF(INDIRECT("'"&I$3&"'!B68")=0,"",INDIRECT("'"&I$3&"'!B68")) | J40: =IF(INDIRECT("'"&J$3&"'!B68")=0,"",INDIRECT("'"&J$3&"'!B68")) | K40: =IF(INDIRECT("'"&K$3&"'!B68")=0,"",INDIRECT("'"&K$3&"'!B68")) | L40: =IF(INDIRECT("'"&L$3&"'!B68")=0,"",INDIRECT("'"&L$3&"'!B68")) | M40: =IF(INDIRECT("'"&M$3&"'!B68")=0,"",INDIRECT("'"&M$3&"'!B68")) | N40: =IF(INDIRECT("'"&N$3&"'!B68")=0,"",INDIRECT("'"&N$3&"'!B68")) | O40: =IF(INDIRECT("'"&O$3&"'!B68")=0,"",INDIRECT("'"&O$3&"'!B68")) | P40: =IF(INDIRECT("'"&P$3&"'!B68")=0,"",INDIRECT("'"&P$3&"'!B68")) | ... W40: =IF(INDIRECT("'"&W$3&"'!B68")=0,"",INDIRECT("'"&W$3&"'!B68"))
A41: 80 | B41: =IF(SUM($I$41:$W$41)=0,"",SUM($I$41:$W$41)) | C41: Radiator | D41: Henrad | E41: type 21 afmeting 900x600 Q=505 W | I41: =IF(INDIRECT("'"&I$3&"'!B69")=0,"",INDIRECT("'"&I$3&"'!B69")) | J41: =IF(INDIRECT("'"&J$3&"'!B69")=0,"",INDIRECT("'"&J$3&"'!B69")) | K41: =IF(INDIRECT("'"&K$3&"'!B69")=0,"",INDIRECT("'"&K$3&"'!B69")) | L41: =IF(INDIRECT("'"&L$3&"'!B69")=0,"",INDIRECT("'"&L$3&"'!B69")) | M41: =IF(INDIRECT("'"&M$3&"'!B69")=0,"",INDIRECT("'"&M$3&"'!B69")) | N41: =IF(INDIRECT("'"&N$3&"'!B69")=0,"",INDIRECT("'"&N$3&"'!B69")) | O41: =IF(INDIRECT("'"&O$3&"'!B69")=0,"",INDIRECT("'"&O$3&"'!B69")) | P41: =IF(INDIRECT("'"&P$3&"'!B69")=0,"",INDIRECT("'"&P$3&"'!B69")) | ... W41: =IF(INDIRECT("'"&W$3&"'!B69")=0,"",INDIRECT("'"&W$3&"'!B69"))
A42: 81 | B42: =IF(SUM($I$42:$W$42)=0,"",SUM($I$42:$W$42)) | C42: Radiator | D42: Henrad | E42: type 22 afmeting 1000x600 Q=1778 W | I42: =IF(INDIRECT("'"&I$3&"'!B70")=0,"",INDIRECT("'"&I$3&"'!B70")) | J42: =IF(INDIRECT("'"&J$3&"'!B70")=0,"",INDIRECT("'"&J$3&"'!B70")) | K42: =IF(INDIRECT("'"&K$3&"'!B70")=0,"",INDIRECT("'"&K$3&"'!B70")) | L42: =IF(INDIRECT("'"&L$3&"'!B70")=0,"",INDIRECT("'"&L$3&"'!B70")) | M42: =IF(INDIRECT("'"&M$3&"'!B70")=0,"",INDIRECT("'"&M$3&"'!B70")) | N42: =IF(INDIRECT("'"&N$3&"'!B70")=0,"",INDIRECT("'"&N$3&"'!B70")) | O42: =IF(INDIRECT("'"&O$3&"'!B70")=0,"",INDIRECT("'"&O$3&"'!B70")) | P42: =IF(INDIRECT("'"&P$3&"'!B70")=0,"",INDIRECT("'"&P$3&"'!B70")) | ... W42: =IF(INDIRECT("'"&W$3&"'!B70")=0,"",INDIRECT("'"&W$3&"'!B70"))
A43: 82 | B43: =IF(SUM($I$43:$W$43)=0,"",SUM($I$43:$W$43)) | C43: Radiator | D43: Henrad | E43: type 22 afmeting 500x600 Q=889 W | I43: =IF(INDIRECT("'"&I$3&"'!B71")=0,"",INDIRECT("'"&I$3&"'!B71")) | J43: =IF(INDIRECT("'"&J$3&"'!B71")=0,"",INDIRECT("'"&J$3&"'!B71")) | K43: =IF(INDIRECT("'"&K$3&"'!B71")=0,"",INDIRECT("'"&K$3&"'!B71")) | L43: =IF(INDIRECT("'"&L$3&"'!B71")=0,"",INDIRECT("'"&L$3&"'!B71")) | M43: =IF(INDIRECT("'"&M$3&"'!B71")=0,"",INDIRECT("'"&M$3&"'!B71")) | N43: =IF(INDIRECT("'"&N$3&"'!B71")=0,"",INDIRECT("'"&N$3&"'!B71")) | O43: =IF(INDIRECT("'"&O$3&"'!B71")=0,"",INDIRECT("'"&O$3&"'!B71")) | P43: =IF(INDIRECT("'"&P$3&"'!B71")=0,"",INDIRECT("'"&P$3&"'!B71")) | ... W43: =IF(INDIRECT("'"&W$3&"'!B71")=0,"",INDIRECT("'"&W$3&"'!B71"))
A44: 83 | B44: =IF(SUM($I$44:$W$44)=0,"",SUM($I$44:$W$44)) | C44: Radiator | D44: Henrad | E44: type 11 afmeting 900x600 Q=900 W | I44: =IF(INDIRECT("'"&I$3&"'!B72")=0,"",INDIRECT("'"&I$3&"'!B72")) | J44: =IF(INDIRECT("'"&J$3&"'!B72")=0,"",INDIRECT("'"&J$3&"'!B72")) | K44: =IF(INDIRECT("'"&K$3&"'!B72")=0,"",INDIRECT("'"&K$3&"'!B72")) | L44: =IF(INDIRECT("'"&L$3&"'!B72")=0,"",INDIRECT("'"&L$3&"'!B72")) | M44: =IF(INDIRECT("'"&M$3&"'!B72")=0,"",INDIRECT("'"&M$3&"'!B72")) | N44: =IF(INDIRECT("'"&N$3&"'!B72")=0,"",INDIRECT("'"&N$3&"'!B72")) | O44: =IF(INDIRECT("'"&O$3&"'!B72")=0,"",INDIRECT("'"&O$3&"'!B72")) | P44: =IF(INDIRECT("'"&P$3&"'!B72")=0,"",INDIRECT("'"&P$3&"'!B72")) | ... W44: =IF(INDIRECT("'"&W$3&"'!B72")=0,"",INDIRECT("'"&W$3&"'!B72"))
A45: 84 | B45: =IF(SUM($I$45:$W$45)=0,"",SUM($I$45:$W$45)) | C45: Radiator | D45: Henrad | E45: type 221 afmeting 1100x600 Q=1956 W | I45: =IF(INDIRECT("'"&I$3&"'!B73")=0,"",INDIRECT("'"&I$3&"'!B73")) | J45: =IF(INDIRECT("'"&J$3&"'!B73")=0,"",INDIRECT("'"&J$3&"'!B73")) | K45: =IF(INDIRECT("'"&K$3&"'!B73")=0,"",INDIRECT("'"&K$3&"'!B73")) | L45: =IF(INDIRECT("'"&L$3&"'!B73")=0,"",INDIRECT("'"&L$3&"'!B73")) | M45: =IF(INDIRECT("'"&M$3&"'!B73")=0,"",INDIRECT("'"&M$3&"'!B73")) | N45: =IF(INDIRECT("'"&N$3&"'!B73")=0,"",INDIRECT("'"&N$3&"'!B73")) | O45: =IF(INDIRECT("'"&O$3&"'!B73")=0,"",INDIRECT("'"&O$3&"'!B73")) | P45: =IF(INDIRECT("'"&P$3&"'!B73")=0,"",INDIRECT("'"&P$3&"'!B73")) | ... W45: =IF(INDIRECT("'"&W$3&"'!B73")=0,"",INDIRECT("'"&W$3&"'!B73"))
A46: 85 | B46: =IF(SUM($I$46:$W$46)=0,"",SUM($I$46:$W$46)) | C46: Radiator | D46: Henrad | E46: type 22 afmeting 700x600 Q=495 W | I46: =IF(INDIRECT("'"&I$3&"'!B74")=0,"",INDIRECT("'"&I$3&"'!B74")) | J46: =IF(INDIRECT("'"&J$3&"'!B74")=0,"",INDIRECT("'"&J$3&"'!B74")) | K46: =IF(INDIRECT("'"&K$3&"'!B74")=0,"",INDIRECT("'"&K$3&"'!B74")) | L46: =IF(INDIRECT("'"&L$3&"'!B74")=0,"",INDIRECT("'"&L$3&"'!B74")) | M46: =IF(INDIRECT("'"&M$3&"'!B74")=0,"",INDIRECT("'"&M$3&"'!B74")) | N46: =IF(INDIRECT("'"&N$3&"'!B74")=0,"",INDIRECT("'"&N$3&"'!B74")) | O46: =IF(INDIRECT("'"&O$3&"'!B74")=0,"",INDIRECT("'"&O$3&"'!B74")) | P46: =IF(INDIRECT("'"&P$3&"'!B74")=0,"",INDIRECT("'"&P$3&"'!B74")) | ... W46: =IF(INDIRECT("'"&W$3&"'!B74")=0,"",INDIRECT("'"&W$3&"'!B74"))
A47: 86 | B47: =IF(SUM($I$47:$W$47)=0,"",SUM($I$47:$W$47)) | C47: Radiator | D47: Henrad | E47: type 33 afmeting 1600x700 Q=1778 W | I47: =IF(INDIRECT("'"&I$3&"'!B75")=0,"",INDIRECT("'"&I$3&"'!B75")) | J47: =IF(INDIRECT("'"&J$3&"'!B75")=0,"",INDIRECT("'"&J$3&"'!B75")) | K47: =IF(INDIRECT("'"&K$3&"'!B75")=0,"",INDIRECT("'"&K$3&"'!B75")) | L47: =IF(INDIRECT("'"&L$3&"'!B75")=0,"",INDIRECT("'"&L$3&"'!B75")) | M47: =IF(INDIRECT("'"&M$3&"'!B75")=0,"",INDIRECT("'"&M$3&"'!B75")) | N47: =IF(INDIRECT("'"&N$3&"'!B75")=0,"",INDIRECT("'"&N$3&"'!B75")) | O47: =IF(INDIRECT("'"&O$3&"'!B75")=0,"",INDIRECT("'"&O$3&"'!B75")) | P47: =IF(INDIRECT("'"&P$3&"'!B75")=0,"",INDIRECT("'"&P$3&"'!B75")) | ... W47: =IF(INDIRECT("'"&W$3&"'!B75")=0,"",INDIRECT("'"&W$3&"'!B75"))
A48: 87 | B48: =IF(SUM($I$48:$W$48)=0,"",SUM($I$48:$W$48)) | C48: Radiator | D48: Henrad | E48: type 11 afmeting 800x300 | I48: =IF(INDIRECT("'"&I$3&"'!B76")=0,"",INDIRECT("'"&I$3&"'!B76")) | J48: =IF(INDIRECT("'"&J$3&"'!B76")=0,"",INDIRECT("'"&J$3&"'!B76")) | K48: =IF(INDIRECT("'"&K$3&"'!B76")=0,"",INDIRECT("'"&K$3&"'!B76")) | L48: =IF(INDIRECT("'"&L$3&"'!B76")=0,"",INDIRECT("'"&L$3&"'!B76")) | M48: =IF(INDIRECT("'"&M$3&"'!B76")=0,"",INDIRECT("'"&M$3&"'!B76")) | N48: =IF(INDIRECT("'"&N$3&"'!B76")=0,"",INDIRECT("'"&N$3&"'!B76")) | O48: =IF(INDIRECT("'"&O$3&"'!B76")=0,"",INDIRECT("'"&O$3&"'!B76")) | P48: =IF(INDIRECT("'"&P$3&"'!B76")=0,"",INDIRECT("'"&P$3&"'!B76")) | ... W48: =IF(INDIRECT("'"&W$3&"'!B76")=0,"",INDIRECT("'"&W$3&"'!B76"))
A49: 88 | B49: =IF(SUM($I$49:$W$49)=0,"",SUM($I$49:$W$49)) | C49: Radiator | D49: Henrad | E49: type 11 afmeting 800x300 | I49: =IF(INDIRECT("'"&I$3&"'!B77")=0,"",INDIRECT("'"&I$3&"'!B77")) | J49: =IF(INDIRECT("'"&J$3&"'!B77")=0,"",INDIRECT("'"&J$3&"'!B77")) | K49: =IF(INDIRECT("'"&K$3&"'!B77")=0,"",INDIRECT("'"&K$3&"'!B77")) | L49: =IF(INDIRECT("'"&L$3&"'!B77")=0,"",INDIRECT("'"&L$3&"'!B77")) | M49: =IF(INDIRECT("'"&M$3&"'!B77")=0,"",INDIRECT("'"&M$3&"'!B77")) | N49: =IF(INDIRECT("'"&N$3&"'!B77")=0,"",INDIRECT("'"&N$3&"'!B77")) | O49: =IF(INDIRECT("'"&O$3&"'!B77")=0,"",INDIRECT("'"&O$3&"'!B77")) | P49: =IF(INDIRECT("'"&P$3&"'!B77")=0,"",INDIRECT("'"&P$3&"'!B77")) | ... W49: =IF(INDIRECT("'"&W$3&"'!B77")=0,"",INDIRECT("'"&W$3&"'!B77"))
A50: 89 | B50: =IF(SUM($I$50:$W$50)=0,"",SUM($I$50:$W$50)) | C50: Radiator | D50: Henrad | E50: type 11 afmeting 800x300 | I50: =IF(INDIRECT("'"&I$3&"'!B78")=0,"",INDIRECT("'"&I$3&"'!B78")) | J50: =IF(INDIRECT("'"&J$3&"'!B78")=0,"",INDIRECT("'"&J$3&"'!B78")) | K50: =IF(INDIRECT("'"&K$3&"'!B78")=0,"",INDIRECT("'"&K$3&"'!B78")) | L50: =IF(INDIRECT("'"&L$3&"'!B78")=0,"",INDIRECT("'"&L$3&"'!B78")) | M50: =IF(INDIRECT("'"&M$3&"'!B78")=0,"",INDIRECT("'"&M$3&"'!B78")) | N50: =IF(INDIRECT("'"&N$3&"'!B78")=0,"",INDIRECT("'"&N$3&"'!B78")) | O50: =IF(INDIRECT("'"&O$3&"'!B78")=0,"",INDIRECT("'"&O$3&"'!B78")) | P50: =IF(INDIRECT("'"&P$3&"'!B78")=0,"",INDIRECT("'"&P$3&"'!B78")) | ... W50: =IF(INDIRECT("'"&W$3&"'!B78")=0,"",INDIRECT("'"&W$3&"'!B78"))
A51: 90 | B51: =IF(SUM($I$51:$W$51)=0,"",SUM($I$51:$W$51)) | C51: Radiator | D51: Henrad | E51: type 11 afmeting 800x300 | I51: =IF(INDIRECT("'"&I$3&"'!B79")=0,"",INDIRECT("'"&I$3&"'!B79")) | J51: =IF(INDIRECT("'"&J$3&"'!B79")=0,"",INDIRECT("'"&J$3&"'!B79")) | K51: =IF(INDIRECT("'"&K$3&"'!B79")=0,"",INDIRECT("'"&K$3&"'!B79")) | L51: =IF(INDIRECT("'"&L$3&"'!B79")=0,"",INDIRECT("'"&L$3&"'!B79")) | M51: =IF(INDIRECT("'"&M$3&"'!B79")=0,"",INDIRECT("'"&M$3&"'!B79")) | N51: =IF(INDIRECT("'"&N$3&"'!B79")=0,"",INDIRECT("'"&N$3&"'!B79")) | O51: =IF(INDIRECT("'"&O$3&"'!B79")=0,"",INDIRECT("'"&O$3&"'!B79")) | P51: =IF(INDIRECT("'"&P$3&"'!B79")=0,"",INDIRECT("'"&P$3&"'!B79")) | ... W51: =IF(INDIRECT("'"&W$3&"'!B79")=0,"",INDIRECT("'"&W$3&"'!B79"))
A52: 94 | B52: =IF(SUM($I$52:$W$52)=0,"",SUM($I$52:$W$52)) | C52: Plintconvector | D52: Prenger/Instamat | E52: type AC145 Afmeting 700x255 afgifte 425 W | I52: =IF(INDIRECT("'"&I$3&"'!B83")=0,"",INDIRECT("'"&I$3&"'!B83")) | J52: =IF(INDIRECT("'"&J$3&"'!B83")=0,"",INDIRECT("'"&J$3&"'!B83")) | K52: =IF(INDIRECT("'"&K$3&"'!B83")=0,"",INDIRECT("'"&K$3&"'!B83")) | L52: =IF(INDIRECT("'"&L$3&"'!B83")=0,"",INDIRECT("'"&L$3&"'!B83")) | M52: =IF(INDIRECT("'"&M$3&"'!B83")=0,"",INDIRECT("'"&M$3&"'!B83")) | N52: =IF(INDIRECT("'"&N$3&"'!B83")=0,"",INDIRECT("'"&N$3&"'!B83")) | O52: =IF(INDIRECT("'"&O$3&"'!B83")=0,"",INDIRECT("'"&O$3&"'!B83")) | P52: =IF(INDIRECT("'"&P$3&"'!B83")=0,"",INDIRECT("'"&P$3&"'!B83")) | ... W52: =IF(INDIRECT("'"&W$3&"'!B83")=0,"",INDIRECT("'"&W$3&"'!B83"))
A53: 95 | B53: =IF(SUM($I$53:$W$53)=0,"",SUM($I$53:$W$53)) | C53: Plintconvector | D53: Prenger/Instamat | E53: type AC145 Afmeting 500x255 afgifte 303 W | I53: =IF(INDIRECT("'"&I$3&"'!B84")=0,"",INDIRECT("'"&I$3&"'!B84")) | J53: =IF(INDIRECT("'"&J$3&"'!B84")=0,"",INDIRECT("'"&J$3&"'!B84")) | K53: =IF(INDIRECT("'"&K$3&"'!B84")=0,"",INDIRECT("'"&K$3&"'!B84")) | L53: =IF(INDIRECT("'"&L$3&"'!B84")=0,"",INDIRECT("'"&L$3&"'!B84")) | M53: =IF(INDIRECT("'"&M$3&"'!B84")=0,"",INDIRECT("'"&M$3&"'!B84")) | N53: =IF(INDIRECT("'"&N$3&"'!B84")=0,"",INDIRECT("'"&N$3&"'!B84")) | O53: =IF(INDIRECT("'"&O$3&"'!B84")=0,"",INDIRECT("'"&O$3&"'!B84")) | P53: =IF(INDIRECT("'"&P$3&"'!B84")=0,"",INDIRECT("'"&P$3&"'!B84")) | ... W53: =IF(INDIRECT("'"&W$3&"'!B84")=0,"",INDIRECT("'"&W$3&"'!B84"))
A54: 96 | B54: =IF(SUM($I$54:$W$54)=0,"",SUM($I$54:$W$54)) | C54: Plintconvector | D54: Prenger/Instamat | E54: type AC145 Afmeting 900x255 afgifte 546 W | I54: =IF(INDIRECT("'"&I$3&"'!B85")=0,"",INDIRECT("'"&I$3&"'!B85")) | J54: =IF(INDIRECT("'"&J$3&"'!B85")=0,"",INDIRECT("'"&J$3&"'!B85")) | K54: =IF(INDIRECT("'"&K$3&"'!B85")=0,"",INDIRECT("'"&K$3&"'!B85")) | L54: =IF(INDIRECT("'"&L$3&"'!B85")=0,"",INDIRECT("'"&L$3&"'!B85")) | M54: =IF(INDIRECT("'"&M$3&"'!B85")=0,"",INDIRECT("'"&M$3&"'!B85")) | N54: =IF(INDIRECT("'"&N$3&"'!B85")=0,"",INDIRECT("'"&N$3&"'!B85")) | O54: =IF(INDIRECT("'"&O$3&"'!B85")=0,"",INDIRECT("'"&O$3&"'!B85")) | P54: =IF(INDIRECT("'"&P$3&"'!B85")=0,"",INDIRECT("'"&P$3&"'!B85")) | ... W54: =IF(INDIRECT("'"&W$3&"'!B85")=0,"",INDIRECT("'"&W$3&"'!B85"))
A55: 97 | B55: =IF(SUM($I$55:$W$55)=0,"",SUM($I$55:$W$55)) | C55: Plintconvector | D55: Prenger/Instamat | E55: type AC145 Afmeting 1500x255 afgifte 911 W | I55: =IF(INDIRECT("'"&I$3&"'!B86")=0,"",INDIRECT("'"&I$3&"'!B86")) | J55: =IF(INDIRECT("'"&J$3&"'!B86")=0,"",INDIRECT("'"&J$3&"'!B86")) | K55: =IF(INDIRECT("'"&K$3&"'!B86")=0,"",INDIRECT("'"&K$3&"'!B86")) | L55: =IF(INDIRECT("'"&L$3&"'!B86")=0,"",INDIRECT("'"&L$3&"'!B86")) | M55: =IF(INDIRECT("'"&M$3&"'!B86")=0,"",INDIRECT("'"&M$3&"'!B86")) | N55: =IF(INDIRECT("'"&N$3&"'!B86")=0,"",INDIRECT("'"&N$3&"'!B86")) | O55: =IF(INDIRECT("'"&O$3&"'!B86")=0,"",INDIRECT("'"&O$3&"'!B86")) | P55: =IF(INDIRECT("'"&P$3&"'!B86")=0,"",INDIRECT("'"&P$3&"'!B86")) | ... W55: =IF(INDIRECT("'"&W$3&"'!B86")=0,"",INDIRECT("'"&W$3&"'!B86"))
A56: 98 | B56: =IF(SUM($I$56:$W$56)=0,"",SUM($I$56:$W$56)) | C56: Plintconvector | D56: Prenger/Instamat | E56: type AC145 Afmeting 600x255 afgifte 364 W | I56: =IF(INDIRECT("'"&I$3&"'!B87")=0,"",INDIRECT("'"&I$3&"'!B87")) | J56: =IF(INDIRECT("'"&J$3&"'!B87")=0,"",INDIRECT("'"&J$3&"'!B87")) | K56: =IF(INDIRECT("'"&K$3&"'!B87")=0,"",INDIRECT("'"&K$3&"'!B87")) | L56: =IF(INDIRECT("'"&L$3&"'!B87")=0,"",INDIRECT("'"&L$3&"'!B87")) | M56: =IF(INDIRECT("'"&M$3&"'!B87")=0,"",INDIRECT("'"&M$3&"'!B87")) | N56: =IF(INDIRECT("'"&N$3&"'!B87")=0,"",INDIRECT("'"&N$3&"'!B87")) | O56: =IF(INDIRECT("'"&O$3&"'!B87")=0,"",INDIRECT("'"&O$3&"'!B87")) | P56: =IF(INDIRECT("'"&P$3&"'!B87")=0,"",INDIRECT("'"&P$3&"'!B87")) | ... W56: =IF(INDIRECT("'"&W$3&"'!B87")=0,"",INDIRECT("'"&W$3&"'!B87"))
A57: 99 | B57: =IF(SUM($I$57:$W$57)=0,"",SUM($I$57:$W$57)) | C57: Plintconvector | D57: Prenger/Instamat | E57: type AC145 Afmeting 1200x255 afgifte 729 W | I57: =IF(INDIRECT("'"&I$3&"'!B88")=0,"",INDIRECT("'"&I$3&"'!B88")) | J57: =IF(INDIRECT("'"&J$3&"'!B88")=0,"",INDIRECT("'"&J$3&"'!B88")) | K57: =IF(INDIRECT("'"&K$3&"'!B88")=0,"",INDIRECT("'"&K$3&"'!B88")) | L57: =IF(INDIRECT("'"&L$3&"'!B88")=0,"",INDIRECT("'"&L$3&"'!B88")) | M57: =IF(INDIRECT("'"&M$3&"'!B88")=0,"",INDIRECT("'"&M$3&"'!B88")) | N57: =IF(INDIRECT("'"&N$3&"'!B88")=0,"",INDIRECT("'"&N$3&"'!B88")) | O57: =IF(INDIRECT("'"&O$3&"'!B88")=0,"",INDIRECT("'"&O$3&"'!B88")) | P57: =IF(INDIRECT("'"&P$3&"'!B88")=0,"",INDIRECT("'"&P$3&"'!B88")) | ... W57: =IF(INDIRECT("'"&W$3&"'!B88")=0,"",INDIRECT("'"&W$3&"'!B88"))
A58: 100 | B58: =IF(SUM($I$58:$W$58)=0,"",SUM($I$58:$W$58)) | C58: Plintconvector | D58: Prenger/Instamat | E58: type AC145 Afmeting 2200x255 afgifte 1337 W | I58: =IF(INDIRECT("'"&I$3&"'!B89")=0,"",INDIRECT("'"&I$3&"'!B89")) | J58: =IF(INDIRECT("'"&J$3&"'!B89")=0,"",INDIRECT("'"&J$3&"'!B89")) | K58: =IF(INDIRECT("'"&K$3&"'!B89")=0,"",INDIRECT("'"&K$3&"'!B89")) | L58: =IF(INDIRECT("'"&L$3&"'!B89")=0,"",INDIRECT("'"&L$3&"'!B89")) | M58: =IF(INDIRECT("'"&M$3&"'!B89")=0,"",INDIRECT("'"&M$3&"'!B89")) | N58: =IF(INDIRECT("'"&N$3&"'!B89")=0,"",INDIRECT("'"&N$3&"'!B89")) | O58: =IF(INDIRECT("'"&O$3&"'!B89")=0,"",INDIRECT("'"&O$3&"'!B89")) | P58: =IF(INDIRECT("'"&P$3&"'!B89")=0,"",INDIRECT("'"&P$3&"'!B89")) | ... W58: =IF(INDIRECT("'"&W$3&"'!B89")=0,"",INDIRECT("'"&W$3&"'!B89"))
A59: 101 | B59: =IF(SUM($I$59:$W$59)=0,"",SUM($I$59:$W$59)) | C59: Plintconvector | D59: Prenger/Instamat | E59: type AC285 Afmeting 1800x255 afgifte 1725 W | I59: =IF(INDIRECT("'"&I$3&"'!B90")=0,"",INDIRECT("'"&I$3&"'!B90")) | J59: =IF(INDIRECT("'"&J$3&"'!B90")=0,"",INDIRECT("'"&J$3&"'!B90")) | K59: =IF(INDIRECT("'"&K$3&"'!B90")=0,"",INDIRECT("'"&K$3&"'!B90")) | L59: =IF(INDIRECT("'"&L$3&"'!B90")=0,"",INDIRECT("'"&L$3&"'!B90")) | M59: =IF(INDIRECT("'"&M$3&"'!B90")=0,"",INDIRECT("'"&M$3&"'!B90")) | N59: =IF(INDIRECT("'"&N$3&"'!B90")=0,"",INDIRECT("'"&N$3&"'!B90")) | O59: =IF(INDIRECT("'"&O$3&"'!B90")=0,"",INDIRECT("'"&O$3&"'!B90")) | P59: =IF(INDIRECT("'"&P$3&"'!B90")=0,"",INDIRECT("'"&P$3&"'!B90")) | ... W59: =IF(INDIRECT("'"&W$3&"'!B90")=0,"",INDIRECT("'"&W$3&"'!B90"))
A60: 104 | B60: =IF(SUM($I$60:$W$60)=0,"",SUM($I$60:$W$60)) | C60: Ribbenbuiskachel | D60: Mecha Heat | E60: type CB600 600 Watt | I60: =IF(INDIRECT("'"&I$3&"'!B93")=0,"",INDIRECT("'"&I$3&"'!B93")) | J60: =IF(INDIRECT("'"&J$3&"'!B93")=0,"",INDIRECT("'"&J$3&"'!B93")) | K60: =IF(INDIRECT("'"&K$3&"'!B93")=0,"",INDIRECT("'"&K$3&"'!B93")) | L60: =IF(INDIRECT("'"&L$3&"'!B93")=0,"",INDIRECT("'"&L$3&"'!B93")) | M60: =IF(INDIRECT("'"&M$3&"'!B93")=0,"",INDIRECT("'"&M$3&"'!B93")) | N60: =IF(INDIRECT("'"&N$3&"'!B93")=0,"",INDIRECT("'"&N$3&"'!B93")) | O60: =IF(INDIRECT("'"&O$3&"'!B93")=0,"",INDIRECT("'"&O$3&"'!B93")) | P60: =IF(INDIRECT("'"&P$3&"'!B93")=0,"",INDIRECT("'"&P$3&"'!B93")) | ... W60: =IF(INDIRECT("'"&W$3&"'!B93")=0,"",INDIRECT("'"&W$3&"'!B93"))
A61: 107 | B61: =IF(SUM($I$61:$W$61)=0,"",SUM($I$61:$W$61)) | C61: Ribbenbuiskachel | D61: Mecha Heat | E61: type CB1875 1875 Watt | I61: =IF(INDIRECT("'"&I$3&"'!B96")=0,"",INDIRECT("'"&I$3&"'!B96")) | J61: =IF(INDIRECT("'"&J$3&"'!B96")=0,"",INDIRECT("'"&J$3&"'!B96")) | K61: =IF(INDIRECT("'"&K$3&"'!B96")=0,"",INDIRECT("'"&K$3&"'!B96")) | L61: =IF(INDIRECT("'"&L$3&"'!B96")=0,"",INDIRECT("'"&L$3&"'!B96")) | M61: =IF(INDIRECT("'"&M$3&"'!B96")=0,"",INDIRECT("'"&M$3&"'!B96")) | N61: =IF(INDIRECT("'"&N$3&"'!B96")=0,"",INDIRECT("'"&N$3&"'!B96")) | O61: =IF(INDIRECT("'"&O$3&"'!B96")=0,"",INDIRECT("'"&O$3&"'!B96")) | P61: =IF(INDIRECT("'"&P$3&"'!B96")=0,"",INDIRECT("'"&P$3&"'!B96")) | ... W61: =IF(INDIRECT("'"&W$3&"'!B96")=0,"",INDIRECT("'"&W$3&"'!B96"))
A62: 108 | B62: =IF(SUM($I$62:$W$62)=0,"",SUM($I$62:$W$62)) | C62: Ribbenbuiskachel | D62: Mecha Heat | E62: type CB2500 2500 Watt | I62: =IF(INDIRECT("'"&I$3&"'!B97")=0,"",INDIRECT("'"&I$3&"'!B97")) | J62: =IF(INDIRECT("'"&J$3&"'!B97")=0,"",INDIRECT("'"&J$3&"'!B97")) | K62: =IF(INDIRECT("'"&K$3&"'!B97")=0,"",INDIRECT("'"&K$3&"'!B97")) | L62: =IF(INDIRECT("'"&L$3&"'!B97")=0,"",INDIRECT("'"&L$3&"'!B97")) | M62: =IF(INDIRECT("'"&M$3&"'!B97")=0,"",INDIRECT("'"&M$3&"'!B97")) | N62: =IF(INDIRECT("'"&N$3&"'!B97")=0,"",INDIRECT("'"&N$3&"'!B97")) | O62: =IF(INDIRECT("'"&O$3&"'!B97")=0,"",INDIRECT("'"&O$3&"'!B97")) | P62: =IF(INDIRECT("'"&P$3&"'!B97")=0,"",INDIRECT("'"&P$3&"'!B97")) | ... W62: =IF(INDIRECT("'"&W$3&"'!B97")=0,"",INDIRECT("'"&W$3&"'!B97"))
A63: 109 | B63: =IF(SUM($I$63:$W$63)=0,"",SUM($I$63:$W$63)) | C63: Stralingspaneel | D63: Enco | E63: type 4-pijps Afmeting 3000 x 925 | I63: =IF(INDIRECT("'"&I$3&"'!B98")=0,"",INDIRECT("'"&I$3&"'!B98")) | J63: =IF(INDIRECT("'"&J$3&"'!B98")=0,"",INDIRECT("'"&J$3&"'!B98")) | K63: =IF(INDIRECT("'"&K$3&"'!B98")=0,"",INDIRECT("'"&K$3&"'!B98")) | L63: =IF(INDIRECT("'"&L$3&"'!B98")=0,"",INDIRECT("'"&L$3&"'!B98")) | M63: =IF(INDIRECT("'"&M$3&"'!B98")=0,"",INDIRECT("'"&M$3&"'!B98")) | N63: =IF(INDIRECT("'"&N$3&"'!B98")=0,"",INDIRECT("'"&N$3&"'!B98")) | O63: =IF(INDIRECT("'"&O$3&"'!B98")=0,"",INDIRECT("'"&O$3&"'!B98")) | P63: =IF(INDIRECT("'"&P$3&"'!B98")=0,"",INDIRECT("'"&P$3&"'!B98")) | ... W63: =IF(INDIRECT("'"&W$3&"'!B98")=0,"",INDIRECT("'"&W$3&"'!B98"))
A64: 110 | B64: =IF(SUM($I$64:$W$64)=0,"",SUM($I$64:$W$64)) | C64: Stralingspaneel | D64: Enco | E64: type 4-pijps Afmeting 2500 x 925 | I64: =IF(INDIRECT("'"&I$3&"'!B99")=0,"",INDIRECT("'"&I$3&"'!B99")) | J64: =IF(INDIRECT("'"&J$3&"'!B99")=0,"",INDIRECT("'"&J$3&"'!B99")) | K64: =IF(INDIRECT("'"&K$3&"'!B99")=0,"",INDIRECT("'"&K$3&"'!B99")) | L64: =IF(INDIRECT("'"&L$3&"'!B99")=0,"",INDIRECT("'"&L$3&"'!B99")) | M64: =IF(INDIRECT("'"&M$3&"'!B99")=0,"",INDIRECT("'"&M$3&"'!B99")) | N64: =IF(INDIRECT("'"&N$3&"'!B99")=0,"",INDIRECT("'"&N$3&"'!B99")) | O64: =IF(INDIRECT("'"&O$3&"'!B99")=0,"",INDIRECT("'"&O$3&"'!B99")) | P64: =IF(INDIRECT("'"&P$3&"'!B99")=0,"",INDIRECT("'"&P$3&"'!B99")) | ... W64: =IF(INDIRECT("'"&W$3&"'!B99")=0,"",INDIRECT("'"&W$3&"'!B99"))
A65: 121 | B65: =IF(SUM($I$65:$W$65)=0,"",SUM($I$65:$W$65)) -> 1 | C65: Luchtverhitter | D65: Mark Klimaattechniek | E65: type MDA 223L, P=11,8 kW+voorzetraam met vertikale schoepen | F65: Heater expeditie B-17 | I65: =IF(INDIRECT("'"&I$3&"'!B110")=0,"",INDIRECT("'"&I$3&"'!B110")) | J65: =IF(INDIRECT("'"&J$3&"'!B110")=0,"",INDIRECT("'"&J$3&"'!B110")) | K65: =IF(INDIRECT("'"&K$3&"'!B110")=0,"",INDIRECT("'"&K$3&"'!B110")) | L65: =IF(INDIRECT("'"&L$3&"'!B110")=0,"",INDIRECT("'"&L$3&"'!B110")) -> 1 | M65: =IF(INDIRECT("'"&M$3&"'!B110")=0,"",INDIRECT("'"&M$3&"'!B110")) | N65: =IF(INDIRECT("'"&N$3&"'!B110")=0,"",INDIRECT("'"&N$3&"'!B110")) | O65: =IF(INDIRECT("'"&O$3&"'!B110")=0,"",INDIRECT("'"&O$3&"'!B110")) | P65: =IF(INDIRECT("'"&P$3&"'!B110")=0,"",INDIRECT("'"&P$3&"'!B110")) | ... W65: =IF(INDIRECT("'"&W$3&"'!B110")=0,"",INDIRECT("'"&W$3&"'!B110"))
A66: 122 | B66: =IF(SUM($I$66:$W$66)=0,"",SUM($I$66:$W$66)) | C66: Verwarmingsplaat elektrisch | D66: Mecha Heat | E66: type afm. 1000x200 inkl. Thermostaat | I66: =IF(INDIRECT("'"&I$3&"'!B111")=0,"",INDIRECT("'"&I$3&"'!B111")) | J66: =IF(INDIRECT("'"&J$3&"'!B111")=0,"",INDIRECT("'"&J$3&"'!B111")) | K66: =IF(INDIRECT("'"&K$3&"'!B111")=0,"",INDIRECT("'"&K$3&"'!B111")) | L66: =IF(INDIRECT("'"&L$3&"'!B111")=0,"",INDIRECT("'"&L$3&"'!B111")) | M66: =IF(INDIRECT("'"&M$3&"'!B111")=0,"",INDIRECT("'"&M$3&"'!B111")) | N66: =IF(INDIRECT("'"&N$3&"'!B111")=0,"",INDIRECT("'"&N$3&"'!B111")) | O66: =IF(INDIRECT("'"&O$3&"'!B111")=0,"",INDIRECT("'"&O$3&"'!B111")) | P66: =IF(INDIRECT("'"&P$3&"'!B111")=0,"",INDIRECT("'"&P$3&"'!B111")) | ... W66: =IF(INDIRECT("'"&W$3&"'!B111")=0,"",INDIRECT("'"&W$3&"'!B111"))
A67: 124 | B67: =IF(SUM($I$67:$W$67)=0,"",SUM($I$67:$W$67)) -> 1 | C67: CV-Ketel | D67: Nefit | E67: Ketel Netfit Topline HR 100 voorzien van EM10 Module | I67: =IF(INDIRECT("'"&I$3&"'!B113")=0,"",INDIRECT("'"&I$3&"'!B113")) | J67: =IF(INDIRECT("'"&J$3&"'!B113")=0,"",INDIRECT("'"&J$3&"'!B113")) -> 1 | K67: =IF(INDIRECT("'"&K$3&"'!B113")=0,"",INDIRECT("'"&K$3&"'!B113")) | L67: =IF(INDIRECT("'"&L$3&"'!B113")=0,"",INDIRECT("'"&L$3&"'!B113")) | M67: =IF(INDIRECT("'"&M$3&"'!B113")=0,"",INDIRECT("'"&M$3&"'!B113")) | N67: =IF(INDIRECT("'"&N$3&"'!B113")=0,"",INDIRECT("'"&N$3&"'!B113")) | O67: =IF(INDIRECT("'"&O$3&"'!B113")=0,"",INDIRECT("'"&O$3&"'!B113")) | P67: =IF(INDIRECT("'"&P$3&"'!B113")=0,"",INDIRECT("'"&P$3&"'!B113")) | ... W67: =IF(INDIRECT("'"&W$3&"'!B113")=0,"",INDIRECT("'"&W$3&"'!B113"))
A68: 159 | B68: =IF(SUM($I$68:$W$68)=0,"",SUM($I$68:$W$68)) -> 2 | C68: Koelmachine/Warmtepomp | D68: Carrier | E68: 30RW245 koeling 185 kW, verwarming 268 kW | I68: =IF(INDIRECT("'"&I$3&"'!B148")=0,"",INDIRECT("'"&I$3&"'!B148")) | J68: =IF(INDIRECT("'"&J$3&"'!B148")=0,"",INDIRECT("'"&J$3&"'!B148")) -> 2 | K68: =IF(INDIRECT("'"&K$3&"'!B148")=0,"",INDIRECT("'"&K$3&"'!B148")) | L68: =IF(INDIRECT("'"&L$3&"'!B148")=0,"",INDIRECT("'"&L$3&"'!B148")) | M68: =IF(INDIRECT("'"&M$3&"'!B148")=0,"",INDIRECT("'"&M$3&"'!B148")) | N68: =IF(INDIRECT("'"&N$3&"'!B148")=0,"",INDIRECT("'"&N$3&"'!B148")) | O68: =IF(INDIRECT("'"&O$3&"'!B148")=0,"",INDIRECT("'"&O$3&"'!B148")) | P68: =IF(INDIRECT("'"&P$3&"'!B148")=0,"",INDIRECT("'"&P$3&"'!B148")) | ... W68: =IF(INDIRECT("'"&W$3&"'!B148")=0,"",INDIRECT("'"&W$3&"'!B148"))
A69: 160 | B69: =IF(SUM($I$69:$W$69)=0,"",SUM($I$69:$W$69)) | E69: Gekoeldwatertraject zomer/winter: 9-3 °C 10-4 °C | I69: =IF(INDIRECT("'"&I$3&"'!B149")=0,"",INDIRECT("'"&I$3&"'!B149")) | J69: =IF(INDIRECT("'"&J$3&"'!B149")=0,"",INDIRECT("'"&J$3&"'!B149")) | K69: =IF(INDIRECT("'"&K$3&"'!B149")=0,"",INDIRECT("'"&K$3&"'!B149")) | L69: =IF(INDIRECT("'"&L$3&"'!B149")=0,"",INDIRECT("'"&L$3&"'!B149")) | M69: =IF(INDIRECT("'"&M$3&"'!B149")=0,"",INDIRECT("'"&M$3&"'!B149")) | N69: =IF(INDIRECT("'"&N$3&"'!B149")=0,"",INDIRECT("'"&N$3&"'!B149")) | O69: =IF(INDIRECT("'"&O$3&"'!B149")=0,"",INDIRECT("'"&O$3&"'!B149")) | P69: =IF(INDIRECT("'"&P$3&"'!B149")=0,"",INDIRECT("'"&P$3&"'!B149")) | ... W69: =IF(INDIRECT("'"&W$3&"'!B149")=0,"",INDIRECT("'"&W$3&"'!B149"))
A70: 161 | B70: =IF(SUM($I$70:$W$70)=0,"",SUM($I$70:$W$70)) | E70: Warmwatertraject zomer/winter: 42-48 °C 37,7-44 °C | I70: =IF(INDIRECT("'"&I$3&"'!B150")=0,"",INDIRECT("'"&I$3&"'!B150")) | J70: =IF(INDIRECT("'"&J$3&"'!B150")=0,"",INDIRECT("'"&J$3&"'!B150")) | K70: =IF(INDIRECT("'"&K$3&"'!B150")=0,"",INDIRECT("'"&K$3&"'!B150")) | L70: =IF(INDIRECT("'"&L$3&"'!B150")=0,"",INDIRECT("'"&L$3&"'!B150")) | M70: =IF(INDIRECT("'"&M$3&"'!B150")=0,"",INDIRECT("'"&M$3&"'!B150")) | N70: =IF(INDIRECT("'"&N$3&"'!B150")=0,"",INDIRECT("'"&N$3&"'!B150")) | O70: =IF(INDIRECT("'"&O$3&"'!B150")=0,"",INDIRECT("'"&O$3&"'!B150")) | P70: =IF(INDIRECT("'"&P$3&"'!B150")=0,"",INDIRECT("'"&P$3&"'!B150")) | ... W70: =IF(INDIRECT("'"&W$3&"'!B150")=0,"",INDIRECT("'"&W$3&"'!B150"))
A71: 164 | B71: =IF(SUM($I$71:$W$71)=0,"",SUM($I$71:$W$71)) -> 3 | C71: ExpansieAutomaat | D71: Flamco | E71: Flamco Flexcon M-K/C 110L 6Bar 23225 | I71: =IF(INDIRECT("'"&I$3&"'!B153")=0,"",INDIRECT("'"&I$3&"'!B153")) -> 1 | J71: =IF(INDIRECT("'"&J$3&"'!B153")=0,"",INDIRECT("'"&J$3&"'!B153")) -> 2 | K71: =IF(INDIRECT("'"&K$3&"'!B153")=0,"",INDIRECT("'"&K$3&"'!B153")) | L71: =IF(INDIRECT("'"&L$3&"'!B153")=0,"",INDIRECT("'"&L$3&"'!B153")) | M71: =IF(INDIRECT("'"&M$3&"'!B153")=0,"",INDIRECT("'"&M$3&"'!B153")) | N71: =IF(INDIRECT("'"&N$3&"'!B153")=0,"",INDIRECT("'"&N$3&"'!B153")) | O71: =IF(INDIRECT("'"&O$3&"'!B153")=0,"",INDIRECT("'"&O$3&"'!B153")) | P71: =IF(INDIRECT("'"&P$3&"'!B153")=0,"",INDIRECT("'"&P$3&"'!B153")) | ... W71: =IF(INDIRECT("'"&W$3&"'!B153")=0,"",INDIRECT("'"&W$3&"'!B153"))
A72: 165 | B72: =IF(SUM($I$72:$W$72)=0,"",SUM($I$72:$W$72)) | C72: Expansievat | D72: Flamco | E72: Flexcon 18/0,5 3 bar ¾" | F72: TU2121036 | I72: =IF(INDIRECT("'"&I$3&"'!B154")=0,"",INDIRECT("'"&I$3&"'!B154")) | J72: =IF(INDIRECT("'"&J$3&"'!B154")=0,"",INDIRECT("'"&J$3&"'!B154")) | K72: =IF(INDIRECT("'"&K$3&"'!B154")=0,"",INDIRECT("'"&K$3&"'!B154")) | L72: =IF(INDIRECT("'"&L$3&"'!B154")=0,"",INDIRECT("'"&L$3&"'!B154")) | M72: =IF(INDIRECT("'"&M$3&"'!B154")=0,"",INDIRECT("'"&M$3&"'!B154")) | N72: =IF(INDIRECT("'"&N$3&"'!B154")=0,"",INDIRECT("'"&N$3&"'!B154")) | O72: =IF(INDIRECT("'"&O$3&"'!B154")=0,"",INDIRECT("'"&O$3&"'!B154")) | P72: =IF(INDIRECT("'"&P$3&"'!B154")=0,"",INDIRECT("'"&P$3&"'!B154")) | ... W72: =IF(INDIRECT("'"&W$3&"'!B154")=0,"",INDIRECT("'"&W$3&"'!B154"))
A73: 166 | B73: =IF(SUM($I$73:$W$73)=0,"",SUM($I$73:$W$73)) | C73: Expansievat | D73: Flamco | E73: Flexcon 35/0,5 3 bar ¾" | F73: TU1800093 | I73: =IF(INDIRECT("'"&I$3&"'!B155")=0,"",INDIRECT("'"&I$3&"'!B155")) | J73: =IF(INDIRECT("'"&J$3&"'!B155")=0,"",INDIRECT("'"&J$3&"'!B155")) | K73: =IF(INDIRECT("'"&K$3&"'!B155")=0,"",INDIRECT("'"&K$3&"'!B155")) | L73: =IF(INDIRECT("'"&L$3&"'!B155")=0,"",INDIRECT("'"&L$3&"'!B155")) | M73: =IF(INDIRECT("'"&M$3&"'!B155")=0,"",INDIRECT("'"&M$3&"'!B155")) | N73: =IF(INDIRECT("'"&N$3&"'!B155")=0,"",INDIRECT("'"&N$3&"'!B155")) | O73: =IF(INDIRECT("'"&O$3&"'!B155")=0,"",INDIRECT("'"&O$3&"'!B155")) | P73: =IF(INDIRECT("'"&P$3&"'!B155")=0,"",INDIRECT("'"&P$3&"'!B155")) | ... W73: =IF(INDIRECT("'"&W$3&"'!B155")=0,"",INDIRECT("'"&W$3&"'!B155"))
A74: 167 | B74: =IF(SUM($I$74:$W$74)=0,"",SUM($I$74:$W$74)) | C74: Expansievat | D74: Flamco | E74: Flexcon 80/0,5 3 bar ¾" | F74: TU6535405 | I74: =IF(INDIRECT("'"&I$3&"'!B156")=0,"",INDIRECT("'"&I$3&"'!B156")) | J74: =IF(INDIRECT("'"&J$3&"'!B156")=0,"",INDIRECT("'"&J$3&"'!B156")) | K74: =IF(INDIRECT("'"&K$3&"'!B156")=0,"",INDIRECT("'"&K$3&"'!B156")) | L74: =IF(INDIRECT("'"&L$3&"'!B156")=0,"",INDIRECT("'"&L$3&"'!B156")) | M74: =IF(INDIRECT("'"&M$3&"'!B156")=0,"",INDIRECT("'"&M$3&"'!B156")) | N74: =IF(INDIRECT("'"&N$3&"'!B156")=0,"",INDIRECT("'"&N$3&"'!B156")) | O74: =IF(INDIRECT("'"&O$3&"'!B156")=0,"",INDIRECT("'"&O$3&"'!B156")) | P74: =IF(INDIRECT("'"&P$3&"'!B156")=0,"",INDIRECT("'"&P$3&"'!B156")) | ... W74: =IF(INDIRECT("'"&W$3&"'!B156")=0,"",INDIRECT("'"&W$3&"'!B156"))
A75: 168 | B75: =IF(SUM($I$75:$W$75)=0,"",SUM($I$75:$W$75)) | C75: Expansievat | D75: Flamco | E75: Flexcon 110/0,5 3 bar 1" | F75: TU6535454 | I75: =IF(INDIRECT("'"&I$3&"'!B157")=0,"",INDIRECT("'"&I$3&"'!B157")) | J75: =IF(INDIRECT("'"&J$3&"'!B157")=0,"",INDIRECT("'"&J$3&"'!B157")) | K75: =IF(INDIRECT("'"&K$3&"'!B157")=0,"",INDIRECT("'"&K$3&"'!B157")) | L75: =IF(INDIRECT("'"&L$3&"'!B157")=0,"",INDIRECT("'"&L$3&"'!B157")) | M75: =IF(INDIRECT("'"&M$3&"'!B157")=0,"",INDIRECT("'"&M$3&"'!B157")) | N75: =IF(INDIRECT("'"&N$3&"'!B157")=0,"",INDIRECT("'"&N$3&"'!B157")) | O75: =IF(INDIRECT("'"&O$3&"'!B157")=0,"",INDIRECT("'"&O$3&"'!B157")) | P75: =IF(INDIRECT("'"&P$3&"'!B157")=0,"",INDIRECT("'"&P$3&"'!B157")) | ... W75: =IF(INDIRECT("'"&W$3&"'!B157")=0,"",INDIRECT("'"&W$3&"'!B157"))
A76: 169 | B76: =IF(SUM($I$76:$W$76)=0,"",SUM($I$76:$W$76)) | C76: Expansievat | D76: Flamco | E76: Flexcon 140/0,5 3 bar 1" | F76: TU6535421 | I76: =IF(INDIRECT("'"&I$3&"'!B158")=0,"",INDIRECT("'"&I$3&"'!B158")) | J76: =IF(INDIRECT("'"&J$3&"'!B158")=0,"",INDIRECT("'"&J$3&"'!B158")) | K76: =IF(INDIRECT("'"&K$3&"'!B158")=0,"",INDIRECT("'"&K$3&"'!B158")) | L76: =IF(INDIRECT("'"&L$3&"'!B158")=0,"",INDIRECT("'"&L$3&"'!B158")) | M76: =IF(INDIRECT("'"&M$3&"'!B158")=0,"",INDIRECT("'"&M$3&"'!B158")) | N76: =IF(INDIRECT("'"&N$3&"'!B158")=0,"",INDIRECT("'"&N$3&"'!B158")) | O76: =IF(INDIRECT("'"&O$3&"'!B158")=0,"",INDIRECT("'"&O$3&"'!B158")) | P76: =IF(INDIRECT("'"&P$3&"'!B158")=0,"",INDIRECT("'"&P$3&"'!B158")) | ... W76: =IF(INDIRECT("'"&W$3&"'!B158")=0,"",INDIRECT("'"&W$3&"'!B158"))
A77: 170 | B77: =IF(SUM($I$77:$W$77)=0,"",SUM($I$77:$W$77)) -> 2 | C77: Expansievat | D77: Flamco | E77: Flexcon 12/0,5 3 bar 1/2" | I77: =IF(INDIRECT("'"&I$3&"'!B159")=0,"",INDIRECT("'"&I$3&"'!B159")) | J77: =IF(INDIRECT("'"&J$3&"'!B159")=0,"",INDIRECT("'"&J$3&"'!B159")) -> 2 | K77: =IF(INDIRECT("'"&K$3&"'!B159")=0,"",INDIRECT("'"&K$3&"'!B159")) | L77: =IF(INDIRECT("'"&L$3&"'!B159")=0,"",INDIRECT("'"&L$3&"'!B159")) | M77: =IF(INDIRECT("'"&M$3&"'!B159")=0,"",INDIRECT("'"&M$3&"'!B159")) | N77: =IF(INDIRECT("'"&N$3&"'!B159")=0,"",INDIRECT("'"&N$3&"'!B159")) | O77: =IF(INDIRECT("'"&O$3&"'!B159")=0,"",INDIRECT("'"&O$3&"'!B159")) | P77: =IF(INDIRECT("'"&P$3&"'!B159")=0,"",INDIRECT("'"&P$3&"'!B159")) | ... W77: =IF(INDIRECT("'"&W$3&"'!B159")=0,"",INDIRECT("'"&W$3&"'!B159"))
A78: 171 | B78: =IF(SUM($I$78:$W$78)=0,"",SUM($I$78:$W$78)) -> 2 | C78: Expansievat | D78: Flamco | E78: Flexcon 25/0,5 3 bar ¾" | I78: =IF(INDIRECT("'"&I$3&"'!B160")=0,"",INDIRECT("'"&I$3&"'!B160")) | J78: =IF(INDIRECT("'"&J$3&"'!B160")=0,"",INDIRECT("'"&J$3&"'!B160")) -> 2 | K78: =IF(INDIRECT("'"&K$3&"'!B160")=0,"",INDIRECT("'"&K$3&"'!B160")) | L78: =IF(INDIRECT("'"&L$3&"'!B160")=0,"",INDIRECT("'"&L$3&"'!B160")) | M78: =IF(INDIRECT("'"&M$3&"'!B160")=0,"",INDIRECT("'"&M$3&"'!B160")) | N78: =IF(INDIRECT("'"&N$3&"'!B160")=0,"",INDIRECT("'"&N$3&"'!B160")) | O78: =IF(INDIRECT("'"&O$3&"'!B160")=0,"",INDIRECT("'"&O$3&"'!B160")) | P78: =IF(INDIRECT("'"&P$3&"'!B160")=0,"",INDIRECT("'"&P$3&"'!B160")) | ... W78: =IF(INDIRECT("'"&W$3&"'!B160")=0,"",INDIRECT("'"&W$3&"'!B160"))
A79: 172 | B79: =IF(SUM($I$79:$W$79)=0,"",SUM($I$79:$W$79)) -> 1 | C79: Expansievat | D79: Flamco | E79: Flexcon 50/0,5 3 bar ¾" | I79: =IF(INDIRECT("'"&I$3&"'!B161")=0,"",INDIRECT("'"&I$3&"'!B161")) | J79: =IF(INDIRECT("'"&J$3&"'!B161")=0,"",INDIRECT("'"&J$3&"'!B161")) -> 1 | K79: =IF(INDIRECT("'"&K$3&"'!B161")=0,"",INDIRECT("'"&K$3&"'!B161")) | L79: =IF(INDIRECT("'"&L$3&"'!B161")=0,"",INDIRECT("'"&L$3&"'!B161")) | M79: =IF(INDIRECT("'"&M$3&"'!B161")=0,"",INDIRECT("'"&M$3&"'!B161")) | N79: =IF(INDIRECT("'"&N$3&"'!B161")=0,"",INDIRECT("'"&N$3&"'!B161")) | O79: =IF(INDIRECT("'"&O$3&"'!B161")=0,"",INDIRECT("'"&O$3&"'!B161")) | P79: =IF(INDIRECT("'"&P$3&"'!B161")=0,"",INDIRECT("'"&P$3&"'!B161")) | ... W79: =IF(INDIRECT("'"&W$3&"'!B161")=0,"",INDIRECT("'"&W$3&"'!B161"))
A80: 173 | B80: =IF(SUM($I$80:$W$80)=0,"",SUM($I$80:$W$80)) | C80: Expansievat | D80: Flamco | I80: =IF(INDIRECT("'"&I$3&"'!B162")=0,"",INDIRECT("'"&I$3&"'!B162")) | J80: =IF(INDIRECT("'"&J$3&"'!B162")=0,"",INDIRECT("'"&J$3&"'!B162")) | K80: =IF(INDIRECT("'"&K$3&"'!B162")=0,"",INDIRECT("'"&K$3&"'!B162")) | L80: =IF(INDIRECT("'"&L$3&"'!B162")=0,"",INDIRECT("'"&L$3&"'!B162")) | M80: =IF(INDIRECT("'"&M$3&"'!B162")=0,"",INDIRECT("'"&M$3&"'!B162")) | N80: =IF(INDIRECT("'"&N$3&"'!B162")=0,"",INDIRECT("'"&N$3&"'!B162")) | O80: =IF(INDIRECT("'"&O$3&"'!B162")=0,"",INDIRECT("'"&O$3&"'!B162")) | P80: =IF(INDIRECT("'"&P$3&"'!B162")=0,"",INDIRECT("'"&P$3&"'!B162")) | ... W80: =IF(INDIRECT("'"&W$3&"'!B162")=0,"",INDIRECT("'"&W$3&"'!B162"))
A81: 174 | B81: =IF(SUM($I$81:$W$81)=0,"",SUM($I$81:$W$81)) | C81: Expansievat | D81: Flamco | I81: =IF(INDIRECT("'"&I$3&"'!B163")=0,"",INDIRECT("'"&I$3&"'!B163")) | J81: =IF(INDIRECT("'"&J$3&"'!B163")=0,"",INDIRECT("'"&J$3&"'!B163")) | K81: =IF(INDIRECT("'"&K$3&"'!B163")=0,"",INDIRECT("'"&K$3&"'!B163")) | L81: =IF(INDIRECT("'"&L$3&"'!B163")=0,"",INDIRECT("'"&L$3&"'!B163")) | M81: =IF(INDIRECT("'"&M$3&"'!B163")=0,"",INDIRECT("'"&M$3&"'!B163")) | N81: =IF(INDIRECT("'"&N$3&"'!B163")=0,"",INDIRECT("'"&N$3&"'!B163")) | O81: =IF(INDIRECT("'"&O$3&"'!B163")=0,"",INDIRECT("'"&O$3&"'!B163")) | P81: =IF(INDIRECT("'"&P$3&"'!B163")=0,"",INDIRECT("'"&P$3&"'!B163")) | ... W81: =IF(INDIRECT("'"&W$3&"'!B163")=0,"",INDIRECT("'"&W$3&"'!B163"))
A82: 175 | B82: =IF(SUM($I$82:$W$82)=0,"",SUM($I$82:$W$82)) | C82: Expansievat | D82: Flamco | I82: =IF(INDIRECT("'"&I$3&"'!B164")=0,"",INDIRECT("'"&I$3&"'!B164")) | J82: =IF(INDIRECT("'"&J$3&"'!B164")=0,"",INDIRECT("'"&J$3&"'!B164")) | K82: =IF(INDIRECT("'"&K$3&"'!B164")=0,"",INDIRECT("'"&K$3&"'!B164")) | L82: =IF(INDIRECT("'"&L$3&"'!B164")=0,"",INDIRECT("'"&L$3&"'!B164")) | M82: =IF(INDIRECT("'"&M$3&"'!B164")=0,"",INDIRECT("'"&M$3&"'!B164")) | N82: =IF(INDIRECT("'"&N$3&"'!B164")=0,"",INDIRECT("'"&N$3&"'!B164")) | O82: =IF(INDIRECT("'"&O$3&"'!B164")=0,"",INDIRECT("'"&O$3&"'!B164")) | P82: =IF(INDIRECT("'"&P$3&"'!B164")=0,"",INDIRECT("'"&P$3&"'!B164")) | ... W82: =IF(INDIRECT("'"&W$3&"'!B164")=0,"",INDIRECT("'"&W$3&"'!B164"))
A83: 176 | B83: =IF(SUM($I$83:$W$83)=0,"",SUM($I$83:$W$83)) -> 2 | C83: Aansluitconsole t.bv. Expansievat | D83: Flamco | E83: Figuur 27910 Flexconsole 8 t/m 25 | F83: TU6535363 | I83: =IF(INDIRECT("'"&I$3&"'!B165")=0,"",INDIRECT("'"&I$3&"'!B165")) | J83: =IF(INDIRECT("'"&J$3&"'!B165")=0,"",INDIRECT("'"&J$3&"'!B165")) -> 2 | K83: =IF(INDIRECT("'"&K$3&"'!B165")=0,"",INDIRECT("'"&K$3&"'!B165")) | L83: =IF(INDIRECT("'"&L$3&"'!B165")=0,"",INDIRECT("'"&L$3&"'!B165")) | M83: =IF(INDIRECT("'"&M$3&"'!B165")=0,"",INDIRECT("'"&M$3&"'!B165")) | N83: =IF(INDIRECT("'"&N$3&"'!B165")=0,"",INDIRECT("'"&N$3&"'!B165")) | O83: =IF(INDIRECT("'"&O$3&"'!B165")=0,"",INDIRECT("'"&O$3&"'!B165")) | P83: =IF(INDIRECT("'"&P$3&"'!B165")=0,"",INDIRECT("'"&P$3&"'!B165")) | ... W83: =IF(INDIRECT("'"&W$3&"'!B165")=0,"",INDIRECT("'"&W$3&"'!B165"))
A84: 177 | B84: =IF(SUM($I$84:$W$84)=0,"",SUM($I$84:$W$84)) -> 3 | C84: Aansluitgroep met manometer | D84: Flamco | E84: Figuur 27290 ½" × 12mm | F84: TU1783737 | I84: =IF(INDIRECT("'"&I$3&"'!B166")=0,"",INDIRECT("'"&I$3&"'!B166")) -> 1 | J84: =IF(INDIRECT("'"&J$3&"'!B166")=0,"",INDIRECT("'"&J$3&"'!B166")) -> 2 | K84: =IF(INDIRECT("'"&K$3&"'!B166")=0,"",INDIRECT("'"&K$3&"'!B166")) | L84: =IF(INDIRECT("'"&L$3&"'!B166")=0,"",INDIRECT("'"&L$3&"'!B166")) | M84: =IF(INDIRECT("'"&M$3&"'!B166")=0,"",INDIRECT("'"&M$3&"'!B166")) | N84: =IF(INDIRECT("'"&N$3&"'!B166")=0,"",INDIRECT("'"&N$3&"'!B166")) | O84: =IF(INDIRECT("'"&O$3&"'!B166")=0,"",INDIRECT("'"&O$3&"'!B166")) | P84: =IF(INDIRECT("'"&P$3&"'!B166")=0,"",INDIRECT("'"&P$3&"'!B166")) | ... W84: =IF(INDIRECT("'"&W$3&"'!B166")=0,"",INDIRECT("'"&W$3&"'!B166"))
A85: 178 | B85: =IF(SUM($I$85:$W$85)=0,"",SUM($I$85:$W$85)) -> 2 | C85: Aansluitgroep met manometer | D85: Flamco | E85: AANSL. 1" | I85: =IF(INDIRECT("'"&I$3&"'!B167")=0,"",INDIRECT("'"&I$3&"'!B167")) | J85: =IF(INDIRECT("'"&J$3&"'!B167")=0,"",INDIRECT("'"&J$3&"'!B167")) -> 2 | K85: =IF(INDIRECT("'"&K$3&"'!B167")=0,"",INDIRECT("'"&K$3&"'!B167")) | L85: =IF(INDIRECT("'"&L$3&"'!B167")=0,"",INDIRECT("'"&L$3&"'!B167")) | M85: =IF(INDIRECT("'"&M$3&"'!B167")=0,"",INDIRECT("'"&M$3&"'!B167")) | N85: =IF(INDIRECT("'"&N$3&"'!B167")=0,"",INDIRECT("'"&N$3&"'!B167")) | O85: =IF(INDIRECT("'"&O$3&"'!B167")=0,"",INDIRECT("'"&O$3&"'!B167")) | P85: =IF(INDIRECT("'"&P$3&"'!B167")=0,"",INDIRECT("'"&P$3&"'!B167")) | ... W85: =IF(INDIRECT("'"&W$3&"'!B167")=0,"",INDIRECT("'"&W$3&"'!B167"))
A86: 179 | B86: =IF(SUM($I$86:$W$86)=0,"",SUM($I$86:$W$86)) -> 1 | C86: Luchtafscheider | D86: Flamco | E86: type: Flamcovent, messing 1 1/2" binnendraad | I86: =IF(INDIRECT("'"&I$3&"'!B168")=0,"",INDIRECT("'"&I$3&"'!B168")) | J86: =IF(INDIRECT("'"&J$3&"'!B168")=0,"",INDIRECT("'"&J$3&"'!B168")) -> 1 | K86: =IF(INDIRECT("'"&K$3&"'!B168")=0,"",INDIRECT("'"&K$3&"'!B168")) | L86: =IF(INDIRECT("'"&L$3&"'!B168")=0,"",INDIRECT("'"&L$3&"'!B168")) | M86: =IF(INDIRECT("'"&M$3&"'!B168")=0,"",INDIRECT("'"&M$3&"'!B168")) | N86: =IF(INDIRECT("'"&N$3&"'!B168")=0,"",INDIRECT("'"&N$3&"'!B168")) | O86: =IF(INDIRECT("'"&O$3&"'!B168")=0,"",INDIRECT("'"&O$3&"'!B168")) | P86: =IF(INDIRECT("'"&P$3&"'!B168")=0,"",INDIRECT("'"&P$3&"'!B168")) | ... W86: =IF(INDIRECT("'"&W$3&"'!B168")=0,"",INDIRECT("'"&W$3&"'!B168"))
A87: 187 | B87: =IF(SUM($I$87:$W$87)=0,"",SUM($I$87:$W$87)) -> 1 | C87: Circulatiepomp | D87: Wilo | E87: TOP-S 80/10 DM PN6 3~400 Volt 50Hz (Warmtepomp cond. 1) | F87: CP-1 | I87: =IF(INDIRECT("'"&I$3&"'!B176")=0,"",INDIRECT("'"&I$3&"'!B176")) | J87: =IF(INDIRECT("'"&J$3&"'!B176")=0,"",INDIRECT("'"&J$3&"'!B176")) -> 1 | K87: =IF(INDIRECT("'"&K$3&"'!B176")=0,"",INDIRECT("'"&K$3&"'!B176")) | L87: =IF(INDIRECT("'"&L$3&"'!B176")=0,"",INDIRECT("'"&L$3&"'!B176")) | M87: =IF(INDIRECT("'"&M$3&"'!B176")=0,"",INDIRECT("'"&M$3&"'!B176")) | N87: =IF(INDIRECT("'"&N$3&"'!B176")=0,"",INDIRECT("'"&N$3&"'!B176")) | O87: =IF(INDIRECT("'"&O$3&"'!B176")=0,"",INDIRECT("'"&O$3&"'!B176")) | P87: =IF(INDIRECT("'"&P$3&"'!B176")=0,"",INDIRECT("'"&P$3&"'!B176")) | ... W87: =IF(INDIRECT("'"&W$3&"'!B176")=0,"",INDIRECT("'"&W$3&"'!B176"))
A88: 188 | B88: =IF(SUM($I$88:$W$88)=0,"",SUM($I$88:$W$88)) -> 1 | C88: Circulatiepomp | D88: Wilo | E88: TOP-S 80/10 DM PN6 3~400 Volt 50Hz (Warmtepomp cond. 2) | F88: CP-2 | I88: =IF(INDIRECT("'"&I$3&"'!B177")=0,"",INDIRECT("'"&I$3&"'!B177")) | J88: =IF(INDIRECT("'"&J$3&"'!B177")=0,"",INDIRECT("'"&J$3&"'!B177")) -> 1 | K88: =IF(INDIRECT("'"&K$3&"'!B177")=0,"",INDIRECT("'"&K$3&"'!B177")) | L88: =IF(INDIRECT("'"&L$3&"'!B177")=0,"",INDIRECT("'"&L$3&"'!B177")) | M88: =IF(INDIRECT("'"&M$3&"'!B177")=0,"",INDIRECT("'"&M$3&"'!B177")) | N88: =IF(INDIRECT("'"&N$3&"'!B177")=0,"",INDIRECT("'"&N$3&"'!B177")) | O88: =IF(INDIRECT("'"&O$3&"'!B177")=0,"",INDIRECT("'"&O$3&"'!B177")) | P88: =IF(INDIRECT("'"&P$3&"'!B177")=0,"",INDIRECT("'"&P$3&"'!B177")) | ... W88: =IF(INDIRECT("'"&W$3&"'!B177")=0,"",INDIRECT("'"&W$3&"'!B177"))
A89: 189 | B89: =IF(SUM($I$89:$W$89)=0,"",SUM($I$89:$W$89)) -> 1 | C89: Circulatiepomp | D89: Wilo | E89: Stratos 65/1-12 PN6/10 1~230 Volt 50Hz (Transportpomp CV 1) | F89: CP-3 | I89: =IF(INDIRECT("'"&I$3&"'!B178")=0,"",INDIRECT("'"&I$3&"'!B178")) | J89: =IF(INDIRECT("'"&J$3&"'!B178")=0,"",INDIRECT("'"&J$3&"'!B178")) -> 1 | K89: =IF(INDIRECT("'"&K$3&"'!B178")=0,"",INDIRECT("'"&K$3&"'!B178")) | L89: =IF(INDIRECT("'"&L$3&"'!B178")=0,"",INDIRECT("'"&L$3&"'!B178")) | M89: =IF(INDIRECT("'"&M$3&"'!B178")=0,"",INDIRECT("'"&M$3&"'!B178")) | N89: =IF(INDIRECT("'"&N$3&"'!B178")=0,"",INDIRECT("'"&N$3&"'!B178")) | O89: =IF(INDIRECT("'"&O$3&"'!B178")=0,"",INDIRECT("'"&O$3&"'!B178")) | P89: =IF(INDIRECT("'"&P$3&"'!B178")=0,"",INDIRECT("'"&P$3&"'!B178")) | ... W89: =IF(INDIRECT("'"&W$3&"'!B178")=0,"",INDIRECT("'"&W$3&"'!B178"))
A90: 190 | B90: =IF(SUM($I$90:$W$90)=0,"",SUM($I$90:$W$90)) -> 1 | C90: Circulatiepomp | D90: Wilo | E90: Stratos 65/1-12 PN6/10 1~230 Volt 50Hz (Transportpomp CV 2) | F90: CP-4 | I90: =IF(INDIRECT("'"&I$3&"'!B179")=0,"",INDIRECT("'"&I$3&"'!B179")) | J90: =IF(INDIRECT("'"&J$3&"'!B179")=0,"",INDIRECT("'"&J$3&"'!B179")) -> 1 | K90: =IF(INDIRECT("'"&K$3&"'!B179")=0,"",INDIRECT("'"&K$3&"'!B179")) | L90: =IF(INDIRECT("'"&L$3&"'!B179")=0,"",INDIRECT("'"&L$3&"'!B179")) | M90: =IF(INDIRECT("'"&M$3&"'!B179")=0,"",INDIRECT("'"&M$3&"'!B179")) | N90: =IF(INDIRECT("'"&N$3&"'!B179")=0,"",INDIRECT("'"&N$3&"'!B179")) | O90: =IF(INDIRECT("'"&O$3&"'!B179")=0,"",INDIRECT("'"&O$3&"'!B179")) | P90: =IF(INDIRECT("'"&P$3&"'!B179")=0,"",INDIRECT("'"&P$3&"'!B179")) | ... W90: =IF(INDIRECT("'"&W$3&"'!B179")=0,"",INDIRECT("'"&W$3&"'!B179"))
A91: 191 | B91: =IF(SUM($I$91:$W$91)=0,"",SUM($I$91:$W$91)) -> 1 | C91: Circulatiepomp | D91: Wilo | E91: RS 25/6 EMK 3~400 Volt 50Hz (Verwarmer LBK 9) | F91: CP-6 | I91: =IF(INDIRECT("'"&I$3&"'!B180")=0,"",INDIRECT("'"&I$3&"'!B180")) | J91: =IF(INDIRECT("'"&J$3&"'!B180")=0,"",INDIRECT("'"&J$3&"'!B180")) -> 1 | K91: =IF(INDIRECT("'"&K$3&"'!B180")=0,"",INDIRECT("'"&K$3&"'!B180")) | L91: =IF(INDIRECT("'"&L$3&"'!B180")=0,"",INDIRECT("'"&L$3&"'!B180")) | M91: =IF(INDIRECT("'"&M$3&"'!B180")=0,"",INDIRECT("'"&M$3&"'!B180")) | N91: =IF(INDIRECT("'"&N$3&"'!B180")=0,"",INDIRECT("'"&N$3&"'!B180")) | O91: =IF(INDIRECT("'"&O$3&"'!B180")=0,"",INDIRECT("'"&O$3&"'!B180")) | P91: =IF(INDIRECT("'"&P$3&"'!B180")=0,"",INDIRECT("'"&P$3&"'!B180")) | ... W91: =IF(INDIRECT("'"&W$3&"'!B180")=0,"",INDIRECT("'"&W$3&"'!B180"))
A92: 192 | B92: =IF(SUM($I$92:$W$92)=0,"",SUM($I$92:$W$92)) -> 1 | C92: Circulatiepomp | D92: Wilo | E92: RS 25/6 EMK 1~230 Volt 50Hz (Verwarmer LBK 11) | F92: CP-7 | I92: =IF(INDIRECT("'"&I$3&"'!B181")=0,"",INDIRECT("'"&I$3&"'!B181")) -> 1 | J92: =IF(INDIRECT("'"&J$3&"'!B181")=0,"",INDIRECT("'"&J$3&"'!B181")) | K92: =IF(INDIRECT("'"&K$3&"'!B181")=0,"",INDIRECT("'"&K$3&"'!B181")) | L92: =IF(INDIRECT("'"&L$3&"'!B181")=0,"",INDIRECT("'"&L$3&"'!B181")) | M92: =IF(INDIRECT("'"&M$3&"'!B181")=0,"",INDIRECT("'"&M$3&"'!B181")) | N92: =IF(INDIRECT("'"&N$3&"'!B181")=0,"",INDIRECT("'"&N$3&"'!B181")) | O92: =IF(INDIRECT("'"&O$3&"'!B181")=0,"",INDIRECT("'"&O$3&"'!B181")) | P92: =IF(INDIRECT("'"&P$3&"'!B181")=0,"",INDIRECT("'"&P$3&"'!B181")) | ... W92: =IF(INDIRECT("'"&W$3&"'!B181")=0,"",INDIRECT("'"&W$3&"'!B181"))
A93: 193 | B93: =IF(SUM($I$93:$W$93)=0,"",SUM($I$93:$W$93)) -> 1 | C93: Circulatiepomp | D93: Wilo | E93: RS 25/6 EMK 1~230 Volt 50Hz (Verwarmer LBK 12) | F93: CP-8 | I93: =IF(INDIRECT("'"&I$3&"'!B182")=0,"",INDIRECT("'"&I$3&"'!B182")) | J93: =IF(INDIRECT("'"&J$3&"'!B182")=0,"",INDIRECT("'"&J$3&"'!B182")) -> 1 | K93: =IF(INDIRECT("'"&K$3&"'!B182")=0,"",INDIRECT("'"&K$3&"'!B182")) | L93: =IF(INDIRECT("'"&L$3&"'!B182")=0,"",INDIRECT("'"&L$3&"'!B182")) | M93: =IF(INDIRECT("'"&M$3&"'!B182")=0,"",INDIRECT("'"&M$3&"'!B182")) | N93: =IF(INDIRECT("'"&N$3&"'!B182")=0,"",INDIRECT("'"&N$3&"'!B182")) | O93: =IF(INDIRECT("'"&O$3&"'!B182")=0,"",INDIRECT("'"&O$3&"'!B182")) | P93: =IF(INDIRECT("'"&P$3&"'!B182")=0,"",INDIRECT("'"&P$3&"'!B182")) | ... W93: =IF(INDIRECT("'"&W$3&"'!B182")=0,"",INDIRECT("'"&W$3&"'!B182"))
A94: 194 | B94: =IF(SUM($I$94:$W$94)=0,"",SUM($I$94:$W$94)) -> 1 | C94: Circulatiepomp | D94: Wilo | E94: IP-E 50/130-2,2/2 1~230 Volt 50Hz (TSA 1 secundair ) | F94: CP-9 | I94: =IF(INDIRECT("'"&I$3&"'!B183")=0,"",INDIRECT("'"&I$3&"'!B183")) | J94: =IF(INDIRECT("'"&J$3&"'!B183")=0,"",INDIRECT("'"&J$3&"'!B183")) -> 1 | K94: =IF(INDIRECT("'"&K$3&"'!B183")=0,"",INDIRECT("'"&K$3&"'!B183")) | L94: =IF(INDIRECT("'"&L$3&"'!B183")=0,"",INDIRECT("'"&L$3&"'!B183")) | M94: =IF(INDIRECT("'"&M$3&"'!B183")=0,"",INDIRECT("'"&M$3&"'!B183")) | N94: =IF(INDIRECT("'"&N$3&"'!B183")=0,"",INDIRECT("'"&N$3&"'!B183")) | O94: =IF(INDIRECT("'"&O$3&"'!B183")=0,"",INDIRECT("'"&O$3&"'!B183")) | P94: =IF(INDIRECT("'"&P$3&"'!B183")=0,"",INDIRECT("'"&P$3&"'!B183")) | ... W94: =IF(INDIRECT("'"&W$3&"'!B183")=0,"",INDIRECT("'"&W$3&"'!B183"))
A95: 195 | B95: =IF(SUM($I$95:$W$95)=0,"",SUM($I$95:$W$95)) -> 1 | C95: Circulatiepomp | D95: Wilo | E95: TOP-S 80/10 DM PN6 3~400 Volt 50Hz (Warmtepomp verd. 1) | F95: CP-10 | I95: =IF(INDIRECT("'"&I$3&"'!B184")=0,"",INDIRECT("'"&I$3&"'!B184")) | J95: =IF(INDIRECT("'"&J$3&"'!B184")=0,"",INDIRECT("'"&J$3&"'!B184")) -> 1 | K95: =IF(INDIRECT("'"&K$3&"'!B184")=0,"",INDIRECT("'"&K$3&"'!B184")) | L95: =IF(INDIRECT("'"&L$3&"'!B184")=0,"",INDIRECT("'"&L$3&"'!B184")) | M95: =IF(INDIRECT("'"&M$3&"'!B184")=0,"",INDIRECT("'"&M$3&"'!B184")) | N95: =IF(INDIRECT("'"&N$3&"'!B184")=0,"",INDIRECT("'"&N$3&"'!B184")) | O95: =IF(INDIRECT("'"&O$3&"'!B184")=0,"",INDIRECT("'"&O$3&"'!B184")) | P95: =IF(INDIRECT("'"&P$3&"'!B184")=0,"",INDIRECT("'"&P$3&"'!B184")) | ... W95: =IF(INDIRECT("'"&W$3&"'!B184")=0,"",INDIRECT("'"&W$3&"'!B184"))
A96: 196 | B96: =IF(SUM($I$96:$W$96)=0,"",SUM($I$96:$W$96)) -> 1 | C96: Circulatiepomp | D96: Wilo | E96: TOP-S 80/10 DM PN6 3~400 Volt 50Hz (Warmtepomp verd. 2) | F96: CP-11 | I96: =IF(INDIRECT("'"&I$3&"'!B185")=0,"",INDIRECT("'"&I$3&"'!B185")) | J96: =IF(INDIRECT("'"&J$3&"'!B185")=0,"",INDIRECT("'"&J$3&"'!B185")) -> 1 | K96: =IF(INDIRECT("'"&K$3&"'!B185")=0,"",INDIRECT("'"&K$3&"'!B185")) | L96: =IF(INDIRECT("'"&L$3&"'!B185")=0,"",INDIRECT("'"&L$3&"'!B185")) | M96: =IF(INDIRECT("'"&M$3&"'!B185")=0,"",INDIRECT("'"&M$3&"'!B185")) | N96: =IF(INDIRECT("'"&N$3&"'!B185")=0,"",INDIRECT("'"&N$3&"'!B185")) | O96: =IF(INDIRECT("'"&O$3&"'!B185")=0,"",INDIRECT("'"&O$3&"'!B185")) | P96: =IF(INDIRECT("'"&P$3&"'!B185")=0,"",INDIRECT("'"&P$3&"'!B185")) | ... W96: =IF(INDIRECT("'"&W$3&"'!B185")=0,"",INDIRECT("'"&W$3&"'!B185"))
A97: 197 | B97: =IF(SUM($I$97:$W$97)=0,"",SUM($I$97:$W$97)) -> 1 | C97: Circulatiepomp | D97: Wilo | E97: Stratos 65/1-12 PN6/10 3~400 Volt 50Hz (Laden koude bron) | F97: CP-12 | I97: =IF(INDIRECT("'"&I$3&"'!B186")=0,"",INDIRECT("'"&I$3&"'!B186")) | J97: =IF(INDIRECT("'"&J$3&"'!B186")=0,"",INDIRECT("'"&J$3&"'!B186")) -> 1 | K97: =IF(INDIRECT("'"&K$3&"'!B186")=0,"",INDIRECT("'"&K$3&"'!B186")) | L97: =IF(INDIRECT("'"&L$3&"'!B186")=0,"",INDIRECT("'"&L$3&"'!B186")) | M97: =IF(INDIRECT("'"&M$3&"'!B186")=0,"",INDIRECT("'"&M$3&"'!B186")) | N97: =IF(INDIRECT("'"&N$3&"'!B186")=0,"",INDIRECT("'"&N$3&"'!B186")) | O97: =IF(INDIRECT("'"&O$3&"'!B186")=0,"",INDIRECT("'"&O$3&"'!B186")) | P97: =IF(INDIRECT("'"&P$3&"'!B186")=0,"",INDIRECT("'"&P$3&"'!B186")) | ... W97: =IF(INDIRECT("'"&W$3&"'!B186")=0,"",INDIRECT("'"&W$3&"'!B186"))
A98: 198 | B98: =IF(SUM($I$98:$W$98)=0,"",SUM($I$98:$W$98)) -> 1 | C98: Circulatiepomp | D98: Wilo | E98: IP-E 50/150-4/2 1~230 Volt 50Hz (Laden-ontladen bron koude) | F98: CP-13 | I98: =IF(INDIRECT("'"&I$3&"'!B187")=0,"",INDIRECT("'"&I$3&"'!B187")) | J98: =IF(INDIRECT("'"&J$3&"'!B187")=0,"",INDIRECT("'"&J$3&"'!B187")) -> 1 | K98: =IF(INDIRECT("'"&K$3&"'!B187")=0,"",INDIRECT("'"&K$3&"'!B187")) | L98: =IF(INDIRECT("'"&L$3&"'!B187")=0,"",INDIRECT("'"&L$3&"'!B187")) | M98: =IF(INDIRECT("'"&M$3&"'!B187")=0,"",INDIRECT("'"&M$3&"'!B187")) | N98: =IF(INDIRECT("'"&N$3&"'!B187")=0,"",INDIRECT("'"&N$3&"'!B187")) | O98: =IF(INDIRECT("'"&O$3&"'!B187")=0,"",INDIRECT("'"&O$3&"'!B187")) | P98: =IF(INDIRECT("'"&P$3&"'!B187")=0,"",INDIRECT("'"&P$3&"'!B187")) | ... W98: =IF(INDIRECT("'"&W$3&"'!B187")=0,"",INDIRECT("'"&W$3&"'!B187"))
A99: 199 | B99: =IF(SUM($I$99:$W$99)=0,"",SUM($I$99:$W$99)) -> 1 | C99: Circulatiepomp | D99: Wilo | E99: IL 80/210-3/4-S1 3~400 Volt 50Hz (Drycooler Laden koude) | F99: CP-14 | I99: =IF(INDIRECT("'"&I$3&"'!B188")=0,"",INDIRECT("'"&I$3&"'!B188")) | J99: =IF(INDIRECT("'"&J$3&"'!B188")=0,"",INDIRECT("'"&J$3&"'!B188")) -> 1 | K99: =IF(INDIRECT("'"&K$3&"'!B188")=0,"",INDIRECT("'"&K$3&"'!B188")) | L99: =IF(INDIRECT("'"&L$3&"'!B188")=0,"",INDIRECT("'"&L$3&"'!B188")) | M99: =IF(INDIRECT("'"&M$3&"'!B188")=0,"",INDIRECT("'"&M$3&"'!B188")) | N99: =IF(INDIRECT("'"&N$3&"'!B188")=0,"",INDIRECT("'"&N$3&"'!B188")) | O99: =IF(INDIRECT("'"&O$3&"'!B188")=0,"",INDIRECT("'"&O$3&"'!B188")) | P99: =IF(INDIRECT("'"&P$3&"'!B188")=0,"",INDIRECT("'"&P$3&"'!B188")) | ... W99: =IF(INDIRECT("'"&W$3&"'!B188")=0,"",INDIRECT("'"&W$3&"'!B188"))
A100: 200 | B100: =IF(SUM($I$100:$W$100)=0,"",SUM($I$100:$W$100)) -> 1 | C100: Circulatiepomp | D100: Wilo | E100: Stratos 65/1-12 PN6/10 3~400 Volt 50Hz (GKW 1) | F100: CP-15 | I100: =IF(INDIRECT("'"&I$3&"'!B189")=0,"",INDIRECT("'"&I$3&"'!B189")) | J100: =IF(INDIRECT("'"&J$3&"'!B189")=0,"",INDIRECT("'"&J$3&"'!B189")) -> 1 | K100: =IF(INDIRECT("'"&K$3&"'!B189")=0,"",INDIRECT("'"&K$3&"'!B189")) | L100: =IF(INDIRECT("'"&L$3&"'!B189")=0,"",INDIRECT("'"&L$3&"'!B189")) | M100: =IF(INDIRECT("'"&M$3&"'!B189")=0,"",INDIRECT("'"&M$3&"'!B189")) | N100: =IF(INDIRECT("'"&N$3&"'!B189")=0,"",INDIRECT("'"&N$3&"'!B189")) | O100: =IF(INDIRECT("'"&O$3&"'!B189")=0,"",INDIRECT("'"&O$3&"'!B189")) | P100: =IF(INDIRECT("'"&P$3&"'!B189")=0,"",INDIRECT("'"&P$3&"'!B189")) | ... W100: =IF(INDIRECT("'"&W$3&"'!B189")=0,"",INDIRECT("'"&W$3&"'!B189"))
...

Sheet TR01 1e verd
A1: 4.57 | B1: 8 | C1: 19.57 | D1: 47.57 | F1: 10 | G1: 10
A2: =IF(totaal!A2=0,"",totaal!A2) -> STUKLIJST | G2: Versie 4.1 (750)
A3: =IF(totaal!A3=0,"",totaal!A3) -> POS | B3: =IF(totaal!B3=0,"",totaal!B3) -> AANTAL | C3: =IF(totaal!C3=0,"",totaal!C3) -> BENAMING | D3: =IF(totaal!D3=0,"",totaal!D3) -> FABRIKAAT | E3: =IF(totaal!E3=0,"",totaal!E3) -> TYPE | F3: =IF(totaal!F3=0,"",totaal!F3) -> CODE | G3: =IF(totaal!G3=0,"",totaal!G3) -> KLEUR | H3: Mededeling Patrick
A4: =IF(totaal!A4=0,"",totaal!A4) -> 1 | C4: =IF(totaal!C4=0,"",totaal!C4) -> Gasfilter | D4: =IF(totaal!D4=0,"",totaal!D4) -> Econosto | E4: =IF(totaal!E4=0,"",totaal!E4) -> fig.1014 1/2" | F4: =IF(totaal!F4=0,"",totaal!F4) | G4: =IF(totaal!G4=0,"",totaal!G4)
A5: =IF(totaal!A5=0,"",totaal!A5) -> 2 | C5: =IF(totaal!C5=0,"",totaal!C5) -> Gasfilter | D5: =IF(totaal!D5=0,"",totaal!D5) -> Econosto | E5: =IF(totaal!E5=0,"",totaal!E5) -> fig.1014 3/4" | F5: =IF(totaal!F5=0,"",totaal!F5) | G5: =IF(totaal!G5=0,"",totaal!G5)
A6: =IF(totaal!A6=0,"",totaal!A6) -> 3 | C6: =IF(totaal!C6=0,"",totaal!C6) -> Gasfilter | D6: =IF(totaal!D6=0,"",totaal!D6) -> Econosto | E6: =IF(totaal!E6=0,"",totaal!E6) -> fig.1014 1" | F6: =IF(totaal!F6=0,"",totaal!F6) | G6: =IF(totaal!G6=0,"",totaal!G6)
A7: =IF(totaal!A7=0,"",totaal!A7) -> 4 | C7: =IF(totaal!C7=0,"",totaal!C7) -> Gaskogelafsluiter | D7: =IF(totaal!D7=0,"",totaal!D7) -> Econosto | E7: =IF(totaal!E7=0,"",totaal!E7) -> Figuur 1937 1 ½" | F7: =IF(totaal!F7=0,"",totaal!F7) | G7: =IF(totaal!G7=0,"",totaal!G7)
A8: =IF(totaal!A8=0,"",totaal!A8) -> 5 | C8: =IF(totaal!C8=0,"",totaal!C8) -> Gaskogelafsluiter | D8: =IF(totaal!D8=0,"",totaal!D8) -> VSH | E8: =IF(totaal!E8=0,"",totaal!E8) -> Figuur 060431.8 1 1/4" Bin × Bui | F8: =IF(totaal!F8=0,"",totaal!F8) -> TU785162 | G8: =IF(totaal!G8=0,"",totaal!G8)
A9: =IF(totaal!A9=0,"",totaal!A9) -> 6 | C9: =IF(totaal!C9=0,"",totaal!C9) -> Gaskogelafsluiter | D9: =IF(totaal!D9=0,"",totaal!D9) -> Econosto | E9: =IF(totaal!E9=0,"",totaal!E9) | F9: =IF(totaal!F9=0,"",totaal!F9) | G9: =IF(totaal!G9=0,"",totaal!G9)
A10: =IF(totaal!A10=0,"",totaal!A10) -> 7 | C10: =IF(totaal!C10=0,"",totaal!C10) -> Gaskogelafsluiter | D10: =IF(totaal!D10=0,"",totaal!D10) -> Econosto | E10: =IF(totaal!E10=0,"",totaal!E10) -> fig.1619 2" | F10: =IF(totaal!F10=0,"",totaal!F10) | G10: =IF(totaal!G10=0,"",totaal!G10)
A11: =IF(totaal!A11=0,"",totaal!A11) -> 8 | C11: =IF(totaal!C11=0,"",totaal!C11) -> Gasklepafsluiter | D11: =IF(totaal!D11=0,"",totaal!D11) -> Econosto | E11: =IF(totaal!E11=0,"",totaal!E11) -> fig.2011 DN100 PN10 | F11: =IF(totaal!F11=0,"",totaal!F11) | G11: =IF(totaal!G11=0,"",totaal!G11)
A12: =IF(totaal!A12=0,"",totaal!A12) -> 9 | C12: =IF(totaal!C12=0,"",totaal!C12) -> Gasgebrekklep | D12: =IF(totaal!D12=0,"",totaal!D12) -> Schlumberger | E12: =IF(totaal!E12=0,"",totaal!E12) | F12: =IF(totaal!F12=0,"",totaal!F12) | G12: =IF(totaal!G12=0,"",totaal!G12)
A13: =IF(totaal!A13=0,"",totaal!A13) -> 10 | C13: =IF(totaal!C13=0,"",totaal!C13) -> Klepafsluiter Rayon Patent | D13: =IF(totaal!D13=0,"",totaal!D13) -> Econosto | E13: =IF(totaal!E13=0,"",totaal!E13) -> fig.2011 DN100 | F13: =IF(totaal!F13=0,"",totaal!F13) | G13: =IF(totaal!G13=0,"",totaal!G13)
A14: =IF(totaal!A14=0,"",totaal!A14) -> 11 | C14: =IF(totaal!C14=0,"",totaal!C14) -> Gasmagneetafsluiter NO | D14: =IF(totaal!D14=0,"",totaal!D14) -> Watts Industrie | E14: =IF(totaal!E14=0,"",totaal!E14) -> type ? 3/4" | F14: =IF(totaal!F14=0,"",totaal!F14) | G14: =IF(totaal!G14=0,"",totaal!G14)
A15: =IF(totaal!#REF!=0,"",totaal!#REF!) -> #REF! | C15: =IF(totaal!#REF!=0,"",totaal!#REF!) -> #REF! | D15: =IF(totaal!#REF!=0,"",totaal!#REF!) -> #REF! | E15: =IF(totaal!#REF!=0,"",totaal!#REF!) -> #REF! | F15: =IF(totaal!#REF!=0,"",totaal!#REF!) -> #REF! | G15: =IF(totaal!#REF!=0,"",totaal!#REF!) -> #REF!
A16: =IF(totaal!#REF!=0,"",totaal!#REF!) -> #REF! | C16: =IF(totaal!#REF!=0,"",totaal!#REF!) -> #REF! | D16: =IF(totaal!#REF!=0,"",totaal!#REF!) -> #REF! | E16: =IF(totaal!#REF!=0,"",totaal!#REF!) -> #REF! | F16: =IF(totaal!#REF!=0,"",totaal!#REF!) -> #REF! | G16: =IF(totaal!#REF!=0,"",totaal!#REF!) -> #REF!
A17: =IF(totaal!#REF!=0,"",totaal!#REF!) -> #REF! | C17: =IF(totaal!#REF!=0,"",totaal!#REF!) -> #REF! | D17: =IF(totaal!#REF!=0,"",totaal!#REF!) -> #REF! | E17: =IF(totaal!#REF!=0,"",totaal!#REF!) -> #REF! | F17: =IF(totaal!#REF!=0,"",totaal!#REF!) -> #REF! | G17: =IF(totaal!#REF!=0,"",totaal!#REF!) -> #REF!
A18: =IF(totaal!#REF!=0,"",totaal!#REF!) -> #REF! | C18: =IF(totaal!#REF!=0,"",totaal!#REF!) -> #REF! | D18: =IF(totaal!#REF!=0,"",totaal!#REF!) -> #REF! | E18: =IF(totaal!#REF!=0,"",totaal!#REF!) -> #REF! | F18: =IF(totaal!#REF!=0,"",totaal!#REF!) -> #REF! | G18: =IF(totaal!#REF!=0,"",totaal!#REF!) -> #REF!
A19: =IF(totaal!A15=0,"",totaal!A15) -> 16 | C19: =IF(totaal!C15=0,"",totaal!C15) -> Gasfilter | D19: =IF(totaal!D15=0,"",totaal!D15) -> Econosto | E19: =IF(totaal!E15=0,"",totaal!E15) -> fig.1014 1 1/4" | F19: =IF(totaal!F15=0,"",totaal!F15) | G19: =IF(totaal!G15=0,"",totaal!G15)
A20: =IF(totaal!A16=0,"",totaal!A16) -> 17 | C20: =IF(totaal!C16=0,"",totaal!C16) -> Gaskogelafsluiter | D20: =IF(totaal!D16=0,"",totaal!D16) -> Econosto | E20: =IF(totaal!E16=0,"",totaal!E16) -> fig. 1619 1" | F20: =IF(totaal!F16=0,"",totaal!F16) | G20: =IF(totaal!G16=0,"",totaal!G16)
A21: =IF(totaal!#REF!=0,"",totaal!#REF!) -> #REF! | C21: =IF(totaal!#REF!=0,"",totaal!#REF!) -> #REF! | D21: =IF(totaal!#REF!=0,"",totaal!#REF!) -> #REF! | E21: =IF(totaal!#REF!=0,"",totaal!#REF!) -> #REF! | F21: =IF(totaal!#REF!=0,"",totaal!#REF!) -> #REF! | G21: =IF(totaal!#REF!=0,"",totaal!#REF!) -> #REF!
A22: =IF(totaal!#REF!=0,"",totaal!#REF!) -> #REF! | C22: =IF(totaal!#REF!=0,"",totaal!#REF!) -> #REF! | D22: =IF(totaal!#REF!=0,"",totaal!#REF!) -> #REF! | E22: =IF(totaal!#REF!=0,"",totaal!#REF!) -> #REF! | F22: =IF(totaal!#REF!=0,"",totaal!#REF!) -> #REF! | G22: =IF(totaal!#REF!=0,"",totaal!#REF!) -> #REF!
A23: =IF(totaal!A17=0,"",totaal!A17) -> 20 | C23: =IF(totaal!C17=0,"",totaal!C17) -> Bufffervat 1500 ltr | D23: =IF(totaal!D17=0,"",totaal!D17) -> Horos | E23: =IF(totaal!E17=0,"",totaal!E17) -> Verticaal Buffervat VK 1500 diameter ø990mm × 2470mm | F23: =IF(totaal!F17=0,"",totaal!F17) -> 816 020 070 | G23: =IF(totaal!G17=0,"",totaal!G17)
A24: =IF(totaal!A18=0,"",totaal!A18) -> 21 | C24: =IF(totaal!C18=0,"",totaal!C18) | D24: =IF(totaal!D18=0,"",totaal!D18) | E24: =IF(totaal!E18=0,"",totaal!E18) -> Uitw. geïsoleerd met 20 mm dampdichte isolatie | F24: =IF(totaal!F18=0,"",totaal!F18) | G24: =IF(totaal!G18=0,"",totaal!G18)
A25: =IF(totaal!A19=0,"",totaal!A19) -> 22 | C25: =IF(totaal!C19=0,"",totaal!C19) | D25: =IF(totaal!D19=0,"",totaal!D19) | E25: =IF(totaal!E19=0,"",totaal!E19) -> Inclusief 2× ¾" voor aftap en beluchting | F25: =IF(totaal!F19=0,"",totaal!F19) | G25: =IF(totaal!G19=0,"",totaal!G19)
A26: =IF(totaal!A20=0,"",totaal!A20) -> 23 | C26: =IF(totaal!C20=0,"",totaal!C20) -> Bufffervat 2000 ltr | D26: =IF(totaal!D20=0,"",totaal!D20) -> Horos | E26: =IF(totaal!E20=0,"",totaal!E20) -> Verticaal Buffervat VK 2000 diameter ø1140mm × 2510mm | F26: =IF(totaal!F20=0,"",totaal!F20) -> 816 020 071 | G26: =IF(totaal!G20=0,"",totaal!G20)
A27: =IF(totaal!A21=0,"",totaal!A21) -> 24 | C27: =IF(totaal!C21=0,"",totaal!C21) | D27: =IF(totaal!D21=0,"",totaal!D21) | E27: =IF(totaal!E21=0,"",totaal!E21) -> Uitwendig gesioleerd met 20 mm dampdichte isolatie | F27: =IF(totaal!F21=0,"",totaal!F21) | G27: =IF(totaal!G21=0,"",totaal!G21)
A28: =IF(totaal!A22=0,"",totaal!A22) -> 25 | C28: =IF(totaal!C22=0,"",totaal!C22) | D28: =IF(totaal!D22=0,"",totaal!D22) | E28: =IF(totaal!E22=0,"",totaal!E22) -> Inclusief 2× ¾" voor aftap en beluchting | F28: =IF(totaal!F22=0,"",totaal!F22) | G28: =IF(totaal!G22=0,"",totaal!G22)
A29: =IF(totaal!#REF!=0,"",totaal!#REF!) -> #REF! | C29: =IF(totaal!#REF!=0,"",totaal!#REF!) -> #REF! | D29: =IF(totaal!#REF!=0,"",totaal!#REF!) -> #REF! | E29: =IF(totaal!#REF!=0,"",totaal!#REF!) -> #REF! | F29: =IF(totaal!#REF!=0,"",totaal!#REF!) -> #REF! | G29: =IF(totaal!#REF!=0,"",totaal!#REF!) -> #REF!
A30: =IF(totaal!#REF!=0,"",totaal!#REF!) -> #REF! | C30: =IF(totaal!#REF!=0,"",totaal!#REF!) -> #REF! | D30: =IF(totaal!#REF!=0,"",totaal!#REF!) -> #REF! | E30: =IF(totaal!#REF!=0,"",totaal!#REF!) -> #REF! | F30: =IF(totaal!#REF!=0,"",totaal!#REF!) -> #REF! | G30: =IF(totaal!#REF!=0,"",totaal!#REF!) -> #REF!
A31: =IF(totaal!#REF!=0,"",totaal!#REF!) -> #REF! | C31: =IF(totaal!#REF!=0,"",totaal!#REF!) -> #REF! | D31: =IF(totaal!#REF!=0,"",totaal!#REF!) -> #REF! | E31: =IF(totaal!#REF!=0,"",totaal!#REF!) -> #REF! | F31: =IF(totaal!#REF!=0,"",totaal!#REF!) -> #REF! | G31: =IF(totaal!#REF!=0,"",totaal!#REF!) -> #REF!
A32: =IF(totaal!#REF!=0,"",totaal!#REF!) -> #REF! | C32: =IF(totaal!#REF!=0,"",totaal!#REF!) -> #REF! | D32: =IF(totaal!#REF!=0,"",totaal!#REF!) -> #REF! | E32: =IF(totaal!#REF!=0,"",totaal!#REF!) -> #REF! | F32: =IF(totaal!#REF!=0,"",totaal!#REF!) -> #REF! | G32: =IF(totaal!#REF!=0,"",totaal!#REF!) -> #REF!
A33: =IF(totaal!#REF!=0,"",totaal!#REF!) -> #REF! | C33: =IF(totaal!#REF!=0,"",totaal!#REF!) -> #REF! | D33: =IF(totaal!#REF!=0,"",totaal!#REF!) -> #REF! | E33: =IF(totaal!#REF!=0,"",totaal!#REF!) -> #REF! | F33: =IF(totaal!#REF!=0,"",totaal!#REF!) -> #REF! | G33: =IF(totaal!#REF!=0,"",totaal!#REF!) -> #REF!
A34: =IF(totaal!#REF!=0,"",totaal!#REF!) -> #REF! | C34: =IF(totaal!#REF!=0,"",totaal!#REF!) -> #REF! | D34: =IF(totaal!#REF!=0,"",totaal!#REF!) -> #REF! | E34: =IF(totaal!#REF!=0,"",totaal!#REF!) -> #REF! | F34: =IF(totaal!#REF!=0,"",totaal!#REF!) -> #REF! | G34: =IF(totaal!#REF!=0,"",totaal!#REF!) -> #REF!
A35: =IF(totaal!#REF!=0,"",totaal!#REF!) -> #REF! | C35: =IF(totaal!#REF!=0,"",totaal!#REF!) -> #REF! | D35: =IF(totaal!#REF!=0,"",totaal!#REF!) -> #REF! | E35: =IF(totaal!#REF!=0,"",totaal!#REF!) -> #REF! | F35: =IF(totaal!#REF!=0,"",totaal!#REF!) -> #REF! | G35: =IF(totaal!#REF!=0,"",totaal!#REF!) -> #REF!
A36: =IF(totaal!#REF!=0,"",totaal!#REF!) -> #REF! | C36: =IF(totaal!#REF!=0,"",totaal!#REF!) -> #REF! | D36: =IF(totaal!#REF!=0,"",totaal!#REF!) -> #REF! | E36: =IF(totaal!#REF!=0,"",totaal!#REF!) -> #REF! | F36: =IF(totaal!#REF!=0,"",totaal!#REF!) -> #REF! | G36: =IF(totaal!#REF!=0,"",totaal!#REF!) -> #REF!
A37: =IF(totaal!#REF!=0,"",totaal!#REF!) -> #REF! | C37: =IF(totaal!#REF!=0,"",totaal!#REF!) -> #REF! | D37: =IF(totaal!#REF!=0,"",totaal!#REF!) -> #REF! | E37: =IF(totaal!#REF!=0,"",totaal!#REF!) -> #REF! | F37: =IF(totaal!#REF!=0,"",totaal!#REF!) -> #REF! | G37: =IF(totaal!#REF!=0,"",totaal!#REF!) -> #REF!
A38: =IF(totaal!#REF!=0,"",totaal!#REF!) -> #REF! | C38: =IF(totaal!#REF!=0,"",totaal!#REF!) -> #REF! | D38: =IF(totaal!#REF!=0,"",totaal!#REF!) -> #REF! | E38: =IF(totaal!#REF!=0,"",totaal!#REF!) -> #REF! | F38: =IF(totaal!#REF!=0,"",totaal!#REF!) -> #REF! | G38: =IF(totaal!#REF!=0,"",totaal!#REF!) -> #REF!
A39: =IF(totaal!#REF!=0,"",totaal!#REF!) -> #REF! | C39: =IF(totaal!#REF!=0,"",totaal!#REF!) -> #REF! | D39: =IF(totaal!#REF!=0,"",totaal!#REF!) -> #REF! | E39: =IF(totaal!#REF!=0,"",totaal!#REF!) -> #REF! | F39: =IF(totaal!#REF!=0,"",totaal!#REF!) -> #REF! | G39: =IF(totaal!#REF!=0,"",totaal!#REF!) -> #REF!
A40: =IF(totaal!#REF!=0,"",totaal!#REF!) -> #REF! | C40: =IF(totaal!#REF!=0,"",totaal!#REF!) -> #REF! | D40: =IF(totaal!#REF!=0,"",totaal!#REF!) -> #REF! | E40: =IF(totaal!#REF!=0,"",totaal!#REF!) -> #REF! | F40: =IF(totaal!#REF!=0,"",totaal!#REF!) -> #REF! | G40: =IF(totaal!#REF!=0,"",totaal!#REF!) -> #REF!
... A42: =IF(totaal!#REF!=0,"",totaal!#REF!) -> #REF! | C42: =IF(totaal!#REF!=0,"",totaal!#REF!) -> #REF! | D42: =IF(totaal!#REF!=0,"",totaal!#REF!) -> #REF! | E42: =IF(totaal!#REF!=0,"",totaal!#REF!) -> #REF! | F42: =IF(totaal!#REF!=0,"",totaal!#REF!) -> #REF! | G42: =IF(totaal!#REF!=0,"",totaal!#REF!) -> #REF!
A43: =IF(totaal!#REF!=0,"",totaal!#REF!) -> #REF! | C43: =IF(totaal!C23=0,"",totaal!C23) -> Radiator | D43: =IF(totaal!D23=0,"",totaal!D23) -> Veha | E43: =IF(totaal!E23=0,"",totaal!E23) -> type standaard 1600-900-22 | F43: =IF(totaal!F23=0,"",totaal!F23) | G43: =IF(totaal!G23=0,"",totaal!G23)
A44: =IF(totaal!#REF!=0,"",totaal!#REF!) -> #REF! | C44: =IF(totaal!#REF!=0,"",totaal!#REF!) -> #REF! | D44: =IF(totaal!#REF!=0,"",totaal!#REF!) -> #REF! | E44: =IF(totaal!#REF!=0,"",totaal!#REF!) -> #REF! | F44: =IF(totaal!#REF!=0,"",totaal!#REF!) -> #REF! | G44: =IF(totaal!#REF!=0,"",totaal!#REF!) -> #REF!
A45: =IF(totaal!#REF!=0,"",totaal!#REF!) -> #REF! | C45: =IF(totaal!#REF!=0,"",totaal!#REF!) -> #REF! | D45: =IF(totaal!#REF!=0,"",totaal!#REF!) -> #REF! | E45: =IF(totaal!#REF!=0,"",totaal!#REF!) -> #REF! | F45: =IF(totaal!#REF!=0,"",totaal!#REF!) -> #REF! | G45: =IF(totaal!#REF!=0,"",totaal!#REF!) -> #REF!
A46: =IF(totaal!#REF!=0,"",totaal!#REF!) -> #REF! | C46: =IF(totaal!#REF!=0,"",totaal!#REF!) -> #REF! | D46: =IF(totaal!#REF!=0,"",totaal!#REF!) -> #REF! | E46: =IF(totaal!#REF!=0,"",totaal!#REF!) -> #REF! | F46: =IF(totaal!#REF!=0,"",totaal!#REF!) -> #REF! | G46: =IF(totaal!#REF!=0,"",totaal!#REF!) -> #REF!
A47: =IF(totaal!#REF!=0,"",totaal!#REF!) -> #REF! | C47: =IF(totaal!#REF!=0,"",totaal!#REF!) -> #REF! | D47: =IF(totaal!#REF!=0,"",totaal!#REF!) -> #REF! | E47: =IF(totaal!#REF!=0,"",totaal!#REF!) -> #REF! | F47: =IF(totaal!#REF!=0,"",totaal!#REF!) -> #REF! | G47: =IF(totaal!#REF!=0,"",totaal!#REF!) -> #REF!
A48: =IF(totaal!#REF!=0,"",totaal!#REF!) -> #REF! | C48: =IF(totaal!#REF!=0,"",totaal!#REF!) -> #REF! | D48: =IF(totaal!#REF!=0,"",totaal!#REF!) -> #REF! | E48: =IF(totaal!#REF!=0,"",totaal!#REF!) -> #REF! | F48: =IF(totaal!#REF!=0,"",totaal!#REF!) -> #REF! | G48: =IF(totaal!#REF!=0,"",totaal!#REF!) -> #REF!
A49: =IF(totaal!#REF!=0,"",totaal!#REF!) -> #REF! | C49: =IF(totaal!#REF!=0,"",totaal!#REF!) -> #REF! | D49: =IF(totaal!#REF!=0,"",totaal!#REF!) -> #REF! | E49: =IF(totaal!#REF!=0,"",totaal!#REF!) -> #REF! | F49: =IF(totaal!#REF!=0,"",totaal!#REF!) -> #REF! | G49: =IF(totaal!#REF!=0,"",totaal!#REF!) -> #REF!
A50: =IF(totaal!#REF!=0,"",totaal!#REF!) -> #REF! | C50: =IF(totaal!#REF!=0,"",totaal!#REF!) -> #REF! | D50: =IF(totaal!#REF!=0,"",totaal!#REF!) -> #REF! | E50: =IF(totaal!#REF!=0,"",totaal!#REF!) -> #REF! | F50: =IF(totaal!#REF!=0,"",totaal!#REF!) -> #REF! | G50: =IF(totaal!#REF!=0,"",totaal!#REF!) -> #REF!
A51: =IF(totaal!#REF!=0,"",totaal!#REF!) -> #REF! | C51: =IF(totaal!#REF!=0,"",totaal!#REF!) -> #REF! | D51: =IF(totaal!#REF!=0,"",totaal!#REF!) -> #REF! | E51: =IF(totaal!#REF!=0,"",totaal!#REF!) -> #REF! | F51: =IF(totaal!#REF!=0,"",totaal!#REF!) -> #REF! | G51: =IF(totaal!#REF!=0,"",totaal!#REF!) -> #REF!
A52: =IF(totaal!#REF!=0,"",totaal!#REF!) -> #REF! | C52: =IF(totaal!C24=0,"",totaal!C24) -> Radiator | D52: =IF(totaal!D24=0,"",totaal!D24) -> Veha | E52: =IF(totaal!E24=0,"",totaal!E24) -> type Plana 22 afmeting 3000x500 | F52: =IF(totaal!F24=0,"",totaal!F24) | G52: =IF(totaal!G24=0,"",totaal!G24)
A53: =IF(totaal!#REF!=0,"",totaal!#REF!) -> #REF! | C53: =IF(totaal!C25=0,"",totaal!C25) -> Radiator | D53: =IF(totaal!D25=0,"",totaal!D25) -> Veha | E53: =IF(totaal!E25=0,"",totaal!E25) -> type Plana 22 afmeting 2000x600 Q=1110 W | F53: =IF(totaal!F25=0,"",totaal!F25) | G53: =IF(totaal!G25=0,"",totaal!G25)
A54: =IF(totaal!#REF!=0,"",totaal!#REF!) -> #REF! | C54: =IF(totaal!C26=0,"",totaal!C26) -> Radiator | D54: =IF(totaal!D26=0,"",totaal!D26) -> Veha | E54: =IF(totaal!E26=0,"",totaal!E26) -> type Plana 22 afmeting 3800x600 Q=2110 W | F54: =IF(totaal!F26=0,"",totaal!F26) | G54: =IF(totaal!G26=0,"",totaal!G26)
A55: =IF(totaal!#REF!=0,"",totaal!#REF!) -> #REF! | C55: =IF(totaal!C27=0,"",totaal!C27) -> Radiator | D55: =IF(totaal!D27=0,"",totaal!D27) -> Veha | E55: =IF(totaal!E27=0,"",totaal!E27) -> type Plana 22 afmeting 1000x600 Q=554 W | F55: =IF(totaal!F27=0,"",totaal!F27) | G55: =IF(totaal!G27=0,"",totaal!G27)
A56: =IF(totaal!#REF!=0,"",totaal!#REF!) -> #REF! | C56: =IF(totaal!C28=0,"",totaal!C28) -> Radiator | D56: =IF(totaal!D28=0,"",totaal!D28) -> Veha | E56: =IF(totaal!E28=0,"",totaal!E28) -> type Plana 22 afmeting 2200x600 Q=1230 W | F56: =IF(totaal!F28=0,"",totaal!F28) | G56: =IF(totaal!G28=0,"",totaal!G28)
A57: =IF(totaal!#REF!=0,"",totaal!#REF!) -> #REF! | C57: =IF(totaal!C29=0,"",totaal!C29) -> Radiator | D57: =IF(totaal!D29=0,"",totaal!D29) -> Henrad | E57: =IF(totaal!E29=0,"",totaal!E29) -> type 22 afmeting 1400x600 Q=990 W | F57: =IF(totaal!F29=0,"",totaal!F29) | G57: =IF(totaal!G29=0,"",totaal!G29)
A58: =IF(totaal!#REF!=0,"",totaal!#REF!) -> #REF! | C58: =IF(totaal!C30=0,"",totaal!C30) -> Radiator | D58: =IF(totaal!D30=0,"",totaal!D30) -> Henrad | E58: =IF(totaal!E30=0,"",totaal!E30) -> type 22 afmeting 1600x600 Q=1131 W | F58: =IF(totaal!F30=0,"",totaal!F30) | G58: =IF(totaal!G30=0,"",totaal!G30)
A59: =IF(totaal!#REF!=0,"",totaal!#REF!) -> #REF! | C59: =IF(totaal!C31=0,"",totaal!C31) -> Radiator | D59: =IF(totaal!D31=0,"",totaal!D31) -> Henrad | E59: =IF(totaal!E31=0,"",totaal!E31) -> type 22 afmeting 2000x600 Q=1414 W | F59: =IF(totaal!F31=0,"",totaal!F31) | G59: =IF(totaal!G31=0,"",totaal!G31)
A60: =IF(totaal!#REF!=0,"",totaal!#REF!) -> #REF! | C60: =IF(totaal!C32=0,"",totaal!C32) -> Radiator | D60: =IF(totaal!D32=0,"",totaal!D32) -> Henrad | E60: =IF(totaal!E32=0,"",totaal!E32) -> type 22 afmeting 1600x600 Q=1131 W | F60: =IF(totaal!F32=0,"",totaal!F32) | G60: =IF(totaal!G32=0,"",totaal!G32)
A61: =IF(totaal!#REF!=0,"",totaal!#REF!) -> #REF! | C61: =IF(totaal!C33=0,"",totaal!C33) -> Radiator | D61: =IF(totaal!D33=0,"",totaal!D33) -> Henrad | E61: =IF(totaal!E33=0,"",totaal!E33) -> type 11 afmeting 1200x600 Q-1200 W | F61: =IF(totaal!F33=0,"",totaal!F33) | G61: =IF(totaal!G33=0,"",totaal!G33)
A62: =IF(totaal!#REF!=0,"",totaal!#REF!) -> #REF! | C62: =IF(totaal!C34=0,"",totaal!C34) -> Radiator | D62: =IF(totaal!D34=0,"",totaal!D34) -> Henrad | E62: =IF(totaal!E34=0,"",totaal!E34) -> type 11 afmeting 1400x600 Q=1400 W | F62: =IF(totaal!F34=0,"",totaal!F34) | G62: =IF(totaal!G34=0,"",totaal!G34)
A63: =IF(totaal!#REF!=0,"",totaal!#REF!) -> #REF! | C63: =IF(totaal!C35=0,"",totaal!C35) -> Radiator | D63: =IF(totaal!D35=0,"",totaal!D35) -> Henrad | E63: =IF(totaal!E35=0,"",totaal!E35) -> type 11 afmeting 800x600 Q=800 W | F63: =IF(totaal!F35=0,"",totaal!F35) | G63: =IF(totaal!G35=0,"",totaal!G35)
A64: =IF(totaal!#REF!=0,"",totaal!#REF!) -> #REF! | C64: =IF(totaal!C36=0,"",totaal!C36) -> Radiator | D64: =IF(totaal!D36=0,"",totaal!D36) -> Henrad | E64: =IF(totaal!E36=0,"",totaal!E36) -> type 22 afmeting 1000x600 Q=707 W | F64: =IF(totaal!F36=0,"",totaal!F36) | G64: =IF(totaal!G36=0,"",totaal!G36)
A65: =IF(totaal!A23=0,"",totaal!A23) -> 62 | C65: =IF(totaal!C37=0,"",totaal!C37) -> Radiator | D65: =IF(totaal!D37=0,"",totaal!D37) -> Henrad | E65: =IF(totaal!E37=0,"",totaal!E37) -> type 33 afmeting 2000x600 Q=1976 W | F65: =IF(totaal!F37=0,"",totaal!F37) | G65: =IF(totaal!G37=0,"",totaal!G37)
A66: =IF(totaal!A24=0,"",totaal!A24) -> 63 | C66: =IF(totaal!C38=0,"",totaal!C38) -> Radiator | D66: =IF(totaal!D38=0,"",totaal!D38) -> Henrad | E66: =IF(totaal!E38=0,"",totaal!E38) -> type 22 afmeting 2200x600 Q=1555 W | F66: =IF(totaal!F38=0,"",totaal!F38) | G66: =IF(totaal!G38=0,"",totaal!G38)
A67: =IF(totaal!A25=0,"",totaal!A25) -> 64 | C67: =IF(totaal!C39=0,"",totaal!C39) -> Radiator | D67: =IF(totaal!D39=0,"",totaal!D39) -> Henrad | E67: =IF(totaal!E39=0,"",totaal!E39) -> type 11 afmeting 1000x600 Q=1000 W | F67: =IF(totaal!F39=0,"",totaal!F39) | G67: =IF(totaal!G39=0,"",totaal!G39)
A68: =IF(totaal!A26=0,"",totaal!A26) -> 65 | C68: =IF(totaal!C40=0,"",totaal!C40) -> Radiator | D68: =IF(totaal!D40=0,"",totaal!D40) -> Henrad | E68: =IF(totaal!E40=0,"",totaal!E40) -> type 11 afmeting 700x600 Q=700 W | F68: =IF(totaal!F40=0,"",totaal!F40) | G68: =IF(totaal!G40=0,"",totaal!G40)
A69: =IF(totaal!A27=0,"",totaal!A27) -> 66 | C69: =IF(totaal!C41=0,"",totaal!C41) -> Radiator | D69: =IF(totaal!D41=0,"",totaal!D41) -> Henrad | E69: =IF(totaal!E41=0,"",totaal!E41) -> type 21 afmeting 900x600 Q=505 W | F69: =IF(totaal!F41=0,"",totaal!F41) | G69: =IF(totaal!G41=0,"",totaal!G41)
A70: =IF(totaal!A28=0,"",totaal!A28) -> 67 | C70: =IF(totaal!C42=0,"",totaal!C42) -> Radiator | D70: =IF(totaal!D42=0,"",totaal!D42) -> Henrad | E70: =IF(totaal!E42=0,"",totaal!E42) -> type 22 afmeting 1000x600 Q=1778 W | F70: =IF(totaal!F42=0,"",totaal!F42) | G70: =IF(totaal!G42=0,"",totaal!G42)
A71: =IF(totaal!A29=0,"",totaal!A29) -> 68 | C71: =IF(totaal!C43=0,"",totaal!C43) -> Radiator | D71: =IF(totaal!D43=0,"",totaal!D43) -> Henrad | E71: =IF(totaal!E43=0,"",totaal!E43) -> type 22 afmeting 500x600 Q=889 W | F71: =IF(totaal!F43=0,"",totaal!F43) | G71: =IF(totaal!G43=0,"",totaal!G43)
A72: =IF(totaal!A30=0,"",totaal!A30) -> 69 | C72: =IF(totaal!C44=0,"",totaal!C44) -> Radiator | D72: =IF(totaal!D44=0,"",totaal!D44) -> Henrad | E72: =IF(totaal!E44=0,"",totaal!E44) -> type 11 afmeting 900x600 Q=900 W | F72: =IF(totaal!F44=0,"",totaal!F44) | G72: =IF(totaal!G44=0,"",totaal!G44)
A73: =IF(totaal!A31=0,"",totaal!A31) -> 70 | C73: =IF(totaal!C45=0,"",totaal!C45) -> Radiator | D73: =IF(totaal!D45=0,"",totaal!D45) -> Henrad | E73: =IF(totaal!E45=0,"",totaal!E45) -> type 221 afmeting 1100x600 Q=1956 W | F73: =IF(totaal!F45=0,"",totaal!F45) | G73: =IF(totaal!G45=0,"",totaal!G45)
A74: =IF(totaal!A32=0,"",totaal!A32) -> 71 | C74: =IF(totaal!C46=0,"",totaal!C46) -> Radiator | D74: =IF(totaal!D46=0,"",totaal!D46) -> Henrad | E74: =IF(totaal!E46=0,"",totaal!E46) -> type 22 afmeting 700x600 Q=495 W | F74: =IF(totaal!F46=0,"",totaal!F46) | G74: =IF(totaal!G46=0,"",totaal!G46)
A75: =IF(totaal!A33=0,"",totaal!A33) -> 72 | C75: =IF(totaal!C47=0,"",totaal!C47) -> Radiator | D75: =IF(totaal!D47=0,"",totaal!D47) -> Henrad | E75: =IF(totaal!E47=0,"",totaal!E47) -> type 33 afmeting 1600x700 Q=1778 W | F75: =IF(totaal!F47=0,"",totaal!F47) | G75: =IF(totaal!G47=0,"",totaal!G47)
A76: =IF(totaal!A34=0,"",totaal!A34) -> 73 | C76: =IF(totaal!C48=0,"",totaal!C48) -> Radiator | D76: =IF(totaal!D48=0,"",totaal!D48) -> Henrad | E76: =IF(totaal!E48=0,"",totaal!E48) -> type 11 afmeting 800x300 | F76: =IF(totaal!F48=0,"",totaal!F48) | G76: =IF(totaal!G48=0,"",totaal!G48)
... A79: =IF(totaal!A37=0,"",totaal!A37) -> 76 | C79: =IF(totaal!C51=0,"",totaal!C51) -> Radiator | D79: =IF(totaal!D51=0,"",totaal!D51) -> Henrad | E79: =IF(totaal!E51=0,"",totaal!E51) -> type 11 afmeting 800x300 | F79: =IF(totaal!F51=0,"",totaal!F51) | G79: =IF(totaal!G51=0,"",totaal!G51)
A80: =IF(totaal!A38=0,"",totaal!A38) -> 77 | C80: =IF(totaal!#REF!=0,"",totaal!#REF!) -> #REF! | D80: =IF(totaal!#REF!=0,"",totaal!#REF!) -> #REF! | E80: =IF(totaal!#REF!=0,"",totaal!#REF!) -> #REF! | F80: =IF(totaal!#REF!=0,"",totaal!#REF!) -> #REF! | G80: =IF(totaal!#REF!=0,"",totaal!#REF!) -> #REF!
A81: =IF(totaal!A39=0,"",totaal!A39) -> 78 | C81: =IF(totaal!#REF!=0,"",totaal!#REF!) -> #REF! | D81: =IF(totaal!#REF!=0,"",totaal!#REF!) -> #REF! | E81: =IF(totaal!#REF!=0,"",totaal!#REF!) -> #REF! | F81: =IF(totaal!#REF!=0,"",totaal!#REF!) -> #REF! | G81: =IF(totaal!#REF!=0,"",totaal!#REF!) -> #REF!
A82: =IF(totaal!A40=0,"",totaal!A40) -> 79 | C82: =IF(totaal!#REF!=0,"",totaal!#REF!) -> #REF! | D82: =IF(totaal!#REF!=0,"",totaal!#REF!) -> #REF! | E82: =IF(totaal!#REF!=0,"",totaal!#REF!) -> #REF! | F82: =IF(totaal!#REF!=0,"",totaal!#REF!) -> #REF! | G82: =IF(totaal!#REF!=0,"",totaal!#REF!) -> #REF!
A83: =IF(totaal!A41=0,"",totaal!A41) -> 80 | C83: =IF(totaal!C52=0,"",totaal!C52) -> Plintconvector | D83: =IF(totaal!D52=0,"",totaal!D52) -> Prenger/Instamat | E83: =IF(totaal!E52=0,"",totaal!E52) -> type AC145 Afmeting 700x255 afgifte 425 W | F83: =IF(totaal!F52=0,"",totaal!F52) | G83: =IF(totaal!G52=0,"",totaal!G52)
A84: =IF(totaal!A42=0,"",totaal!A42) -> 81 | C84: =IF(totaal!C53=0,"",totaal!C53) -> Plintconvector | D84: =IF(totaal!D53=0,"",totaal!D53) -> Prenger/Instamat | E84: =IF(totaal!E53=0,"",totaal!E53) -> type AC145 Afmeting 500x255 afgifte 303 W | F84: =IF(totaal!F53=0,"",totaal!F53) | G84: =IF(totaal!G53=0,"",totaal!G53)
A85: =IF(totaal!A43=0,"",totaal!A43) -> 82 | C85: =IF(totaal!C54=0,"",totaal!C54) -> Plintconvector | D85: =IF(totaal!D54=0,"",totaal!D54) -> Prenger/Instamat | E85: =IF(totaal!E54=0,"",totaal!E54) -> type AC145 Afmeting 900x255 afgifte 546 W | F85: =IF(totaal!F54=0,"",totaal!F54) | G85: =IF(totaal!G54=0,"",totaal!G54)
A86: =IF(totaal!A44=0,"",totaal!A44) -> 83 | C86: =IF(totaal!C55=0,"",totaal!C55) -> Plintconvector | D86: =IF(totaal!D55=0,"",totaal!D55) -> Prenger/Instamat | E86: =IF(totaal!E55=0,"",totaal!E55) -> type AC145 Afmeting 1500x255 afgifte 911 W | F86: =IF(totaal!F55=0,"",totaal!F55) | G86: =IF(totaal!G55=0,"",totaal!G55)
A87: =IF(totaal!A45=0,"",totaal!A45) -> 84 | C87: =IF(totaal!C56=0,"",totaal!C56) -> Plintconvector | D87: =IF(totaal!D56=0,"",totaal!D56) -> Prenger/Instamat | E87: =IF(totaal!E56=0,"",totaal!E56) -> type AC145 Afmeting 600x255 afgifte 364 W | F87: =IF(totaal!F56=0,"",totaal!F56) | G87: =IF(totaal!G56=0,"",totaal!G56)
A88: =IF(totaal!A46=0,"",totaal!A46) -> 85 | C88: =IF(totaal!C57=0,"",totaal!C57) -> Plintconvector | D88: =IF(totaal!D57=0,"",totaal!D57) -> Prenger/Instamat | E88: =IF(totaal!E57=0,"",totaal!E57) -> type AC145 Afmeting 1200x255 afgifte 729 W | F88: =IF(totaal!F57=0,"",totaal!F57) | G88: =IF(totaal!G57=0,"",totaal!G57)
A89: =IF(totaal!A47=0,"",totaal!A47) -> 86 | C89: =IF(totaal!C58=0,"",totaal!C58) -> Plintconvector | D89: =IF(totaal!D58=0,"",totaal!D58) -> Prenger/Instamat | E89: =IF(totaal!E58=0,"",totaal!E58) -> type AC145 Afmeting 2200x255 afgifte 1337 W | F89: =IF(totaal!F58=0,"",totaal!F58) | G89: =IF(totaal!G58=0,"",totaal!G58)
A90: =IF(totaal!A48=0,"",totaal!A48) -> 87 | C90: =IF(totaal!C59=0,"",totaal!C59) -> Plintconvector | D90: =IF(totaal!D59=0,"",totaal!D59) -> Prenger/Instamat | E90: =IF(totaal!E59=0,"",totaal!E59) -> type AC285 Afmeting 1800x255 afgifte 1725 W | F90: =IF(totaal!F59=0,"",totaal!F59) | G90: =IF(totaal!G59=0,"",totaal!G59)
A91: =IF(totaal!A49=0,"",totaal!A49) -> 88 | C91: =IF(totaal!#REF!=0,"",totaal!#REF!) -> #REF! | D91: =IF(totaal!#REF!=0,"",totaal!#REF!) -> #REF! | E91: =IF(totaal!#REF!=0,"",totaal!#REF!) -> #REF! | F91: =IF(totaal!#REF!=0,"",totaal!#REF!) -> #REF! | G91: =IF(totaal!#REF!=0,"",totaal!#REF!) -> #REF!
A92: =IF(totaal!A50=0,"",totaal!A50) -> 89 | C92: =IF(totaal!#REF!=0,"",totaal!#REF!) -> #REF! | D92: =IF(totaal!#REF!=0,"",totaal!#REF!) -> #REF! | E92: =IF(totaal!#REF!=0,"",totaal!#REF!) -> #REF! | F92: =IF(totaal!#REF!=0,"",totaal!#REF!) -> #REF! | G92: =IF(totaal!#REF!=0,"",totaal!#REF!) -> #REF!
A93: =IF(totaal!A51=0,"",totaal!A51) -> 90 | C93: =IF(totaal!C60=0,"",totaal!C60) -> Ribbenbuiskachel | D93: =IF(totaal!D60=0,"",totaal!D60) -> Mecha Heat | E93: =IF(totaal!E60=0,"",totaal!E60) -> type CB600 600 Watt | F93: =IF(totaal!F60=0,"",totaal!F60) | G93: =IF(totaal!G60=0,"",totaal!G60)
A94: =IF(totaal!#REF!=0,"",totaal!#REF!) -> #REF! | C94: =IF(totaal!#REF!=0,"",totaal!#REF!) -> #REF! | D94: =IF(totaal!#REF!=0,"",totaal!#REF!) -> #REF! | E94: =IF(totaal!#REF!=0,"",totaal!#REF!) -> #REF! | F94: =IF(totaal!#REF!=0,"",totaal!#REF!) -> #REF! | G94: =IF(totaal!#REF!=0,"",totaal!#REF!) -> #REF!
A95: =IF(totaal!#REF!=0,"",totaal!#REF!) -> #REF! | C95: =IF(totaal!#REF!=0,"",totaal!#REF!) -> #REF! | D95: =IF(totaal!#REF!=0,"",totaal!#REF!) -> #REF! | E95: =IF(totaal!#REF!=0,"",totaal!#REF!) -> #REF! | F95: =IF(totaal!#REF!=0,"",totaal!#REF!) -> #REF! | G95: =IF(totaal!#REF!=0,"",totaal!#REF!) -> #REF!
A96: =IF(totaal!#REF!=0,"",totaal!#REF!) -> #REF! | C96: =IF(totaal!C61=0,"",totaal!C61) -> Ribbenbuiskachel | D96: =IF(totaal!D61=0,"",totaal!D61) -> Mecha Heat | E96: =IF(totaal!E61=0,"",totaal!E61) -> type CB1875 1875 Watt | F96: =IF(totaal!F61=0,"",totaal!F61) | G96: =IF(totaal!G61=0,"",totaal!G61)
A97: =IF(totaal!A52=0,"",totaal!A52) -> 94 | C97: =IF(totaal!C62=0,"",totaal!C62) -> Ribbenbuiskachel | D97: =IF(totaal!D62=0,"",totaal!D62) -> Mecha Heat | E97: =IF(totaal!E62=0,"",totaal!E62) -> type CB2500 2500 Watt | F97: =IF(totaal!F62=0,"",totaal!F62) | G97: =IF(totaal!G62=0,"",totaal!G62)
A98: =IF(totaal!A53=0,"",totaal!A53) -> 95 | C98: =IF(totaal!C63=0,"",totaal!C63) -> Stralingspaneel | D98: =IF(totaal!D63=0,"",totaal!D63) -> Enco | E98: =IF(totaal!E63=0,"",totaal!E63) -> type 4-pijps Afmeting 3000 x 925 | F98: =IF(totaal!F63=0,"",totaal!F63) | G98: =IF(totaal!G63=0,"",totaal!G63)
A99: =IF(totaal!A54=0,"",totaal!A54) -> 96 | C99: =IF(totaal!C64=0,"",totaal!C64) -> Stralingspaneel | D99: =IF(totaal!D64=0,"",totaal!D64) -> Enco | E99: =IF(totaal!E64=0,"",totaal!E64) -> type 4-pijps Afmeting 2500 x 925 | F99: =IF(totaal!F64=0,"",totaal!F64) | G99: =IF(totaal!G64=0,"",totaal!G64)
A100: =IF(totaal!A55=0,"",totaal!A55) -> 97 | C100: =IF(totaal!#REF!=0,"",totaal!#REF!) -> #REF! | D100: =IF(totaal!#REF!=0,"",totaal!#REF!) -> #REF! | E100: =IF(totaal!#REF!=0,"",totaal!#REF!) -> #REF! | F100: =IF(totaal!#REF!=0,"",totaal!#REF!) -> #REF! | G100: =IF(totaal!#REF!=0,"",totaal!#REF!) -> #REF!
A101: =IF(totaal!A56=0,"",totaal!A56) -> 98 | C101: =IF(totaal!#REF!=0,"",totaal!#REF!) -> #REF! | D101: =IF(totaal!#REF!=0,"",totaal!#REF!) -> #REF! | E101: =IF(totaal!#REF!=0,"",totaal!#REF!) -> #REF! | F101: =IF(totaal!#REF!=0,"",totaal!#REF!) -> #REF! | G101: =IF(totaal!#REF!=0,"",totaal!#REF!) -> #REF!
A102: =IF(totaal!A57=0,"",totaal!A57) -> 99 | C102: =IF(totaal!#REF!=0,"",totaal!#REF!) -> #REF! | D102: =IF(totaal!#REF!=0,"",totaal!#REF!) -> #REF! | E102: =IF(totaal!#REF!=0,"",totaal!#REF!) -> #REF! | F102: =IF(totaal!#REF!=0,"",totaal!#REF!) -> #REF! | G102: =IF(totaal!#REF!=0,"",totaal!#REF!) -> #REF!
A103: =IF(totaal!A58=0,"",totaal!A58) -> 100 | C103: =IF(totaal!#REF!=0,"",totaal!#REF!) -> #REF! | D103: =IF(totaal!#REF!=0,"",totaal!#REF!) -> #REF! | E103: =IF(totaal!#REF!=0,"",totaal!#REF!) -> #REF! | F103: =IF(totaal!#REF!=0,"",totaal!#REF!) -> #REF! | G103: =IF(totaal!#REF!=0,"",totaal!#REF!) -> #REF!
...

Sheet TR02 2e verd
A1: 4.57 | B1: 8 | C1: 19.57 | D1: 47.57 | F1: 10 | G1: 10
A2: =IF(totaal!A2=0,"",totaal!A2) -> STUKLIJST | G2: Versie 4.0 (751)
A3: =IF(totaal!A3=0,"",totaal!A3) -> POS | B3: =IF(totaal!B3=0,"",totaal!B3) -> AANTAL | C3: =IF(totaal!C3=0,"",totaal!C3) -> BENAMING | D3: =IF(totaal!D3=0,"",totaal!D3) -> FABRIKAAT | E3: =IF(totaal!E3=0,"",totaal!E3) -> TYPE | F3: =IF(totaal!F3=0,"",totaal!F3) -> CODE | G3: KLEUR | J3: Mededeling Patrick
A4: =IF(totaal!A4=0,"",totaal!A4) -> 1 | C4: =IF(totaal!C4=0,"",totaal!C4) -> Gasfilter | D4: =IF(totaal!D4=0,"",totaal!D4) -> Econosto | E4: =IF(totaal!E4=0,"",totaal!E4) -> fig.1014 1/2" | F4: =IF(totaal!F4=0,"",totaal!F4) | G4: =IF(totaal!G4=0,"",totaal!G4)
A5: =IF(totaal!A5=0,"",totaal!A5) -> 2 | C5: =IF(totaal!C5=0,"",totaal!C5) -> Gasfilter | D5: =IF(totaal!D5=0,"",totaal!D5) -> Econosto | E5: =IF(totaal!E5=0,"",totaal!E5) -> fig.1014 3/4" | F5: =IF(totaal!F5=0,"",totaal!F5) | G5: =IF(totaal!G5=0,"",totaal!G5)
A6: =IF(totaal!A6=0,"",totaal!A6) -> 3 | C6: =IF(totaal!C6=0,"",totaal!C6) -> Gasfilter | D6: =IF(totaal!D6=0,"",totaal!D6) -> Econosto | E6: =IF(totaal!E6=0,"",totaal!E6) -> fig.1014 1" | F6: =IF(totaal!F6=0,"",totaal!F6) | G6: =IF(totaal!G6=0,"",totaal!G6)
A7: =IF(totaal!A7=0,"",totaal!A7) -> 4 | C7: =IF(totaal!C7=0,"",totaal!C7) -> Gaskogelafsluiter | D7: =IF(totaal!D7=0,"",totaal!D7) -> Econosto | E7: =IF(totaal!E7=0,"",totaal!E7) -> Figuur 1937 1 ½" | F7: =IF(totaal!F7=0,"",totaal!F7) | G7: =IF(totaal!G7=0,"",totaal!G7)
A8: =IF(totaal!A8=0,"",totaal!A8) -> 5 | B8: 1 | C8: =IF(totaal!C8=0,"",totaal!C8) -> Gaskogelafsluiter | D8: =IF(totaal!D8=0,"",totaal!D8) -> VSH | E8: =IF(totaal!E8=0,"",totaal!E8) -> Figuur 060431.8 1 1/4" Bin × Bui | F8: =IF(totaal!F8=0,"",totaal!F8) -> TU785162 | G8: =IF(totaal!G8=0,"",totaal!G8)
A9: =IF(totaal!A9=0,"",totaal!A9) -> 6 | C9: =IF(totaal!C9=0,"",totaal!C9) -> Gaskogelafsluiter | D9: =IF(totaal!D9=0,"",totaal!D9) -> Econosto | E9: =IF(totaal!E9=0,"",totaal!E9) | F9: =IF(totaal!F9=0,"",totaal!F9) | G9: =IF(totaal!G9=0,"",totaal!G9)
A10: =IF(totaal!A10=0,"",totaal!A10) -> 7 | C10: =IF(totaal!C10=0,"",totaal!C10) -> Gaskogelafsluiter | D10: =IF(totaal!D10=0,"",totaal!D10) -> Econosto | E10: =IF(totaal!E10=0,"",totaal!E10) -> fig.1619 2" | F10: =IF(totaal!F10=0,"",totaal!F10) | G10: =IF(totaal!G10=0,"",totaal!G10)
A11: =IF(totaal!A11=0,"",totaal!A11) -> 8 | C11: =IF(totaal!C11=0,"",totaal!C11) -> Gasklepafsluiter | D11: =IF(totaal!D11=0,"",totaal!D11) -> Econosto | E11: =IF(totaal!E11=0,"",totaal!E11) -> fig.2011 DN100 PN10 | F11: =IF(totaal!F11=0,"",totaal!F11) | G11: =IF(totaal!G11=0,"",totaal!G11)
A12: =IF(totaal!A12=0,"",totaal!A12) -> 9 | C12: =IF(totaal!C12=0,"",totaal!C12) -> Gasgebrekklep | D12: =IF(totaal!D12=0,"",totaal!D12) -> Schlumberger | E12: =IF(totaal!E12=0,"",totaal!E12) | F12: =IF(totaal!F12=0,"",totaal!F12) | G12: =IF(totaal!G12=0,"",totaal!G12)
A13: =IF(totaal!A13=0,"",totaal!A13) -> 10 | C13: =IF(totaal!C13=0,"",totaal!C13) -> Klepafsluiter Rayon Patent | D13: =IF(totaal!D13=0,"",totaal!D13) -> Econosto | E13: =IF(totaal!E13=0,"",totaal!E13) -> fig.2011 DN100 | F13: =IF(totaal!F13=0,"",totaal!F13) | G13: =IF(totaal!G13=0,"",totaal!G13)
A14: =IF(totaal!A14=0,"",totaal!A14) -> 11 | C14: =IF(totaal!C14=0,"",totaal!C14) -> Gasmagneetafsluiter NO | D14: =IF(totaal!D14=0,"",totaal!D14) -> Watts Industrie | E14: =IF(totaal!E14=0,"",totaal!E14) -> type ? 3/4" | F14: =IF(totaal!F14=0,"",totaal!F14) | G14: =IF(totaal!G14=0,"",totaal!G14)
A15: =IF(totaal!#REF!=0,"",totaal!#REF!) -> #REF! | C15: =IF(totaal!#REF!=0,"",totaal!#REF!) -> #REF! | D15: =IF(totaal!#REF!=0,"",totaal!#REF!) -> #REF! | E15: =IF(totaal!#REF!=0,"",totaal!#REF!) -> #REF! | F15: =IF(totaal!#REF!=0,"",totaal!#REF!) -> #REF! | G15: =IF(totaal!#REF!=0,"",totaal!#REF!) -> #REF!
A16: =IF(totaal!#REF!=0,"",totaal!#REF!) -> #REF! | C16: =IF(totaal!#REF!=0,"",totaal!#REF!) -> #REF! | D16: =IF(totaal!#REF!=0,"",totaal!#REF!) -> #REF! | E16: =IF(totaal!#REF!=0,"",totaal!#REF!) -> #REF! | F16: =IF(totaal!#REF!=0,"",totaal!#REF!) -> #REF! | G16: =IF(totaal!#REF!=0,"",totaal!#REF!) -> #REF!
A17: =IF(totaal!#REF!=0,"",totaal!#REF!) -> #REF! | C17: =IF(totaal!#REF!=0,"",totaal!#REF!) -> #REF! | D17: =IF(totaal!#REF!=0,"",totaal!#REF!) -> #REF! | E17: =IF(totaal!#REF!=0,"",totaal!#REF!) -> #REF! | F17: =IF(totaal!#REF!=0,"",totaal!#REF!) -> #REF! | G17: =IF(totaal!#REF!=0,"",totaal!#REF!) -> #REF!
A18: =IF(totaal!#REF!=0,"",totaal!#REF!) -> #REF! | C18: =IF(totaal!#REF!=0,"",totaal!#REF!) -> #REF! | D18: =IF(totaal!#REF!=0,"",totaal!#REF!) -> #REF! | E18: =IF(totaal!#REF!=0,"",totaal!#REF!) -> #REF! | F18: =IF(totaal!#REF!=0,"",totaal!#REF!) -> #REF! | G18: =IF(totaal!#REF!=0,"",totaal!#REF!) -> #REF!
A19: =IF(totaal!A15=0,"",totaal!A15) -> 16 | C19: =IF(totaal!C15=0,"",totaal!C15) -> Gasfilter | D19: =IF(totaal!D15=0,"",totaal!D15) -> Econosto | E19: =IF(totaal!E15=0,"",totaal!E15) -> fig.1014 1 1/4" | F19: =IF(totaal!F15=0,"",totaal!F15) | G19: =IF(totaal!G15=0,"",totaal!G15)
A20: =IF(totaal!A16=0,"",totaal!A16) -> 17 | C20: =IF(totaal!C16=0,"",totaal!C16) -> Gaskogelafsluiter | D20: =IF(totaal!D16=0,"",totaal!D16) -> Econosto | E20: =IF(totaal!E16=0,"",totaal!E16) -> fig. 1619 1" | F20: =IF(totaal!F16=0,"",totaal!F16) | G20: =IF(totaal!G16=0,"",totaal!G16)
A21: =IF(totaal!#REF!=0,"",totaal!#REF!) -> #REF! | C21: =IF(totaal!#REF!=0,"",totaal!#REF!) -> #REF! | D21: =IF(totaal!#REF!=0,"",totaal!#REF!) -> #REF! | E21: =IF(totaal!#REF!=0,"",totaal!#REF!) -> #REF! | F21: =IF(totaal!#REF!=0,"",totaal!#REF!) -> #REF! | G21: =IF(totaal!#REF!=0,"",totaal!#REF!) -> #REF!
A22: =IF(totaal!#REF!=0,"",totaal!#REF!) -> #REF! | C22: =IF(totaal!#REF!=0,"",totaal!#REF!) -> #REF! | D22: =IF(totaal!#REF!=0,"",totaal!#REF!) -> #REF! | E22: =IF(totaal!#REF!=0,"",totaal!#REF!) -> #REF! | F22: =IF(totaal!#REF!=0,"",totaal!#REF!) -> #REF! | G22: =IF(totaal!#REF!=0,"",totaal!#REF!) -> #REF!
A23: =IF(totaal!A17=0,"",totaal!A17) -> 20 | B23: 1 | C23: =IF(totaal!C17=0,"",totaal!C17) -> Bufffervat 1500 ltr | D23: =IF(totaal!D17=0,"",totaal!D17) -> Horos | E23: =IF(totaal!E17=0,"",totaal!E17) -> Verticaal Buffervat VK 1500 diameter ø990mm × 2470mm | F23: =IF(totaal!F17=0,"",totaal!F17) -> 816 020 070 | G23: =IF(totaal!G17=0,"",totaal!G17)
A24: =IF(totaal!A18=0,"",totaal!A18) -> 21 | C24: =IF(totaal!C18=0,"",totaal!C18) | D24: =IF(totaal!D18=0,"",totaal!D18) | E24: =IF(totaal!E18=0,"",totaal!E18) -> Uitw. geïsoleerd met 20 mm dampdichte isolatie | F24: =IF(totaal!F18=0,"",totaal!F18) | G24: =IF(totaal!G18=0,"",totaal!G18)
A25: =IF(totaal!A19=0,"",totaal!A19) -> 22 | C25: =IF(totaal!C19=0,"",totaal!C19) | D25: =IF(totaal!D19=0,"",totaal!D19) | E25: =IF(totaal!E19=0,"",totaal!E19) -> Inclusief 2× ¾" voor aftap en beluchting | F25: =IF(totaal!F19=0,"",totaal!F19) | G25: =IF(totaal!G19=0,"",totaal!G19)
A26: =IF(totaal!A20=0,"",totaal!A20) -> 23 | B26: 1 | C26: =IF(totaal!C20=0,"",totaal!C20) -> Bufffervat 2000 ltr | D26: =IF(totaal!D20=0,"",totaal!D20) -> Horos | E26: =IF(totaal!E20=0,"",totaal!E20) -> Verticaal Buffervat VK 2000 diameter ø1140mm × 2510mm | F26: =IF(totaal!F20=0,"",totaal!F20) -> 816 020 071 | G26: =IF(totaal!G20=0,"",totaal!G20)
A27: =IF(totaal!A21=0,"",totaal!A21) -> 24 | C27: =IF(totaal!C21=0,"",totaal!C21) | D27: =IF(totaal!D21=0,"",totaal!D21) | E27: =IF(totaal!E21=0,"",totaal!E21) -> Uitwendig gesioleerd met 20 mm dampdichte isolatie | F27: =IF(totaal!F21=0,"",totaal!F21) | G27: =IF(totaal!G21=0,"",totaal!G21)
A28: =IF(totaal!A22=0,"",totaal!A22) -> 25 | C28: =IF(totaal!C22=0,"",totaal!C22) | D28: =IF(totaal!D22=0,"",totaal!D22) | E28: =IF(totaal!E22=0,"",totaal!E22) -> Inclusief 2× ¾" voor aftap en beluchting | F28: =IF(totaal!F22=0,"",totaal!F22) | G28: =IF(totaal!G22=0,"",totaal!G22)
A29: =IF(totaal!#REF!=0,"",totaal!#REF!) -> #REF! | C29: =IF(totaal!#REF!=0,"",totaal!#REF!) -> #REF! | D29: =IF(totaal!#REF!=0,"",totaal!#REF!) -> #REF! | E29: =IF(totaal!#REF!=0,"",totaal!#REF!) -> #REF! | F29: =IF(totaal!#REF!=0,"",totaal!#REF!) -> #REF! | G29: =IF(totaal!#REF!=0,"",totaal!#REF!) -> #REF!
A30: =IF(totaal!#REF!=0,"",totaal!#REF!) -> #REF! | C30: =IF(totaal!#REF!=0,"",totaal!#REF!) -> #REF! | D30: =IF(totaal!#REF!=0,"",totaal!#REF!) -> #REF! | E30: =IF(totaal!#REF!=0,"",totaal!#REF!) -> #REF! | F30: =IF(totaal!#REF!=0,"",totaal!#REF!) -> #REF! | G30: =IF(totaal!#REF!=0,"",totaal!#REF!) -> #REF!
A31: =IF(totaal!#REF!=0,"",totaal!#REF!) -> #REF! | C31: =IF(totaal!#REF!=0,"",totaal!#REF!) -> #REF! | D31: =IF(totaal!#REF!=0,"",totaal!#REF!) -> #REF! | E31: =IF(totaal!#REF!=0,"",totaal!#REF!) -> #REF! | F31: =IF(totaal!#REF!=0,"",totaal!#REF!) -> #REF! | G31: =IF(totaal!#REF!=0,"",totaal!#REF!) -> #REF!
A32: =IF(totaal!#REF!=0,"",totaal!#REF!) -> #REF! | C32: =IF(totaal!#REF!=0,"",totaal!#REF!) -> #REF! | D32: =IF(totaal!#REF!=0,"",totaal!#REF!) -> #REF! | E32: =IF(totaal!#REF!=0,"",totaal!#REF!) -> #REF! | F32: =IF(totaal!#REF!=0,"",totaal!#REF!) -> #REF! | G32: =IF(totaal!#REF!=0,"",totaal!#REF!) -> #REF!
A33: =IF(totaal!#REF!=0,"",totaal!#REF!) -> #REF! | C33: =IF(totaal!#REF!=0,"",totaal!#REF!) -> #REF! | D33: =IF(totaal!#REF!=0,"",totaal!#REF!) -> #REF! | E33: =IF(totaal!#REF!=0,"",totaal!#REF!) -> #REF! | F33: =IF(totaal!#REF!=0,"",totaal!#REF!) -> #REF! | G33: =IF(totaal!#REF!=0,"",totaal!#REF!) -> #REF!
A34: =IF(totaal!#REF!=0,"",totaal!#REF!) -> #REF! | C34: =IF(totaal!#REF!=0,"",totaal!#REF!) -> #REF! | D34: =IF(totaal!#REF!=0,"",totaal!#REF!) -> #REF! | E34: =IF(totaal!#REF!=0,"",totaal!#REF!) -> #REF! | F34: =IF(totaal!#REF!=0,"",totaal!#REF!) -> #REF! | G34: =IF(totaal!#REF!=0,"",totaal!#REF!) -> #REF!
A35: =IF(totaal!#REF!=0,"",totaal!#REF!) -> #REF! | C35: =IF(totaal!#REF!=0,"",totaal!#REF!) -> #REF! | D35: =IF(totaal!#REF!=0,"",totaal!#REF!) -> #REF! | E35: =IF(totaal!#REF!=0,"",totaal!#REF!) -> #REF! | F35: =IF(totaal!#REF!=0,"",totaal!#REF!) -> #REF! | G35: =IF(totaal!#REF!=0,"",totaal!#REF!) -> #REF!
A36: =IF(totaal!#REF!=0,"",totaal!#REF!) -> #REF! | C36: =IF(totaal!#REF!=0,"",totaal!#REF!) -> #REF! | D36: =IF(totaal!#REF!=0,"",totaal!#REF!) -> #REF! | E36: =IF(totaal!#REF!=0,"",totaal!#REF!) -> #REF! | F36: =IF(totaal!#REF!=0,"",totaal!#REF!) -> #REF! | G36: =IF(totaal!#REF!=0,"",totaal!#REF!) -> #REF!
A37: =IF(totaal!#REF!=0,"",totaal!#REF!) -> #REF! | C37: =IF(totaal!#REF!=0,"",totaal!#REF!) -> #REF! | D37: =IF(totaal!#REF!=0,"",totaal!#REF!) -> #REF! | E37: =IF(totaal!#REF!=0,"",totaal!#REF!) -> #REF! | F37: =IF(totaal!#REF!=0,"",totaal!#REF!) -> #REF! | G37: =IF(totaal!#REF!=0,"",totaal!#REF!) -> #REF!
A38: =IF(totaal!#REF!=0,"",totaal!#REF!) -> #REF! | C38: =IF(totaal!#REF!=0,"",totaal!#REF!) -> #REF! | D38: =IF(totaal!#REF!=0,"",totaal!#REF!) -> #REF! | E38: =IF(totaal!#REF!=0,"",totaal!#REF!) -> #REF! | F38: =IF(totaal!#REF!=0,"",totaal!#REF!) -> #REF! | G38: =IF(totaal!#REF!=0,"",totaal!#REF!) -> #REF!
A39: =IF(totaal!#REF!=0,"",totaal!#REF!) -> #REF! | C39: =IF(totaal!#REF!=0,"",totaal!#REF!) -> #REF! | D39: =IF(totaal!#REF!=0,"",totaal!#REF!) -> #REF! | E39: =IF(totaal!#REF!=0,"",totaal!#REF!) -> #REF! | F39: =IF(totaal!#REF!=0,"",totaal!#REF!) -> #REF! | G39: =IF(totaal!#REF!=0,"",totaal!#REF!) -> #REF!
A40: =IF(totaal!#REF!=0,"",totaal!#REF!) -> #REF! | C40: =IF(totaal!#REF!=0,"",totaal!#REF!) -> #REF! | D40: =IF(totaal!#REF!=0,"",totaal!#REF!) -> #REF! | E40: =IF(totaal!#REF!=0,"",totaal!#REF!) -> #REF! | F40: =IF(totaal!#REF!=0,"",totaal!#REF!) -> #REF! | G40: =IF(totaal!#REF!=0,"",totaal!#REF!) -> #REF!
... A42: =IF(totaal!#REF!=0,"",totaal!#REF!) -> #REF! | C42: =IF(totaal!#REF!=0,"",totaal!#REF!) -> #REF! | D42: =IF(totaal!#REF!=0,"",totaal!#REF!) -> #REF! | E42: =IF(totaal!#REF!=0,"",totaal!#REF!) -> #REF! | F42: =IF(totaal!#REF!=0,"",totaal!#REF!) -> #REF! | G42: =IF(totaal!#REF!=0,"",totaal!#REF!) -> #REF!
A43: =IF(totaal!#REF!=0,"",totaal!#REF!) -> #REF! | C43: =IF(totaal!C23=0,"",totaal!C23) -> Radiator | D43: =IF(totaal!D23=0,"",totaal!D23) -> Veha | E43: =IF(totaal!E23=0,"",totaal!E23) -> type standaard 1600-900-22 | F43: =IF(totaal!F23=0,"",totaal!F23) | G43: =IF(totaal!G23=0,"",totaal!G23)
A44: =IF(totaal!#REF!=0,"",totaal!#REF!) -> #REF! | C44: =IF(totaal!#REF!=0,"",totaal!#REF!) -> #REF! | D44: =IF(totaal!#REF!=0,"",totaal!#REF!) -> #REF! | E44: =IF(totaal!#REF!=0,"",totaal!#REF!) -> #REF! | F44: =IF(totaal!#REF!=0,"",totaal!#REF!) -> #REF! | G44: =IF(totaal!#REF!=0,"",totaal!#REF!) -> #REF!
A45: =IF(totaal!#REF!=0,"",totaal!#REF!) -> #REF! | C45: =IF(totaal!#REF!=0,"",totaal!#REF!) -> #REF! | D45: =IF(totaal!#REF!=0,"",totaal!#REF!) -> #REF! | E45: =IF(totaal!#REF!=0,"",totaal!#REF!) -> #REF! | F45: =IF(totaal!#REF!=0,"",totaal!#REF!) -> #REF! | G45: =IF(totaal!#REF!=0,"",totaal!#REF!) -> #REF!
A46: =IF(totaal!#REF!=0,"",totaal!#REF!) -> #REF! | C46: =IF(totaal!#REF!=0,"",totaal!#REF!) -> #REF! | D46: =IF(totaal!#REF!=0,"",totaal!#REF!) -> #REF! | E46: =IF(totaal!#REF!=0,"",totaal!#REF!) -> #REF! | F46: =IF(totaal!#REF!=0,"",totaal!#REF!) -> #REF! | G46: =IF(totaal!#REF!=0,"",totaal!#REF!) -> #REF!
A47: =IF(totaal!#REF!=0,"",totaal!#REF!) -> #REF! | C47: =IF(totaal!#REF!=0,"",totaal!#REF!) -> #REF! | D47: =IF(totaal!#REF!=0,"",totaal!#REF!) -> #REF! | E47: =IF(totaal!#REF!=0,"",totaal!#REF!) -> #REF! | F47: =IF(totaal!#REF!=0,"",totaal!#REF!) -> #REF! | G47: =IF(totaal!#REF!=0,"",totaal!#REF!) -> #REF!
A48: =IF(totaal!#REF!=0,"",totaal!#REF!) -> #REF! | C48: =IF(totaal!#REF!=0,"",totaal!#REF!) -> #REF! | D48: =IF(totaal!#REF!=0,"",totaal!#REF!) -> #REF! | E48: =IF(totaal!#REF!=0,"",totaal!#REF!) -> #REF! | F48: =IF(totaal!#REF!=0,"",totaal!#REF!) -> #REF! | G48: =IF(totaal!#REF!=0,"",totaal!#REF!) -> #REF!
A49: =IF(totaal!#REF!=0,"",totaal!#REF!) -> #REF! | C49: =IF(totaal!#REF!=0,"",totaal!#REF!) -> #REF! | D49: =IF(totaal!#REF!=0,"",totaal!#REF!) -> #REF! | E49: =IF(totaal!#REF!=0,"",totaal!#REF!) -> #REF! | F49: =IF(totaal!#REF!=0,"",totaal!#REF!) -> #REF! | G49: =IF(totaal!#REF!=0,"",totaal!#REF!) -> #REF!
A50: =IF(totaal!#REF!=0,"",totaal!#REF!) -> #REF! | C50: =IF(totaal!#REF!=0,"",totaal!#REF!) -> #REF! | D50: =IF(totaal!#REF!=0,"",totaal!#REF!) -> #REF! | E50: =IF(totaal!#REF!=0,"",totaal!#REF!) -> #REF! | F50: =IF(totaal!#REF!=0,"",totaal!#REF!) -> #REF! | G50: =IF(totaal!#REF!=0,"",totaal!#REF!) -> #REF!
A51: =IF(totaal!#REF!=0,"",totaal!#REF!) -> #REF! | C51: =IF(totaal!#REF!=0,"",totaal!#REF!) -> #REF! | D51: =IF(totaal!#REF!=0,"",totaal!#REF!) -> #REF! | E51: =IF(totaal!#REF!=0,"",totaal!#REF!) -> #REF! | F51: =IF(totaal!#REF!=0,"",totaal!#REF!) -> #REF! | G51: =IF(totaal!#REF!=0,"",totaal!#REF!) -> #REF!
A52: =IF(totaal!#REF!=0,"",totaal!#REF!) -> #REF! | C52: =IF(totaal!C24=0,"",totaal!C24) -> Radiator | D52: =IF(totaal!D24=0,"",totaal!D24) -> Veha | E52: =IF(totaal!E24=0,"",totaal!E24) -> type Plana 22 afmeting 3000x500 | F52: =IF(totaal!F24=0,"",totaal!F24) | G52: =IF(totaal!G24=0,"",totaal!G24)
A53: =IF(totaal!#REF!=0,"",totaal!#REF!) -> #REF! | C53: =IF(totaal!C25=0,"",totaal!C25) -> Radiator | D53: =IF(totaal!D25=0,"",totaal!D25) -> Veha | E53: =IF(totaal!E25=0,"",totaal!E25) -> type Plana 22 afmeting 2000x600 Q=1110 W | F53: =IF(totaal!F25=0,"",totaal!F25) | G53: =IF(totaal!G25=0,"",totaal!G25)
A54: =IF(totaal!#REF!=0,"",totaal!#REF!) -> #REF! | C54: =IF(totaal!C26=0,"",totaal!C26) -> Radiator | D54: =IF(totaal!D26=0,"",totaal!D26) -> Veha | E54: =IF(totaal!E26=0,"",totaal!E26) -> type Plana 22 afmeting 3800x600 Q=2110 W | F54: =IF(totaal!F26=0,"",totaal!F26) | G54: =IF(totaal!G26=0,"",totaal!G26)
A55: =IF(totaal!#REF!=0,"",totaal!#REF!) -> #REF! | C55: =IF(totaal!C27=0,"",totaal!C27) -> Radiator | D55: =IF(totaal!D27=0,"",totaal!D27) -> Veha | E55: =IF(totaal!E27=0,"",totaal!E27) -> type Plana 22 afmeting 1000x600 Q=554 W | F55: =IF(totaal!F27=0,"",totaal!F27) | G55: =IF(totaal!G27=0,"",totaal!G27)
A56: =IF(totaal!#REF!=0,"",totaal!#REF!) -> #REF! | C56: =IF(totaal!C28=0,"",totaal!C28) -> Radiator | D56: =IF(totaal!D28=0,"",totaal!D28) -> Veha | E56: =IF(totaal!E28=0,"",totaal!E28) -> type Plana 22 afmeting 2200x600 Q=1230 W | F56: =IF(totaal!F28=0,"",totaal!F28) | G56: =IF(totaal!G28=0,"",totaal!G28)
A57: =IF(totaal!#REF!=0,"",totaal!#REF!) -> #REF! | C57: =IF(totaal!C29=0,"",totaal!C29) -> Radiator | D57: =IF(totaal!D29=0,"",totaal!D29) -> Henrad | E57: =IF(totaal!E29=0,"",totaal!E29) -> type 22 afmeting 1400x600 Q=990 W | F57: =IF(totaal!F29=0,"",totaal!F29) | G57: =IF(totaal!G29=0,"",totaal!G29)
A58: =IF(totaal!#REF!=0,"",totaal!#REF!) -> #REF! | C58: =IF(totaal!C30=0,"",totaal!C30) -> Radiator | D58: =IF(totaal!D30=0,"",totaal!D30) -> Henrad | E58: =IF(totaal!E30=0,"",totaal!E30) -> type 22 afmeting 1600x600 Q=1131 W | F58: =IF(totaal!F30=0,"",totaal!F30) | G58: =IF(totaal!G30=0,"",totaal!G30)
A59: =IF(totaal!#REF!=0,"",totaal!#REF!) -> #REF! | C59: =IF(totaal!C31=0,"",totaal!C31) -> Radiator | D59: =IF(totaal!D31=0,"",totaal!D31) -> Henrad | E59: =IF(totaal!E31=0,"",totaal!E31) -> type 22 afmeting 2000x600 Q=1414 W | F59: =IF(totaal!F31=0,"",totaal!F31) | G59: =IF(totaal!G31=0,"",totaal!G31)
A60: =IF(totaal!#REF!=0,"",totaal!#REF!) -> #REF! | C60: =IF(totaal!C32=0,"",totaal!C32) -> Radiator | D60: =IF(totaal!D32=0,"",totaal!D32) -> Henrad | E60: =IF(totaal!E32=0,"",totaal!E32) -> type 22 afmeting 1600x600 Q=1131 W | F60: =IF(totaal!F32=0,"",totaal!F32) | G60: =IF(totaal!G32=0,"",totaal!G32)
A61: =IF(totaal!#REF!=0,"",totaal!#REF!) -> #REF! | C61: =IF(totaal!C33=0,"",totaal!C33) -> Radiator | D61: =IF(totaal!D33=0,"",totaal!D33) -> Henrad | E61: =IF(totaal!E33=0,"",totaal!E33) -> type 11 afmeting 1200x600 Q-1200 W | F61: =IF(totaal!F33=0,"",totaal!F33) | G61: =IF(totaal!G33=0,"",totaal!G33)
A62: =IF(totaal!#REF!=0,"",totaal!#REF!) -> #REF! | C62: =IF(totaal!C34=0,"",totaal!C34) -> Radiator | D62: =IF(totaal!D34=0,"",totaal!D34) -> Henrad | E62: =IF(totaal!E34=0,"",totaal!E34) -> type 11 afmeting 1400x600 Q=1400 W | F62: =IF(totaal!F34=0,"",totaal!F34) | G62: =IF(totaal!G34=0,"",totaal!G34)
A63: =IF(totaal!#REF!=0,"",totaal!#REF!) -> #REF! | C63: =IF(totaal!C35=0,"",totaal!C35) -> Radiator | D63: =IF(totaal!D35=0,"",totaal!D35) -> Henrad | E63: =IF(totaal!E35=0,"",totaal!E35) -> type 11 afmeting 800x600 Q=800 W | F63: =IF(totaal!F35=0,"",totaal!F35) | G63: =IF(totaal!G35=0,"",totaal!G35)
A64: =IF(totaal!#REF!=0,"",totaal!#REF!) -> #REF! | C64: =IF(totaal!C36=0,"",totaal!C36) -> Radiator | D64: =IF(totaal!D36=0,"",totaal!D36) -> Henrad | E64: =IF(totaal!E36=0,"",totaal!E36) -> type 22 afmeting 1000x600 Q=707 W | F64: =IF(totaal!F36=0,"",totaal!F36) | G64: =IF(totaal!G36=0,"",totaal!G36)
A65: =IF(totaal!A23=0,"",totaal!A23) -> 62 | C65: =IF(totaal!C37=0,"",totaal!C37) -> Radiator | D65: =IF(totaal!D37=0,"",totaal!D37) -> Henrad | E65: =IF(totaal!E37=0,"",totaal!E37) -> type 33 afmeting 2000x600 Q=1976 W | F65: =IF(totaal!F37=0,"",totaal!F37) | G65: =IF(totaal!G37=0,"",totaal!G37)
A66: =IF(totaal!A24=0,"",totaal!A24) -> 63 | C66: =IF(totaal!C38=0,"",totaal!C38) -> Radiator | D66: =IF(totaal!D38=0,"",totaal!D38) -> Henrad | E66: =IF(totaal!E38=0,"",totaal!E38) -> type 22 afmeting 2200x600 Q=1555 W | F66: =IF(totaal!F38=0,"",totaal!F38) | G66: =IF(totaal!G38=0,"",totaal!G38)
A67: =IF(totaal!A25=0,"",totaal!A25) -> 64 | C67: =IF(totaal!C39=0,"",totaal!C39) -> Radiator | D67: =IF(totaal!D39=0,"",totaal!D39) -> Henrad | E67: =IF(totaal!E39=0,"",totaal!E39) -> type 11 afmeting 1000x600 Q=1000 W | F67: =IF(totaal!F39=0,"",totaal!F39) | G67: =IF(totaal!G39=0,"",totaal!G39)
A68: =IF(totaal!A26=0,"",totaal!A26) -> 65 | C68: =IF(totaal!C40=0,"",totaal!C40) -> Radiator | D68: =IF(totaal!D40=0,"",totaal!D40) -> Henrad | E68: =IF(totaal!E40=0,"",totaal!E40) -> type 11 afmeting 700x600 Q=700 W | F68: =IF(totaal!F40=0,"",totaal!F40) | G68: =IF(totaal!G40=0,"",totaal!G40)
A69: =IF(totaal!A27=0,"",totaal!A27) -> 66 | C69: =IF(totaal!C41=0,"",totaal!C41) -> Radiator | D69: =IF(totaal!D41=0,"",totaal!D41) -> Henrad | E69: =IF(totaal!E41=0,"",totaal!E41) -> type 21 afmeting 900x600 Q=505 W | F69: =IF(totaal!F41=0,"",totaal!F41) | G69: =IF(totaal!G41=0,"",totaal!G41)
A70: =IF(totaal!A28=0,"",totaal!A28) -> 67 | C70: =IF(totaal!C42=0,"",totaal!C42) -> Radiator | D70: =IF(totaal!D42=0,"",totaal!D42) -> Henrad | E70: =IF(totaal!E42=0,"",totaal!E42) -> type 22 afmeting 1000x600 Q=1778 W | F70: =IF(totaal!F42=0,"",totaal!F42) | G70: =IF(totaal!G42=0,"",totaal!G42)
A71: =IF(totaal!A29=0,"",totaal!A29) -> 68 | C71: =IF(totaal!C43=0,"",totaal!C43) -> Radiator | D71: =IF(totaal!D43=0,"",totaal!D43) -> Henrad | E71: =IF(totaal!E43=0,"",totaal!E43) -> type 22 afmeting 500x600 Q=889 W | F71: =IF(totaal!F43=0,"",totaal!F43) | G71: =IF(totaal!G43=0,"",totaal!G43)
A72: =IF(totaal!A30=0,"",totaal!A30) -> 69 | C72: =IF(totaal!C44=0,"",totaal!C44) -> Radiator | D72: =IF(totaal!D44=0,"",totaal!D44) -> Henrad | E72: =IF(totaal!E44=0,"",totaal!E44) -> type 11 afmeting 900x600 Q=900 W | F72: =IF(totaal!F44=0,"",totaal!F44) | G72: =IF(totaal!G44=0,"",totaal!G44)
A73: =IF(totaal!A31=0,"",totaal!A31) -> 70 | C73: =IF(totaal!C45=0,"",totaal!C45) -> Radiator | D73: =IF(totaal!D45=0,"",totaal!D45) -> Henrad | E73: =IF(totaal!E45=0,"",totaal!E45) -> type 221 afmeting 1100x600 Q=1956 W | F73: =IF(totaal!F45=0,"",totaal!F45) | G73: =IF(totaal!G45=0,"",totaal!G45)
A74: =IF(totaal!A32=0,"",totaal!A32) -> 71 | C74: =IF(totaal!C46=0,"",totaal!C46) -> Radiator | D74: =IF(totaal!D46=0,"",totaal!D46) -> Henrad | E74: =IF(totaal!E46=0,"",totaal!E46) -> type 22 afmeting 700x600 Q=495 W | F74: =IF(totaal!F46=0,"",totaal!F46) | G74: =IF(totaal!G46=0,"",totaal!G46)
A75: =IF(totaal!A33=0,"",totaal!A33) -> 72 | C75: =IF(totaal!C47=0,"",totaal!C47) -> Radiator | D75: =IF(totaal!D47=0,"",totaal!D47) -> Henrad | E75: =IF(totaal!E47=0,"",totaal!E47) -> type 33 afmeting 1600x700 Q=1778 W | F75: =IF(totaal!F47=0,"",totaal!F47) | G75: =IF(totaal!G47=0,"",totaal!G47)
A76: =IF(totaal!A34=0,"",totaal!A34) -> 73 | C76: =IF(totaal!C48=0,"",totaal!C48) -> Radiator | D76: =IF(totaal!D48=0,"",totaal!D48) -> Henrad | E76: =IF(totaal!E48=0,"",totaal!E48) -> type 11 afmeting 800x300 | F76: =IF(totaal!F48=0,"",totaal!F48) | G76: =IF(totaal!G48=0,"",totaal!G48)
... A79: =IF(totaal!A37=0,"",totaal!A37) -> 76 | C79: =IF(totaal!C51=0,"",totaal!C51) -> Radiator | D79: =IF(totaal!D51=0,"",totaal!D51) -> Henrad | E79: =IF(totaal!E51=0,"",totaal!E51) -> type 11 afmeting 800x300 | F79: =IF(totaal!F51=0,"",totaal!F51) | G79: =IF(totaal!G51=0,"",totaal!G51)
A80: =IF(totaal!A38=0,"",totaal!A38) -> 77 | C80: =IF(totaal!#REF!=0,"",totaal!#REF!) -> #REF! | D80: =IF(totaal!#REF!=0,"",totaal!#REF!) -> #REF! | E80: =IF(totaal!#REF!=0,"",totaal!#REF!) -> #REF! | F80: =IF(totaal!#REF!=0,"",totaal!#REF!) -> #REF! | G80: =IF(totaal!#REF!=0,"",totaal!#REF!) -> #REF!
A81: =IF(totaal!A39=0,"",totaal!A39) -> 78 | C81: =IF(totaal!#REF!=0,"",totaal!#REF!) -> #REF! | D81: =IF(totaal!#REF!=0,"",totaal!#REF!) -> #REF! | E81: =IF(totaal!#REF!=0,"",totaal!#REF!) -> #REF! | F81: =IF(totaal!#REF!=0,"",totaal!#REF!) -> #REF! | G81: =IF(totaal!#REF!=0,"",totaal!#REF!) -> #REF!
A82: =IF(totaal!A40=0,"",totaal!A40) -> 79 | C82: =IF(totaal!#REF!=0,"",totaal!#REF!) -> #REF! | D82: =IF(totaal!#REF!=0,"",totaal!#REF!) -> #REF! | E82: =IF(totaal!#REF!=0,"",totaal!#REF!) -> #REF! | F82: =IF(totaal!#REF!=0,"",totaal!#REF!) -> #REF! | G82: =IF(totaal!#REF!=0,"",totaal!#REF!) -> #REF!
A83: =IF(totaal!A41=0,"",totaal!A41) -> 80 | C83: =IF(totaal!C52=0,"",totaal!C52) -> Plintconvector | D83: =IF(totaal!D52=0,"",totaal!D52) -> Prenger/Instamat | E83: =IF(totaal!E52=0,"",totaal!E52) -> type AC145 Afmeting 700x255 afgifte 425 W | F83: =IF(totaal!F52=0,"",totaal!F52) | G83: =IF(totaal!G52=0,"",totaal!G52)
A84: =IF(totaal!A42=0,"",totaal!A42) -> 81 | C84: =IF(totaal!C53=0,"",totaal!C53) -> Plintconvector | D84: =IF(totaal!D53=0,"",totaal!D53) -> Prenger/Instamat | E84: =IF(totaal!E53=0,"",totaal!E53) -> type AC145 Afmeting 500x255 afgifte 303 W | F84: =IF(totaal!F53=0,"",totaal!F53) | G84: =IF(totaal!G53=0,"",totaal!G53)
A85: =IF(totaal!A43=0,"",totaal!A43) -> 82 | C85: =IF(totaal!C54=0,"",totaal!C54) -> Plintconvector | D85: =IF(totaal!D54=0,"",totaal!D54) -> Prenger/Instamat | E85: =IF(totaal!E54=0,"",totaal!E54) -> type AC145 Afmeting 900x255 afgifte 546 W | F85: =IF(totaal!F54=0,"",totaal!F54) | G85: =IF(totaal!G54=0,"",totaal!G54)
A86: =IF(totaal!A44=0,"",totaal!A44) -> 83 | C86: =IF(totaal!C55=0,"",totaal!C55) -> Plintconvector | D86: =IF(totaal!D55=0,"",totaal!D55) -> Prenger/Instamat | E86: =IF(totaal!E55=0,"",totaal!E55) -> type AC145 Afmeting 1500x255 afgifte 911 W | F86: =IF(totaal!F55=0,"",totaal!F55) | G86: =IF(totaal!G55=0,"",totaal!G55)
A87: =IF(totaal!A45=0,"",totaal!A45) -> 84 | C87: =IF(totaal!C56=0,"",totaal!C56) -> Plintconvector | D87: =IF(totaal!D56=0,"",totaal!D56) -> Prenger/Instamat | E87: =IF(totaal!E56=0,"",totaal!E56) -> type AC145 Afmeting 600x255 afgifte 364 W | F87: =IF(totaal!F56=0,"",totaal!F56) | G87: =IF(totaal!G56=0,"",totaal!G56)
A88: =IF(totaal!A46=0,"",totaal!A46) -> 85 | C88: =IF(totaal!C57=0,"",totaal!C57) -> Plintconvector | D88: =IF(totaal!D57=0,"",totaal!D57) -> Prenger/Instamat | E88: =IF(totaal!E57=0,"",totaal!E57) -> type AC145 Afmeting 1200x255 afgifte 729 W | F88: =IF(totaal!F57=0,"",totaal!F57) | G88: =IF(totaal!G57=0,"",totaal!G57)
A89: =IF(totaal!A47=0,"",totaal!A47) -> 86 | C89: =IF(totaal!C58=0,"",totaal!C58) -> Plintconvector | D89: =IF(totaal!D58=0,"",totaal!D58) -> Prenger/Instamat | E89: =IF(totaal!E58=0,"",totaal!E58) -> type AC145 Afmeting 2200x255 afgifte 1337 W | F89: =IF(totaal!F58=0,"",totaal!F58) | G89: =IF(totaal!G58=0,"",totaal!G58)
A90: =IF(totaal!A48=0,"",totaal!A48) -> 87 | C90: =IF(totaal!C59=0,"",totaal!C59) -> Plintconvector | D90: =IF(totaal!D59=0,"",totaal!D59) -> Prenger/Instamat | E90: =IF(totaal!E59=0,"",totaal!E59) -> type AC285 Afmeting 1800x255 afgifte 1725 W | F90: =IF(totaal!F59=0,"",totaal!F59) | G90: =IF(totaal!G59=0,"",totaal!G59)
A91: =IF(totaal!A49=0,"",totaal!A49) -> 88 | C91: =IF(totaal!#REF!=0,"",totaal!#REF!) -> #REF! | D91: =IF(totaal!#REF!=0,"",totaal!#REF!) -> #REF! | E91: =IF(totaal!#REF!=0,"",totaal!#REF!) -> #REF! | F91: =IF(totaal!#REF!=0,"",totaal!#REF!) -> #REF! | G91: =IF(totaal!#REF!=0,"",totaal!#REF!) -> #REF!
A92: =IF(totaal!A50=0,"",totaal!A50) -> 89 | C92: =IF(totaal!#REF!=0,"",totaal!#REF!) -> #REF! | D92: =IF(totaal!#REF!=0,"",totaal!#REF!) -> #REF! | E92: =IF(totaal!#REF!=0,"",totaal!#REF!) -> #REF! | F92: =IF(totaal!#REF!=0,"",totaal!#REF!) -> #REF! | G92: =IF(totaal!#REF!=0,"",totaal!#REF!) -> #REF!
A93: =IF(totaal!A51=0,"",totaal!A51) -> 90 | C93: =IF(totaal!C60=0,"",totaal!C60) -> Ribbenbuiskachel | D93: =IF(totaal!D60=0,"",totaal!D60) -> Mecha Heat | E93: =IF(totaal!E60=0,"",totaal!E60) -> type CB600 600 Watt | F93: =IF(totaal!F60=0,"",totaal!F60) | G93: =IF(totaal!G60=0,"",totaal!G60)
A94: =IF(totaal!#REF!=0,"",totaal!#REF!) -> #REF! | C94: =IF(totaal!#REF!=0,"",totaal!#REF!) -> #REF! | D94: =IF(totaal!#REF!=0,"",totaal!#REF!) -> #REF! | E94: =IF(totaal!#REF!=0,"",totaal!#REF!) -> #REF! | F94: =IF(totaal!#REF!=0,"",totaal!#REF!) -> #REF! | G94: =IF(totaal!#REF!=0,"",totaal!#REF!) -> #REF!
A95: =IF(totaal!#REF!=0,"",totaal!#REF!) -> #REF! | C95: =IF(totaal!#REF!=0,"",totaal!#REF!) -> #REF! | D95: =IF(totaal!#REF!=0,"",totaal!#REF!) -> #REF! | E95: =IF(totaal!#REF!=0,"",totaal!#REF!) -> #REF! | F95: =IF(totaal!#REF!=0,"",totaal!#REF!) -> #REF! | G95: =IF(totaal!#REF!=0,"",totaal!#REF!) -> #REF!
A96: =IF(totaal!#REF!=0,"",totaal!#REF!) -> #REF! | C96: =IF(totaal!C61=0,"",totaal!C61) -> Ribbenbuiskachel | D96: =IF(totaal!D61=0,"",totaal!D61) -> Mecha Heat | E96: =IF(totaal!E61=0,"",totaal!E61) -> type CB1875 1875 Watt | F96: =IF(totaal!F61=0,"",totaal!F61) | G96: =IF(totaal!G61=0,"",totaal!G61)
A97: =IF(totaal!A52=0,"",totaal!A52) -> 94 | C97: =IF(totaal!C62=0,"",totaal!C62) -> Ribbenbuiskachel | D97: =IF(totaal!D62=0,"",totaal!D62) -> Mecha Heat | E97: =IF(totaal!E62=0,"",totaal!E62) -> type CB2500 2500 Watt | F97: =IF(totaal!F62=0,"",totaal!F62) | G97: =IF(totaal!G62=0,"",totaal!G62)
A98: =IF(totaal!A53=0,"",totaal!A53) -> 95 | C98: =IF(totaal!C63=0,"",totaal!C63) -> Stralingspaneel | D98: =IF(totaal!D63=0,"",totaal!D63) -> Enco | E98: =IF(totaal!E63=0,"",totaal!E63) -> type 4-pijps Afmeting 3000 x 925 | F98: =IF(totaal!F63=0,"",totaal!F63) | G98: =IF(totaal!G63=0,"",totaal!G63)
A99: =IF(totaal!A54=0,"",totaal!A54) -> 96 | C99: =IF(totaal!C64=0,"",totaal!C64) -> Stralingspaneel | D99: =IF(totaal!D64=0,"",totaal!D64) -> Enco | E99: =IF(totaal!E64=0,"",totaal!E64) -> type 4-pijps Afmeting 2500 x 925 | F99: =IF(totaal!F64=0,"",totaal!F64) | G99: =IF(totaal!G64=0,"",totaal!G64)
A100: =IF(totaal!A55=0,"",totaal!A55) -> 97 | C100: =IF(totaal!#REF!=0,"",totaal!#REF!) -> #REF! | D100: =IF(totaal!#REF!=0,"",totaal!#REF!) -> #REF! | E100: =IF(totaal!#REF!=0,"",totaal!#REF!) -> #REF! | F100: =IF(totaal!#REF!=0,"",totaal!#REF!) -> #REF! | G100: =IF(totaal!#REF!=0,"",totaal!#REF!) -> #REF!
A101: =IF(totaal!A56=0,"",totaal!A56) -> 98 | C101: =IF(totaal!#REF!=0,"",totaal!#REF!) -> #REF! | D101: =IF(totaal!#REF!=0,"",totaal!#REF!) -> #REF! | E101: =IF(totaal!#REF!=0,"",totaal!#REF!) -> #REF! | F101: =IF(totaal!#REF!=0,"",totaal!#REF!) -> #REF! | G101: =IF(totaal!#REF!=0,"",totaal!#REF!) -> #REF!
A102: =IF(totaal!A57=0,"",totaal!A57) -> 99 | C102: =IF(totaal!#REF!=0,"",totaal!#REF!) -> #REF! | D102: =IF(totaal!#REF!=0,"",totaal!#REF!) -> #REF! | E102: =IF(totaal!#REF!=0,"",totaal!#REF!) -> #REF! | F102: =IF(totaal!#REF!=0,"",totaal!#REF!) -> #REF! | G102: =IF(totaal!#REF!=0,"",totaal!#REF!) -> #REF!
A103: =IF(totaal!A58=0,"",totaal!A58) -> 100 | C103: =IF(totaal!#REF!=0,"",totaal!#REF!) -> #REF! | D103: =IF(totaal!#REF!=0,"",totaal!#REF!) -> #REF! | E103: =IF(totaal!#REF!=0,"",totaal!#REF!) -> #REF! | F103: =IF(totaal!#REF!=0,"",totaal!#REF!) -> #REF! | G103: =IF(totaal!#REF!=0,"",totaal!#REF!) -> #REF!
...

Sheet bwd A kelder
A1: 4.57 | B1: 8 | C1: 19.57 | D1: 47.57 | F1: 10
A2: =IF(totaal!A2=0,"",totaal!A2) -> STUKLIJST | G2: Versie 4.0 (677)
A3: POS | B3: AANTAL | C3: BENAMING | D3: FABRIKAAT | E3: TYPE | F3: CODE | G3: KLEUR | H3: Mededeling Patrick
A4: =IF(totaal!A4=0,"",totaal!A4) -> 1 | C4: =IF(totaal!C4=0,"",totaal!C4) -> Gasfilter | D4: =IF(totaal!D4=0,"",totaal!D4) -> Econosto | E4: =IF(totaal!E4=0,"",totaal!E4) -> fig.1014 1/2" | F4: =IF(totaal!F4=0,"",totaal!F4) | G4: =IF(totaal!G4=0,"",totaal!G4)
A5: =IF(totaal!A5=0,"",totaal!A5) -> 2 | C5: =IF(totaal!C5=0,"",totaal!C5) -> Gasfilter | D5: =IF(totaal!D5=0,"",totaal!D5) -> Econosto | E5: =IF(totaal!E5=0,"",totaal!E5) -> fig.1014 3/4" | F5: =IF(totaal!F5=0,"",totaal!F5) | G5: =IF(totaal!G5=0,"",totaal!G5)
A6: =IF(totaal!A6=0,"",totaal!A6) -> 3 | C6: =IF(totaal!C6=0,"",totaal!C6) -> Gasfilter | D6: =IF(totaal!D6=0,"",totaal!D6) -> Econosto | E6: =IF(totaal!E6=0,"",totaal!E6) -> fig.1014 1" | F6: =IF(totaal!F6=0,"",totaal!F6) | G6: =IF(totaal!G6=0,"",totaal!G6)
A7: =IF(totaal!A7=0,"",totaal!A7) -> 4 | C7: =IF(totaal!C7=0,"",totaal!C7) -> Gaskogelafsluiter | D7: =IF(totaal!D7=0,"",totaal!D7) -> Econosto | E7: =IF(totaal!E7=0,"",totaal!E7) -> Figuur 1937 1 ½" | F7: =IF(totaal!F7=0,"",totaal!F7) | G7: =IF(totaal!G7=0,"",totaal!G7)
A8: =IF(totaal!A8=0,"",totaal!A8) -> 5 | C8: =IF(totaal!C8=0,"",totaal!C8) -> Gaskogelafsluiter | D8: =IF(totaal!D8=0,"",totaal!D8) -> VSH | E8: =IF(totaal!E8=0,"",totaal!E8) -> Figuur 060431.8 1 1/4" Bin × Bui | F8: =IF(totaal!F8=0,"",totaal!F8) -> TU785162 | G8: =IF(totaal!G8=0,"",totaal!G8)
A9: =IF(totaal!A9=0,"",totaal!A9) -> 6 | C9: =IF(totaal!C9=0,"",totaal!C9) -> Gaskogelafsluiter | D9: =IF(totaal!D9=0,"",totaal!D9) -> Econosto | E9: =IF(totaal!E9=0,"",totaal!E9) | F9: =IF(totaal!F9=0,"",totaal!F9) | G9: =IF(totaal!G9=0,"",totaal!G9)
A10: =IF(totaal!A10=0,"",totaal!A10) -> 7 | C10: =IF(totaal!C10=0,"",totaal!C10) -> Gaskogelafsluiter | D10: =IF(totaal!D10=0,"",totaal!D10) -> Econosto | E10: =IF(totaal!E10=0,"",totaal!E10) -> fig.1619 2" | F10: =IF(totaal!F10=0,"",totaal!F10) | G10: =IF(totaal!G10=0,"",totaal!G10)
A11: =IF(totaal!A11=0,"",totaal!A11) -> 8 | C11: =IF(totaal!C11=0,"",totaal!C11) -> Gasklepafsluiter | D11: =IF(totaal!D11=0,"",totaal!D11) -> Econosto | E11: =IF(totaal!E11=0,"",totaal!E11) -> fig.2011 DN100 PN10 | F11: =IF(totaal!F11=0,"",totaal!F11) | G11: =IF(totaal!G11=0,"",totaal!G11)
A12: =IF(totaal!A12=0,"",totaal!A12) -> 9 | C12: =IF(totaal!C12=0,"",totaal!C12) -> Gasgebrekklep | D12: =IF(totaal!D12=0,"",totaal!D12) -> Schlumberger | E12: =IF(totaal!E12=0,"",totaal!E12) | F12: =IF(totaal!F12=0,"",totaal!F12) | G12: =IF(totaal!G12=0,"",totaal!G12)
A13: =IF(totaal!A13=0,"",totaal!A13) -> 10 | C13: =IF(totaal!C13=0,"",totaal!C13) -> Klepafsluiter Rayon Patent | D13: =IF(totaal!D13=0,"",totaal!D13) -> Econosto | E13: =IF(totaal!E13=0,"",totaal!E13) -> fig.2011 DN100 | F13: =IF(totaal!F13=0,"",totaal!F13) | G13: =IF(totaal!G13=0,"",totaal!G13)
A14: =IF(totaal!A14=0,"",totaal!A14) -> 11 | C14: =IF(totaal!C14=0,"",totaal!C14) -> Gasmagneetafsluiter NO | D14: =IF(totaal!D14=0,"",totaal!D14) -> Watts Industrie | E14: =IF(totaal!E14=0,"",totaal!E14) -> type ? 3/4" | F14: =IF(totaal!F14=0,"",totaal!F14) | G14: =IF(totaal!G14=0,"",totaal!G14)
A15: =IF(totaal!#REF!=0,"",totaal!#REF!) -> #REF! | C15: =IF(totaal!#REF!=0,"",totaal!#REF!) -> #REF! | D15: =IF(totaal!#REF!=0,"",totaal!#REF!) -> #REF! | E15: =IF(totaal!#REF!=0,"",totaal!#REF!) -> #REF! | F15: =IF(totaal!#REF!=0,"",totaal!#REF!) -> #REF! | G15: =IF(totaal!#REF!=0,"",totaal!#REF!) -> #REF!
A16: =IF(totaal!#REF!=0,"",totaal!#REF!) -> #REF! | C16: =IF(totaal!#REF!=0,"",totaal!#REF!) -> #REF! | D16: =IF(totaal!#REF!=0,"",totaal!#REF!) -> #REF! | E16: =IF(totaal!#REF!=0,"",totaal!#REF!) -> #REF! | F16: =IF(totaal!#REF!=0,"",totaal!#REF!) -> #REF! | G16: =IF(totaal!#REF!=0,"",totaal!#REF!) -> #REF!
A17: =IF(totaal!#REF!=0,"",totaal!#REF!) -> #REF! | C17: =IF(totaal!#REF!=0,"",totaal!#REF!) -> #REF! | D17: =IF(totaal!#REF!=0,"",totaal!#REF!) -> #REF! | E17: =IF(totaal!#REF!=0,"",totaal!#REF!) -> #REF! | F17: =IF(totaal!#REF!=0,"",totaal!#REF!) -> #REF! | G17: =IF(totaal!#REF!=0,"",totaal!#REF!) -> #REF!
A18: =IF(totaal!#REF!=0,"",totaal!#REF!) -> #REF! | C18: =IF(totaal!#REF!=0,"",totaal!#REF!) -> #REF! | D18: =IF(totaal!#REF!=0,"",totaal!#REF!) -> #REF! | E18: =IF(totaal!#REF!=0,"",totaal!#REF!) -> #REF! | F18: =IF(totaal!#REF!=0,"",totaal!#REF!) -> #REF! | G18: =IF(totaal!#REF!=0,"",totaal!#REF!) -> #REF!
A19: =IF(totaal!A15=0,"",totaal!A15) -> 16 | C19: =IF(totaal!C15=0,"",totaal!C15) -> Gasfilter | D19: =IF(totaal!D15=0,"",totaal!D15) -> Econosto | E19: =IF(totaal!E15=0,"",totaal!E15) -> fig.1014 1 1/4" | F19: =IF(totaal!F15=0,"",totaal!F15) | G19: =IF(totaal!G15=0,"",totaal!G15)
A20: =IF(totaal!A16=0,"",totaal!A16) -> 17 | C20: =IF(totaal!C16=0,"",totaal!C16) -> Gaskogelafsluiter | D20: =IF(totaal!D16=0,"",totaal!D16) -> Econosto | E20: =IF(totaal!E16=0,"",totaal!E16) -> fig. 1619 1" | F20: =IF(totaal!F16=0,"",totaal!F16) | G20: =IF(totaal!G16=0,"",totaal!G16)
A21: =IF(totaal!#REF!=0,"",totaal!#REF!) -> #REF! | C21: =IF(totaal!#REF!=0,"",totaal!#REF!) -> #REF! | D21: =IF(totaal!#REF!=0,"",totaal!#REF!) -> #REF! | E21: =IF(totaal!#REF!=0,"",totaal!#REF!) -> #REF! | F21: =IF(totaal!#REF!=0,"",totaal!#REF!) -> #REF! | G21: =IF(totaal!#REF!=0,"",totaal!#REF!) -> #REF!
A22: =IF(totaal!#REF!=0,"",totaal!#REF!) -> #REF! | C22: =IF(totaal!#REF!=0,"",totaal!#REF!) -> #REF! | D22: =IF(totaal!#REF!=0,"",totaal!#REF!) -> #REF! | E22: =IF(totaal!#REF!=0,"",totaal!#REF!) -> #REF! | F22: =IF(totaal!#REF!=0,"",totaal!#REF!) -> #REF! | G22: =IF(totaal!#REF!=0,"",totaal!#REF!) -> #REF!
A23: =IF(totaal!A17=0,"",totaal!A17) -> 20 | C23: =IF(totaal!C17=0,"",totaal!C17) -> Bufffervat 1500 ltr | D23: =IF(totaal!D17=0,"",totaal!D17) -> Horos | E23: =IF(totaal!E17=0,"",totaal!E17) -> Verticaal Buffervat VK 1500 diameter ø990mm × 2470mm | F23: =IF(totaal!F17=0,"",totaal!F17) -> 816 020 070 | G23: =IF(totaal!G17=0,"",totaal!G17)
A24: =IF(totaal!A18=0,"",totaal!A18) -> 21 | C24: =IF(totaal!C18=0,"",totaal!C18) | D24: =IF(totaal!D18=0,"",totaal!D18) | E24: =IF(totaal!E18=0,"",totaal!E18) -> Uitw. geïsoleerd met 20 mm dampdichte isolatie | F24: =IF(totaal!F18=0,"",totaal!F18) | G24: =IF(totaal!G18=0,"",totaal!G18)
A25: =IF(totaal!A19=0,"",totaal!A19) -> 22 | C25: =IF(totaal!C19=0,"",totaal!C19) | D25: =IF(totaal!D19=0,"",totaal!D19) | E25: =IF(totaal!E19=0,"",totaal!E19) -> Inclusief 2× ¾" voor aftap en beluchting | F25: =IF(totaal!F19=0,"",totaal!F19) | G25: =IF(totaal!G19=0,"",totaal!G19)
A26: =IF(totaal!A20=0,"",totaal!A20) -> 23 | C26: =IF(totaal!C20=0,"",totaal!C20) -> Bufffervat 2000 ltr | D26: =IF(totaal!D20=0,"",totaal!D20) -> Horos | E26: =IF(totaal!E20=0,"",totaal!E20) -> Verticaal Buffervat VK 2000 diameter ø1140mm × 2510mm | F26: =IF(totaal!F20=0,"",totaal!F20) -> 816 020 071 | G26: =IF(totaal!G20=0,"",totaal!G20)
A27: =IF(totaal!A21=0,"",totaal!A21) -> 24 | C27: =IF(totaal!C21=0,"",totaal!C21) | D27: =IF(totaal!D21=0,"",totaal!D21) | E27: =IF(totaal!E21=0,"",totaal!E21) -> Uitwendig gesioleerd met 20 mm dampdichte isolatie | F27: =IF(totaal!F21=0,"",totaal!F21) | G27: =IF(totaal!G21=0,"",totaal!G21)
A28: =IF(totaal!A22=0,"",totaal!A22) -> 25 | C28: =IF(totaal!C22=0,"",totaal!C22) | D28: =IF(totaal!D22=0,"",totaal!D22) | E28: =IF(totaal!E22=0,"",totaal!E22) -> Inclusief 2× ¾" voor aftap en beluchting | F28: =IF(totaal!F22=0,"",totaal!F22) | G28: =IF(totaal!G22=0,"",totaal!G22)
A29: =IF(totaal!#REF!=0,"",totaal!#REF!) -> #REF! | C29: =IF(totaal!#REF!=0,"",totaal!#REF!) -> #REF! | D29: =IF(totaal!#REF!=0,"",totaal!#REF!) -> #REF! | E29: =IF(totaal!#REF!=0,"",totaal!#REF!) -> #REF! | F29: =IF(totaal!#REF!=0,"",totaal!#REF!) -> #REF! | G29: =IF(totaal!#REF!=0,"",totaal!#REF!) -> #REF!
A30: =IF(totaal!#REF!=0,"",totaal!#REF!) -> #REF! | C30: =IF(totaal!#REF!=0,"",totaal!#REF!) -> #REF! | D30: =IF(totaal!#REF!=0,"",totaal!#REF!) -> #REF! | E30: =IF(totaal!#REF!=0,"",totaal!#REF!) -> #REF! | F30: =IF(totaal!#REF!=0,"",totaal!#REF!) -> #REF! | G30: =IF(totaal!#REF!=0,"",totaal!#REF!) -> #REF!
A31: =IF(totaal!#REF!=0,"",totaal!#REF!) -> #REF! | C31: =IF(totaal!#REF!=0,"",totaal!#REF!) -> #REF! | D31: =IF(totaal!#REF!=0,"",totaal!#REF!) -> #REF! | E31: =IF(totaal!#REF!=0,"",totaal!#REF!) -> #REF! | F31: =IF(totaal!#REF!=0,"",totaal!#REF!) -> #REF! | G31: =IF(totaal!#REF!=0,"",totaal!#REF!) -> #REF!
A32: =IF(totaal!#REF!=0,"",totaal!#REF!) -> #REF! | C32: =IF(totaal!#REF!=0,"",totaal!#REF!) -> #REF! | D32: =IF(totaal!#REF!=0,"",totaal!#REF!) -> #REF! | E32: =IF(totaal!#REF!=0,"",totaal!#REF!) -> #REF! | F32: =IF(totaal!#REF!=0,"",totaal!#REF!) -> #REF! | G32: =IF(totaal!#REF!=0,"",totaal!#REF!) -> #REF!
A33: =IF(totaal!#REF!=0,"",totaal!#REF!) -> #REF! | C33: =IF(totaal!#REF!=0,"",totaal!#REF!) -> #REF! | D33: =IF(totaal!#REF!=0,"",totaal!#REF!) -> #REF! | E33: =IF(totaal!#REF!=0,"",totaal!#REF!) -> #REF! | F33: =IF(totaal!#REF!=0,"",totaal!#REF!) -> #REF! | G33: =IF(totaal!#REF!=0,"",totaal!#REF!) -> #REF!
A34: =IF(totaal!#REF!=0,"",totaal!#REF!) -> #REF! | C34: =IF(totaal!#REF!=0,"",totaal!#REF!) -> #REF! | D34: =IF(totaal!#REF!=0,"",totaal!#REF!) -> #REF! | E34: =IF(totaal!#REF!=0,"",totaal!#REF!) -> #REF! | F34: =IF(totaal!#REF!=0,"",totaal!#REF!) -> #REF! | G34: =IF(totaal!#REF!=0,"",totaal!#REF!) -> #REF!
A35: =IF(totaal!#REF!=0,"",totaal!#REF!) -> #REF! | C35: =IF(totaal!#REF!=0,"",totaal!#REF!) -> #REF! | D35: =IF(totaal!#REF!=0,"",totaal!#REF!) -> #REF! | E35: =IF(totaal!#REF!=0,"",totaal!#REF!) -> #REF! | F35: =IF(totaal!#REF!=0,"",totaal!#REF!) -> #REF! | G35: =IF(totaal!#REF!=0,"",totaal!#REF!) -> #REF!
A36: =IF(totaal!#REF!=0,"",totaal!#REF!) -> #REF! | C36: =IF(totaal!#REF!=0,"",totaal!#REF!) -> #REF! | D36: =IF(totaal!#REF!=0,"",totaal!#REF!) -> #REF! | E36: =IF(totaal!#REF!=0,"",totaal!#REF!) -> #REF! | F36: =IF(totaal!#REF!=0,"",totaal!#REF!) -> #REF! | G36: =IF(totaal!#REF!=0,"",totaal!#REF!) -> #REF!
A37: =IF(totaal!#REF!=0,"",totaal!#REF!) -> #REF! | C37: =IF(totaal!#REF!=0,"",totaal!#REF!) -> #REF! | D37: =IF(totaal!#REF!=0,"",totaal!#REF!) -> #REF! | E37: =IF(totaal!#REF!=0,"",totaal!#REF!) -> #REF! | F37: =IF(totaal!#REF!=0,"",totaal!#REF!) -> #REF! | G37: =IF(totaal!#REF!=0,"",totaal!#REF!) -> #REF!
A38: =IF(totaal!#REF!=0,"",totaal!#REF!) -> #REF! | C38: =IF(totaal!#REF!=0,"",totaal!#REF!) -> #REF! | D38: =IF(totaal!#REF!=0,"",totaal!#REF!) -> #REF! | E38: =IF(totaal!#REF!=0,"",totaal!#REF!) -> #REF! | F38: =IF(totaal!#REF!=0,"",totaal!#REF!) -> #REF! | G38: =IF(totaal!#REF!=0,"",totaal!#REF!) -> #REF!
A39: =IF(totaal!#REF!=0,"",totaal!#REF!) -> #REF! | C39: =IF(totaal!#REF!=0,"",totaal!#REF!) -> #REF! | D39: =IF(totaal!#REF!=0,"",totaal!#REF!) -> #REF! | E39: =IF(totaal!#REF!=0,"",totaal!#REF!) -> #REF! | F39: =IF(totaal!#REF!=0,"",totaal!#REF!) -> #REF! | G39: =IF(totaal!#REF!=0,"",totaal!#REF!) -> #REF!
A40: =IF(totaal!#REF!=0,"",totaal!#REF!) -> #REF! | C40: =IF(totaal!#REF!=0,"",totaal!#REF!) -> #REF! | D40: =IF(totaal!#REF!=0,"",totaal!#REF!) -> #REF! | E40: =IF(totaal!#REF!=0,"",totaal!#REF!) -> #REF! | F40: =IF(totaal!#REF!=0,"",totaal!#REF!) -> #REF! | G40: =IF(totaal!#REF!=0,"",totaal!#REF!) -> #REF!
... A42: =IF(totaal!#REF!=0,"",totaal!#REF!) -> #REF! | C42: =IF(totaal!#REF!=0,"",totaal!#REF!) -> #REF! | D42: =IF(totaal!#REF!=0,"",totaal!#REF!) -> #REF! | E42: =IF(totaal!#REF!=0,"",totaal!#REF!) -> #REF! | F42: =IF(totaal!#REF!=0,"",totaal!#REF!) -> #REF! | G42: =IF(totaal!#REF!=0,"",totaal!#REF!) -> #REF!
A43: =IF(totaal!#REF!=0,"",totaal!#REF!) -> #REF! | B43: 1 | C43: =IF(totaal!C23=0,"",totaal!C23) -> Radiator | D43: =IF(totaal!D23=0,"",totaal!D23) -> Veha | E43: =IF(totaal!E23=0,"",totaal!E23) -> type standaard 1600-900-22 | F43: =IF(totaal!F23=0,"",totaal!F23) | G43: =IF(totaal!G23=0,"",totaal!G23)
A44: =IF(totaal!#REF!=0,"",totaal!#REF!) -> #REF! | C44: =IF(totaal!#REF!=0,"",totaal!#REF!) -> #REF! | D44: =IF(totaal!#REF!=0,"",totaal!#REF!) -> #REF! | E44: =IF(totaal!#REF!=0,"",totaal!#REF!) -> #REF! | F44: =IF(totaal!#REF!=0,"",totaal!#REF!) -> #REF! | G44: =IF(totaal!#REF!=0,"",totaal!#REF!) -> #REF!
A45: =IF(totaal!#REF!=0,"",totaal!#REF!) -> #REF! | C45: =IF(totaal!#REF!=0,"",totaal!#REF!) -> #REF! | D45: =IF(totaal!#REF!=0,"",totaal!#REF!) -> #REF! | E45: =IF(totaal!#REF!=0,"",totaal!#REF!) -> #REF! | F45: =IF(totaal!#REF!=0,"",totaal!#REF!) -> #REF! | G45: =IF(totaal!#REF!=0,"",totaal!#REF!) -> #REF!
A46: =IF(totaal!#REF!=0,"",totaal!#REF!) -> #REF! | C46: =IF(totaal!#REF!=0,"",totaal!#REF!) -> #REF! | D46: =IF(totaal!#REF!=0,"",totaal!#REF!) -> #REF! | E46: =IF(totaal!#REF!=0,"",totaal!#REF!) -> #REF! | F46: =IF(totaal!#REF!=0,"",totaal!#REF!) -> #REF! | G46: =IF(totaal!#REF!=0,"",totaal!#REF!) -> #REF!
A47: =IF(totaal!#REF!=0,"",totaal!#REF!) -> #REF! | C47: =IF(totaal!#REF!=0,"",totaal!#REF!) -> #REF! | D47: =IF(totaal!#REF!=0,"",totaal!#REF!) -> #REF! | E47: =IF(totaal!#REF!=0,"",totaal!#REF!) -> #REF! | F47: =IF(totaal!#REF!=0,"",totaal!#REF!) -> #REF! | G47: =IF(totaal!#REF!=0,"",totaal!#REF!) -> #REF!
A48: =IF(totaal!#REF!=0,"",totaal!#REF!) -> #REF! | C48: =IF(totaal!#REF!=0,"",totaal!#REF!) -> #REF! | D48: =IF(totaal!#REF!=0,"",totaal!#REF!) -> #REF! | E48: =IF(totaal!#REF!=0,"",totaal!#REF!) -> #REF! | F48: =IF(totaal!#REF!=0,"",totaal!#REF!) -> #REF! | G48: =IF(totaal!#REF!=0,"",totaal!#REF!) -> #REF!
A49: =IF(totaal!#REF!=0,"",totaal!#REF!) -> #REF! | C49: =IF(totaal!#REF!=0,"",totaal!#REF!) -> #REF! | D49: =IF(totaal!#REF!=0,"",totaal!#REF!) -> #REF! | E49: =IF(totaal!#REF!=0,"",totaal!#REF!) -> #REF! | F49: =IF(totaal!#REF!=0,"",totaal!#REF!) -> #REF! | G49: =IF(totaal!#REF!=0,"",totaal!#REF!) -> #REF!
A50: =IF(totaal!#REF!=0,"",totaal!#REF!) -> #REF! | C50: =IF(totaal!#REF!=0,"",totaal!#REF!) -> #REF! | D50: =IF(totaal!#REF!=0,"",totaal!#REF!) -> #REF! | E50: =IF(totaal!#REF!=0,"",totaal!#REF!) -> #REF! | F50: =IF(totaal!#REF!=0,"",totaal!#REF!) -> #REF! | G50: =IF(totaal!#REF!=0,"",totaal!#REF!) -> #REF!
A51: =IF(totaal!#REF!=0,"",totaal!#REF!) -> #REF! | C51: =IF(totaal!#REF!=0,"",totaal!#REF!) -> #REF! | D51: =IF(totaal!#REF!=0,"",totaal!#REF!) -> #REF! | E51: =IF(totaal!#REF!=0,"",totaal!#REF!) -> #REF! | F51: =IF(totaal!#REF!=0,"",totaal!#REF!) -> #REF! | G51: =IF(totaal!#REF!=0,"",totaal!#REF!) -> #REF!
A52: =IF(totaal!#REF!=0,"",totaal!#REF!) -> #REF! | C52: =IF(totaal!C24=0,"",totaal!C24) -> Radiator | D52: =IF(totaal!D24=0,"",totaal!D24) -> Veha | E52: =IF(totaal!E24=0,"",totaal!E24) -> type Plana 22 afmeting 3000x500 | F52: =IF(totaal!F24=0,"",totaal!F24) | G52: =IF(totaal!G24=0,"",totaal!G24)
A53: =IF(totaal!#REF!=0,"",totaal!#REF!) -> #REF! | C53: =IF(totaal!C25=0,"",totaal!C25) -> Radiator | D53: =IF(totaal!D25=0,"",totaal!D25) -> Veha | E53: =IF(totaal!E25=0,"",totaal!E25) -> type Plana 22 afmeting 2000x600 Q=1110 W | F53: =IF(totaal!F25=0,"",totaal!F25) | G53: =IF(totaal!G25=0,"",totaal!G25)
A54: =IF(totaal!#REF!=0,"",totaal!#REF!) -> #REF! | C54: =IF(totaal!C26=0,"",totaal!C26) -> Radiator | D54: =IF(totaal!D26=0,"",totaal!D26) -> Veha | E54: =IF(totaal!E26=0,"",totaal!E26) -> type Plana 22 afmeting 3800x600 Q=2110 W | F54: =IF(totaal!F26=0,"",totaal!F26) | G54: =IF(totaal!G26=0,"",totaal!G26)
A55: =IF(totaal!#REF!=0,"",totaal!#REF!) -> #REF! | C55: =IF(totaal!C27=0,"",totaal!C27) -> Radiator | D55: =IF(totaal!D27=0,"",totaal!D27) -> Veha | E55: =IF(totaal!E27=0,"",totaal!E27) -> type Plana 22 afmeting 1000x600 Q=554 W | F55: =IF(totaal!F27=0,"",totaal!F27) | G55: =IF(totaal!G27=0,"",totaal!G27)
A56: =IF(totaal!#REF!=0,"",totaal!#REF!) -> #REF! | C56: =IF(totaal!C28=0,"",totaal!C28) -> Radiator | D56: =IF(totaal!D28=0,"",totaal!D28) -> Veha | E56: =IF(totaal!E28=0,"",totaal!E28) -> type Plana 22 afmeting 2200x600 Q=1230 W | F56: =IF(totaal!F28=0,"",totaal!F28) | G56: =IF(totaal!G28=0,"",totaal!G28)
A57: =IF(totaal!#REF!=0,"",totaal!#REF!) -> #REF! | C57: =IF(totaal!C29=0,"",totaal!C29) -> Radiator | D57: =IF(totaal!D29=0,"",totaal!D29) -> Henrad | E57: =IF(totaal!E29=0,"",totaal!E29) -> type 22 afmeting 1400x600 Q=990 W | F57: =IF(totaal!F29=0,"",totaal!F29) | G57: =IF(totaal!G29=0,"",totaal!G29)
A58: =IF(totaal!#REF!=0,"",totaal!#REF!) -> #REF! | C58: =IF(totaal!C30=0,"",totaal!C30) -> Radiator | D58: =IF(totaal!D30=0,"",totaal!D30) -> Henrad | E58: =IF(totaal!E30=0,"",totaal!E30) -> type 22 afmeting 1600x600 Q=1131 W | F58: =IF(totaal!F30=0,"",totaal!F30) | G58: =IF(totaal!G30=0,"",totaal!G30)
A59: =IF(totaal!#REF!=0,"",totaal!#REF!) -> #REF! | C59: =IF(totaal!C31=0,"",totaal!C31) -> Radiator | D59: =IF(totaal!D31=0,"",totaal!D31) -> Henrad | E59: =IF(totaal!E31=0,"",totaal!E31) -> type 22 afmeting 2000x600 Q=1414 W | F59: =IF(totaal!F31=0,"",totaal!F31) | G59: =IF(totaal!G31=0,"",totaal!G31)
A60: =IF(totaal!#REF!=0,"",totaal!#REF!) -> #REF! | C60: =IF(totaal!C32=0,"",totaal!C32) -> Radiator | D60: =IF(totaal!D32=0,"",totaal!D32) -> Henrad | E60: =IF(totaal!E32=0,"",totaal!E32) -> type 22 afmeting 1600x600 Q=1131 W | F60: =IF(totaal!F32=0,"",totaal!F32) | G60: =IF(totaal!G32=0,"",totaal!G32)
A61: =IF(totaal!#REF!=0,"",totaal!#REF!) -> #REF! | C61: =IF(totaal!C33=0,"",totaal!C33) -> Radiator | D61: =IF(totaal!D33=0,"",totaal!D33) -> Henrad | E61: =IF(totaal!E33=0,"",totaal!E33) -> type 11 afmeting 1200x600 Q-1200 W | F61: =IF(totaal!F33=0,"",totaal!F33) | G61: =IF(totaal!G33=0,"",totaal!G33)
A62: =IF(totaal!#REF!=0,"",totaal!#REF!) -> #REF! | C62: =IF(totaal!C34=0,"",totaal!C34) -> Radiator | D62: =IF(totaal!D34=0,"",totaal!D34) -> Henrad | E62: =IF(totaal!E34=0,"",totaal!E34) -> type 11 afmeting 1400x600 Q=1400 W | F62: =IF(totaal!F34=0,"",totaal!F34) | G62: =IF(totaal!G34=0,"",totaal!G34)
A63: =IF(totaal!#REF!=0,"",totaal!#REF!) -> #REF! | C63: =IF(totaal!C35=0,"",totaal!C35) -> Radiator | D63: =IF(totaal!D35=0,"",totaal!D35) -> Henrad | E63: =IF(totaal!E35=0,"",totaal!E35) -> type 11 afmeting 800x600 Q=800 W | F63: =IF(totaal!F35=0,"",totaal!F35) | G63: =IF(totaal!G35=0,"",totaal!G35)
A64: =IF(totaal!#REF!=0,"",totaal!#REF!) -> #REF! | C64: =IF(totaal!C36=0,"",totaal!C36) -> Radiator | D64: =IF(totaal!D36=0,"",totaal!D36) -> Henrad | E64: =IF(totaal!E36=0,"",totaal!E36) -> type 22 afmeting 1000x600 Q=707 W | F64: =IF(totaal!F36=0,"",totaal!F36) | G64: =IF(totaal!G36=0,"",totaal!G36)
A65: =IF(totaal!A23=0,"",totaal!A23) -> 62 | C65: =IF(totaal!C37=0,"",totaal!C37) -> Radiator | D65: =IF(totaal!D37=0,"",totaal!D37) -> Henrad | E65: =IF(totaal!E37=0,"",totaal!E37) -> type 33 afmeting 2000x600 Q=1976 W | F65: =IF(totaal!F37=0,"",totaal!F37) | G65: =IF(totaal!G37=0,"",totaal!G37)
A66: =IF(totaal!A24=0,"",totaal!A24) -> 63 | C66: =IF(totaal!C38=0,"",totaal!C38) -> Radiator | D66: =IF(totaal!D38=0,"",totaal!D38) -> Henrad | E66: =IF(totaal!E38=0,"",totaal!E38) -> type 22 afmeting 2200x600 Q=1555 W | F66: =IF(totaal!F38=0,"",totaal!F38) | G66: =IF(totaal!G38=0,"",totaal!G38)
A67: =IF(totaal!A25=0,"",totaal!A25) -> 64 | C67: =IF(totaal!C39=0,"",totaal!C39) -> Radiator | D67: =IF(totaal!D39=0,"",totaal!D39) -> Henrad | E67: =IF(totaal!E39=0,"",totaal!E39) -> type 11 afmeting 1000x600 Q=1000 W | F67: =IF(totaal!F39=0,"",totaal!F39) | G67: =IF(totaal!G39=0,"",totaal!G39)
A68: =IF(totaal!A26=0,"",totaal!A26) -> 65 | C68: =IF(totaal!C40=0,"",totaal!C40) -> Radiator | D68: =IF(totaal!D40=0,"",totaal!D40) -> Henrad | E68: =IF(totaal!E40=0,"",totaal!E40) -> type 11 afmeting 700x600 Q=700 W | F68: =IF(totaal!F40=0,"",totaal!F40) | G68: =IF(totaal!G40=0,"",totaal!G40)
A69: =IF(totaal!A27=0,"",totaal!A27) -> 66 | C69: =IF(totaal!C41=0,"",totaal!C41) -> Radiator | D69: =IF(totaal!D41=0,"",totaal!D41) -> Henrad | E69: =IF(totaal!E41=0,"",totaal!E41) -> type 21 afmeting 900x600 Q=505 W | F69: =IF(totaal!F41=0,"",totaal!F41) | G69: =IF(totaal!G41=0,"",totaal!G41)
A70: =IF(totaal!A28=0,"",totaal!A28) -> 67 | C70: =IF(totaal!C42=0,"",totaal!C42) -> Radiator | D70: =IF(totaal!D42=0,"",totaal!D42) -> Henrad | E70: =IF(totaal!E42=0,"",totaal!E42) -> type 22 afmeting 1000x600 Q=1778 W | F70: =IF(totaal!F42=0,"",totaal!F42) | G70: =IF(totaal!G42=0,"",totaal!G42)
A71: =IF(totaal!A29=0,"",totaal!A29) -> 68 | C71: =IF(totaal!C43=0,"",totaal!C43) -> Radiator | D71: =IF(totaal!D43=0,"",totaal!D43) -> Henrad | E71: =IF(totaal!E43=0,"",totaal!E43) -> type 22 afmeting 500x600 Q=889 W | F71: =IF(totaal!F43=0,"",totaal!F43) | G71: =IF(totaal!G43=0,"",totaal!G43)
A72: =IF(totaal!A30=0,"",totaal!A30) -> 69 | C72: =IF(totaal!C44=0,"",totaal!C44) -> Radiator | D72: =IF(totaal!D44=0,"",totaal!D44) -> Henrad | E72: =IF(totaal!E44=0,"",totaal!E44) -> type 11 afmeting 900x600 Q=900 W | F72: =IF(totaal!F44=0,"",totaal!F44) | G72: =IF(totaal!G44=0,"",totaal!G44)
A73: =IF(totaal!A31=0,"",totaal!A31) -> 70 | C73: =IF(totaal!C45=0,"",totaal!C45) -> Radiator | D73: =IF(totaal!D45=0,"",totaal!D45) -> Henrad | E73: =IF(totaal!E45=0,"",totaal!E45) -> type 221 afmeting 1100x600 Q=1956 W | F73: =IF(totaal!F45=0,"",totaal!F45) | G73: =IF(totaal!G45=0,"",totaal!G45)
A74: =IF(totaal!A32=0,"",totaal!A32) -> 71 | C74: =IF(totaal!C46=0,"",totaal!C46) -> Radiator | D74: =IF(totaal!D46=0,"",totaal!D46) -> Henrad | E74: =IF(totaal!E46=0,"",totaal!E46) -> type 22 afmeting 700x600 Q=495 W | F74: =IF(totaal!F46=0,"",totaal!F46) | G74: =IF(totaal!G46=0,"",totaal!G46)
A75: =IF(totaal!A33=0,"",totaal!A33) -> 72 | C75: =IF(totaal!C47=0,"",totaal!C47) -> Radiator | D75: =IF(totaal!D47=0,"",totaal!D47) -> Henrad | E75: =IF(totaal!E47=0,"",totaal!E47) -> type 33 afmeting 1600x700 Q=1778 W | F75: =IF(totaal!F47=0,"",totaal!F47) | G75: =IF(totaal!G47=0,"",totaal!G47)
A76: =IF(totaal!A34=0,"",totaal!A34) -> 73 | C76: =IF(totaal!C48=0,"",totaal!C48) -> Radiator | D76: =IF(totaal!D48=0,"",totaal!D48) -> Henrad | E76: =IF(totaal!E48=0,"",totaal!E48) -> type 11 afmeting 800x300 | F76: =IF(totaal!F48=0,"",totaal!F48) | G76: =IF(totaal!G48=0,"",totaal!G48)
... A79: =IF(totaal!A37=0,"",totaal!A37) -> 76 | C79: =IF(totaal!C51=0,"",totaal!C51) -> Radiator | D79: =IF(totaal!D51=0,"",totaal!D51) -> Henrad | E79: =IF(totaal!E51=0,"",totaal!E51) -> type 11 afmeting 800x300 | F79: =IF(totaal!F51=0,"",totaal!F51) | G79: =IF(totaal!G51=0,"",totaal!G51)
A80: =IF(totaal!A38=0,"",totaal!A38) -> 77 | C80: =IF(totaal!#REF!=0,"",totaal!#REF!) -> #REF! | D80: =IF(totaal!#REF!=0,"",totaal!#REF!) -> #REF! | E80: =IF(totaal!#REF!=0,"",totaal!#REF!) -> #REF! | F80: =IF(totaal!#REF!=0,"",totaal!#REF!) -> #REF! | G80: =IF(totaal!#REF!=0,"",totaal!#REF!) -> #REF!
A81: =IF(totaal!A39=0,"",totaal!A39) -> 78 | C81: =IF(totaal!#REF!=0,"",totaal!#REF!) -> #REF! | D81: =IF(totaal!#REF!=0,"",totaal!#REF!) -> #REF! | E81: =IF(totaal!#REF!=0,"",totaal!#REF!) -> #REF! | F81: =IF(totaal!#REF!=0,"",totaal!#REF!) -> #REF! | G81: =IF(totaal!#REF!=0,"",totaal!#REF!) -> #REF!
A82: =IF(totaal!A40=0,"",totaal!A40) -> 79 | C82: =IF(totaal!#REF!=0,"",totaal!#REF!) -> #REF! | D82: =IF(totaal!#REF!=0,"",totaal!#REF!) -> #REF! | E82: =IF(totaal!#REF!=0,"",totaal!#REF!) -> #REF! | F82: =IF(totaal!#REF!=0,"",totaal!#REF!) -> #REF! | G82: =IF(totaal!#REF!=0,"",totaal!#REF!) -> #REF!
A83: =IF(totaal!A41=0,"",totaal!A41) -> 80 | C83: =IF(totaal!C52=0,"",totaal!C52) -> Plintconvector | D83: =IF(totaal!D52=0,"",totaal!D52) -> Prenger/Instamat | E83: =IF(totaal!E52=0,"",totaal!E52) -> type AC145 Afmeting 700x255 afgifte 425 W | F83: =IF(totaal!F52=0,"",totaal!F52) | G83: =IF(totaal!G52=0,"",totaal!G52)
A84: =IF(totaal!A42=0,"",totaal!A42) -> 81 | C84: =IF(totaal!C53=0,"",totaal!C53) -> Plintconvector | D84: =IF(totaal!D53=0,"",totaal!D53) -> Prenger/Instamat | E84: =IF(totaal!E53=0,"",totaal!E53) -> type AC145 Afmeting 500x255 afgifte 303 W | F84: =IF(totaal!F53=0,"",totaal!F53) | G84: =IF(totaal!G53=0,"",totaal!G53)
A85: =IF(totaal!A43=0,"",totaal!A43) -> 82 | C85: =IF(totaal!C54=0,"",totaal!C54) -> Plintconvector | D85: =IF(totaal!D54=0,"",totaal!D54) -> Prenger/Instamat | E85: =IF(totaal!E54=0,"",totaal!E54) -> type AC145 Afmeting 900x255 afgifte 546 W | F85: =IF(totaal!F54=0,"",totaal!F54) | G85: =IF(totaal!G54=0,"",totaal!G54)
A86: =IF(totaal!A44=0,"",totaal!A44) -> 83 | C86: =IF(totaal!C55=0,"",totaal!C55) -> Plintconvector | D86: =IF(totaal!D55=0,"",totaal!D55) -> Prenger/Instamat | E86: =IF(totaal!E55=0,"",totaal!E55) -> type AC145 Afmeting 1500x255 afgifte 911 W | F86: =IF(totaal!F55=0,"",totaal!F55) | G86: =IF(totaal!G55=0,"",totaal!G55)
A87: =IF(totaal!A45=0,"",totaal!A45) -> 84 | C87: =IF(totaal!C56=0,"",totaal!C56) -> Plintconvector | D87: =IF(totaal!D56=0,"",totaal!D56) -> Prenger/Instamat | E87: =IF(totaal!E56=0,"",totaal!E56) -> type AC145 Afmeting 600x255 afgifte 364 W | F87: =IF(totaal!F56=0,"",totaal!F56) | G87: =IF(totaal!G56=0,"",totaal!G56)
A88: =IF(totaal!A46=0,"",totaal!A46) -> 85 | C88: =IF(totaal!C57=0,"",totaal!C57) -> Plintconvector | D88: =IF(totaal!D57=0,"",totaal!D57) -> Prenger/Instamat | E88: =IF(totaal!E57=0,"",totaal!E57) -> type AC145 Afmeting 1200x255 afgifte 729 W | F88: =IF(totaal!F57=0,"",totaal!F57) | G88: =IF(totaal!G57=0,"",totaal!G57)
A89: =IF(totaal!A47=0,"",totaal!A47) -> 86 | C89: =IF(totaal!C58=0,"",totaal!C58) -> Plintconvector | D89: =IF(totaal!D58=0,"",totaal!D58) -> Prenger/Instamat | E89: =IF(totaal!E58=0,"",totaal!E58) -> type AC145 Afmeting 2200x255 afgifte 1337 W | F89: =IF(totaal!F58=0,"",totaal!F58) | G89: =IF(totaal!G58=0,"",totaal!G58)
A90: =IF(totaal!A48=0,"",totaal!A48) -> 87 | C90: =IF(totaal!C59=0,"",totaal!C59) -> Plintconvector | D90: =IF(totaal!D59=0,"",totaal!D59) -> Prenger/Instamat | E90: =IF(totaal!E59=0,"",totaal!E59) -> type AC285 Afmeting 1800x255 afgifte 1725 W | F90: =IF(totaal!F59=0,"",totaal!F59) | G90: =IF(totaal!G59=0,"",totaal!G59)
A91: =IF(totaal!A49=0,"",totaal!A49) -> 88 | C91: =IF(totaal!#REF!=0,"",totaal!#REF!) -> #REF! | D91: =IF(totaal!#REF!=0,"",totaal!#REF!) -> #REF! | E91: =IF(totaal!#REF!=0,"",totaal!#REF!) -> #REF! | F91: =IF(totaal!#REF!=0,"",totaal!#REF!) -> #REF! | G91: =IF(totaal!#REF!=0,"",totaal!#REF!) -> #REF!
A92: =IF(totaal!A50=0,"",totaal!A50) -> 89 | C92: =IF(totaal!#REF!=0,"",totaal!#REF!) -> #REF! | D92: =IF(totaal!#REF!=0,"",totaal!#REF!) -> #REF! | E92: =IF(totaal!#REF!=0,"",totaal!#REF!) -> #REF! | F92: =IF(totaal!#REF!=0,"",totaal!#REF!) -> #REF! | G92: =IF(totaal!#REF!=0,"",totaal!#REF!) -> #REF!
A93: =IF(totaal!A51=0,"",totaal!A51) -> 90 | C93: =IF(totaal!C60=0,"",totaal!C60) -> Ribbenbuiskachel | D93: =IF(totaal!D60=0,"",totaal!D60) -> Mecha Heat | E93: =IF(totaal!E60=0,"",totaal!E60) -> type CB600 600 Watt | F93: =IF(totaal!F60=0,"",totaal!F60) | G93: =IF(totaal!G60=0,"",totaal!G60)
A94: =IF(totaal!#REF!=0,"",totaal!#REF!) -> #REF! | C94: =IF(totaal!#REF!=0,"",totaal!#REF!) -> #REF! | D94: =IF(totaal!#REF!=0,"",totaal!#REF!) -> #REF! | E94: =IF(totaal!#REF!=0,"",totaal!#REF!) -> #REF! | F94: =IF(totaal!#REF!=0,"",totaal!#REF!) -> #REF! | G94: =IF(totaal!#REF!=0,"",totaal!#REF!) -> #REF!
A95: =IF(totaal!#REF!=0,"",totaal!#REF!) -> #REF! | C95: =IF(totaal!#REF!=0,"",totaal!#REF!) -> #REF! | D95: =IF(totaal!#REF!=0,"",totaal!#REF!) -> #REF! | E95: =IF(totaal!#REF!=0,"",totaal!#REF!) -> #REF! | F95: =IF(totaal!#REF!=0,"",totaal!#REF!) -> #REF! | G95: =IF(totaal!#REF!=0,"",totaal!#REF!) -> #REF!
A96: =IF(totaal!#REF!=0,"",totaal!#REF!) -> #REF! | C96: =IF(totaal!C61=0,"",totaal!C61) -> Ribbenbuiskachel | D96: =IF(totaal!D61=0,"",totaal!D61) -> Mecha Heat | E96: =IF(totaal!E61=0,"",totaal!E61) -> type CB1875 1875 Watt | F96: =IF(totaal!F61=0,"",totaal!F61) | G96: =IF(totaal!G61=0,"",totaal!G61)
A97: =IF(totaal!A52=0,"",totaal!A52) -> 94 | C97: =IF(totaal!C62=0,"",totaal!C62) -> Ribbenbuiskachel | D97: =IF(totaal!D62=0,"",totaal!D62) -> Mecha Heat | E97: =IF(totaal!E62=0,"",totaal!E62) -> type CB2500 2500 Watt | F97: =IF(totaal!F62=0,"",totaal!F62) | G97: =IF(totaal!G62=0,"",totaal!G62)
A98: =IF(totaal!A53=0,"",totaal!A53) -> 95 | C98: =IF(totaal!C63=0,"",totaal!C63) -> Stralingspaneel | D98: =IF(totaal!D63=0,"",totaal!D63) -> Enco | E98: =IF(totaal!E63=0,"",totaal!E63) -> type 4-pijps Afmeting 3000 x 925 | F98: =IF(totaal!F63=0,"",totaal!F63) | G98: =IF(totaal!G63=0,"",totaal!G63)
A99: =IF(totaal!A54=0,"",totaal!A54) -> 96 | C99: =IF(totaal!C64=0,"",totaal!C64) -> Stralingspaneel | D99: =IF(totaal!D64=0,"",totaal!D64) -> Enco | E99: =IF(totaal!E64=0,"",totaal!E64) -> type 4-pijps Afmeting 2500 x 925 | F99: =IF(totaal!F64=0,"",totaal!F64) | G99: =IF(totaal!G64=0,"",totaal!G64)
A100: =IF(totaal!A55=0,"",totaal!A55) -> 97 | C100: =IF(totaal!#REF!=0,"",totaal!#REF!) -> #REF! | D100: =IF(totaal!#REF!=0,"",totaal!#REF!) -> #REF! | E100: =IF(totaal!#REF!=0,"",totaal!#REF!) -> #REF! | F100: =IF(totaal!#REF!=0,"",totaal!#REF!) -> #REF! | G100: =IF(totaal!#REF!=0,"",totaal!#REF!) -> #REF!
A101: =IF(totaal!A56=0,"",totaal!A56) -> 98 | C101: =IF(totaal!#REF!=0,"",totaal!#REF!) -> #REF! | D101: =IF(totaal!#REF!=0,"",totaal!#REF!) -> #REF! | E101: =IF(totaal!#REF!=0,"",totaal!#REF!) -> #REF! | F101: =IF(totaal!#REF!=0,"",totaal!#REF!) -> #REF! | G101: =IF(totaal!#REF!=0,"",totaal!#REF!) -> #REF!
A102: =IF(totaal!A57=0,"",totaal!A57) -> 99 | C102: =IF(totaal!#REF!=0,"",totaal!#REF!) -> #REF! | D102: =IF(totaal!#REF!=0,"",totaal!#REF!) -> #REF! | E102: =IF(totaal!#REF!=0,"",totaal!#REF!) -> #REF! | F102: =IF(totaal!#REF!=0,"",totaal!#REF!) -> #REF! | G102: =IF(totaal!#REF!=0,"",totaal!#REF!) -> #REF!
A103: =IF(totaal!A58=0,"",totaal!A58) -> 100 | C103: =IF(totaal!#REF!=0,"",totaal!#REF!) -> #REF! | D103: =IF(totaal!#REF!=0,"",totaal!#REF!) -> #REF! | E103: =IF(totaal!#REF!=0,"",totaal!#REF!) -> #REF! | F103: =IF(totaal!#REF!=0,"",totaal!#REF!) -> #REF! | G103: =IF(totaal!#REF!=0,"",totaal!#REF!) -> #REF!
...

Sheet bwd A BG
A1: 4.57 | B1: 8 | C1: 19.57 | D1: 47.57 | F1: 10
A2: =IF(totaal!A2=0,"",totaal!A2) -> STUKLIJST | G2: Versie 4.0 (705)
A3: POS | B3: AANTAL | C3: BENAMING | D3: FABRIKAAT | E3: TYPE | F3: CODE | G3: KLEUR | H3: Mededeling Patrick
A4: =IF(totaal!A4=0,"",totaal!A4) -> 1 | C4: =IF(totaal!C4=0,"",totaal!C4) -> Gasfilter | D4: =IF(totaal!D4=0,"",totaal!D4) -> Econosto | E4: =IF(totaal!E4=0,"",totaal!E4) -> fig.1014 1/2" | F4: =IF(totaal!F4=0,"",totaal!F4) | G4: =IF(totaal!G4=0,"",totaal!G4)
A5: =IF(totaal!A5=0,"",totaal!A5) -> 2 | C5: =IF(totaal!C5=0,"",totaal!C5) -> Gasfilter | D5: =IF(totaal!D5=0,"",totaal!D5) -> Econosto | E5: =IF(totaal!E5=0,"",totaal!E5) -> fig.1014 3/4" | F5: =IF(totaal!F5=0,"",totaal!F5) | G5: =IF(totaal!G5=0,"",totaal!G5)
A6: =IF(totaal!A6=0,"",totaal!A6) -> 3 | C6: =IF(totaal!C6=0,"",totaal!C6) -> Gasfilter | D6: =IF(totaal!D6=0,"",totaal!D6) -> Econosto | E6: =IF(totaal!E6=0,"",totaal!E6) -> fig.1014 1" | F6: =IF(totaal!F6=0,"",totaal!F6) | G6: =IF(totaal!G6=0,"",totaal!G6)
A7: =IF(totaal!A7=0,"",totaal!A7) -> 4 | C7: =IF(totaal!C7=0,"",totaal!C7) -> Gaskogelafsluiter | D7: =IF(totaal!D7=0,"",totaal!D7) -> Econosto | E7: =IF(totaal!E7=0,"",totaal!E7) -> Figuur 1937 1 ½" | F7: =IF(totaal!F7=0,"",totaal!F7) | G7: =IF(totaal!G7=0,"",totaal!G7)
A8: =IF(totaal!A8=0,"",totaal!A8) -> 5 | C8: =IF(totaal!C8=0,"",totaal!C8) -> Gaskogelafsluiter | D8: =IF(totaal!D8=0,"",totaal!D8) -> VSH | E8: =IF(totaal!E8=0,"",totaal!E8) -> Figuur 060431.8 1 1/4" Bin × Bui | F8: =IF(totaal!F8=0,"",totaal!F8) -> TU785162 | G8: =IF(totaal!G8=0,"",totaal!G8)
A9: =IF(totaal!A9=0,"",totaal!A9) -> 6 | C9: =IF(totaal!C9=0,"",totaal!C9) -> Gaskogelafsluiter | D9: =IF(totaal!D9=0,"",totaal!D9) -> Econosto | E9: =IF(totaal!E9=0,"",totaal!E9) | F9: =IF(totaal!F9=0,"",totaal!F9) | G9: =IF(totaal!G9=0,"",totaal!G9)
A10: =IF(totaal!A10=0,"",totaal!A10) -> 7 | C10: =IF(totaal!C10=0,"",totaal!C10) -> Gaskogelafsluiter | D10: =IF(totaal!D10=0,"",totaal!D10) -> Econosto | E10: =IF(totaal!E10=0,"",totaal!E10) -> fig.1619 2" | F10: =IF(totaal!F10=0,"",totaal!F10) | G10: =IF(totaal!G10=0,"",totaal!G10)
A11: =IF(totaal!A11=0,"",totaal!A11) -> 8 | C11: =IF(totaal!C11=0,"",totaal!C11) -> Gasklepafsluiter | D11: =IF(totaal!D11=0,"",totaal!D11) -> Econosto | E11: =IF(totaal!E11=0,"",totaal!E11) -> fig.2011 DN100 PN10 | F11: =IF(totaal!F11=0,"",totaal!F11) | G11: =IF(totaal!G11=0,"",totaal!G11)
A12: =IF(totaal!A12=0,"",totaal!A12) -> 9 | C12: =IF(totaal!C12=0,"",totaal!C12) -> Gasgebrekklep | D12: =IF(totaal!D12=0,"",totaal!D12) -> Schlumberger | E12: =IF(totaal!E12=0,"",totaal!E12) | F12: =IF(totaal!F12=0,"",totaal!F12) | G12: =IF(totaal!G12=0,"",totaal!G12)
A13: =IF(totaal!A13=0,"",totaal!A13) -> 10 | C13: =IF(totaal!C13=0,"",totaal!C13) -> Klepafsluiter Rayon Patent | D13: =IF(totaal!D13=0,"",totaal!D13) -> Econosto | E13: =IF(totaal!E13=0,"",totaal!E13) -> fig.2011 DN100 | F13: =IF(totaal!F13=0,"",totaal!F13) | G13: =IF(totaal!G13=0,"",totaal!G13)
A14: =IF(totaal!A14=0,"",totaal!A14) -> 11 | C14: =IF(totaal!C14=0,"",totaal!C14) -> Gasmagneetafsluiter NO | D14: =IF(totaal!D14=0,"",totaal!D14) -> Watts Industrie | E14: =IF(totaal!E14=0,"",totaal!E14) -> type ? 3/4" | F14: =IF(totaal!F14=0,"",totaal!F14) | G14: =IF(totaal!G14=0,"",totaal!G14)
A15: =IF(totaal!#REF!=0,"",totaal!#REF!) -> #REF! | C15: =IF(totaal!#REF!=0,"",totaal!#REF!) -> #REF! | D15: =IF(totaal!#REF!=0,"",totaal!#REF!) -> #REF! | E15: =IF(totaal!#REF!=0,"",totaal!#REF!) -> #REF! | F15: =IF(totaal!#REF!=0,"",totaal!#REF!) -> #REF! | G15: =IF(totaal!#REF!=0,"",totaal!#REF!) -> #REF!
A16: =IF(totaal!#REF!=0,"",totaal!#REF!) -> #REF! | C16: =IF(totaal!#REF!=0,"",totaal!#REF!) -> #REF! | D16: =IF(totaal!#REF!=0,"",totaal!#REF!) -> #REF! | E16: =IF(totaal!#REF!=0,"",totaal!#REF!) -> #REF! | F16: =IF(totaal!#REF!=0,"",totaal!#REF!) -> #REF! | G16: =IF(totaal!#REF!=0,"",totaal!#REF!) -> #REF!
A17: =IF(totaal!#REF!=0,"",totaal!#REF!) -> #REF! | C17: =IF(totaal!#REF!=0,"",totaal!#REF!) -> #REF! | D17: =IF(totaal!#REF!=0,"",totaal!#REF!) -> #REF! | E17: =IF(totaal!#REF!=0,"",totaal!#REF!) -> #REF! | F17: =IF(totaal!#REF!=0,"",totaal!#REF!) -> #REF! | G17: =IF(totaal!#REF!=0,"",totaal!#REF!) -> #REF!
A18: =IF(totaal!#REF!=0,"",totaal!#REF!) -> #REF! | C18: =IF(totaal!#REF!=0,"",totaal!#REF!) -> #REF! | D18: =IF(totaal!#REF!=0,"",totaal!#REF!) -> #REF! | E18: =IF(totaal!#REF!=0,"",totaal!#REF!) -> #REF! | F18: =IF(totaal!#REF!=0,"",totaal!#REF!) -> #REF! | G18: =IF(totaal!#REF!=0,"",totaal!#REF!) -> #REF!
A19: =IF(totaal!A15=0,"",totaal!A15) -> 16 | C19: =IF(totaal!C15=0,"",totaal!C15) -> Gasfilter | D19: =IF(totaal!D15=0,"",totaal!D15) -> Econosto | E19: =IF(totaal!E15=0,"",totaal!E15) -> fig.1014 1 1/4" | F19: =IF(totaal!F15=0,"",totaal!F15) | G19: =IF(totaal!G15=0,"",totaal!G15)
A20: =IF(totaal!A16=0,"",totaal!A16) -> 17 | C20: =IF(totaal!C16=0,"",totaal!C16) -> Gaskogelafsluiter | D20: =IF(totaal!D16=0,"",totaal!D16) -> Econosto | E20: =IF(totaal!E16=0,"",totaal!E16) -> fig. 1619 1" | F20: =IF(totaal!F16=0,"",totaal!F16) | G20: =IF(totaal!G16=0,"",totaal!G16)
A21: =IF(totaal!#REF!=0,"",totaal!#REF!) -> #REF! | C21: =IF(totaal!#REF!=0,"",totaal!#REF!) -> #REF! | D21: =IF(totaal!#REF!=0,"",totaal!#REF!) -> #REF! | E21: =IF(totaal!#REF!=0,"",totaal!#REF!) -> #REF! | F21: =IF(totaal!#REF!=0,"",totaal!#REF!) -> #REF! | G21: =IF(totaal!#REF!=0,"",totaal!#REF!) -> #REF!
A22: =IF(totaal!#REF!=0,"",totaal!#REF!) -> #REF! | C22: =IF(totaal!#REF!=0,"",totaal!#REF!) -> #REF! | D22: =IF(totaal!#REF!=0,"",totaal!#REF!) -> #REF! | E22: =IF(totaal!#REF!=0,"",totaal!#REF!) -> #REF! | F22: =IF(totaal!#REF!=0,"",totaal!#REF!) -> #REF! | G22: =IF(totaal!#REF!=0,"",totaal!#REF!) -> #REF!
A23: =IF(totaal!A17=0,"",totaal!A17) -> 20 | C23: =IF(totaal!C17=0,"",totaal!C17) -> Bufffervat 1500 ltr | D23: =IF(totaal!D17=0,"",totaal!D17) -> Horos | E23: =IF(totaal!E17=0,"",totaal!E17) -> Verticaal Buffervat VK 1500 diameter ø990mm × 2470mm | F23: =IF(totaal!F17=0,"",totaal!F17) -> 816 020 070 | G23: =IF(totaal!G17=0,"",totaal!G17)
A24: =IF(totaal!A18=0,"",totaal!A18) -> 21 | C24: =IF(totaal!C18=0,"",totaal!C18) | D24: =IF(totaal!D18=0,"",totaal!D18) | E24: =IF(totaal!E18=0,"",totaal!E18) -> Uitw. geïsoleerd met 20 mm dampdichte isolatie | F24: =IF(totaal!F18=0,"",totaal!F18) | G24: =IF(totaal!G18=0,"",totaal!G18)
A25: =IF(totaal!A19=0,"",totaal!A19) -> 22 | C25: =IF(totaal!C19=0,"",totaal!C19) | D25: =IF(totaal!D19=0,"",totaal!D19) | E25: =IF(totaal!E19=0,"",totaal!E19) -> Inclusief 2× ¾" voor aftap en beluchting | F25: =IF(totaal!F19=0,"",totaal!F19) | G25: =IF(totaal!G19=0,"",totaal!G19)
A26: =IF(totaal!A20=0,"",totaal!A20) -> 23 | C26: =IF(totaal!C20=0,"",totaal!C20) -> Bufffervat 2000 ltr | D26: =IF(totaal!D20=0,"",totaal!D20) -> Horos | E26: =IF(totaal!E20=0,"",totaal!E20) -> Verticaal Buffervat VK 2000 diameter ø1140mm × 2510mm | F26: =IF(totaal!F20=0,"",totaal!F20) -> 816 020 071 | G26: =IF(totaal!G20=0,"",totaal!G20)
A27: =IF(totaal!A21=0,"",totaal!A21) -> 24 | C27: =IF(totaal!C21=0,"",totaal!C21) | D27: =IF(totaal!D21=0,"",totaal!D21) | E27: =IF(totaal!E21=0,"",totaal!E21) -> Uitwendig gesioleerd met 20 mm dampdichte isolatie | F27: =IF(totaal!F21=0,"",totaal!F21) | G27: =IF(totaal!G21=0,"",totaal!G21)
A28: =IF(totaal!A22=0,"",totaal!A22) -> 25 | C28: =IF(totaal!C22=0,"",totaal!C22) | D28: =IF(totaal!D22=0,"",totaal!D22) | E28: =IF(totaal!E22=0,"",totaal!E22) -> Inclusief 2× ¾" voor aftap en beluchting | F28: =IF(totaal!F22=0,"",totaal!F22) | G28: =IF(totaal!G22=0,"",totaal!G22)
A29: =IF(totaal!#REF!=0,"",totaal!#REF!) -> #REF! | C29: =IF(totaal!#REF!=0,"",totaal!#REF!) -> #REF! | D29: =IF(totaal!#REF!=0,"",totaal!#REF!) -> #REF! | E29: =IF(totaal!#REF!=0,"",totaal!#REF!) -> #REF! | F29: =IF(totaal!#REF!=0,"",totaal!#REF!) -> #REF! | G29: =IF(totaal!#REF!=0,"",totaal!#REF!) -> #REF!
A30: =IF(totaal!#REF!=0,"",totaal!#REF!) -> #REF! | C30: =IF(totaal!#REF!=0,"",totaal!#REF!) -> #REF! | D30: =IF(totaal!#REF!=0,"",totaal!#REF!) -> #REF! | E30: =IF(totaal!#REF!=0,"",totaal!#REF!) -> #REF! | F30: =IF(totaal!#REF!=0,"",totaal!#REF!) -> #REF! | G30: =IF(totaal!#REF!=0,"",totaal!#REF!) -> #REF!
A31: =IF(totaal!#REF!=0,"",totaal!#REF!) -> #REF! | C31: =IF(totaal!#REF!=0,"",totaal!#REF!) -> #REF! | D31: =IF(totaal!#REF!=0,"",totaal!#REF!) -> #REF! | E31: =IF(totaal!#REF!=0,"",totaal!#REF!) -> #REF! | F31: =IF(totaal!#REF!=0,"",totaal!#REF!) -> #REF! | G31: =IF(totaal!#REF!=0,"",totaal!#REF!) -> #REF!
A32: =IF(totaal!#REF!=0,"",totaal!#REF!) -> #REF! | C32: =IF(totaal!#REF!=0,"",totaal!#REF!) -> #REF! | D32: =IF(totaal!#REF!=0,"",totaal!#REF!) -> #REF! | E32: =IF(totaal!#REF!=0,"",totaal!#REF!) -> #REF! | F32: =IF(totaal!#REF!=0,"",totaal!#REF!) -> #REF! | G32: =IF(totaal!#REF!=0,"",totaal!#REF!) -> #REF!
A33: =IF(totaal!#REF!=0,"",totaal!#REF!) -> #REF! | C33: =IF(totaal!#REF!=0,"",totaal!#REF!) -> #REF! | D33: =IF(totaal!#REF!=0,"",totaal!#REF!) -> #REF! | E33: =IF(totaal!#REF!=0,"",totaal!#REF!) -> #REF! | F33: =IF(totaal!#REF!=0,"",totaal!#REF!) -> #REF! | G33: =IF(totaal!#REF!=0,"",totaal!#REF!) -> #REF!
A34: =IF(totaal!#REF!=0,"",totaal!#REF!) -> #REF! | C34: =IF(totaal!#REF!=0,"",totaal!#REF!) -> #REF! | D34: =IF(totaal!#REF!=0,"",totaal!#REF!) -> #REF! | E34: =IF(totaal!#REF!=0,"",totaal!#REF!) -> #REF! | F34: =IF(totaal!#REF!=0,"",totaal!#REF!) -> #REF! | G34: =IF(totaal!#REF!=0,"",totaal!#REF!) -> #REF!
A35: =IF(totaal!#REF!=0,"",totaal!#REF!) -> #REF! | C35: =IF(totaal!#REF!=0,"",totaal!#REF!) -> #REF! | D35: =IF(totaal!#REF!=0,"",totaal!#REF!) -> #REF! | E35: =IF(totaal!#REF!=0,"",totaal!#REF!) -> #REF! | F35: =IF(totaal!#REF!=0,"",totaal!#REF!) -> #REF! | G35: =IF(totaal!#REF!=0,"",totaal!#REF!) -> #REF!
A36: =IF(totaal!#REF!=0,"",totaal!#REF!) -> #REF! | C36: =IF(totaal!#REF!=0,"",totaal!#REF!) -> #REF! | D36: =IF(totaal!#REF!=0,"",totaal!#REF!) -> #REF! | E36: =IF(totaal!#REF!=0,"",totaal!#REF!) -> #REF! | F36: =IF(totaal!#REF!=0,"",totaal!#REF!) -> #REF! | G36: =IF(totaal!#REF!=0,"",totaal!#REF!) -> #REF!
A37: =IF(totaal!#REF!=0,"",totaal!#REF!) -> #REF! | C37: =IF(totaal!#REF!=0,"",totaal!#REF!) -> #REF! | D37: =IF(totaal!#REF!=0,"",totaal!#REF!) -> #REF! | E37: =IF(totaal!#REF!=0,"",totaal!#REF!) -> #REF! | F37: =IF(totaal!#REF!=0,"",totaal!#REF!) -> #REF! | G37: =IF(totaal!#REF!=0,"",totaal!#REF!) -> #REF!
A38: =IF(totaal!#REF!=0,"",totaal!#REF!) -> #REF! | C38: =IF(totaal!#REF!=0,"",totaal!#REF!) -> #REF! | D38: =IF(totaal!#REF!=0,"",totaal!#REF!) -> #REF! | E38: =IF(totaal!#REF!=0,"",totaal!#REF!) -> #REF! | F38: =IF(totaal!#REF!=0,"",totaal!#REF!) -> #REF! | G38: =IF(totaal!#REF!=0,"",totaal!#REF!) -> #REF!
A39: =IF(totaal!#REF!=0,"",totaal!#REF!) -> #REF! | C39: =IF(totaal!#REF!=0,"",totaal!#REF!) -> #REF! | D39: =IF(totaal!#REF!=0,"",totaal!#REF!) -> #REF! | E39: =IF(totaal!#REF!=0,"",totaal!#REF!) -> #REF! | F39: =IF(totaal!#REF!=0,"",totaal!#REF!) -> #REF! | G39: =IF(totaal!#REF!=0,"",totaal!#REF!) -> #REF!
A40: =IF(totaal!#REF!=0,"",totaal!#REF!) -> #REF! | C40: =IF(totaal!#REF!=0,"",totaal!#REF!) -> #REF! | D40: =IF(totaal!#REF!=0,"",totaal!#REF!) -> #REF! | E40: =IF(totaal!#REF!=0,"",totaal!#REF!) -> #REF! | F40: =IF(totaal!#REF!=0,"",totaal!#REF!) -> #REF! | G40: =IF(totaal!#REF!=0,"",totaal!#REF!) -> #REF!
... A42: =IF(totaal!#REF!=0,"",totaal!#REF!) -> #REF! | C42: =IF(totaal!#REF!=0,"",totaal!#REF!) -> #REF! | D42: =IF(totaal!#REF!=0,"",totaal!#REF!) -> #REF! | E42: =IF(totaal!#REF!=0,"",totaal!#REF!) -> #REF! | F42: =IF(totaal!#REF!=0,"",totaal!#REF!) -> #REF! | G42: =IF(totaal!#REF!=0,"",totaal!#REF!) -> #REF!
A43: =IF(totaal!#REF!=0,"",totaal!#REF!) -> #REF! | C43: =IF(totaal!C23=0,"",totaal!C23) -> Radiator | D43: =IF(totaal!D23=0,"",totaal!D23) -> Veha | E43: =IF(totaal!E23=0,"",totaal!E23) -> type standaard 1600-900-22 | F43: =IF(totaal!F23=0,"",totaal!F23) | G43: =IF(totaal!G23=0,"",totaal!G23)
A44: =IF(totaal!#REF!=0,"",totaal!#REF!) -> #REF! | C44: =IF(totaal!#REF!=0,"",totaal!#REF!) -> #REF! | D44: =IF(totaal!#REF!=0,"",totaal!#REF!) -> #REF! | E44: =IF(totaal!#REF!=0,"",totaal!#REF!) -> #REF! | F44: =IF(totaal!#REF!=0,"",totaal!#REF!) -> #REF! | G44: =IF(totaal!#REF!=0,"",totaal!#REF!) -> #REF!
A45: =IF(totaal!#REF!=0,"",totaal!#REF!) -> #REF! | C45: =IF(totaal!#REF!=0,"",totaal!#REF!) -> #REF! | D45: =IF(totaal!#REF!=0,"",totaal!#REF!) -> #REF! | E45: =IF(totaal!#REF!=0,"",totaal!#REF!) -> #REF! | F45: =IF(totaal!#REF!=0,"",totaal!#REF!) -> #REF! | G45: =IF(totaal!#REF!=0,"",totaal!#REF!) -> #REF!
A46: =IF(totaal!#REF!=0,"",totaal!#REF!) -> #REF! | C46: =IF(totaal!#REF!=0,"",totaal!#REF!) -> #REF! | D46: =IF(totaal!#REF!=0,"",totaal!#REF!) -> #REF! | E46: =IF(totaal!#REF!=0,"",totaal!#REF!) -> #REF! | F46: =IF(totaal!#REF!=0,"",totaal!#REF!) -> #REF! | G46: =IF(totaal!#REF!=0,"",totaal!#REF!) -> #REF!
A47: =IF(totaal!#REF!=0,"",totaal!#REF!) -> #REF! | C47: =IF(totaal!#REF!=0,"",totaal!#REF!) -> #REF! | D47: =IF(totaal!#REF!=0,"",totaal!#REF!) -> #REF! | E47: =IF(totaal!#REF!=0,"",totaal!#REF!) -> #REF! | F47: =IF(totaal!#REF!=0,"",totaal!#REF!) -> #REF! | G47: =IF(totaal!#REF!=0,"",totaal!#REF!) -> #REF!
A48: =IF(totaal!#REF!=0,"",totaal!#REF!) -> #REF! | C48: =IF(totaal!#REF!=0,"",totaal!#REF!) -> #REF! | D48: =IF(totaal!#REF!=0,"",totaal!#REF!) -> #REF! | E48: =IF(totaal!#REF!=0,"",totaal!#REF!) -> #REF! | F48: =IF(totaal!#REF!=0,"",totaal!#REF!) -> #REF! | G48: =IF(totaal!#REF!=0,"",totaal!#REF!) -> #REF!
A49: =IF(totaal!#REF!=0,"",totaal!#REF!) -> #REF! | C49: =IF(totaal!#REF!=0,"",totaal!#REF!) -> #REF! | D49: =IF(totaal!#REF!=0,"",totaal!#REF!) -> #REF! | E49: =IF(totaal!#REF!=0,"",totaal!#REF!) -> #REF! | F49: =IF(totaal!#REF!=0,"",totaal!#REF!) -> #REF! | G49: =IF(totaal!#REF!=0,"",totaal!#REF!) -> #REF!
A50: =IF(totaal!#REF!=0,"",totaal!#REF!) -> #REF! | C50: =IF(totaal!#REF!=0,"",totaal!#REF!) -> #REF! | D50: =IF(totaal!#REF!=0,"",totaal!#REF!) -> #REF! | E50: =IF(totaal!#REF!=0,"",totaal!#REF!) -> #REF! | F50: =IF(totaal!#REF!=0,"",totaal!#REF!) -> #REF! | G50: =IF(totaal!#REF!=0,"",totaal!#REF!) -> #REF!
A51: =IF(totaal!#REF!=0,"",totaal!#REF!) -> #REF! | C51: =IF(totaal!#REF!=0,"",totaal!#REF!) -> #REF! | D51: =IF(totaal!#REF!=0,"",totaal!#REF!) -> #REF! | E51: =IF(totaal!#REF!=0,"",totaal!#REF!) -> #REF! | F51: =IF(totaal!#REF!=0,"",totaal!#REF!) -> #REF! | G51: =IF(totaal!#REF!=0,"",totaal!#REF!) -> #REF!
A52: =IF(totaal!#REF!=0,"",totaal!#REF!) -> #REF! | C52: =IF(totaal!C24=0,"",totaal!C24) -> Radiator | D52: =IF(totaal!D24=0,"",totaal!D24) -> Veha | E52: =IF(totaal!E24=0,"",totaal!E24) -> type Plana 22 afmeting 3000x500 | F52: =IF(totaal!F24=0,"",totaal!F24) | G52: =IF(totaal!G24=0,"",totaal!G24)
A53: =IF(totaal!#REF!=0,"",totaal!#REF!) -> #REF! | C53: =IF(totaal!C25=0,"",totaal!C25) -> Radiator | D53: =IF(totaal!D25=0,"",totaal!D25) -> Veha | E53: =IF(totaal!E25=0,"",totaal!E25) -> type Plana 22 afmeting 2000x600 Q=1110 W | F53: =IF(totaal!F25=0,"",totaal!F25) | G53: =IF(totaal!G25=0,"",totaal!G25)
A54: =IF(totaal!#REF!=0,"",totaal!#REF!) -> #REF! | C54: =IF(totaal!C26=0,"",totaal!C26) -> Radiator | D54: =IF(totaal!D26=0,"",totaal!D26) -> Veha | E54: =IF(totaal!E26=0,"",totaal!E26) -> type Plana 22 afmeting 3800x600 Q=2110 W | F54: =IF(totaal!F26=0,"",totaal!F26) | G54: =IF(totaal!G26=0,"",totaal!G26)
A55: =IF(totaal!#REF!=0,"",totaal!#REF!) -> #REF! | C55: =IF(totaal!C27=0,"",totaal!C27) -> Radiator | D55: =IF(totaal!D27=0,"",totaal!D27) -> Veha | E55: =IF(totaal!E27=0,"",totaal!E27) -> type Plana 22 afmeting 1000x600 Q=554 W | F55: =IF(totaal!F27=0,"",totaal!F27) | G55: =IF(totaal!G27=0,"",totaal!G27)
A56: =IF(totaal!#REF!=0,"",totaal!#REF!) -> #REF! | C56: =IF(totaal!C28=0,"",totaal!C28) -> Radiator | D56: =IF(totaal!D28=0,"",totaal!D28) -> Veha | E56: =IF(totaal!E28=0,"",totaal!E28) -> type Plana 22 afmeting 2200x600 Q=1230 W | F56: =IF(totaal!F28=0,"",totaal!F28) | G56: =IF(totaal!G28=0,"",totaal!G28)
A57: =IF(totaal!#REF!=0,"",totaal!#REF!) -> #REF! | C57: =IF(totaal!C29=0,"",totaal!C29) -> Radiator | D57: =IF(totaal!D29=0,"",totaal!D29) -> Henrad | E57: =IF(totaal!E29=0,"",totaal!E29) -> type 22 afmeting 1400x600 Q=990 W | F57: =IF(totaal!F29=0,"",totaal!F29) | G57: =IF(totaal!G29=0,"",totaal!G29)
A58: =IF(totaal!#REF!=0,"",totaal!#REF!) -> #REF! | C58: =IF(totaal!C30=0,"",totaal!C30) -> Radiator | D58: =IF(totaal!D30=0,"",totaal!D30) -> Henrad | E58: =IF(totaal!E30=0,"",totaal!E30) -> type 22 afmeting 1600x600 Q=1131 W | F58: =IF(totaal!F30=0,"",totaal!F30) | G58: =IF(totaal!G30=0,"",totaal!G30)
A59: =IF(totaal!#REF!=0,"",totaal!#REF!) -> #REF! | C59: =IF(totaal!C31=0,"",totaal!C31) -> Radiator | D59: =IF(totaal!D31=0,"",totaal!D31) -> Henrad | E59: =IF(totaal!E31=0,"",totaal!E31) -> type 22 afmeting 2000x600 Q=1414 W | F59: =IF(totaal!F31=0,"",totaal!F31) | G59: =IF(totaal!G31=0,"",totaal!G31)
A60: =IF(totaal!#REF!=0,"",totaal!#REF!) -> #REF! | C60: =IF(totaal!C32=0,"",totaal!C32) -> Radiator | D60: =IF(totaal!D32=0,"",totaal!D32) -> Henrad | E60: =IF(totaal!E32=0,"",totaal!E32) -> type 22 afmeting 1600x600 Q=1131 W | F60: =IF(totaal!F32=0,"",totaal!F32) | G60: =IF(totaal!G32=0,"",totaal!G32)
A61: =IF(totaal!#REF!=0,"",totaal!#REF!) -> #REF! | C61: =IF(totaal!C33=0,"",totaal!C33) -> Radiator | D61: =IF(totaal!D33=0,"",totaal!D33) -> Henrad | E61: =IF(totaal!E33=0,"",totaal!E33) -> type 11 afmeting 1200x600 Q-1200 W | F61: =IF(totaal!F33=0,"",totaal!F33) | G61: =IF(totaal!G33=0,"",totaal!G33)
A62: =IF(totaal!#REF!=0,"",totaal!#REF!) -> #REF! | C62: =IF(totaal!C34=0,"",totaal!C34) -> Radiator | D62: =IF(totaal!D34=0,"",totaal!D34) -> Henrad | E62: =IF(totaal!E34=0,"",totaal!E34) -> type 11 afmeting 1400x600 Q=1400 W | F62: =IF(totaal!F34=0,"",totaal!F34) | G62: =IF(totaal!G34=0,"",totaal!G34)
A63: =IF(totaal!#REF!=0,"",totaal!#REF!) -> #REF! | C63: =IF(totaal!C35=0,"",totaal!C35) -> Radiator | D63: =IF(totaal!D35=0,"",totaal!D35) -> Henrad | E63: =IF(totaal!E35=0,"",totaal!E35) -> type 11 afmeting 800x600 Q=800 W | F63: =IF(totaal!F35=0,"",totaal!F35) | G63: =IF(totaal!G35=0,"",totaal!G35)
A64: =IF(totaal!#REF!=0,"",totaal!#REF!) -> #REF! | C64: =IF(totaal!C36=0,"",totaal!C36) -> Radiator | D64: =IF(totaal!D36=0,"",totaal!D36) -> Henrad | E64: =IF(totaal!E36=0,"",totaal!E36) -> type 22 afmeting 1000x600 Q=707 W | F64: =IF(totaal!F36=0,"",totaal!F36) | G64: =IF(totaal!G36=0,"",totaal!G36)
A65: =IF(totaal!A23=0,"",totaal!A23) -> 62 | C65: =IF(totaal!C37=0,"",totaal!C37) -> Radiator | D65: =IF(totaal!D37=0,"",totaal!D37) -> Henrad | E65: =IF(totaal!E37=0,"",totaal!E37) -> type 33 afmeting 2000x600 Q=1976 W | F65: =IF(totaal!F37=0,"",totaal!F37) | G65: =IF(totaal!G37=0,"",totaal!G37)
A66: =IF(totaal!A24=0,"",totaal!A24) -> 63 | C66: =IF(totaal!C38=0,"",totaal!C38) -> Radiator | D66: =IF(totaal!D38=0,"",totaal!D38) -> Henrad | E66: =IF(totaal!E38=0,"",totaal!E38) -> type 22 afmeting 2200x600 Q=1555 W | F66: =IF(totaal!F38=0,"",totaal!F38) | G66: =IF(totaal!G38=0,"",totaal!G38)
A67: =IF(totaal!A25=0,"",totaal!A25) -> 64 | C67: =IF(totaal!C39=0,"",totaal!C39) -> Radiator | D67: =IF(totaal!D39=0,"",totaal!D39) -> Henrad | E67: =IF(totaal!E39=0,"",totaal!E39) -> type 11 afmeting 1000x600 Q=1000 W | F67: =IF(totaal!F39=0,"",totaal!F39) | G67: =IF(totaal!G39=0,"",totaal!G39)
A68: =IF(totaal!A26=0,"",totaal!A26) -> 65 | C68: =IF(totaal!C40=0,"",totaal!C40) -> Radiator | D68: =IF(totaal!D40=0,"",totaal!D40) -> Henrad | E68: =IF(totaal!E40=0,"",totaal!E40) -> type 11 afmeting 700x600 Q=700 W | F68: =IF(totaal!F40=0,"",totaal!F40) | G68: =IF(totaal!G40=0,"",totaal!G40)
A69: =IF(totaal!A27=0,"",totaal!A27) -> 66 | C69: =IF(totaal!C41=0,"",totaal!C41) -> Radiator | D69: =IF(totaal!D41=0,"",totaal!D41) -> Henrad | E69: =IF(totaal!E41=0,"",totaal!E41) -> type 21 afmeting 900x600 Q=505 W | F69: =IF(totaal!F41=0,"",totaal!F41) | G69: =IF(totaal!G41=0,"",totaal!G41)
A70: =IF(totaal!A28=0,"",totaal!A28) -> 67 | C70: =IF(totaal!C42=0,"",totaal!C42) -> Radiator | D70: =IF(totaal!D42=0,"",totaal!D42) -> Henrad | E70: =IF(totaal!E42=0,"",totaal!E42) -> type 22 afmeting 1000x600 Q=1778 W | F70: =IF(totaal!F42=0,"",totaal!F42) | G70: =IF(totaal!G42=0,"",totaal!G42)
A71: =IF(totaal!A29=0,"",totaal!A29) -> 68 | C71: =IF(totaal!C43=0,"",totaal!C43) -> Radiator | D71: =IF(totaal!D43=0,"",totaal!D43) -> Henrad | E71: =IF(totaal!E43=0,"",totaal!E43) -> type 22 afmeting 500x600 Q=889 W | F71: =IF(totaal!F43=0,"",totaal!F43) | G71: =IF(totaal!G43=0,"",totaal!G43)
A72: =IF(totaal!A30=0,"",totaal!A30) -> 69 | C72: =IF(totaal!C44=0,"",totaal!C44) -> Radiator | D72: =IF(totaal!D44=0,"",totaal!D44) -> Henrad | E72: =IF(totaal!E44=0,"",totaal!E44) -> type 11 afmeting 900x600 Q=900 W | F72: =IF(totaal!F44=0,"",totaal!F44) | G72: =IF(totaal!G44=0,"",totaal!G44)
A73: =IF(totaal!A31=0,"",totaal!A31) -> 70 | C73: =IF(totaal!C45=0,"",totaal!C45) -> Radiator | D73: =IF(totaal!D45=0,"",totaal!D45) -> Henrad | E73: =IF(totaal!E45=0,"",totaal!E45) -> type 221 afmeting 1100x600 Q=1956 W | F73: =IF(totaal!F45=0,"",totaal!F45) | G73: =IF(totaal!G45=0,"",totaal!G45)
A74: =IF(totaal!A32=0,"",totaal!A32) -> 71 | C74: =IF(totaal!C46=0,"",totaal!C46) -> Radiator | D74: =IF(totaal!D46=0,"",totaal!D46) -> Henrad | E74: =IF(totaal!E46=0,"",totaal!E46) -> type 22 afmeting 700x600 Q=495 W | F74: =IF(totaal!F46=0,"",totaal!F46) | G74: =IF(totaal!G46=0,"",totaal!G46)
A75: =IF(totaal!A33=0,"",totaal!A33) -> 72 | C75: =IF(totaal!C47=0,"",totaal!C47) -> Radiator | D75: =IF(totaal!D47=0,"",totaal!D47) -> Henrad | E75: =IF(totaal!E47=0,"",totaal!E47) -> type 33 afmeting 1600x700 Q=1778 W | F75: =IF(totaal!F47=0,"",totaal!F47) | G75: =IF(totaal!G47=0,"",totaal!G47)
A76: =IF(totaal!A34=0,"",totaal!A34) -> 73 | C76: =IF(totaal!C48=0,"",totaal!C48) -> Radiator | D76: =IF(totaal!D48=0,"",totaal!D48) -> Henrad | E76: =IF(totaal!E48=0,"",totaal!E48) -> type 11 afmeting 800x300 | F76: =IF(totaal!F48=0,"",totaal!F48) | G76: =IF(totaal!G48=0,"",totaal!G48)
... A79: =IF(totaal!A37=0,"",totaal!A37) -> 76 | C79: =IF(totaal!C51=0,"",totaal!C51) -> Radiator | D79: =IF(totaal!D51=0,"",totaal!D51) -> Henrad | E79: =IF(totaal!E51=0,"",totaal!E51) -> type 11 afmeting 800x300 | F79: =IF(totaal!F51=0,"",totaal!F51) | G79: =IF(totaal!G51=0,"",totaal!G51)
A80: =IF(totaal!A38=0,"",totaal!A38) -> 77 | C80: =IF(totaal!#REF!=0,"",totaal!#REF!) -> #REF! | D80: =IF(totaal!#REF!=0,"",totaal!#REF!) -> #REF! | E80: =IF(totaal!#REF!=0,"",totaal!#REF!) -> #REF! | F80: =IF(totaal!#REF!=0,"",totaal!#REF!) -> #REF! | G80: =IF(totaal!#REF!=0,"",totaal!#REF!) -> #REF!
A81: =IF(totaal!A39=0,"",totaal!A39) -> 78 | C81: =IF(totaal!#REF!=0,"",totaal!#REF!) -> #REF! | D81: =IF(totaal!#REF!=0,"",totaal!#REF!) -> #REF! | E81: =IF(totaal!#REF!=0,"",totaal!#REF!) -> #REF! | F81: =IF(totaal!#REF!=0,"",totaal!#REF!) -> #REF! | G81: =IF(totaal!#REF!=0,"",totaal!#REF!) -> #REF!
A82: =IF(totaal!A40=0,"",totaal!A40) -> 79 | C82: =IF(totaal!#REF!=0,"",totaal!#REF!) -> #REF! | D82: =IF(totaal!#REF!=0,"",totaal!#REF!) -> #REF! | E82: =IF(totaal!#REF!=0,"",totaal!#REF!) -> #REF! | F82: =IF(totaal!#REF!=0,"",totaal!#REF!) -> #REF! | G82: =IF(totaal!#REF!=0,"",totaal!#REF!) -> #REF!
A83: =IF(totaal!A41=0,"",totaal!A41) -> 80 | C83: =IF(totaal!C52=0,"",totaal!C52) -> Plintconvector | D83: =IF(totaal!D52=0,"",totaal!D52) -> Prenger/Instamat | E83: =IF(totaal!E52=0,"",totaal!E52) -> type AC145 Afmeting 700x255 afgifte 425 W | F83: =IF(totaal!F52=0,"",totaal!F52) | G83: =IF(totaal!G52=0,"",totaal!G52)
A84: =IF(totaal!A42=0,"",totaal!A42) -> 81 | C84: =IF(totaal!C53=0,"",totaal!C53) -> Plintconvector | D84: =IF(totaal!D53=0,"",totaal!D53) -> Prenger/Instamat | E84: =IF(totaal!E53=0,"",totaal!E53) -> type AC145 Afmeting 500x255 afgifte 303 W | F84: =IF(totaal!F53=0,"",totaal!F53) | G84: =IF(totaal!G53=0,"",totaal!G53)
A85: =IF(totaal!A43=0,"",totaal!A43) -> 82 | C85: =IF(totaal!C54=0,"",totaal!C54) -> Plintconvector | D85: =IF(totaal!D54=0,"",totaal!D54) -> Prenger/Instamat | E85: =IF(totaal!E54=0,"",totaal!E54) -> type AC145 Afmeting 900x255 afgifte 546 W | F85: =IF(totaal!F54=0,"",totaal!F54) | G85: =IF(totaal!G54=0,"",totaal!G54)
A86: =IF(totaal!A44=0,"",totaal!A44) -> 83 | C86: =IF(totaal!C55=0,"",totaal!C55) -> Plintconvector | D86: =IF(totaal!D55=0,"",totaal!D55) -> Prenger/Instamat | E86: =IF(totaal!E55=0,"",totaal!E55) -> type AC145 Afmeting 1500x255 afgifte 911 W | F86: =IF(totaal!F55=0,"",totaal!F55) | G86: =IF(totaal!G55=0,"",totaal!G55)
A87: =IF(totaal!A45=0,"",totaal!A45) -> 84 | C87: =IF(totaal!C56=0,"",totaal!C56) -> Plintconvector | D87: =IF(totaal!D56=0,"",totaal!D56) -> Prenger/Instamat | E87: =IF(totaal!E56=0,"",totaal!E56) -> type AC145 Afmeting 600x255 afgifte 364 W | F87: =IF(totaal!F56=0,"",totaal!F56) | G87: =IF(totaal!G56=0,"",totaal!G56)
A88: =IF(totaal!A46=0,"",totaal!A46) -> 85 | C88: =IF(totaal!C57=0,"",totaal!C57) -> Plintconvector | D88: =IF(totaal!D57=0,"",totaal!D57) -> Prenger/Instamat | E88: =IF(totaal!E57=0,"",totaal!E57) -> type AC145 Afmeting 1200x255 afgifte 729 W | F88: =IF(totaal!F57=0,"",totaal!F57) | G88: =IF(totaal!G57=0,"",totaal!G57)
A89: =IF(totaal!A47=0,"",totaal!A47) -> 86 | C89: =IF(totaal!C58=0,"",totaal!C58) -> Plintconvector | D89: =IF(totaal!D58=0,"",totaal!D58) -> Prenger/Instamat | E89: =IF(totaal!E58=0,"",totaal!E58) -> type AC145 Afmeting 2200x255 afgifte 1337 W | F89: =IF(totaal!F58=0,"",totaal!F58) | G89: =IF(totaal!G58=0,"",totaal!G58)
A90: =IF(totaal!A48=0,"",totaal!A48) -> 87 | C90: =IF(totaal!C59=0,"",totaal!C59) -> Plintconvector | D90: =IF(totaal!D59=0,"",totaal!D59) -> Prenger/Instamat | E90: =IF(totaal!E59=0,"",totaal!E59) -> type AC285 Afmeting 1800x255 afgifte 1725 W | F90: =IF(totaal!F59=0,"",totaal!F59) | G90: =IF(totaal!G59=0,"",totaal!G59)
A91: =IF(totaal!A49=0,"",totaal!A49) -> 88 | C91: =IF(totaal!#REF!=0,"",totaal!#REF!) -> #REF! | D91: =IF(totaal!#REF!=0,"",totaal!#REF!) -> #REF! | E91: =IF(totaal!#REF!=0,"",totaal!#REF!) -> #REF! | F91: =IF(totaal!#REF!=0,"",totaal!#REF!) -> #REF! | G91: =IF(totaal!#REF!=0,"",totaal!#REF!) -> #REF!
A92: =IF(totaal!A50=0,"",totaal!A50) -> 89 | C92: =IF(totaal!#REF!=0,"",totaal!#REF!) -> #REF! | D92: =IF(totaal!#REF!=0,"",totaal!#REF!) -> #REF! | E92: =IF(totaal!#REF!=0,"",totaal!#REF!) -> #REF! | F92: =IF(totaal!#REF!=0,"",totaal!#REF!) -> #REF! | G92: =IF(totaal!#REF!=0,"",totaal!#REF!) -> #REF!
A93: =IF(totaal!A51=0,"",totaal!A51) -> 90 | C93: =IF(totaal!C60=0,"",totaal!C60) -> Ribbenbuiskachel | D93: =IF(totaal!D60=0,"",totaal!D60) -> Mecha Heat | E93: =IF(totaal!E60=0,"",totaal!E60) -> type CB600 600 Watt | F93: =IF(totaal!F60=0,"",totaal!F60) | G93: =IF(totaal!G60=0,"",totaal!G60)
A94: =IF(totaal!#REF!=0,"",totaal!#REF!) -> #REF! | C94: =IF(totaal!#REF!=0,"",totaal!#REF!) -> #REF! | D94: =IF(totaal!#REF!=0,"",totaal!#REF!) -> #REF! | E94: =IF(totaal!#REF!=0,"",totaal!#REF!) -> #REF! | F94: =IF(totaal!#REF!=0,"",totaal!#REF!) -> #REF! | G94: =IF(totaal!#REF!=0,"",totaal!#REF!) -> #REF!
A95: =IF(totaal!#REF!=0,"",totaal!#REF!) -> #REF! | C95: =IF(totaal!#REF!=0,"",totaal!#REF!) -> #REF! | D95: =IF(totaal!#REF!=0,"",totaal!#REF!) -> #REF! | E95: =IF(totaal!#REF!=0,"",totaal!#REF!) -> #REF! | F95: =IF(totaal!#REF!=0,"",totaal!#REF!) -> #REF! | G95: =IF(totaal!#REF!=0,"",totaal!#REF!) -> #REF!
A96: =IF(totaal!#REF!=0,"",totaal!#REF!) -> #REF! | C96: =IF(totaal!C61=0,"",totaal!C61) -> Ribbenbuiskachel | D96: =IF(totaal!D61=0,"",totaal!D61) -> Mecha Heat | E96: =IF(totaal!E61=0,"",totaal!E61) -> type CB1875 1875 Watt | F96: =IF(totaal!F61=0,"",totaal!F61) | G96: =IF(totaal!G61=0,"",totaal!G61)
A97: =IF(totaal!A52=0,"",totaal!A52) -> 94 | C97: =IF(totaal!C62=0,"",totaal!C62) -> Ribbenbuiskachel | D97: =IF(totaal!D62=0,"",totaal!D62) -> Mecha Heat | E97: =IF(totaal!E62=0,"",totaal!E62) -> type CB2500 2500 Watt | F97: =IF(totaal!F62=0,"",totaal!F62) | G97: =IF(totaal!G62=0,"",totaal!G62)
A98: =IF(totaal!A53=0,"",totaal!A53) -> 95 | C98: =IF(totaal!C63=0,"",totaal!C63) -> Stralingspaneel | D98: =IF(totaal!D63=0,"",totaal!D63) -> Enco | E98: =IF(totaal!E63=0,"",totaal!E63) -> type 4-pijps Afmeting 3000 x 925 | F98: =IF(totaal!F63=0,"",totaal!F63) | G98: =IF(totaal!G63=0,"",totaal!G63)
A99: =IF(totaal!A54=0,"",totaal!A54) -> 96 | C99: =IF(totaal!C64=0,"",totaal!C64) -> Stralingspaneel | D99: =IF(totaal!D64=0,"",totaal!D64) -> Enco | E99: =IF(totaal!E64=0,"",totaal!E64) -> type 4-pijps Afmeting 2500 x 925 | F99: =IF(totaal!F64=0,"",totaal!F64) | G99: =IF(totaal!G64=0,"",totaal!G64)
A100: =IF(totaal!A55=0,"",totaal!A55) -> 97 | C100: =IF(totaal!#REF!=0,"",totaal!#REF!) -> #REF! | D100: =IF(totaal!#REF!=0,"",totaal!#REF!) -> #REF! | E100: =IF(totaal!#REF!=0,"",totaal!#REF!) -> #REF! | F100: =IF(totaal!#REF!=0,"",totaal!#REF!) -> #REF! | G100: =IF(totaal!#REF!=0,"",totaal!#REF!) -> #REF!
A101: =IF(totaal!A56=0,"",totaal!A56) -> 98 | C101: =IF(totaal!#REF!=0,"",totaal!#REF!) -> #REF! | D101: =IF(totaal!#REF!=0,"",totaal!#REF!) -> #REF! | E101: =IF(totaal!#REF!=0,"",totaal!#REF!) -> #REF! | F101: =IF(totaal!#REF!=0,"",totaal!#REF!) -> #REF! | G101: =IF(totaal!#REF!=0,"",totaal!#REF!) -> #REF!
A102: =IF(totaal!A57=0,"",totaal!A57) -> 99 | C102: =IF(totaal!#REF!=0,"",totaal!#REF!) -> #REF! | D102: =IF(totaal!#REF!=0,"",totaal!#REF!) -> #REF! | E102: =IF(totaal!#REF!=0,"",totaal!#REF!) -> #REF! | F102: =IF(totaal!#REF!=0,"",totaal!#REF!) -> #REF! | G102: =IF(totaal!#REF!=0,"",totaal!#REF!) -> #REF!
A103: =IF(totaal!A58=0,"",totaal!A58) -> 100 | C103: =IF(totaal!#REF!=0,"",totaal!#REF!) -> #REF! | D103: =IF(totaal!#REF!=0,"",totaal!#REF!) -> #REF! | E103: =IF(totaal!#REF!=0,"",totaal!#REF!) -> #REF! | F103: =IF(totaal!#REF!=0,"",totaal!#REF!) -> #REF! | G103: =IF(totaal!#REF!=0,"",totaal!#REF!) -> #REF!
...

Sheet bwd A 1e verd
A1: 4.57 | B1: 8 | C1: 19.57 | D1: 47.57 | F1: 10
A2: =IF(totaal!A2=0,"",totaal!A2) -> STUKLIJST | G2: Versie 4.0 (746)
A3: POS | B3: AANTAL | C3: BENAMING | D3: FABRIKAAT | E3: TYPE | F3: CODE | G3: KLEUR | H3: Mededeling Patrick
A4: =IF(totaal!A4=0,"",totaal!A4) -> 1 | C4: =IF(totaal!C4=0,"",totaal!C4) -> Gasfilter | D4: =IF(totaal!D4=0,"",totaal!D4) -> Econosto | E4: =IF(totaal!E4=0,"",totaal!E4) -> fig.1014 1/2" | F4: =IF(totaal!F4=0,"",totaal!F4) | G4: =IF(totaal!G4=0,"",totaal!G4)
A5: =IF(totaal!A5=0,"",totaal!A5) -> 2 | C5: =IF(totaal!C5=0,"",totaal!C5) -> Gasfilter | D5: =IF(totaal!D5=0,"",totaal!D5) -> Econosto | E5: =IF(totaal!E5=0,"",totaal!E5) -> fig.1014 3/4" | F5: =IF(totaal!F5=0,"",totaal!F5) | G5: =IF(totaal!G5=0,"",totaal!G5)
A6: =IF(totaal!A6=0,"",totaal!A6) -> 3 | C6: =IF(totaal!C6=0,"",totaal!C6) -> Gasfilter | D6: =IF(totaal!D6=0,"",totaal!D6) -> Econosto | E6: =IF(totaal!E6=0,"",totaal!E6) -> fig.1014 1" | F6: =IF(totaal!F6=0,"",totaal!F6) | G6: =IF(totaal!G6=0,"",totaal!G6)
A7: =IF(totaal!A7=0,"",totaal!A7) -> 4 | C7: =IF(totaal!C7=0,"",totaal!C7) -> Gaskogelafsluiter | D7: =IF(totaal!D7=0,"",totaal!D7) -> Econosto | E7: =IF(totaal!E7=0,"",totaal!E7) -> Figuur 1937 1 ½" | F7: =IF(totaal!F7=0,"",totaal!F7) | G7: =IF(totaal!G7=0,"",totaal!G7)
A8: =IF(totaal!A8=0,"",totaal!A8) -> 5 | C8: =IF(totaal!C8=0,"",totaal!C8) -> Gaskogelafsluiter | D8: =IF(totaal!D8=0,"",totaal!D8) -> VSH | E8: =IF(totaal!E8=0,"",totaal!E8) -> Figuur 060431.8 1 1/4" Bin × Bui | F8: =IF(totaal!F8=0,"",totaal!F8) -> TU785162 | G8: =IF(totaal!G8=0,"",totaal!G8)
A9: =IF(totaal!A9=0,"",totaal!A9) -> 6 | C9: =IF(totaal!C9=0,"",totaal!C9) -> Gaskogelafsluiter | D9: =IF(totaal!D9=0,"",totaal!D9) -> Econosto | E9: =IF(totaal!E9=0,"",totaal!E9) | F9: =IF(totaal!F9=0,"",totaal!F9) | G9: =IF(totaal!G9=0,"",totaal!G9)
A10: =IF(totaal!A10=0,"",totaal!A10) -> 7 | C10: =IF(totaal!C10=0,"",totaal!C10) -> Gaskogelafsluiter | D10: =IF(totaal!D10=0,"",totaal!D10) -> Econosto | E10: =IF(totaal!E10=0,"",totaal!E10) -> fig.1619 2" | F10: =IF(totaal!F10=0,"",totaal!F10) | G10: =IF(totaal!G10=0,"",totaal!G10)
A11: =IF(totaal!A11=0,"",totaal!A11) -> 8 | C11: =IF(totaal!C11=0,"",totaal!C11) -> Gasklepafsluiter | D11: =IF(totaal!D11=0,"",totaal!D11) -> Econosto | E11: =IF(totaal!E11=0,"",totaal!E11) -> fig.2011 DN100 PN10 | F11: =IF(totaal!F11=0,"",totaal!F11) | G11: =IF(totaal!G11=0,"",totaal!G11)
A12: =IF(totaal!A12=0,"",totaal!A12) -> 9 | C12: =IF(totaal!C12=0,"",totaal!C12) -> Gasgebrekklep | D12: =IF(totaal!D12=0,"",totaal!D12) -> Schlumberger | E12: =IF(totaal!E12=0,"",totaal!E12) | F12: =IF(totaal!F12=0,"",totaal!F12) | G12: =IF(totaal!G12=0,"",totaal!G12)
A13: =IF(totaal!A13=0,"",totaal!A13) -> 10 | C13: =IF(totaal!C13=0,"",totaal!C13) -> Klepafsluiter Rayon Patent | D13: =IF(totaal!D13=0,"",totaal!D13) -> Econosto | E13: =IF(totaal!E13=0,"",totaal!E13) -> fig.2011 DN100 | F13: =IF(totaal!F13=0,"",totaal!F13) | G13: =IF(totaal!G13=0,"",totaal!G13)
A14: =IF(totaal!A14=0,"",totaal!A14) -> 11 | C14: =IF(totaal!C14=0,"",totaal!C14) -> Gasmagneetafsluiter NO | D14: =IF(totaal!D14=0,"",totaal!D14) -> Watts Industrie | E14: =IF(totaal!E14=0,"",totaal!E14) -> type ? 3/4" | F14: =IF(totaal!F14=0,"",totaal!F14) | G14: =IF(totaal!G14=0,"",totaal!G14)
A15: =IF(totaal!#REF!=0,"",totaal!#REF!) -> #REF! | C15: =IF(totaal!#REF!=0,"",totaal!#REF!) -> #REF! | D15: =IF(totaal!#REF!=0,"",totaal!#REF!) -> #REF! | E15: =IF(totaal!#REF!=0,"",totaal!#REF!) -> #REF! | F15: =IF(totaal!#REF!=0,"",totaal!#REF!) -> #REF! | G15: =IF(totaal!#REF!=0,"",totaal!#REF!) -> #REF!
A16: =IF(totaal!#REF!=0,"",totaal!#REF!) -> #REF! | C16: =IF(totaal!#REF!=0,"",totaal!#REF!) -> #REF! | D16: =IF(totaal!#REF!=0,"",totaal!#REF!) -> #REF! | E16: =IF(totaal!#REF!=0,"",totaal!#REF!) -> #REF! | F16: =IF(totaal!#REF!=0,"",totaal!#REF!) -> #REF! | G16: =IF(totaal!#REF!=0,"",totaal!#REF!) -> #REF!
A17: =IF(totaal!#REF!=0,"",totaal!#REF!) -> #REF! | C17: =IF(totaal!#REF!=0,"",totaal!#REF!) -> #REF! | D17: =IF(totaal!#REF!=0,"",totaal!#REF!) -> #REF! | E17: =IF(totaal!#REF!=0,"",totaal!#REF!) -> #REF! | F17: =IF(totaal!#REF!=0,"",totaal!#REF!) -> #REF! | G17: =IF(totaal!#REF!=0,"",totaal!#REF!) -> #REF!
A18: =IF(totaal!#REF!=0,"",totaal!#REF!) -> #REF! | C18: =IF(totaal!#REF!=0,"",totaal!#REF!) -> #REF! | D18: =IF(totaal!#REF!=0,"",totaal!#REF!) -> #REF! | E18: =IF(totaal!#REF!=0,"",totaal!#REF!) -> #REF! | F18: =IF(totaal!#REF!=0,"",totaal!#REF!) -> #REF! | G18: =IF(totaal!#REF!=0,"",totaal!#REF!) -> #REF!
A19: =IF(totaal!A15=0,"",totaal!A15) -> 16 | C19: =IF(totaal!C15=0,"",totaal!C15) -> Gasfilter | D19: =IF(totaal!D15=0,"",totaal!D15) -> Econosto | E19: =IF(totaal!E15=0,"",totaal!E15) -> fig.1014 1 1/4" | F19: =IF(totaal!F15=0,"",totaal!F15) | G19: =IF(totaal!G15=0,"",totaal!G15)
A20: =IF(totaal!A16=0,"",totaal!A16) -> 17 | C20: =IF(totaal!C16=0,"",totaal!C16) -> Gaskogelafsluiter | D20: =IF(totaal!D16=0,"",totaal!D16) -> Econosto | E20: =IF(totaal!E16=0,"",totaal!E16) -> fig. 1619 1" | F20: =IF(totaal!F16=0,"",totaal!F16) | G20: =IF(totaal!G16=0,"",totaal!G16)
A21: =IF(totaal!#REF!=0,"",totaal!#REF!) -> #REF! | C21: =IF(totaal!#REF!=0,"",totaal!#REF!) -> #REF! | D21: =IF(totaal!#REF!=0,"",totaal!#REF!) -> #REF! | E21: =IF(totaal!#REF!=0,"",totaal!#REF!) -> #REF! | F21: =IF(totaal!#REF!=0,"",totaal!#REF!) -> #REF! | G21: =IF(totaal!#REF!=0,"",totaal!#REF!) -> #REF!
A22: =IF(totaal!#REF!=0,"",totaal!#REF!) -> #REF! | C22: =IF(totaal!#REF!=0,"",totaal!#REF!) -> #REF! | D22: =IF(totaal!#REF!=0,"",totaal!#REF!) -> #REF! | E22: =IF(totaal!#REF!=0,"",totaal!#REF!) -> #REF! | F22: =IF(totaal!#REF!=0,"",totaal!#REF!) -> #REF! | G22: =IF(totaal!#REF!=0,"",totaal!#REF!) -> #REF!
