Workbook

Sheet Inschrijvers
B1: Naam inschrijver
A2: 1 | B2: inschrijver A
A3: 2 | B3: Inschrijver B
A4: 3 | B4: Inschrijver C
A5: 4 | B5: Inschrijver D
A6: 5 | B6: Inschrijver E

Sheet Prijs
A1: Naam inschrijver | B1: Categorie 1 | C1: Categorie 2 | D1: Uurtarief | E1: Totaal
A2: inschrijver A | B2: 65 | C2: 97.5 | D2: 7.5 | E2: =SUM(B2:D2) -> 170
A3: Inschrijver B | B3: 65 | C3: 97.5 | D3: 7.5 | E3: =SUM(B3:D3) -> 170
A4: Inschrijver C | B4: 65 | C4: 97.5 | D4: 7.5 | E4: =SUM(B4:D4) -> 170
A5: Inschrijver D | B5: 65 | C5: 97.5 | D5: 7.5 | E5: =SUM(B5:D5) -> 170
A6: Inschrijver E | B6: 65 | C6: 97.5 | D6: 7.5 | E6: =SUM(B6:D6) -> 170

Sheet kwaliteit
B1: Naam inschrijver | C1: Subcriterium 1: Invulling van de opdracht | D1: Punten | E1: Subcriterium 2 Praktijkcasus uitvraag software voor zaakgericht werken | F1: Punten | G1: Totaal kwaliteit
A2: 1 | B2: inschrijver A | C2: 2 | D2: 150 | E2: 1 | F2: 75 | G2: =SUM(D2,F2) -> 225
A3: 2 | B3: Inschrijver B | C3: 3 | D3: 225 | E3: 1 | F3: 75 | G3: =SUM(D3,F3) -> 300
A4: 3 | B4: Inschrijver C | C4: 3 | D4: 225 | E4: 1 | F4: 75 | G4: =SUM(D4,F4) -> 300
A5: 4 | B5: Inschrijver D | C5: 4 | E5: 1 | F5: 75 | G5: =SUM(D5,F5) -> 75
A6: 5 | B6: Inschrijver E | C6: 4 | E6: 1 | F6: 75 | G6: =SUM(D6,F6) -> 75
A8: Score | B8: Punten | D8: Score | E8: Bijbehorende punten
A9: 4 | B9: =IF(AND(ISNUMBER(A9),A9>=0,A9<=4,A9=INT(A9)),A9*75,"Ongeldige score") -> 300 | D9: 0 | E9: 0
D10: 1 | E10: 75
D11: 2 | E11: 150
D12: 3 | E12: 225
D13: 4 | E13: 300

Sheet totaal
B1: Naam inschrijver | C1: Punten Prijs | D1: Punten kwaliteit | E1: Totaal punten
A2: 1 | B2: inschrijver A | C2: =Prijs!E2 -> 170 | D2: =kwaliteit!G2 -> 225 | E2: =SUM(C2:D2) -> 395
A3: 2 | B3: Inschrijver B | C3: =Prijs!E3 -> 170 | D3: =kwaliteit!G3 -> 300 | E3: =SUM(C3:D3) -> 470
A4: 3 | B4: Inschrijver C | C4: =Prijs!E4 -> 170 | D4: =kwaliteit!G4 -> 300 | E4: =SUM(C4:D4) -> 470
A5: 4 | B5: Inschrijver D | C5: =Prijs!E5 -> 170 | D5: =kwaliteit!G5 -> 75 | E5: =SUM(C5:D5) -> 245
A6: 5 | B6: Inschrijver E | C6: =Prijs!E6 -> 170 | D6: =kwaliteit!G6 -> 75 | E6: =SUM(C6:D6) -> 245
