Workbook

Sheet Invulinstructie 
A1: Bijlage Prijzenblad - Invulinstructie Beveiligingsdiensten
A2: Documentnummer U26.04980
A3: Invulinstructie
A4: Hieronder wordt de instructie beschreven hoe dit prijzenblad ingevuld wordt.
A5: Let op! Groen gemarkeerde velden zijn invulvelden
A6: Verklaring
A7: Door invulling en ondertekening van dit prijsinvulformulier verklaart de Inschrijver dat:
A8: 1. de Inschrijving overeenkomstig is met de bepalingen van het de aanbestedingsleidraad 'Beveiligingsdiensten' inclusief bijlagen met documentnummer U26.04971 en de eventuele Nota's van Inlichtingen;
A9: 2. de opgegeven tarieven inclusief alle logischerwijs tot de opdracht behorende onderdelen en/of zaken zijn, waaronder bijvoorbeeld kosten van vervoer, waaronder tol-, veer-, en parkeergelden, brandstoffen en verzekering e.d. en er geen additionele kosten in rekening gebracht worden, anders dan opgenomen in dit prijzenblad;
A10: 3. de Inschrijver reële marktconforme prijzen offreert. Irreële prijzen kunnen door de Aanbestedende dienst worden gecontroleerd/nagevraagd en conform artikel 2.116 Aw 2012 kan de Inschrijving ongeldig worden verklaard. Ditzelfde geldt voor Inschrijvingen die door de Aanbestedende dienst als manipulatief worden aangemerkt;
A11: 4. de aangeboden tarieven in euro’s en exclusief BTW zijn;
A12: 5. het prijzenblad volledig en rechtsgeldig ondertekend is;
... A21: Inschrijfprijzen
A22: =Objectbeveiliging!A24 -> Totaal inzet beveiliger totaal per jaar | K22: =Objectbeveiliging!F24 -> 0
A23: ='Open-, brand- en sluitronde'!A8 -> Totaal open-, brand- en sluitronde | K23: ='Open-, brand- en sluitronde'!F8 -> 0
A24: =Surveillancerondes!A8 -> Totaal surveillancerondes per jaar | K24: =Surveillancerondes!F8 -> 0
A25: ='Meldkamer '!A8 -> Totaal meldkamer (PAC) per jaar | K25: ='Meldkamer '!F8 -> 0
A26: =Alarmopvolging!A13 -> Totaal alarmopvolging per jaar | K26: =Alarmopvolging!F13 -> 0
A27: Totaal inschrijfprijs | K27: =SUM(K22:K26) -> 0
A29: Ondertekening
A30: Inschrijver:
A31: Datum:
A32: Naam rechtsgeldig ondertekenaar:
A33: Functie:
A34: Handtekening:

Sheet Objectbeveiliging
A1: Bijlage Prijzenblad - Objectbeveiliging
A2: Reguliere inzet reguliere beveiliging
A3: Inzet | B3: Beschrijving | C3: Inzet uren per week (zelf verdelen met teamleider conform minimale inzet tabel)* | D3: Inzet in uren per jaar | E3: Tarief per uur excl. BTW (€) | F3: Totaalprijs per jaar excl. btw (€)
A4: Werkdagen dag | B4: Maandag tot en met vrijdag tussen 07.00 en 18.00 uur | C4: 52 | D4: =C4*52 -> 2704 | E4: 0 | F4: =D4*E4 -> 0
A5: Werkdagen avond | B5: Maandag tot en met vrijdag tussen 18.00 en 24.00 uur | C5: 23.5 | D5: =C5*52 -> 1222 | E5: =E4*1.1 -> 0 | F5: =D5*E5 -> 0
A6: Werkdagen nacht | B6: Maandag tot en met vrijdag tussen 00.00 en 07.00 uur | C6: 0.5 | D6: =C6*52 -> 26 | E6: =E4*1.2 -> 0 | F6: =D6*E6 -> 0
A7: Totaal reguliere beveiliging per jaar | F7: =SUM(F4:F6) -> 0
A8: Bijzondere inzet reguliere beveiliing (conform CAO)
A9: Inzet | B9: Beschrijving | D9: Inzet in uren per jaar | E9: Tarief per uur excl. BTW (€) | F9: Totaalprijs per jaar excl. btw (€)
A10: Weekenddagen | B10: Tussen zaterdag 00.00 en zondag 24.00 uur | D10: 42.5 | E10: =E4*1.35 -> 0 | F10: =D10*E10 -> 0
A11: Feestdagen werkdagen | B11: Maandag tot en met vrijdag tussen 07.00 en 18.00 uur | D11: =C11*12 -> 0 | E11: =E4*1.5 -> 0 | F11: =D11*E11 -> 0
A12: Feestdagen werkdagen | B12: Maandag tot en met vrijdag tussen 18.00 en 24.00 uur | D12: 5 | E12: =E5*1.5 -> 0 | F12: =D12*E12 -> 0
A13: Feestdagen werkdagen | B13: Maandag tot en met vrijdag tussen 00.00 en 07.00 uur | D13: 1 | E13: =E6*1.5 -> 0 | F13: =D13*E13 -> 0
A14: Feestdagen weekend | B14: Tussen zaterdag 00.00 en zondag 24.00 uur | D14: =C14*12 -> 0 | E14: =E10*1.5 -> 0 | F14: =D14*E14 -> 0
A15: Oudejaarsdag | B15: Op oudejaarsdag na 16.00 uur | D15: =C15*12 -> 0 | E15: =E4*2 -> 0 | F15: =D15*E15 -> 0
A16: Totaal per jaar | F16: =SUM(F10:F15) -> 0
A17: Verschuivingstoeslag
A18: Verschuiving (conform CAO, n.a.v. moment aanvraag of lengte dienst) | B18: Voorgevallen op uren in de maand | C18: Inzet uren per jaar | D18: Percentage toeslag | E18: Voorbeeld uurloon (werkdag) | F18: Totaalprijs per maand excl. btw (€)
A19: 28 tot en met 8 dagen van tevoren | B19: 19 | C19: =B19*52 -> 988 | D19: 0 | E19: =E4 -> 0 | F19: =C19*(1+D19)*E19 -> 0
A20: 7 tot en met 2 dagen van tevoren | B20: 15 | C20: =B20*52 -> 780 | D20: 0 | E20: =E4 -> 0 | F20: =C20*(1+D20)*E20 -> 0
A21: 1 dag van tevoren of op de dag zelf | B21: 3 | C21: =B21*52 -> 156 | D21: 0 | E21: =E4 -> 0 | F21: =C21*(1+D21)*E21 -> 0
A22: Dienst langer dan 10 uur | B22: 2 | C22: =B22*52 -> 104 | D22: 0 | E22: =E4 -> 0 | F22: =C22*(1+D22)*E22 -> 0
A23: Totaal per jaar | F23: =SUM(F19:F22) -> 0
A24: Totaal inzet beveiliger totaal per jaar | F24: =F7+F16+F23 -> 0

Sheet Open-, brand- en sluitronde
A1: Bijlage Prijzenblad - Open, brand- en sluitronde
A2: Inzet mobiele surveillant
A3: Inzet | B3: Beschrijving | C3: Inzet in uren per week (uitgaan van 15 min per ronde) | D3: Inzet in uren per jaar | E3: Tarief per uur excl. BTW (€) | F3: Totaalprijs per jaar excl. btw (€)
A4: Openronde door surveillance | B4: Om 07.00 uur op maandag tot en met vrijdag | C4: 1.25 | D4: =C4*52 -> 65 | E4: 0 | F4: =E4*D4 -> 0
A5: Brand- en sluitronde door surveillance* | B5: Om 00.00 uur op maandag tot en met vrijdag | C5: 0.75 | D5: =C5*52 -> 39 | E5: 0 | F5: =E5*D5 -> 0
A6: Brand- en sluitronde door dienstdoende beveiliging* | B6: Na dienst op maandag tot en met vrijdag | C6: 0.5 | D6: =C6*52 -> 26 | E6: =Objectbeveiliging!E6 -> 0 | F6: =E6*D6 -> 0
A7: Totaal per jaar | F7: =SUM(F4:F6) -> 0
A8: Totaal open-, brand- en sluitronde | F8: =F7 -> 0
A9: *Bij avondopenstellingen wordt de brand- en sluitronde gedaan door de beveiliger. Daarbuiten wordt dit gedaan door de surveillance. Voor deze berekening is uitgegaan van gemiddeld 2 avondopenstellingen per week.

Sheet Surveillancerondes
A1: Bijlage Prijzenblad - Surveillancerondes
A2: Abonnement surveillancerondes
A3: Locatie | E3: Tarief per maand excl. BTW (€) | F3: Totaalprijs per jaar excl. btw (€)
A4: Gemeentehuis (1x per avond/nacht, 7 dagen in de week) | E4: 0 | F4: =E4*12 -> 0
A5: Gemeentewerf (1x per avond/nacht, 7 dagen in de week) | E5: 0 | F5: =E5*12 -> 0
A6: GIS (2x per avond/nacht, 7 dagen in de week)* | E6: 0 | F6: =E6*12 -> 0
A7: Totaal per jaar | F7: =SUM(F4:F6) -> 0
A8: Totaal surveillancerondes per jaar | F8: =F7 -> 0
A9: *Voor het GIS wordt bij aanvang van de overeenkomst uitgegaan van 2 surveillancerondes. Bij installatie van het alarmsysteem wordt dit 1 surveillanceronde.

Sheet Meldkamer 
A1: Bijlage Prijzenblad - Meldkamer (PAC)
A2: Abonnement meldkamer (PAC) per maand
A3: Locatie | E3: Tarief per maand excl. BTW (€) | F3: Totaalprijs per jaar excl. btw (€)
A4: Gemeentehuis | E4: 0 | F4: =E4*12 -> 0
A5: Gemeentewerf | E5: 0 | F5: =E5*12 -> 0
A6: GIS | E6: 0 | F6: =E6*12 -> 0
A7: Totaal per jaar | F7: =SUM(F4:F6) -> 0
A8: Totaal meldkamer (PAC) per jaar | F8: =F7 -> 0

Sheet Alarmopvolging
A1: Bijlage Prijzenblad - Alarmopvolging
A2: Inzet mobiele surveillant
A3: Dienst | D3: Inzet in uren per jaar | E3: Tarief per uur excl. BTW (€) | F3: Totaalprijs per jaar excl. btw (€)
A4: Starttarief eerste 15 minuten op locatie | D4: 25.25 | F4: =D4*E4 -> 0
A5: Opvolgend tarief per opvolgende 15 minuten op locatie of een gedeelte daarvan | D5: 12.5 | F5: =D5*E5 -> 0
A6: Totaal per jaar | F6: =SUM(F4:F5) -> 0
A7: Abonnement alarmopvolging
A8: Locatie | E8: Tarief per maand excl. BTW (€) | F8: Totaalprijs per jaar excl. btw (€)
A9: Gemeentehuis | F9: =E9*12 -> 0
A10: Gemeentewerf | F10: =E10*12 -> 0
A11: GIS | F11: =E11*12 -> 0
A12: Totaal per jaar | F12: =SUM(F9:F11) -> 0
A13: Totaal alarmopvolging per jaar | F13: =F6+F12 -> 0
