Workbook

Sheet Totaal
D1: Prijzenblad | M1: versie: 1.0 d.d 04-11-2026
B3: Naam Inschrijver:
B4: Gevolmachtigde:
B8: A.1. kosten van Implementatie van het MVP (fixed price)
C9: Rol | D9: Tarief | E9: Fictief aantal uren | G9: Fictief totaalkosten Rol
C10: ='[1]A1. Implementatie'!C3 -> Jr. Consultant | D10: ='A. Implementatie'!C5 -> 0 | E10: ='A. Implementatie'!B5 -> 0 | G10: =D10*E10 -> 0
C11: ='[1]A1. Implementatie'!E3 -> Md. Consultant | D11: ='A. Implementatie'!C6 -> 0 | E11: ='A. Implementatie'!B6 -> 0 | G11: =D11*E11 -> 0
C12: ='[1]A1. Implementatie'!G3 -> Sr. Consultant | D12: ='A. Implementatie'!C7 -> 0 | E12: ='A. Implementatie'!B7 -> 0 | G12: =D12*E12 -> 0
C13: ='[1]A1. Implementatie'!I3 -> Projectleider | D13: ='A. Implementatie'!C8 -> 0 | E13: ='A. Implementatie'!B8 -> 0 | G13: =D13*E13 -> 0
C14: ='[1]A1. Implementatie'!K3 -> Projectsupport | D14: ='A. Implementatie'!C9 -> 0 | E14: ='A. Implementatie'!B9 -> 0 | G14: =D14*E14 -> 0
C15: ='[1]A1. Implementatie'!M3 -> Extra rol 1 | D15: ='A. Implementatie'!C10 -> 0 | E15: ='A. Implementatie'!B10 -> 0 | G15: =D15*E15 -> 0
C16: ='[1]A1. Implementatie'!O3 -> Extra rol 2 | D16: ='A. Implementatie'!C11 -> 0 | E16: ='A. Implementatie'!B11 -> 0 | G16: =D16*E16 -> 0
B17: Fixed price inschrijfprijs onderdeel A (excl. BTW) | I17: =SUM(G10:G16) -> 0
B19: B.2 - Hosting, beheer en onderhoud (Na Go-live)
E20: Inititiele contracttermijn van 4jr | I20: Mogelijke verlengingen (4x 1 jaar)
B21: B.1. Onderhoud- en support conform het SLA | E21: jaar 1 | F21: jaar 2 | G21: jaar 3 | H21: jaar 4 | I21: jaar 5 | J21: jaar 6 | K21: jaar 7 | L21: jaar 8 | M21: Totale kosten (inc. BTW)
B22: ='B. Hosting&Beheer'!B5 -> Hosting | E22: ='B. Hosting&Beheer'!D11 -> 0 | F22: ='B. Hosting&Beheer'!E11 -> 0 | G22: ='B. Hosting&Beheer'!F11 -> 0 | H22: ='B. Hosting&Beheer'!G11 -> 0 | I22: ='B. Hosting&Beheer'!H11 -> 0 | J22: ='B. Hosting&Beheer'!I11 -> 0 | K22: ='B. Hosting&Beheer'!J11 -> 0 | L22: ='B. Hosting&Beheer'!K11 -> 0 | M22: =SUM(E22:L22) -> 0
B23: ='B. Hosting&Beheer'!B13 -> Beheer en onderhoudskosten | E23: ='B. Hosting&Beheer'!D20 -> 0 | F23: ='B. Hosting&Beheer'!E20 -> 0 | G23: ='B. Hosting&Beheer'!F20 -> 0 | H23: ='B. Hosting&Beheer'!G20 -> 0 | I23: ='B. Hosting&Beheer'!H20 -> 0 | J23: ='B. Hosting&Beheer'!I20 -> 0 | K23: ='B. Hosting&Beheer'!J20 -> 0 | L23: ='B. Hosting&Beheer'!K20 -> 0 | M23: =SUM(E23:L23) -> 0
B24: Totale kosten onderdeel B (excl. BTW) | M24: =SUM(M22:M23) -> 0
B27: Totale kosten Onderdeel A + B (incl. BTW)
M28: =I17+M24 -> 0
G31: Niet invullen, automatische optelling
G32: Invulveld voor Inschijver
C34: Toelichting: | D34: 1. De Totale kosten dienen aan de in het Programma van Eisen beschreven Knock Out eisen te voldoen.
D35: 2. In de Totale kosten dienen ook het door Inschrijver en Toeleverancier aangeboden kwalitatieve gunningcriteria te zijn verdisconteerd.
D36: 3. De kosten in het Prijzenblad zijn exclusief indexatie. Indexatieafspraken zijn meegenomen in de overeenkomst.
D37: 4. In de aangeboden Totale kosten zijn tenminste de volgende prijscomponenten inbegrepen:
D38: a. Reiskosten
D39: b. Verblijfskosten
D40: c. Implementatiekosten
D42: 5. In Tabblad A dient een nadere specificatie van de kostenposten voor Implementatie vermeld te worden.
D43: 6. In Tabblad B dient een nadere specificatie van de kostenposten voor hosting, beheer en onderhoud vermeld te worden.

Sheet A. Implementatie
B3: Implementatie MVP | C3: ITSM
A4: Rol | B4: uren | C4: tarief | D4: totaal
A5: Jr. Consultant | B5: 0 | C5: 0 | D5: =B5*C5 -> 0
A6: Md. Consultant | B6: 0 | C6: 0 | D6: =B6*C6 -> 0
A7: Sr. Consultant | B7: 0 | C7: 0 | D7: =B7*C7 -> 0
A8: Projectleider | B8: 0 | C8: 0 | D8: =B8*C8 -> 0
A9: Projectsupport | B9: 0 | C9: 0 | D9: =B9*C9 -> 0
A10: Extra rol 1 | B10: 0 | C10: 0 | D10: =B10*C10 -> 0
A11: Extra rol 2 | B11: 0 | C11: 0 | D11: =B11*C11 -> 0
A12: Totaal A.1. (excl. BTW) | F12: =SUM(D5:D11) -> 0

Sheet B. Hosting&Beheer
A1: Onderdeel B, Kosten van hosting, onderhoud, beheer en support (op basis van SLA, kosten excl. btw)
A3: # | B3: Functionaliteit | C3: Nadere toelichting Aangeboden onderdelen, Tarief + raming aantal uren enz. | D3: Contractjaar 1 | E3: Contractjaar 2 | F3: Contractjaar 3 | G3: Contractjaar 4 | H3: Contractjaar 5 | I3: Contractjaar 6 | J3: Contractjaar 7 | K3: Contractjaar 8
D4: Initiele Contractperiode vanaf Go-Live
B5: Hosting | H5: Potentiele contractverlengingen
A6: 1 | B6: Onderdeel A | D6: 0 | E6: 0 | F6: 0 | G6: 0 | H6: 0 | I6: 0 | J6: 0 | K6: 0
A7: 2 | B7: Onderdeel B | D7: 0 | E7: 0 | F7: 0 | G7: 0 | H7: 0 | I7: 0 | J7: 0 | K7: 0
A8: 3 | B8: Onderdeel C | D8: 0 | E8: 0 | F8: 0 | G8: 0 | H8: 0 | I8: 0 | J8: 0 | K8: 0
A9: 4 | B9: Onderdeel D | D9: 0 | E9: 0 | F9: 0 | G9: 0 | H9: 0 | I9: 0 | J9: 0 | K9: 0
A10: 5 | B10: ... | D10: 0 | E10: 0 | F10: 0 | G10: 0 | H10: 0 | I10: 0 | J10: 0 | K10: 0
B11: Totaal | D11: =SUM(D6:D10) -> 0 | E11: =SUM(E6:E10) -> 0 | F11: =SUM(F6:F10) -> 0 | G11: =SUM(G6:G10) -> 0 | H11: =SUM(H6:H10) -> 0 | I11: =SUM(I6:I10) -> 0 | J11: =SUM(J6:J10) -> 0 | K11: =SUM(K6:K10) -> 0
B13: Beheer en onderhoudskosten
A14: 1 | B14: Licenties | D14: 0 | E14: 0 | F14: 0 | G14: 0 | H14: 0 | I14: 0 | J14: 0 | K14: 0
A15: 2 | B15: Onderdeel B | D15: 0 | E15: 0 | F15: 0 | G15: 0 | H15: 0 | I15: 0 | J15: 0 | K15: 0
A16: 3 | B16: Onderdeel C | D16: 0 | E16: 0 | F16: 0 | G16: 0 | H16: 0 | I16: 0 | J16: 0 | K16: 0
A17: 4 | B17: Onderdeel D | D17: 0 | E17: 0 | F17: 0 | G17: 0 | H17: 0 | I17: 0 | J17: 0 | K17: 0
A18: 5 | B18: Onderdeel E | D18: 0 | E18: 0 | F18: 0 | G18: 0 | H18: 0 | I18: 0 | J18: 0 | K18: 0
A19: 6 | B19: ... | D19: 0 | E19: 0 | F19: 0 | G19: 0 | H19: 0 | I19: 0 | J19: 0 | K19: 0
B20: Totaal | D20: =SUM(D14:D19) -> 0 | E20: =SUM(E14:E19) -> 0 | F20: =SUM(F14:F19) -> 0 | G20: =SUM(G14:G19) -> 0 | H20: =SUM(H14:H19) -> 0 | I20: =SUM(I14:I19) -> 0 | J20: =SUM(J14:J19) -> 0 | K20: =SUM(K14:K19) -> 0
A22: Totaal B.2 (incl. BTW) | D22: =D11+D20 -> 0 | E22: =E11+E20 -> 0 | F22: =F11+F20 -> 0 | G22: =G11+G20 -> 0 | H22: =H11+H20 -> 0 | I22: =I11+I20 -> 0 | J22: =J11+J20 -> 0 | K22: =K11+K20 -> 0 | L22: =SUM(D22:K22) -> 0
