Workbook

Sheet BKG
A1: Herhaalbaarheid Eis | E1: Pmult | F1: Pm | G1: Punten | L1: Element | M1: {=_xlfn.WRAPCOLS(A3:A34,1)} -> Ag | N1: Al | O1: As | P1: B | Q1: Ba | R1: Be | S1: Bi | T1: Ca | U1: Cd | V1: Co | W1: Cr | X1: Cu | Y1: Fe | Z1: Hg | AA1: La | AB1: Li | AC1: Mg | AD1: Mn | AE1: Mo | AF1: Na | AG1: Ni | AH1: Pb | AI1: Sb | AJ1: Se | AK1: Sn | AL1: Sr | AM1: Te | AN1: Th | AO1: Tl | AP1: U | AQ1: V | AR1: Zn
A2: Element | B2: Omschrijving | C2: EIS (µg/l) | D2: EIS / 10 | E2: =COUNTA(A3:A44) -> 32 | F2: =E2-SUM(E3:E43) -> 27.6 | G2: Herhaalbaarheid | H2: 200 | K2: #
A3: Ag | B3: Zilver | C3: 0.003 | D3: =C3/10 -> 0.0003 | F3: =IF($E3="",F$2/(E$2-COUNTA(E$3:E$53)),$E3) -> 1.0615385 | G3: Samples | H3: 100 | K3: M1 | M3: 0.03 | N3: 10 | O3: 1 | P3: 10 | Q3: 5 | R3: 0.3 | S3: 5 | T3: 100 | U3: 0.24 | V3: 0.667 | W3: 1 | X3: 1 | Y3: 50 | Z3: 0.25 | AA3: 1 | AB3: 10 | AC3: 10 | AD3: 1 | AE3: 3 | AF3: 100 | AG3: 1 | AH3: 1 | AI3: 2 | AJ3: 0.17 | AK3: 2 | AL3: 3 | AM3: 20 | AN3: 1 | AO3: 0.17 | AP3: 0.6 | AQ3: 1 | AR3: 10
A4: Al | B4: Aluminium | C4: 1 | D4: =C4/10 -> 0.1 | F4: =IF($E4="",F$2/(E$2-COUNTA(E$3:E$53)),$E4) -> 1.0615385 | K4: M2 | M4: 0.003 | N4: 1 | O4: 0.1 | P4: 1 | Q4: 0.5 | R4: 0.03 | S4: 0.5 | T4: 10 | U4: 0.024 | V4: 0.0667 | W4: 0.1 | X4: 0.1 | Y4: 5 | Z4: 0.025 | AA4: 0.1 | AB4: 1 | AC4: 1 | AD4: 0.1 | AE4: 0.3 | AF4: 10 | AG4: 0.1 | AH4: 0.1 | AI4: 0.2 | AJ4: 0.017 | AK4: 0.2 | AL4: 0.3 | AM4: 2 | AN4: 0.1 | AO4: 0.017 | AP4: 0.06 | AQ4: 0.1 | AR4: 1
A5: As | B5: Arseen | C5: 0.1 | D5: =C5/10 -> 0.01 | F5: =IF($E5="",F$2/(E$2-COUNTA(E$3:E$53)),$E5) -> 1.0615385 | K5: M3 | M5: 0.003 | N5: 1 | O5: 0.1 | P5: 1 | Q5: 0.5 | R5: 0.03 | S5: 0.5 | T5: 10 | U5: 0.024 | V5: 0.0667 | W5: 0.1 | X5: 0.1 | Y5: 5 | Z5: 0.025 | AA5: 0.1 | AB5: 1 | AC5: 1 | AD5: 0.1 | AE5: 0.3 | AF5: 10 | AG5: 0.1 | AH5: 0.1 | AI5: 0.2 | AJ5: 0.017 | AK5: 0.2 | AL5: 0.3 | AM5: 2 | AN5: 0.1 | AO5: 0.017 | AP5: 0.06 | AQ5: 0.1 | AR5: 1
A6: B | B6: Boor | C6: 1 | D6: =C6/10 -> 0.1 | F6: =IF($E6="",F$2/(E$2-COUNTA(E$3:E$53)),$E6) -> 1.0615385
A7: Ba | B7: Barium | C7: 0.5 | D7: =C7/10 -> 0.05 | F7: =IF($E7="",F$2/(E$2-COUNTA(E$3:E$53)),$E7) -> 1.0615385
A8: Be | B8: Beryllium | C8: 0.03 | D8: =C8/10 -> 0.003 | F8: =IF($E8="",F$2/(E$2-COUNTA(E$3:E$53)),$E8) -> 1.0615385
A9: Bi | B9: Bismuth | C9: 0.5 | D9: =C9/10 -> 0.05 | F9: =IF($E9="",F$2/(E$2-COUNTA(E$3:E$53)),$E9) -> 1.0615385
A10: Ca | B10: Calcium | C10: 10 | D10: =C10/10 -> 1 | E10: 0.1 | F10: =IF($E10="",F$2/(E$2-COUNTA(E$3:E$53)),$E10) -> 0.1
A11: Cd | B11: Cadmium | C11: 0.024 | D11: =C11/10 -> 0.0024 | F11: =IF($E11="",F$2/(E$2-COUNTA(E$3:E$53)),$E11) -> 1.0615385
A12: Co | B12: Kobalt | C12: 0.0667 | D12: =C12/10 -> 0.00667 | F12: =IF($E12="",F$2/(E$2-COUNTA(E$3:E$53)),$E12) -> 1.0615385
A13: Cr | B13: Chroom | C13: 0.1 | D13: =C13/10 -> 0.01 | F13: =IF($E13="",F$2/(E$2-COUNTA(E$3:E$53)),$E13) -> 1.0615385
A14: Cu | B14: Koper | C14: 0.1 | D14: =C14/10 -> 0.01 | F14: =IF($E14="",F$2/(E$2-COUNTA(E$3:E$53)),$E14) -> 1.0615385
A15: Fe | B15: IJzer | C15: 5 | D15: =C15/10 -> 0.5 | E15: 0.1 | F15: =IF($E15="",F$2/(E$2-COUNTA(E$3:E$53)),$E15) -> 0.1
A16: Hg | B16: Kwik | C16: 0.025 | D16: =C16/10 -> 0.0025 | E16: 2 | F16: =IF($E16="",F$2/(E$2-COUNTA(E$3:E$53)),$E16) -> 2
A17: La | B17: Lanthaan | C17: 0.1 | D17: =C17/10 -> 0.01 | F17: =IF($E17="",F$2/(E$2-COUNTA(E$3:E$53)),$E17) -> 1.0615385
A18: Li | B18: Lithium | C18: 1 | D18: =C18/10 -> 0.1 | F18: =IF($E18="",F$2/(E$2-COUNTA(E$3:E$53)),$E18) -> 1.0615385
A19: Mg | B19: Magnesium | C19: 1 | D19: =C19/10 -> 0.1 | E19: 0.1 | F19: =IF($E19="",F$2/(E$2-COUNTA(E$3:E$53)),$E19) -> 0.1
A20: Mn | B20: Mangaan | C20: 0.1 | D20: =C20/10 -> 0.01 | F20: =IF($E20="",F$2/(E$2-COUNTA(E$3:E$53)),$E20) -> 1.0615385
A21: Mo | B21: Molybdeen | C21: 0.3 | D21: =C21/10 -> 0.03 | F21: =IF($E21="",F$2/(E$2-COUNTA(E$3:E$53)),$E21) -> 1.0615385
A22: Na | B22: Natrium | C22: 10 | D22: =C22/10 -> 1 | E22: 0.1 | F22: =IF($E22="",F$2/(E$2-COUNTA(E$3:E$53)),$E22) -> 0.1
A23: Ni | B23: Nikkel | C23: 0.1 | D23: =C23/10 -> 0.01 | F23: =IF($E23="",F$2/(E$2-COUNTA(E$3:E$53)),$E23) -> 1.0615385
A24: Pb | B24: Lood | C24: 0.1 | D24: =C24/10 -> 0.01 | F24: =IF($E24="",F$2/(E$2-COUNTA(E$3:E$53)),$E24) -> 1.0615385
A25: Sb | B25: Antimoon | C25: 0.2 | D25: =C25/10 -> 0.02 | F25: =IF($E25="",F$2/(E$2-COUNTA(E$3:E$53)),$E25) -> 1.0615385
A26: Se | B26: Seleen | C26: 0.025 | D26: =C26/10 -> 0.0025 | E26: 2 | F26: =IF($E26="",F$2/(E$2-COUNTA(E$3:E$53)),$E26) -> 2
A27: Sn | B27: Tin | C27: 0.2 | D27: =C27/10 -> 0.02 | F27: =IF($E27="",F$2/(E$2-COUNTA(E$3:E$53)),$E27) -> 1.0615385
A28: Sr | B28: Strontium | C28: 0.3 | D28: =C28/10 -> 0.03 | F28: =IF($E28="",F$2/(E$2-COUNTA(E$3:E$53)),$E28) -> 1.0615385
A29: Te | B29: Telluur | C29: 2 | D29: =C29/10 -> 0.2 | F29: =IF($E29="",F$2/(E$2-COUNTA(E$3:E$53)),$E29) -> 1.0615385
A30: Th | B30: Thorium | C30: 0.1 | D30: =C30/10 -> 0.01 | F30: =IF($E30="",F$2/(E$2-COUNTA(E$3:E$53)),$E30) -> 1.0615385
A31: Tl | B31: Thallium | C31: 0.017 | D31: =C31/10 -> 0.0017 | F31: =IF($E31="",F$2/(E$2-COUNTA(E$3:E$53)),$E31) -> 1.0615385
A32: U | B32: Uraan | C32: 0.06 | D32: =C32/10 -> 0.006 | F32: =IF($E32="",F$2/(E$2-COUNTA(E$3:E$53)),$E32) -> 1.0615385
A33: V | B33: Vanadium | C33: 0.1 | D33: =C33/10 -> 0.01 | F33: =IF($E33="",F$2/(E$2-COUNTA(E$3:E$53)),$E33) -> 1.0615385
A34: Zn | B34: Zink | C34: 1 | D34: =C34/10 -> 0.1 | F34: =IF($E34="",F$2/(E$2-COUNTA(E$3:E$53)),$E34) -> 1.0615385

Sheet Sample Controle
B1: Element | C1: =IF(BKG!M$1<>"",BKG!M$1,"") -> Ag | D1: =IF(BKG!N$1<>"",BKG!N$1,"") -> Al | E1: =IF(BKG!O$1<>"",BKG!O$1,"") -> As | F1: =IF(BKG!P$1<>"",BKG!P$1,"") -> B | G1: =IF(BKG!Q$1<>"",BKG!Q$1,"") -> Ba | H1: =IF(BKG!R$1<>"",BKG!R$1,"") -> Be | I1: =IF(BKG!S$1<>"",BKG!S$1,"") -> Bi | J1: =IF(BKG!T$1<>"",BKG!T$1,"") -> Ca | ... AV1: =IF(BKG!BF$1<>"",BKG!BF$1,"")
A2: #
A3: M1 | C3: =IF(AND(C1<>"",$A3<>""),INDEX('Invoer Samples'!$C$3:$AZ$51,MATCH('Sample Controle'!$A3,'Invoer Samples'!$A$3:$A$51,0),MATCH('Sample Controle'!C1,'Invoer Samples'!$C$1:$AZ$1,0)),"") -> 0 | D3: =IF(AND(D1<>"",$A3<>""),INDEX('Invoer Samples'!$C$3:$AZ$51,MATCH('Sample Controle'!$A3,'Invoer Samples'!$A$3:$A$51,0),MATCH('Sample Controle'!D1,'Invoer Samples'!$C$1:$AZ$1,0)),"") -> 0 | E3: =IF(AND(E1<>"",$A3<>""),INDEX('Invoer Samples'!$C$3:$AZ$51,MATCH('Sample Controle'!$A3,'Invoer Samples'!$A$3:$A$51,0),MATCH('Sample Controle'!E1,'Invoer Samples'!$C$1:$AZ$1,0)),"") -> 0 | F3: =IF(AND(F1<>"",$A3<>""),INDEX('Invoer Samples'!$C$3:$AZ$51,MATCH('Sample Controle'!$A3,'Invoer Samples'!$A$3:$A$51,0),MATCH('Sample Controle'!F1,'Invoer Samples'!$C$1:$AZ$1,0)),"") -> 0 | G3: =IF(AND(G1<>"",$A3<>""),INDEX('Invoer Samples'!$C$3:$AZ$51,MATCH('Sample Controle'!$A3,'Invoer Samples'!$A$3:$A$51,0),MATCH('Sample Controle'!G1,'Invoer Samples'!$C$1:$AZ$1,0)),"") -> 0 | H3: =IF(AND(H1<>"",$A3<>""),INDEX('Invoer Samples'!$C$3:$AZ$51,MATCH('Sample Controle'!$A3,'Invoer Samples'!$A$3:$A$51,0),MATCH('Sample Controle'!H1,'Invoer Samples'!$C$1:$AZ$1,0)),"") -> 0 | I3: =IF(AND(I1<>"",$A3<>""),INDEX('Invoer Samples'!$C$3:$AZ$51,MATCH('Sample Controle'!$A3,'Invoer Samples'!$A$3:$A$51,0),MATCH('Sample Controle'!I1,'Invoer Samples'!$C$1:$AZ$1,0)),"") -> 0 | J3: =IF(AND(J1<>"",$A3<>""),INDEX('Invoer Samples'!$C$3:$AZ$51,MATCH('Sample Controle'!$A3,'Invoer Samples'!$A$3:$A$51,0),MATCH('Sample Controle'!J1,'Invoer Samples'!$C$1:$AZ$1,0)),"") -> 0 | ... AV3: =IF(AND(AV1<>"",$A3<>""),INDEX('Invoer Samples'!$C$3:$AZ$51,MATCH('Sample Controle'!$A3,'Invoer Samples'!$A$3:$A$51,0),MATCH('Sample Controle'!AV1,'Invoer Samples'!$C$1:$AZ$1,0)),"")
C5: =IF(AND(C1<>"",$A3<>""),INDEX(BKG!$M$3:$BE$40,MATCH('Sample Controle'!$A3,BKG!$K$3:$K$40,0),MATCH('Sample Controle'!C1,BKG!$M$1:$BE$1,0)),"") -> 0.03 | D5: =IF(AND(D1<>"",$A3<>""),INDEX(BKG!$M$3:$BE$40,MATCH('Sample Controle'!$A3,BKG!$K$3:$K$40,0),MATCH('Sample Controle'!D1,BKG!$M$1:$BE$1,0)),"") -> 10 | E5: =IF(AND(E1<>"",$A3<>""),INDEX(BKG!$M$3:$BE$40,MATCH('Sample Controle'!$A3,BKG!$K$3:$K$40,0),MATCH('Sample Controle'!E1,BKG!$M$1:$BE$1,0)),"") -> 1 | F5: =IF(AND(F1<>"",$A3<>""),INDEX(BKG!$M$3:$BE$40,MATCH('Sample Controle'!$A3,BKG!$K$3:$K$40,0),MATCH('Sample Controle'!F1,BKG!$M$1:$BE$1,0)),"") -> 10 | G5: =IF(AND(G1<>"",$A3<>""),INDEX(BKG!$M$3:$BE$40,MATCH('Sample Controle'!$A3,BKG!$K$3:$K$40,0),MATCH('Sample Controle'!G1,BKG!$M$1:$BE$1,0)),"") -> 5 | H5: =IF(AND(H1<>"",$A3<>""),INDEX(BKG!$M$3:$BE$40,MATCH('Sample Controle'!$A3,BKG!$K$3:$K$40,0),MATCH('Sample Controle'!H1,BKG!$M$1:$BE$1,0)),"") -> 0.3 | I5: =IF(AND(I1<>"",$A3<>""),INDEX(BKG!$M$3:$BE$40,MATCH('Sample Controle'!$A3,BKG!$K$3:$K$40,0),MATCH('Sample Controle'!I1,BKG!$M$1:$BE$1,0)),"") -> 5 | J5: =IF(AND(J1<>"",$A3<>""),INDEX(BKG!$M$3:$BE$40,MATCH('Sample Controle'!$A3,BKG!$K$3:$K$40,0),MATCH('Sample Controle'!J1,BKG!$M$1:$BE$1,0)),"") -> 100 | ... AV5: =IF(AND(AV1<>"",$A3<>""),INDEX(BKG!$M$3:$BE$40,MATCH('Sample Controle'!$A3,BKG!$K$3:$K$40,0),MATCH('Sample Controle'!AV1,BKG!$M$1:$BE$1,0)),"")
A6: Totaal: | B6: =SUM(C6:XFD6) -> 0 | C6: =IF(C3<>"",IF(C7=1,$A$41,IF(C7>1,$A$41*IF(C7>(1+$A$35),0,($A$35+1-C7)*(1/$A$35)),$A$41*IF(C7<(1-$A$35),0,1-((1-C7)*(1/$A$35))))),"") -> 0 | D6: =IF(D3<>"",IF(D7=1,$A$41,IF(D7>1,$A$41*IF(D7>(1+$A$35),0,($A$35+1-D7)*(1/$A$35)),$A$41*IF(D7<(1-$A$35),0,1-((1-D7)*(1/$A$35))))),"") -> 0 | E6: =IF(E3<>"",IF(E7=1,$A$41,IF(E7>1,$A$41*IF(E7>(1+$A$35),0,($A$35+1-E7)*(1/$A$35)),$A$41*IF(E7<(1-$A$35),0,1-((1-E7)*(1/$A$35))))),"") -> 0 | F6: =IF(F3<>"",IF(F7=1,$A$41,IF(F7>1,$A$41*IF(F7>(1+$A$35),0,($A$35+1-F7)*(1/$A$35)),$A$41*IF(F7<(1-$A$35),0,1-((1-F7)*(1/$A$35))))),"") -> 0 | G6: =IF(G3<>"",IF(G7=1,$A$41,IF(G7>1,$A$41*IF(G7>(1+$A$35),0,($A$35+1-G7)*(1/$A$35)),$A$41*IF(G7<(1-$A$35),0,1-((1-G7)*(1/$A$35))))),"") -> 0 | H6: =IF(H3<>"",IF(H7=1,$A$41,IF(H7>1,$A$41*IF(H7>(1+$A$35),0,($A$35+1-H7)*(1/$A$35)),$A$41*IF(H7<(1-$A$35),0,1-((1-H7)*(1/$A$35))))),"") -> 0 | I6: =IF(I3<>"",IF(I7=1,$A$41,IF(I7>1,$A$41*IF(I7>(1+$A$35),0,($A$35+1-I7)*(1/$A$35)),$A$41*IF(I7<(1-$A$35),0,1-((1-I7)*(1/$A$35))))),"") -> 0 | J6: =IF(J3<>"",IF(J7=1,$A$41,IF(J7>1,$A$41*IF(J7>(1+$A$35),0,($A$35+1-J7)*(1/$A$35)),$A$41*IF(J7<(1-$A$35),0,1-((1-J7)*(1/$A$35))))),"") -> 0 | ... AV6: =IF(AV3<>"",IF(AV7=1,$A$41,IF(AV7>1,$A$41*IF(AV7>(1+$A$35),0,($A$35+1-AV7)*(1/$A$35)),$A$41*IF(AV7<(1-$A$35),0,1-((1-AV7)*(1/$A$35))))),"")
C7: =IFERROR(C3/C5,"") -> 0 | D7: =IFERROR(D3/D5,"") -> 0 | E7: =IFERROR(E3/E5,"") -> 0 | F7: =IFERROR(F3/F5,"") -> 0 | G7: =IFERROR(G3/G5,"") -> 0 | H7: =IFERROR(H3/H5,"") -> 0 | I7: =IFERROR(I3/I5,"") -> 0 | J7: =IFERROR(J3/J5,"") -> 0 | ... AV7: =IFERROR(AV3/AV5,"")
C8: =IFERROR(C6/$A$41,"") -> 0 | D8: =IFERROR(D6/$A$41,"") -> 0 | E8: =IFERROR(E6/$A$41,"") -> 0 | F8: =IFERROR(F6/$A$41,"") -> 0 | G8: =IFERROR(G6/$A$41,"") -> 0 | H8: =IFERROR(H6/$A$41,"") -> 0 | I8: =IFERROR(I6/$A$41,"") -> 0 | J8: =IFERROR(J6/$A$41,"") -> 0 | ... AV8: =IFERROR(AV6/$A$41,"")
B10: Element | C10: =IF(BKG!M$1<>"",BKG!M$1,"") -> Ag | D10: =IF(BKG!N$1<>"",BKG!N$1,"") -> Al | E10: =IF(BKG!O$1<>"",BKG!O$1,"") -> As | F10: =IF(BKG!P$1<>"",BKG!P$1,"") -> B | G10: =IF(BKG!Q$1<>"",BKG!Q$1,"") -> Ba | H10: =IF(BKG!R$1<>"",BKG!R$1,"") -> Be | I10: =IF(BKG!S$1<>"",BKG!S$1,"") -> Bi | J10: =IF(BKG!T$1<>"",BKG!T$1,"") -> Ca | ... AV10: =IF(BKG!BF$1<>"",BKG!BF$1,"")
A11: #
A12: M2 | C12: =IF(AND(C10<>"",$A12<>""),INDEX('Invoer Samples'!$C$3:$AZ$51,MATCH('Sample Controle'!$A12,'Invoer Samples'!$A$3:$A$51,0),MATCH('Sample Controle'!C10,'Invoer Samples'!$C$1:$AZ$1,0)),"") -> 0 | D12: =IF(AND(D10<>"",$A12<>""),INDEX('Invoer Samples'!$C$3:$AZ$51,MATCH('Sample Controle'!$A12,'Invoer Samples'!$A$3:$A$51,0),MATCH('Sample Controle'!D10,'Invoer Samples'!$C$1:$AZ$1,0)),"") -> 0 | E12: =IF(AND(E10<>"",$A12<>""),INDEX('Invoer Samples'!$C$3:$AZ$51,MATCH('Sample Controle'!$A12,'Invoer Samples'!$A$3:$A$51,0),MATCH('Sample Controle'!E10,'Invoer Samples'!$C$1:$AZ$1,0)),"") -> 0 | F12: =IF(AND(F10<>"",$A12<>""),INDEX('Invoer Samples'!$C$3:$AZ$51,MATCH('Sample Controle'!$A12,'Invoer Samples'!$A$3:$A$51,0),MATCH('Sample Controle'!F10,'Invoer Samples'!$C$1:$AZ$1,0)),"") -> 0 | G12: =IF(AND(G10<>"",$A12<>""),INDEX('Invoer Samples'!$C$3:$AZ$51,MATCH('Sample Controle'!$A12,'Invoer Samples'!$A$3:$A$51,0),MATCH('Sample Controle'!G10,'Invoer Samples'!$C$1:$AZ$1,0)),"") -> 0 | H12: =IF(AND(H10<>"",$A12<>""),INDEX('Invoer Samples'!$C$3:$AZ$51,MATCH('Sample Controle'!$A12,'Invoer Samples'!$A$3:$A$51,0),MATCH('Sample Controle'!H10,'Invoer Samples'!$C$1:$AZ$1,0)),"") -> 0 | I12: =IF(AND(I10<>"",$A12<>""),INDEX('Invoer Samples'!$C$3:$AZ$51,MATCH('Sample Controle'!$A12,'Invoer Samples'!$A$3:$A$51,0),MATCH('Sample Controle'!I10,'Invoer Samples'!$C$1:$AZ$1,0)),"") -> 0 | J12: =IF(AND(J10<>"",$A12<>""),INDEX('Invoer Samples'!$C$3:$AZ$51,MATCH('Sample Controle'!$A12,'Invoer Samples'!$A$3:$A$51,0),MATCH('Sample Controle'!J10,'Invoer Samples'!$C$1:$AZ$1,0)),"") -> 0 | ... AV12: =IF(AND(AV10<>"",$A12<>""),INDEX('Invoer Samples'!$C$3:$AZ$51,MATCH('Sample Controle'!$A12,'Invoer Samples'!$A$3:$A$51,0),MATCH('Sample Controle'!AV10,'Invoer Samples'!$C$1:$AZ$1,0)),"")
C14: =IF(AND(C10<>"",$A12<>""),INDEX(BKG!$M$3:$BE$40,MATCH('Sample Controle'!$A12,BKG!$K$3:$K$40,0),MATCH('Sample Controle'!C10,BKG!$M$1:$BE$1,0)),"") -> 0.003 | D14: =IF(AND(D10<>"",$A12<>""),INDEX(BKG!$M$3:$BE$40,MATCH('Sample Controle'!$A12,BKG!$K$3:$K$40,0),MATCH('Sample Controle'!D10,BKG!$M$1:$BE$1,0)),"") -> 1 | E14: =IF(AND(E10<>"",$A12<>""),INDEX(BKG!$M$3:$BE$40,MATCH('Sample Controle'!$A12,BKG!$K$3:$K$40,0),MATCH('Sample Controle'!E10,BKG!$M$1:$BE$1,0)),"") -> 0.1 | F14: =IF(AND(F10<>"",$A12<>""),INDEX(BKG!$M$3:$BE$40,MATCH('Sample Controle'!$A12,BKG!$K$3:$K$40,0),MATCH('Sample Controle'!F10,BKG!$M$1:$BE$1,0)),"") -> 1 | G14: =IF(AND(G10<>"",$A12<>""),INDEX(BKG!$M$3:$BE$40,MATCH('Sample Controle'!$A12,BKG!$K$3:$K$40,0),MATCH('Sample Controle'!G10,BKG!$M$1:$BE$1,0)),"") -> 0.5 | H14: =IF(AND(H10<>"",$A12<>""),INDEX(BKG!$M$3:$BE$40,MATCH('Sample Controle'!$A12,BKG!$K$3:$K$40,0),MATCH('Sample Controle'!H10,BKG!$M$1:$BE$1,0)),"") -> 0.03 | I14: =IF(AND(I10<>"",$A12<>""),INDEX(BKG!$M$3:$BE$40,MATCH('Sample Controle'!$A12,BKG!$K$3:$K$40,0),MATCH('Sample Controle'!I10,BKG!$M$1:$BE$1,0)),"") -> 0.5 | J14: =IF(AND(J10<>"",$A12<>""),INDEX(BKG!$M$3:$BE$40,MATCH('Sample Controle'!$A12,BKG!$K$3:$K$40,0),MATCH('Sample Controle'!J10,BKG!$M$1:$BE$1,0)),"") -> 10 | ... AV14: =IF(AND(AV10<>"",$A12<>""),INDEX(BKG!$M$3:$BE$40,MATCH('Sample Controle'!$A12,BKG!$K$3:$K$40,0),MATCH('Sample Controle'!AV10,BKG!$M$1:$BE$1,0)),"")
A15: Totaal: | B15: =SUM(C15:XFD15) -> 0 | C15: =IF(C12<>"",IF(C16=1,$A$41,IF(C16>1,$A$41*IF(C16>(1+$A$35),0,($A$35+1-C16)*(1/$A$35)),$A$41*IF(C16<(1-$A$35),0,1-((1-C16)*(1/$A$35))))),"") -> 0 | D15: =IF(D12<>"",IF(D16=1,$A$41,IF(D16>1,$A$41*IF(D16>(1+$A$35),0,($A$35+1-D16)*(1/$A$35)),$A$41*IF(D16<(1-$A$35),0,1-((1-D16)*(1/$A$35))))),"") -> 0 | E15: =IF(E12<>"",IF(E16=1,$A$41,IF(E16>1,$A$41*IF(E16>(1+$A$35),0,($A$35+1-E16)*(1/$A$35)),$A$41*IF(E16<(1-$A$35),0,1-((1-E16)*(1/$A$35))))),"") -> 0 | F15: =IF(F12<>"",IF(F16=1,$A$41,IF(F16>1,$A$41*IF(F16>(1+$A$35),0,($A$35+1-F16)*(1/$A$35)),$A$41*IF(F16<(1-$A$35),0,1-((1-F16)*(1/$A$35))))),"") -> 0 | G15: =IF(G12<>"",IF(G16=1,$A$41,IF(G16>1,$A$41*IF(G16>(1+$A$35),0,($A$35+1-G16)*(1/$A$35)),$A$41*IF(G16<(1-$A$35),0,1-((1-G16)*(1/$A$35))))),"") -> 0 | H15: =IF(H12<>"",IF(H16=1,$A$41,IF(H16>1,$A$41*IF(H16>(1+$A$35),0,($A$35+1-H16)*(1/$A$35)),$A$41*IF(H16<(1-$A$35),0,1-((1-H16)*(1/$A$35))))),"") -> 0 | I15: =IF(I12<>"",IF(I16=1,$A$41,IF(I16>1,$A$41*IF(I16>(1+$A$35),0,($A$35+1-I16)*(1/$A$35)),$A$41*IF(I16<(1-$A$35),0,1-((1-I16)*(1/$A$35))))),"") -> 0 | J15: =IF(J12<>"",IF(J16=1,$A$41,IF(J16>1,$A$41*IF(J16>(1+$A$35),0,($A$35+1-J16)*(1/$A$35)),$A$41*IF(J16<(1-$A$35),0,1-((1-J16)*(1/$A$35))))),"") -> 0 | ... AV15: =IF(AV12<>"",IF(AV16=1,$A$41,IF(AV16>1,$A$41*IF(AV16>(1+$A$35),0,($A$35+1-AV16)*(1/$A$35)),$A$41*IF(AV16<(1-$A$35),0,1-((1-AV16)*(1/$A$35))))),"")
C16: =IFERROR(C12/C14,"") -> 0 | D16: =IFERROR(D12/D14,"") -> 0 | E16: =IFERROR(E12/E14,"") -> 0 | F16: =IFERROR(F12/F14,"") -> 0 | G16: =IFERROR(G12/G14,"") -> 0 | H16: =IFERROR(H12/H14,"") -> 0 | I16: =IFERROR(I12/I14,"") -> 0 | J16: =IFERROR(J12/J14,"") -> 0 | ... AV16: =IFERROR(AV12/AV14,"")
C17: =IFERROR(C15/$A$41,"") -> 0 | D17: =IFERROR(D15/$A$41,"") -> 0 | E17: =IFERROR(E15/$A$41,"") -> 0 | F17: =IFERROR(F15/$A$41,"") -> 0 | G17: =IFERROR(G15/$A$41,"") -> 0 | H17: =IFERROR(H15/$A$41,"") -> 0 | I17: =IFERROR(I15/$A$41,"") -> 0 | J17: =IFERROR(J15/$A$41,"") -> 0 | ... AV17: =IFERROR(AV15/$A$41,"")
B19: Element | C19: =IF(BKG!M$1<>"",BKG!M$1,"") -> Ag | D19: =IF(BKG!N$1<>"",BKG!N$1,"") -> Al | E19: =IF(BKG!O$1<>"",BKG!O$1,"") -> As | F19: =IF(BKG!P$1<>"",BKG!P$1,"") -> B | G19: =IF(BKG!Q$1<>"",BKG!Q$1,"") -> Ba | H19: =IF(BKG!R$1<>"",BKG!R$1,"") -> Be | I19: =IF(BKG!S$1<>"",BKG!S$1,"") -> Bi | J19: =IF(BKG!T$1<>"",BKG!T$1,"") -> Ca | ... AV19: =IF(BKG!BF$1<>"",BKG!BF$1,"")
A20: #
A21: M3 | C21: =IF(AND(C19<>"",$A21<>""),INDEX('Invoer Samples'!$C$3:$AZ$51,MATCH('Sample Controle'!$A21,'Invoer Samples'!$A$3:$A$51,0),MATCH('Sample Controle'!C19,'Invoer Samples'!$C$1:$AZ$1,0)),"") -> 0 | D21: =IF(AND(D19<>"",$A21<>""),INDEX('Invoer Samples'!$C$3:$AZ$51,MATCH('Sample Controle'!$A21,'Invoer Samples'!$A$3:$A$51,0),MATCH('Sample Controle'!D19,'Invoer Samples'!$C$1:$AZ$1,0)),"") -> 0 | E21: =IF(AND(E19<>"",$A21<>""),INDEX('Invoer Samples'!$C$3:$AZ$51,MATCH('Sample Controle'!$A21,'Invoer Samples'!$A$3:$A$51,0),MATCH('Sample Controle'!E19,'Invoer Samples'!$C$1:$AZ$1,0)),"") -> 0 | F21: =IF(AND(F19<>"",$A21<>""),INDEX('Invoer Samples'!$C$3:$AZ$51,MATCH('Sample Controle'!$A21,'Invoer Samples'!$A$3:$A$51,0),MATCH('Sample Controle'!F19,'Invoer Samples'!$C$1:$AZ$1,0)),"") -> 0 | G21: =IF(AND(G19<>"",$A21<>""),INDEX('Invoer Samples'!$C$3:$AZ$51,MATCH('Sample Controle'!$A21,'Invoer Samples'!$A$3:$A$51,0),MATCH('Sample Controle'!G19,'Invoer Samples'!$C$1:$AZ$1,0)),"") -> 0 | H21: =IF(AND(H19<>"",$A21<>""),INDEX('Invoer Samples'!$C$3:$AZ$51,MATCH('Sample Controle'!$A21,'Invoer Samples'!$A$3:$A$51,0),MATCH('Sample Controle'!H19,'Invoer Samples'!$C$1:$AZ$1,0)),"") -> 0 | I21: =IF(AND(I19<>"",$A21<>""),INDEX('Invoer Samples'!$C$3:$AZ$51,MATCH('Sample Controle'!$A21,'Invoer Samples'!$A$3:$A$51,0),MATCH('Sample Controle'!I19,'Invoer Samples'!$C$1:$AZ$1,0)),"") -> 0 | J21: =IF(AND(J19<>"",$A21<>""),INDEX('Invoer Samples'!$C$3:$AZ$51,MATCH('Sample Controle'!$A21,'Invoer Samples'!$A$3:$A$51,0),MATCH('Sample Controle'!J19,'Invoer Samples'!$C$1:$AZ$1,0)),"") -> 0 | ... AV21: =IF(AND(AV19<>"",$A21<>""),INDEX('Invoer Samples'!$C$3:$AZ$51,MATCH('Sample Controle'!$A21,'Invoer Samples'!$A$3:$A$51,0),MATCH('Sample Controle'!AV19,'Invoer Samples'!$C$1:$AZ$1,0)),"")
C23: =IF(AND(C19<>"",$A21<>""),INDEX(BKG!$M$3:$BE$40,MATCH('Sample Controle'!$A21,BKG!$K$3:$K$40,0),MATCH('Sample Controle'!C19,BKG!$M$1:$BE$1,0)),"") -> 0.003 | D23: =IF(AND(D19<>"",$A21<>""),INDEX(BKG!$M$3:$BE$40,MATCH('Sample Controle'!$A21,BKG!$K$3:$K$40,0),MATCH('Sample Controle'!D19,BKG!$M$1:$BE$1,0)),"") -> 1 | E23: =IF(AND(E19<>"",$A21<>""),INDEX(BKG!$M$3:$BE$40,MATCH('Sample Controle'!$A21,BKG!$K$3:$K$40,0),MATCH('Sample Controle'!E19,BKG!$M$1:$BE$1,0)),"") -> 0.1 | F23: =IF(AND(F19<>"",$A21<>""),INDEX(BKG!$M$3:$BE$40,MATCH('Sample Controle'!$A21,BKG!$K$3:$K$40,0),MATCH('Sample Controle'!F19,BKG!$M$1:$BE$1,0)),"") -> 1 | G23: =IF(AND(G19<>"",$A21<>""),INDEX(BKG!$M$3:$BE$40,MATCH('Sample Controle'!$A21,BKG!$K$3:$K$40,0),MATCH('Sample Controle'!G19,BKG!$M$1:$BE$1,0)),"") -> 0.5 | H23: =IF(AND(H19<>"",$A21<>""),INDEX(BKG!$M$3:$BE$40,MATCH('Sample Controle'!$A21,BKG!$K$3:$K$40,0),MATCH('Sample Controle'!H19,BKG!$M$1:$BE$1,0)),"") -> 0.03 | I23: =IF(AND(I19<>"",$A21<>""),INDEX(BKG!$M$3:$BE$40,MATCH('Sample Controle'!$A21,BKG!$K$3:$K$40,0),MATCH('Sample Controle'!I19,BKG!$M$1:$BE$1,0)),"") -> 0.5 | J23: =IF(AND(J19<>"",$A21<>""),INDEX(BKG!$M$3:$BE$40,MATCH('Sample Controle'!$A21,BKG!$K$3:$K$40,0),MATCH('Sample Controle'!J19,BKG!$M$1:$BE$1,0)),"") -> 10 | ... AV23: =IF(AND(AV19<>"",$A21<>""),INDEX(BKG!$M$3:$BE$40,MATCH('Sample Controle'!$A21,BKG!$K$3:$K$40,0),MATCH('Sample Controle'!AV19,BKG!$M$1:$BE$1,0)),"")
A24: Totaal: | B24: =SUM(C24:XFD24) -> 0 | C24: =IF(C21<>"",IF(C25=1,$A$41,IF(C25>1,$A$41*IF(C25>(1+$A$35),0,($A$35+1-C25)*(1/$A$35)),$A$41*IF(C25<(1-$A$35),0,1-((1-C25)*(1/$A$35))))),"") -> 0 | D24: =IF(D21<>"",IF(D25=1,$A$41,IF(D25>1,$A$41*IF(D25>(1+$A$35),0,($A$35+1-D25)*(1/$A$35)),$A$41*IF(D25<(1-$A$35),0,1-((1-D25)*(1/$A$35))))),"") -> 0 | E24: =IF(E21<>"",IF(E25=1,$A$41,IF(E25>1,$A$41*IF(E25>(1+$A$35),0,($A$35+1-E25)*(1/$A$35)),$A$41*IF(E25<(1-$A$35),0,1-((1-E25)*(1/$A$35))))),"") -> 0 | F24: =IF(F21<>"",IF(F25=1,$A$41,IF(F25>1,$A$41*IF(F25>(1+$A$35),0,($A$35+1-F25)*(1/$A$35)),$A$41*IF(F25<(1-$A$35),0,1-((1-F25)*(1/$A$35))))),"") -> 0 | G24: =IF(G21<>"",IF(G25=1,$A$41,IF(G25>1,$A$41*IF(G25>(1+$A$35),0,($A$35+1-G25)*(1/$A$35)),$A$41*IF(G25<(1-$A$35),0,1-((1-G25)*(1/$A$35))))),"") -> 0 | H24: =IF(H21<>"",IF(H25=1,$A$41,IF(H25>1,$A$41*IF(H25>(1+$A$35),0,($A$35+1-H25)*(1/$A$35)),$A$41*IF(H25<(1-$A$35),0,1-((1-H25)*(1/$A$35))))),"") -> 0 | I24: =IF(I21<>"",IF(I25=1,$A$41,IF(I25>1,$A$41*IF(I25>(1+$A$35),0,($A$35+1-I25)*(1/$A$35)),$A$41*IF(I25<(1-$A$35),0,1-((1-I25)*(1/$A$35))))),"") -> 0 | J24: =IF(J21<>"",IF(J25=1,$A$41,IF(J25>1,$A$41*IF(J25>(1+$A$35),0,($A$35+1-J25)*(1/$A$35)),$A$41*IF(J25<(1-$A$35),0,1-((1-J25)*(1/$A$35))))),"") -> 0 | ... AV24: =IF(AV21<>"",IF(AV25=1,$A$41,IF(AV25>1,$A$41*IF(AV25>(1+$A$35),0,($A$35+1-AV25)*(1/$A$35)),$A$41*IF(AV25<(1-$A$35),0,1-((1-AV25)*(1/$A$35))))),"")
C25: =IFERROR(C21/C23,"") -> 0 | D25: =IFERROR(D21/D23,"") -> 0 | E25: =IFERROR(E21/E23,"") -> 0 | F25: =IFERROR(F21/F23,"") -> 0 | G25: =IFERROR(G21/G23,"") -> 0 | H25: =IFERROR(H21/H23,"") -> 0 | I25: =IFERROR(I21/I23,"") -> 0 | J25: =IFERROR(J21/J23,"") -> 0 | ... AV25: =IFERROR(AV21/AV23,"")
C26: =IFERROR(C24/$A$41,"") -> 0 | D26: =IFERROR(D24/$A$41,"") -> 0 | E26: =IFERROR(E24/$A$41,"") -> 0 | F26: =IFERROR(F24/$A$41,"") -> 0 | G26: =IFERROR(G24/$A$41,"") -> 0 | H26: =IFERROR(H24/$A$41,"") -> 0 | I26: =IFERROR(I24/$A$41,"") -> 0 | J26: =IFERROR(J24/$A$41,"") -> 0 | ... AV26: =IFERROR(AV24/$A$41,"")
A28: Totaal: | B28: {=SUM(_xlfn._xlws.FILTER($B$1:$B27,$A$1:$A27="Totaal:"))} -> 0
A33: =COUNTA($C$1:$AV$1)-COUNTIF($C$1:$AV$1,"") -> 32 | B33: Element = E | E33: V = Vergelijkbare Waarde
A34: =COUNTA(BKG!$K$3:$K$40) -> 3 | B34: Samples = S | E34: Vb = Inschrijver
A35: 0.2 | B35: Margin = M | E35: Va = Verwachte Waarde
A36: =BKG!H3 -> 100 | B36: Totaal Punten = Pt
A40: =IFERROR(BKG!$H$3/$A$34,0) -> 33.333333 | B40: Punten / Sample
A41: =$A$40/$A$33 -> 1.0416667 | B41: Punten / Element = P

Sheet Herhaalbaarheid RG
B1: Element | C1: =IF(BKG!M$1<>"",BKG!M$1,"") -> Ag | D1: =IF(BKG!N$1<>"",BKG!N$1,"") -> Al | E1: =IF(BKG!O$1<>"",BKG!O$1,"") -> As | F1: =IF(BKG!P$1<>"",BKG!P$1,"") -> B | G1: =IF(BKG!Q$1<>"",BKG!Q$1,"") -> Ba | H1: =IF(BKG!R$1<>"",BKG!R$1,"") -> Be | I1: =IF(BKG!S$1<>"",BKG!S$1,"") -> Bi | J1: =IF(BKG!T$1<>"",BKG!T$1,"") -> Ca | ... AH1: =IF(BKG!AR$1<>"",BKG!AR$1,"") -> Zn
A2: Sample | B2: (µg/l) | C2: =IF(_xlfn.XLOOKUP(C$1,BKG!$A:$A,BKG!$B:$B)=0,"",_xlfn.XLOOKUP(C$1,BKG!$A:$A,BKG!$B:$B)) -> Zilver | D2: =IF(_xlfn.XLOOKUP(D$1,BKG!$A:$A,BKG!$B:$B)=0,"",_xlfn.XLOOKUP(D$1,BKG!$A:$A,BKG!$B:$B)) -> Aluminium | E2: =IF(_xlfn.XLOOKUP(E$1,BKG!$A:$A,BKG!$B:$B)=0,"",_xlfn.XLOOKUP(E$1,BKG!$A:$A,BKG!$B:$B)) -> Arseen | F2: =IF(_xlfn.XLOOKUP(F$1,BKG!$A:$A,BKG!$B:$B)=0,"",_xlfn.XLOOKUP(F$1,BKG!$A:$A,BKG!$B:$B)) -> Boor | G2: =IF(_xlfn.XLOOKUP(G$1,BKG!$A:$A,BKG!$B:$B)=0,"",_xlfn.XLOOKUP(G$1,BKG!$A:$A,BKG!$B:$B)) -> Barium | H2: =IF(_xlfn.XLOOKUP(H$1,BKG!$A:$A,BKG!$B:$B)=0,"",_xlfn.XLOOKUP(H$1,BKG!$A:$A,BKG!$B:$B)) -> Beryllium | I2: =IF(_xlfn.XLOOKUP(I$1,BKG!$A:$A,BKG!$B:$B)=0,"",_xlfn.XLOOKUP(I$1,BKG!$A:$A,BKG!$B:$B)) -> Bismuth | J2: =IF(_xlfn.XLOOKUP(J$1,BKG!$A:$A,BKG!$B:$B)=0,"",_xlfn.XLOOKUP(J$1,BKG!$A:$A,BKG!$B:$B)) -> Calcium | ... AH2: =IF(_xlfn.XLOOKUP(AH$1,BKG!$A:$A,BKG!$B:$B)=0,"",_xlfn.XLOOKUP(AH$1,BKG!$A:$A,BKG!$B:$B)) -> Zink
A3: ='Invoer RG'!A4 -> H0 | B3: {=_xlfn.WRAPROWS($B$52:$G$52,1)} -> 1 | C3: =IF(C$1<>"",IF(C$13>0,IF(C$13<=(C$14*$B3)=TRUE,_xlfn.XLOOKUP($B3,$52:$52,$53:$53)*_xlfn.XLOOKUP(C$1,BKG!$A:$A,BKG!$F:$F,1),""),""),"") | D3: =IF(D$1<>"",IF(D$13>0,IF(D$13<=(D$14*$B3)=TRUE,_xlfn.XLOOKUP($B3,$52:$52,$53:$53)*_xlfn.XLOOKUP(D$1,BKG!$A:$A,BKG!$F:$F,1),""),""),"") | E3: =IF(E$1<>"",IF(E$13>0,IF(E$13<=(E$14*$B3)=TRUE,_xlfn.XLOOKUP($B3,$52:$52,$53:$53)*_xlfn.XLOOKUP(E$1,BKG!$A:$A,BKG!$F:$F,1),""),""),"") | F3: =IF(F$1<>"",IF(F$13>0,IF(F$13<=(F$14*$B3)=TRUE,_xlfn.XLOOKUP($B3,$52:$52,$53:$53)*_xlfn.XLOOKUP(F$1,BKG!$A:$A,BKG!$F:$F,1),""),""),"") | G3: =IF(G$1<>"",IF(G$13>0,IF(G$13<=(G$14*$B3)=TRUE,_xlfn.XLOOKUP($B3,$52:$52,$53:$53)*_xlfn.XLOOKUP(G$1,BKG!$A:$A,BKG!$F:$F,1),""),""),"") | H3: =IF(H$1<>"",IF(H$13>0,IF(H$13<=(H$14*$B3)=TRUE,_xlfn.XLOOKUP($B3,$52:$52,$53:$53)*_xlfn.XLOOKUP(H$1,BKG!$A:$A,BKG!$F:$F,1),""),""),"") | I3: =IF(I$1<>"",IF(I$13>0,IF(I$13<=(I$14*$B3)=TRUE,_xlfn.XLOOKUP($B3,$52:$52,$53:$53)*_xlfn.XLOOKUP(I$1,BKG!$A:$A,BKG!$F:$F,1),""),""),"") | J3: =IF(J$1<>"",IF(J$13>0,IF(J$13<=(J$14*$B3)=TRUE,_xlfn.XLOOKUP($B3,$52:$52,$53:$53)*_xlfn.XLOOKUP(J$1,BKG!$A:$A,BKG!$F:$F,1),""),""),"") | ... AH3: =IF(AH$1<>"",IF(AH$13>0,IF(AH$13<=(AH$14*$B3)=TRUE,_xlfn.XLOOKUP($B3,$52:$52,$53:$53)*_xlfn.XLOOKUP(AH$1,BKG!$A:$A,BKG!$F:$F,1),""),""),"")
A4: =A3 -> H0 | B4: 0.9 | C4: =IF(C$1<>"",IF(C$13>0,IF(C$13<=(C$14*$B4)=TRUE,_xlfn.XLOOKUP($B4,$52:$52,$53:$53)*_xlfn.XLOOKUP(C$1,BKG!$A:$A,BKG!$F:$F,1),""),""),"") | D4: =IF(D$1<>"",IF(D$13>0,IF(D$13<=(D$14*$B4)=TRUE,_xlfn.XLOOKUP($B4,$52:$52,$53:$53)*_xlfn.XLOOKUP(D$1,BKG!$A:$A,BKG!$F:$F,1),""),""),"") | E4: =IF(E$1<>"",IF(E$13>0,IF(E$13<=(E$14*$B4)=TRUE,_xlfn.XLOOKUP($B4,$52:$52,$53:$53)*_xlfn.XLOOKUP(E$1,BKG!$A:$A,BKG!$F:$F,1),""),""),"") | F4: =IF(F$1<>"",IF(F$13>0,IF(F$13<=(F$14*$B4)=TRUE,_xlfn.XLOOKUP($B4,$52:$52,$53:$53)*_xlfn.XLOOKUP(F$1,BKG!$A:$A,BKG!$F:$F,1),""),""),"") | G4: =IF(G$1<>"",IF(G$13>0,IF(G$13<=(G$14*$B4)=TRUE,_xlfn.XLOOKUP($B4,$52:$52,$53:$53)*_xlfn.XLOOKUP(G$1,BKG!$A:$A,BKG!$F:$F,1),""),""),"") | H4: =IF(H$1<>"",IF(H$13>0,IF(H$13<=(H$14*$B4)=TRUE,_xlfn.XLOOKUP($B4,$52:$52,$53:$53)*_xlfn.XLOOKUP(H$1,BKG!$A:$A,BKG!$F:$F,1),""),""),"") | I4: =IF(I$1<>"",IF(I$13>0,IF(I$13<=(I$14*$B4)=TRUE,_xlfn.XLOOKUP($B4,$52:$52,$53:$53)*_xlfn.XLOOKUP(I$1,BKG!$A:$A,BKG!$F:$F,1),""),""),"") | J4: =IF(J$1<>"",IF(J$13>0,IF(J$13<=(J$14*$B4)=TRUE,_xlfn.XLOOKUP($B4,$52:$52,$53:$53)*_xlfn.XLOOKUP(J$1,BKG!$A:$A,BKG!$F:$F,1),""),""),"") | ... AH4: =IF(AH$1<>"",IF(AH$13>0,IF(AH$13<=(AH$14*$B4)=TRUE,_xlfn.XLOOKUP($B4,$52:$52,$53:$53)*_xlfn.XLOOKUP(AH$1,BKG!$A:$A,BKG!$F:$F,1),""),""),"")
A5: =A4 -> H0 | B5: 0.8 | C5: =IF(C$1<>"",IF(C$13>0,IF(C$13<=(C$14*$B5)=TRUE,_xlfn.XLOOKUP($B5,$52:$52,$53:$53)*_xlfn.XLOOKUP(C$1,BKG!$A:$A,BKG!$F:$F,1),""),""),"") | D5: =IF(D$1<>"",IF(D$13>0,IF(D$13<=(D$14*$B5)=TRUE,_xlfn.XLOOKUP($B5,$52:$52,$53:$53)*_xlfn.XLOOKUP(D$1,BKG!$A:$A,BKG!$F:$F,1),""),""),"") | E5: =IF(E$1<>"",IF(E$13>0,IF(E$13<=(E$14*$B5)=TRUE,_xlfn.XLOOKUP($B5,$52:$52,$53:$53)*_xlfn.XLOOKUP(E$1,BKG!$A:$A,BKG!$F:$F,1),""),""),"") | F5: =IF(F$1<>"",IF(F$13>0,IF(F$13<=(F$14*$B5)=TRUE,_xlfn.XLOOKUP($B5,$52:$52,$53:$53)*_xlfn.XLOOKUP(F$1,BKG!$A:$A,BKG!$F:$F,1),""),""),"") | G5: =IF(G$1<>"",IF(G$13>0,IF(G$13<=(G$14*$B5)=TRUE,_xlfn.XLOOKUP($B5,$52:$52,$53:$53)*_xlfn.XLOOKUP(G$1,BKG!$A:$A,BKG!$F:$F,1),""),""),"") | H5: =IF(H$1<>"",IF(H$13>0,IF(H$13<=(H$14*$B5)=TRUE,_xlfn.XLOOKUP($B5,$52:$52,$53:$53)*_xlfn.XLOOKUP(H$1,BKG!$A:$A,BKG!$F:$F,1),""),""),"") | I5: =IF(I$1<>"",IF(I$13>0,IF(I$13<=(I$14*$B5)=TRUE,_xlfn.XLOOKUP($B5,$52:$52,$53:$53)*_xlfn.XLOOKUP(I$1,BKG!$A:$A,BKG!$F:$F,1),""),""),"") | J5: =IF(J$1<>"",IF(J$13>0,IF(J$13<=(J$14*$B5)=TRUE,_xlfn.XLOOKUP($B5,$52:$52,$53:$53)*_xlfn.XLOOKUP(J$1,BKG!$A:$A,BKG!$F:$F,1),""),""),"") | ... AH5: =IF(AH$1<>"",IF(AH$13>0,IF(AH$13<=(AH$14*$B5)=TRUE,_xlfn.XLOOKUP($B5,$52:$52,$53:$53)*_xlfn.XLOOKUP(AH$1,BKG!$A:$A,BKG!$F:$F,1),""),""),"")
A6: =A5 -> H0 | B6: 0.7 | C6: =IF(C$1<>"",IF(C$13>0,IF(C$13<=(C$14*$B6)=TRUE,_xlfn.XLOOKUP($B6,$52:$52,$53:$53)*_xlfn.XLOOKUP(C$1,BKG!$A:$A,BKG!$F:$F,1),""),""),"") | D6: =IF(D$1<>"",IF(D$13>0,IF(D$13<=(D$14*$B6)=TRUE,_xlfn.XLOOKUP($B6,$52:$52,$53:$53)*_xlfn.XLOOKUP(D$1,BKG!$A:$A,BKG!$F:$F,1),""),""),"") | E6: =IF(E$1<>"",IF(E$13>0,IF(E$13<=(E$14*$B6)=TRUE,_xlfn.XLOOKUP($B6,$52:$52,$53:$53)*_xlfn.XLOOKUP(E$1,BKG!$A:$A,BKG!$F:$F,1),""),""),"") | F6: =IF(F$1<>"",IF(F$13>0,IF(F$13<=(F$14*$B6)=TRUE,_xlfn.XLOOKUP($B6,$52:$52,$53:$53)*_xlfn.XLOOKUP(F$1,BKG!$A:$A,BKG!$F:$F,1),""),""),"") | G6: =IF(G$1<>"",IF(G$13>0,IF(G$13<=(G$14*$B6)=TRUE,_xlfn.XLOOKUP($B6,$52:$52,$53:$53)*_xlfn.XLOOKUP(G$1,BKG!$A:$A,BKG!$F:$F,1),""),""),"") | H6: =IF(H$1<>"",IF(H$13>0,IF(H$13<=(H$14*$B6)=TRUE,_xlfn.XLOOKUP($B6,$52:$52,$53:$53)*_xlfn.XLOOKUP(H$1,BKG!$A:$A,BKG!$F:$F,1),""),""),"") | I6: =IF(I$1<>"",IF(I$13>0,IF(I$13<=(I$14*$B6)=TRUE,_xlfn.XLOOKUP($B6,$52:$52,$53:$53)*_xlfn.XLOOKUP(I$1,BKG!$A:$A,BKG!$F:$F,1),""),""),"") | J6: =IF(J$1<>"",IF(J$13>0,IF(J$13<=(J$14*$B6)=TRUE,_xlfn.XLOOKUP($B6,$52:$52,$53:$53)*_xlfn.XLOOKUP(J$1,BKG!$A:$A,BKG!$F:$F,1),""),""),"") | ... AH6: =IF(AH$1<>"",IF(AH$13>0,IF(AH$13<=(AH$14*$B6)=TRUE,_xlfn.XLOOKUP($B6,$52:$52,$53:$53)*_xlfn.XLOOKUP(AH$1,BKG!$A:$A,BKG!$F:$F,1),""),""),"")
A7: =A6 -> H0 | B7: 0.6 | C7: =IF(C$1<>"",IF(C$13>0,IF(C$13<=(C$14*$B7)=TRUE,_xlfn.XLOOKUP($B7,$52:$52,$53:$53)*_xlfn.XLOOKUP(C$1,BKG!$A:$A,BKG!$F:$F,1),""),""),"") | D7: =IF(D$1<>"",IF(D$13>0,IF(D$13<=(D$14*$B7)=TRUE,_xlfn.XLOOKUP($B7,$52:$52,$53:$53)*_xlfn.XLOOKUP(D$1,BKG!$A:$A,BKG!$F:$F,1),""),""),"") | E7: =IF(E$1<>"",IF(E$13>0,IF(E$13<=(E$14*$B7)=TRUE,_xlfn.XLOOKUP($B7,$52:$52,$53:$53)*_xlfn.XLOOKUP(E$1,BKG!$A:$A,BKG!$F:$F,1),""),""),"") | F7: =IF(F$1<>"",IF(F$13>0,IF(F$13<=(F$14*$B7)=TRUE,_xlfn.XLOOKUP($B7,$52:$52,$53:$53)*_xlfn.XLOOKUP(F$1,BKG!$A:$A,BKG!$F:$F,1),""),""),"") | G7: =IF(G$1<>"",IF(G$13>0,IF(G$13<=(G$14*$B7)=TRUE,_xlfn.XLOOKUP($B7,$52:$52,$53:$53)*_xlfn.XLOOKUP(G$1,BKG!$A:$A,BKG!$F:$F,1),""),""),"") | H7: =IF(H$1<>"",IF(H$13>0,IF(H$13<=(H$14*$B7)=TRUE,_xlfn.XLOOKUP($B7,$52:$52,$53:$53)*_xlfn.XLOOKUP(H$1,BKG!$A:$A,BKG!$F:$F,1),""),""),"") | I7: =IF(I$1<>"",IF(I$13>0,IF(I$13<=(I$14*$B7)=TRUE,_xlfn.XLOOKUP($B7,$52:$52,$53:$53)*_xlfn.XLOOKUP(I$1,BKG!$A:$A,BKG!$F:$F,1),""),""),"") | J7: =IF(J$1<>"",IF(J$13>0,IF(J$13<=(J$14*$B7)=TRUE,_xlfn.XLOOKUP($B7,$52:$52,$53:$53)*_xlfn.XLOOKUP(J$1,BKG!$A:$A,BKG!$F:$F,1),""),""),"") | ... AH7: =IF(AH$1<>"",IF(AH$13>0,IF(AH$13<=(AH$14*$B7)=TRUE,_xlfn.XLOOKUP($B7,$52:$52,$53:$53)*_xlfn.XLOOKUP(AH$1,BKG!$A:$A,BKG!$F:$F,1),""),""),"")
A8: =A7 -> H0 | B8: 0.5 | C8: =IF(C$1<>"",IF(C$13>0,IF(C$13<=(C$14*$B8)=TRUE,_xlfn.XLOOKUP($B8,$52:$52,$53:$53)*_xlfn.XLOOKUP(C$1,BKG!$A:$A,BKG!$F:$F,1),""),""),"") | D8: =IF(D$1<>"",IF(D$13>0,IF(D$13<=(D$14*$B8)=TRUE,_xlfn.XLOOKUP($B8,$52:$52,$53:$53)*_xlfn.XLOOKUP(D$1,BKG!$A:$A,BKG!$F:$F,1),""),""),"") | E8: =IF(E$1<>"",IF(E$13>0,IF(E$13<=(E$14*$B8)=TRUE,_xlfn.XLOOKUP($B8,$52:$52,$53:$53)*_xlfn.XLOOKUP(E$1,BKG!$A:$A,BKG!$F:$F,1),""),""),"") | F8: =IF(F$1<>"",IF(F$13>0,IF(F$13<=(F$14*$B8)=TRUE,_xlfn.XLOOKUP($B8,$52:$52,$53:$53)*_xlfn.XLOOKUP(F$1,BKG!$A:$A,BKG!$F:$F,1),""),""),"") | G8: =IF(G$1<>"",IF(G$13>0,IF(G$13<=(G$14*$B8)=TRUE,_xlfn.XLOOKUP($B8,$52:$52,$53:$53)*_xlfn.XLOOKUP(G$1,BKG!$A:$A,BKG!$F:$F,1),""),""),"") | H8: =IF(H$1<>"",IF(H$13>0,IF(H$13<=(H$14*$B8)=TRUE,_xlfn.XLOOKUP($B8,$52:$52,$53:$53)*_xlfn.XLOOKUP(H$1,BKG!$A:$A,BKG!$F:$F,1),""),""),"") | I8: =IF(I$1<>"",IF(I$13>0,IF(I$13<=(I$14*$B8)=TRUE,_xlfn.XLOOKUP($B8,$52:$52,$53:$53)*_xlfn.XLOOKUP(I$1,BKG!$A:$A,BKG!$F:$F,1),""),""),"") | J8: =IF(J$1<>"",IF(J$13>0,IF(J$13<=(J$14*$B8)=TRUE,_xlfn.XLOOKUP($B8,$52:$52,$53:$53)*_xlfn.XLOOKUP(J$1,BKG!$A:$A,BKG!$F:$F,1),""),""),"") | ... AH8: =IF(AH$1<>"",IF(AH$13>0,IF(AH$13<=(AH$14*$B8)=TRUE,_xlfn.XLOOKUP($B8,$52:$52,$53:$53)*_xlfn.XLOOKUP(AH$1,BKG!$A:$A,BKG!$F:$F,1),""),""),"")
A10: Punten: | C10: =MAX(C3:C8) -> 0 | D10: =MAX(D3:D8) -> 0 | E10: =MAX(E3:E8) -> 0 | F10: =MAX(F3:F8) -> 0 | G10: =MAX(G3:G8) -> 0 | H10: =MAX(H3:H8) -> 0 | I10: =MAX(I3:I8) -> 0 | J10: =MAX(J3:J8) -> 0 | ... AH10: =MAX(AH3:AH8) -> 0
A11: Totaal: | B11: =SUM(C10:AS10) -> 0 | C11: *Hoogste Punt per Element Wordt Gebruikt
C13: =IF(C$1<>"",INDEX('Invoer RG'!$1:$1048576,MATCH('Herhaalbaarheid RG'!$A3,'Invoer RG'!$A:$A,0),MATCH('Herhaalbaarheid RG'!C$1,'Invoer RG'!$2:$2,0)),"") -> 0 | D13: =IF(D$1<>"",INDEX('Invoer RG'!$1:$1048576,MATCH('Herhaalbaarheid RG'!$A3,'Invoer RG'!$A:$A,0),MATCH('Herhaalbaarheid RG'!D$1,'Invoer RG'!$2:$2,0)),"") -> 0 | E13: =IF(E$1<>"",INDEX('Invoer RG'!$1:$1048576,MATCH('Herhaalbaarheid RG'!$A3,'Invoer RG'!$A:$A,0),MATCH('Herhaalbaarheid RG'!E$1,'Invoer RG'!$2:$2,0)),"") -> 0 | F13: =IF(F$1<>"",INDEX('Invoer RG'!$1:$1048576,MATCH('Herhaalbaarheid RG'!$A3,'Invoer RG'!$A:$A,0),MATCH('Herhaalbaarheid RG'!F$1,'Invoer RG'!$2:$2,0)),"") -> 0 | G13: =IF(G$1<>"",INDEX('Invoer RG'!$1:$1048576,MATCH('Herhaalbaarheid RG'!$A3,'Invoer RG'!$A:$A,0),MATCH('Herhaalbaarheid RG'!G$1,'Invoer RG'!$2:$2,0)),"") -> 0 | H13: =IF(H$1<>"",INDEX('Invoer RG'!$1:$1048576,MATCH('Herhaalbaarheid RG'!$A3,'Invoer RG'!$A:$A,0),MATCH('Herhaalbaarheid RG'!H$1,'Invoer RG'!$2:$2,0)),"") -> 0 | I13: =IF(I$1<>"",INDEX('Invoer RG'!$1:$1048576,MATCH('Herhaalbaarheid RG'!$A3,'Invoer RG'!$A:$A,0),MATCH('Herhaalbaarheid RG'!I$1,'Invoer RG'!$2:$2,0)),"") -> 0 | J13: =IF(J$1<>"",INDEX('Invoer RG'!$1:$1048576,MATCH('Herhaalbaarheid RG'!$A3,'Invoer RG'!$A:$A,0),MATCH('Herhaalbaarheid RG'!J$1,'Invoer RG'!$2:$2,0)),"") -> 0 | ... AH13: =IF(AH$1<>"",INDEX('Invoer RG'!$1:$1048576,MATCH('Herhaalbaarheid RG'!$A3,'Invoer RG'!$A:$A,0),MATCH('Herhaalbaarheid RG'!AH$1,'Invoer RG'!$2:$2,0)),"") -> 0
C14: =_xlfn.XLOOKUP(C$1,BKG!$A:$A,BKG!$D:$D) -> 0.0003 | D14: =_xlfn.XLOOKUP(D$1,BKG!$A:$A,BKG!$D:$D) -> 0.1 | E14: =_xlfn.XLOOKUP(E$1,BKG!$A:$A,BKG!$D:$D) -> 0.01 | F14: =_xlfn.XLOOKUP(F$1,BKG!$A:$A,BKG!$D:$D) -> 0.1 | G14: =_xlfn.XLOOKUP(G$1,BKG!$A:$A,BKG!$D:$D) -> 0.05 | H14: =_xlfn.XLOOKUP(H$1,BKG!$A:$A,BKG!$D:$D) -> 0.003 | I14: =_xlfn.XLOOKUP(I$1,BKG!$A:$A,BKG!$D:$D) -> 0.05 | J14: =_xlfn.XLOOKUP(J$1,BKG!$A:$A,BKG!$D:$D) -> 1 | ... AH14: =_xlfn.XLOOKUP(AH$1,BKG!$A:$A,BKG!$D:$D) -> 0.1
B16: Element | C16: =IF(BKG!M$1<>"",BKG!M$1,"") -> Ag | D16: =IF(BKG!N$1<>"",BKG!N$1,"") -> Al | E16: =IF(BKG!O$1<>"",BKG!O$1,"") -> As | F16: =IF(BKG!P$1<>"",BKG!P$1,"") -> B | G16: =IF(BKG!Q$1<>"",BKG!Q$1,"") -> Ba | H16: =IF(BKG!R$1<>"",BKG!R$1,"") -> Be | I16: =IF(BKG!S$1<>"",BKG!S$1,"") -> Bi | J16: =IF(BKG!T$1<>"",BKG!T$1,"") -> Ca | ... AH16: =IF(BKG!AR$1<>"",BKG!AR$1,"") -> Zn
A17: Sample | B17: (µg/l) | C17: =IF(_xlfn.XLOOKUP(C$1,BKG!$A:$A,BKG!$B:$B)=0,"",_xlfn.XLOOKUP(C$1,BKG!$A:$A,BKG!$B:$B)) -> Zilver | D17: =IF(_xlfn.XLOOKUP(D$1,BKG!$A:$A,BKG!$B:$B)=0,"",_xlfn.XLOOKUP(D$1,BKG!$A:$A,BKG!$B:$B)) -> Aluminium | E17: =IF(_xlfn.XLOOKUP(E$1,BKG!$A:$A,BKG!$B:$B)=0,"",_xlfn.XLOOKUP(E$1,BKG!$A:$A,BKG!$B:$B)) -> Arseen | F17: =IF(_xlfn.XLOOKUP(F$1,BKG!$A:$A,BKG!$B:$B)=0,"",_xlfn.XLOOKUP(F$1,BKG!$A:$A,BKG!$B:$B)) -> Boor | G17: =IF(_xlfn.XLOOKUP(G$1,BKG!$A:$A,BKG!$B:$B)=0,"",_xlfn.XLOOKUP(G$1,BKG!$A:$A,BKG!$B:$B)) -> Barium | H17: =IF(_xlfn.XLOOKUP(H$1,BKG!$A:$A,BKG!$B:$B)=0,"",_xlfn.XLOOKUP(H$1,BKG!$A:$A,BKG!$B:$B)) -> Beryllium | I17: =IF(_xlfn.XLOOKUP(I$1,BKG!$A:$A,BKG!$B:$B)=0,"",_xlfn.XLOOKUP(I$1,BKG!$A:$A,BKG!$B:$B)) -> Bismuth | J17: =IF(_xlfn.XLOOKUP(J$1,BKG!$A:$A,BKG!$B:$B)=0,"",_xlfn.XLOOKUP(J$1,BKG!$A:$A,BKG!$B:$B)) -> Calcium | ... AH17: =IF(_xlfn.XLOOKUP(AH$1,BKG!$A:$A,BKG!$B:$B)=0,"",_xlfn.XLOOKUP(AH$1,BKG!$A:$A,BKG!$B:$B)) -> Zink
A18: ='Invoer RG'!A5 -> H1 | B18: {=_xlfn.WRAPROWS($B$52:$G$52,1)} -> 1 | C18: =IF(C$16<>"",IF(C$28>0,IF(C$28<=(C$29*$B18)=TRUE,_xlfn.XLOOKUP($B18,$52:$52,$53:$53)*_xlfn.XLOOKUP(C$16,BKG!$A:$A,BKG!$F:$F,1),""),""),"") | D18: =IF(D$16<>"",IF(D$28>0,IF(D$28<=(D$29*$B18)=TRUE,_xlfn.XLOOKUP($B18,$52:$52,$53:$53)*_xlfn.XLOOKUP(D$16,BKG!$A:$A,BKG!$F:$F,1),""),""),"") | E18: =IF(E$16<>"",IF(E$28>0,IF(E$28<=(E$29*$B18)=TRUE,_xlfn.XLOOKUP($B18,$52:$52,$53:$53)*_xlfn.XLOOKUP(E$16,BKG!$A:$A,BKG!$F:$F,1),""),""),"") | F18: =IF(F$16<>"",IF(F$28>0,IF(F$28<=(F$29*$B18)=TRUE,_xlfn.XLOOKUP($B18,$52:$52,$53:$53)*_xlfn.XLOOKUP(F$16,BKG!$A:$A,BKG!$F:$F,1),""),""),"") | G18: =IF(G$16<>"",IF(G$28>0,IF(G$28<=(G$29*$B18)=TRUE,_xlfn.XLOOKUP($B18,$52:$52,$53:$53)*_xlfn.XLOOKUP(G$16,BKG!$A:$A,BKG!$F:$F,1),""),""),"") | H18: =IF(H$16<>"",IF(H$28>0,IF(H$28<=(H$29*$B18)=TRUE,_xlfn.XLOOKUP($B18,$52:$52,$53:$53)*_xlfn.XLOOKUP(H$16,BKG!$A:$A,BKG!$F:$F,1),""),""),"") | I18: =IF(I$16<>"",IF(I$28>0,IF(I$28<=(I$29*$B18)=TRUE,_xlfn.XLOOKUP($B18,$52:$52,$53:$53)*_xlfn.XLOOKUP(I$16,BKG!$A:$A,BKG!$F:$F,1),""),""),"") | J18: =IF(J$16<>"",IF(J$28>0,IF(J$28<=(J$29*$B18)=TRUE,_xlfn.XLOOKUP($B18,$52:$52,$53:$53)*_xlfn.XLOOKUP(J$16,BKG!$A:$A,BKG!$F:$F,1),""),""),"") | ... AH18: =IF(AH$16<>"",IF(AH$28>0,IF(AH$28<=(AH$29*$B18)=TRUE,_xlfn.XLOOKUP($B18,$52:$52,$53:$53)*_xlfn.XLOOKUP(AH$16,BKG!$A:$A,BKG!$F:$F,1),""),""),"")
A19: =A18 -> H1 | B19: 0.9 | C19: =IF(C$16<>"",IF(C$28>0,IF(C$28<=(C$29*$B19)=TRUE,_xlfn.XLOOKUP($B19,$52:$52,$53:$53)*_xlfn.XLOOKUP(C$16,BKG!$A:$A,BKG!$F:$F,1),""),""),"") | D19: =IF(D$16<>"",IF(D$28>0,IF(D$28<=(D$29*$B19)=TRUE,_xlfn.XLOOKUP($B19,$52:$52,$53:$53)*_xlfn.XLOOKUP(D$16,BKG!$A:$A,BKG!$F:$F,1),""),""),"") | E19: =IF(E$16<>"",IF(E$28>0,IF(E$28<=(E$29*$B19)=TRUE,_xlfn.XLOOKUP($B19,$52:$52,$53:$53)*_xlfn.XLOOKUP(E$16,BKG!$A:$A,BKG!$F:$F,1),""),""),"") | F19: =IF(F$16<>"",IF(F$28>0,IF(F$28<=(F$29*$B19)=TRUE,_xlfn.XLOOKUP($B19,$52:$52,$53:$53)*_xlfn.XLOOKUP(F$16,BKG!$A:$A,BKG!$F:$F,1),""),""),"") | G19: =IF(G$16<>"",IF(G$28>0,IF(G$28<=(G$29*$B19)=TRUE,_xlfn.XLOOKUP($B19,$52:$52,$53:$53)*_xlfn.XLOOKUP(G$16,BKG!$A:$A,BKG!$F:$F,1),""),""),"") | H19: =IF(H$16<>"",IF(H$28>0,IF(H$28<=(H$29*$B19)=TRUE,_xlfn.XLOOKUP($B19,$52:$52,$53:$53)*_xlfn.XLOOKUP(H$16,BKG!$A:$A,BKG!$F:$F,1),""),""),"") | I19: =IF(I$16<>"",IF(I$28>0,IF(I$28<=(I$29*$B19)=TRUE,_xlfn.XLOOKUP($B19,$52:$52,$53:$53)*_xlfn.XLOOKUP(I$16,BKG!$A:$A,BKG!$F:$F,1),""),""),"") | J19: =IF(J$16<>"",IF(J$28>0,IF(J$28<=(J$29*$B19)=TRUE,_xlfn.XLOOKUP($B19,$52:$52,$53:$53)*_xlfn.XLOOKUP(J$16,BKG!$A:$A,BKG!$F:$F,1),""),""),"") | ... AH19: =IF(AH$16<>"",IF(AH$28>0,IF(AH$28<=(AH$29*$B19)=TRUE,_xlfn.XLOOKUP($B19,$52:$52,$53:$53)*_xlfn.XLOOKUP(AH$16,BKG!$A:$A,BKG!$F:$F,1),""),""),"")
A20: =A19 -> H1 | B20: 0.8 | C20: =IF(C$16<>"",IF(C$28>0,IF(C$28<=(C$29*$B20)=TRUE,_xlfn.XLOOKUP($B20,$52:$52,$53:$53)*_xlfn.XLOOKUP(C$16,BKG!$A:$A,BKG!$F:$F,1),""),""),"") | D20: =IF(D$16<>"",IF(D$28>0,IF(D$28<=(D$29*$B20)=TRUE,_xlfn.XLOOKUP($B20,$52:$52,$53:$53)*_xlfn.XLOOKUP(D$16,BKG!$A:$A,BKG!$F:$F,1),""),""),"") | E20: =IF(E$16<>"",IF(E$28>0,IF(E$28<=(E$29*$B20)=TRUE,_xlfn.XLOOKUP($B20,$52:$52,$53:$53)*_xlfn.XLOOKUP(E$16,BKG!$A:$A,BKG!$F:$F,1),""),""),"") | F20: =IF(F$16<>"",IF(F$28>0,IF(F$28<=(F$29*$B20)=TRUE,_xlfn.XLOOKUP($B20,$52:$52,$53:$53)*_xlfn.XLOOKUP(F$16,BKG!$A:$A,BKG!$F:$F,1),""),""),"") | G20: =IF(G$16<>"",IF(G$28>0,IF(G$28<=(G$29*$B20)=TRUE,_xlfn.XLOOKUP($B20,$52:$52,$53:$53)*_xlfn.XLOOKUP(G$16,BKG!$A:$A,BKG!$F:$F,1),""),""),"") | H20: =IF(H$16<>"",IF(H$28>0,IF(H$28<=(H$29*$B20)=TRUE,_xlfn.XLOOKUP($B20,$52:$52,$53:$53)*_xlfn.XLOOKUP(H$16,BKG!$A:$A,BKG!$F:$F,1),""),""),"") | I20: =IF(I$16<>"",IF(I$28>0,IF(I$28<=(I$29*$B20)=TRUE,_xlfn.XLOOKUP($B20,$52:$52,$53:$53)*_xlfn.XLOOKUP(I$16,BKG!$A:$A,BKG!$F:$F,1),""),""),"") | J20: =IF(J$16<>"",IF(J$28>0,IF(J$28<=(J$29*$B20)=TRUE,_xlfn.XLOOKUP($B20,$52:$52,$53:$53)*_xlfn.XLOOKUP(J$16,BKG!$A:$A,BKG!$F:$F,1),""),""),"") | ... AH20: =IF(AH$16<>"",IF(AH$28>0,IF(AH$28<=(AH$29*$B20)=TRUE,_xlfn.XLOOKUP($B20,$52:$52,$53:$53)*_xlfn.XLOOKUP(AH$16,BKG!$A:$A,BKG!$F:$F,1),""),""),"")
A21: =A20 -> H1 | B21: 0.7 | C21: =IF(C$16<>"",IF(C$28>0,IF(C$28<=(C$29*$B21)=TRUE,_xlfn.XLOOKUP($B21,$52:$52,$53:$53)*_xlfn.XLOOKUP(C$16,BKG!$A:$A,BKG!$F:$F,1),""),""),"") | D21: =IF(D$16<>"",IF(D$28>0,IF(D$28<=(D$29*$B21)=TRUE,_xlfn.XLOOKUP($B21,$52:$52,$53:$53)*_xlfn.XLOOKUP(D$16,BKG!$A:$A,BKG!$F:$F,1),""),""),"") | E21: =IF(E$16<>"",IF(E$28>0,IF(E$28<=(E$29*$B21)=TRUE,_xlfn.XLOOKUP($B21,$52:$52,$53:$53)*_xlfn.XLOOKUP(E$16,BKG!$A:$A,BKG!$F:$F,1),""),""),"") | F21: =IF(F$16<>"",IF(F$28>0,IF(F$28<=(F$29*$B21)=TRUE,_xlfn.XLOOKUP($B21,$52:$52,$53:$53)*_xlfn.XLOOKUP(F$16,BKG!$A:$A,BKG!$F:$F,1),""),""),"") | G21: =IF(G$16<>"",IF(G$28>0,IF(G$28<=(G$29*$B21)=TRUE,_xlfn.XLOOKUP($B21,$52:$52,$53:$53)*_xlfn.XLOOKUP(G$16,BKG!$A:$A,BKG!$F:$F,1),""),""),"") | H21: =IF(H$16<>"",IF(H$28>0,IF(H$28<=(H$29*$B21)=TRUE,_xlfn.XLOOKUP($B21,$52:$52,$53:$53)*_xlfn.XLOOKUP(H$16,BKG!$A:$A,BKG!$F:$F,1),""),""),"") | I21: =IF(I$16<>"",IF(I$28>0,IF(I$28<=(I$29*$B21)=TRUE,_xlfn.XLOOKUP($B21,$52:$52,$53:$53)*_xlfn.XLOOKUP(I$16,BKG!$A:$A,BKG!$F:$F,1),""),""),"") | J21: =IF(J$16<>"",IF(J$28>0,IF(J$28<=(J$29*$B21)=TRUE,_xlfn.XLOOKUP($B21,$52:$52,$53:$53)*_xlfn.XLOOKUP(J$16,BKG!$A:$A,BKG!$F:$F,1),""),""),"") | ... AH21: =IF(AH$16<>"",IF(AH$28>0,IF(AH$28<=(AH$29*$B21)=TRUE,_xlfn.XLOOKUP($B21,$52:$52,$53:$53)*_xlfn.XLOOKUP(AH$16,BKG!$A:$A,BKG!$F:$F,1),""),""),"")
A22: =A21 -> H1 | B22: 0.6 | C22: =IF(C$16<>"",IF(C$28>0,IF(C$28<=(C$29*$B22)=TRUE,_xlfn.XLOOKUP($B22,$52:$52,$53:$53)*_xlfn.XLOOKUP(C$16,BKG!$A:$A,BKG!$F:$F,1),""),""),"") | D22: =IF(D$16<>"",IF(D$28>0,IF(D$28<=(D$29*$B22)=TRUE,_xlfn.XLOOKUP($B22,$52:$52,$53:$53)*_xlfn.XLOOKUP(D$16,BKG!$A:$A,BKG!$F:$F,1),""),""),"") | E22: =IF(E$16<>"",IF(E$28>0,IF(E$28<=(E$29*$B22)=TRUE,_xlfn.XLOOKUP($B22,$52:$52,$53:$53)*_xlfn.XLOOKUP(E$16,BKG!$A:$A,BKG!$F:$F,1),""),""),"") | F22: =IF(F$16<>"",IF(F$28>0,IF(F$28<=(F$29*$B22)=TRUE,_xlfn.XLOOKUP($B22,$52:$52,$53:$53)*_xlfn.XLOOKUP(F$16,BKG!$A:$A,BKG!$F:$F,1),""),""),"") | G22: =IF(G$16<>"",IF(G$28>0,IF(G$28<=(G$29*$B22)=TRUE,_xlfn.XLOOKUP($B22,$52:$52,$53:$53)*_xlfn.XLOOKUP(G$16,BKG!$A:$A,BKG!$F:$F,1),""),""),"") | H22: =IF(H$16<>"",IF(H$28>0,IF(H$28<=(H$29*$B22)=TRUE,_xlfn.XLOOKUP($B22,$52:$52,$53:$53)*_xlfn.XLOOKUP(H$16,BKG!$A:$A,BKG!$F:$F,1),""),""),"") | I22: =IF(I$16<>"",IF(I$28>0,IF(I$28<=(I$29*$B22)=TRUE,_xlfn.XLOOKUP($B22,$52:$52,$53:$53)*_xlfn.XLOOKUP(I$16,BKG!$A:$A,BKG!$F:$F,1),""),""),"") | J22: =IF(J$16<>"",IF(J$28>0,IF(J$28<=(J$29*$B22)=TRUE,_xlfn.XLOOKUP($B22,$52:$52,$53:$53)*_xlfn.XLOOKUP(J$16,BKG!$A:$A,BKG!$F:$F,1),""),""),"") | ... AH22: =IF(AH$16<>"",IF(AH$28>0,IF(AH$28<=(AH$29*$B22)=TRUE,_xlfn.XLOOKUP($B22,$52:$52,$53:$53)*_xlfn.XLOOKUP(AH$16,BKG!$A:$A,BKG!$F:$F,1),""),""),"")
A23: =A22 -> H1 | B23: 0.5 | C23: =IF(C$16<>"",IF(C$28>0,IF(C$28<=(C$29*$B23)=TRUE,_xlfn.XLOOKUP($B23,$52:$52,$53:$53)*_xlfn.XLOOKUP(C$16,BKG!$A:$A,BKG!$F:$F,1),""),""),"") | D23: =IF(D$16<>"",IF(D$28>0,IF(D$28<=(D$29*$B23)=TRUE,_xlfn.XLOOKUP($B23,$52:$52,$53:$53)*_xlfn.XLOOKUP(D$16,BKG!$A:$A,BKG!$F:$F,1),""),""),"") | E23: =IF(E$16<>"",IF(E$28>0,IF(E$28<=(E$29*$B23)=TRUE,_xlfn.XLOOKUP($B23,$52:$52,$53:$53)*_xlfn.XLOOKUP(E$16,BKG!$A:$A,BKG!$F:$F,1),""),""),"") | F23: =IF(F$16<>"",IF(F$28>0,IF(F$28<=(F$29*$B23)=TRUE,_xlfn.XLOOKUP($B23,$52:$52,$53:$53)*_xlfn.XLOOKUP(F$16,BKG!$A:$A,BKG!$F:$F,1),""),""),"") | G23: =IF(G$16<>"",IF(G$28>0,IF(G$28<=(G$29*$B23)=TRUE,_xlfn.XLOOKUP($B23,$52:$52,$53:$53)*_xlfn.XLOOKUP(G$16,BKG!$A:$A,BKG!$F:$F,1),""),""),"") | H23: =IF(H$16<>"",IF(H$28>0,IF(H$28<=(H$29*$B23)=TRUE,_xlfn.XLOOKUP($B23,$52:$52,$53:$53)*_xlfn.XLOOKUP(H$16,BKG!$A:$A,BKG!$F:$F,1),""),""),"") | I23: =IF(I$16<>"",IF(I$28>0,IF(I$28<=(I$29*$B23)=TRUE,_xlfn.XLOOKUP($B23,$52:$52,$53:$53)*_xlfn.XLOOKUP(I$16,BKG!$A:$A,BKG!$F:$F,1),""),""),"") | J23: =IF(J$16<>"",IF(J$28>0,IF(J$28<=(J$29*$B23)=TRUE,_xlfn.XLOOKUP($B23,$52:$52,$53:$53)*_xlfn.XLOOKUP(J$16,BKG!$A:$A,BKG!$F:$F,1),""),""),"") | ... AH23: =IF(AH$16<>"",IF(AH$28>0,IF(AH$28<=(AH$29*$B23)=TRUE,_xlfn.XLOOKUP($B23,$52:$52,$53:$53)*_xlfn.XLOOKUP(AH$16,BKG!$A:$A,BKG!$F:$F,1),""),""),"")
A25: Punten: | C25: =MAX(C18:C23) -> 0 | D25: =MAX(D18:D23) -> 0 | E25: =MAX(E18:E23) -> 0 | F25: =MAX(F18:F23) -> 0 | G25: =MAX(G18:G23) -> 0 | H25: =MAX(H18:H23) -> 0 | I25: =MAX(I18:I23) -> 0 | J25: =MAX(J18:J23) -> 0 | ... AH25: =MAX(AH18:AH23) -> 0
A26: Totaal: | B26: =SUM(C25:AS25) -> 0 | C26: *Hoogste Punt per Element Wordt Gebruikt
C28: =IF(C$1<>"",INDEX('Invoer RG'!$1:$1048576,MATCH('Herhaalbaarheid RG'!$A18,'Invoer RG'!$A:$A,0),MATCH('Herhaalbaarheid RG'!C$1,'Invoer RG'!$2:$2,0)),"") -> 0 | D28: =IF(D$1<>"",INDEX('Invoer RG'!$1:$1048576,MATCH('Herhaalbaarheid RG'!$A18,'Invoer RG'!$A:$A,0),MATCH('Herhaalbaarheid RG'!D$1,'Invoer RG'!$2:$2,0)),"") -> 0 | E28: =IF(E$1<>"",INDEX('Invoer RG'!$1:$1048576,MATCH('Herhaalbaarheid RG'!$A18,'Invoer RG'!$A:$A,0),MATCH('Herhaalbaarheid RG'!E$1,'Invoer RG'!$2:$2,0)),"") -> 0 | F28: =IF(F$1<>"",INDEX('Invoer RG'!$1:$1048576,MATCH('Herhaalbaarheid RG'!$A18,'Invoer RG'!$A:$A,0),MATCH('Herhaalbaarheid RG'!F$1,'Invoer RG'!$2:$2,0)),"") -> 0 | G28: =IF(G$1<>"",INDEX('Invoer RG'!$1:$1048576,MATCH('Herhaalbaarheid RG'!$A18,'Invoer RG'!$A:$A,0),MATCH('Herhaalbaarheid RG'!G$1,'Invoer RG'!$2:$2,0)),"") -> 0 | H28: =IF(H$1<>"",INDEX('Invoer RG'!$1:$1048576,MATCH('Herhaalbaarheid RG'!$A18,'Invoer RG'!$A:$A,0),MATCH('Herhaalbaarheid RG'!H$1,'Invoer RG'!$2:$2,0)),"") -> 0 | I28: =IF(I$1<>"",INDEX('Invoer RG'!$1:$1048576,MATCH('Herhaalbaarheid RG'!$A18,'Invoer RG'!$A:$A,0),MATCH('Herhaalbaarheid RG'!I$1,'Invoer RG'!$2:$2,0)),"") -> 0 | J28: =IF(J$1<>"",INDEX('Invoer RG'!$1:$1048576,MATCH('Herhaalbaarheid RG'!$A18,'Invoer RG'!$A:$A,0),MATCH('Herhaalbaarheid RG'!J$1,'Invoer RG'!$2:$2,0)),"") -> 0 | ... AH28: =IF(AH$1<>"",INDEX('Invoer RG'!$1:$1048576,MATCH('Herhaalbaarheid RG'!$A18,'Invoer RG'!$A:$A,0),MATCH('Herhaalbaarheid RG'!AH$1,'Invoer RG'!$2:$2,0)),"") -> 0
C29: =_xlfn.XLOOKUP(C$1,BKG!$A:$A,BKG!$D:$D) -> 0.0003 | D29: =_xlfn.XLOOKUP(D$1,BKG!$A:$A,BKG!$D:$D) -> 0.1 | E29: =_xlfn.XLOOKUP(E$1,BKG!$A:$A,BKG!$D:$D) -> 0.01 | F29: =_xlfn.XLOOKUP(F$1,BKG!$A:$A,BKG!$D:$D) -> 0.1 | G29: =_xlfn.XLOOKUP(G$1,BKG!$A:$A,BKG!$D:$D) -> 0.05 | H29: =_xlfn.XLOOKUP(H$1,BKG!$A:$A,BKG!$D:$D) -> 0.003 | I29: =_xlfn.XLOOKUP(I$1,BKG!$A:$A,BKG!$D:$D) -> 0.05 | J29: =_xlfn.XLOOKUP(J$1,BKG!$A:$A,BKG!$D:$D) -> 1 | ... AH29: =_xlfn.XLOOKUP(AH$1,BKG!$A:$A,BKG!$D:$D) -> 0.1
B31: Element | C31: =IF(BKG!M$1<>"",BKG!M$1,"") -> Ag | D31: =IF(BKG!N$1<>"",BKG!N$1,"") -> Al | E31: =IF(BKG!O$1<>"",BKG!O$1,"") -> As | F31: =IF(BKG!P$1<>"",BKG!P$1,"") -> B | G31: =IF(BKG!Q$1<>"",BKG!Q$1,"") -> Ba | H31: =IF(BKG!R$1<>"",BKG!R$1,"") -> Be | I31: =IF(BKG!S$1<>"",BKG!S$1,"") -> Bi | J31: =IF(BKG!T$1<>"",BKG!T$1,"") -> Ca | ... AH31: =IF(BKG!AR$1<>"",BKG!AR$1,"") -> Zn
A32: Sample | B32: (µg/l) | C32: =IF(_xlfn.XLOOKUP(C$1,BKG!$A:$A,BKG!$B:$B)=0,"",_xlfn.XLOOKUP(C$1,BKG!$A:$A,BKG!$B:$B)) -> Zilver | D32: =IF(_xlfn.XLOOKUP(D$1,BKG!$A:$A,BKG!$B:$B)=0,"",_xlfn.XLOOKUP(D$1,BKG!$A:$A,BKG!$B:$B)) -> Aluminium | E32: =IF(_xlfn.XLOOKUP(E$1,BKG!$A:$A,BKG!$B:$B)=0,"",_xlfn.XLOOKUP(E$1,BKG!$A:$A,BKG!$B:$B)) -> Arseen | F32: =IF(_xlfn.XLOOKUP(F$1,BKG!$A:$A,BKG!$B:$B)=0,"",_xlfn.XLOOKUP(F$1,BKG!$A:$A,BKG!$B:$B)) -> Boor | G32: =IF(_xlfn.XLOOKUP(G$1,BKG!$A:$A,BKG!$B:$B)=0,"",_xlfn.XLOOKUP(G$1,BKG!$A:$A,BKG!$B:$B)) -> Barium | H32: =IF(_xlfn.XLOOKUP(H$1,BKG!$A:$A,BKG!$B:$B)=0,"",_xlfn.XLOOKUP(H$1,BKG!$A:$A,BKG!$B:$B)) -> Beryllium | I32: =IF(_xlfn.XLOOKUP(I$1,BKG!$A:$A,BKG!$B:$B)=0,"",_xlfn.XLOOKUP(I$1,BKG!$A:$A,BKG!$B:$B)) -> Bismuth | J32: =IF(_xlfn.XLOOKUP(J$1,BKG!$A:$A,BKG!$B:$B)=0,"",_xlfn.XLOOKUP(J$1,BKG!$A:$A,BKG!$B:$B)) -> Calcium | ... AH32: =IF(_xlfn.XLOOKUP(AH$1,BKG!$A:$A,BKG!$B:$B)=0,"",_xlfn.XLOOKUP(AH$1,BKG!$A:$A,BKG!$B:$B)) -> Zink
A33: ='Invoer RG'!A6 -> H2 | B33: {=_xlfn.WRAPROWS($B$52:$G$52,1)} -> 1 | C33: =IF(C$31<>"",IF(C$43>0,IF(C$43<=(C$44*$B33)=TRUE,_xlfn.XLOOKUP($B33,$52:$52,$53:$53)*_xlfn.XLOOKUP(C$31,BKG!$A:$A,BKG!$F:$F,1),""),""),"") | D33: =IF(D$31<>"",IF(D$43>0,IF(D$43<=(D$44*$B33)=TRUE,_xlfn.XLOOKUP($B33,$52:$52,$53:$53)*_xlfn.XLOOKUP(D$31,BKG!$A:$A,BKG!$F:$F,1),""),""),"") | E33: =IF(E$31<>"",IF(E$43>0,IF(E$43<=(E$44*$B33)=TRUE,_xlfn.XLOOKUP($B33,$52:$52,$53:$53)*_xlfn.XLOOKUP(E$31,BKG!$A:$A,BKG!$F:$F,1),""),""),"") | F33: =IF(F$31<>"",IF(F$43>0,IF(F$43<=(F$44*$B33)=TRUE,_xlfn.XLOOKUP($B33,$52:$52,$53:$53)*_xlfn.XLOOKUP(F$31,BKG!$A:$A,BKG!$F:$F,1),""),""),"") | G33: =IF(G$31<>"",IF(G$43>0,IF(G$43<=(G$44*$B33)=TRUE,_xlfn.XLOOKUP($B33,$52:$52,$53:$53)*_xlfn.XLOOKUP(G$31,BKG!$A:$A,BKG!$F:$F,1),""),""),"") | H33: =IF(H$31<>"",IF(H$43>0,IF(H$43<=(H$44*$B33)=TRUE,_xlfn.XLOOKUP($B33,$52:$52,$53:$53)*_xlfn.XLOOKUP(H$31,BKG!$A:$A,BKG!$F:$F,1),""),""),"") | I33: =IF(I$31<>"",IF(I$43>0,IF(I$43<=(I$44*$B33)=TRUE,_xlfn.XLOOKUP($B33,$52:$52,$53:$53)*_xlfn.XLOOKUP(I$31,BKG!$A:$A,BKG!$F:$F,1),""),""),"") | J33: =IF(J$31<>"",IF(J$43>0,IF(J$43<=(J$44*$B33)=TRUE,_xlfn.XLOOKUP($B33,$52:$52,$53:$53)*_xlfn.XLOOKUP(J$31,BKG!$A:$A,BKG!$F:$F,1),""),""),"") | ... AH33: =IF(AH$31<>"",IF(AH$43>0,IF(AH$43<=(AH$44*$B33)=TRUE,_xlfn.XLOOKUP($B33,$52:$52,$53:$53)*_xlfn.XLOOKUP(AH$31,BKG!$A:$A,BKG!$F:$F,1),""),""),"")
A34: =A33 -> H2 | B34: 0.9 | C34: =IF(C$31<>"",IF(C$43>0,IF(C$43<=(C$44*$B34)=TRUE,_xlfn.XLOOKUP($B34,$52:$52,$53:$53)*_xlfn.XLOOKUP(C$31,BKG!$A:$A,BKG!$F:$F,1),""),""),"") | D34: =IF(D$31<>"",IF(D$43>0,IF(D$43<=(D$44*$B34)=TRUE,_xlfn.XLOOKUP($B34,$52:$52,$53:$53)*_xlfn.XLOOKUP(D$31,BKG!$A:$A,BKG!$F:$F,1),""),""),"") | E34: =IF(E$31<>"",IF(E$43>0,IF(E$43<=(E$44*$B34)=TRUE,_xlfn.XLOOKUP($B34,$52:$52,$53:$53)*_xlfn.XLOOKUP(E$31,BKG!$A:$A,BKG!$F:$F,1),""),""),"") | F34: =IF(F$31<>"",IF(F$43>0,IF(F$43<=(F$44*$B34)=TRUE,_xlfn.XLOOKUP($B34,$52:$52,$53:$53)*_xlfn.XLOOKUP(F$31,BKG!$A:$A,BKG!$F:$F,1),""),""),"") | G34: =IF(G$31<>"",IF(G$43>0,IF(G$43<=(G$44*$B34)=TRUE,_xlfn.XLOOKUP($B34,$52:$52,$53:$53)*_xlfn.XLOOKUP(G$31,BKG!$A:$A,BKG!$F:$F,1),""),""),"") | H34: =IF(H$31<>"",IF(H$43>0,IF(H$43<=(H$44*$B34)=TRUE,_xlfn.XLOOKUP($B34,$52:$52,$53:$53)*_xlfn.XLOOKUP(H$31,BKG!$A:$A,BKG!$F:$F,1),""),""),"") | I34: =IF(I$31<>"",IF(I$43>0,IF(I$43<=(I$44*$B34)=TRUE,_xlfn.XLOOKUP($B34,$52:$52,$53:$53)*_xlfn.XLOOKUP(I$31,BKG!$A:$A,BKG!$F:$F,1),""),""),"") | J34: =IF(J$31<>"",IF(J$43>0,IF(J$43<=(J$44*$B34)=TRUE,_xlfn.XLOOKUP($B34,$52:$52,$53:$53)*_xlfn.XLOOKUP(J$31,BKG!$A:$A,BKG!$F:$F,1),""),""),"") | ... AH34: =IF(AH$31<>"",IF(AH$43>0,IF(AH$43<=(AH$44*$B34)=TRUE,_xlfn.XLOOKUP($B34,$52:$52,$53:$53)*_xlfn.XLOOKUP(AH$31,BKG!$A:$A,BKG!$F:$F,1),""),""),"")
A35: =A34 -> H2 | B35: 0.8 | C35: =IF(C$31<>"",IF(C$43>0,IF(C$43<=(C$44*$B35)=TRUE,_xlfn.XLOOKUP($B35,$52:$52,$53:$53)*_xlfn.XLOOKUP(C$31,BKG!$A:$A,BKG!$F:$F,1),""),""),"") | D35: =IF(D$31<>"",IF(D$43>0,IF(D$43<=(D$44*$B35)=TRUE,_xlfn.XLOOKUP($B35,$52:$52,$53:$53)*_xlfn.XLOOKUP(D$31,BKG!$A:$A,BKG!$F:$F,1),""),""),"") | E35: =IF(E$31<>"",IF(E$43>0,IF(E$43<=(E$44*$B35)=TRUE,_xlfn.XLOOKUP($B35,$52:$52,$53:$53)*_xlfn.XLOOKUP(E$31,BKG!$A:$A,BKG!$F:$F,1),""),""),"") | F35: =IF(F$31<>"",IF(F$43>0,IF(F$43<=(F$44*$B35)=TRUE,_xlfn.XLOOKUP($B35,$52:$52,$53:$53)*_xlfn.XLOOKUP(F$31,BKG!$A:$A,BKG!$F:$F,1),""),""),"") | G35: =IF(G$31<>"",IF(G$43>0,IF(G$43<=(G$44*$B35)=TRUE,_xlfn.XLOOKUP($B35,$52:$52,$53:$53)*_xlfn.XLOOKUP(G$31,BKG!$A:$A,BKG!$F:$F,1),""),""),"") | H35: =IF(H$31<>"",IF(H$43>0,IF(H$43<=(H$44*$B35)=TRUE,_xlfn.XLOOKUP($B35,$52:$52,$53:$53)*_xlfn.XLOOKUP(H$31,BKG!$A:$A,BKG!$F:$F,1),""),""),"") | I35: =IF(I$31<>"",IF(I$43>0,IF(I$43<=(I$44*$B35)=TRUE,_xlfn.XLOOKUP($B35,$52:$52,$53:$53)*_xlfn.XLOOKUP(I$31,BKG!$A:$A,BKG!$F:$F,1),""),""),"") | J35: =IF(J$31<>"",IF(J$43>0,IF(J$43<=(J$44*$B35)=TRUE,_xlfn.XLOOKUP($B35,$52:$52,$53:$53)*_xlfn.XLOOKUP(J$31,BKG!$A:$A,BKG!$F:$F,1),""),""),"") | ... AH35: =IF(AH$31<>"",IF(AH$43>0,IF(AH$43<=(AH$44*$B35)=TRUE,_xlfn.XLOOKUP($B35,$52:$52,$53:$53)*_xlfn.XLOOKUP(AH$31,BKG!$A:$A,BKG!$F:$F,1),""),""),"")
A36: =A35 -> H2 | B36: 0.7 | C36: =IF(C$31<>"",IF(C$43>0,IF(C$43<=(C$44*$B36)=TRUE,_xlfn.XLOOKUP($B36,$52:$52,$53:$53)*_xlfn.XLOOKUP(C$31,BKG!$A:$A,BKG!$F:$F,1),""),""),"") | D36: =IF(D$31<>"",IF(D$43>0,IF(D$43<=(D$44*$B36)=TRUE,_xlfn.XLOOKUP($B36,$52:$52,$53:$53)*_xlfn.XLOOKUP(D$31,BKG!$A:$A,BKG!$F:$F,1),""),""),"") | E36: =IF(E$31<>"",IF(E$43>0,IF(E$43<=(E$44*$B36)=TRUE,_xlfn.XLOOKUP($B36,$52:$52,$53:$53)*_xlfn.XLOOKUP(E$31,BKG!$A:$A,BKG!$F:$F,1),""),""),"") | F36: =IF(F$31<>"",IF(F$43>0,IF(F$43<=(F$44*$B36)=TRUE,_xlfn.XLOOKUP($B36,$52:$52,$53:$53)*_xlfn.XLOOKUP(F$31,BKG!$A:$A,BKG!$F:$F,1),""),""),"") | G36: =IF(G$31<>"",IF(G$43>0,IF(G$43<=(G$44*$B36)=TRUE,_xlfn.XLOOKUP($B36,$52:$52,$53:$53)*_xlfn.XLOOKUP(G$31,BKG!$A:$A,BKG!$F:$F,1),""),""),"") | H36: =IF(H$31<>"",IF(H$43>0,IF(H$43<=(H$44*$B36)=TRUE,_xlfn.XLOOKUP($B36,$52:$52,$53:$53)*_xlfn.XLOOKUP(H$31,BKG!$A:$A,BKG!$F:$F,1),""),""),"") | I36: =IF(I$31<>"",IF(I$43>0,IF(I$43<=(I$44*$B36)=TRUE,_xlfn.XLOOKUP($B36,$52:$52,$53:$53)*_xlfn.XLOOKUP(I$31,BKG!$A:$A,BKG!$F:$F,1),""),""),"") | J36: =IF(J$31<>"",IF(J$43>0,IF(J$43<=(J$44*$B36)=TRUE,_xlfn.XLOOKUP($B36,$52:$52,$53:$53)*_xlfn.XLOOKUP(J$31,BKG!$A:$A,BKG!$F:$F,1),""),""),"") | ... AH36: =IF(AH$31<>"",IF(AH$43>0,IF(AH$43<=(AH$44*$B36)=TRUE,_xlfn.XLOOKUP($B36,$52:$52,$53:$53)*_xlfn.XLOOKUP(AH$31,BKG!$A:$A,BKG!$F:$F,1),""),""),"")
A37: =A36 -> H2 | B37: 0.6 | C37: =IF(C$31<>"",IF(C$43>0,IF(C$43<=(C$44*$B37)=TRUE,_xlfn.XLOOKUP($B37,$52:$52,$53:$53)*_xlfn.XLOOKUP(C$31,BKG!$A:$A,BKG!$F:$F,1),""),""),"") | D37: =IF(D$31<>"",IF(D$43>0,IF(D$43<=(D$44*$B37)=TRUE,_xlfn.XLOOKUP($B37,$52:$52,$53:$53)*_xlfn.XLOOKUP(D$31,BKG!$A:$A,BKG!$F:$F,1),""),""),"") | E37: =IF(E$31<>"",IF(E$43>0,IF(E$43<=(E$44*$B37)=TRUE,_xlfn.XLOOKUP($B37,$52:$52,$53:$53)*_xlfn.XLOOKUP(E$31,BKG!$A:$A,BKG!$F:$F,1),""),""),"") | F37: =IF(F$31<>"",IF(F$43>0,IF(F$43<=(F$44*$B37)=TRUE,_xlfn.XLOOKUP($B37,$52:$52,$53:$53)*_xlfn.XLOOKUP(F$31,BKG!$A:$A,BKG!$F:$F,1),""),""),"") | G37: =IF(G$31<>"",IF(G$43>0,IF(G$43<=(G$44*$B37)=TRUE,_xlfn.XLOOKUP($B37,$52:$52,$53:$53)*_xlfn.XLOOKUP(G$31,BKG!$A:$A,BKG!$F:$F,1),""),""),"") | H37: =IF(H$31<>"",IF(H$43>0,IF(H$43<=(H$44*$B37)=TRUE,_xlfn.XLOOKUP($B37,$52:$52,$53:$53)*_xlfn.XLOOKUP(H$31,BKG!$A:$A,BKG!$F:$F,1),""),""),"") | I37: =IF(I$31<>"",IF(I$43>0,IF(I$43<=(I$44*$B37)=TRUE,_xlfn.XLOOKUP($B37,$52:$52,$53:$53)*_xlfn.XLOOKUP(I$31,BKG!$A:$A,BKG!$F:$F,1),""),""),"") | J37: =IF(J$31<>"",IF(J$43>0,IF(J$43<=(J$44*$B37)=TRUE,_xlfn.XLOOKUP($B37,$52:$52,$53:$53)*_xlfn.XLOOKUP(J$31,BKG!$A:$A,BKG!$F:$F,1),""),""),"") | ... AH37: =IF(AH$31<>"",IF(AH$43>0,IF(AH$43<=(AH$44*$B37)=TRUE,_xlfn.XLOOKUP($B37,$52:$52,$53:$53)*_xlfn.XLOOKUP(AH$31,BKG!$A:$A,BKG!$F:$F,1),""),""),"")
A38: =A37 -> H2 | B38: 0.5 | C38: =IF(C$31<>"",IF(C$43>0,IF(C$43<=(C$44*$B38)=TRUE,_xlfn.XLOOKUP($B38,$52:$52,$53:$53)*_xlfn.XLOOKUP(C$31,BKG!$A:$A,BKG!$F:$F,1),""),""),"") | D38: =IF(D$31<>"",IF(D$43>0,IF(D$43<=(D$44*$B38)=TRUE,_xlfn.XLOOKUP($B38,$52:$52,$53:$53)*_xlfn.XLOOKUP(D$31,BKG!$A:$A,BKG!$F:$F,1),""),""),"") | E38: =IF(E$31<>"",IF(E$43>0,IF(E$43<=(E$44*$B38)=TRUE,_xlfn.XLOOKUP($B38,$52:$52,$53:$53)*_xlfn.XLOOKUP(E$31,BKG!$A:$A,BKG!$F:$F,1),""),""),"") | F38: =IF(F$31<>"",IF(F$43>0,IF(F$43<=(F$44*$B38)=TRUE,_xlfn.XLOOKUP($B38,$52:$52,$53:$53)*_xlfn.XLOOKUP(F$31,BKG!$A:$A,BKG!$F:$F,1),""),""),"") | G38: =IF(G$31<>"",IF(G$43>0,IF(G$43<=(G$44*$B38)=TRUE,_xlfn.XLOOKUP($B38,$52:$52,$53:$53)*_xlfn.XLOOKUP(G$31,BKG!$A:$A,BKG!$F:$F,1),""),""),"") | H38: =IF(H$31<>"",IF(H$43>0,IF(H$43<=(H$44*$B38)=TRUE,_xlfn.XLOOKUP($B38,$52:$52,$53:$53)*_xlfn.XLOOKUP(H$31,BKG!$A:$A,BKG!$F:$F,1),""),""),"") | I38: =IF(I$31<>"",IF(I$43>0,IF(I$43<=(I$44*$B38)=TRUE,_xlfn.XLOOKUP($B38,$52:$52,$53:$53)*_xlfn.XLOOKUP(I$31,BKG!$A:$A,BKG!$F:$F,1),""),""),"") | J38: =IF(J$31<>"",IF(J$43>0,IF(J$43<=(J$44*$B38)=TRUE,_xlfn.XLOOKUP($B38,$52:$52,$53:$53)*_xlfn.XLOOKUP(J$31,BKG!$A:$A,BKG!$F:$F,1),""),""),"") | ... AH38: =IF(AH$31<>"",IF(AH$43>0,IF(AH$43<=(AH$44*$B38)=TRUE,_xlfn.XLOOKUP($B38,$52:$52,$53:$53)*_xlfn.XLOOKUP(AH$31,BKG!$A:$A,BKG!$F:$F,1),""),""),"")
A40: Punten: | C40: =MAX(C33:C38) -> 0 | D40: =MAX(D33:D38) -> 0 | E40: =MAX(E33:E38) -> 0 | F40: =MAX(F33:F38) -> 0 | G40: =MAX(G33:G38) -> 0 | H40: =MAX(H33:H38) -> 0 | I40: =MAX(I33:I38) -> 0 | J40: =MAX(J33:J38) -> 0 | ... AH40: =MAX(AH33:AH38) -> 0
A41: Totaal: | B41: =SUM(C40:AS40) -> 0 | C41: *Hoogste Punt per Element Wordt Gebruikt
C43: =IF(C$1<>"",INDEX('Invoer RG'!$1:$1048576,MATCH('Herhaalbaarheid RG'!$A33,'Invoer RG'!$A:$A,0),MATCH('Herhaalbaarheid RG'!C$1,'Invoer RG'!$2:$2,0)),"") -> 0 | D43: =IF(D$1<>"",INDEX('Invoer RG'!$1:$1048576,MATCH('Herhaalbaarheid RG'!$A33,'Invoer RG'!$A:$A,0),MATCH('Herhaalbaarheid RG'!D$1,'Invoer RG'!$2:$2,0)),"") -> 0 | E43: =IF(E$1<>"",INDEX('Invoer RG'!$1:$1048576,MATCH('Herhaalbaarheid RG'!$A33,'Invoer RG'!$A:$A,0),MATCH('Herhaalbaarheid RG'!E$1,'Invoer RG'!$2:$2,0)),"") -> 0 | F43: =IF(F$1<>"",INDEX('Invoer RG'!$1:$1048576,MATCH('Herhaalbaarheid RG'!$A33,'Invoer RG'!$A:$A,0),MATCH('Herhaalbaarheid RG'!F$1,'Invoer RG'!$2:$2,0)),"") -> 0 | G43: =IF(G$1<>"",INDEX('Invoer RG'!$1:$1048576,MATCH('Herhaalbaarheid RG'!$A33,'Invoer RG'!$A:$A,0),MATCH('Herhaalbaarheid RG'!G$1,'Invoer RG'!$2:$2,0)),"") -> 0 | H43: =IF(H$1<>"",INDEX('Invoer RG'!$1:$1048576,MATCH('Herhaalbaarheid RG'!$A33,'Invoer RG'!$A:$A,0),MATCH('Herhaalbaarheid RG'!H$1,'Invoer RG'!$2:$2,0)),"") -> 0 | I43: =IF(I$1<>"",INDEX('Invoer RG'!$1:$1048576,MATCH('Herhaalbaarheid RG'!$A33,'Invoer RG'!$A:$A,0),MATCH('Herhaalbaarheid RG'!I$1,'Invoer RG'!$2:$2,0)),"") -> 0 | J43: =IF(J$1<>"",INDEX('Invoer RG'!$1:$1048576,MATCH('Herhaalbaarheid RG'!$A33,'Invoer RG'!$A:$A,0),MATCH('Herhaalbaarheid RG'!J$1,'Invoer RG'!$2:$2,0)),"") -> 0 | ... AH43: =IF(AH$1<>"",INDEX('Invoer RG'!$1:$1048576,MATCH('Herhaalbaarheid RG'!$A33,'Invoer RG'!$A:$A,0),MATCH('Herhaalbaarheid RG'!AH$1,'Invoer RG'!$2:$2,0)),"") -> 0
C44: =_xlfn.XLOOKUP(C$1,BKG!$A:$A,BKG!$D:$D) -> 0.0003 | D44: =_xlfn.XLOOKUP(D$1,BKG!$A:$A,BKG!$D:$D) -> 0.1 | E44: =_xlfn.XLOOKUP(E$1,BKG!$A:$A,BKG!$D:$D) -> 0.01 | F44: =_xlfn.XLOOKUP(F$1,BKG!$A:$A,BKG!$D:$D) -> 0.1 | G44: =_xlfn.XLOOKUP(G$1,BKG!$A:$A,BKG!$D:$D) -> 0.05 | H44: =_xlfn.XLOOKUP(H$1,BKG!$A:$A,BKG!$D:$D) -> 0.003 | I44: =_xlfn.XLOOKUP(I$1,BKG!$A:$A,BKG!$D:$D) -> 0.05 | J44: =_xlfn.XLOOKUP(J$1,BKG!$A:$A,BKG!$D:$D) -> 1 | ... AH44: =_xlfn.XLOOKUP(AH$1,BKG!$A:$A,BKG!$D:$D) -> 0.1
A46: Totaal: | B46: {=SUM(_xlfn._xlws.FILTER($B$1:$B45,$A$1:$A45="Totaal:"))} -> 0 | C46: =OR(C33=0,C18=0,C3=0) -> FALSE | D46: =OR(D33=0,D18=0,D3=0) -> FALSE | E46: =OR(E33=0,E18=0,E3=0) -> FALSE | F46: =OR(F33=0,F18=0,F3=0) -> FALSE | G46: =OR(G33=0,G18=0,G3=0) -> FALSE | H46: =OR(H33=0,H18=0,H3=0) -> FALSE | I46: =OR(I33=0,I18=0,I3=0) -> FALSE | J46: =OR(J33=0,J18=0,J3=0) -> FALSE | ... AH46: =OR(AH33=0,AH18=0,AH3=0) -> FALSE
B52: 1 | C52: =$G$52+$G$58*C54 -> 0.9 | D52: =$G$52+$G$58*D54 -> 0.8 | E52: =$G$52+$G$58*E54 -> 0.7 | F52: =$G$52+$G$58*F54 -> 0.6 | G52: 0.5
A53: Pnt Bons | B53: 0 | C53: =_xlfn.XLOOKUP(MIN($52:$52),$52:$52,$53:$53)*((100%-C$52)*2) -> 0.41666667 | D53: =_xlfn.XLOOKUP(MIN($52:$52),$52:$52,$53:$53)*((100%-D$52)*2) -> 0.83333333 | E53: =_xlfn.XLOOKUP(MIN($52:$52),$52:$52,$53:$53)*((100%-E$52)*2) -> 1.25 | F53: =_xlfn.XLOOKUP(MIN($52:$52),$52:$52,$53:$53)*((100%-F$52)*2) -> 1.6666667 | G53: =BKG!$H$2/COUNTA($C$1:$BZ$1)/COUNTA('Invoer RG'!A4:A6) -> 2.0833333
B54: 5 | C54: 4 | D54: 3 | E54: 2 | F54: 1 | G54: 0
...

Sheet Invoer Samples
B1: Element | C1: =IF(BKG!M1<>"",BKG!M1,"") -> Ag | D1: =IF(BKG!N1<>"",BKG!N1,"") -> Al | E1: =IF(BKG!O1<>"",BKG!O1,"") -> As | F1: =IF(BKG!P1<>"",BKG!P1,"") -> B | G1: =IF(BKG!Q1<>"",BKG!Q1,"") -> Ba | H1: =IF(BKG!R1<>"",BKG!R1,"") -> Be | I1: =IF(BKG!S1<>"",BKG!S1,"") -> Bi | J1: =IF(BKG!T1<>"",BKG!T1,"") -> Ca | ... BB1: =IF(BKG!BL1<>"",BKG!BL1,"")
A2: #
A3: M1
A4: M2
A5: M3

Sheet Invoer RG
A1: Herhaalbaarheid Test | E1: # Getallen hoger dan 0 invoeren
