Workbook

Sheet Instructies
C1: Toelichting prijzenblad Mini-perscontainers
C3: U vult alle gele cellen in. Inschrijfprijzen zijn excl. btw
C5: Uitgangspunten bij het opstellen van het prijzenblad
C6: Inschrijvers geven voor de pers-systemen en de gfe-containers één of twee mogelijkheden op in regels 8, 9, 10 en 11.
C7: Dit is mogelijk gemaakt om flexibiliteit te bieden in de oplossingen voor verschillende gebouwen met o.a. andere technische vereisten.
C8: Het is mogelijk om een ander systeem te gebruiken voor gfe ten opzichte van het systeem voor restafval en papier en karton.
C9: Per locatie (bouwblok) wordt er voor restafval en papier en karton dezelfde perscontainer ingezet. Het is niet mogelijk 2 typen containers te combineren.
C10: De tabel werkt met vaststaande cijfers voor bepaalde informatie, zoals het soortelijk gewicht en de verdichtingsgraad per fractie.
C12: Invulinstructies
C13: In de tabel kan per locatie een systeem gekozen worden.
C14: Daarna kan per locatie en systeem het aantal in te zetten containers bepaald worden.
C15: Let er op dat dit aantal past in de beschreven ruimtes per locatie.
... C21: Als de tabel geen totaalprijs geeft missen er nog gegevens of is de capaciteit van de containers op een locatie te laag.

Sheet Prijzenblad
C1: Prijzenblad Mini-perscontainers
C3: U vult alle gele cellen in. Inschrijfprijzen zijn excl. btw
C6: Type miniperscontainer | D6: Omschrijving type container en persmechanisme | G6: Inhoud per container* | H6: All-in huurtarief ** per container per jaar | I6: All-in ledigingstarief ** per lediging per container | U6: Tonnage Rest per jaar: | V6: 188 | W6: kilo p.j.p.inwoner
U7: Tonnage OPK per jaar: | V7: 27 | W7: kilo p.j.p.inwoner
C8: Jaarlijks all-in tarief perscontainer (rest en OPK): optie 1 | U8: Tonnage GFE per jaar: | V8: 33 | W8: kilo p.j.p.inwoner
C9: Jaarlijks all-in tarief perscontainer (rest en OPK) : optie 2 | U9: Inwoners per huishouden: | V9: 1.9 | W9: inwoners
C10: Jaarlijks all-in tarief gfe-container: optie 1
C11: Jaarlijks all-in tarief gfe-container : optie 2
C13: * Gebaseerd op de totale capaciteit in aantal m3 per container. Dit is gelijk aan 1000 liter.
C14: ** All-in tarief per container/ cassette, inclusief alle diensten zoals omschreven in de aanbestedingsdocumenten
U16: Kies het type container per gebouw | X16: Kies het type container per gebouw
U17: Containeroptie 1 (zie regel 8) | X17: Containeroptie 1 (zie regel 10)
C18: Locaties* | D18: Aanbod restafval** | E18: Soortelijk gewicht | F18: Verdichtingsfactor | G18: Aanbod: Gewicht naar inhoud | H18: In te zetten type container | I18: Aantal containers | K18: Capaciteit containers o.b.v. 80% | L18: Huur per container p.j. | M18: Containerkosten per jaar | N18: Prijs per lediging | O18: Ledigingen per week*** | P18: Aantal ledigingen per jaar | Q18: Ledigingskosten per jaar | R18: Totale kosten locatie per jaar | U18: Containeroptie 2 (zie regel 9) | X18: Containeroptie 2 (zie regel 11) | AD18: Bedrijfsafval per week
C19: Inzameling en transport van Restafval | G19: = kolom (E/F)/G | Z19: Locaties | AA19: Woningen | AB19: Bedrijfsruimte | AD19: Rest BA | AE19: OPK BA | AF19: pj | AG19: gfe BA | AH19: pj | AI19: Huidig rest | AJ19: Nieuw rest | AK19: Verhoging incl bedrijfsafval | AL19: m2 afvalruimte | AM19: kilo's per m2 | AO19: Oud OPK | AP19: Nieuw OPK | AQ19: Oud gfe | AR19: Nieuw gfe
C20: =Z20 -> Wonderwoods MSVA | D20: 591 | E20: 110 | F20: =$W$27 -> 4 | G20: =(D20/E20)/F20 -> 1.3431818 | K20: =IFERROR(IF(H20="Containeroptie 1 (zie regel 8)",($G$8*0.8)*I20,IF(H20="Containeroptie 2 (zie regel 9)",($G$9*0.8)*I20,"")),"") | L20: =IFERROR(IF(H20="Containeroptie 1 (zie regel 8)",$H$8,IF(H20="Containeroptie 2 (zie regel 9)",$H$9,"")),"") | M20: =IFERROR(L20*I20,"") | N20: =IF(H20="Containeroptie 1 (zie regel 8)",$I$8,IF(H20="Containeroptie 2 (zie regel 9)",$I$9,"")) | O20: =IFERROR((G20/K20),"Vul kolom I en K in") -> Vul kolom I en K in | P20: =IF(O20>2,"Aantal ledigingen onjuist",IFERROR(CEILING((O20*I20)*52,1),"")) -> Aantal ledigingen onjuist | Q20: =IFERROR(P20*N20,"") | R20: =IFERROR(Q20+M20,"") | Z20: Wonderwoods MSVA | AA20: 109 | AB20: 0 | AD20: =AB20*$Z$41 -> 0 | AE20: =AB20*$Z$42 -> 0 | AF20: =AE20*52 -> 0 | AG20: =AB20*$Z$43 -> 0 | AH20: =AG20*52 -> 0 | AI20: 591 | AJ20: =AI20+AD20 -> 591 | AK20: =AJ20/AI20 -> 1 | AL20: 112 | AM20: =AJ20/AL20 -> 5.2767857 | AO20: 85 | AP20: 85 | AQ20: 104 | AR20: 104
C21: =Z21 -> Wonderwoods Boeri | D21: 1681 | E21: =$E$20 -> 110 | F21: =$W$27 -> 4 | G21: =(D21/E21)/F21 -> 3.8204545 | K21: =IFERROR(IF(H21="Containeroptie 1 (zie regel 8)",($G$8*0.8)*I21,IF(H21="Containeroptie 2 (zie regel 9)",($G$9*0.8)*I21,"")),"") | L21: =IFERROR(IF(H21="Containeroptie 1 (zie regel 8)",$H$8,IF(H21="Containeroptie 2 (zie regel 9)",$H$9,""))," ") | M21: =IFERROR(L21*I21,"") | N21: =IF(H21="Containeroptie 1 (zie regel 8)",$I$8,IF(H21="Containeroptie 2 (zie regel 9)",$I$9,"")) | O21: =IFERROR((G21/K21),"Vul kolom I en K in") -> Vul kolom I en K in | P21: =IF(O21>2,"Aantal ledigingen onjuist",IFERROR(CEILING((O21*I21)*52,1),"")) -> Aantal ledigingen onjuist | Q21: =IFERROR(P21*N21,"") | R21: =IFERROR(Q21+M21,"") | Z21: Wonderwoods Boeri | AA21: 310 | AB21: 0 | AD21: =AB21*$Z$41 -> 0 | AE21: =AB21*$Z$42 -> 0 | AF21: =AE21*52 -> 0 | AG21: =AB21*$Z$43 -> 0 | AH21: =AG21*52 -> 0 | AI21: 1681 | AJ21: =AI21+AD21 -> 1681 | AK21: =AJ21/AI21 -> 1 | AL21: 43 | AM21: =AJ21/AL21 -> 39.093023 | AO21: 241 | AP21: 241 | AQ21: 295 | AR21: 295
C22: =Z22 -> Bouwblok 1 a-b | D22: 2112 | E22: =$E$20 -> 110 | F22: =$W$27 -> 4 | G22: =(D22/E22)/F22 -> 4.8 | K22: =IFERROR(IF(H22="Containeroptie 1 (zie regel 8)",($G$8*0.8)*I22,IF(H22="Containeroptie 2 (zie regel 9)",($G$9*0.8)*I22,"")),"") | L22: =IFERROR(IF(H22="Containeroptie 1 (zie regel 8)",$H$8,IF(H22="Containeroptie 2 (zie regel 9)",$H$9,""))," ") | M22: =IFERROR(L22*I22,"") | N22: =IF(H22="Containeroptie 1 (zie regel 8)",$I$8,IF(H22="Containeroptie 2 (zie regel 9)",$I$9,"")) | O22: =IFERROR((G22/K22),"Vul kolom I en K in") -> Vul kolom I en K in | P22: =IF(O22>2,"Aantal ledigingen onjuist",IFERROR(CEILING((O22*I22)*52,1),"")) -> Aantal ledigingen onjuist | Q22: =IFERROR(P22*N22,"") | R22: =IFERROR(Q22+M22,"") | U22: Vaste verdichtingsfactor gebruiken in berekeningen en benoemen | Z22: Bouwblok 1 a-b | AA22: 300 | AB22: 722 | AD22: =AB22*$Z$41 -> 259.94754 | AE22: =AB22*$Z$42 -> 58.737855 | AF22: =AE22*52 -> 3054.3685 | AG22: =AB22*$Z$43 -> 18.760938 | AH22: =AG22*52 -> 975.56876 | AI22: 2060.7692 | AJ22: =AI22+AD22 -> 2320.7168 | AK22: =AJ22/AI22 -> 1.126141 | AL22: 93 | AM22: =AJ22/AL22 -> 24.953944 | AO22: 295.96154 | AP22: =AO22+AE22 -> 354.69939 | AQ22: 361.73077 | AR22: =AQ22+AG22 -> 380.49171
C23: =Z23 -> Bouwblok 1 a-g | D23: 4224 | E23: =$E$20 -> 110 | F23: =$W$27 -> 4 | G23: =(D23/E23)/F23 -> 9.6 | K23: =IFERROR(IF(H23="Containeroptie 1 (zie regel 8)",($G$8*0.8)*I23,IF(H23="Containeroptie 2 (zie regel 9)",($G$9*0.8)*I23,"")),"") | L23: =IFERROR(IF(H23="Containeroptie 1 (zie regel 8)",$H$8,IF(H23="Containeroptie 2 (zie regel 9)",$H$9,""))," ") | M23: =IFERROR(L23*I23,"") | N23: =IF(H23="Containeroptie 1 (zie regel 8)",$I$8,IF(H23="Containeroptie 2 (zie regel 9)",$I$9,"")) | O23: =IFERROR((G23/K23),"Vul kolom I en K in") -> Vul kolom I en K in | P23: =IF(O23>2,"Aantal ledigingen onjuist",IFERROR(CEILING((O23*I23)*52,1),"")) -> Aantal ledigingen onjuist | Q23: =IFERROR(P23*N23,"") | R23: =IFERROR(Q23+M23,"") | U23: Afvalstroom | V23: Ongeperst | W23: Verdichtingsfactor | X23: Geperst | Y23: Berekening | Z23: Bouwblok 1 a-g | AA23: 694 | AB23: 7455 | AD23: =AB23*$Z$41 -> 2684.0843 | AE23: =AB23*$Z$42 -> 606.49683 | AG23: =AB23*$Z$43 -> 193.71578 | AI23: 4767.2462 | AJ23: =AI23+AD23 -> 7451.3305 | AK23: =AJ23/AI23 -> 1.5630262 | AL23: 74 | AM23: =AJ23/AL23 -> 100.69366 | AO23: 684.65769 | AP23: =AO23+AE23 -> 1291.1545 | AQ23: 836.80385 | AR23: =AQ23+AG23 -> 1030.5196
C24: =Z24 -> Bouwblok 2a | D24: 2775.4914 | E24: =$E$20 -> 110 | F24: =$W$27 -> 4 | G24: =(D24/E24)/F24 -> 6.307935 | K24: =IFERROR(IF(H24="Containeroptie 1 (zie regel 8)",($G$8*0.8)*I24,IF(H24="Containeroptie 2 (zie regel 9)",($G$9*0.8)*I24,"")),"") | L24: =IFERROR(IF(H24="Containeroptie 1 (zie regel 8)",$H$8,IF(H24="Containeroptie 2 (zie regel 9)",$H$9,""))," ") | M24: =IFERROR(L24*I24,"") | N24: =IF(H24="Containeroptie 1 (zie regel 8)",$I$8,IF(H24="Containeroptie 2 (zie regel 9)",$I$9,"")) | O24: =IFERROR((G24/K24),"Vul kolom I en K in") -> Vul kolom I en K in | P24: =IF(O24>2,"Aantal ledigingen onjuist",IFERROR(CEILING((O24*I24)*52,1),"")) -> Aantal ledigingen onjuist | Q24: =IFERROR(P24*N24,"") | R24: =IFERROR(Q24+M24,"") | U24: Soortelijk gewicht doorrekenen naar benodigde capaciteit met ingezameld gewicht | Z24: Bouwblok 2a | AA24: 289 | AB24: 2195 | AD24: =AB24*$Z$41 -> 790.28372 | AE24: =AB24*$Z$42 -> 178.57284 | AF24: =AE24*52 -> 9285.7878 | AG24: =AB24*$Z$43 -> 57.036368 | AH24: =AG24*52 -> 2965.8912 | AI24: 1985.2077 | AJ24: =AI24+AD24 -> 2775.4914 | AK24: =AJ24/AI24 -> 1.3980862 | AL24: 95 | AM24: =AJ24/AL24 -> 29.215699 | AO24: 285.10962 | AP24: =AO24+AE24 -> 463.68246 | AQ24: 348.46731 | AR24: =AQ24+AG24 -> 405.50368
C25: =Z25 -> Bouwblok 3 School + sporthal | D25: 4224 | E25: =$E$20 -> 110 | F25: =$W$27 -> 4 | G25: =(D25/E25)/F25 -> 9.6 | K25: =IFERROR(IF(H25="Containeroptie 1 (zie regel 8)",($G$8*0.8)*I25,IF(H25="Containeroptie 2 (zie regel 9)",($G$9*0.8)*I25,"")),"") | L25: =IFERROR(IF(H25="Containeroptie 1 (zie regel 8)",$H$8,IF(H25="Containeroptie 2 (zie regel 9)",$H$9,""))," ") | M25: =IFERROR(L25*I25,"") | N25: =IF(H25="Containeroptie 1 (zie regel 8)",$I$8,IF(H25="Containeroptie 2 (zie regel 9)",$I$9,"")) | O25: =IFERROR((G25/K25),"Vul kolom I en K in") -> Vul kolom I en K in | P25: =IF(O25>2,"Aantal ledigingen onjuist",IFERROR(CEILING((O25*I25)*52,1),"")) -> Aantal ledigingen onjuist | Q25: =IFERROR(P25*N25,"") | R25: =IFERROR(Q25+M25,"") | U25: Papier/karton | V25: 120 kg/m³ | W25: 3 | X25: 360 | Y25: kg/m³ | Z25: Bouwblok 3 School + sporthal | AA25: 150 | AB25: =12446+3024 -> 15470 | AD25: =AB25*$Z$41 -> 5569.79 | AE25: =AB25*$Z$42 -> 1258.5521 | AF25: =AE25*52 -> 65444.709 | AG25: =AB25*$Z$43 -> 401.98297 | AH25: =AG25*52 -> 20903.114 | AI25: 1030.3846 | AJ25: =AI25+AD25 -> 6600.1746 | AK25: =AJ25/AI25 -> 6.4055446 | AL25: ? | AO25: 147.98077 | AP25: =AO25+AE25 -> 1406.5329 | AQ25: 180.86538 | AR25: =AQ25+AG25 -> 582.84836
C26: =Z26 -> Bouwblok 4 Bloom Zuid | D26: 2112 | E26: =$E$20 -> 110 | F26: 4 | G26: =(D26/E26)/F26 -> 4.8 | K26: =IFERROR(IF(H26="Containeroptie 1 (zie regel 8)",($G$8*0.8)*I26,IF(H26="Containeroptie 2 (zie regel 9)",($G$9*0.8)*I26,"")),"") | L26: =IFERROR(IF(H26="Containeroptie 1 (zie regel 8)",$H$8,IF(H26="Containeroptie 2 (zie regel 9)",$H$9,""))," ") | M26: =IFERROR(L26*I26,"") | N26: =IF(H26="Containeroptie 1 (zie regel 8)",$I$8,IF(H26="Containeroptie 2 (zie regel 9)",$I$9,"")) | O26: =IFERROR((G26/K26),"Vul kolom I en K in") -> Vul kolom I en K in | P26: =IF(O26>2,"Aantal ledigingen onjuist",IFERROR(CEILING((O26*I26)*52,1),"")) -> Aantal ledigingen onjuist | Q26: =IFERROR(P26*N26,"") | R26: =IFERROR(Q26+M26,"") | U26: GFE | V26: 300 kg/m³ | W26: 1 | X26: 300 | Y26: kg/m³ | Z26: Bouwblok 4 Bloom Zuid | AA26: 378 | AB26: 340 | AD26: =AB26*$Z$41 -> 122.41297 | AE26: =AB26*$Z$42 -> 27.660486 | AF26: =AE26*52 -> 1438.3453 | AG26: =AB26*$Z$43 -> 8.8347906 | AH26: =AG26*52 -> 459.40911 | AI26: 2596.5692 | AJ26: =AI26+AD26 -> 2718.9822 | AK26: =AJ26/AI26 -> 1.0471441 | AL26: 68 | AM26: =AJ26/AL26 -> 39.985032 | AO26: 372.91154 | AP26: =AO26+AE26 -> 400.57202 | AQ26: 455.78077 | AR26: =AQ26+AG26 -> 464.61556
C27: =Z27 -> Bouwblok 5 Bloom Zuid | D27: 2112 | E27: =$E$20 -> 110 | F27: =$W$27 -> 4 | G27: =(D27/E27)/F27 -> 4.8 | K27: =IFERROR(IF(H27="Containeroptie 1 (zie regel 8)",($G$8*0.8)*I27,IF(H27="Containeroptie 2 (zie regel 9)",($G$9*0.8)*I27,"")),"") | L27: =IFERROR(IF(H27="Containeroptie 1 (zie regel 8)",$H$8,IF(H27="Containeroptie 2 (zie regel 9)",$H$9,""))," ") | M27: =IFERROR(L27*I27,"") | N27: =IF(H27="Containeroptie 1 (zie regel 8)",$I$8,IF(H27="Containeroptie 2 (zie regel 9)",$I$9,"")) | O27: =IFERROR((G27/K27),"Vul kolom I en K in") -> Vul kolom I en K in | P27: =IF(O27>2,"Aantal ledigingen onjuist",IFERROR(CEILING((O27*I27)*52,1),"")) -> Aantal ledigingen onjuist | Q27: =IFERROR(P27*N27,"") | R27: =IFERROR(Q27+M27,"") | U27: Restafval | V27: 110 kg/m³ | W27: 4 | X27: 440 | Y27: kg/m³ | Z27: Bouwblok 5 Bloom Zuid | AA27: 236 | AB27: 1629 | AD27: =AB27*$Z$41 -> 586.50213 | AE27: =AB27*$Z$42 -> 132.52627 | AF27: =AE27*52 -> 6891.366 | AG27: =AB27*$Z$43 -> 42.329041 | AH27: =AG27*52 -> 2201.1101 | AI27: 1621.1385 | AJ27: =AI27+AD27 -> 2207.6406 | AK27: =AJ27/AI27 -> 1.3617841 | AL27: 65 | AM27: =AJ27/AL27 -> 33.963701 | AO27: 232.82308 | AP27: =AO27+AE27 -> 365.34935 | AQ27: 284.56154 | AR27: =AQ27+AG27 -> 326.89058
C28: =Z28 -> Bouwblok 7 | D28: 2112 | E28: =$E$20 -> 110 | F28: =$W$27 -> 4 | G28: =(D28/E28)/F28 -> 4.8 | K28: =IFERROR(IF(H28="Containeroptie 1 (zie regel 8)",($G$8*0.8)*I28,IF(H28="Containeroptie 2 (zie regel 9)",($G$9*0.8)*I28,"")),"") | L28: =IFERROR(IF(H28="Containeroptie 1 (zie regel 8)",$H$8,IF(H28="Containeroptie 2 (zie regel 9)",$H$9,""))," ") | M28: =IFERROR(L28*I28,"") | N28: =IF(H28="Containeroptie 1 (zie regel 8)",$I$8,IF(H28="Containeroptie 2 (zie regel 9)",$I$9,"")) | O28: =IFERROR((G28/K28),"Vul kolom I en K in") -> Vul kolom I en K in | P28: =IF(O28>2,"Aantal ledigingen onjuist",IFERROR(CEILING((O28*I28)*52,1),"")) -> Aantal ledigingen onjuist | Q28: =IFERROR(P28*N28,"") | R28: =IFERROR(Q28+M28,"") | Z28: Bouwblok 7 | AA28: =128+170 -> 298 | AB28: =375+5281 -> 5656 | AC28: 7a en 7b samen | AD28: =AB28*$Z$41 -> 2036.3757 | AE28: =AB28*$Z$42 -> 460.14032 | AG28: =AB28*$Z$43 -> 146.96934 | AI28: =879.261538461538+1167.76923076923 -> 2047.0308 | AJ28: =AI28+AD28 -> 4083.4065 | AK28: =AJ28/AI28 -> 1.9947949 | AL28: ? | AO28: =126.276923076923+167.711538461538 -> 293.98846 | AP28: =AO28+AE28 -> 754.12878 | AQ28: =154.338461538462+204.980769230769 -> 359.31923 | AR28: =AQ28+AG28 -> 506.28857
C29: =Z29 -> Bouwblok 8 Grow | D29: 3950 | E29: =$E$20 -> 110 | F29: =$W$27 -> 4 | G29: =(D29/E29)/F29 -> 8.9772727 | K29: =IFERROR(IF(H29="Containeroptie 1 (zie regel 8)",($G$8*0.8)*I29,IF(H29="Containeroptie 2 (zie regel 9)",($G$9*0.8)*I29,"")),"") | L29: =IFERROR(IF(H29="Containeroptie 1 (zie regel 8)",$H$8,IF(H29="Containeroptie 2 (zie regel 9)",$H$9,""))," ") | M29: =IFERROR(L29*I29,"") | N29: =IF(H29="Containeroptie 1 (zie regel 8)",$I$8,IF(H29="Containeroptie 2 (zie regel 9)",$I$9,"")) | O29: =IFERROR((G29/K29),"Vul kolom I en K in") -> Vul kolom I en K in | P29: =IF(O29>2,"Aantal ledigingen onjuist",IFERROR(CEILING((O29*I29)*52,1),"")) -> Aantal ledigingen onjuist | Q29: =IFERROR(P29*N29,"") | R29: =IFERROR(Q29+M29,"") | U29: Kies het aantal containers per gebouw | Z29: Bouwblok 8 Grow | AA29: 575 | AB29: 7368 | AD29: =AB29*$Z$41 -> 2652.761 | AE29: =AB29*$Z$42 -> 599.419 | AG29: =AB29*$Z$43 -> 191.45511 | AI29: 3949.8077 | AJ29: =AI29+AD29 -> 6602.5687 | AK29: =AJ29/AI29 -> 1.6716178 | AL29: 160 | AM29: =AJ29/AL29 -> 41.266054 | AO29: 567.25962 | AP29: =AO29+AE29 -> 1166.6786 | AQ29: 693.31731 | AR29: =AQ29+AG29 -> 884.77242
C30: =Z30 -> Bouwblok 9 Joy | D30: 1524.8236 | E30: =$E$20 -> 110 | F30: =$W$27 -> 4 | G30: =(D30/E30)/F30 -> 3.4655081 | K30: =IFERROR(IF(H30="Containeroptie 1 (zie regel 8)",($G$8*0.8)*I30,IF(H30="Containeroptie 2 (zie regel 9)",($G$9*0.8)*I30,"")),"") | L30: =IFERROR(IF(H30="Containeroptie 1 (zie regel 8)",$H$8,IF(H30="Containeroptie 2 (zie regel 9)",$H$9,""))," ") | M30: =IFERROR(L30*I30,"") | N30: =IF(H30="Containeroptie 1 (zie regel 8)",$I$8,IF(H30="Containeroptie 2 (zie regel 9)",$I$9,"")) | O30: =IFERROR((G30/K30),"Vul kolom I en K in") -> Vul kolom I en K in | P30: =IF(O30>2,"Aantal ledigingen onjuist",IFERROR(CEILING((O30*I30)*52,1),"")) -> Aantal ledigingen onjuist | Q30: =IFERROR(P30*N30,"") | R30: =IFERROR(Q30+M30,"") | U30: 1 | Z30: Bouwblok 9 Joy | AA30: 179 | AB30: 820 | AD30: =AB30*$Z$41 -> 295.23127 | AE30: =AB30*$Z$42 -> 66.710583 | AF30: =AE30*52 -> 3468.9503 | AG30: =AB30*$Z$43 -> 21.307436 | AH30: =AG30*52 -> 1107.9867 | AI30: 1229.5923 | AJ30: =AI30+AD30 -> 1524.8236 | AK30: =AJ30/AI30 -> 1.240105 | AL30: 62 | AM30: =AJ30/AL30 -> 24.593929 | AO30: 141.075 | AP30: =AO30+AE30 -> 207.78558 | AQ30: 172.425 | AR30: =AQ30+AG30 -> 193.73244
C31: =Z31 -> Bouwblok 10 Pulse | D31: 1276.7288 | E31: =$E$20 -> 110 | F31: =$W$27 -> 4 | G31: =(D31/E31)/F31 -> 2.9016564 | K31: =IFERROR(IF(H31="Containeroptie 1 (zie regel 8)",($G$8*0.8)*I31,IF(H31="Containeroptie 2 (zie regel 9)",($G$9*0.8)*I31,"")),"") | L31: =IFERROR(IF(H31="Containeroptie 1 (zie regel 8)",$H$8,IF(H31="Containeroptie 2 (zie regel 9)",$H$9,""))," ") | M31: =IFERROR(L31*I31,"") | N31: =IF(H31="Containeroptie 1 (zie regel 8)",$I$8,IF(H31="Containeroptie 2 (zie regel 9)",$I$9,"")) | O31: =IFERROR((G31/K31),"Vul kolom I en K in") -> Vul kolom I en K in | P31: =IF(O31>2,"Aantal ledigingen onjuist",IFERROR(CEILING((O31*I31)*52,1),"")) -> Aantal ledigingen onjuist | Q31: =IFERROR(P31*N31,"") | R31: =IFERROR(Q31+M31,"") | U31: 2 | Z31: Bouwblok 10 Pulse | AA31: 178 | AB31: 150 | AD31: =AB31*$Z$41 -> 54.005721 | AE31: =AB31*$Z$42 -> 12.203155 | AF31: =AE31*52 -> 634.56408 | AG31: =AB31*$Z$43 -> 3.8977017 | AH31: =AG31*52 -> 202.68049 | AI31: 1222.7231 | AJ31: =AI31+AD31 -> 1276.7288 | AK31: =AJ31/AI31 -> 1.0441684 | AL31: 70 | AM31: =AJ31/AL31 -> 18.238983 | AO31: 208.15962 | AP31: =AO31+AE31 -> 220.36277 | AQ31: 254.41731 | AR31: =AQ31+AG31 -> 258.31501
C32: =Z32 -> Bouwblok 11 | D32: 3229.4593 | E32: =$E$20 -> 110 | F32: =$W$27 -> 4 | G32: =(D32/E32)/F32 -> 7.3396802 | K32: =IFERROR(IF(H32="Containeroptie 1 (zie regel 8)",($G$8*0.8)*I32,IF(H32="Containeroptie 2 (zie regel 9)",($G$9*0.8)*I32,"")),"") | L32: =IFERROR(IF(H32="Containeroptie 1 (zie regel 8)",$H$8,IF(H32="Containeroptie 2 (zie regel 9)",$H$9,""))," ") | M32: =IFERROR(L32*I32,"") | N32: =IF(H32="Containeroptie 1 (zie regel 8)",$I$8,IF(H32="Containeroptie 2 (zie regel 9)",$I$9,"")) | O32: =IFERROR((G32/K32),"Vul kolom I en K in") -> Vul kolom I en K in | P32: =IF(O32>2,"Aantal ledigingen onjuist",IFERROR(CEILING((O32*I32)*52,1),"")) -> Aantal ledigingen onjuist | Q32: =IFERROR(P32*N32,"") | R32: =IFERROR(Q32+M32,"") | U32: 3 | Z32: Bouwblok 11 | AA32: 376 | AB32: 1796 | AD32: =AB32*$Z$41 -> 646.6285 | AE32: =AB32*$Z$42 -> 146.11245 | AF32: =AE32*52 -> 7597.8473 | AG32: =AB32*$Z$43 -> 46.668482 | AH32: =AG32*52 -> 2426.7611 | AI32: 2582.8308 | AJ32: =AI32+AD32 -> 3229.4593 | AK32: =AJ32/AI32 -> 1.2503565 | AL32: 161 | AM32: =AJ32/AL32 -> 20.058753 | AO32: 456.76731 | AP32: =AO32+AE32 -> 602.87976 | AQ32: 558.27115 | AR32: =AQ32+AG32 -> 604.93964
C33: =Z33 -> Bouwblok 12 a Bloom Park | D33: 2112 | E33: =$E$20 -> 110 | F33: =$W$27 -> 4 | G33: =(D33/E33)/F33 -> 4.8 | K33: =IFERROR(IF(H33="Containeroptie 1 (zie regel 8)",($G$8*0.8)*I33,IF(H33="Containeroptie 2 (zie regel 9)",($G$9*0.8)*I33,"")),"") | L33: =IFERROR(IF(H33="Containeroptie 1 (zie regel 8)",$H$8,IF(H33="Containeroptie 2 (zie regel 9)",$H$9,""))," ") | M33: =IFERROR(L33*I33,"") | N33: =IF(H33="Containeroptie 1 (zie regel 8)",$I$8,IF(H33="Containeroptie 2 (zie regel 9)",$I$9,"")) | O33: =IFERROR((G33/K33),"Vul kolom I en K in") -> Vul kolom I en K in | P33: =IF(O33>2,"Aantal ledigingen onjuist",IFERROR(CEILING((O33*I33)*52,1),"")) -> Aantal ledigingen onjuist | Q33: =IFERROR(P33*N33,"") | R33: =IFERROR(Q33+M33,"") | Z33: Bouwblok 12 a Bloom Park | AA33: 189 | AB33: 3235 | AD33: =AB33*$Z$41 -> 1164.7234 | AE33: =AB33*$Z$42 -> 263.18139 | AF33: =AE33*52 -> 13685.432 | AG33: =AB33*$Z$43 -> 84.060434 | AH33: =AG33*52 -> 4371.1426 | AI33: 1298.2846 | AJ33: =AI33+AD33 -> 2463.008 | AK33: =AJ33/AI33 -> 1.8971248 | AL33: 67 | AM33: =AJ33/AL33 -> 36.761313 | AO33: 220.98462 | AP33: =AO33+AE33 -> 484.166 | AQ33: 270.09231 | AR33: =AQ33+AG33 -> 354.15274
C34: =Z34 -> Bouwblok 13 Cix City | D34: 4153.4819 | E34: =$E$20 -> 110 | F34: =$W$27 -> 4 | G34: =(D34/E34)/F34 -> 9.4397317 | K34: =IFERROR(IF(H34="Containeroptie 1 (zie regel 8)",($G$8*0.8)*I34,IF(H34="Containeroptie 2 (zie regel 9)",($G$9*0.8)*I34,"")),"") | L34: =IFERROR(IF(H34="Containeroptie 1 (zie regel 8)",$H$8,IF(H34="Containeroptie 2 (zie regel 9)",$H$9,""))," ") | M34: =IFERROR(L34*I34,"") | N34: =IF(H34="Containeroptie 1 (zie regel 8)",$I$8,IF(H34="Containeroptie 2 (zie regel 9)",$I$9,"")) | O34: =IFERROR((G34/K34),"Vul kolom I en K in") -> Vul kolom I en K in | P34: =IF(O34>2,"Aantal ledigingen onjuist",IFERROR(CEILING((O34*I34)*52,1),"")) -> Aantal ledigingen onjuist | Q34: =IFERROR(P34*N34,"") | R34: =IFERROR(Q34+M34,"") | Z34: Bouwblok 13 Cix City | AA34: 306 | AB34: 5698 | AD34: =AB34*$Z$41 -> 2051.4973 | AE34: =AB34*$Z$42 -> 463.5572 | AF34: =AE34*52 -> 24104.974 | AG34: =AB34*$Z$43 -> 148.0607 | AH34: =AG34*52 -> 7699.1562 | AI34: 2101.9846 | AJ34: =AI34+AD34 -> 4153.4819 | AK34: =AJ34/AI34 -> 1.9759811 | AL34: 80 | AM34: =AJ34/AL34 -> 51.918524 | AO34: 293.98846 | AP34: =AO34+AE34 -> 757.54566 | AQ34: 359.31923 | AR34: =AQ34+AG34 -> 507.37993
C35: =Z35 -> Bouwblok 14 Cix Theatre | D35: 1335.0308 | E35: =$E$20 -> 110 | F35: =$W$27 -> 4 | G35: =(D35/E35)/F35 -> 3.0341609 | K35: =IFERROR(IF(H35="Containeroptie 1 (zie regel 8)",($G$8*0.8)*I35,IF(H35="Containeroptie 2 (zie regel 9)",($G$9*0.8)*I35,"")),"") | L35: =IFERROR(IF(H35="Containeroptie 1 (zie regel 8)",$H$8,IF(H35="Containeroptie 2 (zie regel 9)",$H$9,""))," ") | M35: =IFERROR(L35*I35,"") | N35: =IF(H35="Containeroptie 1 (zie regel 8)",$I$8,IF(H35="Containeroptie 2 (zie regel 9)",$I$9,"")) | O35: =IFERROR((G35/K35),"Vul kolom I en K in") -> Vul kolom I en K in | P35: =IF(O35>2,"Aantal ledigingen onjuist",IFERROR(CEILING((O35*I35)*52,1),"")) -> Aantal ledigingen onjuist | Q35: =IFERROR(P35*N35,"") | R35: =IFERROR(Q35+M35,"") | Z35: Bouwblok 14 Cix Theatre | AA35: 89 | AB35: 1533 | AD35: =AB35*$Z$41 -> 551.93847 | AE35: =AB35*$Z$42 -> 124.71625 | AF35: =AE35*52 -> 6485.2449 | AG35: =AB35*$Z$43 -> 39.834512 | AH35: =AG35*52 -> 2071.3946 | AI35: 783.09231 | AJ35: =AI35+AD35 -> 1335.0308 | AK35: =AJ35/AI35 -> 1.7048192 | AL35: 55 | AM35: =AJ35/AL35 -> 24.273287 | AO35: 112.46538 | AP35: =AO35+AE35 -> 237.18163 | AQ35: 137.45769 | AR35: =AQ35+AG35 -> 177.2922
D36: =SUM(D20:D35) -> 39525.016 | G36: =SUM(G20:G35) -> 89.829581 | L36: Huurkosten restafval | M36: =IF(COUNTBLANK(M20:M35)=0,SUM(M20:M35),"NIET COMPLEET") -> NIET COMPLEET | P36: Inzamelkosten restafval | Q36: =IF(COUNTBLANK(Q20:Q35)=0,SUM(Q20:Q35)) -> FALSE | R36: =IF(COUNTBLANK(R20:R35)=0,SUM(R20:R35)) -> FALSE
C39: Locaties* | D39: Aanbod fractie** | E39: Soortelijk gewicht | F39: Verdichtingsfactor | G39: Aanbod: Gewicht naar inhoud | H39: In te zetten type container | I39: Aantal containers | K39: Capaciteit containers o.b.v. 80% | L39: Huur per container p.j. | M39: Containerkosten per jaar | N39: Prijs per lediging | O39: Ledigingen per week*** | P39: Aantal ledigingen per jaar | Q39: Ledigingskosten per jaar | R39: Totale kosten locatie per jaar | AI39: =(463*1.9*188)/52 -> 3180.4538
C40: Inzameling en transport van oud papier en karton (OPK) | G40: = kolom (E/F)/G | AB40: =SUM(AA23,AA24,AA32) -> 1359
C41: =Z20 -> Wonderwoods MSVA | D41: =AP20 -> 85 | E41: 120 | F41: =$W$25 -> 3 | G41: =(D41/E41)/F41 -> 0.23611111 | K41: =IFERROR(IF(H41="Containeroptie 1 (zie regel 8)",($G$8*0.8)*I41,IF(H41="Containeroptie 2 (zie regel 9)",($G$9*0.8)*I41,"")),"") | L41: =IFERROR(IF(H41="Containeroptie 1 (zie regel 8)",$H$8,IF(H41="Containeroptie 2 (zie regel 9)",$H$9,""))," ") | M41: =IFERROR(L41*I41,"") | N41: =IF(H41="Containeroptie 1 (zie regel 8)",$I$8,IF(H41="Containeroptie 2 (zie regel 9)",$I$9,"")) | O41: =IFERROR((G41/K41),"Vul kolom I en K in") -> Vul kolom I en K in | P41: =IF(O41>2,"Aantal ledigingen onjuist",IFERROR(CEILING((O41*I41)*52,1),"")) -> Aantal ledigingen onjuist | Q41: =IFERROR(P41*N41,"") | R41: =IFERROR(Q41+M41,"") | U41: Hoeveelheid RESTper m2 bedrijfsoppervlakte | Y41: =17.4719832286658+1.25 -> 18.721983 | Z41: =Y41/52 -> 0.36003814 | AB41: 739 | AC41: oorspronkelijk
C42: =Z21 -> Wonderwoods Boeri | D42: =AP21 -> 241 | E42: =E41 -> 120 | F42: =$W$25 -> 3 | G42: =(D42/E42)/F42 -> 0.66944444 | K42: =IFERROR(IF(H42="Containeroptie 1 (zie regel 8)",($G$8*0.8)*I42,IF(H42="Containeroptie 2 (zie regel 9)",($G$9*0.8)*I42,"")),"") | L42: =IFERROR(IF(H42="Containeroptie 1 (zie regel 8)",$H$8,IF(H42="Containeroptie 2 (zie regel 9)",$H$9,""))," ") | M42: =IFERROR(L42*I42,"") | N42: =IF(H42="Containeroptie 1 (zie regel 8)",$I$8,IF(H42="Containeroptie 2 (zie regel 9)",$I$9,"")) | O42: =IFERROR((G42/K42),"Vul kolom I en K in") -> Vul kolom I en K in | P42: =IF(O42>2,"Aantal ledigingen onjuist",IFERROR(CEILING((O42*I42)*52,1),"")) -> Aantal ledigingen onjuist | Q42: =IFERROR(P42*N42,"") | R42: =IFERROR(Q42+M42,"") | U42: Hoeveelheid OPK per m2 bedrijfsoppervlakte | Y42: 4.2304272 | Z42: =Y42/52 -> 0.08135437
C43: =Z22 -> Bouwblok 1 a-b | D43: =AP22 -> 354.69939 | E43: =E42 -> 120 | F43: =$W$25 -> 3 | G43: =(D43/E43)/F43 -> 0.98527609 | K43: =IFERROR(IF(H43="Containeroptie 1 (zie regel 8)",($G$8*0.8)*I43,IF(H43="Containeroptie 2 (zie regel 9)",($G$9*0.8)*I43,"")),"") | L43: =IFERROR(IF(H43="Containeroptie 1 (zie regel 8)",$H$8,IF(H43="Containeroptie 2 (zie regel 9)",$H$9,""))," ") | M43: =IFERROR(L43*I43,"") | N43: =IF(H43="Containeroptie 1 (zie regel 8)",$I$8,IF(H43="Containeroptie 2 (zie regel 9)",$I$9,"")) | O43: =IFERROR((G43/K43),"Vul kolom I en K in") -> Vul kolom I en K in | P43: =IF(O43>2,"Aantal ledigingen onjuist",IFERROR(CEILING((O43*I43)*52,1),"")) -> Aantal ledigingen onjuist | Q43: =IFERROR(P43*N43,"") | R43: =IFERROR(Q43+M43,"") | U43: Hoeveelheid GFE per m2 bedrijfsoppervlakte | Y43: 1.3512033 | Z43: =Y43/52 -> 0.025984678
C44: =Z23 -> Bouwblok 1 a-g | D44: =AO23 -> 684.65769 | E44: =E43 -> 120 | F44: =$W$25 -> 3 | G44: =(D44/E44)/F44 -> 1.9018269 | K44: =IFERROR(IF(H44="Containeroptie 1 (zie regel 8)",($G$8*0.8)*I44,IF(H44="Containeroptie 2 (zie regel 9)",($G$9*0.8)*I44,"")),"") | L44: =IFERROR(IF(H44="Containeroptie 1 (zie regel 8)",$H$8,IF(H44="Containeroptie 2 (zie regel 9)",$H$9,""))," ") | M44: =IFERROR(L44*I44,"") | N44: =IF(H44="Containeroptie 1 (zie regel 8)",$I$8,IF(H44="Containeroptie 2 (zie regel 9)",$I$9,"")) | O44: =IFERROR((G44/K44),"Vul kolom I en K in") -> Vul kolom I en K in | P44: =IF(O44>2,"Aantal ledigingen onjuist",IFERROR(CEILING((O44*I44)*52,1),"")) -> Aantal ledigingen onjuist | Q44: =IFERROR(P44*N44,"") | R44: =IFERROR(Q44+M44,"")
C45: =Z24 -> Bouwblok 2a | D45: =AP24 -> 463.68246 | E45: =E44 -> 120 | F45: =$W$25 -> 3 | G45: =(D45/E45)/F45 -> 1.2880068 | K45: =IFERROR(IF(H45="Containeroptie 1 (zie regel 8)",($G$8*0.8)*I45,IF(H45="Containeroptie 2 (zie regel 9)",($G$9*0.8)*I45,"")),"") | L45: =IFERROR(IF(H45="Containeroptie 1 (zie regel 8)",$H$8,IF(H45="Containeroptie 2 (zie regel 9)",$H$9,""))," ") | M45: =IFERROR(L45*I45,"") | N45: =IF(H45="Containeroptie 1 (zie regel 8)",$I$8,IF(H45="Containeroptie 2 (zie regel 9)",$I$9,"")) | O45: =IFERROR((G45/K45),"Vul kolom I en K in") -> Vul kolom I en K in | P45: =IF(O45>2,"Aantal ledigingen onjuist",IFERROR(CEILING((O45*I45)*52,1),"")) -> Aantal ledigingen onjuist | Q45: =IFERROR(P45*N45,"") | R45: =IFERROR(Q45+M45,"")
C46: =Z25 -> Bouwblok 3 School + sporthal | D46: =AO25 -> 147.98077 | E46: =E45 -> 120 | F46: =$W$25 -> 3 | G46: =(D46/E46)/F46 -> 0.41105769 | J46: =J45 -> 0 | K46: =IFERROR(IF(H46="Containeroptie 1 (zie regel 8)",($G$8*0.8)*I46,IF(H46="Containeroptie 2 (zie regel 9)",($G$9*0.8)*I46,"")),"") | L46: =IFERROR(IF(H46="Containeroptie 1 (zie regel 8)",$H$8,IF(H46="Containeroptie 2 (zie regel 9)",$H$9,""))," ") | M46: =IFERROR(L46*I46,"") | N46: =IF(H46="Containeroptie 1 (zie regel 8)",$I$8,IF(H46="Containeroptie 2 (zie regel 9)",$I$9,"")) | O46: =IFERROR((G46/K46),"Vul kolom I en K in") -> Vul kolom I en K in | P46: =IF(O46>2,"Aantal ledigingen onjuist",IFERROR(CEILING((O46*I46)*52,1),"")) -> Aantal ledigingen onjuist | Q46: =IFERROR(P46*N46,"") | R46: =IFERROR(Q46+M46,"")
C47: =Z26 -> Bouwblok 4 Bloom Zuid | D47: =AP26 -> 400.57202 | E47: =E46 -> 120 | F47: =$W$25 -> 3 | G47: =(D47/E47)/F47 -> 1.1127001 | J47: =J46 -> 0 | K47: =IFERROR(IF(H47="Containeroptie 1 (zie regel 8)",($G$8*0.8)*I47,IF(H47="Containeroptie 2 (zie regel 9)",($G$9*0.8)*I47,"")),"") | L47: =IFERROR(IF(H47="Containeroptie 1 (zie regel 8)",$H$8,IF(H47="Containeroptie 2 (zie regel 9)",$H$9,""))," ") | M47: =IFERROR(L47*I47,"") | N47: =IF(H47="Containeroptie 1 (zie regel 8)",$I$8,IF(H47="Containeroptie 2 (zie regel 9)",$I$9,"")) | O47: =IFERROR((G47/K47),"Vul kolom I en K in") -> Vul kolom I en K in | P47: =IF(O47>2,"Aantal ledigingen onjuist",IFERROR(CEILING((O47*I47)*52,1),"")) -> Aantal ledigingen onjuist | Q47: =IFERROR(P47*N47,"") | R47: =IFERROR(Q47+M47,"") | Z47: rest | AC47: opk | AD47: gfe
C48: =Z27 -> Bouwblok 5 Bloom Zuid | D48: =AP27 -> 365.34935 | E48: =E46 -> 120 | F48: =$W$25 -> 3 | G48: =(D48/E48)/F48 -> 1.0148593 | K48: =IFERROR(IF(H48="Containeroptie 1 (zie regel 8)",($G$8*0.8)*I48,IF(H48="Containeroptie 2 (zie regel 9)",($G$9*0.8)*I48,"")),"") | L48: =IFERROR(IF(H48="Containeroptie 1 (zie regel 8)",$H$8,IF(H48="Containeroptie 2 (zie regel 9)",$H$9,""))," ") | M48: =IFERROR(L48*I48,"") | N48: =IF(H48="Containeroptie 1 (zie regel 8)",$I$8,IF(H48="Containeroptie 2 (zie regel 9)",$I$9,"")) | O48: =IFERROR((G48/K48),"Vul kolom I en K in") -> Vul kolom I en K in | P48: =IF(O48>2,"Aantal ledigingen onjuist",IFERROR(CEILING((O48*I48)*52,1),"")) -> Aantal ledigingen onjuist | Q48: =IFERROR(P48*N48,"") | R48: =IFERROR(Q48+M48,"") | Z48: =D22*52 -> 109824 | AA48: Bouwblok 1 a-b | AC48: =D43*52 -> 18444.368 | AD48: =D64*52 -> 19785.569
C49: =Z28 -> Bouwblok 7 | D49: =AO28 -> 293.98846 | E49: =E48 -> 120 | F49: =$W$25 -> 3 | G49: =(D49/E49)/F49 -> 0.81663462 | K49: =IFERROR(IF(H49="Containeroptie 1 (zie regel 8)",($G$8*0.8)*I49,IF(H49="Containeroptie 2 (zie regel 9)",($G$9*0.8)*I49,"")),"") | L49: =IFERROR(IF(H49="Containeroptie 1 (zie regel 8)",$H$8,IF(H49="Containeroptie 2 (zie regel 9)",$H$9,""))," ") | M49: =IFERROR(L49*I49,"") | N49: =IF(H49="Containeroptie 1 (zie regel 8)",$I$8,IF(H49="Containeroptie 2 (zie regel 9)",$I$9,"")) | O49: =IFERROR((G49/K49),"Vul kolom I en K in") -> Vul kolom I en K in | P49: =IF(O49>2,"Aantal ledigingen onjuist",IFERROR(CEILING((O49*I49)*52,1),"")) -> Aantal ledigingen onjuist | Q49: =IFERROR(P49*N49,"") | R49: =IFERROR(Q49+M49,"") | Z49: =D23*52 -> 219648 | AA49: Bouwblok 1 a-g | AC49: =D44*52 -> 35602.2 | AD49: =D65*52 -> 43513.8
C50: =Z29 -> Bouwblok 8 Grow | D50: =AO29 -> 567.25962 | E50: =$E$41 -> 120 | F50: =$W$25 -> 3 | G50: =(D50/E50)/F50 -> 1.5757212 | K50: =IFERROR(IF(H50="Containeroptie 1 (zie regel 8)",($G$8*0.8)*I50,IF(H50="Containeroptie 2 (zie regel 9)",($G$9*0.8)*I50,"")),"") | L50: =IFERROR(IF(H50="Containeroptie 1 (zie regel 8)",$H$8,IF(H50="Containeroptie 2 (zie regel 9)",$H$9,""))," ") | M50: =IFERROR(L50*I50,"") | N50: =IF(H50="Containeroptie 1 (zie regel 8)",$I$8,IF(H50="Containeroptie 2 (zie regel 9)",$I$9,"")) | O50: =IFERROR((G50/K50),"Vul kolom I en K in") -> Vul kolom I en K in | P50: =IF(O50>2,"Aantal ledigingen onjuist",IFERROR(CEILING((O50*I50)*52,1),"")) -> Aantal ledigingen onjuist | Q50: =IFERROR(P50*N50,"") | R50: =IFERROR(Q50+M50,"") | Z50: =D24*52 -> 144325.55 | AA50: Bouwblok 2a | AC50: =D45*52 -> 24111.488 | AD50: =D66*52 -> 21086.191
C51: =Z30 -> Bouwblok 9 Joy | D51: =AP30 -> 207.78558 | E51: =$E$41 -> 120 | F51: =$W$25 -> 3 | G51: =(D51/E51)/F51 -> 0.57718218 | K51: =IFERROR(IF(H51="Containeroptie 1 (zie regel 8)",($G$8*0.8)*I51,IF(H51="Containeroptie 2 (zie regel 9)",($G$9*0.8)*I51,"")),"") | L51: =IFERROR(IF(H51="Containeroptie 1 (zie regel 8)",$H$8,IF(H51="Containeroptie 2 (zie regel 9)",$H$9,""))," ") | M51: =IFERROR(L51*I51,"") | N51: =IF(H51="Containeroptie 1 (zie regel 8)",$I$8,IF(H51="Containeroptie 2 (zie regel 9)",$I$9,"")) | O51: =IFERROR((G51/K51),"Vul kolom I en K in") -> Vul kolom I en K in | P51: =IF(O51>2,"Aantal ledigingen onjuist",IFERROR(CEILING((O51*I51)*52,1),"")) -> Aantal ledigingen onjuist | Q51: =IFERROR(P51*N51,"") | R51: =IFERROR(Q51+M51,"") | Z51: =D25*52 -> 219648 | AA51: Bouwblok 3 School + sporthal | AC51: =D46*52 -> 7695 | AD51: =D67*52 -> 9405
C52: =Z31 -> Bouwblok 10 Pulse | D52: =AP31 -> 220.36277 | E52: =$E$41 -> 120 | F52: =$W$25 -> 3 | G52: =(D52/E52)/F52 -> 0.61211881 | K52: =IFERROR(IF(H52="Containeroptie 1 (zie regel 8)",($G$8*0.8)*I52,IF(H52="Containeroptie 2 (zie regel 9)",($G$9*0.8)*I52,"")),"") | L52: =IFERROR(IF(H52="Containeroptie 1 (zie regel 8)",$H$8,IF(H52="Containeroptie 2 (zie regel 9)",$H$9,""))," ") | M52: =IFERROR(L52*I52,"") | N52: =IF(H52="Containeroptie 1 (zie regel 8)",$I$8,IF(H52="Containeroptie 2 (zie regel 9)",$I$9,"")) | O52: =IFERROR((G52/K52),"Vul kolom I en K in") -> Vul kolom I en K in | P52: =IF(O52>2,"Aantal ledigingen onjuist",IFERROR(CEILING((O52*I52)*52,1),"")) -> Aantal ledigingen onjuist | Q52: =IFERROR(P52*N52,"") | R52: =IFERROR(Q52+M52,"") | Z52: =D26*52 -> 109824 | AA52: Bouwblok 4 Bloom Zuid | AC52: =D47*52 -> 20829.745 | AD52: =D68*52 -> 24160.009
C53: =Z32 -> Bouwblok 11 | D53: =AP32 -> 602.87976 | E53: =$E$41 -> 120 | F53: =$W$25 -> 3 | G53: =(D53/E53)/F53 -> 1.674666 | K53: =IFERROR(IF(H53="Containeroptie 1 (zie regel 8)",($G$8*0.8)*I53,IF(H53="Containeroptie 2 (zie regel 9)",($G$9*0.8)*I53,"")),"") | L53: =IFERROR(IF(H53="Containeroptie 1 (zie regel 8)",$H$8,IF(H53="Containeroptie 2 (zie regel 9)",$H$9,""))," ") | M53: =IFERROR(L53*I53,"") | N53: =IF(H53="Containeroptie 1 (zie regel 8)",$I$8,IF(H53="Containeroptie 2 (zie regel 9)",$I$9,"")) | O53: =IFERROR((G53/K53),"Vul kolom I en K in") -> Vul kolom I en K in | P53: =IF(O53>2,"Aantal ledigingen onjuist",IFERROR(CEILING((O53*I53)*52,1),"")) -> Aantal ledigingen onjuist | Q53: =IFERROR(P53*N53,"") | R53: =IFERROR(Q53+M53,"") | Z53: =D27*52 -> 109824 | AA53: Bouwblok 5 Bloom Zuid | AC53: =D48*52 -> 18998.166 | AD53: =D69*52 -> 16998.31
C54: =Z33 -> Bouwblok 12 a Bloom Park | D54: =AP33 -> 484.166 | E54: =$E$41 -> 120 | F54: =$W$25 -> 3 | G54: =(D54/E54)/F54 -> 1.3449056 | K54: =IFERROR(IF(H54="Containeroptie 1 (zie regel 8)",($G$8*0.8)*I54,IF(H54="Containeroptie 2 (zie regel 9)",($G$9*0.8)*I54,"")),"") | L54: =IFERROR(IF(H54="Containeroptie 1 (zie regel 8)",$H$8,IF(H54="Containeroptie 2 (zie regel 9)",$H$9,""))," ") | M54: =IFERROR(L54*I54,"") | N54: =IF(H54="Containeroptie 1 (zie regel 8)",$I$8,IF(H54="Containeroptie 2 (zie regel 9)",$I$9,"")) | O54: =IFERROR((G54/K54),"Vul kolom I en K in") -> Vul kolom I en K in | P54: =IF(O54>2,"Aantal ledigingen onjuist",IFERROR(CEILING((O54*I54)*52,1),"")) -> Aantal ledigingen onjuist | Q54: =IFERROR(P54*N54,"") | R54: =IFERROR(Q54+M54,"") | Z54: =D28*52 -> 109824 | AA54: Bouwblok 7 | AC54: =D49*52 -> 15287.4 | AD54: =D70*52 -> 26327.006
C55: =Z34 -> Bouwblok 13 Cix City | D55: =AP34 -> 757.54566 | E55: =$E$41 -> 120 | F55: =$W$25 -> 3 | G55: =(D55/E55)/F55 -> 2.1042935 | K55: =IFERROR(IF(H55="Containeroptie 1 (zie regel 8)",($G$8*0.8)*I55,IF(H55="Containeroptie 2 (zie regel 9)",($G$9*0.8)*I55,"")),"") | L55: =IFERROR(IF(H55="Containeroptie 1 (zie regel 8)",$H$8,IF(H55="Containeroptie 2 (zie regel 9)",$H$9,""))," ") | M55: =IFERROR(L55*I55,"") | N55: =IF(H55="Containeroptie 1 (zie regel 8)",$I$8,IF(H55="Containeroptie 2 (zie regel 9)",$I$9,"")) | O55: =IFERROR((G55/K55),"Vul kolom I en K in") -> Vul kolom I en K in | P55: =IF(O55>2,"Aantal ledigingen onjuist",IFERROR(CEILING((O55*I55)*52,1),"")) -> Aantal ledigingen onjuist | Q55: =IFERROR(P55*N55,"") | R55: =IFERROR(Q55+M55,"") | Z55: =D29*52 -> 205400 | AA55: Bouwblok 8 Grow | AC55: =D50*52 -> 29497.5 | AD55: =D71*52 -> 36052.5
C56: =Z35 -> Bouwblok 14 Cix Theatre | D56: =AP35 -> 237.18163 | E56: =$E$41 -> 120 | F56: =$W$25 -> 3 | G56: =(D56/E56)/F56 -> 0.65883787 | K56: =IFERROR(IF(H56="Containeroptie 1 (zie regel 8)",($G$8*0.8)*I56,IF(H56="Containeroptie 2 (zie regel 9)",($G$9*0.8)*I56,"")),"") | L56: =IFERROR(IF(H56="Containeroptie 1 (zie regel 8)",$H$8,IF(H56="Containeroptie 2 (zie regel 9)",$H$9,""))," ") | M56: =IFERROR(L56*I56,"") | N56: =IF(H56="Containeroptie 1 (zie regel 8)",$I$8,IF(H56="Containeroptie 2 (zie regel 9)",$I$9,"")) | O56: =IFERROR((G56/K56),"Vul kolom I en K in") -> Vul kolom I en K in | P56: =IF(O56>2,"Aantal ledigingen onjuist",IFERROR(CEILING((O56*I56)*52,1),"")) -> Aantal ledigingen onjuist | Q56: =IFERROR(P56*N56,"") | R56: =IFERROR(Q56+M56,"") | Z56: =D30*52 -> 79290.826 | AA56: Bouwblok 9 Joy | AC56: =D51*52 -> 10804.85 | AD56: =D72*52 -> 10074.087
D57: =SUM(D41:D56) -> 6114.1112 | G57: =SUM(G41:G56) -> 16.983642 | L57: Huurkosten papier en karton | M57: =IF(COUNTBLANK(M41:M56)=0,SUM(M41:M56),"NIET COMPLEET") -> NIET COMPLEET | P57: Inzamelkosten papier en karton | Q57: =IF(COUNTBLANK(Q41:Q56)=0,SUM(Q41:Q56)) -> FALSE | R57: =IF(COUNTBLANK(R41:R56)=0,SUM(R41:R56)) -> FALSE | Z57: =D31*52 -> 66389.897 | AA57: Bouwblok 10 Pulse | AC57: =D52*52 -> 11458.864 | AD57: =D73*52 -> 13432.38
Z58: =D32*52 -> 167931.88 | AA58: Bouwblok 11 | AC58: =D53*52 -> 31349.747 | AD58: =D74*52 -> 31456.861
Z59: =D33*52 -> 109824 | AA59: Bouwblok 12 a Bloom Park | AC59: =D54*52 -> 25176.632 | AD59: =D75*52 -> 18415.943
C60: Locaties* | D60: Aanbod fractie** | E60: Soortelijk gewicht | F60: Verdichtingsfactor | G60: Aanbod: Gewicht naar inhoud | H60: In te zetten type container | I60: Aantal containers | K60: Capaciteit containers o.b.v. 80% | L60: Huur per container p.j. | M60: Containerkosten per jaar | N60: Prijs per lediging | O60: Ledigingen per week*** | P60: Aantal ledigingen per jaar**** | Q60: Ledigingskosten per jaar | R60: Totale kosten locatie per jaar | Z60: =D34*52 -> 215981.06 | AA60: Bouwblok 13 Cix City | AC60: =D55*52 -> 39392.374 | AD60: =D76*52 -> 26383.756
C61: Inzameling en transport van groente-, fruit- en etensresten (gfe) | G61: = kolom (E/F) | Z61: =D35*52 -> 69421.6 | AA61: Bouwblok 14 Cix Theatre | AC61: =D56*52 -> 12333.445 | AD61: =D77*52 -> 9219.1946
C62: =Z20 -> Wonderwoods MSVA | D62: =AR20 -> 104 | E62: 300 | F62: Niet van toepassing | G62: =(D62/E62) -> 0.34666667 | K62: =IFERROR(IF(H62="Containeroptie 1 (zie regel 10)",($G$10*0.8)*I62,IF(H62="Containeroptie 2 (zie regel 11)",($G$11*0.8)*I62,"")),"") | L62: =IFERROR(IF(H62="Containeroptie 1 (zie regel 10)",$H$10,IF(H62="Containeroptie 2 (zie regel 11)",$H$11,""))," ") | M62: =IFERROR(L62*I62," ") | N62: =IFERROR(IF(H62="Containeroptie 1 (zie regel 10)",$I$10,IF(H62="Containeroptie 2 (zie regel 11)",$I$11,""))," ") | O62: =IFERROR((G62/K62), "Vul kolom I en K in") -> Vul kolom I en K in | P62: =IF(O62>2,"Aantal ledigingen onjuist",IFERROR(CEILING((O62*I62)*52,1),"")) -> Aantal ledigingen onjuist | Q62: =IFERROR(P62*N62,"") | R62: =IFERROR(Q62+M62,"")
C63: =Z21 -> Wonderwoods Boeri | D63: =AR21 -> 295 | E63: =$E$62 -> 300 | F63: Niet van toepassing | G63: =(D63/E63) -> 0.98333333 | K63: =IFERROR(IF(H63="Containeroptie 1 (zie regel 10)",($G$10*0.8)*I63,IF(H63="Containeroptie 2 (zie regel 11)",($G$11*0.8)*I63,"")),"") | L63: =IFERROR(IF(H63="Containeroptie 1 (zie regel 10)",$H$10,IF(H63="Containeroptie 2 (zie regel 11)",$H$11,""))," ") | M63: =IFERROR(L63*I63," ") | N63: =IFERROR(IF(H63="Containeroptie 1 (zie regel 10)",$I$10,IF(H63="Containeroptie 2 (zie regel 11)",$I$11,""))," ") | O63: =IFERROR((G63/K63), "Vul kolom I en K in") -> Vul kolom I en K in | P63: =IF(O63>2,"Aantal ledigingen onjuist",IFERROR(CEILING((O63*I63)*52,1),"")) -> Aantal ledigingen onjuist | Q63: =IFERROR(P63*N63,"") | R63: =IFERROR(Q63+M63,"")
C64: =Z22 -> Bouwblok 1 a-b | D64: =AR22 -> 380.49171 | E64: =$E$62 -> 300 | F64: Niet van toepassing | G64: =(D64/E64) -> 1.2683057 | K64: =IFERROR(IF(H64="Containeroptie 1 (zie regel 10)",($G$10*0.8)*I64,IF(H64="Containeroptie 2 (zie regel 11)",($G$11*0.8)*I64,"")),"") | L64: =IFERROR(IF(H64="Containeroptie 1 (zie regel 10)",$H$10,IF(H64="Containeroptie 2 (zie regel 11)",$H$11,""))," ") | M64: =IFERROR(L64*I64," ") | N64: =IFERROR(IF(H64="Containeroptie 1 (zie regel 10)",$I$10,IF(H64="Containeroptie 2 (zie regel 11)",$I$11,""))," ") | O64: =IFERROR((G64/K64), "Vul kolom I en K in") -> Vul kolom I en K in | P64: =IF(O64>2,"Aantal ledigingen onjuist",IFERROR(CEILING((O64*I64)*52,1),"")) -> Aantal ledigingen onjuist | Q64: =IFERROR(P64*N64,"") | R64: =IFERROR(Q64+M64,"")
C65: =Z23 -> Bouwblok 1 a-g | D65: =AQ23 -> 836.80385 | E65: =$E$62 -> 300 | F65: Niet van toepassing | G65: =(D65/E65) -> 2.7893462 | K65: =IFERROR(IF(H65="Containeroptie 1 (zie regel 10)",($G$10*0.8)*I65,IF(H65="Containeroptie 2 (zie regel 11)",($G$11*0.8)*I65,"")),"") | L65: =IFERROR(IF(H65="Containeroptie 1 (zie regel 10)",$H$10,IF(H65="Containeroptie 2 (zie regel 11)",$H$11,""))," ") | M65: =IFERROR(L65*I65," ") | N65: =IFERROR(IF(H65="Containeroptie 1 (zie regel 10)",$I$10,IF(H65="Containeroptie 2 (zie regel 11)",$I$11,""))," ") | O65: =IFERROR((G65/K65), "Vul kolom I en K in") -> Vul kolom I en K in | P65: =IF(O65>2,"Aantal ledigingen onjuist",IFERROR(CEILING((O65*I65)*52,1),"")) -> Aantal ledigingen onjuist | Q65: =IFERROR(P65*N65,"") | R65: =IFERROR(Q65+M65,"")
C66: =Z24 -> Bouwblok 2a | D66: =AR24 -> 405.50368 | E66: =$E$62 -> 300 | F66: Niet van toepassing | G66: =(D66/E66) -> 1.3516789 | K66: =IFERROR(IF(H66="Containeroptie 1 (zie regel 10)",($G$10*0.8)*I66,IF(H66="Containeroptie 2 (zie regel 11)",($G$11*0.8)*I66,"")),"") | L66: =IFERROR(IF(H66="Containeroptie 1 (zie regel 10)",$H$10,IF(H66="Containeroptie 2 (zie regel 11)",$H$11,""))," ") | M66: =IFERROR(L66*I66," ") | N66: =IFERROR(IF(H66="Containeroptie 1 (zie regel 10)",$I$10,IF(H66="Containeroptie 2 (zie regel 11)",$I$11,""))," ") | O66: =IFERROR((G66/K66), "Vul kolom I en K in") -> Vul kolom I en K in | P66: =IF(O66>2,"Aantal ledigingen onjuist",IFERROR(CEILING((O66*I66)*52,1),"")) -> Aantal ledigingen onjuist | Q66: =IFERROR(P66*N66,"") | R66: =IFERROR(Q66+M66,"")
C67: =Z25 -> Bouwblok 3 School + sporthal | D67: =AQ25 -> 180.86538 | E67: =$E$62 -> 300 | F67: Niet van toepassing | G67: =(D67/E67) -> 0.60288462 | K67: =IFERROR(IF(H67="Containeroptie 1 (zie regel 10)",($G$10*0.8)*I67,IF(H67="Containeroptie 2 (zie regel 11)",($G$11*0.8)*I67,"")),"") | L67: =IFERROR(IF(H67="Containeroptie 1 (zie regel 10)",$H$10,IF(H67="Containeroptie 2 (zie regel 11)",$H$11,""))," ") | M67: =IFERROR(L67*I67," ") | N67: =IFERROR(IF(H67="Containeroptie 1 (zie regel 10)",$I$10,IF(H67="Containeroptie 2 (zie regel 11)",$I$11,""))," ") | O67: =IFERROR((G67/K67), "Vul kolom I en K in") -> Vul kolom I en K in | P67: =IF(O67>2,"Aantal ledigingen onjuist",IFERROR(CEILING((O67*I67)*52,1),"")) -> Aantal ledigingen onjuist | Q67: =IFERROR(P67*N67,"") | R67: =IFERROR(Q67+M67,"")
C68: =Z26 -> Bouwblok 4 Bloom Zuid | D68: =AR26 -> 464.61556 | E68: =$E$62 -> 300 | F68: Niet van toepassing | G68: =(D68/E68) -> 1.5487185 | K68: =IFERROR(IF(H68="Containeroptie 1 (zie regel 10)",($G$10*0.8)*I68,IF(H68="Containeroptie 2 (zie regel 11)",($G$11*0.8)*I68,"")),"") | L68: =IFERROR(IF(H68="Containeroptie 1 (zie regel 10)",$H$10,IF(H68="Containeroptie 2 (zie regel 11)",$H$11,""))," ") | M68: =IFERROR(L68*I68," ") | N68: =IFERROR(IF(H68="Containeroptie 1 (zie regel 10)",$I$10,IF(H68="Containeroptie 2 (zie regel 11)",$I$11,""))," ") | O68: =IFERROR((G68/K68), "Vul kolom I en K in") -> Vul kolom I en K in | P68: =IF(O68>2,"Aantal ledigingen onjuist",IFERROR(CEILING((O68*I68)*52,1),"")) -> Aantal ledigingen onjuist | Q68: =IFERROR(P68*N68,"") | R68: =IFERROR(Q68+M68,"")
C69: =Z27 -> Bouwblok 5 Bloom Zuid | D69: =AR27 -> 326.89058 | E69: =$E$62 -> 300 | F69: Niet van toepassing | G69: =(D69/E69) -> 1.0896353 | K69: =IFERROR(IF(H69="Containeroptie 1 (zie regel 10)",($G$10*0.8)*I69,IF(H69="Containeroptie 2 (zie regel 11)",($G$11*0.8)*I69,"")),"") | L69: =IFERROR(IF(H69="Containeroptie 1 (zie regel 10)",$H$10,IF(H69="Containeroptie 2 (zie regel 11)",$H$11,""))," ") | M69: =IFERROR(L69*I69," ") | N69: =IFERROR(IF(H69="Containeroptie 1 (zie regel 10)",$I$10,IF(H69="Containeroptie 2 (zie regel 11)",$I$11,""))," ") | O69: =IFERROR((G69/K69), "Vul kolom I en K in") -> Vul kolom I en K in | P69: =IF(O69>2,"Aantal ledigingen onjuist",IFERROR(CEILING((O69*I69)*52,1),"")) -> Aantal ledigingen onjuist | Q69: =IFERROR(P69*N69,"") | R69: =IFERROR(Q69+M69,"")
C70: =Z28 -> Bouwblok 7 | D70: =AR28 -> 506.28857 | E70: =$E$62 -> 300 | F70: Niet van toepassing | G70: =(D70/E70) -> 1.6876286 | K70: =IFERROR(IF(H70="Containeroptie 1 (zie regel 10)",($G$10*0.8)*I70,IF(H70="Containeroptie 2 (zie regel 11)",($G$11*0.8)*I70,"")),"") | L70: =IFERROR(IF(H70="Containeroptie 1 (zie regel 10)",$H$10,IF(H70="Containeroptie 2 (zie regel 11)",$H$11,""))," ") | M70: =IFERROR(L70*I70," ") | N70: =IFERROR(IF(H70="Containeroptie 1 (zie regel 10)",$I$10,IF(H70="Containeroptie 2 (zie regel 11)",$I$11,""))," ") | O70: =IFERROR((G70/K70), "Vul kolom I en K in") -> Vul kolom I en K in | P70: =IF(O70>2,"Aantal ledigingen onjuist",IFERROR(CEILING((O70*I70)*52,1),"")) -> Aantal ledigingen onjuist | Q70: =IFERROR(P70*N70,"") | R70: =IFERROR(Q70+M70,"")
C71: =Z29 -> Bouwblok 8 Grow | D71: =AQ29 -> 693.31731 | E71: =$E$62 -> 300 | F71: Niet van toepassing | G71: =(D71/E71) -> 2.3110577 | K71: =IFERROR(IF(H71="Containeroptie 1 (zie regel 10)",($G$10*0.8)*I71,IF(H71="Containeroptie 2 (zie regel 11)",($G$11*0.8)*I71,"")),"") | L71: =IFERROR(IF(H71="Containeroptie 1 (zie regel 10)",$H$10,IF(H71="Containeroptie 2 (zie regel 11)",$H$11,""))," ") | M71: =IFERROR(L71*I71," ") | N71: =IFERROR(IF(H71="Containeroptie 1 (zie regel 10)",$I$10,IF(H71="Containeroptie 2 (zie regel 11)",$I$11,""))," ") | O71: =IFERROR((G71/K71), "Vul kolom I en K in") -> Vul kolom I en K in | P71: =IF(O71>2,"Aantal ledigingen onjuist",IFERROR(CEILING((O71*I71)*52,1),"")) -> Aantal ledigingen onjuist | Q71: =IFERROR(P71*N71,"") | R71: =IFERROR(Q71+M71,"")
C72: =Z30 -> Bouwblok 9 Joy | D72: =AR30 -> 193.73244 | E72: =$E$62 -> 300 | F72: Niet van toepassing | G72: =(D72/E72) -> 0.64577479 | K72: =IFERROR(IF(H72="Containeroptie 1 (zie regel 10)",($G$10*0.8)*I72,IF(H72="Containeroptie 2 (zie regel 11)",($G$11*0.8)*I72,"")),"") | L72: =IFERROR(IF(H72="Containeroptie 1 (zie regel 10)",$H$10,IF(H72="Containeroptie 2 (zie regel 11)",$H$11,""))," ") | M72: =IFERROR(L72*I72," ") | N72: =IFERROR(IF(H72="Containeroptie 1 (zie regel 10)",$I$10,IF(H72="Containeroptie 2 (zie regel 11)",$I$11,""))," ") | O72: =IFERROR((G72/K72), "Vul kolom I en K in") -> Vul kolom I en K in | P72: =IF(O72>2,"Aantal ledigingen onjuist",IFERROR(CEILING((O72*I72)*52,1),"")) -> Aantal ledigingen onjuist | Q72: =IFERROR(P72*N72,"") | R72: =IFERROR(Q72+M72,"")
C73: =Z31 -> Bouwblok 10 Pulse | D73: =AR31 -> 258.31501 | E73: =$E$62 -> 300 | F73: Niet van toepassing | G73: =(D73/E73) -> 0.86105003 | K73: =IFERROR(IF(H73="Containeroptie 1 (zie regel 10)",($G$10*0.8)*I73,IF(H73="Containeroptie 2 (zie regel 11)",($G$11*0.8)*I73,"")),"") | L73: =IFERROR(IF(H73="Containeroptie 1 (zie regel 10)",$H$10,IF(H73="Containeroptie 2 (zie regel 11)",$H$11,""))," ") | M73: =IFERROR(L73*I73," ") | N73: =IFERROR(IF(H73="Containeroptie 1 (zie regel 10)",$I$10,IF(H73="Containeroptie 2 (zie regel 11)",$I$11,""))," ") | O73: =IFERROR((G73/K73), "Vul kolom I en K in") -> Vul kolom I en K in | P73: =IF(O73>2,"Aantal ledigingen onjuist",IFERROR(CEILING((O73*I73)*52,1),"")) -> Aantal ledigingen onjuist | Q73: =IFERROR(P73*N73,"") | R73: =IFERROR(Q73+M73,"")
C74: =Z32 -> Bouwblok 11 | D74: =AR32 -> 604.93964 | E74: =$E$62 -> 300 | F74: Niet van toepassing | G74: =(D74/E74) -> 2.0164655 | K74: =IFERROR(IF(H74="Containeroptie 1 (zie regel 10)",($G$10*0.8)*I74,IF(H74="Containeroptie 2 (zie regel 11)",($G$11*0.8)*I74,"")),"") | L74: =IFERROR(IF(H74="Containeroptie 1 (zie regel 10)",$H$10,IF(H74="Containeroptie 2 (zie regel 11)",$H$11,""))," ") | M74: =IFERROR(L74*I74," ") | N74: =IFERROR(IF(H74="Containeroptie 1 (zie regel 10)",$I$10,IF(H74="Containeroptie 2 (zie regel 11)",$I$11,""))," ") | O74: =IFERROR((G74/K74), "Vul kolom I en K in") -> Vul kolom I en K in | P74: =IF(O74>2,"Aantal ledigingen onjuist",IFERROR(CEILING((O74*I74)*52,1),"")) -> Aantal ledigingen onjuist | Q74: =IFERROR(P74*N74,"") | R74: =IFERROR(Q74+M74,"")
C75: =Z33 -> Bouwblok 12 a Bloom Park | D75: =AR33 -> 354.15274 | E75: =$E$62 -> 300 | F75: Niet van toepassing | G75: =(D75/E75) -> 1.1805091 | K75: =IFERROR(IF(H75="Containeroptie 1 (zie regel 10)",($G$10*0.8)*I75,IF(H75="Containeroptie 2 (zie regel 11)",($G$11*0.8)*I75,"")),"") | L75: =IFERROR(IF(H75="Containeroptie 1 (zie regel 10)",$H$10,IF(H75="Containeroptie 2 (zie regel 11)",$H$11,""))," ") | M75: =IFERROR(L75*I75," ") | N75: =IFERROR(IF(H75="Containeroptie 1 (zie regel 10)",$I$10,IF(H75="Containeroptie 2 (zie regel 11)",$I$11,""))," ") | O75: =IFERROR((G75/K75), "Vul kolom I en K in") -> Vul kolom I en K in | P75: =IF(O75>2,"Aantal ledigingen onjuist",IFERROR(CEILING((O75*I75)*52,1),"")) -> Aantal ledigingen onjuist | Q75: =IFERROR(P75*N75,"") | R75: =IFERROR(Q75+M75,"")
C76: =Z34 -> Bouwblok 13 Cix City | D76: =AR34 -> 507.37993 | E76: =$E$62 -> 300 | F76: Niet van toepassing | G76: =(D76/E76) -> 1.6912664 | K76: =IFERROR(IF(H76="Containeroptie 1 (zie regel 10)",($G$10*0.8)*I76,IF(H76="Containeroptie 2 (zie regel 11)",($G$11*0.8)*I76,"")),"") | L76: =IFERROR(IF(H76="Containeroptie 1 (zie regel 10)",$H$10,IF(H76="Containeroptie 2 (zie regel 11)",$H$11,""))," ") | M76: =IFERROR(L76*I76," ") | N76: =IFERROR(IF(H76="Containeroptie 1 (zie regel 10)",$I$10,IF(H76="Containeroptie 2 (zie regel 11)",$I$11,""))," ") | O76: =IFERROR((G76/K76), "Vul kolom I en K in") -> Vul kolom I en K in | P76: =IF(O76>2,"Aantal ledigingen onjuist",IFERROR(CEILING((O76*I76)*52,1),"")) -> Aantal ledigingen onjuist | Q76: =IFERROR(P76*N76,"") | R76: =IFERROR(Q76+M76,"")
C77: =Z35 -> Bouwblok 14 Cix Theatre | D77: =AR35 -> 177.2922 | E77: =$E$62 -> 300 | F77: Niet van toepassing | G77: =(D77/E77) -> 0.59097401 | K77: =IFERROR(IF(H77="Containeroptie 1 (zie regel 10)",($G$10*0.8)*I77,IF(H77="Containeroptie 2 (zie regel 11)",($G$11*0.8)*I77,"")),"") | L77: =IFERROR(IF(H77="Containeroptie 1 (zie regel 10)",$H$10,IF(H77="Containeroptie 2 (zie regel 11)",$H$11,""))," ") | M77: =IFERROR(L77*I77," ") | N77: =IFERROR(IF(H77="Containeroptie 1 (zie regel 10)",$I$10,IF(H77="Containeroptie 2 (zie regel 11)",$I$11,""))," ") | O77: =IFERROR((G77/K77), "Vul kolom I en K in") -> Vul kolom I en K in | P77: =IF(O77>2,"Aantal ledigingen onjuist",IFERROR(CEILING((O77*I77)*52,1),"")) -> Aantal ledigingen onjuist | Q77: =IFERROR(P77*N77,"") | R77: =IFERROR(Q77+M77,"")
D78: =SUM(D62:D77) -> 6289.5886 | G78: =SUM(G62:G77) -> 20.965295 | L78: Huurkosten gfe | M78: =IF(COUNTBLANK(M62:M77)=0,SUM(M62:M77),"NIET COMPLEET") -> 0 | P78: Inzamelkosten gfe | Q78: =IF(COUNTBLANK(Q62:Q77)=0,SUM(Q62:Q77)) -> FALSE | R78: =IF(COUNTBLANK(R62:R77)=0,SUM(R62:R77)) -> FALSE
C80: * De oplevering van de woningen is gefaseerd, de woningen zullen niet allemaal vanaf startdatum contract bewoond zijn. Deze berekening gaat uit van volledige bewoning.
C81: **Dit is een indicatie op basis van beschikbare gegevens. De daadwerkelijke hoeveelheid kan afwijken, hier kunnen geen rechten aan worden ontleend.
C82: *** Het maximale toegestane gemiddelde aantal ledigingsmomenten per week is 2. Een waarde boven de 2 in deze cellen is niet toegestaan.
C83: ****Gfe containers dienen i.v.m. hygiëne minimaal elke 2 weken te worden geleegd. Daarom is deze waarde minimaal 26* het aantal geplaatste containers.
D86: =IF(MAX(O20:O35,O41:O56,O62:O77)>2,"⚠ LET OP: Eén of meer inzamelmomenten zijn hoger dan 2. Dit is niet toegestaan. Controleer de containercapaciteit of aantal ingezette containers.","")
F89: Totale huurkosten per jaar | G89: =IF(AND(ISNUMBER(M36),ISNUMBER(M57),ISNUMBER(M78)),SUM(M36,M57,M78),"NIET COMPLEET") -> NIET COMPLEET
F90: Totale ledigingskosten per jaar | G90: =IF(AND(ISNUMBER(Q36),ISNUMBER(Q57),ISNUMBER(Q78)),SUM(Q36,Q57,Q78),"NIET COMPLEET") -> NIET COMPLEET
C92: Inschrijvingsprijs | G92: =SUM(G89:G90) -> 0 | H92: geschatte kosten per jaar
C96: Ondertekenend op | D96: .... | F96: te | G96: ...
C97: Naam bedrijf:
C98: Naam contactpersoon:
C99: Handtekening:

Sheet Prijzenblad incl alle BA
C1: Prijzenblad Mini-perscontainers
C3: U vult alle gele cellen in. Inschrijfprijzen zijn excl. btw
C6: Type miniperscontainer | D6: Omschrijving type container en persmechanisme | G6: Inhoud per container* | H6: All-in huurtarief ** per container per jaar | I6: All-in ledigingstarief ** per lediging per container | U6: Tonnage Rest per jaar: | V6: 188 | W6: kilo p.j.p.inwoner
U7: Tonnage OPK per jaar: | V7: 27 | W7: kilo p.j.p.inwoner
C8: Jaarlijks all-in tarief perscontainer (rest en OPK): optie 1 | D8: 3 m3 perscontainer | G8: 3 | H8: 3000 | I8: 100 | U8: Tonnage GFE per jaar: | V8: 33 | W8: kilo p.j.p.inwoner
C9: Jaarlijks all-in tarief perscontainer (rest en OPK) : optie 2 | D9: 2 m3 perscontainer | G9: 2 | H9: 2000 | I9: 100 | U9: Inwoners per huishouden: | V9: 1.9 | W9: inwoners
C10: Jaarlijks all-in tarief gfe-container: optie 1 | D10: Minicontainer 240 l | G10: 0.24 | H10: 1000 | I10: 50
C11: Jaarlijks all-in tarief gfe-container : optie 2 | D11: Rolcontainer | G11: 1.1 | H11: 1500 | I11: 75
C13: * Gebaseerd op de totale capaciteit in aantal m3 per container. Dit is gelijk aan 1000 liter.
C14: ** All-in tarief per container/ cassette, inclusief alle diensten zoals omschreven in de aanbestedingsdocumenten
U16: Kies het type container per gebouw | X16: Kies het type container per gebouw
U17: Containeroptie 1 (zie regel 8) | X17: Containeroptie 1 (zie regel 10)
C18: Locaties* | D18: Aanbod restafval** | E18: Soortelijk gewicht | F18: Verdichtingsfactor | G18: Aanbod: Gewicht naar inhoud | H18: In te zetten type container | I18: Aantal containers | K18: Capaciteit containers o.b.v. 80% | L18: Huur per container p.j. | M18: Containerkosten per jaar | N18: Prijs per lediging | O18: Ledigingen per week*** | P18: Aantal ledigingen per jaar | Q18: Ledigingskosten per jaar | R18: Totale kosten locatie per jaar | U18: Containeroptie 2 (zie regel 9) | X18: Containeroptie 2 (zie regel 11) | AD18: Bedrijfsafval per week
C19: Inzameling en transport van Restafval | G19: = kolom (E/F)/G | Z19: Locaties | AA19: Woningen | AB19: Bedrijfsruimte | AD19: Rest BA | AE19: OPK BA | AF19: gfe BA | AG19: Huidig rest | AH19: Nieuw rest | AI19: Verhoging incl bedrijfsafval | AJ19: m2 afvalruimte | AK19: kilo's per m2 | AM19: Oud OPK | AN19: Nieuw OPK | AO19: Oud gfe | AP19: Nieuw gfe
C20: =Z20 -> Wonderwoods MSVA | D20: =AH20 -> 591 | E20: 110 | F20: =$W$27 -> 4 | G20: =(D20/E20)/F20 -> 1.3431818 | H20: Containeroptie 1 (zie regel 8) | I20: 1 | K20: =IFERROR(IF(H20="Containeroptie 1 (zie regel 8)",($G$8*0.8)*I20,IF(H20="Containeroptie 2 (zie regel 9)",($G$9*0.8)*I20,"")),"") -> 2.4 | L20: =IFERROR(IF(H20="Containeroptie 1 (zie regel 8)",$H$8,IF(H20="Containeroptie 2 (zie regel 9)",$H$9,"")),"") -> 3000 | M20: =IFERROR(L20*I20,"") -> 3000 | N20: =IF(H20="Containeroptie 1 (zie regel 8)",$I$8,IF(H20="Containeroptie 2 (zie regel 9)",$I$9,"")) -> 100 | O20: =IFERROR((G20/K20),"Vul kolom I en K in") -> 0.55965909 | P20: =IF(O20>2,"Aantal ledigingen onjuist",IFERROR(CEILING((O20*I20)*52,1),"")) -> 30 | Q20: =IFERROR(P20*N20,"") -> 3000 | R20: =IFERROR(Q20+M20,"") -> 6000 | Z20: Wonderwoods MSVA | AA20: 109 | AB20: 0 | AD20: =AB20*$Z$42 -> 0 | AE20: =AB20*$Z$43 -> 0 | AF20: =AB20*$Z$44 -> 0 | AG20: 591 | AH20: =AG20+AD20 -> 591 | AI20: =AH20/AG20 -> 1 | AJ20: 112 | AK20: =AH20/AJ20 -> 5.2767857 | AM20: 85 | AN20: 85 | AO20: 104 | AP20: 104
C21: =Z21 -> Wonderwoods Boeri | D21: =AH21 -> 1681 | E21: =$E$20 -> 110 | F21: =$W$27 -> 4 | G21: =(D21/E21)/F21 -> 3.8204545 | H21: Containeroptie 1 (zie regel 8) | I21: 2 | K21: =IFERROR(IF(H21="Containeroptie 1 (zie regel 8)",($G$8*0.8)*I21,IF(H21="Containeroptie 2 (zie regel 9)",($G$9*0.8)*I21,"")),"") -> 4.8 | L21: =IFERROR(IF(H21="Containeroptie 1 (zie regel 8)",$H$8,IF(H21="Containeroptie 2 (zie regel 9)",$H$9,""))," ") -> 3000 | M21: =IFERROR(L21*I21,"") -> 6000 | N21: =IF(H21="Containeroptie 1 (zie regel 8)",$I$8,IF(H21="Containeroptie 2 (zie regel 9)",$I$9,"")) -> 100 | O21: =IFERROR((G21/K21),"Vul kolom I en K in") -> 0.79592803 | P21: =IF(O21>2,"Aantal ledigingen onjuist",IFERROR(CEILING((O21*I21)*52,1),"")) -> 83 | Q21: =IFERROR(P21*N21,"") -> 8300 | R21: =IFERROR(Q21+M21,"") -> 14300 | Z21: Wonderwoods Boeri | AA21: 310 | AB21: 0 | AD21: =AB21*$Z$42 -> 0 | AE21: =AB21*$Z$43 -> 0 | AF21: =AB21*$Z$44 -> 0 | AG21: 1681 | AH21: =AG21+AD21 -> 1681 | AI21: =AH21/AG21 -> 1 | AJ21: 43 | AK21: =AH21/AJ21 -> 39.093023 | AM21: 241 | AN21: 241 | AO21: 295 | AP21: 295
C22: =Z22 -> Bouwblok 1 a-b | D22: =AH22 -> 2320.7168 | E22: =$E$20 -> 110 | F22: =$W$27 -> 4 | G22: =(D22/E22)/F22 -> 5.2743563 | H22: Containeroptie 1 (zie regel 8) | I22: 2 | K22: =IFERROR(IF(H22="Containeroptie 1 (zie regel 8)",($G$8*0.8)*I22,IF(H22="Containeroptie 2 (zie regel 9)",($G$9*0.8)*I22,"")),"") -> 4.8 | L22: =IFERROR(IF(H22="Containeroptie 1 (zie regel 8)",$H$8,IF(H22="Containeroptie 2 (zie regel 9)",$H$9,""))," ") -> 3000 | M22: =IFERROR(L22*I22,"") -> 6000 | N22: =IF(H22="Containeroptie 1 (zie regel 8)",$I$8,IF(H22="Containeroptie 2 (zie regel 9)",$I$9,"")) -> 100 | O22: =IFERROR((G22/K22),"Vul kolom I en K in") -> 1.0988242 | P22: =IF(O22>2,"Aantal ledigingen onjuist",IFERROR(CEILING((O22*I22)*52,1),"")) -> 115 | Q22: =IFERROR(P22*N22,"") -> 11500 | R22: =IFERROR(Q22+M22,"") -> 17500 | U22: Vaste verdichtingsfactor gebruiken in berekeningen en benoemen | Z22: Bouwblok 1 a-b | AA22: 300 | AB22: 722 | AD22: =AB22*$Z$42 -> 259.94754 | AE22: =AB22*$Z$43 -> 58.737855 | AF22: =AB22*$Z$44 -> 18.760938 | AG22: 2060.7692 | AH22: =AG22+AD22 -> 2320.7168 | AI22: =AH22/AG22 -> 1.126141 | AJ22: 93 | AK22: =AH22/AJ22 -> 24.953944 | AM22: 295.96154 | AN22: =AM22+AE22 -> 354.69939 | AO22: 361.73077 | AP22: =AO22+AF22 -> 380.49171
C23: =Z23 -> Bouwblok 1 a-g | D23: =AH23 -> 7451.3305 | E23: =$E$20 -> 110 | F23: =$W$27 -> 4 | G23: =(D23/E23)/F23 -> 16.934842 | H23: Containeroptie 1 (zie regel 8) | I23: 4 | K23: =IFERROR(IF(H23="Containeroptie 1 (zie regel 8)",($G$8*0.8)*I23,IF(H23="Containeroptie 2 (zie regel 9)",($G$9*0.8)*I23,"")),"") -> 9.6 | L23: =IFERROR(IF(H23="Containeroptie 1 (zie regel 8)",$H$8,IF(H23="Containeroptie 2 (zie regel 9)",$H$9,""))," ") -> 3000 | M23: =IFERROR(L23*I23,"") -> 12000 | N23: =IF(H23="Containeroptie 1 (zie regel 8)",$I$8,IF(H23="Containeroptie 2 (zie regel 9)",$I$9,"")) -> 100 | O23: =IFERROR((G23/K23),"Vul kolom I en K in") -> 1.764046 | P23: =IF(O23>2,"Aantal ledigingen onjuist",IFERROR(CEILING((O23*I23)*52,1),"")) -> 367 | Q23: =IFERROR(P23*N23,"") -> 36700 | R23: =IFERROR(Q23+M23,"") -> 48700 | U23: Afvalstroom | V23: Ongeperst | W23: Verdichtingsfactor | X23: Geperst | Y23: Berekening | Z23: Bouwblok 1 a-g | AA23: 694 | AB23: 7455 | AD23: =AB23*$Z$42 -> 2684.0843 | AE23: =AB23*$Z$43 -> 606.49683 | AF23: =AB23*$Z$44 -> 193.71578 | AG23: 4767.2462 | AH23: =AG23+AD23 -> 7451.3305 | AI23: =AH23/AG23 -> 1.5630262 | AJ23: 74 | AK23: =AH23/AJ23 -> 100.69366 | AM23: 684.65769 | AN23: =AM23+AE23 -> 1291.1545 | AO23: 836.80385 | AP23: =AO23+AF23 -> 1030.5196
C24: =Z24 -> Bouwblok 2a | D24: =AH24 -> 2775.4914 | E24: =$E$20 -> 110 | F24: =$W$27 -> 4 | G24: =(D24/E24)/F24 -> 6.307935 | H24: Containeroptie 1 (zie regel 8) | I24: 2 | K24: =IFERROR(IF(H24="Containeroptie 1 (zie regel 8)",($G$8*0.8)*I24,IF(H24="Containeroptie 2 (zie regel 9)",($G$9*0.8)*I24,"")),"") -> 4.8 | L24: =IFERROR(IF(H24="Containeroptie 1 (zie regel 8)",$H$8,IF(H24="Containeroptie 2 (zie regel 9)",$H$9,""))," ") -> 3000 | M24: =IFERROR(L24*I24,"") -> 6000 | N24: =IF(H24="Containeroptie 1 (zie regel 8)",$I$8,IF(H24="Containeroptie 2 (zie regel 9)",$I$9,"")) -> 100 | O24: =IFERROR((G24/K24),"Vul kolom I en K in") -> 1.3141531 | P24: =IF(O24>2,"Aantal ledigingen onjuist",IFERROR(CEILING((O24*I24)*52,1),"")) -> 137 | Q24: =IFERROR(P24*N24,"") -> 13700 | R24: =IFERROR(Q24+M24,"") -> 19700 | U24: Soortelijk gewicht doorrekenen naar benodigde capaciteit met ingezameld gewicht | Z24: Bouwblok 2a | AA24: 289 | AB24: 2195 | AD24: =AB24*$Z$42 -> 790.28372 | AE24: =AB24*$Z$43 -> 178.57284 | AF24: =AB24*$Z$44 -> 57.036368 | AG24: 1985.2077 | AH24: =AG24+AD24 -> 2775.4914 | AI24: =AH24/AG24 -> 1.3980862 | AJ24: 95 | AK24: =AH24/AJ24 -> 29.215699 | AM24: 285.10962 | AN24: =AM24+AE24 -> 463.68246 | AO24: 348.46731 | AP24: =AO24+AF24 -> 405.50368
C25: =Z25 -> Bouwblok 3 School + sporthal | D25: =AH25 -> 6600.1746 | E25: =$E$20 -> 110 | F25: =$W$27 -> 4 | G25: =(D25/E25)/F25 -> 15.000397 | H25: Containeroptie 1 (zie regel 8) | I25: 4 | K25: =IFERROR(IF(H25="Containeroptie 1 (zie regel 8)",($G$8*0.8)*I25,IF(H25="Containeroptie 2 (zie regel 9)",($G$9*0.8)*I25,"")),"") -> 9.6 | L25: =IFERROR(IF(H25="Containeroptie 1 (zie regel 8)",$H$8,IF(H25="Containeroptie 2 (zie regel 9)",$H$9,""))," ") -> 3000 | M25: =IFERROR(L25*I25,"") -> 12000 | N25: =IF(H25="Containeroptie 1 (zie regel 8)",$I$8,IF(H25="Containeroptie 2 (zie regel 9)",$I$9,"")) -> 100 | O25: =IFERROR((G25/K25),"Vul kolom I en K in") -> 1.5625413 | P25: =IF(O25>2,"Aantal ledigingen onjuist",IFERROR(CEILING((O25*I25)*52,1),"")) -> 326 | Q25: =IFERROR(P25*N25,"") -> 32600 | R25: =IFERROR(Q25+M25,"") -> 44600 | U25: Papier/karton | V25: 120 kg/m³ | W25: 3 | X25: 360 | Y25: kg/m³ | Z25: Bouwblok 3 School + sporthal | AA25: 150 | AB25: =12446+3024 -> 15470 | AD25: =AB25*$Z$42 -> 5569.79 | AE25: =AB25*$Z$43 -> 1258.5521 | AF25: =AB25*$Z$44 -> 401.98297 | AG25: 1030.3846 | AH25: =AG25+AD25 -> 6600.1746 | AI25: =AH25/AG25 -> 6.4055446 | AJ25: ? | AM25: 147.98077 | AN25: =AM25+AE25 -> 1406.5329 | AO25: 180.86538 | AP25: =AO25+AF25 -> 582.84836
C26: =Z26 -> Bouwblok 4 Bloom Zuid | D26: =AH26 -> 2718.9822 | E26: =$E$20 -> 110 | F26: 4 | G26: =(D26/E26)/F26 -> 6.179505 | H26: Containeroptie 1 (zie regel 8) | I26: 2 | K26: =IFERROR(IF(H26="Containeroptie 1 (zie regel 8)",($G$8*0.8)*I26,IF(H26="Containeroptie 2 (zie regel 9)",($G$9*0.8)*I26,"")),"") -> 4.8 | L26: =IFERROR(IF(H26="Containeroptie 1 (zie regel 8)",$H$8,IF(H26="Containeroptie 2 (zie regel 9)",$H$9,""))," ") -> 3000 | M26: =IFERROR(L26*I26,"") -> 6000 | N26: =IF(H26="Containeroptie 1 (zie regel 8)",$I$8,IF(H26="Containeroptie 2 (zie regel 9)",$I$9,"")) -> 100 | O26: =IFERROR((G26/K26),"Vul kolom I en K in") -> 1.2873969 | P26: =IF(O26>2,"Aantal ledigingen onjuist",IFERROR(CEILING((O26*I26)*52,1),"")) -> 134 | Q26: =IFERROR(P26*N26,"") -> 13400 | R26: =IFERROR(Q26+M26,"") -> 19400 | U26: GFE | V26: 300 kg/m³ | W26: 1 | X26: 300 | Y26: kg/m³ | Z26: Bouwblok 4 Bloom Zuid | AA26: 378 | AB26: 340 | AD26: =AB26*$Z$42 -> 122.41297 | AE26: =AB26*$Z$43 -> 27.660486 | AF26: =AB26*$Z$44 -> 8.8347906 | AG26: 2596.5692 | AH26: =AG26+AD26 -> 2718.9822 | AI26: =AH26/AG26 -> 1.0471441 | AJ26: 68 | AK26: =AH26/AJ26 -> 39.985032 | AM26: 372.91154 | AN26: =AM26+AE26 -> 400.57202 | AO26: 455.78077 | AP26: =AO26+AF26 -> 464.61556
C27: =Z27 -> Bouwblok 5 Bloom Zuid | D27: =AH27 -> 2207.6406 | E27: =$E$20 -> 110 | F27: =$W$27 -> 4 | G27: =(D27/E27)/F27 -> 5.017365 | H27: Containeroptie 1 (zie regel 8) | I27: 2 | K27: =IFERROR(IF(H27="Containeroptie 1 (zie regel 8)",($G$8*0.8)*I27,IF(H27="Containeroptie 2 (zie regel 9)",($G$9*0.8)*I27,"")),"") -> 4.8 | L27: =IFERROR(IF(H27="Containeroptie 1 (zie regel 8)",$H$8,IF(H27="Containeroptie 2 (zie regel 9)",$H$9,""))," ") -> 3000 | M27: =IFERROR(L27*I27,"") -> 6000 | N27: =IF(H27="Containeroptie 1 (zie regel 8)",$I$8,IF(H27="Containeroptie 2 (zie regel 9)",$I$9,"")) -> 100 | O27: =IFERROR((G27/K27),"Vul kolom I en K in") -> 1.0452844 | P27: =IF(O27>2,"Aantal ledigingen onjuist",IFERROR(CEILING((O27*I27)*52,1),"")) -> 109 | Q27: =IFERROR(P27*N27,"") -> 10900 | R27: =IFERROR(Q27+M27,"") -> 16900 | U27: Restafval | V27: 110 kg/m³ | W27: 4 | X27: 440 | Y27: kg/m³ | Z27: Bouwblok 5 Bloom Zuid | AA27: 236 | AB27: 1629 | AD27: =AB27*$Z$42 -> 586.50213 | AE27: =AB27*$Z$43 -> 132.52627 | AF27: =AB27*$Z$44 -> 42.329041 | AG27: 1621.1385 | AH27: =AG27+AD27 -> 2207.6406 | AI27: =AH27/AG27 -> 1.3617841 | AJ27: 65 | AK27: =AH27/AJ27 -> 33.963701 | AM27: 232.82308 | AN27: =AM27+AE27 -> 365.34935 | AO27: 284.56154 | AP27: =AO27+AF27 -> 326.89058
C28: =Z28 -> Bouwblok 7 | D28: =AH28 -> 4083.4065 | E28: =$E$20 -> 110 | F28: =$W$27 -> 4 | G28: =(D28/E28)/F28 -> 9.2804693 | H28: Containeroptie 1 (zie regel 8) | I28: 2 | K28: =IFERROR(IF(H28="Containeroptie 1 (zie regel 8)",($G$8*0.8)*I28,IF(H28="Containeroptie 2 (zie regel 9)",($G$9*0.8)*I28,"")),"") -> 4.8 | L28: =IFERROR(IF(H28="Containeroptie 1 (zie regel 8)",$H$8,IF(H28="Containeroptie 2 (zie regel 9)",$H$9,""))," ") -> 3000 | M28: =IFERROR(L28*I28,"") -> 6000 | N28: =IF(H28="Containeroptie 1 (zie regel 8)",$I$8,IF(H28="Containeroptie 2 (zie regel 9)",$I$9,"")) -> 100 | O28: =IFERROR((G28/K28),"Vul kolom I en K in") -> 1.9334311 | P28: =IF(O28>2,"Aantal ledigingen onjuist",IFERROR(CEILING((O28*I28)*52,1),"")) -> 202 | Q28: =IFERROR(P28*N28,"") -> 20200 | R28: =IFERROR(Q28+M28,"") -> 26200 | Z28: Bouwblok 7 | AA28: =128+170 -> 298 | AB28: =375+5281 -> 5656 | AC28: 7a en 7b samen | AD28: =AB28*$Z$42 -> 2036.3757 | AE28: =AB28*$Z$43 -> 460.14032 | AF28: =AB28*$Z$44 -> 146.96934 | AG28: =879.261538461538+1167.76923076923 -> 2047.0308 | AH28: =AG28+AD28 -> 4083.4065 | AI28: =AH28/AG28 -> 1.9947949 | AJ28: ? | AM28: =126.276923076923+167.711538461538 -> 293.98846 | AN28: =AM28+AE28 -> 754.12878 | AO28: =154.338461538462+204.980769230769 -> 359.31923 | AP28: =AO28+AF28 -> 506.28857
C29: =Z29 -> Bouwblok 8 Grow | D29: =AH29 -> 6602.5687 | E29: =$E$20 -> 110 | F29: =$W$27 -> 4 | G29: =(D29/E29)/F29 -> 15.005838 | H29: Containeroptie 1 (zie regel 8) | I29: 4 | K29: =IFERROR(IF(H29="Containeroptie 1 (zie regel 8)",($G$8*0.8)*I29,IF(H29="Containeroptie 2 (zie regel 9)",($G$9*0.8)*I29,"")),"") -> 9.6 | L29: =IFERROR(IF(H29="Containeroptie 1 (zie regel 8)",$H$8,IF(H29="Containeroptie 2 (zie regel 9)",$H$9,""))," ") -> 3000 | M29: =IFERROR(L29*I29,"") -> 12000 | N29: =IF(H29="Containeroptie 1 (zie regel 8)",$I$8,IF(H29="Containeroptie 2 (zie regel 9)",$I$9,"")) -> 100 | O29: =IFERROR((G29/K29),"Vul kolom I en K in") -> 1.5631081 | P29: =IF(O29>2,"Aantal ledigingen onjuist",IFERROR(CEILING((O29*I29)*52,1),"")) -> 326 | Q29: =IFERROR(P29*N29,"") -> 32600 | R29: =IFERROR(Q29+M29,"") -> 44600 | U29: Kies het aantal containers per gebouw | Z29: Bouwblok 8 Grow | AA29: 575 | AB29: 7368 | AD29: =AB29*$Z$42 -> 2652.761 | AE29: =AB29*$Z$43 -> 599.419 | AF29: =AB29*$Z$44 -> 191.45511 | AG29: 3949.8077 | AH29: =AG29+AD29 -> 6602.5687 | AI29: =AH29/AG29 -> 1.6716178 | AJ29: 160 | AK29: =AH29/AJ29 -> 41.266054 | AM29: 567.25962 | AN29: =AM29+AE29 -> 1166.6786 | AO29: 693.31731 | AP29: =AO29+AF29 -> 884.77242
C30: =Z30 -> Bouwblok 9 Joy | D30: =AH30 -> 1277.5313 | E30: =$E$20 -> 110 | F30: =$W$27 -> 4 | G30: =(D30/E30)/F30 -> 2.9034802 | H30: Containeroptie 1 (zie regel 8) | I30: 2 | K30: =IFERROR(IF(H30="Containeroptie 1 (zie regel 8)",($G$8*0.8)*I30,IF(H30="Containeroptie 2 (zie regel 9)",($G$9*0.8)*I30,"")),"") -> 4.8 | L30: =IFERROR(IF(H30="Containeroptie 1 (zie regel 8)",$H$8,IF(H30="Containeroptie 2 (zie regel 9)",$H$9,""))," ") -> 3000 | M30: =IFERROR(L30*I30,"") -> 6000 | N30: =IF(H30="Containeroptie 1 (zie regel 8)",$I$8,IF(H30="Containeroptie 2 (zie regel 9)",$I$9,"")) -> 100 | O30: =IFERROR((G30/K30),"Vul kolom I en K in") -> 0.6048917 | P30: =IF(O30>2,"Aantal ledigingen onjuist",IFERROR(CEILING((O30*I30)*52,1),"")) -> 63 | Q30: =IFERROR(P30*N30,"") -> 6300 | R30: =IFERROR(Q30+M30,"") -> 12300 | U30: 1 | Z30: Bouwblok 9 Joy | AA30: 143 | AB30: 820 | AD30: =AB30*$Z$42 -> 295.23127 | AE30: =AB30*$Z$43 -> 66.710583 | AF30: =AB30*$Z$44 -> 21.307436 | AG30: 982.3 | AH30: =AG30+AD30 -> 1277.5313 | AI30: =AH30/AG30 -> 1.300551 | AJ30: 62 | AK30: =AH30/AJ30 -> 20.605343 | AM30: 141.075 | AN30: =AM30+AE30 -> 207.78558 | AO30: 172.425 | AP30: =AO30+AF30 -> 193.73244
C31: =Z31 -> Bouwblok 10 Pulse | D31: =AH31 -> 1449.4077 | E31: =$E$20 -> 110 | F31: =$W$27 -> 4 | G31: =(D31/E31)/F31 -> 3.2941084 | H31: Containeroptie 1 (zie regel 8) | I31: 1 | K31: =IFERROR(IF(H31="Containeroptie 1 (zie regel 8)",($G$8*0.8)*I31,IF(H31="Containeroptie 2 (zie regel 9)",($G$9*0.8)*I31,"")),"") -> 2.4 | L31: =IFERROR(IF(H31="Containeroptie 1 (zie regel 8)",$H$8,IF(H31="Containeroptie 2 (zie regel 9)",$H$9,""))," ") -> 3000 | M31: =IFERROR(L31*I31,"") -> 3000 | N31: =IF(H31="Containeroptie 1 (zie regel 8)",$I$8,IF(H31="Containeroptie 2 (zie regel 9)",$I$9,"")) -> 100 | O31: =IFERROR((G31/K31),"Vul kolom I en K in") -> 1.3725452 | P31: =IF(O31>2,"Aantal ledigingen onjuist",IFERROR(CEILING((O31*I31)*52,1),"")) -> 72 | Q31: =IFERROR(P31*N31,"") -> 7200 | R31: =IFERROR(Q31+M31,"") -> 10200 | U31: 2 | Z31: Bouwblok 10 Pulse | AA31: 211 | AB31: 0 | AD31: =AB31*$Z$42 -> 0 | AE31: =AB31*$Z$43 -> 0 | AF31: =AB31*$Z$44 -> 0 | AG31: 1449.4077 | AH31: =AG31+AD31 -> 1449.4077 | AI31: =AH31/AG31 -> 1 | AJ31: 70 | AK31: =AH31/AJ31 -> 20.705824 | AM31: 208.15962 | AN31: =AM31+AE31 -> 208.15962 | AO31: 254.41731 | AP31: =AO31+AF31 -> 254.41731
C32: =Z32 -> Bouwblok 11 | D32: =AH32 -> 3827.0823 | E32: =$E$20 -> 110 | F32: =$W$27 -> 4 | G32: =(D32/E32)/F32 -> 8.6979144 | H32: Containeroptie 1 (zie regel 8) | I32: 2 | K32: =IFERROR(IF(H32="Containeroptie 1 (zie regel 8)",($G$8*0.8)*I32,IF(H32="Containeroptie 2 (zie regel 9)",($G$9*0.8)*I32,"")),"") -> 4.8 | L32: =IFERROR(IF(H32="Containeroptie 1 (zie regel 8)",$H$8,IF(H32="Containeroptie 2 (zie regel 9)",$H$9,""))," ") -> 3000 | M32: =IFERROR(L32*I32,"") -> 6000 | N32: =IF(H32="Containeroptie 1 (zie regel 8)",$I$8,IF(H32="Containeroptie 2 (zie regel 9)",$I$9,"")) -> 100 | O32: =IFERROR((G32/K32),"Vul kolom I en K in") -> 1.8120655 | P32: =IF(O32>2,"Aantal ledigingen onjuist",IFERROR(CEILING((O32*I32)*52,1),"")) -> 189 | Q32: =IFERROR(P32*N32,"") -> 18900 | R32: =IFERROR(Q32+M32,"") -> 24900 | U32: 3 | Z32: Bouwblok 11 | AA32: 463 | AB32: 1796 | AD32: =AB32*$Z$42 -> 646.6285 | AE32: =AB32*$Z$43 -> 146.11245 | AF32: =AB32*$Z$44 -> 46.668482 | AG32: 3180.4538 | AH32: =AG32+AD32 -> 3827.0823 | AI32: =AH32/AG32 -> 1.2033133 | AJ32: 161 | AK32: =AH32/AJ32 -> 23.770698 | AM32: 456.76731 | AN32: =AM32+AE32 -> 602.87976 | AO32: 558.27115 | AP32: =AO32+AF32 -> 604.93964
C33: =Z33 -> Bouwblok 12 a Bloom Park | D33: =AH33 -> 2703.4311 | E33: =$E$20 -> 110 | F33: =$W$27 -> 4 | G33: =(D33/E33)/F33 -> 6.1441615 | H33: Containeroptie 1 (zie regel 8) | I33: 2 | K33: =IFERROR(IF(H33="Containeroptie 1 (zie regel 8)",($G$8*0.8)*I33,IF(H33="Containeroptie 2 (zie regel 9)",($G$9*0.8)*I33,"")),"") -> 4.8 | L33: =IFERROR(IF(H33="Containeroptie 1 (zie regel 8)",$H$8,IF(H33="Containeroptie 2 (zie regel 9)",$H$9,""))," ") -> 3000 | M33: =IFERROR(L33*I33,"") -> 6000 | N33: =IF(H33="Containeroptie 1 (zie regel 8)",$I$8,IF(H33="Containeroptie 2 (zie regel 9)",$I$9,"")) -> 100 | O33: =IFERROR((G33/K33),"Vul kolom I en K in") -> 1.2800337 | P33: =IF(O33>2,"Aantal ledigingen onjuist",IFERROR(CEILING((O33*I33)*52,1),"")) -> 134 | Q33: =IFERROR(P33*N33,"") -> 13400 | R33: =IFERROR(Q33+M33,"") -> 19400 | U33: 4 | Z33: Bouwblok 12 a Bloom Park | AA33: 224 | AB33: 3235 | AD33: =AB33*$Z$42 -> 1164.7234 | AE33: =AB33*$Z$43 -> 263.18139 | AF33: =AB33*$Z$44 -> 84.060434 | AG33: 1538.7077 | AH33: =AG33+AD33 -> 2703.4311 | AI33: =AH33/AG33 -> 1.7569491 | AJ33: 67 | AK33: =AH33/AJ33 -> 40.349717 | AM33: 220.98462 | AN33: =AM33+AE33 -> 484.166 | AO33: 270.09231 | AP33: =AO33+AF33 -> 354.15274
C34: =Z34 -> Bouwblok 13 Cix City | D34: =AH34 -> 4098.5281 | E34: =$E$20 -> 110 | F34: =$W$27 -> 4 | G34: =(D34/E34)/F34 -> 9.3148366 | H34: Containeroptie 1 (zie regel 8) | I34: 2 | K34: =IFERROR(IF(H34="Containeroptie 1 (zie regel 8)",($G$8*0.8)*I34,IF(H34="Containeroptie 2 (zie regel 9)",($G$9*0.8)*I34,"")),"") -> 4.8 | L34: =IFERROR(IF(H34="Containeroptie 1 (zie regel 8)",$H$8,IF(H34="Containeroptie 2 (zie regel 9)",$H$9,""))," ") -> 3000 | M34: =IFERROR(L34*I34,"") -> 6000 | N34: =IF(H34="Containeroptie 1 (zie regel 8)",$I$8,IF(H34="Containeroptie 2 (zie regel 9)",$I$9,"")) -> 100 | O34: =IFERROR((G34/K34),"Vul kolom I en K in") -> 1.9405909 | P34: =IF(O34>2,"Aantal ledigingen onjuist",IFERROR(CEILING((O34*I34)*52,1),"")) -> 202 | Q34: =IFERROR(P34*N34,"") -> 20200 | R34: =IFERROR(Q34+M34,"") -> 26200 | U34: 5 | Z34: Bouwblok 13 Cix City | AA34: 298 | AB34: 5698 | AD34: =AB34*$Z$42 -> 2051.4973 | AE34: =AB34*$Z$43 -> 463.5572 | AF34: =AB34*$Z$44 -> 148.0607 | AG34: 2047.0308 | AH34: =AG34+AD34 -> 4098.5281 | AI34: =AH34/AG34 -> 2.002182 | AJ34: 80 | AK34: =AH34/AJ34 -> 51.231601 | AM34: 293.98846 | AN34: =AM34+AE34 -> 757.54566 | AO34: 359.31923 | AP34: =AO34+AF34 -> 507.37993
C35: =Z35 -> Bouwblok 14 Cix Theatre | D35: =AH35 -> 1335.0308 | E35: =$E$20 -> 110 | F35: =$W$27 -> 4 | G35: =(D35/E35)/F35 -> 3.0341609 | H35: Containeroptie 1 (zie regel 8) | I35: 1 | K35: =IFERROR(IF(H35="Containeroptie 1 (zie regel 8)",($G$8*0.8)*I35,IF(H35="Containeroptie 2 (zie regel 9)",($G$9*0.8)*I35,"")),"") -> 2.4 | L35: =IFERROR(IF(H35="Containeroptie 1 (zie regel 8)",$H$8,IF(H35="Containeroptie 2 (zie regel 9)",$H$9,""))," ") -> 3000 | M35: =IFERROR(L35*I35,"") -> 3000 | N35: =IF(H35="Containeroptie 1 (zie regel 8)",$I$8,IF(H35="Containeroptie 2 (zie regel 9)",$I$9,"")) -> 100 | O35: =IFERROR((G35/K35),"Vul kolom I en K in") -> 1.2642337 | P35: =IF(O35>2,"Aantal ledigingen onjuist",IFERROR(CEILING((O35*I35)*52,1),"")) -> 66 | Q35: =IFERROR(P35*N35,"") -> 6600 | R35: =IFERROR(Q35+M35,"") -> 9600 | Z35: Bouwblok 14 Cix Theatre | AA35: 114 | AB35: 1533 | AD35: =AB35*$Z$42 -> 551.93847 | AE35: =AB35*$Z$43 -> 124.71625 | AF35: =AB35*$Z$44 -> 39.834512 | AG35: 783.09231 | AH35: =AG35+AD35 -> 1335.0308 | AI35: =AH35/AG35 -> 1.7048192 | AJ35: 55 | AK35: =AH35/AJ35 -> 24.273287 | AM35: 112.46538 | AN35: =AM35+AE35 -> 237.18163 | AO35: 137.45769 | AP35: =AO35+AF35 -> 177.2922
C36: =Z36 -> Bouwblok 18 Depot | D36: =AH36 -> 5327.4094 | E36: =$E$20 -> 110 | F36: =$W$27 -> 4 | G36: =(D36/E36)/F36 -> 12.107749 | H36: Containeroptie 1 (zie regel 8) | I36: 3 | K36: =IFERROR(IF(H36="Containeroptie 1 (zie regel 8)",($G$8*0.8)*I36,IF(H36="Containeroptie 2 (zie regel 9)",($G$9*0.8)*I36,"")),"") -> 7.2 | L36: =IFERROR(IF(H36="Containeroptie 1 (zie regel 8)",$H$8,IF(H36="Containeroptie 2 (zie regel 9)",$H$9,""))," ") -> 3000 | M36: =IFERROR(L36*I36,"") -> 9000 | N36: =IF(H36="Containeroptie 1 (zie regel 8)",$I$8,IF(H36="Containeroptie 2 (zie regel 9)",$I$9,"")) -> 100 | O36: =IFERROR((G36/K36),"Vul kolom I en K in") -> 1.6816317 | P36: =IF(O36>2,"Aantal ledigingen onjuist",IFERROR(CEILING((O36*I36)*52,1),"")) -> 263 | Q36: =IFERROR(P36*N36,"") -> 26300 | R36: =IFERROR(Q36+M36,"") -> 35300 | Z36: Bouwblok 18 Depot | AA36: 10 | AB36: 14606 | AD36: =AB36*$Z$42 -> 5258.7171 | AE36: =AB36*$Z$43 -> 1188.2619 | AF36: =AB36*$Z$44 -> 379.53221 | AG36: 68.692308 | AH36: =AG36+AD36 -> 5327.4094 | AI36: =AH36/AG36 -> 77.554672 | AJ36: 53 | AK36: =AH36/AJ36 -> 100.51716 | AM36: 9.8653846 | AN36: =AM36+AE36 -> 1198.1273 | AO36: 12.057692 | AP36: =AO36+AF36 -> 391.5899
D37: =SUM(D22:D36) -> 54778.732 | G37: =SUM(G20:G36) -> 129.66075 | L37: Huurkosten restafval | M37: =IF(COUNTBLANK(M20:M36)=0,SUM(M20:M36),"NIET COMPLEET") -> 114000 | P37: Inzamelkosten restafval | Q37: =IF(COUNTBLANK(Q20:Q36)=0,SUM(Q20:Q36)) -> 281800 | R37: =IF(COUNTBLANK(R20:R36)=0,SUM(R20:R36)) -> 395800
C40: Locaties* | D40: Aanbod fractie** | E40: Soortelijk gewicht | F40: Verdichtingsfactor | G40: Aanbod: Gewicht naar inhoud | H40: In te zetten type container | I40: Aantal containers | K40: Capaciteit containers o.b.v. 80% | L40: Huur per container p.j. | M40: Containerkosten per jaar | N40: Prijs per lediging | O40: Ledigingen per week*** | P40: Aantal ledigingen per jaar | Q40: Ledigingskosten per jaar | R40: Totale kosten locatie per jaar
C41: Inzameling en transport van Papier en karton | G41: = kolom (E/F)/G | AB41: =SUM(AA23,AA24,AA32) -> 1446
C42: =Z20 -> Wonderwoods MSVA | D42: =AN20 -> 85 | E42: 120 | F42: =$W$25 -> 3 | G42: =(D42/E42)/F42 -> 0.23611111 | H42: Containeroptie 2 (zie regel 9) | I42: 1 | K42: =IFERROR(IF(H42="Containeroptie 1 (zie regel 8)",($G$8*0.8)*I42,IF(H42="Containeroptie 2 (zie regel 9)",($G$9*0.8)*I42,"")),"") -> 1.6 | L42: =IFERROR(IF(H42="Containeroptie 1 (zie regel 8)",$H$8,IF(H42="Containeroptie 2 (zie regel 9)",$H$9,""))," ") -> 2000 | M42: =IFERROR(L42*I42,"") -> 2000 | N42: =IF(H42="Containeroptie 1 (zie regel 8)",$I$8,IF(H42="Containeroptie 2 (zie regel 9)",$I$9,"")) -> 100 | O42: =IFERROR((G42/K42),"Vul kolom I en K in") -> 0.14756944 | P42: =IF(O42>2,"Aantal ledigingen onjuist",IFERROR(CEILING((O42*I42)*52,1),"")) -> 8 | Q42: =IFERROR(P42*N42,"") -> 800 | R42: =IFERROR(Q42+M42,"") -> 2800 | U42: Hoeveelheid RESTper m2 bedrijfsoppervlakte | Y42: =17.4719832286658+1.25 -> 18.721983 | Z42: =Y42/52 -> 0.36003814 | AB42: 739 | AC42: oorspronkelijk
C43: =Z21 -> Wonderwoods Boeri | D43: =AN21 -> 241 | E43: =E42 -> 120 | F43: =$W$25 -> 3 | G43: =(D43/E43)/F43 -> 0.66944444 | H43: Containeroptie 2 (zie regel 9) | I43: 1 | K43: =IFERROR(IF(H43="Containeroptie 1 (zie regel 8)",($G$8*0.8)*I43,IF(H43="Containeroptie 2 (zie regel 9)",($G$9*0.8)*I43,"")),"") -> 1.6 | L43: =IFERROR(IF(H43="Containeroptie 1 (zie regel 8)",$H$8,IF(H43="Containeroptie 2 (zie regel 9)",$H$9,""))," ") -> 2000 | M43: =IFERROR(L43*I43,"") -> 2000 | N43: =IF(H43="Containeroptie 1 (zie regel 8)",$I$8,IF(H43="Containeroptie 2 (zie regel 9)",$I$9,"")) -> 100 | O43: =IFERROR((G43/K43),"Vul kolom I en K in") -> 0.41840278 | P43: =IF(O43>2,"Aantal ledigingen onjuist",IFERROR(CEILING((O43*I43)*52,1),"")) -> 22 | Q43: =IFERROR(P43*N43,"") -> 2200 | R43: =IFERROR(Q43+M43,"") -> 4200 | U43: Hoeveelheid OPK per m2 bedrijfsoppervlakte | Y43: 4.2304272 | Z43: =Y43/52 -> 0.08135437
C44: =Z22 -> Bouwblok 1 a-b | D44: =AN22 -> 354.69939 | E44: =E43 -> 120 | F44: =$W$25 -> 3 | G44: =(D44/E44)/F44 -> 0.98527609 | H44: Containeroptie 2 (zie regel 9) | I44: 1 | K44: =IFERROR(IF(H44="Containeroptie 1 (zie regel 8)",($G$8*0.8)*I44,IF(H44="Containeroptie 2 (zie regel 9)",($G$9*0.8)*I44,"")),"") -> 1.6 | L44: =IFERROR(IF(H44="Containeroptie 1 (zie regel 8)",$H$8,IF(H44="Containeroptie 2 (zie regel 9)",$H$9,""))," ") -> 2000 | M44: =IFERROR(L44*I44,"") -> 2000 | N44: =IF(H44="Containeroptie 1 (zie regel 8)",$I$8,IF(H44="Containeroptie 2 (zie regel 9)",$I$9,"")) -> 100 | O44: =IFERROR((G44/K44),"Vul kolom I en K in") -> 0.61579756 | P44: =IF(O44>2,"Aantal ledigingen onjuist",IFERROR(CEILING((O44*I44)*52,1),"")) -> 33 | Q44: =IFERROR(P44*N44,"") -> 3300 | R44: =IFERROR(Q44+M44,"") -> 5300 | U44: Hoeveelheid GFE per m2 bedrijfsoppervlakte | Y44: 1.3512033 | Z44: =Y44/52 -> 0.025984678
C45: =Z23 -> Bouwblok 1 a-g | D45: =AN23 -> 1291.1545 | E45: =E44 -> 120 | F45: =$W$25 -> 3 | G45: =(D45/E45)/F45 -> 3.5865403 | H45: Containeroptie 1 (zie regel 8) | I45: 1 | K45: =IFERROR(IF(H45="Containeroptie 1 (zie regel 8)",($G$8*0.8)*I45,IF(H45="Containeroptie 2 (zie regel 9)",($G$9*0.8)*I45,"")),"") -> 2.4 | L45: =IFERROR(IF(H45="Containeroptie 1 (zie regel 8)",$H$8,IF(H45="Containeroptie 2 (zie regel 9)",$H$9,""))," ") -> 3000 | M45: =IFERROR(L45*I45,"") -> 3000 | N45: =IF(H45="Containeroptie 1 (zie regel 8)",$I$8,IF(H45="Containeroptie 2 (zie regel 9)",$I$9,"")) -> 100 | O45: =IFERROR((G45/K45),"Vul kolom I en K in") -> 1.4943918 | P45: =IF(O45>2,"Aantal ledigingen onjuist",IFERROR(CEILING((O45*I45)*52,1),"")) -> 78 | Q45: =IFERROR(P45*N45,"") -> 7800 | R45: =IFERROR(Q45+M45,"") -> 10800
C46: =Z24 -> Bouwblok 2a | D46: =AN24 -> 463.68246 | E46: =E45 -> 120 | F46: =$W$25 -> 3 | G46: =(D46/E46)/F46 -> 1.2880068 | H46: Containeroptie 2 (zie regel 9) | I46: 1 | K46: =IFERROR(IF(H46="Containeroptie 1 (zie regel 8)",($G$8*0.8)*I46,IF(H46="Containeroptie 2 (zie regel 9)",($G$9*0.8)*I46,"")),"") -> 1.6 | L46: =IFERROR(IF(H46="Containeroptie 1 (zie regel 8)",$H$8,IF(H46="Containeroptie 2 (zie regel 9)",$H$9,""))," ") -> 2000 | M46: =IFERROR(L46*I46,"") -> 2000 | N46: =IF(H46="Containeroptie 1 (zie regel 8)",$I$8,IF(H46="Containeroptie 2 (zie regel 9)",$I$9,"")) -> 100 | O46: =IFERROR((G46/K46),"Vul kolom I en K in") -> 0.80500427 | P46: =IF(O46>2,"Aantal ledigingen onjuist",IFERROR(CEILING((O46*I46)*52,1),"")) -> 42 | Q46: =IFERROR(P46*N46,"") -> 4200 | R46: =IFERROR(Q46+M46,"") -> 6200
C47: =Z25 -> Bouwblok 3 School + sporthal | D47: =AN25 -> 1406.5329 | E47: =E46 -> 120 | F47: =$W$25 -> 3 | G47: =(D47/E47)/F47 -> 3.9070357 | H47: Containeroptie 1 (zie regel 8) | I47: 1 | J47: =J46 -> 0 | K47: =IFERROR(IF(H47="Containeroptie 1 (zie regel 8)",($G$8*0.8)*I47,IF(H47="Containeroptie 2 (zie regel 9)",($G$9*0.8)*I47,"")),"") -> 2.4 | L47: =IFERROR(IF(H47="Containeroptie 1 (zie regel 8)",$H$8,IF(H47="Containeroptie 2 (zie regel 9)",$H$9,""))," ") -> 3000 | M47: =IFERROR(L47*I47,"") -> 3000 | N47: =IF(H47="Containeroptie 1 (zie regel 8)",$I$8,IF(H47="Containeroptie 2 (zie regel 9)",$I$9,"")) -> 100 | O47: =IFERROR((G47/K47),"Vul kolom I en K in") -> 1.6279316 | P47: =IF(O47>2,"Aantal ledigingen onjuist",IFERROR(CEILING((O47*I47)*52,1),"")) -> 85 | Q47: =IFERROR(P47*N47,"") -> 8500 | R47: =IFERROR(Q47+M47,"") -> 11500
C48: =Z26 -> Bouwblok 4 Bloom Zuid | D48: =AN26 -> 400.57202 | E48: =E47 -> 120 | F48: =$W$25 -> 3 | G48: =(D48/E48)/F48 -> 1.1127001 | H48: Containeroptie 2 (zie regel 9) | I48: 1 | J48: =J47 -> 0 | K48: =IFERROR(IF(H48="Containeroptie 1 (zie regel 8)",($G$8*0.8)*I48,IF(H48="Containeroptie 2 (zie regel 9)",($G$9*0.8)*I48,"")),"") -> 1.6 | L48: =IFERROR(IF(H48="Containeroptie 1 (zie regel 8)",$H$8,IF(H48="Containeroptie 2 (zie regel 9)",$H$9,""))," ") -> 2000 | M48: =IFERROR(L48*I48,"") -> 2000 | N48: =IF(H48="Containeroptie 1 (zie regel 8)",$I$8,IF(H48="Containeroptie 2 (zie regel 9)",$I$9,"")) -> 100 | O48: =IFERROR((G48/K48),"Vul kolom I en K in") -> 0.69543754 | P48: =IF(O48>2,"Aantal ledigingen onjuist",IFERROR(CEILING((O48*I48)*52,1),"")) -> 37 | Q48: =IFERROR(P48*N48,"") -> 3700 | R48: =IFERROR(Q48+M48,"") -> 5700
C49: =Z27 -> Bouwblok 5 Bloom Zuid | D49: =AN27 -> 365.34935 | E49: =E47 -> 120 | F49: =$W$25 -> 3 | G49: =(D49/E49)/F49 -> 1.0148593 | H49: Containeroptie 2 (zie regel 9) | I49: 1 | K49: =IFERROR(IF(H49="Containeroptie 1 (zie regel 8)",($G$8*0.8)*I49,IF(H49="Containeroptie 2 (zie regel 9)",($G$9*0.8)*I49,"")),"") -> 1.6 | L49: =IFERROR(IF(H49="Containeroptie 1 (zie regel 8)",$H$8,IF(H49="Containeroptie 2 (zie regel 9)",$H$9,""))," ") -> 2000 | M49: =IFERROR(L49*I49,"") -> 2000 | N49: =IF(H49="Containeroptie 1 (zie regel 8)",$I$8,IF(H49="Containeroptie 2 (zie regel 9)",$I$9,"")) -> 100 | O49: =IFERROR((G49/K49),"Vul kolom I en K in") -> 0.63428706 | P49: =IF(O49>2,"Aantal ledigingen onjuist",IFERROR(CEILING((O49*I49)*52,1),"")) -> 33 | Q49: =IFERROR(P49*N49,"") -> 3300 | R49: =IFERROR(Q49+M49,"") -> 5300
C50: =Z28 -> Bouwblok 7 | D50: =AN28 -> 754.12878 | E50: =E49 -> 120 | F50: =$W$25 -> 3 | G50: =(D50/E50)/F50 -> 2.0948022 | H50: Containeroptie 2 (zie regel 9) | I50: 1 | K50: =IFERROR(IF(H50="Containeroptie 1 (zie regel 8)",($G$8*0.8)*I50,IF(H50="Containeroptie 2 (zie regel 9)",($G$9*0.8)*I50,"")),"") -> 1.6 | L50: =IFERROR(IF(H50="Containeroptie 1 (zie regel 8)",$H$8,IF(H50="Containeroptie 2 (zie regel 9)",$H$9,""))," ") -> 2000 | M50: =IFERROR(L50*I50,"") -> 2000 | N50: =IF(H50="Containeroptie 1 (zie regel 8)",$I$8,IF(H50="Containeroptie 2 (zie regel 9)",$I$9,"")) -> 100 | O50: =IFERROR((G50/K50),"Vul kolom I en K in") -> 1.3092513 | P50: =IF(O50>2,"Aantal ledigingen onjuist",IFERROR(CEILING((O50*I50)*52,1),"")) -> 69 | Q50: =IFERROR(P50*N50,"") -> 6900 | R50: =IFERROR(Q50+M50,"") -> 8900
C51: =Z29 -> Bouwblok 8 Grow | D51: =AN29 -> 1166.6786 | E51: =$E$42 -> 120 | F51: =$W$25 -> 3 | G51: =(D51/E51)/F51 -> 3.2407739 | H51: Containeroptie 1 (zie regel 8) | I51: 1 | K51: =IFERROR(IF(H51="Containeroptie 1 (zie regel 8)",($G$8*0.8)*I51,IF(H51="Containeroptie 2 (zie regel 9)",($G$9*0.8)*I51,"")),"") -> 2.4 | L51: =IFERROR(IF(H51="Containeroptie 1 (zie regel 8)",$H$8,IF(H51="Containeroptie 2 (zie regel 9)",$H$9,""))," ") -> 3000 | M51: =IFERROR(L51*I51,"") -> 3000 | N51: =IF(H51="Containeroptie 1 (zie regel 8)",$I$8,IF(H51="Containeroptie 2 (zie regel 9)",$I$9,"")) -> 100 | O51: =IFERROR((G51/K51),"Vul kolom I en K in") -> 1.3503225 | P51: =IF(O51>2,"Aantal ledigingen onjuist",IFERROR(CEILING((O51*I51)*52,1),"")) -> 71 | Q51: =IFERROR(P51*N51,"") -> 7100 | R51: =IFERROR(Q51+M51,"") -> 10100
C52: =Z30 -> Bouwblok 9 Joy | D52: =AN30 -> 207.78558 | E52: =$E$42 -> 120 | F52: =$W$25 -> 3 | G52: =(D52/E52)/F52 -> 0.57718218 | H52: Containeroptie 2 (zie regel 9) | I52: 1 | K52: =IFERROR(IF(H52="Containeroptie 1 (zie regel 8)",($G$8*0.8)*I52,IF(H52="Containeroptie 2 (zie regel 9)",($G$9*0.8)*I52,"")),"") -> 1.6 | L52: =IFERROR(IF(H52="Containeroptie 1 (zie regel 8)",$H$8,IF(H52="Containeroptie 2 (zie regel 9)",$H$9,""))," ") -> 2000 | M52: =IFERROR(L52*I52,"") -> 2000 | N52: =IF(H52="Containeroptie 1 (zie regel 8)",$I$8,IF(H52="Containeroptie 2 (zie regel 9)",$I$9,"")) -> 100 | O52: =IFERROR((G52/K52),"Vul kolom I en K in") -> 0.36073886 | P52: =IF(O52>2,"Aantal ledigingen onjuist",IFERROR(CEILING((O52*I52)*52,1),"")) -> 19 | Q52: =IFERROR(P52*N52,"") -> 1900 | R52: =IFERROR(Q52+M52,"") -> 3900
C53: =Z31 -> Bouwblok 10 Pulse | D53: =AN31 -> 208.15962 | E53: =$E$42 -> 120 | F53: =$W$25 -> 3 | G53: =(D53/E53)/F53 -> 0.57822115 | H53: Containeroptie 2 (zie regel 9) | I53: 1 | K53: =IFERROR(IF(H53="Containeroptie 1 (zie regel 8)",($G$8*0.8)*I53,IF(H53="Containeroptie 2 (zie regel 9)",($G$9*0.8)*I53,"")),"") -> 1.6 | L53: =IFERROR(IF(H53="Containeroptie 1 (zie regel 8)",$H$8,IF(H53="Containeroptie 2 (zie regel 9)",$H$9,""))," ") -> 2000 | M53: =IFERROR(L53*I53,"") -> 2000 | N53: =IF(H53="Containeroptie 1 (zie regel 8)",$I$8,IF(H53="Containeroptie 2 (zie regel 9)",$I$9,"")) -> 100 | O53: =IFERROR((G53/K53),"Vul kolom I en K in") -> 0.36138822 | P53: =IF(O53>2,"Aantal ledigingen onjuist",IFERROR(CEILING((O53*I53)*52,1),"")) -> 19 | Q53: =IFERROR(P53*N53,"") -> 1900 | R53: =IFERROR(Q53+M53,"") -> 3900
C54: =Z32 -> Bouwblok 11 | D54: =AN32 -> 602.87976 | E54: =$E$42 -> 120 | F54: =$W$25 -> 3 | G54: =(D54/E54)/F54 -> 1.674666 | H54: Containeroptie 2 (zie regel 9) | I54: 1 | K54: =IFERROR(IF(H54="Containeroptie 1 (zie regel 8)",($G$8*0.8)*I54,IF(H54="Containeroptie 2 (zie regel 9)",($G$9*0.8)*I54,"")),"") -> 1.6 | L54: =IFERROR(IF(H54="Containeroptie 1 (zie regel 8)",$H$8,IF(H54="Containeroptie 2 (zie regel 9)",$H$9,""))," ") -> 2000 | M54: =IFERROR(L54*I54,"") -> 2000 | N54: =IF(H54="Containeroptie 1 (zie regel 8)",$I$8,IF(H54="Containeroptie 2 (zie regel 9)",$I$9,"")) -> 100 | O54: =IFERROR((G54/K54),"Vul kolom I en K in") -> 1.0466662 | P54: =IF(O54>2,"Aantal ledigingen onjuist",IFERROR(CEILING((O54*I54)*52,1),"")) -> 55 | Q54: =IFERROR(P54*N54,"") -> 5500 | R54: =IFERROR(Q54+M54,"") -> 7500
C55: =Z33 -> Bouwblok 12 a Bloom Park | D55: =AN33 -> 484.166 | E55: =$E$42 -> 120 | F55: =$W$25 -> 3 | G55: =(D55/E55)/F55 -> 1.3449056 | H55: Containeroptie 2 (zie regel 9) | I55: 1 | K55: =IFERROR(IF(H55="Containeroptie 1 (zie regel 8)",($G$8*0.8)*I55,IF(H55="Containeroptie 2 (zie regel 9)",($G$9*0.8)*I55,"")),"") -> 1.6 | L55: =IFERROR(IF(H55="Containeroptie 1 (zie regel 8)",$H$8,IF(H55="Containeroptie 2 (zie regel 9)",$H$9,""))," ") -> 2000 | M55: =IFERROR(L55*I55,"") -> 2000 | N55: =IF(H55="Containeroptie 1 (zie regel 8)",$I$8,IF(H55="Containeroptie 2 (zie regel 9)",$I$9,"")) -> 100 | O55: =IFERROR((G55/K55),"Vul kolom I en K in") -> 0.84056597 | P55: =IF(O55>2,"Aantal ledigingen onjuist",IFERROR(CEILING((O55*I55)*52,1),"")) -> 44 | Q55: =IFERROR(P55*N55,"") -> 4400 | R55: =IFERROR(Q55+M55,"") -> 6400
C56: =Z34 -> Bouwblok 13 Cix City | D56: =AN34 -> 757.54566 | E56: =$E$42 -> 120 | F56: =$W$25 -> 3 | G56: =(D56/E56)/F56 -> 2.1042935 | H56: Containeroptie 2 (zie regel 9) | I56: 1 | K56: =IFERROR(IF(H56="Containeroptie 1 (zie regel 8)",($G$8*0.8)*I56,IF(H56="Containeroptie 2 (zie regel 9)",($G$9*0.8)*I56,"")),"") -> 1.6 | L56: =IFERROR(IF(H56="Containeroptie 1 (zie regel 8)",$H$8,IF(H56="Containeroptie 2 (zie regel 9)",$H$9,""))," ") -> 2000 | M56: =IFERROR(L56*I56,"") -> 2000 | N56: =IF(H56="Containeroptie 1 (zie regel 8)",$I$8,IF(H56="Containeroptie 2 (zie regel 9)",$I$9,"")) -> 100 | O56: =IFERROR((G56/K56),"Vul kolom I en K in") -> 1.3151834 | P56: =IF(O56>2,"Aantal ledigingen onjuist",IFERROR(CEILING((O56*I56)*52,1),"")) -> 69 | Q56: =IFERROR(P56*N56,"") -> 6900 | R56: =IFERROR(Q56+M56,"") -> 8900
C57: =Z35 -> Bouwblok 14 Cix Theatre | D57: =AN35 -> 237.18163 | E57: =$E$42 -> 120 | F57: =$W$25 -> 3 | G57: =(D57/E57)/F57 -> 0.65883787 | H57: Containeroptie 2 (zie regel 9) | I57: 1 | K57: =IFERROR(IF(H57="Containeroptie 1 (zie regel 8)",($G$8*0.8)*I57,IF(H57="Containeroptie 2 (zie regel 9)",($G$9*0.8)*I57,"")),"") -> 1.6 | L57: =IFERROR(IF(H57="Containeroptie 1 (zie regel 8)",$H$8,IF(H57="Containeroptie 2 (zie regel 9)",$H$9,""))," ") -> 2000 | M57: =IFERROR(L57*I57,"") -> 2000 | N57: =IF(H57="Containeroptie 1 (zie regel 8)",$I$8,IF(H57="Containeroptie 2 (zie regel 9)",$I$9,"")) -> 100 | O57: =IFERROR((G57/K57),"Vul kolom I en K in") -> 0.41177367 | P57: =IF(O57>2,"Aantal ledigingen onjuist",IFERROR(CEILING((O57*I57)*52,1),"")) -> 22 | Q57: =IFERROR(P57*N57,"") -> 2200 | R57: =IFERROR(Q57+M57,"") -> 4200
C58: =Z36 -> Bouwblok 18 Depot | D58: =AN36 -> 1198.1273 | E58: =$E$42 -> 120 | F58: =$W$25 -> 3 | G58: =(D58/E58)/F58 -> 3.3281314 | H58: Containeroptie 1 (zie regel 8) | I58: 1 | K58: =IFERROR(IF(H58="Containeroptie 1 (zie regel 8)",($G$8*0.8)*I58,IF(H58="Containeroptie 2 (zie regel 9)",($G$9*0.8)*I58,"")),"") -> 2.4 | L58: =IFERROR(IF(H58="Containeroptie 1 (zie regel 8)",$H$8,IF(H58="Containeroptie 2 (zie regel 9)",$H$9,""))," ") -> 3000 | M58: =IFERROR(L58*I58,"") -> 3000 | N58: =IF(H58="Containeroptie 1 (zie regel 8)",$I$8,IF(H58="Containeroptie 2 (zie regel 9)",$I$9,"")) -> 100 | O58: =IFERROR((G58/K58),"Vul kolom I en K in") -> 1.3867214 | P58: =IF(O58>2,"Aantal ledigingen onjuist",IFERROR(CEILING((O58*I58)*52,1),"")) -> 73 | Q58: =IFERROR(P58*N58,"") -> 7300 | R58: =IFERROR(Q58+M58,"") -> 10300
D59: =SUM(D44:D58) -> 9898.6436 | G59: =SUM(G42:G58) -> 28.401788 | L59: Huurkosten papier en karton | M59: =IF(COUNTBLANK(M42:M58)=0,SUM(M42:M58),"NIET COMPLEET") -> 38000 | P59: Inzamelkosten papier en karton | Q59: =IF(COUNTBLANK(Q42:Q58)=0,SUM(Q42:Q58)) -> 77900 | R59: =IF(COUNTBLANK(R42:R58)=0,SUM(R42:R58)) -> 115900
C62: Locaties* | D62: Aanbod fractie** | E62: Soortelijk gewicht | F62: Verdichtingsfactor | G62: Aanbod: Gewicht naar inhoud | H62: In te zetten type container | I62: Aantal containers | K62: Capaciteit containers o.b.v. 80% | L62: Huur per container p.j. | M62: Containerkosten per jaar | N62: Prijs per lediging | O62: Ledigingen per week*** | P62: Aantal ledigingen per jaar**** | Q62: Ledigingskosten per jaar | R62: Totale kosten locatie per jaar
C63: Inzameling en transport van gfe | G63: = kolom (E/F)
C64: =Z20 -> Wonderwoods MSVA | D64: =AP20 -> 104 | E64: 300 | F64: Niet van toepassing | G64: =(D64/E64) -> 0.34666667 | H64: Containeroptie 2 (zie regel 11) | I64: 1 | K64: =IFERROR(IF(H64="Containeroptie 1 (zie regel 10)",($G$10*0.8)*I64,IF(H64="Containeroptie 2 (zie regel 11)",($G$11*0.8)*I64,"")),"") -> 0.88 | L64: =IFERROR(IF(H64="Containeroptie 1 (zie regel 10)",$H$10,IF(H64="Containeroptie 2 (zie regel 11)",$H$11,""))," ") -> 1500 | M64: =IFERROR(L64*I64," ") -> 1500 | N64: =IFERROR(IF(H64="Containeroptie 1 (zie regel 10)",$I$10,IF(H64="Containeroptie 2 (zie regel 11)",$I$11,""))," ") -> 75 | O64: =IFERROR((G64/K64), "Vul kolom I en K in") -> 0.39393939 | P64: =IF(O64>2,"Aantal ledigingen onjuist",IFERROR(CEILING((O64*I64)*52,1),"")) -> 21 | Q64: =IFERROR(P64*N64,"") -> 1575 | R64: =IFERROR(Q64+M64,"") -> 3075
C65: =Z21 -> Wonderwoods Boeri | D65: =AP21 -> 295 | E65: =$E$64 -> 300 | F65: Niet van toepassing | G65: =(D65/E65) -> 0.98333333 | H65: Containeroptie 2 (zie regel 11) | I65: 1 | K65: =IFERROR(IF(H65="Containeroptie 1 (zie regel 10)",($G$10*0.8)*I65,IF(H65="Containeroptie 2 (zie regel 11)",($G$11*0.8)*I65,"")),"") -> 0.88 | L65: =IFERROR(IF(H65="Containeroptie 1 (zie regel 10)",$H$10,IF(H65="Containeroptie 2 (zie regel 11)",$H$11,""))," ") -> 1500 | M65: =IFERROR(L65*I65," ") -> 1500 | N65: =IFERROR(IF(H65="Containeroptie 1 (zie regel 10)",$I$10,IF(H65="Containeroptie 2 (zie regel 11)",$I$11,""))," ") -> 75 | O65: =IFERROR((G65/K65), "Vul kolom I en K in") -> 1.1174242 | P65: =IF(O65>2,"Aantal ledigingen onjuist",IFERROR(CEILING((O65*I65)*52,1),"")) -> 59 | Q65: =IFERROR(P65*N65,"") -> 4425 | R65: =IFERROR(Q65+M65,"") -> 5925
C66: =Z22 -> Bouwblok 1 a-b | D66: =AP22 -> 380.49171 | E66: =$E$64 -> 300 | F66: Niet van toepassing | G66: =(D66/E66) -> 1.2683057 | H66: Containeroptie 2 (zie regel 11) | I66: 1 | K66: =IFERROR(IF(H66="Containeroptie 1 (zie regel 10)",($G$10*0.8)*I66,IF(H66="Containeroptie 2 (zie regel 11)",($G$11*0.8)*I66,"")),"") -> 0.88 | L66: =IFERROR(IF(H66="Containeroptie 1 (zie regel 10)",$H$10,IF(H66="Containeroptie 2 (zie regel 11)",$H$11,""))," ") -> 1500 | M66: =IFERROR(L66*I66," ") -> 1500 | N66: =IFERROR(IF(H66="Containeroptie 1 (zie regel 10)",$I$10,IF(H66="Containeroptie 2 (zie regel 11)",$I$11,""))," ") -> 75 | O66: =IFERROR((G66/K66), "Vul kolom I en K in") -> 1.4412565 | P66: =IF(O66>2,"Aantal ledigingen onjuist",IFERROR(CEILING((O66*I66)*52,1),"")) -> 75 | Q66: =IFERROR(P66*N66,"") -> 5625 | R66: =IFERROR(Q66+M66,"") -> 7125
C67: =Z23 -> Bouwblok 1 a-g | D67: =AP23 -> 1030.5196 | E67: =$E$64 -> 300 | F67: Niet van toepassing | G67: =(D67/E67) -> 3.4350654 | H67: Containeroptie 2 (zie regel 11) | I67: 2 | K67: =IFERROR(IF(H67="Containeroptie 1 (zie regel 10)",($G$10*0.8)*I67,IF(H67="Containeroptie 2 (zie regel 11)",($G$11*0.8)*I67,"")),"") -> 1.76 | L67: =IFERROR(IF(H67="Containeroptie 1 (zie regel 10)",$H$10,IF(H67="Containeroptie 2 (zie regel 11)",$H$11,""))," ") -> 1500 | M67: =IFERROR(L67*I67," ") -> 3000 | N67: =IFERROR(IF(H67="Containeroptie 1 (zie regel 10)",$I$10,IF(H67="Containeroptie 2 (zie regel 11)",$I$11,""))," ") -> 75 | O67: =IFERROR((G67/K67), "Vul kolom I en K in") -> 1.9517417 | P67: =IF(O67>2,"Aantal ledigingen onjuist",IFERROR(CEILING((O67*I67)*52,1),"")) -> 203 | Q67: =IFERROR(P67*N67,"") -> 15225 | R67: =IFERROR(Q67+M67,"") -> 18225
C68: =Z24 -> Bouwblok 2a | D68: =AP24 -> 405.50368 | E68: =$E$64 -> 300 | F68: Niet van toepassing | G68: =(D68/E68) -> 1.3516789 | H68: Containeroptie 2 (zie regel 11) | I68: 1 | K68: =IFERROR(IF(H68="Containeroptie 1 (zie regel 10)",($G$10*0.8)*I68,IF(H68="Containeroptie 2 (zie regel 11)",($G$11*0.8)*I68,"")),"") -> 0.88 | L68: =IFERROR(IF(H68="Containeroptie 1 (zie regel 10)",$H$10,IF(H68="Containeroptie 2 (zie regel 11)",$H$11,""))," ") -> 1500 | M68: =IFERROR(L68*I68," ") -> 1500 | N68: =IFERROR(IF(H68="Containeroptie 1 (zie regel 10)",$I$10,IF(H68="Containeroptie 2 (zie regel 11)",$I$11,""))," ") -> 75 | O68: =IFERROR((G68/K68), "Vul kolom I en K in") -> 1.5359988 | P68: =IF(O68>2,"Aantal ledigingen onjuist",IFERROR(CEILING((O68*I68)*52,1),"")) -> 80 | Q68: =IFERROR(P68*N68,"") -> 6000 | R68: =IFERROR(Q68+M68,"") -> 7500
C69: =Z25 -> Bouwblok 3 School + sporthal | D69: =AP25 -> 582.84836 | E69: =$E$64 -> 300 | F69: Niet van toepassing | G69: =(D69/E69) -> 1.9428279 | H69: Containeroptie 2 (zie regel 11) | I69: 2 | K69: =IFERROR(IF(H69="Containeroptie 1 (zie regel 10)",($G$10*0.8)*I69,IF(H69="Containeroptie 2 (zie regel 11)",($G$11*0.8)*I69,"")),"") -> 1.76 | L69: =IFERROR(IF(H69="Containeroptie 1 (zie regel 10)",$H$10,IF(H69="Containeroptie 2 (zie regel 11)",$H$11,""))," ") -> 1500 | M69: =IFERROR(L69*I69," ") -> 3000 | N69: =IFERROR(IF(H69="Containeroptie 1 (zie regel 10)",$I$10,IF(H69="Containeroptie 2 (zie regel 11)",$I$11,""))," ") -> 75 | O69: =IFERROR((G69/K69), "Vul kolom I en K in") -> 1.1038795 | P69: =IF(O69>2,"Aantal ledigingen onjuist",IFERROR(CEILING((O69*I69)*52,1),"")) -> 115 | Q69: =IFERROR(P69*N69,"") -> 8625 | R69: =IFERROR(Q69+M69,"") -> 11625
C70: =Z26 -> Bouwblok 4 Bloom Zuid | D70: =AP26 -> 464.61556 | E70: =$E$64 -> 300 | F70: Niet van toepassing | G70: =(D70/E70) -> 1.5487185 | H70: Containeroptie 2 (zie regel 11) | I70: 1 | K70: =IFERROR(IF(H70="Containeroptie 1 (zie regel 10)",($G$10*0.8)*I70,IF(H70="Containeroptie 2 (zie regel 11)",($G$11*0.8)*I70,"")),"") -> 0.88 | L70: =IFERROR(IF(H70="Containeroptie 1 (zie regel 10)",$H$10,IF(H70="Containeroptie 2 (zie regel 11)",$H$11,""))," ") -> 1500 | M70: =IFERROR(L70*I70," ") -> 1500 | N70: =IFERROR(IF(H70="Containeroptie 1 (zie regel 10)",$I$10,IF(H70="Containeroptie 2 (zie regel 11)",$I$11,""))," ") -> 75 | O70: =IFERROR((G70/K70), "Vul kolom I en K in") -> 1.7599074 | P70: =IF(O70>2,"Aantal ledigingen onjuist",IFERROR(CEILING((O70*I70)*52,1),"")) -> 92 | Q70: =IFERROR(P70*N70,"") -> 6900 | R70: =IFERROR(Q70+M70,"") -> 8400
C71: =Z27 -> Bouwblok 5 Bloom Zuid | D71: =AP27 -> 326.89058 | E71: =$E$64 -> 300 | F71: Niet van toepassing | G71: =(D71/E71) -> 1.0896353 | H71: Containeroptie 2 (zie regel 11) | I71: 1 | K71: =IFERROR(IF(H71="Containeroptie 1 (zie regel 10)",($G$10*0.8)*I71,IF(H71="Containeroptie 2 (zie regel 11)",($G$11*0.8)*I71,"")),"") -> 0.88 | L71: =IFERROR(IF(H71="Containeroptie 1 (zie regel 10)",$H$10,IF(H71="Containeroptie 2 (zie regel 11)",$H$11,""))," ") -> 1500 | M71: =IFERROR(L71*I71," ") -> 1500 | N71: =IFERROR(IF(H71="Containeroptie 1 (zie regel 10)",$I$10,IF(H71="Containeroptie 2 (zie regel 11)",$I$11,""))," ") -> 75 | O71: =IFERROR((G71/K71), "Vul kolom I en K in") -> 1.2382219 | P71: =IF(O71>2,"Aantal ledigingen onjuist",IFERROR(CEILING((O71*I71)*52,1),"")) -> 65 | Q71: =IFERROR(P71*N71,"") -> 4875 | R71: =IFERROR(Q71+M71,"") -> 6375
C72: =Z28 -> Bouwblok 7 | D72: =AP28 -> 506.28857 | E72: =$E$64 -> 300 | F72: Niet van toepassing | G72: =(D72/E72) -> 1.6876286 | H72: Containeroptie 2 (zie regel 11) | I72: 1 | K72: =IFERROR(IF(H72="Containeroptie 1 (zie regel 10)",($G$10*0.8)*I72,IF(H72="Containeroptie 2 (zie regel 11)",($G$11*0.8)*I72,"")),"") -> 0.88 | L72: =IFERROR(IF(H72="Containeroptie 1 (zie regel 10)",$H$10,IF(H72="Containeroptie 2 (zie regel 11)",$H$11,""))," ") -> 1500 | M72: =IFERROR(L72*I72," ") -> 1500 | N72: =IFERROR(IF(H72="Containeroptie 1 (zie regel 10)",$I$10,IF(H72="Containeroptie 2 (zie regel 11)",$I$11,""))," ") -> 75 | O72: =IFERROR((G72/K72), "Vul kolom I en K in") -> 1.9177597 | P72: =IF(O72>2,"Aantal ledigingen onjuist",IFERROR(CEILING((O72*I72)*52,1),"")) -> 100 | Q72: =IFERROR(P72*N72,"") -> 7500 | R72: =IFERROR(Q72+M72,"") -> 9000
C73: =Z29 -> Bouwblok 8 Grow | D73: =AP29 -> 884.77242 | E73: =$E$64 -> 300 | F73: Niet van toepassing | G73: =(D73/E73) -> 2.9492414 | H73: Containeroptie 2 (zie regel 11) | I73: 2 | K73: =IFERROR(IF(H73="Containeroptie 1 (zie regel 10)",($G$10*0.8)*I73,IF(H73="Containeroptie 2 (zie regel 11)",($G$11*0.8)*I73,"")),"") -> 1.76 | L73: =IFERROR(IF(H73="Containeroptie 1 (zie regel 10)",$H$10,IF(H73="Containeroptie 2 (zie regel 11)",$H$11,""))," ") -> 1500 | M73: =IFERROR(L73*I73," ") -> 3000 | N73: =IFERROR(IF(H73="Containeroptie 1 (zie regel 10)",$I$10,IF(H73="Containeroptie 2 (zie regel 11)",$I$11,""))," ") -> 75 | O73: =IFERROR((G73/K73), "Vul kolom I en K in") -> 1.6757053 | P73: =IF(O73>2,"Aantal ledigingen onjuist",IFERROR(CEILING((O73*I73)*52,1),"")) -> 175 | Q73: =IFERROR(P73*N73,"") -> 13125 | R73: =IFERROR(Q73+M73,"") -> 16125
C74: =Z30 -> Bouwblok 9 Joy | D74: =AP30 -> 193.73244 | E74: =$E$64 -> 300 | F74: Niet van toepassing | G74: =(D74/E74) -> 0.64577479 | H74: Containeroptie 2 (zie regel 11) | I74: 1 | K74: =IFERROR(IF(H74="Containeroptie 1 (zie regel 10)",($G$10*0.8)*I74,IF(H74="Containeroptie 2 (zie regel 11)",($G$11*0.8)*I74,"")),"") -> 0.88 | L74: =IFERROR(IF(H74="Containeroptie 1 (zie regel 10)",$H$10,IF(H74="Containeroptie 2 (zie regel 11)",$H$11,""))," ") -> 1500 | M74: =IFERROR(L74*I74," ") -> 1500 | N74: =IFERROR(IF(H74="Containeroptie 1 (zie regel 10)",$I$10,IF(H74="Containeroptie 2 (zie regel 11)",$I$11,""))," ") -> 75 | O74: =IFERROR((G74/K74), "Vul kolom I en K in") -> 0.73383499 | P74: =IF(O74>2,"Aantal ledigingen onjuist",IFERROR(CEILING((O74*I74)*52,1),"")) -> 39 | Q74: =IFERROR(P74*N74,"") -> 2925 | R74: =IFERROR(Q74+M74,"") -> 4425
C75: =Z31 -> Bouwblok 10 Pulse | D75: =AP31 -> 254.41731 | E75: =$E$64 -> 300 | F75: Niet van toepassing | G75: =(D75/E75) -> 0.84805769 | H75: Containeroptie 2 (zie regel 11) | I75: 1 | K75: =IFERROR(IF(H75="Containeroptie 1 (zie regel 10)",($G$10*0.8)*I75,IF(H75="Containeroptie 2 (zie regel 11)",($G$11*0.8)*I75,"")),"") -> 0.88 | L75: =IFERROR(IF(H75="Containeroptie 1 (zie regel 10)",$H$10,IF(H75="Containeroptie 2 (zie regel 11)",$H$11,""))," ") -> 1500 | M75: =IFERROR(L75*I75," ") -> 1500 | N75: =IFERROR(IF(H75="Containeroptie 1 (zie regel 10)",$I$10,IF(H75="Containeroptie 2 (zie regel 11)",$I$11,""))," ") -> 75 | O75: =IFERROR((G75/K75), "Vul kolom I en K in") -> 0.96370192 | P75: =IF(O75>2,"Aantal ledigingen onjuist",IFERROR(CEILING((O75*I75)*52,1),"")) -> 51 | Q75: =IFERROR(P75*N75,"") -> 3825 | R75: =IFERROR(Q75+M75,"") -> 5325
C76: =Z32 -> Bouwblok 11 | D76: =AP32 -> 604.93964 | E76: =$E$64 -> 300 | F76: Niet van toepassing | G76: =(D76/E76) -> 2.0164655 | H76: Containeroptie 2 (zie regel 11) | I76: 2 | K76: =IFERROR(IF(H76="Containeroptie 1 (zie regel 10)",($G$10*0.8)*I76,IF(H76="Containeroptie 2 (zie regel 11)",($G$11*0.8)*I76,"")),"") -> 1.76 | L76: =IFERROR(IF(H76="Containeroptie 1 (zie regel 10)",$H$10,IF(H76="Containeroptie 2 (zie regel 11)",$H$11,""))," ") -> 1500 | M76: =IFERROR(L76*I76," ") -> 3000 | N76: =IFERROR(IF(H76="Containeroptie 1 (zie regel 10)",$I$10,IF(H76="Containeroptie 2 (zie regel 11)",$I$11,""))," ") -> 75 | O76: =IFERROR((G76/K76), "Vul kolom I en K in") -> 1.145719 | P76: =IF(O76>2,"Aantal ledigingen onjuist",IFERROR(CEILING((O76*I76)*52,1),"")) -> 120 | Q76: =IFERROR(P76*N76,"") -> 9000 | R76: =IFERROR(Q76+M76,"") -> 12000
... C80: =Z36 -> Bouwblok 18 Depot | D80: =AP36 -> 391.5899 | E80: =$E$64 -> 300 | F80: Niet van toepassing | G80: =(D80/E80) -> 1.3052997 | H80: Containeroptie 2 (zie regel 11) | I80: 1 | K80: =IFERROR(IF(H80="Containeroptie 1 (zie regel 10)",($G$10*0.8)*I80,IF(H80="Containeroptie 2 (zie regel 11)",($G$11*0.8)*I80,"")),"") -> 0.88 | L80: =IFERROR(IF(H80="Containeroptie 1 (zie regel 10)",$H$10,IF(H80="Containeroptie 2 (zie regel 11)",$H$11,""))," ") -> 1500 | M80: =IFERROR(L80*I80," ") -> 1500 | N80: =IFERROR(IF(H80="Containeroptie 1 (zie regel 10)",$I$10,IF(H80="Containeroptie 2 (zie regel 11)",$I$11,""))," ") -> 75 | O80: =IFERROR((G80/K80), "Vul kolom I en K in") -> 1.4832951 | P80: =IF(O80>2,"Aantal ledigingen onjuist",IFERROR(CEILING((O80*I80)*52,1),"")) -> 78 | Q80: =IFERROR(P80*N80,"") -> 5850 | R80: =IFERROR(Q80+M80,"") -> 7350
D81: =SUM(D66:D80) -> 7065.4346 | G81: =SUM(G64:G80) -> 24.881449 | L81: Huurkosten gfe | M81: =IF(COUNTBLANK(M64:M80)=0,SUM(M64:M80),"NIET COMPLEET") -> 31500 | P81: Inzamelkosten gfe | Q81: =IF(COUNTBLANK(Q64:Q80)=0,SUM(Q64:Q80)) -> 110850 | R81: =IF(COUNTBLANK(R64:R80)=0,SUM(R64:R80)) -> 142350
C83: * De oplevering van de woningen is gefaseerd, de woningen zullen niet allemaal vanaf startdatum contract bewoond zijn. Deze berekening gaat uit van volledige bewoning.
C84: **Dit is een indicatie op basis van beschikbare gegevens. De daadwerkelijke hoeveelheid kan afwijken, hier kunnen geen rechten aan worden ontleend.
C85: *** Het maximale toegestane gemiddelde aantal ledigingsmomenten per week is 2. Een waarde boven de 2 in deze cellen is niet toegestaan.
C86: ****Gfe containers dienen i.v.m. hygiëne elke 2 weken te worden geleegd. Daarom is deze waarde minimaal 26* het aantal geplaatste containers.
D89: =IF(MAX(O20:O36,O42:O58,O64:O80)>2,"⚠ LET OP: Eén of meer inzamelmomenten zijn hoger dan 2. Dit is niet toegestaan. Controleer de containercapaciteit of aantal ingezette containers.","")
F92: Totale huurkosten per jaar | G92: =IF(AND(ISNUMBER(M37),ISNUMBER(M59),ISNUMBER(M81)),SUM(M37,M59,M81),"NIET COMPLEET") -> 183500
F93: Totale ledigingskosten per jaar | G93: =IF(AND(ISNUMBER(Q37),ISNUMBER(Q59),ISNUMBER(Q81)),SUM(Q37,Q59,Q81),"NIET COMPLEET") -> 470550
C95: Inschrijvingsprijs | G95: =SUM(G92:G93) -> 654050 | H95: geschatte kosten per jaar
C99: Ondertekenend op | D99: .... | F99: te | G99: ...
C100: Naam bedrijf:
C101: Naam contactpersoon:
C102: Handtekening:

Sheet Max capaciteit
B1: Max aantal perscontainers rest | C1: 2e ruimte? | D1: Restafval HHA+BA | E1: Alleen Rest | F1: Capaciteit | G1: Aanbod kg | H1: Per jaar | I1: Capaciteit kg | J1: Per jaar | K1: Verschil | L1: Extra containers | M1: kg verschil | N1: Past | O1: Aanbod BA | P1: BA binnen scope | Q1: BA per jaar | R1: Rest op prijzenblad | S1: BA buiten scope | T1: BA met pers
A2: Bouwblok 1 a-b | B2: =Bedrijfsafval!C4-1 -> 1 | D2: ='Prijzenblad incl alle BA'!G22 -> 5.2743563 | F2: =B2*$K$19 -> 4.8 | G2: =(D2*$D$21)*4 -> 2320.7168 | H2: =G2*52 -> 120677.27 | I2: =(F2*$D$21)*4 -> 2112 | J2: =I2*52 -> 109824 | K2: =F2-D2 -> -0.47435629 | L2: =K2/$D$19 -> -0.19764845 | M2: =(K2*$D$21)*4 -> -208.71677 | O2: ='Prijzenblad incl alle BA'!AD22 -> 259.94754 | P2: =O2+M2 -> 51.230769 | Q2: =P2*52 -> 2664 | R2: =I2 -> 2112 | S2: =O2-P2 -> 208.71677 | T2: 0 | U2: Teveel BA, past geen pers bij
A3: Bouwblok 1 a-g | B3: 2 | C3: x BA apart | D3: 16.934842 | E3: =Prijzenblad!G23 -> 9.6 | F3: =B3*$K$19 -> 9.6 | G3: =(E3*$D$21)*4 -> 4224 | H3: =G3*52 -> 219648 | I3: =(F3*$D$21)*4 -> 4224 | J3: =I3*52 -> 219648 | K3: =F3-D3 -> -7.334842 | L3: =K3/$D$19 -> -3.0561842 | M3: =(K3*$D$21)*4 -> -3227.3305 | O3: ='Prijzenblad incl alle BA'!AD23 -> 2684.0843 | P3: 0 | Q3: =P3*52 -> 0 | R3: =I3 -> 4224 | S3: =O3-P3 -> 2684.0843 | T3: =S3 -> 2684.0843 | U3: =Bedrijfsafval!G5 -> Bedrijfsafval in aanvullende ruimte, hoeveelheid aanpassen omlaag. Bedrijfsafval supermarkt + bouwmarkt niet meerekenen
A4: Bouwblok 2a | B4: =Bedrijfsafval!C6-1 -> 3 | D4: ='Prijzenblad incl alle BA'!G24 -> 6.307935 | F4: =B4*$K$19 -> 14.4 | G4: =(D4*$D$21)*4 -> 2775.4914 | H4: =G4*52 -> 144325.55 | I4: =(F4*$D$21)*4 -> 6336 | J4: =I4*52 -> 329472 | K4: =F4-D4 -> 8.092065 | N4: x | O4: ='Prijzenblad incl alle BA'!AD24 -> 790.28372 | P4: =O4+M4 -> 790.28372 | Q4: =P4*52 -> 41094.753 | R4: =G4 -> 2775.4914 | S4: =O4-P4 -> 0 | T4: 0
A5: Bouwblok 3 School + sporthal | B5: =Bedrijfsafval!C7-1 -> 2 | D5: ='Prijzenblad incl alle BA'!G25 -> 15.000397 | F5: =B5*$K$19 -> 9.6 | G5: =(D5*$D$21)*4 -> 6600.1746 | H5: =G5*52 -> 343209.08 | I5: =(F5*$D$21)*4 -> 4224 | J5: =I5*52 -> 219648 | K5: =F5-D5 -> -5.4003969 | L5: =K5/$D$19 -> -2.2501654 | M5: =(K5*$D$21)*4 -> -2376.1746 | O5: ='Prijzenblad incl alle BA'!AD25 -> 5569.79 | P5: =O5+M5 -> 3193.6154 | Q5: =P5*52 -> 166068 | R5: =I5 -> 4224 | S5: =O5-P5 -> 2376.1746 | T5: 0 | U5: Teveel BA, onbekend of meer persen passen
A6: Bouwblok 4 Bloom Zuid | B6: 2 | D6: ='Prijzenblad incl alle BA'!G26 -> 6.179505 | F6: =B6*$K$19 -> 9.6 | G6: =(D6*$D$21)*4 -> 2718.9822 | H6: =G6*52 -> 141387.07 | I6: =(F6*$D$21)*4 -> 4224 | J6: =I6*52 -> 219648 | K6: =F6-D6 -> 3.420495 | L6: =K6/$D$19 -> 1.4252063 | M6: =(K6*$D$21)*4 -> 1505.0178 | O6: ='Prijzenblad incl alle BA'!AD26 -> 122.41297 | P6: =O6 -> 122.41297 | Q6: =P6*52 -> 6365.4743 | R6: =I6 -> 4224 | S6: 0 | T6: 0 | U6: UItgaande van 1 pers meer dan Rebel gepland heeft, zou moeten passen
A7: Bouwblok 5 Bloom Zuid | B7: =Bedrijfsafval!C9-1 -> 1 | D7: ='Prijzenblad incl alle BA'!G27 -> 5.017365 | F7: =B7*$K$19 -> 4.8 | G7: =(D7*$D$21)*4 -> 2207.6406 | H7: =G7*52 -> 114797.31 | I7: =(F7*$D$21)*4 -> 2112 | J7: =I7*52 -> 109824 | K7: =F7-D7 -> -0.21736498 | L7: =K7/$D$19 -> -0.090568741 | M7: =(K7*$D$21)*4 -> -95.64059 | O7: ='Prijzenblad incl alle BA'!AD27 -> 586.50213 | P7: =O7+M7 -> 490.86154 | Q7: =P7*52 -> 25524.8 | R7: =I7 -> 2112 | S7: =O7-P7 -> 95.64059 | T7: 0 | U7: Teveel BA
A8: Bouwblok 7 | B8: 4 | C8: ? BA apart | D8: 9.2804693 | E8: =Prijzenblad!G28 -> 4.8 | F8: =B8*$K$19 -> 19.2 | G8: =(E8*$D$21)*4 -> 2112 | H8: =G8*52 -> 109824 | I8: =(F8*$D$21)*4 -> 8448 | J8: =I8*52 -> 439296 | K8: =F8-D8 -> 9.9195307 | L8: =K8/$D$19 -> 4.1331378 | M8: =(K8*$D$21)*4 -> 4364.5935 | O8: ='Prijzenblad incl alle BA'!AD28 -> 2036.3757 | P8: 0 | Q8: =P8*52 -> 0 | R8: =G8 -> 2112 | S8: =O8-P8 -> 2036.3757 | T8: 0 | U8: Nog niet ingevuld, ruimte onbekend. Incl BA minimaal 4 persen rest nodig . instellen op 0 ba
A9: Bouwblok 8 Grow | B9: =Bedrijfsafval!C11-1 -> 3 | C9: x BA apart | D9: 15.005838 | E9: =Prijzenblad!G29 -> 8.9772727 | F9: =B9*$K$19 -> 14.4 | G9: =(E9*$D$21)*4 -> 3950 | H9: =G9*52 -> 205400 | I9: =(F9*$D$21)*4 -> 6336 | J9: =I9*52 -> 329472 | K9: =F9-D9 -> -0.60583796 | L9: =K9/$D$19 -> -0.25243248 | M9: =(K9*$D$21)*4 -> -266.5687 | O9: ='Prijzenblad incl alle BA'!AD29 -> 2652.761 | P9: 0 | Q9: =P9*52 -> 0 | R9: =G8 -> 2112 | S9: =O9-P9 -> 2652.761 | T9: =S9 -> 2652.761 | U9: =Bedrijfsafval!G11 -> KDV en voorzieningen hebben eigen afvalruimte. Onderzoeken locatie
A10: Bouwblok 9 Joy | B10: =Bedrijfsafval!C12-1 -> 1 | D10: ='Prijzenblad incl alle BA'!G30 -> 2.9034802 | F10: =B10*$K$19 -> 4.8 | G10: =(D10*$D$21)*4 -> 1277.5313 | H10: =G10*52 -> 66431.626 | I10: =(F10*$D$21)*4 -> 2112 | J10: =I10*52 -> 109824 | K10: =F10-D10 -> 1.8965198 | N10: x | O10: ='Prijzenblad incl alle BA'!AD30 -> 295.23127 | P10: =O10+M10 -> 295.23127 | Q10: =P10*52 -> 15352.026 | R10: =G10 -> 1277.5313 | S10: =O10-P10 -> 0 | T10: 0
A11: Bouwblok 10 Pulse | B11: =Bedrijfsafval!C13-1 -> 2 | D11: ='Prijzenblad incl alle BA'!G31 -> 3.2941084 | F11: =B11*$K$19 -> 9.6 | G11: =(D11*$D$21)*4 -> 1449.4077 | H11: =G11*52 -> 75369.2 | I11: =(F11*$D$21)*4 -> 4224 | J11: =I11*52 -> 219648 | K11: =F11-D11 -> 6.3058916 | N11: x | O11: ='Prijzenblad incl alle BA'!AD31 -> 0 | P11: =O11+M11 -> 0 | Q11: =P11*52 -> 0 | R11: =G11 -> 1449.4077 | S11: =O11-P11 -> 0 | T11: 0
A12: Bouwblok 11 | B12: 4 | C12: x BA apart | D12: 8.6979144 | E12: =Prijzenblad!G32 -> 7.3396802 | F12: =B12*$K$19 -> 19.2 | G12: =(E12*$D$21)*4 -> 3229.4593 | H12: =G12*52 -> 167931.88 | I12: =(F12*$D$21)*4 -> 8448 | J12: =I12*52 -> 439296 | K12: =F12-D12 -> 10.502086 | N12: x | O12: ='Prijzenblad incl alle BA'!AD32 -> 646.6285 | P12: =O12+M12 -> 646.6285 | Q12: =P12*52 -> 33624.682 | R12: =G12 -> 3229.4593 | S12: =O12-P12 -> 0 | T12: 0 | U12: =Bedrijfsafval!G14 -> 2 ruimtes, maar is niet gesplitst in onze opzet.
A13: Bouwblok 12 a Bloom Park | B13: =Bedrijfsafval!C15-1 -> 1 | D13: ='Prijzenblad incl alle BA'!G33 -> 6.1441615 | F13: =B13*$K$19 -> 4.8 | G13: =(D13*$D$21)*4 -> 2703.4311 | H13: =G13*52 -> 140578.42 | I13: =(F13*$D$21)*4 -> 2112 | J13: =I13*52 -> 109824 | K13: =F13-D13 -> -1.3441615 | L13: =K13/$D$19 -> -0.5600673 | M13: =(K13*$D$21)*4 -> -591.43107 | O13: ='Prijzenblad incl alle BA'!AD33 -> 1164.7234 | P13: =O13+M13 -> 573.29231 | Q13: =P13*52 -> 29811.2 | R13: =I13 -> 2112 | S13: =O13-P13 -> 591.43107 | T13: 0 | U13: Teveel BA
A14: Bouwblok 13 Cix City | B14: =Bedrijfsafval!C16-1 -> 3 | D14: ='Prijzenblad incl alle BA'!G34 -> 9.3148366 | F14: =B14*$K$19 -> 14.4 | G14: =(D14*$D$21)*4 -> 4098.5281 | H14: =G14*52 -> 213123.46 | I14: =(F14*$D$21)*4 -> 6336 | J14: =I14*52 -> 329472 | K14: =F14-D14 -> 5.0851634 | N14: x | O14: ='Prijzenblad incl alle BA'!AD34 -> 2051.4973 | P14: =O14+M14 -> 2051.4973 | Q14: =P14*52 -> 106677.86 | R14: =G14 -> 4098.5281 | S14: =O14-P14 -> 0 | T14: 0
A15: Bouwblok 14 Cix Theatre | B15: =Bedrijfsafval!C17-1 -> 2 | D15: ='Prijzenblad incl alle BA'!G35 -> 3.0341609 | F15: =B15*$K$19 -> 9.6 | G15: =(D15*$D$21)*4 -> 1335.0308 | H15: =G15*52 -> 69421.6 | I15: =(F15*$D$21)*4 -> 4224 | J15: =I15*52 -> 219648 | K15: =F15-D15 -> 6.5658391 | N15: x | O15: ='Prijzenblad incl alle BA'!AD35 -> 551.93847 | P15: =O15+M15 -> 551.93847 | Q15: =P15*52 -> 28700.8 | R15: =G15 -> 1335.0308 | S15: =O15-P15 -> 0 | T15: 0
A16: Bouwblok 18 Depot | B16: =Bedrijfsafval!C18-1 -> 1 | D16: ='Prijzenblad incl alle BA'!G36 -> 12.107749 | E16: 0 | F16: =B16*$K$19 -> 4.8 | G16: =(D16*$D$21)*4 -> 5327.4094 | H16: =G16*52 -> 277025.29 | I16: =(F16*$D$21)*4 -> 2112 | J16: =I16*52 -> 109824 | K16: =F16-D16 -> -7.3077486 | L16: =K16/$D$19 -> -3.0448952 | M16: =(K16*$D$21)*4 -> -3215.4094 | O16: ='Prijzenblad incl alle BA'!AD36 -> 5258.7171 | P16: 0 | Q16: =P16*52 -> 0 | S16: =O16-P16 -> 5258.7171 | T16: =S16 -> 5258.7171 | U16: Alleen BA, keuze maken wel/niet binnen opdracht
O17: =SUM(O2:O16) -> 24670.893 | P17: =SUM(P2:P16) -> 8766.9922 | S17: =SUM(S2:S16) -> 15903.901 | T17: =SUM(T2:T16) -> 10595.562
K18: 2* pw
A19: Capaciteit uitgangspunten | B19: Capaciteit per perscontainer rest | D19: ='Prijzenblad incl alle BA'!K20/'Prijzenblad incl alle BA'!I20 -> 2.4 | F19: m3 | K19: =D19*2 -> 4.8 | L19: m3
A20: 3m3 container | B20: Capaciteit per perscontainer OPK | D20: ='Prijzenblad incl alle BA'!K42/'Prijzenblad incl alle BA'!I42 -> 1.6 | F20: m3 | K20: =D20*2 -> 3.2 | L20: m3
A21: Verdichting uit kolom F | B21: Soortelijk gewicht rest | D21: ='Prijzenblad incl alle BA'!E20 -> 110 | F21: kg/m3
A22: max 2* per week legen | B22: Soortelijk gewicht OPK | D22: ='Prijzenblad incl alle BA'!E42 -> 120 | F22: kg/m3
A23: beschikbare ruimte uit studie Rebel
A24: gaat nu overal uit van 1.9 bewoners per adres, in sommige blokken waarschijnlijk lager --> minder aanbod
A25: in WW is gerekend met 1,5 bewoners per adres. Zal in appartementencomplexen hier ook van toepassing zijn en scheelt 25% van het HHA
A26: berekeningen zijn gebaseerd obv 80% vulgraad
A27: gfe buiten beschouwing, past overal ruim
A29: Vragen voor overleg
A30: Bouwblok 18 = geen woningen meer, wil de gemeente dan alsnog de afvalinzameling oppakken en uitvoeren of dit geheel aan de partijen zelf overlaten?
A31: grotere omvang opdracht is aantrekkelijker en goed voor tarieven, zorgt wel dat gemeente moet bepalen wie wel/niet kunnen aansluiten

Sheet Bedrijfsafval
A1: Locaties | B1: Ingetekend | C1: Ruimte pers | D1: Ruimte gfe | E1: Nodig | F1: gfe | G1: Bijzonderheden
A2: Wonderwoods MSVA | E2: =SUM('Prijzenblad incl alle BA'!I20,'Prijzenblad incl alle BA'!I42) -> 2 | F2: =CEILING('Prijzenblad incl alle BA'!I64/2,1) -> 1 | G2: Bedrijfsafval telt niet mee
A3: Wonderwoods Boeri | E3: =SUM('Prijzenblad incl alle BA'!I21,'Prijzenblad incl alle BA'!I43) -> 3 | F3: =CEILING('Prijzenblad incl alle BA'!I65/2,1) -> 1 | G3: Bedrijfsafval telt niet mee
A4: Bouwblok 1 a-b | B4: Persen staan niet ingetekend maar is wel een afvalruimte voor gereserveerd. 3x een nis voor pers of GFE hul | C4: 2 | D4: 1 | E4: =SUM('Prijzenblad incl alle BA'!I22,'Prijzenblad incl alle BA'!I44) -> 3 | F4: =CEILING('Prijzenblad incl alle BA'!I66/2,1) -> 1
A5: Bouwblok 1 a-g | B5: 3x pers 1x GFE hul. 1 extra ruimte voor mogelijk 3 persen voor zakelijk afval supermarkt en bouwmarkt. Deze is alleen via supermarkt / bouwmarkt bereikbaar. Niet voor bewoners via parkeergarage. | C5: 6 | D5: 1 | E5: =SUM('Prijzenblad incl alle BA'!I23,'Prijzenblad incl alle BA'!I45) -> 5 | F5: =CEILING('Prijzenblad incl alle BA'!I67/2,1) -> 1 | G5: Bedrijfsafval in aanvullende ruimte, hoeveelheid aanpassen omlaag. Bedrijfsafval supermarkt + bouwmarkt niet meerekenen
A6: Bouwblok 2a | B6: 4x pers 1x GFE hul | C6: 4 | D6: 1 | E6: =SUM('Prijzenblad incl alle BA'!I24,'Prijzenblad incl alle BA'!I46) -> 3 | F6: =CEILING('Prijzenblad incl alle BA'!I68/2,1) -> 1
A7: Bouwblok 3 School + sporthal | B7: 3x pers 1x GFE. Afspraak over geweest met Maarten Vrancken eind Mei. Conclusie was dat afvalruimte niet voldoet en nog verder uitgewerkt moet worden. | C7: 3 | D7: 1 | E7: =SUM('Prijzenblad incl alle BA'!I25,'Prijzenblad incl alle BA'!I47) -> 5 | F7: =CEILING('Prijzenblad incl alle BA'!I69/2,1) -> 1 | H7: School, sporthal
A8: Bouwblok 4 Bloom Zuid | B8: 2x pers 1x GFE hul | C8: 2 | D8: 1 | E8: =SUM('Prijzenblad incl alle BA'!I26,'Prijzenblad incl alle BA'!I48) -> 3 | F8: =CEILING('Prijzenblad incl alle BA'!I70/2,1) -> 1
A9: Bouwblok 5 Bloom Zuid | B9: 2x pers 1x GFE hul. Mogelijk nog ruimte voor 1 pers extra | C9: 2 | D9: 1 | E9: =SUM('Prijzenblad incl alle BA'!I27,'Prijzenblad incl alle BA'!I49) -> 3 | F9: =CEILING('Prijzenblad incl alle BA'!I71/2,1) -> 1
A10: Bouwblok 7a en b | B10: duurt nog lang, oplevering 2031, zijn nog in ontwerp fase. AFvalruimte zit in dit deel. | D10: 1 | E10: ='Prijzenblad incl alle BA'!I28+'Prijzenblad incl alle BA'!I50 -> 3 | F10: =CEILING('Prijzenblad incl alle BA'!I72/2,1) -> 1 | G10: Nodig = 4 persen en 1 grote gfe
A11: Bouwblok 8 Grow | B11: 4x pers 1x GFE hul + extra afvalruimte voor voorzieningen zoals KDV. | C11: 4 | D11: 1 | E11: ='Prijzenblad incl alle BA'!I29+'Prijzenblad incl alle BA'!I51 -> 5 | F11: =CEILING('Prijzenblad incl alle BA'!I73/2,1) -> 1 | G11: KDV en voorzieningen hebben eigen afvalruimte. Onderzoeken locatie | H11: Groot deel school / KDV/ Cultuur/ Zorg
A12: Bouwblok 9 Joy | B12: 2x pers 1x GFE hul | C12: 2 | D12: 1 | E12: ='Prijzenblad incl alle BA'!I30+'Prijzenblad incl alle BA'!I52 -> 3 | F12: =CEILING('Prijzenblad incl alle BA'!I74/2,1) -> 1 | G12: 600 m2 buurtcentrum, 125 m2 horeca
A13: Bouwblok 10 Pulse | B13: 3x pers 1x GFE hul. Oplevering over een paar jaar pas. | C13: 3 | D13: 1 | E13: ='Prijzenblad incl alle BA'!I31+'Prijzenblad incl alle BA'!I53 -> 2 | F13: =CEILING('Prijzenblad incl alle BA'!I75/2,1) -> 1 | H13: School
A14: Bouwblok 11 | B14: 3x pers 1x GFE hul voor koop gedeelte. 3x pers 1xGFE hul voor sociale huur. 2 ruimtes, want 2 eigenaren | C14: 6 | D14: 1 | E14: ='Prijzenblad incl alle BA'!I32+'Prijzenblad incl alle BA'!I54 -> 3 | F14: =CEILING('Prijzenblad incl alle BA'!I76/2,1) -> 1 | G14: 2 ruimtes, maar is niet gesplitst in onze opzet.
A15: Bouwblok 12 a Bloom Park | B15: 2x pers 1x GFE hul. Een deel van blok 12 wordt eerder opgeleverd dan de toren waar de containerruimte in zit. | C15: 2 | D15: 1 | E15: ='Prijzenblad incl alle BA'!I33+'Prijzenblad incl alle BA'!I55 -> 3 | F15: =CEILING('Prijzenblad incl alle BA'!I77/2,1) -> 1 | H15: Sportzaal en school
A16: Bouwblok 13 Cix City | B16: 4x pers 1x GFE hul. Is wel krap ingetekend, mogelijk 1 pers minder. | C16: 4 | D16: 1 | E16: ='Prijzenblad incl alle BA'!I34+'Prijzenblad incl alle BA'!I56 -> 3 | F16: =CEILING('Prijzenblad incl alle BA'!I78/2,1) -> 1 | G16: Krap ingetekend | H16: 5698
A17: Bouwblok 14 Cix Theatre | B17: 3x pers 1x GFE hul | C17: 3 | D17: 1 | E17: ='Prijzenblad incl alle BA'!I35+'Prijzenblad incl alle BA'!I57 -> 2 | F17: =CEILING('Prijzenblad incl alle BA'!I79/2,1) -> 1 | H17: 1500 | I17: wijkcultuurhuis
A18: Bouwblok 18 Depot | B18: 2x pers 1x GFE. Alleen voorzieningen, geen woningen. Dus deze partijen moeten zelf iets regelen qua inzameling. | C18: 2 | D18: 1 | E18: ='Prijzenblad incl alle BA'!I36+'Prijzenblad incl alle BA'!I58 -> 4 | F18: =CEILING('Prijzenblad incl alle BA'!I80/2,1) -> 1 | G18: Te krap | I18: Foodhall, werkplaatsen, werkplekken en kantoren
