Workbook

Sheet Instructies
C1: Toelichting prijzenblad Mini-perscontainers
C3: U vult alle gele cellen in. Inschrijfprijzen zijn excl. btw
C5: Uitgangspunten bij het opstellen van het prijzenblad
C6: Inschrijvers geven voor de pers-systemen en de gfe-containers één of twee mogelijkheden op in regels 8, 9, 10 en 11.
C7: Dit is mogelijk gemaakt om flexibiliteit te bieden in de oplossingen voor verschillende gebouwen met o.a. andere technische vereisten.
C8: Het is mogelijk om een ander systeem te gebruiken voor gfe ten opzichte van het systeem voor restafval en papier en karton.
C9: Per locatie (bouwblok) wordt er voor restafval en papier en karton dezelfde perscontainer ingezet. Het is niet mogelijk 2 typen containers te combineren.
C10: De tabel werkt met vaststaande cijfers voor bepaalde informatie, zoals het soortelijk gewicht en de verdichtingsgraad per fractie.
C12: Invulinstructies
C13: In de tabel kan per locatie een systeem gekozen worden.
C14: Daarna kan per locatie en systeem het aantal in te zetten containers bepaald worden.
C15: Let er op dat dit aantal past in de beschreven ruimtes per locatie.
... C21: Als de tabel geen totaalprijs geeft missen er nog gegevens of is de capaciteit van de containers op een locatie te laag.

Sheet Prijzenblad
C1: Prijzenblad Mini-perscontainers
C3: U vult alle gele cellen in. Inschrijfprijzen zijn excl. btw
C6: Type miniperscontainer | D6: Omschrijving type container en persmechanisme | G6: Inhoud per container* | H6: All-in huurtarief ** per container per jaar | I6: All-in ledigingstarief ** per lediging per container | U6: Tonnage Rest per jaar: | V6: 188 | W6: kilo p.j.p.inwoner
U7: Tonnage OPK per jaar: | V7: 27 | W7: kilo p.j.p.inwoner
C8: Jaarlijks all-in tarief perscontainer (rest en OPK): optie 1 | U8: Tonnage GFE per jaar: | V8: 33 | W8: kilo p.j.p.inwoner
C9: Jaarlijks all-in tarief perscontainer (rest en OPK) : optie 2 | U9: Inwoners per huishouden: | V9: 1.9 | W9: inwoners
C10: Jaarlijks all-in tarief gfe-container: optie 1
C11: Jaarlijks all-in tarief gfe-container : optie 2
C13: * Gebaseerd op de totale capaciteit in aantal m3 per container. Dit is gelijk aan 1000 liter.
C14: ** All-in tarief per container/ cassette, inclusief alle diensten zoals omschreven in de aanbestedingsdocumenten
U16: Kies het type container per gebouw | X16: Kies het type container per gebouw
U17: Containeroptie 1 (zie regel 8) | X17: Containeroptie 1 (zie regel 10)
C18: Locaties* | D18: Aanbod restafval** | E18: Soortelijk gewicht | F18: Verdichtingsfactor | G18: Aanbod: Gewicht naar inhoud | H18: In te zetten type container | I18: Aantal containers | K18: Capaciteit containers o.b.v. 80% | L18: Huur per container p.j. | M18: Containerkosten per jaar | N18: Prijs per lediging | O18: Ledigingen per week*** | P18: Aantal ledigingen per jaar | Q18: Ledigingskosten per jaar | R18: Totale kosten locatie per jaar | U18: Containeroptie 2 (zie regel 9) | X18: Containeroptie 2 (zie regel 11) | AD18: Bedrijfsafval per week
C19: Inzameling en transport van Restafval | G19: = kolom (E/F)/G | Z19: Locaties | AA19: Woningen | AB19: Bedrijfsruimte | AD19: Rest BA | AE19: OPK BA | AF19: pj | AG19: gfe BA | AH19: pj | AI19: Huidig rest | AJ19: Nieuw rest | AK19: Verhoging incl bedrijfsafval | AL19: m2 afvalruimte | AM19: kilo's per m2 | AO19: Oud OPK | AP19: Nieuw OPK | AQ19: Oud gfe | AR19: Nieuw gfe
C20: =Z20 -> Wonderwoods MSVA | D20: 591 | E20: 110 | F20: =$W$27 -> 4 | G20: =(D20/E20)/F20 -> 1.3431818 | K20: =IFERROR(IF(H20="Containeroptie 1 (zie regel 8)",($G$8*0.8)*I20,IF(H20="Containeroptie 2 (zie regel 9)",($G$9*0.8)*I20,"")),"") | L20: =IFERROR(IF(H20="Containeroptie 1 (zie regel 8)",$H$8,IF(H20="Containeroptie 2 (zie regel 9)",$H$9,"")),"") | M20: =IFERROR(L20*I20,"") | N20: =IF(H20="Containeroptie 1 (zie regel 8)",$I$8,IF(H20="Containeroptie 2 (zie regel 9)",$I$9,"")) | O20: =IFERROR((G20/K20),"Vul kolom I en K in") -> Vul kolom I en K in | P20: =IF(O20>2,"Aantal ledigingen onjuist",IFERROR(CEILING((O20*I20)*52,1),"")) -> Aantal ledigingen onjuist | Q20: =IFERROR(P20*N20,"") | R20: =IFERROR(Q20+M20,"") | Z20: Wonderwoods MSVA | AA20: 109 | AB20: 0 | AD20: =AB20*$Z$41 -> 0 | AE20: =AB20*$Z$42 -> 0 | AF20: =AE20*52 -> 0 | AG20: =AB20*$Z$43 -> 0 | AH20: =AG20*52 -> 0 | AI20: 591 | AJ20: =AI20+AD20 -> 591 | AK20: =AJ20/AI20 -> 1 | AL20: 112 | AM20: =AJ20/AL20 -> 5.2767857 | AO20: 85 | AP20: 85 | AQ20: 104 | AR20: 104
C21: =Z21 -> Wonderwoods Boeri | D21: 1681 | E21: =$E$20 -> 110 | F21: =$W$27 -> 4 | G21: =(D21/E21)/F21 -> 3.8204545 | K21: =IFERROR(IF(H21="Containeroptie 1 (zie regel 8)",($G$8*0.8)*I21,IF(H21="Containeroptie 2 (zie regel 9)",($G$9*0.8)*I21,"")),"") | L21: =IFERROR(IF(H21="Containeroptie 1 (zie regel 8)",$H$8,IF(H21="Containeroptie 2 (zie regel 9)",$H$9,""))," ") | M21: =IFERROR(L21*I21,"") | N21: =IF(H21="Containeroptie 1 (zie regel 8)",$I$8,IF(H21="Containeroptie 2 (zie regel 9)",$I$9,"")) | O21: =IFERROR((G21/K21),"Vul kolom I en K in") -> Vul kolom I en K in | P21: =IF(O21>2,"Aantal ledigingen onjuist",IFERROR(CEILING((O21*I21)*52,1),"")) -> Aantal ledigingen onjuist | Q21: =IFERROR(P21*N21,"") | R21: =IFERROR(Q21+M21,"") | Z21: Wonderwoods Boeri | AA21: 310 | AB21: 0 | AD21: =AB21*$Z$41 -> 0 | AE21: =AB21*$Z$42 -> 0 | AF21: =AE21*52 -> 0 | AG21: =AB21*$Z$43 -> 0 | AH21: =AG21*52 -> 0 | AI21: 1681 | AJ21: =AI21+AD21 -> 1681 | AK21: =AJ21/AI21 -> 1 | AL21: 43 | AM21: =AJ21/AL21 -> 39.093023 | AO21: 241 | AP21: 241 | AQ21: 295 | AR21: 295
C22: =Z22 -> Bouwblok 1 a-b | D22: 2112 | E22: =$E$20 -> 110 | F22: =$W$27 -> 4 | G22: =(D22/E22)/F22 -> 4.8 | K22: =IFERROR(IF(H22="Containeroptie 1 (zie regel 8)",($G$8*0.8)*I22,IF(H22="Containeroptie 2 (zie regel 9)",($G$9*0.8)*I22,"")),"") | L22: =IFERROR(IF(H22="Containeroptie 1 (zie regel 8)",$H$8,IF(H22="Containeroptie 2 (zie regel 9)",$H$9,""))," ") | M22: =IFERROR(L22*I22,"") | N22: =IF(H22="Containeroptie 1 (zie regel 8)",$I$8,IF(H22="Containeroptie 2 (zie regel 9)",$I$9,"")) | O22: =IFERROR((G22/K22),"Vul kolom I en K in") -> Vul kolom I en K in | P22: =IF(O22>2,"Aantal ledigingen onjuist",IFERROR(CEILING((O22*I22)*52,1),"")) -> Aantal ledigingen onjuist | Q22: =IFERROR(P22*N22,"") | R22: =IFERROR(Q22+M22,"") | U22: Vaste verdichtingsfactor gebruiken in berekeningen en benoemen | Z22: Bouwblok 1 a-b | AA22: 300 | AB22: 722 | AD22: =AB22*$Z$41 -> 259.94754 | AE22: =AB22*$Z$42 -> 58.737855 | AF22: =AE22*52 -> 3054.3685 | AG22: =AB22*$Z$43 -> 18.760938 | AH22: =AG22*52 -> 975.56876 | AI22: 2060.7692 | AJ22: =AI22+AD22 -> 2320.7168 | AK22: =AJ22/AI22 -> 1.126141 | AL22: 93 | AM22: =AJ22/AL22 -> 24.953944 | AO22: 295.96154 | AP22: =AO22+AE22 -> 354.69939 | AQ22: 361.73077 | AR22: =AQ22+AG22 -> 380.49171
C23: =Z23 -> Bouwblok 1 a-g | D23: 4224 | E23: =$E$20 -> 110 | F23: =$W$27 -> 4 | G23: =(D23/E23)/F23 -> 9.6 | K23: =IFERROR(IF(H23="Containeroptie 1 (zie regel 8)",($G$8*0.8)*I23,IF(H23="Containeroptie 2 (zie regel 9)",($G$9*0.8)*I23,"")),"") | L23: =IFERROR(IF(H23="Containeroptie 1 (zie regel 8)",$H$8,IF(H23="Containeroptie 2 (zie regel 9)",$H$9,""))," ") | M23: =IFERROR(L23*I23,"") | N23: =IF(H23="Containeroptie 1 (zie regel 8)",$I$8,IF(H23="Containeroptie 2 (zie regel 9)",$I$9,"")) | O23: =IFERROR((G23/K23),"Vul kolom I en K in") -> Vul kolom I en K in | P23: =IF(O23>2,"Aantal ledigingen onjuist",IFERROR(CEILING((O23*I23)*52,1),"")) -> Aantal ledigingen onjuist | Q23: =IFERROR(P23*N23,"") | R23: =IFERROR(Q23+M23,"") | U23: Afvalstroom | V23: Ongeperst | W23: Verdichtingsfactor | X23: Geperst | Y23: Berekening | Z23: Bouwblok 1 a-g | AA23: 694 | AB23: 7455 | AD23: =AB23*$Z$41 -> 2684.0843 | AE23: =AB23*$Z$42 -> 606.49683 | AG23: =AB23*$Z$43 -> 193.71578 | AI23: 4767.2462 | AJ23: =AI23+AD23 -> 7451.3305 | AK23: =AJ23/AI23 -> 1.5630262 | AL23: 74 | AM23: =AJ23/AL23 -> 100.69366 | AO23: 684.65769 | AP23: =AO23+AE23 -> 1291.1545 | AQ23: 836.80385 | AR23: =AQ23+AG23 -> 1030.5196
C24: =Z24 -> Bouwblok 2a | D24: 2775.4914 | E24: =$E$20 -> 110 | F24: =$W$27 -> 4 | G24: =(D24/E24)/F24 -> 6.307935 | K24: =IFERROR(IF(H24="Containeroptie 1 (zie regel 8)",($G$8*0.8)*I24,IF(H24="Containeroptie 2 (zie regel 9)",($G$9*0.8)*I24,"")),"") | L24: =IFERROR(IF(H24="Containeroptie 1 (zie regel 8)",$H$8,IF(H24="Containeroptie 2 (zie regel 9)",$H$9,""))," ") | M24: =IFERROR(L24*I24,"") | N24: =IF(H24="Containeroptie 1 (zie regel 8)",$I$8,IF(H24="Containeroptie 2 (zie regel 9)",$I$9,"")) | O24: =IFERROR((G24/K24),"Vul kolom I en K in") -> Vul kolom I en K in | P24: =IF(O24>2,"Aantal ledigingen onjuist",IFERROR(CEILING((O24*I24)*52,1),"")) -> Aantal ledigingen onjuist | Q24: =IFERROR(P24*N24,"") | R24: =IFERROR(Q24+M24,"") | U24: Soortelijk gewicht doorrekenen naar benodigde capaciteit met ingezameld gewicht | Z24: Bouwblok 2a | AA24: 289 | AB24: 2195 | AD24: =AB24*$Z$41 -> 790.28372 | AE24: =AB24*$Z$42 -> 178.57284 | AF24: =AE24*52 -> 9285.7878 | AG24: =AB24*$Z$43 -> 57.036368 | AH24: =AG24*52 -> 2965.8912 | AI24: 1985.2077 | AJ24: =AI24+AD24 -> 2775.4914 | AK24: =AJ24/AI24 -> 1.3980862 | AL24: 95 | AM24: =AJ24/AL24 -> 29.215699 | AO24: 285.10962 | AP24: =AO24+AE24 -> 463.68246 | AQ24: 348.46731 | AR24: =AQ24+AG24 -> 405.50368
C25: =Z25 -> Bouwblok 3 School + sporthal | D25: 4224 | E25: =$E$20 -> 110 | F25: =$W$27 -> 4 | G25: =(D25/E25)/F25 -> 9.6 | K25: =IFERROR(IF(H25="Containeroptie 1 (zie regel 8)",($G$8*0.8)*I25,IF(H25="Containeroptie 2 (zie regel 9)",($G$9*0.8)*I25,"")),"") | L25: =IFERROR(IF(H25="Containeroptie 1 (zie regel 8)",$H$8,IF(H25="Containeroptie 2 (zie regel 9)",$H$9,""))," ") | M25: =IFERROR(L25*I25,"") | N25: =IF(H25="Containeroptie 1 (zie regel 8)",$I$8,IF(H25="Containeroptie 2 (zie regel 9)",$I$9,"")) | O25: =IFERROR((G25/K25),"Vul kolom I en K in") -> Vul kolom I en K in | P25: =IF(O25>2,"Aantal ledigingen onjuist",IFERROR(CEILING((O25*I25)*52,1),"")) -> Aantal ledigingen onjuist | Q25: =IFERROR(P25*N25,"") | R25: =IFERROR(Q25+M25,"") | U25: Papier/karton | V25: 120 kg/m³ | W25: 3 | X25: 360 | Y25: kg/m³ | Z25: Bouwblok 3 School + sporthal | AA25: 150 | AB25: =12446+3024 -> 15470 | AD25: =AB25*$Z$41 -> 5569.79 | AE25: =AB25*$Z$42 -> 1258.5521 | AF25: =AE25*52 -> 65444.709 | AG25: =AB25*$Z$43 -> 401.98297 | AH25: =AG25*52 -> 20903.114 | AI25: 1030.3846 | AJ25: =AI25+AD25 -> 6600.1746 | AK25: =AJ25/AI25 -> 6.4055446 | AL25: ? | AO25: 147.98077 | AP25: =AO25+AE25 -> 1406.5329 | AQ25: 180.86538 | AR25: =AQ25+AG25 -> 582.84836
C26: =Z26 -> Bouwblok 4 Bloom Zuid | D26: 2112 | E26: =$E$20 -> 110 | F26: 4 | G26: =(D26/E26)/F26 -> 4.8 | K26: =IFERROR(IF(H26="Containeroptie 1 (zie regel 8)",($G$8*0.8)*I26,IF(H26="Containeroptie 2 (zie regel 9)",($G$9*0.8)*I26,"")),"") | L26: =IFERROR(IF(H26="Containeroptie 1 (zie regel 8)",$H$8,IF(H26="Containeroptie 2 (zie regel 9)",$H$9,""))," ") | M26: =IFERROR(L26*I26,"") | N26: =IF(H26="Containeroptie 1 (zie regel 8)",$I$8,IF(H26="Containeroptie 2 (zie regel 9)",$I$9,"")) | O26: =IFERROR((G26/K26),"Vul kolom I en K in") -> Vul kolom I en K in | P26: =IF(O26>2,"Aantal ledigingen onjuist",IFERROR(CEILING((O26*I26)*52,1),"")) -> Aantal ledigingen onjuist | Q26: =IFERROR(P26*N26,"") | R26: =IFERROR(Q26+M26,"") | U26: GFE | V26: 300 kg/m³ | W26: 1 | X26: 300 | Y26: kg/m³ | Z26: Bouwblok 4 Bloom Zuid | AA26: 378 | AB26: 340 | AD26: =AB26*$Z$41 -> 122.41297 | AE26: =AB26*$Z$42 -> 27.660486 | AF26: =AE26*52 -> 1438.3453 | AG26: =AB26*$Z$43 -> 8.8347906 | AH26: =AG26*52 -> 459.40911 | AI26: 2596.5692 | AJ26: =AI26+AD26 -> 2718.9822 | AK26: =AJ26/AI26 -> 1.0471441 | AL26: 68 | AM26: =AJ26/AL26 -> 39.985032 | AO26: 372.91154 | AP26: =AO26+AE26 -> 400.57202 | AQ26: 455.78077 | AR26: =AQ26+AG26 -> 464.61556
C27: =Z27 -> Bouwblok 5 Bloom Zuid | D27: 2112 | E27: =$E$20 -> 110 | F27: =$W$27 -> 4 | G27: =(D27/E27)/F27 -> 4.8 | K27: =IFERROR(IF(H27="Containeroptie 1 (zie regel 8)",($G$8*0.8)*I27,IF(H27="Containeroptie 2 (zie regel 9)",($G$9*0.8)*I27,"")),"") | L27: =IFERROR(IF(H27="Containeroptie 1 (zie regel 8)",$H$8,IF(H27="Containeroptie 2 (zie regel 9)",$H$9,""))," ") | M27: =IFERROR(L27*I27,"") | N27: =IF(H27="Containeroptie 1 (zie regel 8)",$I$8,IF(H27="Containeroptie 2 (zie regel 9)",$I$9,"")) | O27: =IFERROR((G27/K27),"Vul kolom I en K in") -> Vul kolom I en K in | P27: =IF(O27>2,"Aantal ledigingen onjuist",IFERROR(CEILING((O27*I27)*52,1),"")) -> Aantal ledigingen onjuist | Q27: =IFERROR(P27*N27,"") | R27: =IFERROR(Q27+M27,"") | U27: Restafval | V27: 110 kg/m³ | W27: 4 | X27: 440 | Y27: kg/m³ | Z27: Bouwblok 5 Bloom Zuid | AA27: 236 | AB27: 1629 | AD27: =AB27*$Z$41 -> 586.50213 | AE27: =AB27*$Z$42 -> 132.52627 | AF27: =AE27*52 -> 6891.366 | AG27: =AB27*$Z$43 -> 42.329041 | AH27: =AG27*52 -> 2201.1101 | AI27: 1621.1385 | AJ27: =AI27+AD27 -> 2207.6406 | AK27: =AJ27/AI27 -> 1.3617841 | AL27: 65 | AM27: =AJ27/AL27 -> 33.963701 | AO27: 232.82308 | AP27: =AO27+AE27 -> 365.34935 | AQ27: 284.56154 | AR27: =AQ27+AG27 -> 326.89058
C28: =Z28 -> Bouwblok 7 | D28: 2112 | E28: =$E$20 -> 110 | F28: =$W$27 -> 4 | G28: =(D28/E28)/F28 -> 4.8 | K28: =IFERROR(IF(H28="Containeroptie 1 (zie regel 8)",($G$8*0.8)*I28,IF(H28="Containeroptie 2 (zie regel 9)",($G$9*0.8)*I28,"")),"") | L28: =IFERROR(IF(H28="Containeroptie 1 (zie regel 8)",$H$8,IF(H28="Containeroptie 2 (zie regel 9)",$H$9,""))," ") | M28: =IFERROR(L28*I28,"") | N28: =IF(H28="Containeroptie 1 (zie regel 8)",$I$8,IF(H28="Containeroptie 2 (zie regel 9)",$I$9,"")) | O28: =IFERROR((G28/K28),"Vul kolom I en K in") -> Vul kolom I en K in | P28: =IF(O28>2,"Aantal ledigingen onjuist",IFERROR(CEILING((O28*I28)*52,1),"")) -> Aantal ledigingen onjuist | Q28: =IFERROR(P28*N28,"") | R28: =IFERROR(Q28+M28,"") | Z28: Bouwblok 7 | AA28: =128+170 -> 298 | AB28: =375+5281 -> 5656 | AC28: 7a en 7b samen | AD28: =AB28*$Z$41 -> 2036.3757 | AE28: =AB28*$Z$42 -> 460.14032 | AG28: =AB28*$Z$43 -> 146.96934 | AI28: =879.261538461538+1167.76923076923 -> 2047.0308 | AJ28: =AI28+AD28 -> 4083.4065 | AK28: =AJ28/AI28 -> 1.9947949 | AL28: ? | AO28: =126.276923076923+167.711538461538 -> 293.98846 | AP28: =AO28+AE28 -> 754.12878 | AQ28: =154.338461538462+204.980769230769 -> 359.31923 | AR28: =AQ28+AG28 -> 506.28857
C29: =Z29 -> Bouwblok 8 Grow | D29: 3950 | E29: =$E$20 -> 110 | F29: =$W$27 -> 4 | G29: =(D29/E29)/F29 -> 8.9772727 | K29: =IFERROR(IF(H29="Containeroptie 1 (zie regel 8)",($G$8*0.8)*I29,IF(H29="Containeroptie 2 (zie regel 9)",($G$9*0.8)*I29,"")),"") | L29: =IFERROR(IF(H29="Containeroptie 1 (zie regel 8)",$H$8,IF(H29="Containeroptie 2 (zie regel 9)",$H$9,""))," ") | M29: =IFERROR(L29*I29,"") | N29: =IF(H29="Containeroptie 1 (zie regel 8)",$I$8,IF(H29="Containeroptie 2 (zie regel 9)",$I$9,"")) | O29: =IFERROR((G29/K29),"Vul kolom I en K in") -> Vul kolom I en K in | P29: =IF(O29>2,"Aantal ledigingen onjuist",IFERROR(CEILING((O29*I29)*52,1),"")) -> Aantal ledigingen onjuist | Q29: =IFERROR(P29*N29,"") | R29: =IFERROR(Q29+M29,"") | U29: Kies het aantal containers per gebouw | Z29: Bouwblok 8 Grow | AA29: 575 | AB29: 7368 | AD29: =AB29*$Z$41 -> 2652.761 | AE29: =AB29*$Z$42 -> 599.419 | AG29: =AB29*$Z$43 -> 191.45511 | AI29: 3949.8077 | AJ29: =AI29+AD29 -> 6602.5687 | AK29: =AJ29/AI29 -> 1.6716178 | AL29: 160 | AM29: =AJ29/AL29 -> 41.266054 | AO29: 567.25962 | AP29: =AO29+AE29 -> 1166.6786 | AQ29: 693.31731 | AR29: =AQ29+AG29 -> 884.77242
C30: =Z30 -> Bouwblok 9 Joy | D30: 1524.8236 | E30: =$E$20 -> 110 | F30: =$W$27 -> 4 | G30: =(D30/E30)/F30 -> 3.4655081 | K30: =IFERROR(IF(H30="Containeroptie 1 (zie regel 8)",($G$8*0.8)*I30,IF(H30="Containeroptie 2 (zie regel 9)",($G$9*0.8)*I30,"")),"") | L30: =IFERROR(IF(H30="Containeroptie 1 (zie regel 8)",$H$8,IF(H30="Containeroptie 2 (zie regel 9)",$H$9,""))," ") | M30: =IFERROR(L30*I30,"") | N30: =IF(H30="Containeroptie 1 (zie regel 8)",$I$8,IF(H30="Containeroptie 2 (zie regel 9)",$I$9,"")) | O30: =IFERROR((G30/K30),"Vul kolom I en K in") -> Vul kolom I en K in | P30: =IF(O30>2,"Aantal ledigingen onjuist",IFERROR(CEILING((O30*I30)*52,1),"")) -> Aantal ledigingen onjuist | Q30: =IFERROR(P30*N30,"") | R30: =IFERROR(Q30+M30,"") | U30: 1 | Z30: Bouwblok 9 Joy | AA30: 179 | AB30: 820 | AD30: =AB30*$Z$41 -> 295.23127 | AE30: =AB30*$Z$42 -> 66.710583 | AF30: =AE30*52 -> 3468.9503 | AG30: =AB30*$Z$43 -> 21.307436 | AH30: =AG30*52 -> 1107.9867 | AI30: 1229.5923 | AJ30: =AI30+AD30 -> 1524.8236 | AK30: =AJ30/AI30 -> 1.240105 | AL30: 62 | AM30: =AJ30/AL30 -> 24.593929 | AO30: 141.075 | AP30: =AO30+AE30 -> 207.78558 | AQ30: 172.425 | AR30: =AQ30+AG30 -> 193.73244
C31: =Z31 -> Bouwblok 10 Pulse | D31: 1276.7288 | E31: =$E$20 -> 110 | F31: =$W$27 -> 4 | G31: =(D31/E31)/F31 -> 2.9016564 | K31: =IFERROR(IF(H31="Containeroptie 1 (zie regel 8)",($G$8*0.8)*I31,IF(H31="Containeroptie 2 (zie regel 9)",($G$9*0.8)*I31,"")),"") | L31: =IFERROR(IF(H31="Containeroptie 1 (zie regel 8)",$H$8,IF(H31="Containeroptie 2 (zie regel 9)",$H$9,""))," ") | M31: =IFERROR(L31*I31,"") | N31: =IF(H31="Containeroptie 1 (zie regel 8)",$I$8,IF(H31="Containeroptie 2 (zie regel 9)",$I$9,"")) | O31: =IFERROR((G31/K31),"Vul kolom I en K in") -> Vul kolom I en K in | P31: =IF(O31>2,"Aantal ledigingen onjuist",IFERROR(CEILING((O31*I31)*52,1),"")) -> Aantal ledigingen onjuist | Q31: =IFERROR(P31*N31,"") | R31: =IFERROR(Q31+M31,"") | U31: 2 | Z31: Bouwblok 10 Pulse | AA31: 178 | AB31: 150 | AD31: =AB31*$Z$41 -> 54.005721 | AE31: =AB31*$Z$42 -> 12.203155 | AF31: =AE31*52 -> 634.56408 | AG31: =AB31*$Z$43 -> 3.8977017 | AH31: =AG31*52 -> 202.68049 | AI31: 1222.7231 | AJ31: =AI31+AD31 -> 1276.7288 | AK31: =AJ31/AI31 -> 1.0441684 | AL31: 70 | AM31: =AJ31/AL31 -> 18.238983 | AO31: 208.15962 | AP31: =AO31+AE31 -> 220.36277 | AQ31: 254.41731 | AR31: =AQ31+AG31 -> 258.31501
C32: =Z32 -> Bouwblok 11 | D32: 3229.4593 | E32: =$E$20 -> 110 | F32: =$W$27 -> 4 | G32: =(D32/E32)/F32 -> 7.3396802 | K32: =IFERROR(IF(H32="Containeroptie 1 (zie regel 8)",($G$8*0.8)*I32,IF(H32="Containeroptie 2 (zie regel 9)",($G$9*0.8)*I32,"")),"") | L32: =IFERROR(IF(H32="Containeroptie 1 (zie regel 8)",$H$8,IF(H32="Containeroptie 2 (zie regel 9)",$H$9,""))," ") | M32: =IFERROR(L32*I32,"") | N32: =IF(H32="Containeroptie 1 (zie regel 8)",$I$8,IF(H32="Containeroptie 2 (zie regel 9)",$I$9,"")) | O32: =IFERROR((G32/K32),"Vul kolom I en K in") -> Vul kolom I en K in | P32: =IF(O32>2,"Aantal ledigingen onjuist",IFERROR(CEILING((O32*I32)*52,1),"")) -> Aantal ledigingen onjuist | Q32: =IFERROR(P32*N32,"") | R32: =IFERROR(Q32+M32,"") | U32: 3 | Z32: Bouwblok 11 | AA32: 376 | AB32: 1796 | AD32: =AB32*$Z$41 -> 646.6285 | AE32: =AB32*$Z$42 -> 146.11245 | AF32: =AE32*52 -> 7597.8473 | AG32: =AB32*$Z$43 -> 46.668482 | AH32: =AG32*52 -> 2426.7611 | AI32: 2582.8308 | AJ32: =AI32+AD32 -> 3229.4593 | AK32: =AJ32/AI32 -> 1.2503565 | AL32: 161 | AM32: =AJ32/AL32 -> 20.058753 | AO32: 456.76731 | AP32: =AO32+AE32 -> 602.87976 | AQ32: 558.27115 | AR32: =AQ32+AG32 -> 604.93964
C33: =Z33 -> Bouwblok 12 a Bloom Park | D33: 2112 | E33: =$E$20 -> 110 | F33: =$W$27 -> 4 | G33: =(D33/E33)/F33 -> 4.8 | K33: =IFERROR(IF(H33="Containeroptie 1 (zie regel 8)",($G$8*0.8)*I33,IF(H33="Containeroptie 2 (zie regel 9)",($G$9*0.8)*I33,"")),"") | L33: =IFERROR(IF(H33="Containeroptie 1 (zie regel 8)",$H$8,IF(H33="Containeroptie 2 (zie regel 9)",$H$9,""))," ") | M33: =IFERROR(L33*I33,"") | N33: =IF(H33="Containeroptie 1 (zie regel 8)",$I$8,IF(H33="Containeroptie 2 (zie regel 9)",$I$9,"")) | O33: =IFERROR((G33/K33),"Vul kolom I en K in") -> Vul kolom I en K in | P33: =IF(O33>2,"Aantal ledigingen onjuist",IFERROR(CEILING((O33*I33)*52,1),"")) -> Aantal ledigingen onjuist | Q33: =IFERROR(P33*N33,"") | R33: =IFERROR(Q33+M33,"") | Z33: Bouwblok 12 a Bloom Park | AA33: 189 | AB33: 3235 | AD33: =AB33*$Z$41 -> 1164.7234 | AE33: =AB33*$Z$42 -> 263.18139 | AF33: =AE33*52 -> 13685.432 | AG33: =AB33*$Z$43 -> 84.060434 | AH33: =AG33*52 -> 4371.1426 | AI33: 1298.2846 | AJ33: =AI33+AD33 -> 2463.008 | AK33: =AJ33/AI33 -> 1.8971248 | AL33: 67 | AM33: =AJ33/AL33 -> 36.761313 | AO33: 220.98462 | AP33: =AO33+AE33 -> 484.166 | AQ33: 270.09231 | AR33: =AQ33+AG33 -> 354.15274
C34: =Z34 -> Bouwblok 13 Cix City | D34: 4153.4819 | E34: =$E$20 -> 110 | F34: =$W$27 -> 4 | G34: =(D34/E34)/F34 -> 9.4397317 | K34: =IFERROR(IF(H34="Containeroptie 1 (zie regel 8)",($G$8*0.8)*I34,IF(H34="Containeroptie 2 (zie regel 9)",($G$9*0.8)*I34,"")),"") | L34: =IFERROR(IF(H34="Containeroptie 1 (zie regel 8)",$H$8,IF(H34="Containeroptie 2 (zie regel 9)",$H$9,""))," ") | M34: =IFERROR(L34*I34,"") | N34: =IF(H34="Containeroptie 1 (zie regel 8)",$I$8,IF(H34="Containeroptie 2 (zie regel 9)",$I$9,"")) | O34: =IFERROR((G34/K34),"Vul kolom I en K in") -> Vul kolom I en K in | P34: =IF(O34>2,"Aantal ledigingen onjuist",IFERROR(CEILING((O34*I34)*52,1),"")) -> Aantal ledigingen onjuist | Q34: =IFERROR(P34*N34,"") | R34: =IFERROR(Q34+M34,"") | Z34: Bouwblok 13 Cix City | AA34: 306 | AB34: 5698 | AD34: =AB34*$Z$41 -> 2051.4973 | AE34: =AB34*$Z$42 -> 463.5572 | AF34: =AE34*52 -> 24104.974 | AG34: =AB34*$Z$43 -> 148.0607 | AH34: =AG34*52 -> 7699.1562 | AI34: 2101.9846 | AJ34: =AI34+AD34 -> 4153.4819 | AK34: =AJ34/AI34 -> 1.9759811 | AL34: 80 | AM34: =AJ34/AL34 -> 51.918524 | AO34: 293.98846 | AP34: =AO34+AE34 -> 757.54566 | AQ34: 359.31923 | AR34: =AQ34+AG34 -> 507.37993
C35: =Z35 -> Bouwblok 14 Cix Theatre | D35: 1335.0308 | E35: =$E$20 -> 110 | F35: =$W$27 -> 4 | G35: =(D35/E35)/F35 -> 3.0341609 | K35: =IFERROR(IF(H35="Containeroptie 1 (zie regel 8)",($G$8*0.8)*I35,IF(H35="Containeroptie 2 (zie regel 9)",($G$9*0.8)*I35,"")),"") | L35: =IFERROR(IF(H35="Containeroptie 1 (zie regel 8)",$H$8,IF(H35="Containeroptie 2 (zie regel 9)",$H$9,""))," ") | M35: =IFERROR(L35*I35,"") | N35: =IF(H35="Containeroptie 1 (zie regel 8)",$I$8,IF(H35="Containeroptie 2 (zie regel 9)",$I$9,"")) | O35: =IFERROR((G35/K35),"Vul kolom I en K in") -> Vul kolom I en K in | P35: =IF(O35>2,"Aantal ledigingen onjuist",IFERROR(CEILING((O35*I35)*52,1),"")) -> Aantal ledigingen onjuist | Q35: =IFERROR(P35*N35,"") | R35: =IFERROR(Q35+M35,"") | Z35: Bouwblok 14 Cix Theatre | AA35: 89 | AB35: 1533 | AD35: =AB35*$Z$41 -> 551.93847 | AE35: =AB35*$Z$42 -> 124.71625 | AF35: =AE35*52 -> 6485.2449 | AG35: =AB35*$Z$43 -> 39.834512 | AH35: =AG35*52 -> 2071.3946 | AI35: 783.09231 | AJ35: =AI35+AD35 -> 1335.0308 | AK35: =AJ35/AI35 -> 1.7048192 | AL35: 55 | AM35: =AJ35/AL35 -> 24.273287 | AO35: 112.46538 | AP35: =AO35+AE35 -> 237.18163 | AQ35: 137.45769 | AR35: =AQ35+AG35 -> 177.2922
D36: =SUM(D20:D35) -> 39525.016 | G36: =SUM(G20:G35) -> 89.829581 | L36: Huurkosten restafval | M36: =IF(COUNTBLANK(M20:M35)=0,SUM(M20:M35),"NIET COMPLEET") -> NIET COMPLEET | P36: Inzamelkosten restafval | Q36: =IF(COUNTBLANK(Q20:Q35)=0,SUM(Q20:Q35)) -> FALSE | R36: =IF(COUNTBLANK(R20:R35)=0,SUM(R20:R35)) -> FALSE
C39: Locaties* | D39: Aanbod fractie** | E39: Soortelijk gewicht | F39: Verdichtingsfactor | G39: Aanbod: Gewicht naar inhoud | H39: In te zetten type container | I39: Aantal containers | K39: Capaciteit containers o.b.v. 80% | L39: Huur per container p.j. | M39: Containerkosten per jaar | N39: Prijs per lediging | O39: Ledigingen per week*** | P39: Aantal ledigingen per jaar | Q39: Ledigingskosten per jaar | R39: Totale kosten locatie per jaar | AI39: =(463*1.9*188)/52 -> 3180.4538
C40: Inzameling en transport van oud papier en karton (OPK) | G40: = kolom (E/F)/G | AB40: =SUM(AA23,AA24,AA32) -> 1359
C41: =Z20 -> Wonderwoods MSVA | D41: =AP20 -> 85 | E41: 120 | F41: =$W$25 -> 3 | G41: =(D41/E41)/F41 -> 0.23611111 | K41: =IFERROR(IF(H41="Containeroptie 1 (zie regel 8)",($G$8*0.8)*I41,IF(H41="Containeroptie 2 (zie regel 9)",($G$9*0.8)*I41,"")),"") | L41: =IFERROR(IF(H41="Containeroptie 1 (zie regel 8)",$H$8,IF(H41="Containeroptie 2 (zie regel 9)",$H$9,""))," ") | M41: =IFERROR(L41*I41,"") | N41: =IF(H41="Containeroptie 1 (zie regel 8)",$I$8,IF(H41="Containeroptie 2 (zie regel 9)",$I$9,"")) | O41: =IFERROR((G41/K41),"Vul kolom I en K in") -> Vul kolom I en K in | P41: =IF(O41>2,"Aantal ledigingen onjuist",IFERROR(CEILING((O41*I41)*52,1),"")) -> Aantal ledigingen onjuist | Q41: =IFERROR(P41*N41,"") | R41: =IFERROR(Q41+M41,"") | U41: Hoeveelheid RESTper m2 bedrijfsoppervlakte | Y41: =17.4719832286658+1.25 -> 18.721983 | Z41: =Y41/52 -> 0.36003814 | AB41: 739 | AC41: oorspronkelijk
C42: =Z21 -> Wonderwoods Boeri | D42: =AP21 -> 241 | E42: =E41 -> 120 | F42: =$W$25 -> 3 | G42: =(D42/E42)/F42 -> 0.66944444 | K42: =IFERROR(IF(H42="Containeroptie 1 (zie regel 8)",($G$8*0.8)*I42,IF(H42="Containeroptie 2 (zie regel 9)",($G$9*0.8)*I42,"")),"") | L42: =IFERROR(IF(H42="Containeroptie 1 (zie regel 8)",$H$8,IF(H42="Containeroptie 2 (zie regel 9)",$H$9,""))," ") | M42: =IFERROR(L42*I42,"") | N42: =IF(H42="Containeroptie 1 (zie regel 8)",$I$8,IF(H42="Containeroptie 2 (zie regel 9)",$I$9,"")) | O42: =IFERROR((G42/K42),"Vul kolom I en K in") -> Vul kolom I en K in | P42: =IF(O42>2,"Aantal ledigingen onjuist",IFERROR(CEILING((O42*I42)*52,1),"")) -> Aantal ledigingen onjuist | Q42: =IFERROR(P42*N42,"") | R42: =IFERROR(Q42+M42,"") | U42: Hoeveelheid OPK per m2 bedrijfsoppervlakte | Y42: 4.2304272 | Z42: =Y42/52 -> 0.08135437
C43: =Z22 -> Bouwblok 1 a-b | D43: =AP22 -> 354.69939 | E43: =E42 -> 120 | F43: =$W$25 -> 3 | G43: =(D43/E43)/F43 -> 0.98527609 | K43: =IFERROR(IF(H43="Containeroptie 1 (zie regel 8)",($G$8*0.8)*I43,IF(H43="Containeroptie 2 (zie regel 9)",($G$9*0.8)*I43,"")),"") | L43: =IFERROR(IF(H43="Containeroptie 1 (zie regel 8)",$H$8,IF(H43="Containeroptie 2 (zie regel 9)",$H$9,""))," ") | M43: =IFERROR(L43*I43,"") | N43: =IF(H43="Containeroptie 1 (zie regel 8)",$I$8,IF(H43="Containeroptie 2 (zie regel 9)",$I$9,"")) | O43: =IFERROR((G43/K43),"Vul kolom I en K in") -> Vul kolom I en K in | P43: =IF(O43>2,"Aantal ledigingen onjuist",IFERROR(CEILING((O43*I43)*52,1),"")) -> Aantal ledigingen onjuist | Q43: =IFERROR(P43*N43,"") | R43: =IFERROR(Q43+M43,"") | U43: Hoeveelheid GFE per m2 bedrijfsoppervlakte | Y43: 1.3512033 | Z43: =Y43/52 -> 0.025984678
C44: =Z23 -> Bouwblok 1 a-g | D44: =AO23 -> 684.65769 | E44: =E43 -> 120 | F44: =$W$25 -> 3 | G44: =(D44/E44)/F44 -> 1.9018269 | K44: =IFERROR(IF(H44="Containeroptie 1 (zie regel 8)",($G$8*0.8)*I44,IF(H44="Containeroptie 2 (zie regel 9)",($G$9*0.8)*I44,"")),"") | L44: =IFERROR(IF(H44="Containeroptie 1 (zie regel 8)",$H$8,IF(H44="Containeroptie 2 (zie regel 9)",$H$9,""))," ") | M44: =IFERROR(L44*I44,"") | N44: =IF(H44="Containeroptie 1 (zie regel 8)",$I$8,IF(H44="Containeroptie 2 (zie regel 9)",$I$9,"")) | O44: =IFERROR((G44/K44),"Vul kolom I en K in") -> Vul kolom I en K in | P44: =IF(O44>2,"Aantal ledigingen onjuist",IFERROR(CEILING((O44*I44)*52,1),"")) -> Aantal ledigingen onjuist | Q44: =IFERROR(P44*N44,"") | R44: =IFERROR(Q44+M44,"")
C45: =Z24 -> Bouwblok 2a | D45: =AP24 -> 463.68246 | E45: =E44 -> 120 | F45: =$W$25 -> 3 | G45: =(D45/E45)/F45 -> 1.2880068 | K45: =IFERROR(IF(H45="Containeroptie 1 (zie regel 8)",($G$8*0.8)*I45,IF(H45="Containeroptie 2 (zie regel 9)",($G$9*0.8)*I45,"")),"") | L45: =IFERROR(IF(H45="Containeroptie 1 (zie regel 8)",$H$8,IF(H45="Containeroptie 2 (zie regel 9)",$H$9,""))," ") | M45: =IFERROR(L45*I45,"") | N45: =IF(H45="Containeroptie 1 (zie regel 8)",$I$8,IF(H45="Containeroptie 2 (zie regel 9)",$I$9,"")) | O45: =IFERROR((G45/K45),"Vul kolom I en K in") -> Vul kolom I en K in | P45: =IF(O45>2,"Aantal ledigingen onjuist",IFERROR(CEILING((O45*I45)*52,1),"")) -> Aantal ledigingen onjuist | Q45: =IFERROR(P45*N45,"") | R45: =IFERROR(Q45+M45,"")
C46: =Z25 -> Bouwblok 3 School + sporthal | D46: =AO25 -> 147.98077 | E46: =E45 -> 120 | F46: =$W$25 -> 3 | G46: =(D46/E46)/F46 -> 0.41105769 | J46: =J45 -> 0 | K46: =IFERROR(IF(H46="Containeroptie 1 (zie regel 8)",($G$8*0.8)*I46,IF(H46="Containeroptie 2 (zie regel 9)",($G$9*0.8)*I46,"")),"") | L46: =IFERROR(IF(H46="Containeroptie 1 (zie regel 8)",$H$8,IF(H46="Containeroptie 2 (zie regel 9)",$H$9,""))," ") | M46: =IFERROR(L46*I46,"") | N46: =IF(H46="Containeroptie 1 (zie regel 8)",$I$8,IF(H46="Containeroptie 2 (zie regel 9)",$I$9,"")) | O46: =IFERROR((G46/K46),"Vul kolom I en K in") -> Vul kolom I en K in | P46: =IF(O46>2,"Aantal ledigingen onjuist",IFERROR(CEILING((O46*I46)*52,1),"")) -> Aantal ledigingen onjuist | Q46: =IFERROR(P46*N46,"") | R46: =IFERROR(Q46+M46,"")
C47: =Z26 -> Bouwblok 4 Bloom Zuid | D47: =AP26 -> 400.57202 | E47: =E46 -> 120 | F47: =$W$25 -> 3 | G47: =(D47/E47)/F47 -> 1.1127001 | J47: =J46 -> 0 | K47: =IFERROR(IF(H47="Containeroptie 1 (zie regel 8)",($G$8*0.8)*I47,IF(H47="Containeroptie 2 (zie regel 9)",($G$9*0.8)*I47,"")),"") | L47: =IFERROR(IF(H47="Containeroptie 1 (zie regel 8)",$H$8,IF(H47="Containeroptie 2 (zie regel 9)",$H$9,""))," ") | M47: =IFERROR(L47*I47,"") | N47: =IF(H47="Containeroptie 1 (zie regel 8)",$I$8,IF(H47="Containeroptie 2 (zie regel 9)",$I$9,"")) | O47: =IFERROR((G47/K47),"Vul kolom I en K in") -> Vul kolom I en K in | P47: =IF(O47>2,"Aantal ledigingen onjuist",IFERROR(CEILING((O47*I47)*52,1),"")) -> Aantal ledigingen onjuist | Q47: =IFERROR(P47*N47,"") | R47: =IFERROR(Q47+M47,"") | Z47: rest | AC47: opk | AD47: gfe
...

Sheet Prijzenblad incl alle BA
C1: Prijzenblad Mini-perscontainers
C3: U vult alle gele cellen in. Inschrijfprijzen zijn excl. btw
C6: Type miniperscontainer | D6: Omschrijving type container en persmechanisme | G6: Inhoud per container* | H6: All-in huurtarief ** per container per jaar | I6: All-in ledigingstarief ** per lediging per container | U6: Tonnage Rest per jaar: | V6: 188 | W6: kilo p.j.p.inwoner
U7: Tonnage OPK per jaar: | V7: 27 | W7: kilo p.j.p.inwoner
C8: Jaarlijks all-in tarief perscontainer (rest en OPK): optie 1 | D8: 3 m3 perscontainer | G8: 3 | H8: 3000 | I8: 100 | U8: Tonnage GFE per jaar: | V8: 33 | W8: kilo p.j.p.inwoner
C9: Jaarlijks all-in tarief perscontainer (rest en OPK) : optie 2 | D9: 2 m3 perscontainer | G9: 2 | H9: 2000 | I9: 100 | U9: Inwoners per huishouden: | V9: 1.9 | W9: inwoners
C10: Jaarlijks all-in tarief gfe-container: optie 1 | D10: Minicontainer 240 l | G10: 0.24 | H10: 1000 | I10: 50
C11: Jaarlijks all-in tarief gfe-container : optie 2 | D11: Rolcontainer | G11: 1.1 | H11: 1500 | I11: 75
C13: * Gebaseerd op de totale capaciteit in aantal m3 per container. Dit is gelijk aan 1000 liter.
C14: ** All-in tarief per container/ cassette, inclusief alle diensten zoals omschreven in de aanbestedingsdocumenten
U16: Kies het type container per gebouw | X16: Kies het type container per gebouw
U17: Containeroptie 1 (zie regel 8) | X17: Containeroptie 1 (zie regel 10)
C18: Locaties* | D18: Aanbod restafval** | E18: Soortelijk gewicht | F18: Verdichtingsfactor | G18: Aanbod: Gewicht naar inhoud | H18: In te zetten type container | I18: Aantal containers | K18: Capaciteit containers o.b.v. 80% | L18: Huur per container p.j. | M18: Containerkosten per jaar | N18: Prijs per lediging | O18: Ledigingen per week*** | P18: Aantal ledigingen per jaar | Q18: Ledigingskosten per jaar | R18: Totale kosten locatie per jaar | U18: Containeroptie 2 (zie regel 9) | X18: Containeroptie 2 (zie regel 11) | AD18: Bedrijfsafval per week
C19: Inzameling en transport van Restafval | G19: = kolom (E/F)/G | Z19: Locaties | AA19: Woningen | AB19: Bedrijfsruimte | AD19: Rest BA | AE19: OPK BA | AF19: gfe BA | AG19: Huidig rest | AH19: Nieuw rest | AI19: Verhoging incl bedrijfsafval | AJ19: m2 afvalruimte | AK19: kilo's per m2 | AM19: Oud OPK | AN19: Nieuw OPK | AO19: Oud gfe | AP19: Nieuw gfe
C20: =Z20 -> Wonderwoods MSVA | D20: =AH20 -> 591 | E20: 110 | F20: =$W$27 -> 4 | G20: =(D20/E20)/F20 -> 1.3431818 | H20: Containeroptie 1 (zie regel 8) | I20: 1 | K20: =IFERROR(IF(H20="Containeroptie 1 (zie regel 8)",($G$8*0.8)*I20,IF(H20="Containeroptie 2 (zie regel 9)",($G$9*0.8)*I20,"")),"") -> 2.4 | L20: =IFERROR(IF(H20="Containeroptie 1 (zie regel 8)",$H$8,IF(H20="Containeroptie 2 (zie regel 9)",$H$9,"")),"") -> 3000 | M20: =IFERROR(L20*I20,"") -> 3000 | N20: =IF(H20="Containeroptie 1 (zie regel 8)",$I$8,IF(H20="Containeroptie 2 (zie regel 9)",$I$9,"")) -> 100 | O20: =IFERROR((G20/K20),"Vul kolom I en K in") -> 0.55965909 | P20: =IF(O20>2,"Aantal ledigingen onjuist",IFERROR(CEILING((O20*I20)*52,1),"")) -> 30 | Q20: =IFERROR(P20*N20,"") -> 3000 | R20: =IFERROR(Q20+M20,"") -> 6000 | Z20: Wonderwoods MSVA | AA20: 109 | AB20: 0 | AD20: =AB20*$Z$42 -> 0 | AE20: =AB20*$Z$43 -> 0 | AF20: =AB20*$Z$44 -> 0 | AG20: 591 | AH20: =AG20+AD20 -> 591 | AI20: =AH20/AG20 -> 1 | AJ20: 112 | AK20: =AH20/AJ20 -> 5.2767857 | AM20: 85 | AN20: 85 | AO20: 104 | AP20: 104
C21: =Z21 -> Wonderwoods Boeri | D21: =AH21 -> 1681 | E21: =$E$20 -> 110 | F21: =$W$27 -> 4 | G21: =(D21/E21)/F21 -> 3.8204545 | H21: Containeroptie 1 (zie regel 8) | I21: 2 | K21: =IFERROR(IF(H21="Containeroptie 1 (zie regel 8)",($G$8*0.8)*I21,IF(H21="Containeroptie 2 (zie regel 9)",($G$9*0.8)*I21,"")),"") -> 4.8 | L21: =IFERROR(IF(H21="Containeroptie 1 (zie regel 8)",$H$8,IF(H21="Containeroptie 2 (zie regel 9)",$H$9,""))," ") -> 3000 | M21: =IFERROR(L21*I21,"") -> 6000 | N21: =IF(H21="Containeroptie 1 (zie regel 8)",$I$8,IF(H21="Containeroptie 2 (zie regel 9)",$I$9,"")) -> 100 | O21: =IFERROR((G21/K21),"Vul kolom I en K in") -> 0.79592803 | P21: =IF(O21>2,"Aantal ledigingen onjuist",IFERROR(CEILING((O21*I21)*52,1),"")) -> 83 | Q21: =IFERROR(P21*N21,"") -> 8300 | R21: =IFERROR(Q21+M21,"") -> 14300 | Z21: Wonderwoods Boeri | AA21: 310 | AB21: 0 | AD21: =AB21*$Z$42 -> 0 | AE21: =AB21*$Z$43 -> 0 | AF21: =AB21*$Z$44 -> 0 | AG21: 1681 | AH21: =AG21+AD21 -> 1681 | AI21: =AH21/AG21 -> 1 | AJ21: 43 | AK21: =AH21/AJ21 -> 39.093023 | AM21: 241 | AN21: 241 | AO21: 295 | AP21: 295
C22: =Z22 -> Bouwblok 1 a-b | D22: =AH22 -> 2320.7168 | E22: =$E$20 -> 110 | F22: =$W$27 -> 4 | G22: =(D22/E22)/F22 -> 5.2743563 | H22: Containeroptie 1 (zie regel 8) | I22: 2 | K22: =IFERROR(IF(H22="Containeroptie 1 (zie regel 8)",($G$8*0.8)*I22,IF(H22="Containeroptie 2 (zie regel 9)",($G$9*0.8)*I22,"")),"") -> 4.8 | L22: =IFERROR(IF(H22="Containeroptie 1 (zie regel 8)",$H$8,IF(H22="Containeroptie 2 (zie regel 9)",$H$9,""))," ") -> 3000 | M22: =IFERROR(L22*I22,"") -> 6000 | N22: =IF(H22="Containeroptie 1 (zie regel 8)",$I$8,IF(H22="Containeroptie 2 (zie regel 9)",$I$9,"")) -> 100 | O22: =IFERROR((G22/K22),"Vul kolom I en K in") -> 1.0988242 | P22: =IF(O22>2,"Aantal ledigingen onjuist",IFERROR(CEILING((O22*I22)*52,1),"")) -> 115 | Q22: =IFERROR(P22*N22,"") -> 11500 | R22: =IFERROR(Q22+M22,"") -> 17500 | U22: Vaste verdichtingsfactor gebruiken in berekeningen en benoemen | Z22: Bouwblok 1 a-b | AA22: 300 | AB22: 722 | AD22: =AB22*$Z$42 -> 259.94754 | AE22: =AB22*$Z$43 -> 58.737855 | AF22: =AB22*$Z$44 -> 18.760938 | AG22: 2060.7692 | AH22: =AG22+AD22 -> 2320.7168 | AI22: =AH22/AG22 -> 1.126141 | AJ22: 93 | AK22: =AH22/AJ22 -> 24.953944 | AM22: 295.96154 | AN22: =AM22+AE22 -> 354.69939 | AO22: 361.73077 | AP22: =AO22+AF22 -> 380.49171
C23: =Z23 -> Bouwblok 1 a-g | D23: =AH23 -> 7451.3305 | E23: =$E$20 -> 110 | F23: =$W$27 -> 4 | G23: =(D23/E23)/F23 -> 16.934842 | H23: Containeroptie 1 (zie regel 8) | I23: 4 | K23: =IFERROR(IF(H23="Containeroptie 1 (zie regel 8)",($G$8*0.8)*I23,IF(H23="Containeroptie 2 (zie regel 9)",($G$9*0.8)*I23,"")),"") -> 9.6 | L23: =IFERROR(IF(H23="Containeroptie 1 (zie regel 8)",$H$8,IF(H23="Containeroptie 2 (zie regel 9)",$H$9,""))," ") -> 3000 | M23: =IFERROR(L23*I23,"") -> 12000 | N23: =IF(H23="Containeroptie 1 (zie regel 8)",$I$8,IF(H23="Containeroptie 2 (zie regel 9)",$I$9,"")) -> 100 | O23: =IFERROR((G23/K23),"Vul kolom I en K in") -> 1.764046 | P23: =IF(O23>2,"Aantal ledigingen onjuist",IFERROR(CEILING((O23*I23)*52,1),"")) -> 367 | Q23: =IFERROR(P23*N23,"") -> 36700 | R23: =IFERROR(Q23+M23,"") -> 48700 | U23: Afvalstroom | V23: Ongeperst | W23: Verdichtingsfactor | X23: Geperst | Y23: Berekening | Z23: Bouwblok 1 a-g | AA23: 694 | AB23: 7455 | AD23: =AB23*$Z$42 -> 2684.0843 | AE23: =AB23*$Z$43 -> 606.49683 | AF23: =AB23*$Z$44 -> 193.71578 | AG23: 4767.2462 | AH23: =AG23+AD23 -> 7451.3305 | AI23: =AH23/AG23 -> 1.5630262 | AJ23: 74 | AK23: =AH23/AJ23 -> 100.69366 | AM23: 684.65769 | AN23: =AM23+AE23 -> 1291.1545 | AO23: 836.80385 | AP23: =AO23+AF23 -> 1030.5196
C24: =Z24 -> Bouwblok 2a | D24: =AH24 -> 2775.4914 | E24: =$E$20 -> 110 | F24: =$W$27 -> 4 | G24: =(D24/E24)/F24 -> 6.307935 | H24: Containeroptie 1 (zie regel 8) | I24: 2 | K24: =IFERROR(IF(H24="Containeroptie 1 (zie regel 8)",($G$8*0.8)*I24,IF(H24="Containeroptie 2 (zie regel 9)",($G$9*0.8)*I24,"")),"") -> 4.8 | L24: =IFERROR(IF(H24="Containeroptie 1 (zie regel 8)",$H$8,IF(H24="Containeroptie 2 (zie regel 9)",$H$9,""))," ") -> 3000 | M24: =IFERROR(L24*I24,"") -> 6000 | N24: =IF(H24="Containeroptie 1 (zie regel 8)",$I$8,IF(H24="Containeroptie 2 (zie regel 9)",$I$9,"")) -> 100 | O24: =IFERROR((G24/K24),"Vul kolom I en K in") -> 1.3141531 | P24: =IF(O24>2,"Aantal ledigingen onjuist",IFERROR(CEILING((O24*I24)*52,1),"")) -> 137 | Q24: =IFERROR(P24*N24,"") -> 13700 | R24: =IFERROR(Q24+M24,"") -> 19700 | U24: Soortelijk gewicht doorrekenen naar benodigde capaciteit met ingezameld gewicht | Z24: Bouwblok 2a | AA24: 289 | AB24: 2195 | AD24: =AB24*$Z$42 -> 790.28372 | AE24: =AB24*$Z$43 -> 178.57284 | AF24: =AB24*$Z$44 -> 57.036368 | AG24: 1985.2077 | AH24: =AG24+AD24 -> 2775.4914 | AI24: =AH24/AG24 -> 1.3980862 | AJ24: 95 | AK24: =AH24/AJ24 -> 29.215699 | AM24: 285.10962 | AN24: =AM24+AE24 -> 463.68246 | AO24: 348.46731 | AP24: =AO24+AF24 -> 405.50368
C25: =Z25 -> Bouwblok 3 School + sporthal | D25: =AH25 -> 6600.1746 | E25: =$E$20 -> 110 | F25: =$W$27 -> 4 | G25: =(D25/E25)/F25 -> 15.000397 | H25: Containeroptie 1 (zie regel 8) | I25: 4 | K25: =IFERROR(IF(H25="Containeroptie 1 (zie regel 8)",($G$8*0.8)*I25,IF(H25="Containeroptie 2 (zie regel 9)",($G$9*0.8)*I25,"")),"") -> 9.6 | L25: =IFERROR(IF(H25="Containeroptie 1 (zie regel 8)",$H$8,IF(H25="Containeroptie 2 (zie regel 9)",$H$9,""))," ") -> 3000 | M25: =IFERROR(L25*I25,"") -> 12000 | N25: =IF(H25="Containeroptie 1 (zie regel 8)",$I$8,IF(H25="Containeroptie 2 (zie regel 9)",$I$9,"")) -> 100 | O25: =IFERROR((G25/K25),"Vul kolom I en K in") -> 1.5625413 | P25: =IF(O25>2,"Aantal ledigingen onjuist",IFERROR(CEILING((O25*I25)*52,1),"")) -> 326 | Q25: =IFERROR(P25*N25,"") -> 32600 | R25: =IFERROR(Q25+M25,"") -> 44600 | U25: Papier/karton | V25: 120 kg/m³ | W25: 3 | X25: 360 | Y25: kg/m³ | Z25: Bouwblok 3 School + sporthal | AA25: 150 | AB25: =12446+3024 -> 15470 | AD25: =AB25*$Z$42 -> 5569.79 | AE25: =AB25*$Z$43 -> 1258.5521 | AF25: =AB25*$Z$44 -> 401.98297 | AG25: 1030.3846 | AH25: =AG25+AD25 -> 6600.1746 | AI25: =AH25/AG25 -> 6.4055446 | AJ25: ? | AM25: 147.98077 | AN25: =AM25+AE25 -> 1406.5329 | AO25: 180.86538 | AP25: =AO25+AF25 -> 582.84836
C26: =Z26 -> Bouwblok 4 Bloom Zuid | D26: =AH26 -> 2718.9822 | E26: =$E$20 -> 110 | F26: 4 | G26: =(D26/E26)/F26 -> 6.179505 | H26: Containeroptie 1 (zie regel 8) | I26: 2 | K26: =IFERROR(IF(H26="Containeroptie 1 (zie regel 8)",($G$8*0.8)*I26,IF(H26="Containeroptie 2 (zie regel 9)",($G$9*0.8)*I26,"")),"") -> 4.8 | L26: =IFERROR(IF(H26="Containeroptie 1 (zie regel 8)",$H$8,IF(H26="Containeroptie 2 (zie regel 9)",$H$9,""))," ") -> 3000 | M26: =IFERROR(L26*I26,"") -> 6000 | N26: =IF(H26="Containeroptie 1 (zie regel 8)",$I$8,IF(H26="Containeroptie 2 (zie regel 9)",$I$9,"")) -> 100 | O26: =IFERROR((G26/K26),"Vul kolom I en K in") -> 1.2873969 | P26: =IF(O26>2,"Aantal ledigingen onjuist",IFERROR(CEILING((O26*I26)*52,1),"")) -> 134 | Q26: =IFERROR(P26*N26,"") -> 13400 | R26: =IFERROR(Q26+M26,"") -> 19400 | U26: GFE | V26: 300 kg/m³ | W26: 1 | X26: 300 | Y26: kg/m³ | Z26: Bouwblok 4 Bloom Zuid | AA26: 378 | AB26: 340 | AD26: =AB26*$Z$42 -> 122.41297 | AE26: =AB26*$Z$43 -> 27.660486 | AF26: =AB26*$Z$44 -> 8.8347906 | AG26: 2596.5692 | AH26: =AG26+AD26 -> 2718.9822 | AI26: =AH26/AG26 -> 1.0471441 | AJ26: 68 | AK26: =AH26/AJ26 -> 39.985032 | AM26: 372.91154 | AN26: =AM26+AE26 -> 400.57202 | AO26: 455.78077 | AP26: =AO26+AF26 -> 464.61556
C27: =Z27 -> Bouwblok 5 Bloom Zuid | D27: =AH27 -> 2207.6406 | E27: =$E$20 -> 110 | F27: =$W$27 -> 4 | G27: =(D27/E27)/F27 -> 5.017365 | H27: Containeroptie 1 (zie regel 8) | I27: 2 | K27: =IFERROR(IF(H27="Containeroptie 1 (zie regel 8)",($G$8*0.8)*I27,IF(H27="Containeroptie 2 (zie regel 9)",($G$9*0.8)*I27,"")),"") -> 4.8 | L27: =IFERROR(IF(H27="Containeroptie 1 (zie regel 8)",$H$8,IF(H27="Containeroptie 2 (zie regel 9)",$H$9,""))," ") -> 3000 | M27: =IFERROR(L27*I27,"") -> 6000 | N27: =IF(H27="Containeroptie 1 (zie regel 8)",$I$8,IF(H27="Containeroptie 2 (zie regel 9)",$I$9,"")) -> 100 | O27: =IFERROR((G27/K27),"Vul kolom I en K in") -> 1.0452844 | P27: =IF(O27>2,"Aantal ledigingen onjuist",IFERROR(CEILING((O27*I27)*52,1),"")) -> 109 | Q27: =IFERROR(P27*N27,"") -> 10900 | R27: =IFERROR(Q27+M27,"") -> 16900 | U27: Restafval | V27: 110 kg/m³ | W27: 4 | X27: 440 | Y27: kg/m³ | Z27: Bouwblok 5 Bloom Zuid | AA27: 236 | AB27: 1629 | AD27: =AB27*$Z$42 -> 586.50213 | AE27: =AB27*$Z$43 -> 132.52627 | AF27: =AB27*$Z$44 -> 42.329041 | AG27: 1621.1385 | AH27: =AG27+AD27 -> 2207.6406 | AI27: =AH27/AG27 -> 1.3617841 | AJ27: 65 | AK27: =AH27/AJ27 -> 33.963701 | AM27: 232.82308 | AN27: =AM27+AE27 -> 365.34935 | AO27: 284.56154 | AP27: =AO27+AF27 -> 326.89058
C28: =Z28 -> Bouwblok 7 | D28: =AH28 -> 4083.4065 | E28: =$E$20 -> 110 | F28: =$W$27 -> 4 | G28: =(D28/E28)/F28 -> 9.2804693 | H28: Containeroptie 1 (zie regel 8) | I28: 2 | K28: =IFERROR(IF(H28="Containeroptie 1 (zie regel 8)",($G$8*0.8)*I28,IF(H28="Containeroptie 2 (zie regel 9)",($G$9*0.8)*I28,"")),"") -> 4.8 | L28: =IFERROR(IF(H28="Containeroptie 1 (zie regel 8)",$H$8,IF(H28="Containeroptie 2 (zie regel 9)",$H$9,""))," ") -> 3000 | M28: =IFERROR(L28*I28,"") -> 6000 | N28: =IF(H28="Containeroptie 1 (zie regel 8)",$I$8,IF(H28="Containeroptie 2 (zie regel 9)",$I$9,"")) -> 100 | O28: =IFERROR((G28/K28),"Vul kolom I en K in") -> 1.9334311 | P28: =IF(O28>2,"Aantal ledigingen onjuist",IFERROR(CEILING((O28*I28)*52,1),"")) -> 202 | Q28: =IFERROR(P28*N28,"") -> 20200 | R28: =IFERROR(Q28+M28,"") -> 26200 | Z28: Bouwblok 7 | AA28: =128+170 -> 298 | AB28: =375+5281 -> 5656 | AC28: 7a en 7b samen | AD28: =AB28*$Z$42 -> 2036.3757 | AE28: =AB28*$Z$43 -> 460.14032 | AF28: =AB28*$Z$44 -> 146.96934 | AG28: =879.261538461538+1167.76923076923 -> 2047.0308 | AH28: =AG28+AD28 -> 4083.4065 | AI28: =AH28/AG28 -> 1.9947949 | AJ28: ? | AM28: =126.276923076923+167.711538461538 -> 293.98846 | AN28: =AM28+AE28 -> 754.12878 | AO28: =154.338461538462+204.980769230769 -> 359.31923 | AP28: =AO28+AF28 -> 506.28857
C29: =Z29 -> Bouwblok 8 Grow | D29: =AH29 -> 6602.5687 | E29: =$E$20 -> 110 | F29: =$W$27 -> 4 | G29: =(D29/E29)/F29 -> 15.005838 | H29: Containeroptie 1 (zie regel 8) | I29: 4 | K29: =IFERROR(IF(H29="Containeroptie 1 (zie regel 8)",($G$8*0.8)*I29,IF(H29="Containeroptie 2 (zie regel 9)",($G$9*0.8)*I29,"")),"") -> 9.6 | L29: =IFERROR(IF(H29="Containeroptie 1 (zie regel 8)",$H$8,IF(H29="Containeroptie 2 (zie regel 9)",$H$9,""))," ") -> 3000 | M29: =IFERROR(L29*I29,"") -> 12000 | N29: =IF(H29="Containeroptie 1 (zie regel 8)",$I$8,IF(H29="Containeroptie 2 (zie regel 9)",$I$9,"")) -> 100 | O29: =IFERROR((G29/K29),"Vul kolom I en K in") -> 1.5631081 | P29: =IF(O29>2,"Aantal ledigingen onjuist",IFERROR(CEILING((O29*I29)*52,1),"")) -> 326 | Q29: =IFERROR(P29*N29,"") -> 32600 | R29: =IFERROR(Q29+M29,"") -> 44600 | U29: Kies het aantal containers per gebouw | Z29: Bouwblok 8 Grow | AA29: 575 | AB29: 7368 | AD29: =AB29*$Z$42 -> 2652.761 | AE29: =AB29*$Z$43 -> 599.419 | AF29: =AB29*$Z$44 -> 191.45511 | AG29: 3949.8077 | AH29: =AG29+AD29 -> 6602.5687 | AI29: =AH29/AG29 -> 1.6716178 | AJ29: 160 | AK29: =AH29/AJ29 -> 41.266054 | AM29: 567.25962 | AN29: =AM29+AE29 -> 1166.6786 | AO29: 693.31731 | AP29: =AO29+AF29 -> 884.77242
C30: =Z30 -> Bouwblok 9 Joy | D30: =AH30 -> 1277.5313 | E30: =$E$20 -> 110 | F30: =$W$27 -> 4 | G30: =(D30/E30)/F30 -> 2.9034802 | H30: Containeroptie 1 (zie regel 8) | I30: 2 | K30: =IFERROR(IF(H30="Containeroptie 1 (zie regel 8)",($G$8*0.8)*I30,IF(H30="Containeroptie 2 (zie regel 9)",($G$9*0.8)*I30,"")),"") -> 4.8 | L30: =IFERROR(IF(H30="Containeroptie 1 (zie regel 8)",$H$8,IF(H30="Containeroptie 2 (zie regel 9)",$H$9,""))," ") -> 3000 | M30: =IFERROR(L30*I30,"") -> 6000 | N30: =IF(H30="Containeroptie 1 (zie regel 8)",$I$8,IF(H30="Containeroptie 2 (zie regel 9)",$I$9,"")) -> 100 | O30: =IFERROR((G30/K30),"Vul kolom I en K in") -> 0.6048917 | P30: =IF(O30>2,"Aantal ledigingen onjuist",IFERROR(CEILING((O30*I30)*52,1),"")) -> 63 | Q30: =IFERROR(P30*N30,"") -> 6300 | R30: =IFERROR(Q30+M30,"") -> 12300 | U30: 1 | Z30: Bouwblok 9 Joy | AA30: 143 | AB30: 820 | AD30: =AB30*$Z$42 -> 295.23127 | AE30: =AB30*$Z$43 -> 66.710583 | AF30: =AB30*$Z$44 -> 21.307436 | AG30: 982.3 | AH30: =AG30+AD30 -> 1277.5313 | AI30: =AH30/AG30 -> 1.300551 | AJ30: 62 | AK30: =AH30/AJ30 -> 20.605343 | AM30: 141.075 | AN30: =AM30+AE30 -> 207.78558 | AO30: 172.425 | AP30: =AO30+AF30 -> 193.73244
C31: =Z31 -> Bouwblok 10 Pulse | D31: =AH31 -> 1449.4077 | E31: =$E$20 -> 110 | F31: =$W$27 -> 4 | G31: =(D31/E31)/F31 -> 3.2941084 | H31: Containeroptie 1 (zie regel 8) | I31: 1 | K31: =IFERROR(IF(H31="Containeroptie 1 (zie regel 8)",($G$8*0.8)*I31,IF(H31="Containeroptie 2 (zie regel 9)",($G$9*0.8)*I31,"")),"") -> 2.4 | L31: =IFERROR(IF(H31="Containeroptie 1 (zie regel 8)",$H$8,IF(H31="Containeroptie 2 (zie regel 9)",$H$9,""))," ") -> 3000 | M31: =IFERROR(L31*I31,"") -> 3000 | N31: =IF(H31="Containeroptie 1 (zie regel 8)",$I$8,IF(H31="Containeroptie 2 (zie regel 9)",$I$9,"")) -> 100 | O31: =IFERROR((G31/K31),"Vul kolom I en K in") -> 1.3725452 | P31: =IF(O31>2,"Aantal ledigingen onjuist",IFERROR(CEILING((O31*I31)*52,1),"")) -> 72 | Q31: =IFERROR(P31*N31,"") -> 7200 | R31: =IFERROR(Q31+M31,"") -> 10200 | U31: 2 | Z31: Bouwblok 10 Pulse | AA31: 211 | AB31: 0 | AD31: =AB31*$Z$42 -> 0 | AE31: =AB31*$Z$43 -> 0 | AF31: =AB31*$Z$44 -> 0 | AG31: 1449.4077 | AH31: =AG31+AD31 -> 1449.4077 | AI31: =AH31/AG31 -> 1 | AJ31: 70 | AK31: =AH31/AJ31 -> 20.705824 | AM31: 208.15962 | AN31: =AM31+AE31 -> 208.15962 | AO31: 254.41731 | AP31: =AO31+AF31 -> 254.41731
C32: =Z32 -> Bouwblok 11 | D32: =AH32 -> 3827.0823 | E32: =$E$20 -> 110 | F32: =$W$27 -> 4 | G32: =(D32/E32)/F32 -> 8.6979144 | H32: Containeroptie 1 (zie regel 8) | I32: 2 | K32: =IFERROR(IF(H32="Containeroptie 1 (zie regel 8)",($G$8*0.8)*I32,IF(H32="Containeroptie 2 (zie regel 9)",($G$9*0.8)*I32,"")),"") -> 4.8 | L32: =IFERROR(IF(H32="Containeroptie 1 (zie regel 8)",$H$8,IF(H32="Containeroptie 2 (zie regel 9)",$H$9,""))," ") -> 3000 | M32: =IFERROR(L32*I32,"") -> 6000 | N32: =IF(H32="Containeroptie 1 (zie regel 8)",$I$8,IF(H32="Containeroptie 2 (zie regel 9)",$I$9,"")) -> 100 | O32: =IFERROR((G32/K32),"Vul kolom I en K in") -> 1.8120655 | P32: =IF(O32>2,"Aantal ledigingen onjuist",IFERROR(CEILING((O32*I32)*52,1),"")) -> 189 | Q32: =IFERROR(P32*N32,"") -> 18900 | R32: =IFERROR(Q32+M32,"") -> 24900 | U32: 3 | Z32: Bouwblok 11 | AA32: 463 | AB32: 1796 | AD32: =AB32*$Z$42 -> 646.6285 | AE32: =AB32*$Z$43 -> 146.11245 | AF32: =AB32*$Z$44 -> 46.668482 | AG32: 3180.4538 | AH32: =AG32+AD32 -> 3827.0823 | AI32: =AH32/AG32 -> 1.2033133 | AJ32: 161 | AK32: =AH32/AJ32 -> 23.770698 | AM32: 456.76731 | AN32: =AM32+AE32 -> 602.87976 | AO32: 558.27115 | AP32: =AO32+AF32 -> 604.93964
C33: =Z33 -> Bouwblok 12 a Bloom Park | D33: =AH33 -> 2703.4311 | E33: =$E$20 -> 110 | F33: =$W$27 -> 4 | G33: =(D33/E33)/F33 -> 6.1441615 | H33: Containeroptie 1 (zie regel 8) | I33: 2 | K33: =IFERROR(IF(H33="Containeroptie 1 (zie regel 8)",($G$8*0.8)*I33,IF(H33="Containeroptie 2 (zie regel 9)",($G$9*0.8)*I33,"")),"") -> 4.8 | L33: =IFERROR(IF(H33="Containeroptie 1 (zie regel 8)",$H$8,IF(H33="Containeroptie 2 (zie regel 9)",$H$9,""))," ") -> 3000 | M33: =IFERROR(L33*I33,"") -> 6000 | N33: =IF(H33="Containeroptie 1 (zie regel 8)",$I$8,IF(H33="Containeroptie 2 (zie regel 9)",$I$9,"")) -> 100 | O33: =IFERROR((G33/K33),"Vul kolom I en K in") -> 1.2800337 | P33: =IF(O33>2,"Aantal ledigingen onjuist",IFERROR(CEILING((O33*I33)*52,1),"")) -> 134 | Q33: =IFERROR(P33*N33,"") -> 13400 | R33: =IFERROR(Q33+M33,"") -> 19400 | U33: 4 | Z33: Bouwblok 12 a Bloom Park | AA33: 224 | AB33: 3235 | AD33: =AB33*$Z$42 -> 1164.7234 | AE33: =AB33*$Z$43 -> 263.18139 | AF33: =AB33*$Z$44 -> 84.060434 | AG33: 1538.7077 | AH33: =AG33+AD33 -> 2703.4311 | AI33: =AH33/AG33 -> 1.7569491 | AJ33: 67 | AK33: =AH33/AJ33 -> 40.349717 | AM33: 220.98462 | AN33: =AM33+AE33 -> 484.166 | AO33: 270.09231 | AP33: =AO33+AF33 -> 354.15274
C34: =Z34 -> Bouwblok 13 Cix City | D34: =AH34 -> 4098.5281 | E34: =$E$20 -> 110 | F34: =$W$27 -> 4 | G34: =(D34/E34)/F34 -> 9.3148366 | H34: Containeroptie 1 (zie regel 8) | I34: 2 | K34: =IFERROR(IF(H34="Containeroptie 1 (zie regel 8)",($G$8*0.8)*I34,IF(H34="Containeroptie 2 (zie regel 9)",($G$9*0.8)*I34,"")),"") -> 4.8 | L34: =IFERROR(IF(H34="Containeroptie 1 (zie regel 8)",$H$8,IF(H34="Containeroptie 2 (zie regel 9)",$H$9,""))," ") -> 3000 | M34: =IFERROR(L34*I34,"") -> 6000 | N34: =IF(H34="Containeroptie 1 (zie regel 8)",$I$8,IF(H34="Containeroptie 2 (zie regel 9)",$I$9,"")) -> 100 | O34: =IFERROR((G34/K34),"Vul kolom I en K in") -> 1.9405909 | P34: =IF(O34>2,"Aantal ledigingen onjuist",IFERROR(CEILING((O34*I34)*52,1),"")) -> 202 | Q34: =IFERROR(P34*N34,"") -> 20200 | R34: =IFERROR(Q34+M34,"") -> 26200 | U34: 5 | Z34: Bouwblok 13 Cix City | AA34: 298 | AB34: 5698 | AD34: =AB34*$Z$42 -> 2051.4973 | AE34: =AB34*$Z$43 -> 463.5572 | AF34: =AB34*$Z$44 -> 148.0607 | AG34: 2047.0308 | AH34: =AG34+AD34 -> 4098.5281 | AI34: =AH34/AG34 -> 2.002182 | AJ34: 80 | AK34: =AH34/AJ34 -> 51.231601 | AM34: 293.98846 | AN34: =AM34+AE34 -> 757.54566 | AO34: 359.31923 | AP34: =AO34+AF34 -> 507.37993
C35: =Z35 -> Bouwblok 14 Cix Theatre | D35: =AH35 -> 1335.0308 | E35: =$E$20 -> 110 | F35: =$W$27 -> 4 | G35: =(D35/E35)/F35 -> 3.0341609 | H35: Containeroptie 1 (zie regel 8) | I35: 1 | K35: =IFERROR(IF(H35="Containeroptie 1 (zie regel 8)",($G$8*0.8)*I35,IF(H35="Containeroptie 2 (zie regel 9)",($G$9*0.8)*I35,"")),"") -> 2.4 | L35: =IFERROR(IF(H35="Containeroptie 1 (zie regel 8)",$H$8,IF(H35="Containeroptie 2 (zie regel 9)",$H$9,""))," ") -> 3000 | M35: =IFERROR(L35*I35,"") -> 3000 | N35: =IF(H35="Containeroptie 1 (zie regel 8)",$I$8,IF(H35="Containeroptie 2 (zie regel 9)",$I$9,"")) -> 100 | O35: =IFERROR((G35/K35),"Vul kolom I en K in") -> 1.2642337 | P35: =IF(O35>2,"Aantal ledigingen onjuist",IFERROR(CEILING((O35*I35)*52,1),"")) -> 66 | Q35: =IFERROR(P35*N35,"") -> 6600 | R35: =IFERROR(Q35+M35,"") -> 9600 | Z35: Bouwblok 14 Cix Theatre | AA35: 114 | AB35: 1533 | AD35: =AB35*$Z$42 -> 551.93847 | AE35: =AB35*$Z$43 -> 124.71625 | AF35: =AB35*$Z$44 -> 39.834512 | AG35: 783.09231 | AH35: =AG35+AD35 -> 1335.0308 | AI35: =AH35/AG35 -> 1.7048192 | AJ35: 55 | AK35: =AH35/AJ35 -> 24.273287 | AM35: 112.46538 | AN35: =AM35+AE35 -> 237.18163 | AO35: 137.45769 | AP35: =AO35+AF35 -> 177.2922
C36: =Z36 -> Bouwblok 18 Depot | D36: =AH36 -> 5327.4094 | E36: =$E$20 -> 110 | F36: =$W$27 -> 4 | G36: =(D36/E36)/F36 -> 12.107749 | H36: Containeroptie 1 (zie regel 8) | I36: 3 | K36: =IFERROR(IF(H36="Containeroptie 1 (zie regel 8)",($G$8*0.8)*I36,IF(H36="Containeroptie 2 (zie regel 9)",($G$9*0.8)*I36,"")),"") -> 7.2 | L36: =IFERROR(IF(H36="Containeroptie 1 (zie regel 8)",$H$8,IF(H36="Containeroptie 2 (zie regel 9)",$H$9,""))," ") -> 3000 | M36: =IFERROR(L36*I36,"") -> 9000 | N36: =IF(H36="Containeroptie 1 (zie regel 8)",$I$8,IF(H36="Containeroptie 2 (zie regel 9)",$I$9,"")) -> 100 | O36: =IFERROR((G36/K36),"Vul kolom I en K in") -> 1.6816317 | P36: =IF(O36>2,"Aantal ledigingen onjuist",IFERROR(CEILING((O36*I36)*52,1),"")) -> 263 | Q36: =IFERROR(P36*N36,"") -> 26300 | R36: =IFERROR(Q36+M36,"") -> 35300 | Z36: Bouwblok 18 Depot | AA36: 10 | AB36: 14606 | AD36: =AB36*$Z$42 -> 5258.7171 | AE36: =AB36*$Z$43 -> 1188.2619 | AF36: =AB36*$Z$44 -> 379.53221 | AG36: 68.692308 | AH36: =AG36+AD36 -> 5327.4094 | AI36: =AH36/AG36 -> 77.554672 | AJ36: 53 | AK36: =AH36/AJ36 -> 100.51716 | AM36: 9.8653846 | AN36: =AM36+AE36 -> 1198.1273 | AO36: 12.057692 | AP36: =AO36+AF36 -> 391.5899
D37: =SUM(D22:D36) -> 54778.732 | G37: =SUM(G20:G36) -> 129.66075 | L37: Huurkosten restafval | M37: =IF(COUNTBLANK(M20:M36)=0,SUM(M20:M36),"NIET COMPLEET") -> 114000 | P37: Inzamelkosten restafval | Q37: =IF(COUNTBLANK(Q20:Q36)=0,SUM(Q20:Q36)) -> 281800 | R37: =IF(COUNTBLANK(R20:R36)=0,SUM(R20:R36)) -> 395800
C40: Locaties* | D40: Aanbod fractie** | E40: Soortelijk gewicht | F40: Verdichtingsfactor | G40: Aanbod: Gewicht naar inhoud | H40: In te zetten type container | I40: Aantal containers | K40: Capaciteit containers o.b.v. 80% | L40: Huur per container p.j. | M40: Containerkosten per jaar | N40: Prijs per lediging | O40: Ledigingen per week*** | P40: Aantal ledigingen per jaar | Q40: Ledigingskosten per jaar | R40: Totale kosten locatie per jaar
C41: Inzameling en transport van Papier en karton | G41: = kolom (E/F)/G | AB41: =SUM(AA23,AA24,AA32) -> 1446
C42: =Z20 -> Wonderwoods MSVA | D42: =AN20 -> 85 | E42: 120 | F42: =$W$25 -> 3 | G42: =(D42/E42)/F42 -> 0.23611111 | H42: Containeroptie 2 (zie regel 9) | I42: 1 | K42: =IFERROR(IF(H42="Containeroptie 1 (zie regel 8)",($G$8*0.8)*I42,IF(H42="Containeroptie 2 (zie regel 9)",($G$9*0.8)*I42,"")),"") -> 1.6 | L42: =IFERROR(IF(H42="Containeroptie 1 (zie regel 8)",$H$8,IF(H42="Containeroptie 2 (zie regel 9)",$H$9,""))," ") -> 2000 | M42: =IFERROR(L42*I42,"") -> 2000 | N42: =IF(H42="Containeroptie 1 (zie regel 8)",$I$8,IF(H42="Containeroptie 2 (zie regel 9)",$I$9,"")) -> 100 | O42: =IFERROR((G42/K42),"Vul kolom I en K in") -> 0.14756944 | P42: =IF(O42>2,"Aantal ledigingen onjuist",IFERROR(CEILING((O42*I42)*52,1),"")) -> 8 | Q42: =IFERROR(P42*N42,"") -> 800 | R42: =IFERROR(Q42+M42,"") -> 2800 | U42: Hoeveelheid RESTper m2 bedrijfsoppervlakte | Y42: =17.4719832286658+1.25 -> 18.721983 | Z42: =Y42/52 -> 0.36003814 | AB42: 739 | AC42: oorspronkelijk
C43: =Z21 -> Wonderwoods Boeri | D43: =AN21 -> 241 | E43: =E42 -> 120 | F43: =$W$25 -> 3 | G43: =(D43/E43)/F43 -> 0.66944444 | H43: Containeroptie 2 (zie regel 9) | I43: 1 | K43: =IFERROR(IF(H43="Containeroptie 1 (zie regel 8)",($G$8*0.8)*I43,IF(H43="Containeroptie 2 (zie regel 9)",($G$9*0.8)*I43,"")),"") -> 1.6 | L43: =IFERROR(IF(H43="Containeroptie 1 (zie regel 8)",$H$8,IF(H43="Containeroptie 2 (zie regel 9)",$H$9,""))," ") -> 2000 | M43: =IFERROR(L43*I43,"") -> 2000 | N43: =IF(H43="Containeroptie 1 (zie regel 8)",$I$8,IF(H43="Containeroptie 2 (zie regel 9)",$I$9,"")) -> 100 | O43: =IFERROR((G43/K43),"Vul kolom I en K in") -> 0.41840278 | P43: =IF(O43>2,"Aantal ledigingen onjuist",IFERROR(CEILING((O43*I43)*52,1),"")) -> 22 | Q43: =IFERROR(P43*N43,"") -> 2200 | R43: =IFERROR(Q43+M43,"") -> 4200 | U43: Hoeveelheid OPK per m2 bedrijfsoppervlakte | Y43: 4.2304272 | Z43: =Y43/52 -> 0.08135437
C44: =Z22 -> Bouwblok 1 a-b | D44: =AN22 -> 354.69939 | E44: =E43 -> 120 | F44: =$W$25 -> 3 | G44: =(D44/E44)/F44 -> 0.98527609 | H44: Containeroptie 2 (zie regel 9) | I44: 1 | K44: =IFERROR(IF(H44="Containeroptie 1 (zie regel 8)",($G$8*0.8)*I44,IF(H44="Containeroptie 2 (zie regel 9)",($G$9*0.8)*I44,"")),"") -> 1.6 | L44: =IFERROR(IF(H44="Containeroptie 1 (zie regel 8)",$H$8,IF(H44="Containeroptie 2 (zie regel 9)",$H$9,""))," ") -> 2000 | M44: =IFERROR(L44*I44,"") -> 2000 | N44: =IF(H44="Containeroptie 1 (zie regel 8)",$I$8,IF(H44="Containeroptie 2 (zie regel 9)",$I$9,"")) -> 100 | O44: =IFERROR((G44/K44),"Vul kolom I en K in") -> 0.61579756 | P44: =IF(O44>2,"Aantal ledigingen onjuist",IFERROR(CEILING((O44*I44)*52,1),"")) -> 33 | Q44: =IFERROR(P44*N44,"") -> 3300 | R44: =IFERROR(Q44+M44,"") -> 5300 | U44: Hoeveelheid GFE per m2 bedrijfsoppervlakte | Y44: 1.3512033 | Z44: =Y44/52 -> 0.025984678
C45: =Z23 -> Bouwblok 1 a-g | D45: =AN23 -> 1291.1545 | E45: =E44 -> 120 | F45: =$W$25 -> 3 | G45: =(D45/E45)/F45 -> 3.5865403 | H45: Containeroptie 1 (zie regel 8) | I45: 1 | K45: =IFERROR(IF(H45="Containeroptie 1 (zie regel 8)",($G$8*0.8)*I45,IF(H45="Containeroptie 2 (zie regel 9)",($G$9*0.8)*I45,"")),"") -> 2.4 | L45: =IFERROR(IF(H45="Containeroptie 1 (zie regel 8)",$H$8,IF(H45="Containeroptie 2 (zie regel 9)",$H$9,""))," ") -> 3000 | M45: =IFERROR(L45*I45,"") -> 3000 | N45: =IF(H45="Containeroptie 1 (zie regel 8)",$I$8,IF(H45="Containeroptie 2 (zie regel 9)",$I$9,"")) -> 100 | O45: =IFERROR((G45/K45),"Vul kolom I en K in") -> 1.4943918 | P45: =IF(O45>2,"Aantal ledigingen onjuist",IFERROR(CEILING((O45*I45)*52,1),"")) -> 78 | Q45: =IFERROR(P45*N45,"") -> 7800 | R45: =IFERROR(Q45+M45,"") -> 10800
C46: =Z24 -> Bouwblok 2a | D46: =AN24 -> 463.68246 | E46: =E45 -> 120 | F46: =$W$25 -> 3 | G46: =(D46/E46)/F46 -> 1.2880068 | H46: Containeroptie 2 (zie regel 9) | I46: 1 | K46: =IFERROR(IF(H46="Containeroptie 1 (zie regel 8)",($G$8*0.8)*I46,IF(H46="Containeroptie 2 (zie regel 9)",($G$9*0.8)*I46,"")),"") -> 1.6 | L46: =IFERROR(IF(H46="Containeroptie 1 (zie regel 8)",$H$8,IF(H46="Containeroptie 2 (zie regel 9)",$H$9,""))," ") -> 2000 | M46: =IFERROR(L46*I46,"") -> 2000 | N46: =IF(H46="Containeroptie 1 (zie regel 8)",$I$8,IF(H46="Containeroptie 2 (zie regel 9)",$I$9,"")) -> 100 | O46: =IFERROR((G46/K46),"Vul kolom I en K in") -> 0.80500427 | P46: =IF(O46>2,"Aantal ledigingen onjuist",IFERROR(CEILING((O46*I46)*52,1),"")) -> 42 | Q46: =IFERROR(P46*N46,"") -> 4200 | R46: =IFERROR(Q46+M46,"") -> 6200
C47: =Z25 -> Bouwblok 3 School + sporthal | D47: =AN25 -> 1406.5329 | E47: =E46 -> 120 | F47: =$W$25 -> 3 | G47: =(D47/E47)/F47 -> 3.9070357 | H47: Containeroptie 1 (zie regel 8) | I47: 1 | J47: =J46 -> 0 | K47: =IFERROR(IF(H47="Containeroptie 1 (zie regel 8)",($G$8*0.8)*I47,IF(H47="Containeroptie 2 (zie regel 9)",($G$9*0.8)*I47,"")),"") -> 2.4 | L47: =IFERROR(IF(H47="Containeroptie 1 (zie regel 8)",$H$8,IF(H47="Containeroptie 2 (zie regel 9)",$H$9,""))," ") -> 3000 | M47: =IFERROR(L47*I47,"") -> 3000 | N47: =IF(H47="Containeroptie 1 (zie regel 8)",$I$8,IF(H47="Containeroptie 2 (zie regel 9)",$I$9,"")) -> 100 | O47: =IFERROR((G47/K47),"Vul kolom I en K in") -> 1.6279316 | P47: =IF(O47>2,"Aantal ledigingen onjuist",IFERROR(CEILING((O47*I47)*52,1),"")) -> 85 | Q47: =IFERROR(P47*N47,"") -> 8500 | R47: =IFERROR(Q47+M47,"") -> 11500
...

Sheet Max capaciteit
B1: Max aantal perscontainers rest | C1: 2e ruimte? | D1: Restafval HHA+BA | E1: Alleen Rest | F1: Capaciteit | G1: Aanbod kg | H1: Per jaar | I1: Capaciteit kg | J1: Per jaar | K1: Verschil | L1: Extra containers | M1: kg verschil | N1: Past | O1: Aanbod BA | P1: BA binnen scope | Q1: BA per jaar | R1: Rest op prijzenblad | S1: BA buiten scope | T1: BA met pers
A2: Bouwblok 1 a-b | B2: =Bedrijfsafval!C4-1 -> 1 | D2: ='Prijzenblad incl alle BA'!G22 -> 5.2743563 | F2: =B2*$K$19 -> 4.8 | G2: =(D2*$D$21)*4 -> 2320.7168 | H2: =G2*52 -> 120677.27 | I2: =(F2*$D$21)*4 -> 2112 | J2: =I2*52 -> 109824 | K2: =F2-D2 -> -0.47435629 | L2: =K2/$D$19 -> -0.19764845 | M2: =(K2*$D$21)*4 -> -208.71677 | O2: ='Prijzenblad incl alle BA'!AD22 -> 259.94754 | P2: =O2+M2 -> 51.230769 | Q2: =P2*52 -> 2664 | R2: =I2 -> 2112 | S2: =O2-P2 -> 208.71677 | T2: 0 | U2: Teveel BA, past geen pers bij
A3: Bouwblok 1 a-g | B3: 2 | C3: x BA apart | D3: 16.934842 | E3: =Prijzenblad!G23 -> 9.6 | F3: =B3*$K$19 -> 9.6 | G3: =(E3*$D$21)*4 -> 4224 | H3: =G3*52 -> 219648 | I3: =(F3*$D$21)*4 -> 4224 | J3: =I3*52 -> 219648 | K3: =F3-D3 -> -7.334842 | L3: =K3/$D$19 -> -3.0561842 | M3: =(K3*$D$21)*4 -> -3227.3305 | O3: ='Prijzenblad incl alle BA'!AD23 -> 2684.0843 | P3: 0 | Q3: =P3*52 -> 0 | R3: =I3 -> 4224 | S3: =O3-P3 -> 2684.0843 | T3: =S3 -> 2684.0843 | U3: =Bedrijfsafval!G5 -> Bedrijfsafval in aanvullende ruimte, hoeveelheid aanpassen omlaag. Bedrijfsafval supermarkt + bouwmarkt niet meerekenen
A4: Bouwblok 2a | B4: =Bedrijfsafval!C6-1 -> 3 | D4: ='Prijzenblad incl alle BA'!G24 -> 6.307935 | F4: =B4*$K$19 -> 14.4 | G4: =(D4*$D$21)*4 -> 2775.4914 | H4: =G4*52 -> 144325.55 | I4: =(F4*$D$21)*4 -> 6336 | J4: =I4*52 -> 329472 | K4: =F4-D4 -> 8.092065 | N4: x | O4: ='Prijzenblad incl alle BA'!AD24 -> 790.28372 | P4: =O4+M4 -> 790.28372 | Q4: =P4*52 -> 41094.753 | R4: =G4 -> 2775.4914 | S4: =O4-P4 -> 0 | T4: 0
