Workbook

Sheet Voorblad
B2: Tabblad: Voorblad
B3: Europese openbare aanbesteding "Levering van Mammografiesystemen en bijbehorende dienstverlening”
B4: TenderNed-kenmerk: TN611183
B5: Datum: 02-11-2026/ Versie: 1.0
B6: Naam Inschrijver: | C6: Invullen op 'voorblad'

Sheet Instructie
B2: Tabblad: Instructie
B3: =Voorblad!B3 -> Europese openbare aanbesteding "Levering van Mammografiesystemen en bijbehorende dienstverlening”
B4: Nr. | C4: Algemene toelichting
B5: 1 | C5: •Inschrijver dient uitsluitend de geel gearceerde cellen te voorzien van de gevraagde informatie. Om de werking van het prijzenblad te laten zien staat er nu fictief 1,00 euro of het getal 1 in. Dit kan Inschrijver zelf aanpassen. • Het kan zijn dat voor de aangeboden oplossing niet alle regels ingevuld hoeven of kunnen worden. Wanneer Inschrijver voor een onderdeel geen kosten in rekening brengt moet € 0,- worden ingevuld.
B6: 2 | C6: De in te vullen bedragen zijn gebaseerd op de in het Beschrijvend Document en Bijlagen vermelde informatie.
B7: 3 | C7: Inschrijvers dienen alle gevraagde prijzen volledig in te vullen met gebruikmaking van dit prijzenblad. Tabblad [Totale kosten] dient Inschrijver rechtsgeldig te ondertekenen en separaat in te dienen (naast een excel-versie).
B8: 4 | C8: Prijsindexatie: zie hiervoor artikel 15.3 van de Bijlage [Concept Raamovereenkomst].
B9: 5 | C9: De prijzen dienen alle kosten te bevatten die nodig zijn voor het uitvoeren van de werkzaamheden, inclusief overhead, uitvoeringskosten, reiskosten, algemene kosten, winst en risico, afschrijvingskosten en dergelijke. Kosten welke niet in de template zijn opgenomen kunnen niet bij de Opdrachtgever in rekening worden gebracht. Let op: Het realiseren van de kwalitatieve gunningscriteria zit in de prijs inbegrepen.
B10: 6 | C10: De prijsopgave dient in Euro’s en exclusief BTW te geschieden.
B11: 7 | C11: Het indienen van negatieve prijzen, prijzen onder de onderdrempel of boven de bovendrempel (per prijsitem) (indien van toepassing) is niet toegestaan op straffe van uitsluiting. Zie tabblad [Additionele kosten] en tabblad [Totale kosten].
B12: 8 | C12: De opgegeven prijzen dienen op maximaal twee cijfers achter de komma te worden afgerond.
B13: 9 | C13: Abnormaal lage prijzen kunnen door Opdrachtgever gecontroleerd/nagevraagd worden, conform artikel 2.116 Aw kan de Inschrijving ongeldig worden verklaard.
B14: 10 | C14: Het verkeerd interpreteren van het prijzenblad komt voor verantwoordelijkheid van Inschrijver. Vragen omtrent dit prijzenblad kunnen gesteld worden, conform de mogelijkheden die staan beschreven in Bijlage [Aanbestedingsvoorwaarden].
B15: 11 | C15: Het aanbrengen van wijzigingen of het doen van aanvullingen (tenzij Opdrachtgever expliciet hier toestemming voor heeft gegeven) in de prijzenbladen kan tot ongeldigverklaring van uw Inschrijving leiden en derhalve tot uitsluiting.
B16: 12 | C16: Het niet volledig invullen van deze bijlage kan tot ongeldigverklaring van uw Inschrijving en derhalve tot uitsluiting leiden.
B17: Toelichting tabbladen
B18: 13 | C18: Tabblad [Voorblad]: Inschrijver dient eenmalig zijn naam in te vullen in het tabblad 'voorblad'.
B19: 14 | C19: Tabblad [Instructie]: Dit tabblad, in dit tabblad wordt een algemene toelichting en een toelichting op de verschillende onderdelen per tabblad benoemd.
B20: 15 | C20: Tabblad [Eenmalige kosten]: in dit tabblad zijn de eenmalige kosten opgenomen.
B21: 16 | C21: Tabblad [Structurele kosten]: in dit tabblad zijn de variabele kosten opgenomen.
B22: 17 | C22: Tabblad [Additionele kosten]: in dit tabblad is een gestaffeld uurtarief uitgevraagd voor de mogelijk toekomstig meerwerk.
B23: 18 | C23: Tabblad [Totale kosten]: dit tabblad wordt automatisch gevuld, Inschrijver hoeft deze niet te vullen.
B24: 19 | C24: Tabblad [Terugnamevoorziening]: zie de toelichting in het tabblad zelf.

Sheet Eenmalige kosten
B2: Tabblad Eenmalige kosten
B3: =Voorblad!B3 -> Europese openbare aanbesteding "Levering van Mammografiesystemen en bijbehorende dienstverlening”
B4: =Voorblad!B4 -> TenderNed-kenmerk: TN611183
B5: =Voorblad!B5 -> Datum: 02-11-2026/ Versie: 1.0
B6: Naam Inschrijver: | F6: =Voorblad!C6 -> Invullen op 'voorblad'
B8: Prijsitem 1 Eenmalige kosten
B9: Toelichting: Gebruiksklaar opleveren van de Mammografiesystemen conform scope-beschrijving met inachtneming van de gestelde eisen, wensen en voorwaarden van de aanbestedingsdocumenten. Dit betekent op hoofdlijnen: Het geheel van handelingen en activiteiten dat nodig is om de Mammografiesystemen, inclusief de overeengekomen functionaliteiten, inrichting, configuratie, koppelingen en testen, afzonderlijk en in onderlinge samenhang, bedrijfsklaar in gebruik te nemen binnen de organisatie van Opdrachtgever, zodanig dat de gebruikers van Opdrachtgever hiermee kunnen werken overeenkomstig het overeengekomen gebruik. Inschrijver dient als losse bijlage een overzicht/ brochure van het aangeboden Mammografiesysteem in te dienen als losse Bijlage(n) in TenderNed.
B10: Nr. | C10: Omschrijving | E10: Aantal eenheden | F10: Eenheid | G10: Prijs per eenheid excl. BTW | H10: Bedrag excl. BTW
B11: 1a | C11: Levering van de Mammografiesystemen. | E11: 74 | F11: Mammografiesystemen | G11: 1 | H11: =E11*G11 -> 74
B12: 1b | C12: Installatie, validatie, inrichting en implementatie + Acceptatietesten van de Mammografiesystemen in de Mobiele Screeningseenheden. | E12: 56 | F12: Installatie per Mammografiesysteem | G12: 1 | H12: =E12*G12 -> 56
B13: 1c | C13: Installatie, validatie, inrichting en implementatie + Acceptatietesten van de Mammografiesystemen in de Vaste Screeningseenheden. | E13: 18 | F13: Installatie per Mammografiesysteem | G13: 1 | H13: =E13*G13 -> 18
B14: 1d | C14: Implementatiefase: alle werkzaamheden in het kader van de Implementatiefase m.u.v. trainen van medewerkers (1e en 1f). | E14: 1 | F14: n.v.t | G14: 1 | H14: =E14*G14 -> 1
B15: 1e | C15: Trainen van twintig (20) Key-users (Screeningsmedewerkers). | E15: 1 | F15: Mandagen trainers(s) | G15: 1 | H15: =E15*G15 -> 1
B16: 1f | C16: Training van vijf (5) LRCB-medewerkers. | E16: 1 | F16: Mandagen trainers(s) | G16: 1 | H16: =E16*G16 -> 1
B17: 1g | C17: Op elk Acquisitiestation dient Leverancier een extra monitorarm (inclusief toetsenbord steun) te leveren, conform EIS A.2.3. | E17: 74 | F17: Per Acquisitiestation | G17: 1 | H17: =E17*G17 -> 74
B18: Subtotaal prijsitem 1 | H18: =SUM(H11:H17) -> 225
B20: Prijsitem 2 Overige eenmalige kosten
B21: Toelichting: Indien er sprake is van overige eenmalige kosten dan dient Inschrijver onderstaande regels daarvoor te gebruiken. Inschrijver mag zelf regels toevoegen en is er zelf voor verantwoordelijk dat de optelsom van dit prijsitem kloppend is. Indien een regel niet van toepassing is vult Inschrijver 0,00 (nul) euro in i.p.v. de voorafingvulde 1,00 euro.
B22: Nr. | C22: Omschrijving | E22: Aantal eenheden | F22: Eenheid | G22: Prijs per eenheid excl. BTW | H22: Bedrag excl. BTW
B23: 2a | C23: <mogelijkheid tot aanvulling> | E23: 1 | F23: <mogelijkheid tot aanvulling> | G23: 1 | H23: =E23*G23 -> 1
B24: 2b | C24: <mogelijkheid tot aanvulling> | E24: 1 | F24: <mogelijkheid tot aanvulling> | G24: 1 | H24: =E24*G24 -> 1
B25: 2c | C25: <mogelijkheid tot aanvulling> | E25: 1 | F25: <mogelijkheid tot aanvulling> | G25: 1 | H25: =E25*G25 -> 1
B26: 2d | C26: <mogelijkheid tot aanvulling> | E26: 1 | F26: <mogelijkheid tot aanvulling> | G26: 1 | H26: =E26*G26 -> 1
B27: Subtotaal prijsitem 2 | H27: =SUM(H23:H26) -> 4
B29: Prijsitem 3a Eenmalige kosten: optioneel af te nemen onderdeel
B30: Toelichting: In paragraaf 2.1 [Scope van de Opdracht] van het Beschrijvend Document staan een aantal "Optioneel af te nemen" onderdelen. Indien hier optionele kosten aan verbonden zijn dan dient Inschrijver dat hieronder af te prijzen. Indien aan een optie geen kosten verbonden zijn, vult Inschrijver 0,00 (nul) euro in i.p.v. de voorafingvulde 1,00 euro. Indien Opdrachtgever besluit een optie af te nemen (onafhankelijk welk jaar binnen de contractperiode), dan gelden onderstaande de eenmalige kosten en indien van toepassing de jaarlijkse kosten, zie prijsitem 6.
B31: Nr. | C31: Omschrijving | E31: Aantal eenheden | F31: Eenheid | G31: Prijs per eenheid excl. BTW | H31: Bedrag excl. BTW
B32: 3a | C32: Optie 1: 3D-mammografietechniek, oftewel Tomosynthese. | E32: 74 | F32: Activatie per Mammografiesysteem | G32: 1 | H32: =E32*G32 -> 74
B33: Subtotaal prijsitem 3a | H33: =H32 -> 74
B36: TOTAAL EENMALIGE KOSTEN EXCL. BTW (Optelsom van subtotaal prijsitem 1 t/m subtotaal prijsitem 3a. | H36: =H18+H27+H33 -> 303
B39: Prijsitem 3b Eenmalige kosten: optioneel af te nemen onderdelen (hier wordt niet op gegund)
B40: Toelichting: In paragraaf 2.1 [Scope van de Opdracht] van het Beschrijvend Document staan een aantal "Optioneel af te nemen" onderdelen. Indien hier optionele kosten aan verbonden zijn dan dient Inschrijver dat hieronder af te prijzen. Indien aan een optie geen kosten verbonden zijn, vult Inschrijver 0,00 (nul) euro in i.p.v. de voorafingvulde 1,00 euro. Onderstaande optie rekent niet mee in de totaalprijs.
B41: Nr. | C41: Omschrijving | E41: Aantal eenheden | F41: Eenheid | G41: Prijs per eenheid excl. BTW | H41: Bedrag excl. BTW
B42: 3b | C42: Optie 2: Densiteitsmeting. | E42: 74 | F42: Activatie per Mammografiesysteem | G42: 1 | H42: =E42*G42 -> 74
B43: Subtotaal prijsitem 3b | H43: =H42 -> 74

Sheet Structurele kosten
B2: Tabblad Structurele kosten
B3: =Voorblad!B3 -> Europese openbare aanbesteding "Levering van Mammografiesystemen en bijbehorende dienstverlening”
B4: =Voorblad!B4 -> TenderNed-kenmerk: TN611183
B5: =Voorblad!B5 -> Datum: 02-11-2026/ Versie: 1.0
B6: Naam Inschrijver: | F6: =Voorblad!C6 -> Invullen op 'voorblad'
B8: Prijsitem 4 Jaarlijkse kosten All-in onderhoud
B9: Toelichting: 1. Het uitvoeren van All-in onderhoud, inclusief vervanging van onderdelen, op basis van een SLA met door Inschrijver aangeboden serviceniveau's. Hierbij gaat het om preventief onderhoud, correctief onderhoud en adaptief onderhoud (inclusief software updates en upgrades). 2. Het 1e-jaars onderhoud na acceptatie van een Mammografiesysteem valt onder garantie, hier kan geen prijs voor ingediend worden. 3. In onderstaand overzicht wordt uitgegaan van 74 Mammografiesystemen, in de praktijk zal dit anders zijn zie hiervoor Tabel 2: [Opgave einde looptijd lopende Nadere overeenkomsten Mammografiesystemen per jaar] van het Beschrijvend Document. De vergoedingen zullen naar rato van het aantal afgenomen Mammografiesystemen verrekend worden.
B10: Omschrijving | E10: Aantal eenheden | F10: Eenheid | G10: Prijs per eenheid excl. BTW | H10: Bedrag excl. BTW
B11: Jaar 1
B12: Jaar 2 | E12: 74 | F12: Mammografiesysteem | G12: 1 | H12: =E12*G12 -> 74
B13: Jaar 3 | E13: 74 | F13: Mammografiesysteem | G13: 1 | H13: =E13*G13 -> 74
B14: Jaar 4 | E14: 74 | F14: Mammografiesysteem | G14: 1 | H14: =E14*G14 -> 74
B15: Jaar 5 | E15: 74 | F15: Mammografiesysteem | G15: 1 | H15: =E15*G15 -> 74
B16: Jaar 6 | E16: 74 | F16: Mammografiesysteem | G16: 1 | H16: =E16*G16 -> 74
B17: Jaar 7 | E17: 74 | F17: Mammografiesysteem | G17: 1 | H17: =E17*G17 -> 74
B18: Jaar 8 | E18: 74 | F18: Mammografiesysteem | G18: 1 | H18: =E18*G18 -> 74
B19: Jaar 9 | E19: 74 | F19: Mammografiesysteem | G19: 1 | H19: =E19*G19 -> 74
B20: Jaar 10 | E20: 74 | F20: Mammografiesysteem | G20: =G19 -> 1 | H20: =E20*G20 -> 74
B21: Jaar 11 | E21: 74 | F21: Mammografiesysteem | G21: 1 | H21: =E21*G21 -> 74
B22: Jaar 12 | E22: 74 | F22: Mammografiesysteem | G22: =G21 -> 1 | H22: =E22*G22 -> 74
B23: Subtotaal prijsitem 4 | H23: =SUM(H12:H22) -> 814
B25: Prijsitem 5 Overige jaarlijkse kosten
B26: Toelichting: Indien er sprake is van overige jaarlijkse kosten dan dient Inschrijver onderstaande regels daarvoor te gebruiken. Inschrijver mag zelf regels toevoegen en is er zelf voor verantwoordelijk dat de optelsom van dit prijsitem kloppend is. Indien een regel niet van toepassing is vult Inschrijver 0,00 (nul) euro in i.p.v. de voorafingvulde 1,00 euro.
B27: Nr. | C27: Omschrijving | E27: Aantal eenheden | F27: Eenheid | G27: Prijs per eenheid excl. BTW | H27: Bedrag excl. BTW
B28: 5a | C28: <mogelijkheid tot aanvulling> | E28: 1 | F28: <mogelijkheid tot aanvulling> | G28: 1 | H28: =E28*G28 -> 1
B29: 5b | C29: <mogelijkheid tot aanvulling> | E29: 1 | F29: <mogelijkheid tot aanvulling> | G29: 1 | H29: =E29*G29 -> 1
B30: 5c | C30: <mogelijkheid tot aanvulling> | E30: 1 | F30: <mogelijkheid tot aanvulling> | G30: 1 | H30: =E30*G30 -> 1
B31: 5d | C31: <mogelijkheid tot aanvulling> | E31: 1 | F31: <mogelijkheid tot aanvulling> | G31: 1 | H31: =E31*G31 -> 1
B32: Subtotaal prijsitem 5 | H32: =SUM(H28:H31) -> 4
B34: Prijsitem 6a Jaarlijkse kosten: optioneel af te nemen onderdelen
B35: Toelichting: In paragraaf 2.1 [Scope van de Opdracht] van het Beschrijvend Document staan een aantal "Optioneel af te nemen" onderdelen. Indien hier optionele kosten aan verbonden zijn dan dient Inschrijver dat hieronder af te prijzen. Indien aan een optie geen kosten verbonden zijn, vult Inschrijver 0,00 (nul) euro in i.p.v. de voorafingvulde 1,00 euro. Bij deze optie geldt: Een optie kan gedurende de looptijd van de overeenkomst van 12 jaar naar behoefte worden afgenomen, waarbij uitsluitend betaling plaatsvindt naar rato van de daadwerkelijke gebruiksduur. Opdrachtgever behoudt zich het recht voor om het gebruik van de optie op ieder gewenst moment te beëindigen. Na beëindiging eindigt de betalingsverplichting uiterlijk één maand na kennisgeving daarvan.
B36: Nr. | C36: Omschrijving | E36: Aantal eenheden | F36: Eenheid | G36: Prijs per eenheid excl. BTW | H36: Bedrag excl. BTW
B37: 6a | C37: Optie 1: 3D-mammografietechniek, oftewel Tomosynthese. | E37: 74 | F37: Activatie per Mammografiesysteem | G37: 1 | H37: =E37*G37 -> 74
B38: Subtotaal prijsitem 6a | H38: =H37 -> 74
B40: TOTAAL JAARLIJKSE KOSTEN EXCL. BTW (Optelsom van subtotaal prijsitem 4 t/m subtotaal prijsitem 6. | H40: =H23+H32+H38 -> 892
B43: Prijsitem 6b Jaarlijkse kosten: optioneel af te nemen onderdelen
B44: Toelichting: In paragraaf 2.1 [Scope van de Opdracht] van het Beschrijvend Document staan een aantal "Optioneel af te nemen" onderdelen. Indien hier optionele kosten aan verbonden zijn dan dient Inschrijver dat hieronder af te prijzen. Indien aan een optie geen kosten verbonden zijn, vult Inschrijver 0,00 (nul) euro in i.p.v. de voorafingvulde 1,00 euro. Onderstaande opties rekenen niet mee in de totaalprijs. Bij deze opties geldt: Een optie kan gedurende de looptijd van de overeenkomst van 12 jaar naar behoefte worden afgenomen, waarbij uitsluitend betaling plaatsvindt naar rato van de daadwerkelijke gebruiksduur. Opdrachtgever behoudt zich het recht voor om het gebruik van de optie op ieder gewenst moment te beëindigen. Na beëindiging eindigt de betalingsverplichting uiterlijk één maand na kennisgeving daarvan.
B45: Nr. | C45: Omschrijving | E45: Aantal eenheden | F45: Eenheid | G45: Prijs per eenheid excl. BTW | H45: Bedrag excl. BTW
B46: 6b | C46: Optie 2: Densiteitsmeting. | E46: 74 | F46: Activatie per Mammografiesysteem | G46: 1 | H46: =E46*G46 -> 74
B47: Subtotaal prijsitem 6b | H47: =H46 -> 74

Sheet Additionele kosten
B2: Tabblad Additionele kosten
B3: =Voorblad!$B$3 -> Europese openbare aanbesteding "Levering van Mammografiesystemen en bijbehorende dienstverlening”
B4: =Voorblad!$B$4 -> TenderNed-kenmerk: TN611183
B5: =Voorblad!$B$5 -> Datum: 02-11-2026/ Versie: 1.0
B6: Naam Inschrijver: | D6: =Voorblad!C6 -> Invullen op 'voorblad'
B8: Prijsitem 7 Optionele Dienstverlening | D8: Aantal fictieve uren | E8: Uurtarief excl. BTW | F8: Totale fictieve kosten, looptijd 144 maanden, excl. BTW (TCO)
B9: Toelichting: Bij elke functie gaat het om senior functieprofielen (meer dan 5 jaar relevante werkervaring). Onderstaande uurtarieven zijn van toepassing op mogelijk toekomstig meerwerk voor toekomstige aanpassingen. Voorbeelden hiervan zijn het verplaatsen van een Mammografiesysteem naar een andere locatie en realiseren van nieuwe koppelingen. Het aantal fictieve uren is zoals het woord al zegt 'fictief, het aantal uur kan meer of minder worden (werken als wegingsfactor voor de TCO-berekening voor de looptijd van 144 maanden). Prijsplafond max. € 140,00 excl. BTW per uur en per onderstaande functieprofielen.
B10: 7a. Projectleider | D10: 200 | E10: 1 | F10: =D10*E10 -> 200 | H10: 140 | I10: Prijsplafond
B11: 7b. Technisch specialist | D11: 200 | E11: 1 | F11: =D11*E11 -> 200 | H11: 140 | I11: Prijsplafond
B12: Subtotaal prijsitem 7 | F12: =SUM(F10:F11) -> 400
B14: Prijsitem 8 Verhuizingen
B15: Omschrijving | C15: Aantal eenheden | D15: Eenheid | E15: Prijs per eenheid excl. BTW | F15: Bedrag excl. BTW
B16: Toelichting: 8a Verhuizen van een reeds geinstalleerd Mammografiesysteem naar een andere locatie (demonteren, verhuizen, installeren en testen conform de Aanbestedingsdocumenten. | C16: 20 | D16: Per Mammografiesysteem | E16: 1 | F16: =C16*E16 -> 20
B17: Subtotaal prijsitem 8 | F17: =F16 -> 20
B19: Prijsitem 9 Exitkosten
B20: Omschrijving | C20: Aantal eenheden | D20: Eenheid | E20: Prijs per eenheid excl. BTW | F20: Bedrag excl. BTW
B21: Toelichting: Dit conform eis H2.1 van Bijlage [Programma van eisen en wensen]. Dit bedrag bevat niet de optionele terugkoop en niet het transport zelf. | C21: 74 | D21: Per Mammografiesysteem | E21: 1 | F21: =C21*E21 -> 74
B22: Subtotaal prijsitem 9 | F22: =F21 -> 74
B25: TOTAAL FICTIEVE ADDITIONELE KOSTEN EXCL. BTW Optelsom van subtotaal prijsitem 7 t/m subtotaal prijsitem 9. | F25: =F12+F17+F22 -> 494

Sheet Totale kosten
B2: Tabblad Totale kosten
B3: =Voorblad!B3 -> Europese openbare aanbesteding "Levering van Mammografiesystemen en bijbehorende dienstverlening”
B4: =Voorblad!B4 -> TenderNed-kenmerk: TN611183
B5: =Voorblad!B5 -> Datum: 02-11-2026/ Versie: 1.0
B6: Naam Inschrijver: | C6: =Voorblad!C6 -> Invullen op 'voorblad'
B8: Prijsitem | C8: Type kosten | D8: Totale kosten, looptijd 144 maanden, excl. BTW (TCO)
B9: ='Eenmalige kosten'!B8 -> Prijsitem 1 Eenmalige kosten | C9: Eenmalige kosten | D9: ='Eenmalige kosten'!H18 -> 225
B10: ='Eenmalige kosten'!B20 -> Prijsitem 2 Overige eenmalige kosten | C10: Eenmalige kosten | D10: ='Eenmalige kosten'!H27 -> 4
B11: ='Eenmalige kosten'!B29 -> Prijsitem 3a Eenmalige kosten: optioneel af te nemen onderdeel | C11: Optionele kosten (eenmalig) | D11: ='Eenmalige kosten'!H33 -> 74
C12: Prijsitems 1 t/m 3 | D12: ='Eenmalige kosten'!H36 -> 303
B14: ='Structurele kosten'!B8 -> Prijsitem 4 Jaarlijkse kosten All-in onderhoud | C14: Structurele kosten | D14: ='Structurele kosten'!H23 -> 814
B15: ='Structurele kosten'!B25 -> Prijsitem 5 Overige jaarlijkse kosten | C15: Structurele kosten | D15: ='Structurele kosten'!H32 -> 4
B16: ='Structurele kosten'!B34 -> Prijsitem 6a Jaarlijkse kosten: optioneel af te nemen onderdelen | C16: Optionele kosten (structureel) | D16: ='Structurele kosten'!H38 -> 74
C17: Prijsitems 4 t/m 6 | D17: ='Structurele kosten'!H40 -> 892
B19: ='Additionele kosten'!B8 -> Prijsitem 7 Optionele Dienstverlening | C19: Additionele kosten | D19: ='Additionele kosten'!F12 -> 400 | F19: 56000 | G19: Prijsplafond prijsitems 7
B20: ='Additionele kosten'!B14 -> Prijsitem 8 Verhuizingen | C20: Additionele kosten | D20: ='Additionele kosten'!F17 -> 20
B21: ='Additionele kosten'!B19 -> Prijsitem 9 Exitkosten | C21: Additionele kosten | D21: ='Additionele kosten'!F22 -> 74
C22: Prijsitems 7 t/m 9 | D22: ='Additionele kosten'!F25 -> 494
B24: Fictieve Inschrijfprijs (gebruikt voor het subgunningscriterium Prijs) excl. BTW | D24: =D12+D17+D22 -> 1689 | F24: 38000000 | G24: Prijsdrempel optelsom prijsitems 1 t/m 9
F25: 45000000 | G25: Prijsplafond optelsom prijsitems 1 t/m 9
B27: Rechtsgeldige ondertekening Inschrijver Toelichting: (dit blad als. Pdf indienen) en daarnaast een excel versie met alle tabbladen.
B28: Naam:
B29: Functie:
B30: Datum:
B31: Handtekening:
