Workbook

Sheet Start
B2: Onderstaande velden moeten handmatig opgevoerd worden:
B3: Funtienaam | C3: Perceel 3: Gedragswetenschapper
C4: Werkgever | D4: eerste trede | E4: Laatste trede | F4: sector
B5: Vacature 1 (zie printsscreen) | C5: Mevis | D5: 4119 | E5: 6224 | F5: jeugdzorg
B6: Vacature 2 (zie printsscreen) | C6: City Kids | D6: 4119.02 | E6: 6224.38 | F6: jeugdzorg
B7: Vacature 3 (zie printsscreen) | C7: Den Haag | D7: 4119 | E7: 6224 | F7: jeugdzorg
B8: Vacature 4 (zie printsscreen) | C8: Smart People | D8: 3972 | E8: 6002 | F8: jeugdzorg
B9: Vacature 5 (zie printsscreen)
B10: Gemiddeld salaris | D10: =SUM(D5:D9)/F10 -> 4082.255 | E10: =SUM(E5:E9)/F10 -> 6168.595 | F10: =COUNT(E5:E9) -> 4
B11: Keuze voor gewogen salarisschaal | C11: Schaars | D11: Selecteer uit keuzelijst
B12: Kies de juiste sector | C12: Sector Jeugdzorg | D12: Selecteer uit keuzelijst
B13: Vergoeden dienstreizen | C13: ja | D13: Selecteer uit keuzelijst
B14: Prijsindexcijfer ministerie VWS | C14: 0 | D14: 0% geregeld in contract standaard
B16: Berekende kosten inhuur (specificatie zie tarief inhuur)
B17: Gewogen salaris | C17: =+'Tarief inhuur'!E9 -> 5907.8025 | D17: =+C11 -> Schaars
B18: Inhuurtarief fte per jaar | C18: =+'Tarief inhuur'!F37 -> 152682.26

Sheet Tarief inhuur
B1: Gemeente Voorne aan Zee - Adviestarief 2026
B2: Onderstaande opbouw van de tarieven is gebaseerd op de eisen uit de Algemene Maatregel van Bestuur (AMvB).
B4: =+Start!C3 -> Perceel 3: Gedragswetenschapper | D4: Opslag % | E4: Norm | F4: Tarief | G4: Bron
B6: Loonkosten per jaar | G6: AMvB 5.4 1a
B7: Minimum salaris conform salarisschaal | E7: =+Start!D10 -> 4082.255
B8: Maximum salaris conform salarisschaal | E8: =+Start!E10 -> 6168.595
B9: Weging inschaling min/max | D9: =+Start!C11 -> Schaars | E9: =IF(Start!C11="Gewogen",+(((E7+E8)/2+E8)/2),IF(Start!C11="Schaars",+(((((E7+E8)/2)+E8)/2)+E8)/2,E8)) -> 5907.8025
F10: =+E9*12 -> 70893.63
B11: Opslagen/toeslagen | G11: AMvB 5.4 1a
B12: Vakantiegeld | D12: =IF(Start!C12="Sector GGZ",'Tarief inhuur'!C71,IF(Start!C12="Sector GHZ",'Tarief inhuur'!C72,IF(Start!C12="Sector Jeugdzorg",'Tarief inhuur'!C73, IF(Start!C12="Sociaal Werk",'Tarief inhuur'!C74,'Tarief inhuur'!C75)))) -> 0.08 | E12: =+F10*D12 -> 5671.4904 | G12: CAO
B13: Eindejaarsuitkering | D13: =IF(Start!C12="Sector GGZ",'Tarief inhuur'!D71,IF(Start!C12="Sector GHZ",'Tarief inhuur'!D72,IF(Start!C12="Sector Jeugdzorg",'Tarief inhuur'!D73, IF(Start!C12="Sociaal Werk",'Tarief inhuur'!D74,'Tarief inhuur'!D75)))) -> 0.083 | E13: =+F10*D13 -> 5884.1713 | G13: CAO
B14: Onregelmatigheidstoeslag | D14: 0 | E14: =+F10*D14 -> 0
F15: =SUM(E11:E14) -> 11555.662
B16: Werkgeverslasten | D16: =+'Tarief inhuur'!C88 -> 0.3218 | E16: =(+F10+F15)*D16 -> 26532.182
F17: =+E16 -> 26532.182
B18: Overhead en organisatiekosten (incl.reiskosten overhead personeel) | D18: =IF(Start!C12="Sector GGZ",'Tarief inhuur'!E71,IF(Start!C12="Sector GHZ",'Tarief inhuur'!E72,IF(Start!C12="Sector Jeugdzorg",'Tarief inhuur'!E73,IF(Start!C12="Sociaal Werk",'Tarief inhuur'!E74,'Tarief inhuur'!E75)))) -> 0.181 | E18: =(D18/(1-D18))*(F10+F15+F17) -> 24085.039 | G18: TP
F19: =+E18 -> 24085.039
B20: Overige kosten | G20: AMvB 5.4 1f
B21: Materiële kosten | D21: =6.86%/2 -> 0.0343 | E21: =(D21/(1-D21-D22))*(+F10+F15+F17+F19) -> 4846.7467 | G21: BM-c
B22: Kapitaallasten | D22: =4.8%/2 -> 0.024 | E22: =(D22/(1-D21-D22))*(F10+F15+F17+F19) -> 3391.3097 | G22: BM-c
B23: Risico en weerstandsvermogen (marge) | D23: 0.02 | E23: =(D23/(1-D23))*(F10+F15+F17+F19) -> 2715.6431 | G23: TP
B24: Rapportage-/adm. Verplichting (valt binnen inhuurtijd) | D24: 0 | E24: =(D24/(1-D24))*(F10+F15+F17+F19) -> 0 | G24: VaZ
F25: =SUM(E20:E24) -> 10953.699
B26: Non productiviteit bij ziekteverzuim | E26: =((+F10+F15+F17+F19)/52)*1.5 -> 3838.4571 | G26: AMvB 5.4 1c
F27: =+E26 -> 3838.4571
B28: Reis en opleidingskosten | G28: AMvB 5.4 1d
B29: Reiskosten woon-werkverkeer | E29: =42*(10*10*0.23) -> 966 | G29: VaZ
B30: Reiskosten dienstreizen | C30: =IF(Start!C13="nee","Werkzaamheden op vaste locatie"," ") | E30: =IF(Start!C13="ja",(((1.5*15*0.23)*5)*42)+((4*60)*0.23),0) -> 1141.95 | G30: VaZ
B31: Opleidingskosten | D31: 0.02 | E31: =(D31/(1-D31))*(F10+F15+F17+F19) -> 2715.6431 | G31: TP
B33: Indexering | F33: =SUM(E28:E31) -> 4823.5931 | G33: AMvB 5.4 1e
B34: Geregeld in de contract standaard | D34: =+Start!C14 -> 0 | E34: =(D34/(1-D34))*(F10+F15+F17+F19+F25) -> 0
F35: =+E34 -> 0
B37: Tarief fte per jaar | F37: =SUM(F4:F36) -> 152682.26
B39: Parameterwaarden
B40: Loonkosten per jaar | C40: Gebaseerd op openbare vacatures. Weging van de salarisschaal is gebaseerd op de personele schaarste.
B42: Opslagen/toeslagen | C42: Percentage gebaseerd op de geldende CAO
B43: Werkgeverslasten | C43: Gebaseerd op de wettelijke en CAO afhankelijke percentages.
B44: Overhead | C44: Percentage gebaseerd op basis van Berenschot rapportage Care.
B45: Overige kosten | C45: Omdat de dienstverlening volledig plaatsvindt op een gemeentelijke locatie en uitsluitend gebruik wordt gemaakt van de aanwezige gemeentelijke voorzieningen, zijn de materiële kosten en kapitaallasten voor de uitvoerende partij aantoonbaar lager dan in de benchmark van Berenschot
B48: Niet productieve uren | C48: Percentage gebaseerd op basis van Berenschot rapportage Care.
...
