Workbook

Sheet Start
B2: Onderstaande velden moeten handmatig opgevoerd worden:
B3: Funtienaam | C3: Perceel 3: Gedragswetenschapper
C4: Werkgever | D4: eerste trede | E4: Laatste trede | F4: sector
B5: Vacature 1 (zie printsscreen) | C5: Mevis | D5: 4119 | E5: 6224 | F5: jeugdzorg
B6: Vacature 2 (zie printsscreen) | C6: City Kids | D6: 4119.02 | E6: 6224.38 | F6: jeugdzorg
B7: Vacature 3 (zie printsscreen) | C7: Den Haag | D7: 4119 | E7: 6224 | F7: jeugdzorg
B8: Vacature 4 (zie printsscreen) | C8: Smart People | D8: 3972 | E8: 6002 | F8: jeugdzorg
B9: Vacature 5 (zie printsscreen)
B10: Gemiddeld salaris | D10: =SUM(D5:D9)/F10 -> 4082.255 | E10: =SUM(E5:E9)/F10 -> 6168.595 | F10: =COUNT(E5:E9) -> 4
B11: Keuze voor gewogen salarisschaal | C11: Schaars | D11: Selecteer uit keuzelijst
B12: Kies de juiste sector | C12: Sector Jeugdzorg | D12: Selecteer uit keuzelijst
B13: Vergoeden dienstreizen | C13: ja | D13: Selecteer uit keuzelijst
B14: Prijsindexcijfer ministerie VWS | C14: 0 | D14: 0% geregeld in contract standaard
B16: Berekende kosten inhuur (specificatie zie tarief inhuur)
B17: Gewogen salaris | C17: =+'Tarief inhuur'!E9 -> 5907.8025 | D17: =+C11 -> Schaars
B18: Inhuurtarief fte per jaar | C18: =+'Tarief inhuur'!F37 -> 152682.26

Sheet Tarief inhuur
B1: Gemeente Voorne aan Zee - Adviestarief 2026
B2: Onderstaande opbouw van de tarieven is gebaseerd op de eisen uit de Algemene Maatregel van Bestuur (AMvB).
B4: =+Start!C3 -> Perceel 3: Gedragswetenschapper | D4: Opslag % | E4: Norm | F4: Tarief | G4: Bron
B6: Loonkosten per jaar | G6: AMvB 5.4 1a
B7: Minimum salaris conform salarisschaal | E7: =+Start!D10 -> 4082.255
B8: Maximum salaris conform salarisschaal | E8: =+Start!E10 -> 6168.595
B9: Weging inschaling min/max | D9: =+Start!C11 -> Schaars | E9: =IF(Start!C11="Gewogen",+(((E7+E8)/2+E8)/2),IF(Start!C11="Schaars",+(((((E7+E8)/2)+E8)/2)+E8)/2,E8)) -> 5907.8025
F10: =+E9*12 -> 70893.63
B11: Opslagen/toeslagen | G11: AMvB 5.4 1a
B12: Vakantiegeld | D12: =IF(Start!C12="Sector GGZ",'Tarief inhuur'!C71,IF(Start!C12="Sector GHZ",'Tarief inhuur'!C72,IF(Start!C12="Sector Jeugdzorg",'Tarief inhuur'!C73, IF(Start!C12="Sociaal Werk",'Tarief inhuur'!C74,'Tarief inhuur'!C75)))) -> 0.08 | E12: =+F10*D12 -> 5671.4904 | G12: CAO
B13: Eindejaarsuitkering | D13: =IF(Start!C12="Sector GGZ",'Tarief inhuur'!D71,IF(Start!C12="Sector GHZ",'Tarief inhuur'!D72,IF(Start!C12="Sector Jeugdzorg",'Tarief inhuur'!D73, IF(Start!C12="Sociaal Werk",'Tarief inhuur'!D74,'Tarief inhuur'!D75)))) -> 0.083 | E13: =+F10*D13 -> 5884.1713 | G13: CAO
B14: Onregelmatigheidstoeslag | D14: 0 | E14: =+F10*D14 -> 0
F15: =SUM(E11:E14) -> 11555.662
B16: Werkgeverslasten | D16: =+'Tarief inhuur'!C88 -> 0.3218 | E16: =(+F10+F15)*D16 -> 26532.182
F17: =+E16 -> 26532.182
B18: Overhead en organisatiekosten (incl.reiskosten overhead personeel) | D18: =IF(Start!C12="Sector GGZ",'Tarief inhuur'!E71,IF(Start!C12="Sector GHZ",'Tarief inhuur'!E72,IF(Start!C12="Sector Jeugdzorg",'Tarief inhuur'!E73,IF(Start!C12="Sociaal Werk",'Tarief inhuur'!E74,'Tarief inhuur'!E75)))) -> 0.181 | E18: =(D18/(1-D18))*(F10+F15+F17) -> 24085.039 | G18: TP
F19: =+E18 -> 24085.039
B20: Overige kosten | G20: AMvB 5.4 1f
B21: Materiële kosten | D21: =6.86%/2 -> 0.0343 | E21: =(D21/(1-D21-D22))*(+F10+F15+F17+F19) -> 4846.7467 | G21: BM-c
B22: Kapitaallasten | D22: =4.8%/2 -> 0.024 | E22: =(D22/(1-D21-D22))*(F10+F15+F17+F19) -> 3391.3097 | G22: BM-c
B23: Risico en weerstandsvermogen (marge) | D23: 0.02 | E23: =(D23/(1-D23))*(F10+F15+F17+F19) -> 2715.6431 | G23: TP
B24: Rapportage-/adm. Verplichting (valt binnen inhuurtijd) | D24: 0 | E24: =(D24/(1-D24))*(F10+F15+F17+F19) -> 0 | G24: VaZ
F25: =SUM(E20:E24) -> 10953.699
B26: Non productiviteit bij ziekteverzuim | E26: =((+F10+F15+F17+F19)/52)*1.5 -> 3838.4571 | G26: AMvB 5.4 1c
F27: =+E26 -> 3838.4571
B28: Reis en opleidingskosten | G28: AMvB 5.4 1d
B29: Reiskosten woon-werkverkeer | E29: =42*(10*10*0.23) -> 966 | G29: VaZ
B30: Reiskosten dienstreizen | C30: =IF(Start!C13="nee","Werkzaamheden op vaste locatie"," ") | E30: =IF(Start!C13="ja",(((1.5*15*0.23)*5)*42)+((4*60)*0.23),0) -> 1141.95 | G30: VaZ
B31: Opleidingskosten | D31: 0.02 | E31: =(D31/(1-D31))*(F10+F15+F17+F19) -> 2715.6431 | G31: TP
B33: Indexering | F33: =SUM(E28:E31) -> 4823.5931 | G33: AMvB 5.4 1e
B34: Geregeld in de contract standaard | D34: =+Start!C14 -> 0 | E34: =(D34/(1-D34))*(F10+F15+F17+F19+F25) -> 0
F35: =+E34 -> 0
B37: Tarief fte per jaar | F37: =SUM(F4:F36) -> 152682.26
B39: Parameterwaarden
B40: Loonkosten per jaar | C40: Gebaseerd op openbare vacatures. Weging van de salarisschaal is gebaseerd op de personele schaarste.
B42: Opslagen/toeslagen | C42: Percentage gebaseerd op de geldende CAO
B43: Werkgeverslasten | C43: Gebaseerd op de wettelijke en CAO afhankelijke percentages.
B44: Overhead | C44: Percentage gebaseerd op basis van Berenschot rapportage Care.
B45: Overige kosten | C45: Omdat de dienstverlening volledig plaatsvindt op een gemeentelijke locatie en uitsluitend gebruik wordt gemaakt van de aanwezige gemeentelijke voorzieningen, zijn de materiële kosten en kapitaallasten voor de uitvoerende partij aantoonbaar lager dan in de benchmark van Berenschot
B48: Niet productieve uren | C48: Percentage gebaseerd op basis van Berenschot rapportage Care.
B49: Reiskosten woon-werkverkeer | C49: 52 weken - 5 weken verlof - 1,5 weken inovatie/feestdagen/opleiding - 3,5 week ziekteverzuim: 42 weken, 5 werkdagen, 10 km enkele reis ad € 0,23
B50: Reiskosten dienstreizen | C50: 1,5 dienstreis per dag: 1,5 x 15 km x € 0,23 x 5 dagen x 42 weken + 4x per jaar naar werkgever: 4x 60 km x € 0,23.
B51: Reistijd | C51: Vergoeding niet declarabele reistijd woon-werkverkeer
B52: Indexering | C52: Gebaseerd op het prijsindexcijfer voor particuliere consumptie (PPC)
B53: Bron
B54: Algemene Maatregel van Bestuur (AMvB) | C54: Staatsblad 2024, 69 | Overheid.nl > Officiële bekendmakingen
B55: Berenschot Benchmark Care (BM-c) | C55: Benchmark Care | Berenschot
B56: CBS Statline | C56: StatLine - Ziekteverzuimpercentage; AZW branches
B57: Gemeente Voorne aan Zee (VaZ)
B58: Prijsindexcijfers | C58: Prijsindexcijfers | Nederlandse Zorgautoriteit
B59: TransitiePartners (TP) | C59: Rapportage Tarievenonderzoek Open House inkoop Wmo en lokale Jeugdhulp
B60: VNG kostentool | C60: Kostentool jeugdhulp | VNG
B61: Weging inschaling loonkosten
B62: Gewogen | C62: 50% van de medewerkers binnen een organisatie zit in de maximale periodiek zit en 50% van de medewerkers verspreid zit over alle treden binnen een schaal.
B65: Schaars | C65: Schaarse beroepen,gaan wij uit van een gemiddelde, waarbij 50% van de medewerkers binnen een organisatie in de maximale periodiek zit en 50% van de medewerkers verspreid zit over de bovenste helft van de schaal.
B69: Maximum | C69: voor de GGZ wordt standaard de maximale periodiek gehanteerd.
B70: Opslagen/toeslagen | C70: vak.geld | D70: Eindejr uitk. | E70: Overhead | F70: Ziekteverzuim | G70: Pens.wgv
B71: Sector GGZ | C71: 0.0833 | D71: 0.0833 | E71: 0.217 | F71: =+D91/C91 -> 0.069201278 | G71: 0.1295
B72: Sector GHZ | C72: 0.08 | D72: 0.0833 | E72: 0.181 | F72: =+D92/C92 -> 0.078402556 | G72: 0.1295
B73: Sector Jeugdzorg | C73: 0.08 | D73: 0.083 | E73: 0.181 | F73: =+D93/C93 -> 0.06799787 | G73: 0.135
B74: Sociaal Werk | C74: 0.08 | D74: 0.083 | E74: 0.217 | F74: =+D94/C94 -> 0.069797657 | G74: 0.129
B75: Sector VVT | C75: 0.08 | D75: 0.0833 | E75: 0.174 | F75: =+D95/C95 -> 0.086001065 | G75: 0.1295
B76: Vakantiegeld | C76: =+D12 -> 0.08 | D76: Gebaseerd op de CAO percentages.
B77: Eindejaarsuitkering | C77: =+D13 -> 0.083 | D77: Gebaseerd op de CAO percentages.
B78: Onregelmatigheidstoeslag | C78: 0 | D78: Geen zorg buiten kantooruren
B79: Specificatie toeslag werkgeverslasten | D79: Bron:
B80: Basispremie WAO/WIA | C80: 0.0763 | D80: Premies werknemersverzekeringen UWV en bedragen 2026 | UWV
B81: Pensioenbijdrage werkgever | C81: =IF(Start!C12="Sector GGZ",'Tarief inhuur'!G71,IF(Start!C12="Sector GHZ",'Tarief inhuur'!G72,IF(Start!C12="Sector Jeugdzorg",'Tarief inhuur'!G73, IF(Start!C12="Sociaal Werk",'Tarief inhuur'!G74,'Tarief inhuur'!G75)))) -> 0.135 | D81: https://www.sociaalwerk-werkt.nl/werkgevers/pensioenpremies-2025#:~:text=Voor%20zowel%20werkgever%20als%20werknemer,blijft%20ook%20gelijk%20in%202025.
B82: Awf-premie (laag) | C82: 0.0274 | D82: Premie WW inhoudingen werkgever | UWV
B83: Werkgeversheffing ZVW | C83: 0.061 | D83: Percentages inkomensafhankelijke bijdrage Zvw | Belastingdienst
B84: Gedifferentieerde premie WGA | C84: 0.0096 | D84: Gedifferentieerde premies WGA en Ziektewet 2026 | UWV
B85: Werkhervattingskas (Whk) | C85: 0.0056 | D85: Gedifferentieerde premies WGA en Ziektewet 2026 | UWV
B86: Kinderopvangtoeslag | C86: 0.005 | D86: Werkgeversbijdrage kinderopvang uitgelegd - MKB Servicedesk
B87: Transitievergoeding | C87: 0.0019
B88: Perc.werkgeverslasten | C88: =SUM(C80:C87) -> 0.3218
B89: De pensioenbijdrage van de werkgever is CAO afhankelijk
B90: Productiviteit | C90: contracturen | D90: Verzuim | E90: Verlof etc | F90: productiviteit | G90: %
B91: Sector GGZ | C91: 1878 | D91: 129.96 | E91: =268.86+56.34+45.07+93.9 -> 464.17 | F91: =+C91-D91-E91 -> 1283.87 | G91: =+F91/C91 -> 0.68363685
B92: Sector GHZ | C92: 1878 | D92: 147.24 | E92: =276.36+56.34+45.07+93.9 -> 471.67 | F92: =+C92-D92-E92 -> 1259.09 | G92: =+F92/C92 -> 0.67044196
B93: Sector Jeugdzorg | C93: 1878 | D93: 127.7 | E93: =289.69+56.34+45.07+93.9 -> 485 | F93: =+C93-D93-E93 -> 1265.3 | G93: =+F93/C93 -> 0.67374867
B94: Sociaal Werk | C94: 1878 | D94: 131.08 | E94: =250.39+56.34+45.07+93.9 -> 445.7 | F94: =+C94-D94-E94 -> 1301.22 | G94: =+F94/C94 -> 0.6928754
B95: Sector VVT | C95: 1878 | D95: 161.51 | E95: =252.63+56.34+45.07+93.9 -> 447.94 | F95: =+C95-D95-E95 -> 1268.55 | G95: =+F95/C95 -> 0.67547923
B96: Contracturen | C96: =IF(Start!$C$12='Tarief inhuur'!$B$91,'Tarief inhuur'!C91,IF(Start!$C$12='Tarief inhuur'!$B$92,'Tarief inhuur'!C92,IF(Start!$C$12='Tarief inhuur'!$B$93,'Tarief inhuur'!C93,IF(Start!$C$12='Tarief inhuur'!$B$94,'Tarief inhuur'!C94,'Tarief inhuur'!C95)))) -> 1878 | D96: Gebaseerd op de Berenschot benchmark care
B97: Verzuim | C97: =IF(Start!$C$12='Tarief inhuur'!$B$91,'Tarief inhuur'!D91,IF(Start!$C$12='Tarief inhuur'!$B$92,'Tarief inhuur'!D92,IF(Start!$C$12='Tarief inhuur'!$B$93,'Tarief inhuur'!D93,IF(Start!$C$12='Tarief inhuur'!$B$94,'Tarief inhuur'!D94,'Tarief inhuur'!D95)))) -> 127.7 | D97: CBS StatLine - Ziekteverzuimpercentage; AZW branches
B98: Verlof/feestdagen/opleiding/etc | C98: =IF(Start!$C$12='Tarief inhuur'!$B$91,'Tarief inhuur'!E91,IF(Start!$C$12='Tarief inhuur'!$B$92,'Tarief inhuur'!E92,IF(Start!$C$12='Tarief inhuur'!$B$93,'Tarief inhuur'!E93,IF(Start!$C$12='Tarief inhuur'!$B$94,'Tarief inhuur'!E94,'Tarief inhuur'!E95)))) -> 485 | D98: Gebaseerd op de Berenschot benchmark care
B99: Productiviteit in uren | C99: =+C96-C97-C98 -> 1265.3
B100: Productiviteit in % | C100: =+C99/C96 -> 0.67374867
B101: Non productiviteit bij ziekteverzuim
B102: Vervanging bij ziekteverzuim. 3,5 week verzuim, eerste 2 weken geen vervanging. Dus 1,5 week vergoeding
