Workbook
Name Afdrukbereik_FictieveMeerwaarde: 'fictieve meerwaarde & eisen'!$A$1:$S$57
Name Afdrukbereik_Materieelinzetplan: materieelinzetplan!$A$1:$K$61
Name Afdrukbereik_Subsidie: subsidie!$A$1:$O$57
Name dropdown_Bedrijfsauto_energie: _xlfn.XLOOKUP(materieelinzetplan!XFD1,motor_Bedrijfsauto,energie_Bedrijfsauto):_xlfn.XLOOKUP(materieelinzetplan!XFD1,motor_Bedrijfsauto,energie_Bedrijfsauto,,,-1)
Name dropdown_Transport_energie: _xlfn.XLOOKUP(materieelinzetplan!XFD1,motor_Transport,energie_Transport):_xlfn.XLOOKUP(materieelinzetplan!XFD1,motor_Transport,energie_Transport,,,-1)
Name dropdown_Werktuigen_energie: _xlfn.XLOOKUP(materieelinzetplan!XFD1,motor_Werktuigen,energie_Werktuigen):_xlfn.XLOOKUP(materieelinzetplan!XFD1,motor_Werktuigen,energie_Werktuigen,,,-1)
Name energie_Bedrijfsauto: 'fictieve meerwaarde & eisen'!$C$25:$C$31
Name energie_Transport: 'fictieve meerwaarde & eisen'!$C$35:$C$45
Name energie_Werktuigen: 'fictieve meerwaarde & eisen'!$C$16:$C$18
Name geenToegangZEzone: subsidie!$K$41
Name groslijsten: subsidie!$K$14:$K$29
Name gunning_werktuigen_2027: 'fictieve meerwaarde & eisen'!$P$19:$P$21
Name gunning_werktuigen_2028: 'fictieve meerwaarde & eisen'!$P$20:$P$21
Name lijst_aggregaten_batterijpakketten: machinelijst!$D$68:$D$70
Name lijst_DClaadstation: machinelijst!$D$71
Name lijst_Transport: machinelijst!$D$93:$D$105
Name lijst_Werktuigen: machinelijst!$D$4:$D$58
Name motor_Bedrijfsauto: 'fictieve meerwaarde & eisen'!$B$25:$B$31
Name motor_Transport: 'fictieve meerwaarde & eisen'!$B$35:$B$45
Name motor_Werktuigen: 'fictieve meerwaarde & eisen'!$B$16:$B$18
Name stageVmotor: 'fictieve meerwaarde & eisen'!$B$18
Name subsidie_batterijen: machinelijst!$D$68:$D$70
Name subsidie_gereedschappen: machinelijst!$D$60:$D$66
Name subsidie_laadstation: machinelijst!$D$71
Name subsidie_Transport: machinelijst!$D$93:$D$100
Name subsidie_Werktuigen: machinelijst!$D$4:$D$48
Name vermogenklasse_eisen_2027: 'fictieve meerwaarde & eisen'!$P$16:$P$18
Name vermogensklasse: subsidie!$K$2:$K$7
Name vermogensklasse56tot130kW: 'fictieve meerwaarde & eisen'!$P$19
Name voldoet_geenFM_2027: subsidie!$K$38
Name voldoet_geenFM_2028: subsidie!$K$39
Name voldoet_niet: subsidie!$K$40
Name voldoet_niet_2028: subsidie!$K$37

Sheet fictieve meerwaarde & eisen
B2: 618182601 | C2: Bestrijding geelpoothoornaar | E2: #VALUE!
B3: Fomulier Schoon- en Emissieloos Bouwen
B5: Instructie: Gebruik dit formulier om het Gunningscriterium Schoon en Emissieloos Bouwen te beantwoorden.
B6: De inschrijver vult het 'materieelinzetplan' in. Dat is het tweede tabblad van dit formulier.
B7: Aan de hand van deze ingevulde gegevens wordt hieronder automatisch de fictieve meerwaarde berekend.
B8: Let op! Het Excel-tabblad genaamd 'gunningscriterium' mag door de inschrijver niet worden aangepast.
B10: Totale fictieve meerwaarde
B11: behaald | C11: =$M$20+$M$47 -> 0 | E11: CPV-code
B12: maximum | C12: =$M$21+$M$48 -> 15000 | E12: groslijst
B14: WERKTUIGEN | E14: vanaf | F14: 46388 | G14: vanaf | H14: 46753 | I14: vanaf | J14: 47119 | K14: vanaf | L14: 47484 | P14: EISEN | Q14: =B14 -> WERKTUIGEN
B15: motor | C15: energiedrager | D15: weegfactor | E15: waardering | F15: ureninzet | G15: waardering | H15: ureninzet | I15: waardering | J15: ureninzet | K15: waardering | L15: ureninzet | M15: totaal | P15: per ingang van: | Q15: 46388 | R15: 46753 | S15: 47119 | T15: 47484
B16: elektromotor | C16: groene stroom | D16: 10 | E16: =IFERROR(($D16*F16),0) -> 0 | F16: {=SUM(_xlfn._xlws.FILTER(materieelinzetplan!$F$17:$F$36,(materieelinzetplan!$C$17:$C$36='fictieve meerwaarde & eisen'!B16)*(materieelinzetplan!$D$17:$D$36='fictieve meerwaarde & eisen'!C16)*ISNUMBER(MATCH(materieelinzetplan!$E$17:$E$36,'fictieve meerwaarde & eisen'!$P$19:$P$21,0)),0))} -> 0 | G16: =IFERROR(($D16*H16),0) -> 0 | H16: {=SUM(_xlfn._xlws.FILTER(materieelinzetplan!$G$17:$G$36,(materieelinzetplan!$C$17:$C$36='fictieve meerwaarde & eisen'!B16)*(materieelinzetplan!$D$17:$D$36='fictieve meerwaarde & eisen'!C16)*ISNUMBER(MATCH(materieelinzetplan!$E$17:$E$36,$P$20:$P$21,0)),0))} -> 0 | I16: =IFERROR(($D16*J16),0) -> 0 | J16: {=SUM(_xlfn._xlws.FILTER(materieelinzetplan!$H$17:$H$36,(materieelinzetplan!$C$17:$C$36=B16)*(materieelinzetplan!$D$17:$D$36=C16)*ISNUMBER(MATCH(materieelinzetplan!$E$17:$E$36,$P$20:$P$21,0)),0))} -> 0 | K16: =IFERROR(($D16*L16),0) -> 0 | L16: {=SUM(_xlfn._xlws.FILTER(materieelinzetplan!$I$17:$I$36,(materieelinzetplan!$C$17:$C$36=B16)*(materieelinzetplan!$D$17:$D$36=C16)*ISNUMBER(MATCH(materieelinzetplan!$E$17:$E$36,$P$20:$P$21,0)),0))} -> 0 | P16: =subsidie!K2 -> tot 8 kW | R16: emissieloos
B17: elektromotor | C17: groene waterstof | D17: 10 | E17: =IFERROR(($D17*F17),0) -> 0 | F17: {=SUM(_xlfn._xlws.FILTER(materieelinzetplan!$F$17:$F$36,(materieelinzetplan!$C$17:$C$36='fictieve meerwaarde & eisen'!B17)*(materieelinzetplan!$D$17:$D$36='fictieve meerwaarde & eisen'!C17)*ISNUMBER(MATCH(materieelinzetplan!$E$17:$E$36,'fictieve meerwaarde & eisen'!$P$19:$P$21,0)),0))} -> 0 | G17: =IFERROR(($D17*H17),0) -> 0 | H17: {=SUM(_xlfn._xlws.FILTER(materieelinzetplan!$G$17:$G$36,(materieelinzetplan!$C$17:$C$36='fictieve meerwaarde & eisen'!B17)*(materieelinzetplan!$D$17:$D$36='fictieve meerwaarde & eisen'!C17)*ISNUMBER(MATCH(materieelinzetplan!$E$17:$E$36,$P$20:$P$21,0)),0))} -> 0 | I17: =IFERROR(($D17*J17),0) -> 0 | J17: {=SUM(_xlfn._xlws.FILTER(materieelinzetplan!$H$17:$H$36,(materieelinzetplan!$C$17:$C$36=B17)*(materieelinzetplan!$D$17:$D$36=C17)*ISNUMBER(MATCH(materieelinzetplan!$E$17:$E$36,$P$20:$P$21,0)),0))} -> 0 | K17: =IFERROR(($D17*L17),0) -> 0 | L17: {=SUM(_xlfn._xlws.FILTER(materieelinzetplan!$I$17:$I$36,(materieelinzetplan!$C$17:$C$36=B17)*(materieelinzetplan!$D$17:$D$36=C17)*ISNUMBER(MATCH(materieelinzetplan!$E$17:$E$36,$P$20:$P$21,0)),0))} -> 0 | P17: =subsidie!K3 -> van 8 tot 19 kW
B18: stage V motor | C18: biodiesel (HVO 100) | D18: 0 | E18: =IFERROR(($D18*F18),0) -> 0 | F18: {=SUM(_xlfn._xlws.FILTER(materieelinzetplan!$F$17:$F$36,(materieelinzetplan!$C$17:$C$36='fictieve meerwaarde & eisen'!B18)*(materieelinzetplan!$D$17:$D$36='fictieve meerwaarde & eisen'!C18)*ISNUMBER(MATCH(materieelinzetplan!$E$17:$E$36,'fictieve meerwaarde & eisen'!$P$19:$P$21,0)),0))} -> 0 | G18: =IFERROR(($D18*H18),0) -> 0 | H18: {=SUM(_xlfn._xlws.FILTER(materieelinzetplan!$G$17:$G$36,(materieelinzetplan!$C$17:$C$36='fictieve meerwaarde & eisen'!B18)*(materieelinzetplan!$D$17:$D$36='fictieve meerwaarde & eisen'!C18)*ISNUMBER(MATCH(materieelinzetplan!$E$17:$E$36,$P$20:$P$21,0)),0))} -> 0 | I18: =IFERROR(($D18*J18),0) -> 0 | J18: {=SUM(_xlfn._xlws.FILTER(materieelinzetplan!$H$17:$H$36,(materieelinzetplan!$C$17:$C$36=B18)*(materieelinzetplan!$D$17:$D$36=C18)*ISNUMBER(MATCH(materieelinzetplan!$E$17:$E$36,$P$20:$P$21,0)),0))} -> 0 | K18: =IFERROR(($D18*L18),0) -> 0 | L18: {=SUM(_xlfn._xlws.FILTER(materieelinzetplan!$I$17:$I$36,(materieelinzetplan!$C$17:$C$36=B18)*(materieelinzetplan!$D$17:$D$36=C18)*ISNUMBER(MATCH(materieelinzetplan!$E$17:$E$36,$P$20:$P$21,0)),0))} -> 0 | P18: =subsidie!K4 -> van 19 tot 56 kW
D19: totaal | E19: =SUM(E16:E18) -> 0 | F19: =SUM(F16:F18) -> 0 | G19: =SUM(G16:G18) -> 0 | H19: =SUM(H16:H18) -> 0 | I19: =SUM(I16:I18) -> 0 | J19: =SUM(J16:J18) -> 0 | K19: =SUM(K16:K18) -> 0 | L19: =SUM(L16:L18) -> 0 | P19: =subsidie!K5 -> van 56 tot 130 kW
D20: behaalde fictieve meerwaarde | F20: =IFERROR(((E19/F19)/10)*F21,0) -> 0 | H20: =IFERROR(((G19/H19)/10)*H21,0) -> 0 | J20: =IFERROR(((I19/J19)/10)*J21,0) -> 0 | L20: =IFERROR(((K19/L19)/10)*L21,0) -> 0 | M20: =SUM(E20:L20) -> 0 | P20: =subsidie!K6 -> van 130 tot 300 kW | Q20: stage V motor + biodiesel (HVO 100)
D21: maximaal te behalen fictieve meerwaarde | F21: 1250 | H21: 1250 | J21: 1250 | L21: 1250 | M21: =SUM(E21:L21) -> 5000 | P21: =subsidie!K7 -> vanaf 300 kW
B23: N1 TRANSPORTMIDDELEN (tot 3.500kg) | P23: EISEN
B24: Dit onderdeel wordt niet meegewogen in het gunningscriterium. | P24: per ingang van: | Q24: 46388 | R24: 46753 | S24: 47119 | T24: 47484
B25: Hiervoor gelden de eisen zoals hiernaast is weergegeven. | P25: Buiten de zero-emissiezone | Q25: Emissieklasse 6 motor + biodiesel (HVO 100) | R25: emissieloos
P28: Binnen de zero-emissiezone | Q28: aanvullende eisen zero-emissiezone: Datum Eerste Toelating na 1-1-2025: emissieloos.
B33: N2 en N3 TRANSPORTMIDDELEN (vanaf 3.500kg) | E33: vanaf | F33: 46388 | G33: vanaf | H33: 46753 | I33: vanaf | J33: 47119 | K33: vanaf | L33: 47484 | P33: EISEN
B34: motor | C34: energiedrager | D34: weegfactor | E34: waardering | F34: ureninzet | G34: waardering | H34: ureninzet | I34: waardering | J34: ureninzet | K34: waardering | L34: ureninzet | M34: totaal | P34: per ingang van: | Q34: 46388 | R34: 46753 | S34: 47119 | T34: 47484
B35: elektromotor | C35: groene stroom | D35: 10 | E35: =$D35*F35 -> 0 | F35: =SUMIFS(materieelinzetplan!F$40:F$59,materieelinzetplan!$C$40:$C$59,'fictieve meerwaarde & eisen'!$B35,materieelinzetplan!$D$40:$D$59,'fictieve meerwaarde & eisen'!$C35) -> 0 | G35: =$D35*H35 -> 0 | H35: =SUMIFS(materieelinzetplan!G$40:G$59,materieelinzetplan!$C$40:$C$59,'fictieve meerwaarde & eisen'!$B35,materieelinzetplan!$D$40:$D$59,'fictieve meerwaarde & eisen'!$C35) -> 0 | I35: =$D35*J35 -> 0 | J35: =SUMIFS(materieelinzetplan!H$40:H$59,materieelinzetplan!$C$40:$C$59,'fictieve meerwaarde & eisen'!$B35,materieelinzetplan!$D$40:$D$59,'fictieve meerwaarde & eisen'!$C35) -> 0 | K35: =$D35*L35 -> 0 | L35: =SUMIFS(materieelinzetplan!I$40:I$59,materieelinzetplan!$C$40:$C$59,'fictieve meerwaarde & eisen'!$B35,materieelinzetplan!$D$40:$D$59,'fictieve meerwaarde & eisen'!$C35) -> 0 | P35: Buiten de zero-emissiezone | Q35: Euro 6 motor + biodiesel (HVO 100)
B36: elektromotor | C36: groene waterstof | D36: 10 | E36: =$D36*F36 -> 0 | F36: =SUMIFS(materieelinzetplan!F$40:F$59,materieelinzetplan!$C$40:$C$59,'fictieve meerwaarde & eisen'!$B36,materieelinzetplan!$D$40:$D$59,'fictieve meerwaarde & eisen'!$C36) -> 0 | G36: =$D36*H36 -> 0 | H36: =SUMIFS(materieelinzetplan!G$40:G$59,materieelinzetplan!$C$40:$C$59,'fictieve meerwaarde & eisen'!$B36,materieelinzetplan!$D$40:$D$59,'fictieve meerwaarde & eisen'!$C36) -> 0 | I36: =$D36*J36 -> 0 | J36: =SUMIFS(materieelinzetplan!H$40:H$59,materieelinzetplan!$C$40:$C$59,'fictieve meerwaarde & eisen'!$B36,materieelinzetplan!$D$40:$D$59,'fictieve meerwaarde & eisen'!$C36) -> 0 | K36: =$D36*L36 -> 0 | L36: =SUMIFS(materieelinzetplan!I$40:I$59,materieelinzetplan!$C$40:$C$59,'fictieve meerwaarde & eisen'!$B36,materieelinzetplan!$D$40:$D$59,'fictieve meerwaarde & eisen'!$C36) -> 0
B37: plug-in hybride | C37: groen gas (BNG/LBG) | D37: 5.5 | E37: =$D37*F37 -> 0 | F37: =SUMIFS(materieelinzetplan!F$40:F$59,materieelinzetplan!$C$40:$C$59,'fictieve meerwaarde & eisen'!$B37,materieelinzetplan!$D$40:$D$59,'fictieve meerwaarde & eisen'!$C37) -> 0 | G37: =$D37*H37 -> 0 | H37: =SUMIFS(materieelinzetplan!G$40:G$59,materieelinzetplan!$C$40:$C$59,'fictieve meerwaarde & eisen'!$B37,materieelinzetplan!$D$40:$D$59,'fictieve meerwaarde & eisen'!$C37) -> 0 | I37: =$D37*J37 -> 0 | J37: =SUMIFS(materieelinzetplan!H$40:H$59,materieelinzetplan!$C$40:$C$59,'fictieve meerwaarde & eisen'!$B37,materieelinzetplan!$D$40:$D$59,'fictieve meerwaarde & eisen'!$C37) -> 0 | K37: =$D37*L37 -> 0 | L37: =SUMIFS(materieelinzetplan!I$40:I$59,materieelinzetplan!$C$40:$C$59,'fictieve meerwaarde & eisen'!$B37,materieelinzetplan!$D$40:$D$59,'fictieve meerwaarde & eisen'!$C37) -> 0
B38: plug-in hybride | C38: aardgas (CNG/LNG) | D38: 4.5 | E38: =$D38*F38 -> 0 | F38: =SUMIFS(materieelinzetplan!F$40:F$59,materieelinzetplan!$C$40:$C$59,'fictieve meerwaarde & eisen'!$B38,materieelinzetplan!$D$40:$D$59,'fictieve meerwaarde & eisen'!$C38) -> 0 | G38: =$D38*H38 -> 0 | H38: =SUMIFS(materieelinzetplan!G$40:G$59,materieelinzetplan!$C$40:$C$59,'fictieve meerwaarde & eisen'!$B38,materieelinzetplan!$D$40:$D$59,'fictieve meerwaarde & eisen'!$C38) -> 0 | I38: =$D38*J38 -> 0 | J38: =SUMIFS(materieelinzetplan!H$40:H$59,materieelinzetplan!$C$40:$C$59,'fictieve meerwaarde & eisen'!$B38,materieelinzetplan!$D$40:$D$59,'fictieve meerwaarde & eisen'!$C38) -> 0 | K38: =$D38*L38 -> 0 | L38: =SUMIFS(materieelinzetplan!I$40:I$59,materieelinzetplan!$C$40:$C$59,'fictieve meerwaarde & eisen'!$B38,materieelinzetplan!$D$40:$D$59,'fictieve meerwaarde & eisen'!$C38) -> 0 | P38: Binnen de zero-emissiezone | Q38: aanvullende eisen zero-emissiezone: Datum Eerste Toelating: minimaal na 1-1-2017. Bij Datum Eerste Toelating na 1-1-2025: emissieloos. | R38: aanvullende eisen zero-emissiezone: Datum Eerste Toelating: minimaal na 1-1-2017. Bakwagens Datum Eerste Toelating: minimaal na 1-1-2020. Bij Datum Eerste Toelating na 1-1-2025: emissieloos. | T38: emissieloos
B39: plug-in hybride | C39: biodiesel (HVO 100) | D39: 4.5 | E39: =$D39*F39 -> 0 | F39: =SUMIFS(materieelinzetplan!F$40:F$59,materieelinzetplan!$C$40:$C$59,'fictieve meerwaarde & eisen'!$B39,materieelinzetplan!$D$40:$D$59,'fictieve meerwaarde & eisen'!$C39) -> 0 | G39: =$D39*H39 -> 0 | H39: =SUMIFS(materieelinzetplan!G$40:G$59,materieelinzetplan!$C$40:$C$59,'fictieve meerwaarde & eisen'!$B39,materieelinzetplan!$D$40:$D$59,'fictieve meerwaarde & eisen'!$C39) -> 0 | I39: =$D39*J39 -> 0 | J39: =SUMIFS(materieelinzetplan!H$40:H$59,materieelinzetplan!$C$40:$C$59,'fictieve meerwaarde & eisen'!$B39,materieelinzetplan!$D$40:$D$59,'fictieve meerwaarde & eisen'!$C39) -> 0 | K39: =$D39*L39 -> 0 | L39: =SUMIFS(materieelinzetplan!I$40:I$59,materieelinzetplan!$C$40:$C$59,'fictieve meerwaarde & eisen'!$B39,materieelinzetplan!$D$40:$D$59,'fictieve meerwaarde & eisen'!$C39) -> 0
B40: hybride | C40: groen gas (BNG/LBG) | D40: 3.5 | E40: =$D40*F40 -> 0 | F40: =SUMIFS(materieelinzetplan!F$40:F$59,materieelinzetplan!$C$40:$C$59,'fictieve meerwaarde & eisen'!$B40,materieelinzetplan!$D$40:$D$59,'fictieve meerwaarde & eisen'!$C40) -> 0 | G40: =$D40*H40 -> 0 | H40: =SUMIFS(materieelinzetplan!G$40:G$59,materieelinzetplan!$C$40:$C$59,'fictieve meerwaarde & eisen'!$B40,materieelinzetplan!$D$40:$D$59,'fictieve meerwaarde & eisen'!$C40) -> 0 | I40: =$D40*J40 -> 0 | J40: =SUMIFS(materieelinzetplan!H$40:H$59,materieelinzetplan!$C$40:$C$59,'fictieve meerwaarde & eisen'!$B40,materieelinzetplan!$D$40:$D$59,'fictieve meerwaarde & eisen'!$C40) -> 0 | K40: =$D40*L40 -> 0 | L40: =SUMIFS(materieelinzetplan!I$40:I$59,materieelinzetplan!$C$40:$C$59,'fictieve meerwaarde & eisen'!$B40,materieelinzetplan!$D$40:$D$59,'fictieve meerwaarde & eisen'!$C40) -> 0
B41: hybride | C41: aardgas (CNG/LNG) | D41: 2.5 | E41: =$D41*F41 -> 0 | F41: =SUMIFS(materieelinzetplan!F$40:F$59,materieelinzetplan!$C$40:$C$59,'fictieve meerwaarde & eisen'!$B41,materieelinzetplan!$D$40:$D$59,'fictieve meerwaarde & eisen'!$C41) -> 0 | G41: =$D41*H41 -> 0 | H41: =SUMIFS(materieelinzetplan!G$40:G$59,materieelinzetplan!$C$40:$C$59,'fictieve meerwaarde & eisen'!$B41,materieelinzetplan!$D$40:$D$59,'fictieve meerwaarde & eisen'!$C41) -> 0 | I41: =$D41*J41 -> 0 | J41: =SUMIFS(materieelinzetplan!H$40:H$59,materieelinzetplan!$C$40:$C$59,'fictieve meerwaarde & eisen'!$B41,materieelinzetplan!$D$40:$D$59,'fictieve meerwaarde & eisen'!$C41) -> 0 | K41: =$D41*L41 -> 0 | L41: =SUMIFS(materieelinzetplan!I$40:I$59,materieelinzetplan!$C$40:$C$59,'fictieve meerwaarde & eisen'!$B41,materieelinzetplan!$D$40:$D$59,'fictieve meerwaarde & eisen'!$C41) -> 0
B42: hybride | C42: biodiesel (HVO 100) | D42: 2.5 | E42: =$D42*F42 -> 0 | F42: =SUMIFS(materieelinzetplan!F$40:F$59,materieelinzetplan!$C$40:$C$59,'fictieve meerwaarde & eisen'!$B42,materieelinzetplan!$D$40:$D$59,'fictieve meerwaarde & eisen'!$C42) -> 0 | G42: =$D42*H42 -> 0 | H42: =SUMIFS(materieelinzetplan!G$40:G$59,materieelinzetplan!$C$40:$C$59,'fictieve meerwaarde & eisen'!$B42,materieelinzetplan!$D$40:$D$59,'fictieve meerwaarde & eisen'!$C42) -> 0 | I42: =$D42*J42 -> 0 | J42: =SUMIFS(materieelinzetplan!H$40:H$59,materieelinzetplan!$C$40:$C$59,'fictieve meerwaarde & eisen'!$B42,materieelinzetplan!$D$40:$D$59,'fictieve meerwaarde & eisen'!$C42) -> 0 | K42: =$D42*L42 -> 0 | L42: =SUMIFS(materieelinzetplan!I$40:I$59,materieelinzetplan!$C$40:$C$59,'fictieve meerwaarde & eisen'!$B42,materieelinzetplan!$D$40:$D$59,'fictieve meerwaarde & eisen'!$C42) -> 0
B43: verbrandingsmotor | C43: groen gas (BNG/LBG) | D43: 2 | E43: =$D43*F43 -> 0 | F43: =SUMIFS(materieelinzetplan!F$40:F$59,materieelinzetplan!$C$40:$C$59,'fictieve meerwaarde & eisen'!$B43,materieelinzetplan!$D$40:$D$59,'fictieve meerwaarde & eisen'!$C43) -> 0 | G43: =$D43*H43 -> 0 | H43: =SUMIFS(materieelinzetplan!G$40:G$59,materieelinzetplan!$C$40:$C$59,'fictieve meerwaarde & eisen'!$B43,materieelinzetplan!$D$40:$D$59,'fictieve meerwaarde & eisen'!$C43) -> 0 | I43: =$D43*J43 -> 0 | J43: =SUMIFS(materieelinzetplan!H$40:H$59,materieelinzetplan!$C$40:$C$59,'fictieve meerwaarde & eisen'!$B43,materieelinzetplan!$D$40:$D$59,'fictieve meerwaarde & eisen'!$C43) -> 0 | K43: =$D43*L43 -> 0 | L43: =SUMIFS(materieelinzetplan!I$40:I$59,materieelinzetplan!$C$40:$C$59,'fictieve meerwaarde & eisen'!$B43,materieelinzetplan!$D$40:$D$59,'fictieve meerwaarde & eisen'!$C43) -> 0
B44: verbrandingsmotor | C44: aardgas (CNG/LNG) | D44: 0.5 | E44: =$D44*F44 -> 0 | F44: =SUMIFS(materieelinzetplan!F$40:F$59,materieelinzetplan!$C$40:$C$59,'fictieve meerwaarde & eisen'!$B44,materieelinzetplan!$D$40:$D$59,'fictieve meerwaarde & eisen'!$C44) -> 0 | G44: =$D44*H44 -> 0 | H44: =SUMIFS(materieelinzetplan!G$40:G$59,materieelinzetplan!$C$40:$C$59,'fictieve meerwaarde & eisen'!$B44,materieelinzetplan!$D$40:$D$59,'fictieve meerwaarde & eisen'!$C44) -> 0 | I44: =$D44*J44 -> 0 | J44: =SUMIFS(materieelinzetplan!H$40:H$59,materieelinzetplan!$C$40:$C$59,'fictieve meerwaarde & eisen'!$B44,materieelinzetplan!$D$40:$D$59,'fictieve meerwaarde & eisen'!$C44) -> 0 | K44: =$D44*L44 -> 0 | L44: =SUMIFS(materieelinzetplan!I$40:I$59,materieelinzetplan!$C$40:$C$59,'fictieve meerwaarde & eisen'!$B44,materieelinzetplan!$D$40:$D$59,'fictieve meerwaarde & eisen'!$C44) -> 0
B45: verbrandingsmotor | C45: biodiesel (HVO 100) | D45: 0 | E45: =$D45*F45 -> 0 | F45: =SUMIFS(materieelinzetplan!F$40:F$59,materieelinzetplan!$C$40:$C$59,'fictieve meerwaarde & eisen'!$B45,materieelinzetplan!$D$40:$D$59,'fictieve meerwaarde & eisen'!$C45) -> 0 | G45: =$D45*H45 -> 0 | H45: =SUMIFS(materieelinzetplan!G$40:G$59,materieelinzetplan!$C$40:$C$59,'fictieve meerwaarde & eisen'!$B45,materieelinzetplan!$D$40:$D$59,'fictieve meerwaarde & eisen'!$C45) -> 0 | I45: =$D45*J45 -> 0 | J45: =SUMIFS(materieelinzetplan!H$40:H$59,materieelinzetplan!$C$40:$C$59,'fictieve meerwaarde & eisen'!$B45,materieelinzetplan!$D$40:$D$59,'fictieve meerwaarde & eisen'!$C45) -> 0 | K45: =$D45*L45 -> 0 | L45: =SUMIFS(materieelinzetplan!I$40:I$59,materieelinzetplan!$C$40:$C$59,'fictieve meerwaarde & eisen'!$B45,materieelinzetplan!$D$40:$D$59,'fictieve meerwaarde & eisen'!$C45) -> 0
D46: totaal | E46: =SUM(E35:E45) -> 0 | F46: =SUM(F35:F45) -> 0 | G46: =SUM(G35:G45) -> 0 | H46: =SUM(H35:H45) -> 0 | I46: =SUM(I35:I45) -> 0 | J46: =SUM(J35:J45) -> 0 | K46: =SUM(K35:K45) -> 0 | L46: =SUM(L35:L45) -> 0
D47: behaalde fictieve meerwaarde | F47: =IFERROR(((E46/F46)/10)*F48,0) -> 0 | H47: =IFERROR(((G46/H46)/10)*H48,0) -> 0 | J47: =IFERROR(((I46/J46)/10)*J48,0) -> 0 | L47: =IFERROR(((K46/L46)/10)*L48,0) -> 0 | M47: =SUM(E47:L47) -> 0
D48: maximaal te behalen fictieve meerwaarde | F48: 2500 | H48: 2500 | J48: 2500 | L48: 2500 | M48: =SUM(E48:L48) -> 10000
B50: GEREEDSCHAPPEN
B51: Het onderdeel 'gereedschappen' wordt niet meegewogen in het gunningscriterium. | Q51: 46388 | R51: 46753 | S51: 47119 | T51: 47484
B52: Hiervoor gelden de eisen zoals hiernaast is weergegeven. | P52: Handgereedschappen | Q52: emissieloos
...

Sheet materieelinzetplan
B2: =_xlfn.TEXTJOIN(" ",TRUE,'fictieve meerwaarde & eisen'!B2,'fictieve meerwaarde & eisen'!C2) -> 618182601 Bestrijding geelpoothoornaar | C2: #VALUE!
B3: Materieelinzetplan
B5: Instructie: Vul hieronder de gegevens in van alle materieelstukken die tijdens de opdracht wordt gebruikt, inclusief materieel van onderaannemers.
B6: Kies een materieelstuk: Ga naar het veld ‘Omschrijving materieelstuk’ en selecteer een optie uit de keuzelijst. Staat jouw materieelstuk niet in de lijst?
B7: Voer het handmatig in. Dit is belangrijk, want ook handmatig ingevoerde materieelstukken tellen mee voor het gunningscriterium. Zo werkt handmatig invoeren:
B8: Typ de naam van het materieelstuk in. Druk op Enter. Er verschijnt een venster: klik op ‘Ja’ om te bevestigen. Het materieelstuk is nu toegevoegd aan de tabel.
B9: Let op! Naast de tabel verschijnt een waarschuwing als een materieelstuk binnenkort niet meer aan de eisen voldoet. Laat de witte velden hiervoor leeg (niet invullen).
B10: Alle gegevens moeten volledig en correct zijn bij inschrijving.
B12: Naam inschrijver | E12: LET OP: Werktuigen die hier niet zijn opgegeven mogen ook niet worden ingezet op het werk. Ook als u hiervoor geen fictieve meerwaarde krijgt.
B13: Datum inschrijving
B15: ='fictieve meerwaarde & eisen'!B14 -> WERKTUIGEN | E15: ='fictieve meerwaarde & eisen'!E14 -> vanaf | F15: ='fictieve meerwaarde & eisen'!F14 -> 46388 | G15: ='fictieve meerwaarde & eisen'!H14 -> 46753 | H15: ='fictieve meerwaarde & eisen'!J14 -> 47119 | I15: ='fictieve meerwaarde & eisen'!L14 -> 47484
B16: omschrijving materieelstuk | C16: motor | D16: energiedrager | E16: vermogensklasse (kW) | F16: belofte uren inzet | G16: belofte uren inzet | H16: belofte uren inzet | I16: belofte uren inzet | K16: waarschuwing
A17: 1 | K17: =IF(E17="","",IF(AND($C17=stageVmotor,COUNTIF(vermogenklasse_eisen_2027,$E17)>0),voldoet_niet,IF(AND(C17 = stageVmotor,materieelinzetplan!E17=vermogensklasse56tot130kW),voldoet_niet_2028,IF(COUNTIF(gunning_werktuigen_2027,E17)>0,IF(COUNTIF(gunning_werktuigen_2028,E17)>0,"",voldoet_geenFM_2028),voldoet_geenFM_2027))))
A18: 2 | K18: =IF(E18="","",IF(AND($C18=stageVmotor,COUNTIF(vermogenklasse_eisen_2027,$E18)>0),voldoet_niet,IF(AND(C18 = stageVmotor,materieelinzetplan!E18=vermogensklasse56tot130kW),voldoet_niet_2028,IF(COUNTIF(gunning_werktuigen_2027,E18)>0,IF(COUNTIF(gunning_werktuigen_2028,E18)>0,"",voldoet_geenFM_2028),voldoet_geenFM_2027))))
A19: 3 | K19: =IF(E19="","",IF(AND($C19=stageVmotor,COUNTIF(vermogenklasse_eisen_2027,$E19)>0),voldoet_niet,IF(AND(C19 = stageVmotor,materieelinzetplan!E19=vermogensklasse56tot130kW),voldoet_niet_2028,IF(COUNTIF(gunning_werktuigen_2027,E19)>0,IF(COUNTIF(gunning_werktuigen_2028,E19)>0,"",voldoet_geenFM_2028),voldoet_geenFM_2027))))
A20: 4 | K20: =IF(E20="","",IF(AND($C20=stageVmotor,COUNTIF(vermogenklasse_eisen_2027,$E20)>0),voldoet_niet,IF(AND(C20 = stageVmotor,materieelinzetplan!E20=vermogensklasse56tot130kW),voldoet_niet_2028,IF(COUNTIF(gunning_werktuigen_2027,E20)>0,IF(COUNTIF(gunning_werktuigen_2028,E20)>0,"",voldoet_geenFM_2028),voldoet_geenFM_2027))))
A21: 5 | K21: =IF(E21="","",IF(AND($C21=stageVmotor,COUNTIF(vermogenklasse_eisen_2027,$E21)>0),voldoet_niet,IF(AND(C21 = stageVmotor,materieelinzetplan!E21=vermogensklasse56tot130kW),voldoet_niet_2028,IF(COUNTIF(gunning_werktuigen_2027,E21)>0,IF(COUNTIF(gunning_werktuigen_2028,E21)>0,"",voldoet_geenFM_2028),voldoet_geenFM_2027))))
A22: 6 | K22: =IF(E22="","",IF(AND($C22=stageVmotor,COUNTIF(vermogenklasse_eisen_2027,$E22)>0),voldoet_niet,IF(AND(C22 = stageVmotor,materieelinzetplan!E22=vermogensklasse56tot130kW),voldoet_niet_2028,IF(COUNTIF(gunning_werktuigen_2027,E22)>0,IF(COUNTIF(gunning_werktuigen_2028,E22)>0,"",voldoet_geenFM_2028),voldoet_geenFM_2027))))
A23: 7 | K23: =IF(E23="","",IF(AND($C23=stageVmotor,COUNTIF(vermogenklasse_eisen_2027,$E23)>0),voldoet_niet,IF(AND(C23 = stageVmotor,materieelinzetplan!E23=vermogensklasse56tot130kW),voldoet_niet_2028,IF(COUNTIF(gunning_werktuigen_2027,E23)>0,IF(COUNTIF(gunning_werktuigen_2028,E23)>0,"",voldoet_geenFM_2028),voldoet_geenFM_2027))))
A24: 8 | K24: =IF(E24="","",IF(AND($C24=stageVmotor,COUNTIF(vermogenklasse_eisen_2027,$E24)>0),voldoet_niet,IF(AND(C24 = stageVmotor,materieelinzetplan!E24=vermogensklasse56tot130kW),voldoet_niet_2028,IF(COUNTIF(gunning_werktuigen_2027,E24)>0,IF(COUNTIF(gunning_werktuigen_2028,E24)>0,"",voldoet_geenFM_2028),voldoet_geenFM_2027))))
A25: 9 | K25: =IF(E25="","",IF(AND($C25=stageVmotor,COUNTIF(vermogenklasse_eisen_2027,$E25)>0),voldoet_niet,IF(AND(C25 = stageVmotor,materieelinzetplan!E25=vermogensklasse56tot130kW),voldoet_niet_2028,IF(COUNTIF(gunning_werktuigen_2027,E25)>0,IF(COUNTIF(gunning_werktuigen_2028,E25)>0,"",voldoet_geenFM_2028),voldoet_geenFM_2027))))
A26: 10 | K26: =IF(E26="","",IF(AND($C26=stageVmotor,COUNTIF(vermogenklasse_eisen_2027,$E26)>0),voldoet_niet,IF(AND(C26 = stageVmotor,materieelinzetplan!E26=vermogensklasse56tot130kW),voldoet_niet_2028,IF(COUNTIF(gunning_werktuigen_2027,E26)>0,IF(COUNTIF(gunning_werktuigen_2028,E26)>0,"",voldoet_geenFM_2028),voldoet_geenFM_2027))))
A27: 11 | K27: =IF(E27="","",IF(AND($C27=stageVmotor,COUNTIF(vermogenklasse_eisen_2027,$E27)>0),voldoet_niet,IF(AND(C27 = stageVmotor,materieelinzetplan!E27=vermogensklasse56tot130kW),voldoet_niet_2028,IF(COUNTIF(gunning_werktuigen_2027,E27)>0,IF(COUNTIF(gunning_werktuigen_2028,E27)>0,"",voldoet_geenFM_2028),voldoet_geenFM_2027))))
A28: 12 | K28: =IF(E28="","",IF(AND($C28=stageVmotor,COUNTIF(vermogenklasse_eisen_2027,$E28)>0),voldoet_niet,IF(AND(C28 = stageVmotor,materieelinzetplan!E28=vermogensklasse56tot130kW),voldoet_niet_2028,IF(COUNTIF(gunning_werktuigen_2027,E28)>0,IF(COUNTIF(gunning_werktuigen_2028,E28)>0,"",voldoet_geenFM_2028),voldoet_geenFM_2027))))
... A36: 20 | K36: =IF(E36="","",IF(AND($C36=stageVmotor,COUNTIF(vermogenklasse_eisen_2027,$E36)>0),voldoet_niet,IF(AND(C36 = stageVmotor,materieelinzetplan!E36=vermogensklasse56tot130kW),voldoet_niet_2028,IF(COUNTIF(gunning_werktuigen_2027,E36)>0,IF(COUNTIF(gunning_werktuigen_2028,E36)>0,"",voldoet_geenFM_2028),voldoet_geenFM_2027))))
B38: ='fictieve meerwaarde & eisen'!B33 -> N2 en N3 TRANSPORTMIDDELEN (vanaf 3.500kg) | E38: ='fictieve meerwaarde & eisen'!E33 -> vanaf | F38: ='fictieve meerwaarde & eisen'!F33 -> 46388 | G38: ='fictieve meerwaarde & eisen'!H33 -> 46753 | H38: ='fictieve meerwaarde & eisen'!J33 -> 47119 | I38: ='fictieve meerwaarde & eisen'!L33 -> 47484
B39: omschrijving materieelstuk | C39: motor | D39: energiedrager | E39: vermogensklasse (kW) | F39: belofte uren inzet | G39: belofte uren inzet | H39: belofte uren inzet | I39: belofte uren inzet | K39: waarschuwing
A40: 1 | K40: =IF(C40="","",IF(C40='fictieve meerwaarde & eisen'!$B$35,"",geenToegangZEzone))
A41: 2 | K41: =IF(C41="","",IF(C41='fictieve meerwaarde & eisen'!$B$35,"",geenToegangZEzone))
A42: 3 | K42: =IF(C42="","",IF(C42='fictieve meerwaarde & eisen'!$B$35,"",geenToegangZEzone))
A43: 4 | K43: =IF(C43="","",IF(C43='fictieve meerwaarde & eisen'!$B$35,"",geenToegangZEzone))
A44: 5 | K44: =IF(C44="","",IF(C44='fictieve meerwaarde & eisen'!$B$35,"",geenToegangZEzone))
A45: 6 | K45: =IF(C45="","",IF(C45='fictieve meerwaarde & eisen'!$B$35,"",geenToegangZEzone))
A46: 7 | K46: =IF(C46="","",IF(C46='fictieve meerwaarde & eisen'!$B$35,"",geenToegangZEzone))
A47: 8 | K47: =IF(C47="","",IF(C47='fictieve meerwaarde & eisen'!$B$35,"",geenToegangZEzone))
A48: 9 | K48: =IF(C48="","",IF(C48='fictieve meerwaarde & eisen'!$B$35,"",geenToegangZEzone))
A49: 10 | K49: =IF(C49="","",IF(C49='fictieve meerwaarde & eisen'!$B$35,"",geenToegangZEzone))
A50: 11 | K50: =IF(C50="","",IF(C50='fictieve meerwaarde & eisen'!$B$35,"",geenToegangZEzone))
A51: 12 | K51: =IF(C51="","",IF(C51='fictieve meerwaarde & eisen'!$B$35,"",geenToegangZEzone))
... A59: 20 | K59: =IF(C59="","",IF(C59='fictieve meerwaarde & eisen'!$B$35,"",geenToegangZEzone))

Sheet subsidie
K1: vermogensklasse | L1: subsidie per dag | N1: vermogensklasse | O1: subsidie per dag
B2: ='fictieve meerwaarde & eisen'!C2 -> Bestrijding geelpoothoornaar | I2: ieniminie | K2: tot 8 kW | L2: 0 | N2: tot 20 kW | O2: 0
B3: Subsidie SPUK SEB | I3: mini | K3: van 8 tot 19 kW | L3: 30 | N3: van 20 tot 50 kW | O3: 13
B4: Instructie | C4: Vernieuw de filter in de cel 'Krijgen we subsidie?' | G4: Standaard bedrag | H4: =2400 -> 2400 | I4: klein | K4: van 19 tot 56 kW | L4: 54 | N4: van 50 tot 150 kW | O4: 32
B5: Schatting subsidiebedrag | H5: =SUM(H14:H33)+SUM(H37:H56)+H4 -> 2400 | I5: middelgroot | K5: van 56 tot 130 kW | L5: 270 | N5: van 150 tot 225 kW | O5: 93
B6: Inschrijver | C6: =IF(materieelinzetplan!C12="","",materieelinzetplan!C12) | I6: groot | K6: van 130 tot 300 kW | L6: 540 | N6: van 225 tot 350 kW | O6: 138
B7: Datum inschrijving | C7: =IF(materieelinzetplan!C13="","",materieelinzetplan!C13) | I7: zeer groot | K7: vanaf 300 kW | L7: 660 | N7: van 350 tot 600 kW | O7: 208
B8: Ranking tijdens aanbesteding | N8: vanaf 600 kW | O8: 352
B9: Bedrag raming
B10: Bedrag inschrijving
B12: ='fictieve meerwaarde & eisen'!B14 -> WERKTUIGEN | K12: GEGEVENSLIJSTEN
B13: omschrijving materieelstuk | C13: motor | D13: energiedrager | E13: vermogensklasse (kW) | F13: inzetdagen (min. 2 uur) | G13: Krijgen we subsidie? | H13: schatting subsidiebedrag | K13: groslijsten
A14: 1 | B14: =IF(materieelinzetplan!B17="","",materieelinzetplan!B17) | C14: =IF(materieelinzetplan!C17="","",materieelinzetplan!C17) | D14: =IF(materieelinzetplan!D17="","",materieelinzetplan!D17) | E14: =IF(materieelinzetplan!E17="","",materieelinzetplan!E17) | F14: =_xlfn.CEILING.MATH(SUM(materieelinzetplan!F17:I17)/8) -> 0 | G14: =IFERROR(IF(AND(COUNTIF(subsidie_Werktuigen,B14),C14='fictieve meerwaarde & eisen'!$B$16,NOT(E14=$K$2)),"Ja","Nee"),"") -> Nee | H14: =IF(G14="ja",_xlfn.XLOOKUP(E14,$K$2:$K$7,$L$2:$L$7)*F14,) -> 0 | K14: 001 Groot onderhoud asfalt
A15: 2 | B15: =IF(materieelinzetplan!B18="","",materieelinzetplan!B18) | C15: =IF(materieelinzetplan!C18="","",materieelinzetplan!C18) | D15: =IF(materieelinzetplan!D18="","",materieelinzetplan!D18) | E15: =IF(materieelinzetplan!E18="","",materieelinzetplan!E18) | F15: =_xlfn.CEILING.MATH(SUM(materieelinzetplan!F18:I18)/8) -> 0 | G15: =IFERROR(IF(AND(COUNTIF(subsidie_Werktuigen,B15),C15='fictieve meerwaarde & eisen'!$B$16,NOT(E15=$K$2)),"Ja","Nee"),"") -> Nee | H15: =IF(G15="ja",_xlfn.XLOOKUP(E15,$K$2:$K$7,$L$2:$L$7)*F15,) -> 0 | K15: 002 Groot grond verzet
A16: 3 | B16: =IF(materieelinzetplan!B19="","",materieelinzetplan!B19) | C16: =IF(materieelinzetplan!C19="","",materieelinzetplan!C19) | D16: =IF(materieelinzetplan!D19="","",materieelinzetplan!D19) | E16: =IF(materieelinzetplan!E19="","",materieelinzetplan!E19) | F16: =_xlfn.CEILING.MATH(SUM(materieelinzetplan!F19:I19)/8) -> 0 | G16: =IFERROR(IF(AND(COUNTIF(subsidie_Werktuigen,B16),C16='fictieve meerwaarde & eisen'!$B$16,NOT(E16=$K$2)),"Ja","Nee"),"") -> Nee | H16: =IF(G16="ja",_xlfn.XLOOKUP(E16,$K$2:$K$7,$L$2:$L$7)*F16,) -> 0 | K16: 003 Herinrichting asfaltverharding / Woonrijp maken / reconstructies
A17: 4 | B17: =IF(materieelinzetplan!B20="","",materieelinzetplan!B20) | C17: =IF(materieelinzetplan!C20="","",materieelinzetplan!C20) | D17: =IF(materieelinzetplan!D20="","",materieelinzetplan!D20) | E17: =IF(materieelinzetplan!E20="","",materieelinzetplan!E20) | F17: =_xlfn.CEILING.MATH(SUM(materieelinzetplan!F20:I20)/8) -> 0 | G17: =IFERROR(IF(AND(COUNTIF(subsidie_Werktuigen,B17),C17='fictieve meerwaarde & eisen'!$B$16,NOT(E17=$K$2)),"Ja","Nee"),"") -> Nee | H17: =IF(G17="ja",_xlfn.XLOOKUP(E17,$K$2:$K$7,$L$2:$L$7)*F17,) -> 0 | K17: 004 Herinrichting elementverharding / Woonrijp maken / reconstructies
A18: 5 | B18: =IF(materieelinzetplan!B21="","",materieelinzetplan!B21) | C18: =IF(materieelinzetplan!C21="","",materieelinzetplan!C21) | D18: =IF(materieelinzetplan!D21="","",materieelinzetplan!D21) | E18: =IF(materieelinzetplan!E21="","",materieelinzetplan!E21) | F18: =_xlfn.CEILING.MATH(SUM(materieelinzetplan!F21:I21)/8) -> 0 | G18: =IFERROR(IF(AND(COUNTIF(subsidie_Werktuigen,B18),C18='fictieve meerwaarde & eisen'!$B$16,NOT(E18=$K$2)),"Ja","Nee"),"") -> Nee | H18: =IF(G18="ja",_xlfn.XLOOKUP(E18,$K$2:$K$7,$L$2:$L$7)*F18,) -> 0 | K18: 005 Herinrichting / herstrating / Woonrijp maken
A19: 6 | B19: =IF(materieelinzetplan!B22="","",materieelinzetplan!B22) | C19: =IF(materieelinzetplan!C22="","",materieelinzetplan!C22) | D19: =IF(materieelinzetplan!D22="","",materieelinzetplan!D22) | E19: =IF(materieelinzetplan!E22="","",materieelinzetplan!E22) | F19: =_xlfn.CEILING.MATH(SUM(materieelinzetplan!F22:I22)/8) -> 0 | G19: =IFERROR(IF(AND(COUNTIF(subsidie_Werktuigen,B19),C19='fictieve meerwaarde & eisen'!$B$16,NOT(E19=$K$2)),"Ja","Nee"),"") -> Nee | H19: =IF(G19="ja",_xlfn.XLOOKUP(E19,$K$2:$K$7,$L$2:$L$7)*F19,) -> 0 | K19: 006 Onderhoud kunstwerken
A20: 7 | B20: =IF(materieelinzetplan!B23="","",materieelinzetplan!B23) | C20: =IF(materieelinzetplan!C23="","",materieelinzetplan!C23) | D20: =IF(materieelinzetplan!D23="","",materieelinzetplan!D23) | E20: =IF(materieelinzetplan!E23="","",materieelinzetplan!E23) | F20: =_xlfn.CEILING.MATH(SUM(materieelinzetplan!F23:I23)/8) -> 0 | G20: =IFERROR(IF(AND(COUNTIF(subsidie_Werktuigen,B20),C20='fictieve meerwaarde & eisen'!$B$16,NOT(E20=$K$2)),"Ja","Nee"),"") -> Nee | H20: =IF(G20="ja",_xlfn.XLOOKUP(E20,$K$2:$K$7,$L$2:$L$7)*F20,) -> 0 | K20: 007 Cultuurtechniek
A21: 8 | B21: =IF(materieelinzetplan!B24="","",materieelinzetplan!B24) | C21: =IF(materieelinzetplan!C24="","",materieelinzetplan!C24) | D21: =IF(materieelinzetplan!D24="","",materieelinzetplan!D24) | E21: =IF(materieelinzetplan!E24="","",materieelinzetplan!E24) | F21: =_xlfn.CEILING.MATH(SUM(materieelinzetplan!F24:I24)/8) -> 0 | G21: =IFERROR(IF(AND(COUNTIF(subsidie_Werktuigen,B21),C21='fictieve meerwaarde & eisen'!$B$16,NOT(E21=$K$2)),"Ja","Nee"),"") -> Nee | H21: =IF(G21="ja",_xlfn.XLOOKUP(E21,$K$2:$K$7,$L$2:$L$7)*F21,) -> 0 | K21: 015 Sloopwerkzaamheden
A22: 9 | B22: =IF(materieelinzetplan!B25="","",materieelinzetplan!B25) | C22: =IF(materieelinzetplan!C25="","",materieelinzetplan!C25) | D22: =IF(materieelinzetplan!D25="","",materieelinzetplan!D25) | E22: =IF(materieelinzetplan!E25="","",materieelinzetplan!E25) | F22: =_xlfn.CEILING.MATH(SUM(materieelinzetplan!F25:I25)/8) -> 0 | G22: =IFERROR(IF(AND(COUNTIF(subsidie_Werktuigen,B22),C22='fictieve meerwaarde & eisen'!$B$16,NOT(E22=$K$2)),"Ja","Nee"),"") -> Nee | H22: =IF(G22="ja",_xlfn.XLOOKUP(E22,$K$2:$K$7,$L$2:$L$7)*F22,) -> 0 | K22: 019 Realisatie en onderhoud Kunstgrassportvelden
A23: 10 | B23: =IF(materieelinzetplan!B26="","",materieelinzetplan!B26) | C23: =IF(materieelinzetplan!C26="","",materieelinzetplan!C26) | D23: =IF(materieelinzetplan!D26="","",materieelinzetplan!D26) | E23: =IF(materieelinzetplan!E26="","",materieelinzetplan!E26) | F23: =_xlfn.CEILING.MATH(SUM(materieelinzetplan!F26:I26)/8) -> 0 | G23: =IFERROR(IF(AND(COUNTIF(subsidie_Werktuigen,B23),C23='fictieve meerwaarde & eisen'!$B$16,NOT(E23=$K$2)),"Ja","Nee"),"") -> Nee | H23: =IF(G23="ja",_xlfn.XLOOKUP(E23,$K$2:$K$7,$L$2:$L$7)*F23,) -> 0 | K23: 101 Verkeersmaatregelen
A24: 11 | B24: =IF(materieelinzetplan!B27="","",materieelinzetplan!B27) | C24: =IF(materieelinzetplan!C27="","",materieelinzetplan!C27) | D24: =IF(materieelinzetplan!D27="","",materieelinzetplan!D27) | E24: =IF(materieelinzetplan!E27="","",materieelinzetplan!E27) | F24: =_xlfn.CEILING.MATH(SUM(materieelinzetplan!F27:I27)/8) -> 0 | G24: =IFERROR(IF(AND(COUNTIF(subsidie_Werktuigen,B24),C24='fictieve meerwaarde & eisen'!$B$16,NOT(E24=$K$2)),"Ja","Nee"),"") -> Nee | H24: =IF(G24="ja",_xlfn.XLOOKUP(E24,$K$2:$K$7,$L$2:$L$7)*F24,) -> 0 | K24: 102 Beeldinspecties
A25: 12 | B25: =IF(materieelinzetplan!B28="","",materieelinzetplan!B28) | C25: =IF(materieelinzetplan!C28="","",materieelinzetplan!C28) | D25: =IF(materieelinzetplan!D28="","",materieelinzetplan!D28) | E25: =IF(materieelinzetplan!E28="","",materieelinzetplan!E28) | F25: =_xlfn.CEILING.MATH(SUM(materieelinzetplan!F28:I28)/8) -> 0 | G25: =IFERROR(IF(AND(COUNTIF(subsidie_Werktuigen,B25),C25='fictieve meerwaarde & eisen'!$B$16,NOT(E25=$K$2)),"Ja","Nee"),"") -> Nee | H25: =IF(G25="ja",_xlfn.XLOOKUP(E25,$K$2:$K$7,$L$2:$L$7)*F25,) -> 0 | K25: 103 Verkennend bodemonderzoek
... A29: 16 | B29: =IF(materieelinzetplan!B32="","",materieelinzetplan!B32) | C29: =IF(materieelinzetplan!C32="","",materieelinzetplan!C32) | D29: =IF(materieelinzetplan!D32="","",materieelinzetplan!D32) | E29: =IF(materieelinzetplan!E32="","",materieelinzetplan!E32) | F29: =_xlfn.CEILING.MATH(SUM(materieelinzetplan!F32:I32)/8) -> 0 | G29: =IFERROR(IF(AND(COUNTIF(subsidie_Werktuigen,B29),C29='fictieve meerwaarde & eisen'!$B$16,NOT(E29=$K$2)),"Ja","Nee"),"") -> Nee | H29: =IF(G29="ja",_xlfn.XLOOKUP(E29,$K$2:$K$7,$L$2:$L$7)*F29,) -> 0 | K29: Geen groslijst
A30: 17 | B30: =IF(materieelinzetplan!B33="","",materieelinzetplan!B33) | C30: =IF(materieelinzetplan!C33="","",materieelinzetplan!C33) | D30: =IF(materieelinzetplan!D33="","",materieelinzetplan!D33) | E30: =IF(materieelinzetplan!E33="","",materieelinzetplan!E33) | F30: =_xlfn.CEILING.MATH(SUM(materieelinzetplan!F33:I33)/8) -> 0 | G30: =IFERROR(IF(AND(COUNTIF(subsidie_Werktuigen,B30),C30='fictieve meerwaarde & eisen'!$B$16,NOT(E30=$K$2)),"Ja","Nee"),"") -> Nee | H30: =IF(G30="ja",_xlfn.XLOOKUP(E30,$K$2:$K$7,$L$2:$L$7)*F30,) -> 0
A31: 18 | B31: =IF(materieelinzetplan!B34="","",materieelinzetplan!B34) | C31: =IF(materieelinzetplan!C34="","",materieelinzetplan!C34) | D31: =IF(materieelinzetplan!D34="","",materieelinzetplan!D34) | E31: =IF(materieelinzetplan!E34="","",materieelinzetplan!E34) | F31: =_xlfn.CEILING.MATH(SUM(materieelinzetplan!F34:I34)/8) -> 0 | G31: =IFERROR(IF(AND(COUNTIF(subsidie_Werktuigen,B31),C31='fictieve meerwaarde & eisen'!$B$16,NOT(E31=$K$2)),"Ja","Nee"),"") -> Nee | H31: =IF(G31="ja",_xlfn.XLOOKUP(E31,$K$2:$K$7,$L$2:$L$7)*F31,) -> 0
A32: 19 | B32: =IF(materieelinzetplan!B35="","",materieelinzetplan!B35) | C32: =IF(materieelinzetplan!C35="","",materieelinzetplan!C35) | D32: =IF(materieelinzetplan!D35="","",materieelinzetplan!D35) | E32: =IF(materieelinzetplan!E35="","",materieelinzetplan!E35) | F32: =_xlfn.CEILING.MATH(SUM(materieelinzetplan!F35:I35)/8) -> 0 | G32: =IFERROR(IF(AND(COUNTIF(subsidie_Werktuigen,B32),C32='fictieve meerwaarde & eisen'!$B$16,NOT(E32=$K$2)),"Ja","Nee"),"") -> Nee | H32: =IF(G32="ja",_xlfn.XLOOKUP(E32,$K$2:$K$7,$L$2:$L$7)*F32,) -> 0
A33: 20 | B33: =IF(materieelinzetplan!B36="","",materieelinzetplan!B36) | C33: =IF(materieelinzetplan!C36="","",materieelinzetplan!C36) | D33: =IF(materieelinzetplan!D36="","",materieelinzetplan!D36) | E33: =IF(materieelinzetplan!E36="","",materieelinzetplan!E36) | F33: =_xlfn.CEILING.MATH(SUM(materieelinzetplan!F36:I36)/8) -> 0 | G33: =IFERROR(IF(AND(COUNTIF(subsidie_Werktuigen,B33),C33='fictieve meerwaarde & eisen'!$B$16,NOT(E33=$K$2)),"Ja","Nee"),"") -> Nee | H33: =IF(G33="ja",_xlfn.XLOOKUP(E33,$K$2:$K$7,$L$2:$L$7)*F33,) -> 0
B35: ='fictieve meerwaarde & eisen'!B33 -> N2 en N3 TRANSPORTMIDDELEN (vanaf 3.500kg)
B36: omschrijving materieelstuk | C36: motor | D36: energiedrager | E36: vermogensklasse (kW) | F36: inzetdagen (min. 2 uur) | G36: Krijgen we subsidie? | H36: schatting subsidiebedrag | K36: waarschuwingen
A37: 1 | C37: =IF(materieelinzetplan!C40="","",materieelinzetplan!C40) | D37: =IF(materieelinzetplan!D40="","",materieelinzetplan!D40) | E37: =IF(materieelinzetplan!E40="","",materieelinzetplan!E40) | F37: =_xlfn.CEILING.MATH(SUM(materieelinzetplan!F40:I40)/8) -> 0 | G37: =IFERROR(IF(AND(COUNTIF(subsidie_Transport,B37),C37="elektromotor",NOT(E37=$K$2)),"Ja","Nee"),"") -> Nee | H37: =IF(G37="ja",_xlfn.XLOOKUP(E37,$K$2:$K$7,$L$2:$L$7)*F37,) -> 0 | K37: voldoet niet aan eisen per 1 jan 2028
A38: 2 | B38: =IF(materieelinzetplan!B41="","",materieelinzetplan!B41) | C38: =IF(materieelinzetplan!C41="","",materieelinzetplan!C41) | D38: =IF(materieelinzetplan!D41="","",materieelinzetplan!D41) | E38: =IF(materieelinzetplan!E41="","",materieelinzetplan!E41) | F38: =_xlfn.CEILING.MATH(SUM(materieelinzetplan!F41:I41)/8) -> 0 | G38: =IFERROR(IF(AND(COUNTIF(subsidie_Transport,B38),C38="elektromotor",NOT(E38=$K$2)),"Ja","Nee"),"") -> Nee | H38: =IF(G38="ja",_xlfn.XLOOKUP(E38,$K$2:$K$7,$L$2:$L$7)*F38,) -> 0 | K38: voldoet aan eisen, maar telt niet mee voor fictieve meerwaarde per 1 jan 2027
A39: 3 | B39: =IF(materieelinzetplan!B42="","",materieelinzetplan!B42) | C39: =IF(materieelinzetplan!C42="","",materieelinzetplan!C42) | D39: =IF(materieelinzetplan!D42="","",materieelinzetplan!D42) | E39: =IF(materieelinzetplan!E42="","",materieelinzetplan!E42) | F39: =_xlfn.CEILING.MATH(SUM(materieelinzetplan!F42:I42)/8) -> 0 | G39: =IFERROR(IF(AND(COUNTIF(subsidie_Transport,B39),C39="elektromotor",NOT(E39=$K$2)),"Ja","Nee"),"") -> Nee | H39: =IF(G39="ja",_xlfn.XLOOKUP(E39,$K$2:$K$7,$L$2:$L$7)*F39,) -> 0 | K39: voldoet aan eisen, maar telt niet mee voor fictieve meerwaarde per 1 jan 2028
A40: 4 | B40: =IF(materieelinzetplan!B43="","",materieelinzetplan!B43) | C40: =IF(materieelinzetplan!C43="","",materieelinzetplan!C43) | D40: =IF(materieelinzetplan!D43="","",materieelinzetplan!D43) | E40: =IF(materieelinzetplan!E43="","",materieelinzetplan!E43) | F40: =_xlfn.CEILING.MATH(SUM(materieelinzetplan!F43:I43)/8) -> 0 | G40: =IFERROR(IF(AND(COUNTIF(subsidie_Transport,B40),C40="elektromotor",NOT(E40=$K$2)),"Ja","Nee"),"") -> Nee | H40: =IF(G40="ja",_xlfn.XLOOKUP(E40,$K$2:$K$7,$L$2:$L$7)*F40,) -> 0 | K40: voldoet NIET aan de eisen, pas aan.
A41: 5 | B41: =IF(materieelinzetplan!B44="","",materieelinzetplan!B44) | C41: =IF(materieelinzetplan!C44="","",materieelinzetplan!C44) | D41: =IF(materieelinzetplan!D44="","",materieelinzetplan!D44) | E41: =IF(materieelinzetplan!E44="","",materieelinzetplan!E44) | F41: =_xlfn.CEILING.MATH(SUM(materieelinzetplan!F44:I44)/8) -> 0 | G41: =IFERROR(IF(AND(COUNTIF(subsidie_Transport,B41),C41="elektromotor",NOT(E41=$K$2)),"Ja","Nee"),"") -> Nee | H41: =IF(G41="ja",_xlfn.XLOOKUP(E41,$K$2:$K$7,$L$2:$L$7)*F41,) -> 0 | K41: geen toegang tot zero-emissiezone per 1 jan 2030
A42: 6 | B42: =IF(materieelinzetplan!B45="","",materieelinzetplan!B45) | C42: =IF(materieelinzetplan!C45="","",materieelinzetplan!C45) | D42: =IF(materieelinzetplan!D45="","",materieelinzetplan!D45) | E42: =IF(materieelinzetplan!E45="","",materieelinzetplan!E45) | F42: =_xlfn.CEILING.MATH(SUM(materieelinzetplan!F45:I45)/8) -> 0 | G42: =IFERROR(IF(AND(COUNTIF(subsidie_Transport,B42),C42="elektromotor",NOT(E42=$K$2)),"Ja","Nee"),"") -> Nee | H42: =IF(G42="ja",_xlfn.XLOOKUP(E42,$K$2:$K$7,$L$2:$L$7)*F42,) -> 0
A43: 7 | B43: =IF(materieelinzetplan!B46="","",materieelinzetplan!B46) | C43: =IF(materieelinzetplan!C46="","",materieelinzetplan!C46) | D43: =IF(materieelinzetplan!D46="","",materieelinzetplan!D46) | E43: =IF(materieelinzetplan!E46="","",materieelinzetplan!E46) | F43: =_xlfn.CEILING.MATH(SUM(materieelinzetplan!F46:I46)/8) -> 0 | G43: =IFERROR(IF(AND(COUNTIF(subsidie_Transport,B43),C43="elektromotor",NOT(E43=$K$2)),"Ja","Nee"),"") -> Nee | H43: =IF(G43="ja",_xlfn.XLOOKUP(E43,$K$2:$K$7,$L$2:$L$7)*F43,) -> 0
A44: 8 | B44: =IF(materieelinzetplan!B47="","",materieelinzetplan!B47) | C44: =IF(materieelinzetplan!C47="","",materieelinzetplan!C47) | D44: =IF(materieelinzetplan!D47="","",materieelinzetplan!D47) | E44: =IF(materieelinzetplan!E47="","",materieelinzetplan!E47) | F44: =_xlfn.CEILING.MATH(SUM(materieelinzetplan!F47:I47)/8) -> 0 | G44: =IFERROR(IF(AND(COUNTIF(subsidie_Transport,B44),C44="elektromotor",NOT(E44=$K$2)),"Ja","Nee"),"") -> Nee | H44: =IF(G44="ja",_xlfn.XLOOKUP(E44,$K$2:$K$7,$L$2:$L$7)*F44,) -> 0
A45: 9 | B45: =IF(materieelinzetplan!B48="","",materieelinzetplan!B48) | C45: =IF(materieelinzetplan!C48="","",materieelinzetplan!C48) | D45: =IF(materieelinzetplan!D48="","",materieelinzetplan!D48) | E45: =IF(materieelinzetplan!E48="","",materieelinzetplan!E48) | F45: =_xlfn.CEILING.MATH(SUM(materieelinzetplan!F48:I48)/8) -> 0 | G45: =IFERROR(IF(AND(COUNTIF(subsidie_Transport,B45),C45="elektromotor",NOT(E45=$K$2)),"Ja","Nee"),"") -> Nee | H45: =IF(G45="ja",_xlfn.XLOOKUP(E45,$K$2:$K$7,$L$2:$L$7)*F45,) -> 0
...

Sheet machinelijst
B1: RVO Machinelijst SpUk SEB versie november 2025
B3: A. Werktuigen | C3: A1. Mobiele machines
D4: A1.1 asfaltzaag, betonzagen (rijdend)
D5: A1.2 asfaltspreidmachine, asfaltwerkmachine
D6: A1.3 asfaltvoorlader
D7: A1.4 ballastafwerkmachine
D8: A1.5 bestratingsmachine (zelfrijdend)
D9: A1.6 beton- of mortelmachine, paver, mobiele 3D-printer
D10: A1.7 beton- of bentonietpomp (standalone)
D11: A1.8 bodemstabiliseerder
D12: A1.9 bulldozer
D13: A1.10 emulsiespuitwagen
D14: A1.11 freesmachine voor asfalt of beton
D15: A1.12 mobiele meetapparatuur voor de bouw (zoals sondeermachine, sondeertruck, sondeerrups, valgewicht)
... D58: Versnipperraar
C59: A2. Vervoerbare industriële uitrustingen
D60: A2.3 aggregaat op waterstof of waterstofdragers voor off-grid stroomvoorziening
D61: A2.5 lasaggregaat
D62: A2.6 lichtmastaggregaat of lichtmast (zelf aangedreven)
D63: A2.8 trilplaat / trilblok / stamper
D64: A2.9 mobiele (vuil)-waterpomp
D65: A2.10 pompen voor baggeren (DOP-pomp, jetpomp, booster-baggerstation)
D66: A2.12 vliegwiel als vermogensvoorziening
C67: A2. Vervoerbare industriële uitrustingen (aggregaten, batterijpakketten, DC-laadstations)
D68: A2.2 aggregaat op wind- of zonne-energie voor off-grid stroomvoorziening
D69: A2.4 hydraulisch aggregaat
D70: A2.7 batterijpakket voor off-grid stroomvoorziening vanaf 50 kWh op een bouwlocatie of behorende bij een bouwwerktuig
D71: A2.13 laadstation vanaf 20 kW
B72: B. Hulpfuncties | C72: B1. elektrische aandrijfmotor met een brandstofcel of een niet-loodhoudend batterijpakket voor aandrijving van de opbouw van een voertuig, oplegger of spoorvoertuig (inclusief vrachtautorailvoertuig), zijnde een:
D73: Opbouw B1.1 autolaadkraan
D74: Opbouw B1.2 betonmixer
D75: Opbouw B1.3 betonpomp
D76: Opbouw B1.4 binnenlader
D77: Opbouw B1.5 boor
D78: Opbouw B1.6 front-end cylinder
D79: Opbouw B1.7 haakarm
D80: Opbouw B1.8 kabelsysteem
D81: Opbouw B1.9 kettingsysteem
D82: Opbouw B1.10 onderwaartse cylinder
D83: Opbouw B1.11 portaalarmsysteem
...

Sheet beoordeling
B2: ='fictieve meerwaarde & eisen'!B2 -> 618182601 | C2: ='fictieve meerwaarde & eisen'!C2 -> Bestrijding geelpoothoornaar
B3: Beoordeling Schoon- en Emissieloos Bouwen
B5: aantal inschrijvers | E5: inschrijver 1 | G5: inschrijver 2 | I5: inschrijver 3 | K5: inschrijver 4 | M5: inschrijver 5
B7: ingevuld door | E7: [ bedrijfsnaam ] | G7: [ bedrijfsnaam ] | I7: [ bedrijfsnaam ] | K7: [ bedrijfsnaam ] | M7: [ bedrijfsnaam ]
B9: fictieve meerwaarde | C9: ='fictieve meerwaarde & eisen'!B14 -> WERKTUIGEN | E9: 0 | G9: 0 | I9: 0 | K9: 0 | M9: 0
B10: maximale fictieve meerwaarde | E10: ='fictieve meerwaarde & eisen'!$M$21 -> 5000 | G10: ='fictieve meerwaarde & eisen'!$M$21 -> 5000 | I10: ='fictieve meerwaarde & eisen'!$M$21 -> 5000 | K10: ='fictieve meerwaarde & eisen'!$M$21 -> 5000 | M10: ='fictieve meerwaarde & eisen'!$M$21 -> 5000
B12: fictieve meerwaarde | C12: ='fictieve meerwaarde & eisen'!B33 -> N2 en N3 TRANSPORTMIDDELEN (vanaf 3.500kg) | E12: 0 | G12: 0 | I12: 0 | K12: 0 | M12: 0
B13: maximale fictieve meerwaarde | E13: ='fictieve meerwaarde & eisen'!$M$48 -> 10000 | G13: ='fictieve meerwaarde & eisen'!$M$48 -> 10000 | I13: ='fictieve meerwaarde & eisen'!$M$48 -> 10000 | K13: ='fictieve meerwaarde & eisen'!$M$48 -> 10000 | M13: ='fictieve meerwaarde & eisen'!$M$48 -> 10000
B15: opmerking(en) voor publicatie
B17: handtekening
B19: datum
