Workbook
Name catdw_1_BBHV_12: Categorienormen!$F$20
Name catdw_1_BCHB_1: Categorienormen!$F$6
Name catdw_1_BCHV_51: Categorienormen!$F$7
Name catdw_1_BKHB_1: Categorienormen!$F$8
Name catdw_1_BKHV_51: Categorienormen!$F$9
Name catdw_1_BKZB_1: Categorienormen!$F$10
Name catdw_1_BKZV_51: Categorienormen!$F$11
Name catdw_1_BRHB_1: Categorienormen!$F$12
Name catdw_1_BRHV_51: Categorienormen!$F$13
Name catdw_1_BVHB_1: Categorienormen!$F$14
Name catdw_1_BVHV_51: Categorienormen!$F$15
Name catdw_1_BVZB_1: Categorienormen!$F$16
Name catdw_1_BVZV_51: Categorienormen!$F$17
Name catdw_1_EAHB_1: Categorienormen!$F$34
Name catdw_1_EAHV_51: Categorienormen!$F$35
Name catdw_1_ERHV_1: Categorienormen!$F$36
Name catdw_1_LAHB_1: Categorienormen!$F$18
Name catdw_1_LAHV_51: Categorienormen!$F$19
Name catdw_1_MAHB_1: Categorienormen!$F$37
Name catdw_1_MAHV_51: Categorienormen!$F$38
Name catdw_1_MAZV_1: Categorienormen!$F$39
Name catdw_1_MAZV_12: Categorienormen!$F$40
Name catdw_1_MAZV_51: Categorienormen!$F$41
Name catdw_1_RKHB_1: Categorienormen!$F$42
Name catdw_1_RKHV_51: Categorienormen!$F$43
Name catdw_1_RPHB_1: Categorienormen!$F$44
Name catdw_1_RPHV_2: Categorienormen!$F$45
Name catdw_1_RPHV_4: Categorienormen!$F$46
Name catdw_1_RPHV_51: Categorienormen!$F$47
Name catdw_1_RRHB_1: Categorienormen!$F$48
Name catdw_1_RRHV_4: Categorienormen!$F$49
Name catdw_1_RRHV_51: Categorienormen!$F$50
Name catdw_1_RRZB_1: Categorienormen!$F$51
Name catdw_1_RRZV_51: Categorienormen!$F$52
Name catdw_1_SDHB_1: Categorienormen!$F$22
Name catdw_1_SDHV_51: Categorienormen!$F$23
Name catdw_1_SKHB_1: Categorienormen!$F$24
Name catdw_1_SKHV_51: Categorienormen!$F$25
Name catdw_1_STHB_1: Categorienormen!$F$26
Name catdw_1_STHV_12: Categorienormen!$F$29
Name catdw_1_STHV_2: Categorienormen!$F$27
Name catdw_1_STHV_26: Categorienormen!$F$30
Name catdw_1_STHV_4: Categorienormen!$F$28
Name catdw_1_STHV_51: Categorienormen!$F$31
Name catdw_1_SWHB_1: Categorienormen!$F$32
Name catdw_1_SWHV_51: Categorienormen!$F$33
Name catdw_1_VAHB_1: Categorienormen!$F$53
Name catdw_1_VAHV_2: Categorienormen!$F$54
Name catdw_1_VAHV_51: Categorienormen!$F$55
Name catdw_1_VAZB_1: Categorienormen!$F$56
Name catdw_1_VAZV_51: Categorienormen!$F$57
Name catdw_1_VBHV_10: Categorienormen!$F$21
Name catdw_1_VEHB_1: Categorienormen!$F$58
Name catdw_1_VEHV_51: Categorienormen!$F$59
Name catdw_1_VEZB_1: Categorienormen!$F$60
Name catdw_1_VEZV_51: Categorienormen!$F$61
Name catdw_1_VLHB_1: Categorienormen!$F$62
Name catdw_1_VLHV_51: Categorienormen!$F$63
Name catdw_1_VOHB_1: Categorienormen!$F$64
Name catdw_1_VOHV_12: Categorienormen!$F$65

Sheet Omreken
A1: Blad 'Omreken'
A3: Dit blad mag niet worden gewijzigd!
A5: Type: | B5: Invultabel
A7: Werkdagen
A9: per jaar: | B9: 255
A10: per week: | B10: 5
A12: FREQ | B12: FACTOR
A13: 5W | B13: =IF(A13="2½W",2.5/dagenperweek1,IF(RIGHT(A13,1)="W",VALUE(LEFT(A13,LEN(A13)-1))/dagenperweek1,IF(RIGHT(A13,1)="J",VALUE(LEFT(A13,LEN(A13)-1))/dagenperjaar1,IF(RIGHT(A13,1)="D",VALUE(LEFT(A13,LEN(A13)-1)),"handmatig!")))) -> 1
A14: 4W | B14: =IF(A14="2½W",2.5/dagenperweek1,IF(RIGHT(A14,1)="W",VALUE(LEFT(A14,LEN(A14)-1))/dagenperweek1,IF(RIGHT(A14,1)="J",VALUE(LEFT(A14,LEN(A14)-1))/dagenperjaar1,IF(RIGHT(A14,1)="D",VALUE(LEFT(A14,LEN(A14)-1)),"handmatig!")))) -> 0.8
A15: 3W | B15: =IF(A15="2½W",2.5/dagenperweek1,IF(RIGHT(A15,1)="W",VALUE(LEFT(A15,LEN(A15)-1))/dagenperweek1,IF(RIGHT(A15,1)="J",VALUE(LEFT(A15,LEN(A15)-1))/dagenperjaar1,IF(RIGHT(A15,1)="D",VALUE(LEFT(A15,LEN(A15)-1)),"handmatig!")))) -> 0.6
A16: 2W | B16: =IF(A16="2½W",2.5/dagenperweek1,IF(RIGHT(A16,1)="W",VALUE(LEFT(A16,LEN(A16)-1))/dagenperweek1,IF(RIGHT(A16,1)="J",VALUE(LEFT(A16,LEN(A16)-1))/dagenperjaar1,IF(RIGHT(A16,1)="D",VALUE(LEFT(A16,LEN(A16)-1)),"handmatig!")))) -> 0.4
A17: 1W | B17: =IF(A17="2½W",2.5/dagenperweek1,IF(RIGHT(A17,1)="W",VALUE(LEFT(A17,LEN(A17)-1))/dagenperweek1,IF(RIGHT(A17,1)="J",VALUE(LEFT(A17,LEN(A17)-1))/dagenperjaar1,IF(RIGHT(A17,1)="D",VALUE(LEFT(A17,LEN(A17)-1)),"handmatig!")))) -> 0.2
A18: 26J | B18: =IF(A18="2½W",2.5/dagenperweek1,IF(RIGHT(A18,1)="W",VALUE(LEFT(A18,LEN(A18)-1))/dagenperweek1,IF(RIGHT(A18,1)="J",VALUE(LEFT(A18,LEN(A18)-1))/dagenperjaar1,IF(RIGHT(A18,1)="D",VALUE(LEFT(A18,LEN(A18)-1)),"handmatig!")))) -> 0.10196078
A19: 12J | B19: =IF(A19="2½W",2.5/dagenperweek1,IF(RIGHT(A19,1)="W",VALUE(LEFT(A19,LEN(A19)-1))/dagenperweek1,IF(RIGHT(A19,1)="J",VALUE(LEFT(A19,LEN(A19)-1))/dagenperjaar1,IF(RIGHT(A19,1)="D",VALUE(LEFT(A19,LEN(A19)-1)),"handmatig!")))) -> 0.047058824
A20: 10J | B20: =IF(A20="2½W",2.5/dagenperweek1,IF(RIGHT(A20,1)="W",VALUE(LEFT(A20,LEN(A20)-1))/dagenperweek1,IF(RIGHT(A20,1)="J",VALUE(LEFT(A20,LEN(A20)-1))/dagenperjaar1,IF(RIGHT(A20,1)="D",VALUE(LEFT(A20,LEN(A20)-1)),"handmatig!")))) -> 0.039215686
A21: 9J | B21: =IF(A21="2½W",2.5/dagenperweek1,IF(RIGHT(A21,1)="W",VALUE(LEFT(A21,LEN(A21)-1))/dagenperweek1,IF(RIGHT(A21,1)="J",VALUE(LEFT(A21,LEN(A21)-1))/dagenperjaar1,IF(RIGHT(A21,1)="D",VALUE(LEFT(A21,LEN(A21)-1)),"handmatig!")))) -> 0.035294118
A22: 7J | B22: =IF(A22="2½W",2.5/dagenperweek1,IF(RIGHT(A22,1)="W",VALUE(LEFT(A22,LEN(A22)-1))/dagenperweek1,IF(RIGHT(A22,1)="J",VALUE(LEFT(A22,LEN(A22)-1))/dagenperjaar1,IF(RIGHT(A22,1)="D",VALUE(LEFT(A22,LEN(A22)-1)),"handmatig!")))) -> 0.02745098
A23: 6J | B23: =IF(A23="2½W",2.5/dagenperweek1,IF(RIGHT(A23,1)="W",VALUE(LEFT(A23,LEN(A23)-1))/dagenperweek1,IF(RIGHT(A23,1)="J",VALUE(LEFT(A23,LEN(A23)-1))/dagenperjaar1,IF(RIGHT(A23,1)="D",VALUE(LEFT(A23,LEN(A23)-1)),"handmatig!")))) -> 0.023529412
A24: 4J | B24: =IF(A24="2½W",2.5/dagenperweek1,IF(RIGHT(A24,1)="W",VALUE(LEFT(A24,LEN(A24)-1))/dagenperweek1,IF(RIGHT(A24,1)="J",VALUE(LEFT(A24,LEN(A24)-1))/dagenperjaar1,IF(RIGHT(A24,1)="D",VALUE(LEFT(A24,LEN(A24)-1)),"handmatig!")))) -> 0.015686275
... A27: 1J | B27: =IF(A27="2½W",2.5/dagenperweek1,IF(RIGHT(A27,1)="W",VALUE(LEFT(A27,LEN(A27)-1))/dagenperweek1,IF(RIGHT(A27,1)="J",VALUE(LEFT(A27,LEN(A27)-1))/dagenperjaar1,IF(RIGHT(A27,1)="D",VALUE(LEFT(A27,LEN(A27)-1)),"handmatig!")))) -> 0.0039215686

Sheet Tariefopbouw
A1: Opbouw uurtarief
B3: Regulier werk | D3: Regulier werk | F3: Regulier werk | H3: Regulier werk | J3: Regulier werk | L3: Regie werk | N3: Regie werk | P3: Regie werk
B4: Uitvoering | D4: Uitvoering | F4: Uitvoering | H4: Directe leiding | J4: Directe leiding | L4: Uitvoering | N4: Uitvoering | P4: Directe leiding
A5: ONDERDEEL | B5: Vakvolwassene | D5: Vakvolwassene | F5: Leiding (meewerkend) | H5: Leiding (niet-meewerkend) | J5: Leiding (niet-meewerkend) | L5: Vakvolwassene regie | N5: Vakvolwassene regie | P5: Leiding regie
A6: Loongroep/ervaring | B6: >3 dienstjaren | F6: voorman/vrouw | H6: voorman/vrouw | J6: objectleider | N6: specialist
A7: Basis uurloon (CAO)
A8: Basis toeslagen
A9: Totaal basisloon | B9: =SUM(B7:B8) -> 0 | D9: =SUM(D7:D8) -> 0 | F9: =SUM(F7:F8) -> 0 | H9: =SUM(H7:H8) -> 0 | J9: =SUM(J7:J8) -> 0 | L9: =SUM(L7:L8) -> 0 | N9: =SUM(N7:N8) -> 0 | P9: =SUM(P7:P8) -> 0
A10: Vakantietoeslag | C10: =TariefOpbouwBasisloon1*B10 -> 0 | E10: =TariefOpbouwBasisloon2*D10 -> 0 | G10: =TariefOpbouwBasisloon3*F10 -> 0 | I10: =TariefOpbouwBasisloon4*H10 -> 0 | K10: =TariefOpbouwBasisloon5*J10 -> 0 | M10: =TariefOpbouwBasisloon6*L10 -> 0 | O10: =TariefOpbouwBasisloon7*N10 -> 0 | Q10: =TariefOpbouwBasisloon8*P10 -> 0
A11: Overige structurele uitkeringen | C11: =TariefOpbouwBasisloon1*B11 -> 0 | E11: =TariefOpbouwBasisloon2*D11 -> 0 | G11: =TariefOpbouwBasisloon3*F11 -> 0 | I11: =TariefOpbouwBasisloon4*H11 -> 0 | K11: =TariefOpbouwBasisloon5*J11 -> 0 | M11: =TariefOpbouwBasisloon6*L11 -> 0 | O11: =TariefOpbouwBasisloon7*N11 -> 0 | Q11: =TariefOpbouwBasisloon8*P11 -> 0
A12: Totaal uurloon inclusief toeslagen | B12: =SUM(TariefOpbouwBasisloon1,C10:C11) -> 0 | D12: =SUM(TariefOpbouwBasisloon2,E10:E11) -> 0 | F12: =SUM(TariefOpbouwBasisloon3,G10:G11) -> 0 | H12: =SUM(TariefOpbouwBasisloon4,I10:I11) -> 0 | J12: =SUM(TariefOpbouwBasisloon5,K10:K11) -> 0 | L12: =SUM(TariefOpbouwBasisloon6,M10:M11) -> 0 | N12: =SUM(TariefOpbouwBasisloon7,O10:O11) -> 0 | P12: =SUM(TariefOpbouwBasisloon8,Q10:Q11) -> 0
A13: Sociale lasten | C13: =TariefOpbouwUurloon1*B13 -> 0 | E13: =TariefOpbouwUurloon2*D13 -> 0 | G13: =TariefOpbouwUurloon3*F13 -> 0 | I13: =TariefOpbouwUurloon4*H13 -> 0 | K13: =TariefOpbouwUurloon5*J13 -> 0 | M13: =TariefOpbouwUurloon6*L13 -> 0 | O13: =TariefOpbouwUurloon7*N13 -> 0 | Q13: =TariefOpbouwUurloon8*P13 -> 0
A14: Totaal uurloon inclusief sociale lasten | B14: =SUM(TariefOpbouwUurloon1,C13:C13) -> 0 | D14: =SUM(TariefOpbouwUurloon2,E13:E13) -> 0 | F14: =SUM(TariefOpbouwUurloon3,G13:G13) -> 0 | H14: =SUM(TariefOpbouwUurloon4,I13:I13) -> 0 | J14: =SUM(TariefOpbouwUurloon5,K13:K13) -> 0 | L14: =SUM(TariefOpbouwUurloon6,M13:M13) -> 0 | N14: =SUM(TariefOpbouwUurloon7,O13:O13) -> 0 | P14: =SUM(TariefOpbouwUurloon8,Q13:Q13) -> 0
A15: Vakantiedagen | C15: =TariefOpbouwUurloonkosten1*B15 -> 0 | E15: =TariefOpbouwUurloonkosten2*D15 -> 0 | G15: =TariefOpbouwUurloonkosten3*F15 -> 0 | I15: =TariefOpbouwUurloonkosten4*H15 -> 0 | K15: =TariefOpbouwUurloonkosten5*J15 -> 0 | M15: =TariefOpbouwUurloonkosten6*L15 -> 0 | O15: =TariefOpbouwUurloonkosten7*N15 -> 0 | Q15: =TariefOpbouwUurloonkosten8*P15 -> 0
A16: Betaalde feestdagen | C16: =TariefOpbouwUurloonkosten1*B16 -> 0 | E16: =TariefOpbouwUurloonkosten2*D16 -> 0 | G16: =TariefOpbouwUurloonkosten3*F16 -> 0 | I16: =TariefOpbouwUurloonkosten4*H16 -> 0 | K16: =TariefOpbouwUurloonkosten5*J16 -> 0 | M16: =TariefOpbouwUurloonkosten6*L16 -> 0 | O16: =TariefOpbouwUurloonkosten7*N16 -> 0 | Q16: =TariefOpbouwUurloonkosten8*P16 -> 0
A17: Ziektedagen | C17: =TariefOpbouwUurloonkosten1*B17 -> 0 | E17: =TariefOpbouwUurloonkosten2*D17 -> 0 | G17: =TariefOpbouwUurloonkosten3*F17 -> 0 | I17: =TariefOpbouwUurloonkosten4*H17 -> 0 | K17: =TariefOpbouwUurloonkosten5*J17 -> 0 | M17: =TariefOpbouwUurloonkosten6*L17 -> 0 | O17: =TariefOpbouwUurloonkosten7*N17 -> 0 | Q17: =TariefOpbouwUurloonkosten8*P17 -> 0
A18: Overige niet werkbare dagen | C18: =TariefOpbouwUurloonkosten1*B18 -> 0 | E18: =TariefOpbouwUurloonkosten2*D18 -> 0 | G18: =TariefOpbouwUurloonkosten3*F18 -> 0 | I18: =TariefOpbouwUurloonkosten4*H18 -> 0 | K18: =TariefOpbouwUurloonkosten5*J18 -> 0 | M18: =TariefOpbouwUurloonkosten6*L18 -> 0 | O18: =TariefOpbouwUurloonkosten7*N18 -> 0 | Q18: =TariefOpbouwUurloonkosten8*P18 -> 0
A19: TOTAAL LOONKOSTEN PER UUR | B19: =SUM(TariefOpbouwUurloonkosten1,C15:C18) -> 0 | D19: =SUM(TariefOpbouwUurloonkosten2,E15:E18) -> 0 | F19: =SUM(TariefOpbouwUurloonkosten3,G15:G18) -> 0 | H19: =SUM(TariefOpbouwUurloonkosten4,I15:I18) -> 0 | J19: =SUM(TariefOpbouwUurloonkosten5,K15:K18) -> 0 | L19: =SUM(TariefOpbouwUurloonkosten6,M15:M18) -> 0 | N19: =SUM(TariefOpbouwUurloonkosten7,O15:O18) -> 0 | P19: =SUM(TariefOpbouwUurloonkosten8,Q15:Q18) -> 0
A20: Materialen en middelen | C20: =TariefOpbouwTotaalLoonkosten1*B20 -> 0 | E20: =TariefOpbouwTotaalLoonkosten2*D20 -> 0 | G20: =TariefOpbouwTotaalLoonkosten3*F20 -> 0 | I20: =TariefOpbouwTotaalLoonkosten4*H20 -> 0 | K20: =TariefOpbouwTotaalLoonkosten5*J20 -> 0 | M20: =TariefOpbouwTotaalLoonkosten6*L20 -> 0 | O20: =TariefOpbouwTotaalLoonkosten7*N20 -> 0 | Q20: =TariefOpbouwTotaalLoonkosten8*P20 -> 0
A21: Machinekosten | C21: =TariefOpbouwTotaalLoonkosten1*B21 -> 0 | E21: =TariefOpbouwTotaalLoonkosten2*D21 -> 0 | G21: =TariefOpbouwTotaalLoonkosten3*F21 -> 0 | I21: =TariefOpbouwTotaalLoonkosten4*H21 -> 0 | K21: =TariefOpbouwTotaalLoonkosten5*J21 -> 0 | M21: =TariefOpbouwTotaalLoonkosten6*L21 -> 0 | O21: =TariefOpbouwTotaalLoonkosten7*N21 -> 0 | Q21: =TariefOpbouwTotaalLoonkosten8*P21 -> 0
A22: Werkkleding en uitrusting | C22: =TariefOpbouwTotaalLoonkosten1*B22 -> 0 | E22: =TariefOpbouwTotaalLoonkosten2*D22 -> 0 | G22: =TariefOpbouwTotaalLoonkosten3*F22 -> 0 | I22: =TariefOpbouwTotaalLoonkosten4*H22 -> 0 | K22: =TariefOpbouwTotaalLoonkosten5*J22 -> 0 | M22: =TariefOpbouwTotaalLoonkosten6*L22 -> 0 | O22: =TariefOpbouwTotaalLoonkosten7*N22 -> 0 | Q22: =TariefOpbouwTotaalLoonkosten8*P22 -> 0
A23: Afvalzakken | C23: =TariefOpbouwTotaalLoonkosten1*B23 -> 0 | E23: =TariefOpbouwTotaalLoonkosten2*D23 -> 0 | G23: =TariefOpbouwTotaalLoonkosten3*F23 -> 0 | I23: =TariefOpbouwTotaalLoonkosten4*H23 -> 0 | K23: =TariefOpbouwTotaalLoonkosten5*J23 -> 0 | M23: =TariefOpbouwTotaalLoonkosten6*L23 -> 0 | O23: =TariefOpbouwTotaalLoonkosten7*N23 -> 0 | Q23: =TariefOpbouwTotaalLoonkosten8*P23 -> 0
A24: Reiskosten/vervoerskosten/parkeergelden | C24: =TariefOpbouwTotaalLoonkosten1*B24 -> 0 | E24: =TariefOpbouwTotaalLoonkosten2*D24 -> 0 | G24: =TariefOpbouwTotaalLoonkosten3*F24 -> 0 | I24: =TariefOpbouwTotaalLoonkosten4*H24 -> 0 | K24: =TariefOpbouwTotaalLoonkosten5*J24 -> 0 | M24: =TariefOpbouwTotaalLoonkosten6*L24 -> 0 | O24: =TariefOpbouwTotaalLoonkosten7*N24 -> 0 | Q24: =TariefOpbouwTotaalLoonkosten8*P24 -> 0
A25: Overige directe kosten | C25: =TariefOpbouwTotaalLoonkosten1*B25 -> 0 | E25: =TariefOpbouwTotaalLoonkosten2*D25 -> 0 | G25: =TariefOpbouwTotaalLoonkosten3*F25 -> 0 | I25: =TariefOpbouwTotaalLoonkosten4*H25 -> 0 | K25: =TariefOpbouwTotaalLoonkosten5*J25 -> 0 | M25: =TariefOpbouwTotaalLoonkosten6*L25 -> 0 | O25: =TariefOpbouwTotaalLoonkosten7*N25 -> 0 | Q25: =TariefOpbouwTotaalLoonkosten8*P25 -> 0
A26: TOTAAL DIRECTE KOSTEN | B26: =SUM(TariefOpbouwTotaalLoonkosten1,C20:C25) -> 0 | D26: =SUM(TariefOpbouwTotaalLoonkosten2,E20:E25) -> 0 | F26: =SUM(TariefOpbouwTotaalLoonkosten3,G20:G25) -> 0 | H26: =SUM(TariefOpbouwTotaalLoonkosten4,I20:I25) -> 0 | J26: =SUM(TariefOpbouwTotaalLoonkosten5,K20:K25) -> 0 | L26: =SUM(TariefOpbouwTotaalLoonkosten6,M20:M25) -> 0 | N26: =SUM(TariefOpbouwTotaalLoonkosten7,O20:O25) -> 0 | P26: =SUM(TariefOpbouwTotaalLoonkosten8,Q20:Q25) -> 0
A28: Indirecte leiding | C28: =TariefOpbouwDirecteKosten1*B28 -> 0 | E28: =TariefOpbouwDirecteKosten2*D28 -> 0 | G28: =TariefOpbouwDirecteKosten3*F28 -> 0 | I28: =TariefOpbouwDirecteKosten4*H28 -> 0 | K28: =TariefOpbouwDirecteKosten5*J28 -> 0 | M28: =TariefOpbouwDirecteKosten6*L28 -> 0 | O28: =TariefOpbouwDirecteKosten7*N28 -> 0 | Q28: =TariefOpbouwDirecteKosten8*P28 -> 0
A29: Managementkosten | C29: =TariefOpbouwDirecteKosten1*B29 -> 0 | E29: =TariefOpbouwDirecteKosten2*D29 -> 0 | G29: =TariefOpbouwDirecteKosten3*F29 -> 0 | I29: =TariefOpbouwDirecteKosten4*H29 -> 0 | K29: =TariefOpbouwDirecteKosten5*J29 -> 0 | M29: =TariefOpbouwDirecteKosten6*L29 -> 0 | O29: =TariefOpbouwDirecteKosten7*N29 -> 0 | Q29: =TariefOpbouwDirecteKosten8*P29 -> 0
A30: P.Z. kosten | C30: =TariefOpbouwDirecteKosten1*B30 -> 0 | E30: =TariefOpbouwDirecteKosten2*D30 -> 0 | G30: =TariefOpbouwDirecteKosten3*F30 -> 0 | I30: =TariefOpbouwDirecteKosten4*H30 -> 0 | K30: =TariefOpbouwDirecteKosten5*J30 -> 0 | M30: =TariefOpbouwDirecteKosten6*L30 -> 0 | O30: =TariefOpbouwDirecteKosten7*N30 -> 0 | Q30: =TariefOpbouwDirecteKosten8*P30 -> 0
A31: Opleiding | C31: =TariefOpbouwDirecteKosten1*B31 -> 0 | E31: =TariefOpbouwDirecteKosten2*D31 -> 0 | G31: =TariefOpbouwDirecteKosten3*F31 -> 0 | I31: =TariefOpbouwDirecteKosten4*H31 -> 0 | K31: =TariefOpbouwDirecteKosten5*J31 -> 0 | M31: =TariefOpbouwDirecteKosten6*L31 -> 0 | O31: =TariefOpbouwDirecteKosten7*N31 -> 0 | Q31: =TariefOpbouwDirecteKosten8*P31 -> 0
A32: Huisvesting | C32: =TariefOpbouwDirecteKosten1*B32 -> 0 | E32: =TariefOpbouwDirecteKosten2*D32 -> 0 | G32: =TariefOpbouwDirecteKosten3*F32 -> 0 | I32: =TariefOpbouwDirecteKosten4*H32 -> 0 | K32: =TariefOpbouwDirecteKosten5*J32 -> 0 | M32: =TariefOpbouwDirecteKosten6*L32 -> 0 | O32: =TariefOpbouwDirecteKosten7*N32 -> 0 | Q32: =TariefOpbouwDirecteKosten8*P32 -> 0
A33: Administratiekosten | C33: =TariefOpbouwDirecteKosten1*B33 -> 0 | E33: =TariefOpbouwDirecteKosten2*D33 -> 0 | G33: =TariefOpbouwDirecteKosten3*F33 -> 0 | I33: =TariefOpbouwDirecteKosten4*H33 -> 0 | K33: =TariefOpbouwDirecteKosten5*J33 -> 0 | M33: =TariefOpbouwDirecteKosten6*L33 -> 0 | O33: =TariefOpbouwDirecteKosten7*N33 -> 0 | Q33: =TariefOpbouwDirecteKosten8*P33 -> 0
A34: Overige overhead | C34: =TariefOpbouwDirecteKosten1*B34 -> 0 | E34: =TariefOpbouwDirecteKosten2*D34 -> 0 | G34: =TariefOpbouwDirecteKosten3*F34 -> 0 | I34: =TariefOpbouwDirecteKosten4*H34 -> 0 | K34: =TariefOpbouwDirecteKosten5*J34 -> 0 | M34: =TariefOpbouwDirecteKosten6*L34 -> 0 | O34: =TariefOpbouwDirecteKosten7*N34 -> 0 | Q34: =TariefOpbouwDirecteKosten8*P34 -> 0
A35: TOTAAL INDIRECTE KOSTEN | B35: =SUM(C28:C34) -> 0 | D35: =SUM(E28:E34) -> 0 | F35: =SUM(G28:G34) -> 0 | H35: =SUM(I28:I34) -> 0 | J35: =SUM(K28:K34) -> 0 | L35: =SUM(M28:M34) -> 0 | N35: =SUM(O28:O34) -> 0 | P35: =SUM(Q28:Q34) -> 0
A37: RISICO EN WINST | C37: =(TariefOpbouwDirecteKosten1+TariefOpbouwIndirecteKosten1)*B37 -> 0 | E37: =(TariefOpbouwDirecteKosten2+TariefOpbouwIndirecteKosten2)*D37 -> 0 | G37: =(TariefOpbouwDirecteKosten3+TariefOpbouwIndirecteKosten3)*F37 -> 0 | I37: =(TariefOpbouwDirecteKosten4+TariefOpbouwIndirecteKosten4)*H37 -> 0 | K37: =(TariefOpbouwDirecteKosten5+TariefOpbouwIndirecteKosten5)*J37 -> 0 | M37: =(TariefOpbouwDirecteKosten6+TariefOpbouwIndirecteKosten6)*L37 -> 0 | O37: =(TariefOpbouwDirecteKosten7+TariefOpbouwIndirecteKosten7)*N37 -> 0 | Q37: =(TariefOpbouwDirecteKosten8+TariefOpbouwIndirecteKosten8)*P37 -> 0
A39: TOTAAL UURTARIEF (excl. BTW) | B39: =TariefOpbouwDirecteKosten1+TariefOpbouwIndirecteKosten1+TariefOpbouwRisicoWinst1 -> 0 | D39: =TariefOpbouwDirecteKosten2+TariefOpbouwIndirecteKosten2+TariefOpbouwRisicoWinst2 -> 0 | F39: =TariefOpbouwDirecteKosten3+TariefOpbouwIndirecteKosten3+TariefOpbouwRisicoWinst3 -> 0 | H39: =TariefOpbouwDirecteKosten4+TariefOpbouwIndirecteKosten4+TariefOpbouwRisicoWinst4 -> 0 | J39: =TariefOpbouwDirecteKosten5+TariefOpbouwIndirecteKosten5+TariefOpbouwRisicoWinst5 -> 0 | L39: =TariefOpbouwDirecteKosten6+TariefOpbouwIndirecteKosten6+TariefOpbouwRisicoWinst6 -> 0 | N39: =TariefOpbouwDirecteKosten7+TariefOpbouwIndirecteKosten7+TariefOpbouwRisicoWinst7 -> 0 | P39: =TariefOpbouwDirecteKosten8+TariefOpbouwIndirecteKosten8+TariefOpbouwRisicoWinst8 -> 0
A40: Onregelmatigheids tijdstip: | B40: toeslag | C40: tarief | D40: toeslag | E40: tarief | F40: toeslag | G40: tarief | H40: toeslag | I40: tarief | J40: toeslag | K40: tarief | L40: toeslag | M40: tarief | N40: toeslag | O40: tarief | P40: toeslag | Q40: tarief
A41: - DN: ma-vr nacht | B41: 0.3 | C41: =((1+B41)*TariefOpbouwTotaalLoonkosten1+TariefOpbouwDirecteKosten1-TariefOpbouwTotaalLoonkosten1+TariefOpbouwIndirecteKosten1)*(1+TariefOpbouwRisicoWinstPercentage1) -> 0 | D41: 0.3 | E41: =((1+D41)*TariefOpbouwTotaalLoonkosten2+TariefOpbouwDirecteKosten2-TariefOpbouwTotaalLoonkosten2+TariefOpbouwIndirecteKosten2)*(1+TariefOpbouwRisicoWinstPercentage2) -> 0 | F41: 0.3 | G41: =((1+F41)*TariefOpbouwTotaalLoonkosten3+TariefOpbouwDirecteKosten3-TariefOpbouwTotaalLoonkosten3+TariefOpbouwIndirecteKosten3)*(1+TariefOpbouwRisicoWinstPercentage3) -> 0 | H41: 0.3 | I41: =((1+H41)*TariefOpbouwTotaalLoonkosten4+TariefOpbouwDirecteKosten4-TariefOpbouwTotaalLoonkosten4+TariefOpbouwIndirecteKosten4)*(1+TariefOpbouwRisicoWinstPercentage4) -> 0 | J41: 0.3 | K41: =((1+J41)*TariefOpbouwTotaalLoonkosten5+TariefOpbouwDirecteKosten5-TariefOpbouwTotaalLoonkosten5+TariefOpbouwIndirecteKosten5)*(1+TariefOpbouwRisicoWinstPercentage5) -> 0 | L41: 0.3 | M41: =((1+L41)*TariefOpbouwTotaalLoonkosten6+TariefOpbouwDirecteKosten6-TariefOpbouwTotaalLoonkosten6+TariefOpbouwIndirecteKosten6)*(1+TariefOpbouwRisicoWinstPercentage6) -> 0 | N41: 0.3 | O41: =((1+N41)*TariefOpbouwTotaalLoonkosten7+TariefOpbouwDirecteKosten7-TariefOpbouwTotaalLoonkosten7+TariefOpbouwIndirecteKosten7)*(1+TariefOpbouwRisicoWinstPercentage7) -> 0 | P41: 0.3 | Q41: =((1+P41)*TariefOpbouwTotaalLoonkosten8+TariefOpbouwDirecteKosten8-TariefOpbouwTotaalLoonkosten8+TariefOpbouwIndirecteKosten8)*(1+TariefOpbouwRisicoWinstPercentage8) -> 0
A42: - W: weekend | B42: 0.5 | C42: =((1+B42)*TariefOpbouwTotaalLoonkosten1+TariefOpbouwDirecteKosten1-TariefOpbouwTotaalLoonkosten1+TariefOpbouwIndirecteKosten1)*(1+TariefOpbouwRisicoWinstPercentage1) -> 0 | D42: 0.5 | E42: =((1+D42)*TariefOpbouwTotaalLoonkosten2+TariefOpbouwDirecteKosten2-TariefOpbouwTotaalLoonkosten2+TariefOpbouwIndirecteKosten2)*(1+TariefOpbouwRisicoWinstPercentage2) -> 0 | F42: 0.5 | G42: =((1+F42)*TariefOpbouwTotaalLoonkosten3+TariefOpbouwDirecteKosten3-TariefOpbouwTotaalLoonkosten3+TariefOpbouwIndirecteKosten3)*(1+TariefOpbouwRisicoWinstPercentage3) -> 0 | H42: 0.5 | I42: =((1+H42)*TariefOpbouwTotaalLoonkosten4+TariefOpbouwDirecteKosten4-TariefOpbouwTotaalLoonkosten4+TariefOpbouwIndirecteKosten4)*(1+TariefOpbouwRisicoWinstPercentage4) -> 0 | J42: 0.5 | K42: =((1+J42)*TariefOpbouwTotaalLoonkosten5+TariefOpbouwDirecteKosten5-TariefOpbouwTotaalLoonkosten5+TariefOpbouwIndirecteKosten5)*(1+TariefOpbouwRisicoWinstPercentage5) -> 0 | L42: 0.5 | M42: =((1+L42)*TariefOpbouwTotaalLoonkosten6+TariefOpbouwDirecteKosten6-TariefOpbouwTotaalLoonkosten6+TariefOpbouwIndirecteKosten6)*(1+TariefOpbouwRisicoWinstPercentage6) -> 0 | N42: 0.5 | O42: =((1+N42)*TariefOpbouwTotaalLoonkosten7+TariefOpbouwDirecteKosten7-TariefOpbouwTotaalLoonkosten7+TariefOpbouwIndirecteKosten7)*(1+TariefOpbouwRisicoWinstPercentage7) -> 0 | P42: 0.5 | Q42: =((1+P42)*TariefOpbouwTotaalLoonkosten8+TariefOpbouwDirecteKosten8-TariefOpbouwTotaalLoonkosten8+TariefOpbouwIndirecteKosten8)*(1+TariefOpbouwRisicoWinstPercentage8) -> 0
A43: - X: feestdag | B43: 1.5 | C43: =((1+B43)*TariefOpbouwTotaalLoonkosten1+TariefOpbouwDirecteKosten1-TariefOpbouwTotaalLoonkosten1+TariefOpbouwIndirecteKosten1)*(1+TariefOpbouwRisicoWinstPercentage1) -> 0 | D43: 1.5 | E43: =((1+D43)*TariefOpbouwTotaalLoonkosten2+TariefOpbouwDirecteKosten2-TariefOpbouwTotaalLoonkosten2+TariefOpbouwIndirecteKosten2)*(1+TariefOpbouwRisicoWinstPercentage2) -> 0 | F43: 1.5 | G43: =((1+F43)*TariefOpbouwTotaalLoonkosten3+TariefOpbouwDirecteKosten3-TariefOpbouwTotaalLoonkosten3+TariefOpbouwIndirecteKosten3)*(1+TariefOpbouwRisicoWinstPercentage3) -> 0 | H43: 1.5 | I43: =((1+H43)*TariefOpbouwTotaalLoonkosten4+TariefOpbouwDirecteKosten4-TariefOpbouwTotaalLoonkosten4+TariefOpbouwIndirecteKosten4)*(1+TariefOpbouwRisicoWinstPercentage4) -> 0 | J43: 1.5 | K43: =((1+J43)*TariefOpbouwTotaalLoonkosten5+TariefOpbouwDirecteKosten5-TariefOpbouwTotaalLoonkosten5+TariefOpbouwIndirecteKosten5)*(1+TariefOpbouwRisicoWinstPercentage5) -> 0 | L43: 1.5 | M43: =((1+L43)*TariefOpbouwTotaalLoonkosten6+TariefOpbouwDirecteKosten6-TariefOpbouwTotaalLoonkosten6+TariefOpbouwIndirecteKosten6)*(1+TariefOpbouwRisicoWinstPercentage6) -> 0 | N43: 1.5 | O43: =((1+N43)*TariefOpbouwTotaalLoonkosten7+TariefOpbouwDirecteKosten7-TariefOpbouwTotaalLoonkosten7+TariefOpbouwIndirecteKosten7)*(1+TariefOpbouwRisicoWinstPercentage7) -> 0 | P43: 1.5 | Q43: =((1+P43)*TariefOpbouwTotaalLoonkosten8+TariefOpbouwDirecteKosten8-TariefOpbouwTotaalLoonkosten8+TariefOpbouwIndirecteKosten8)*(1+TariefOpbouwRisicoWinstPercentage8) -> 0
A45: TARIEVEN REGULIER WERK | B45: Werkdag | D45: Weekend | F45: Feestdag
...

Sheet Categorienormen
A1: =CONCATENATE("Bijlage G.1: ",tabeltype," categorienormen") -> Bijlage G.1: Invultabel categorienormen
A3: NORM-CODE | B3: CATEGORIE | C3: DAGEN/JAAR | D3: OMSCHRIJVING | E3: PRODUCTIE-NORM | F3: % HOOG-FREQUENT | G3: EENHEID | H3: TARIEF (EURO)
A5: WERKDAG
A6: BCHB | B6: B | C6: 1 | D6: Belcel harde vloer (basis) | G6: m²/uur | H6: =Tariefopbouw1 -> 0
A7: BCHV | B7: B | C7: 51 | D7: Belcel harde vloer (volledig) | G7: m²/uur | H7: =Tariefopbouw1 -> 0
A8: BKHB | B8: B | C8: 1 | D8: Kantoorruimte hard (basis) | G8: m²/uur | H8: =Tariefopbouw1 -> 0
A9: BKHV | B9: B | C9: 51 | D9: Kantoorruimte hard (volledig) | G9: m²/uur | H9: =Tariefopbouw1 -> 0
A10: BKZB | B10: B | C10: 1 | D10: Kantoorruimte zacht (basis) | G10: m²/uur | H10: =Tariefopbouw1 -> 0
A11: BKZV | B11: B | C11: 51 | D11: Kantoorruimte zacht (volledig) | G11: m²/uur | H11: =Tariefopbouw1 -> 0
A12: BRHB | B12: B | C12: 1 | D12: Receptie/ontvangst/wachtruimte - hard (basis) | G12: m²/uur | H12: =Tariefopbouw1 -> 0
A13: BRHV | B13: B | C13: 51 | D13: Receptie/ontvangst/wachtruimte - hard (volledig) | G13: m²/uur | H13: =Tariefopbouw1 -> 0
A14: BVHB | B14: B | C14: 1 | D14: Spreek-/overleg-/vergaderruimte/studio hard (basis) | G14: m²/uur | H14: =Tariefopbouw1 -> 0
A15: BVHV | B15: B | C15: 51 | D15: Spreek-/overleg-/vergaderruimte/studio hard (volledig) | G15: m²/uur | H15: =Tariefopbouw1 -> 0
A16: BVZB | B16: B | C16: 1 | D16: Spreek-/overleg-/vergaderruimte/studio zacht (basis) | G16: m²/uur | H16: =Tariefopbouw1 -> 0
A17: BVZV | B17: B | C17: 51 | D17: Spreek-/overleg-/vergaderruimte/studio zacht (volledig) | G17: m²/uur | H17: =Tariefopbouw1 -> 0
... A76: VTZV | B76: V | C76: 51 | D76: Trappenhuis/trap zacht (volledig) | G76: m²/uur | H76: =Tariefopbouw1 -> 0

Sheet Regulier werk
A1: =CONCATENATE("Bijlage G.2: ",tabeltype," regulier werk") -> Bijlage G.2: Invultabel regulier werk
A3: TAAK | B3: FREQ | C3: WERK- SOORT | D3: OMSCHRIJVING | E3: OPP OF AANTAL | F3: OPP OF AANTAL /DAG | G3: PRODUCTIE-NORM | H3: EENHEID | I3: TARIEF (EURO) | J3: UREN/ DAG | K3: PRIJS/ DAG | L3: UREN/ JAAR | M3: PRIJS/ JAAR
A5: WERKDAG
A6: BBH | B6: 12J | C6: interieur | D6: Behandel-/onderzoeksruimte harde vloeren | E6: 6 | F6: =E6*VLOOKUP(B6,dagsoorttabel1,2,FALSE) -> 0.28235294 | G6: =catpn_1_BBHV_12 -> 0 | H6: m²/uur | I6: =cattf_1_BBHV_12 -> 0 | J6: =IF(OR(ISBLANK(G6),G6=0),0,F6/ROUND(G6,4)) -> 0 | K6: =ROUND(I6,2)*J6 -> 0 | L6: =J6*dagenperjaar1 -> 0 | M6: =L6*ROUND(I6,2) -> 0
A7: BCH | B7: 1W | C7: interieur | D7: Belcel harde vloer | E7: 2 | F7: =E7*VLOOKUP(B7,dagsoorttabel1,2,FALSE) -> 0.4 | G7: =IF(AND(catpn_1_BCHB_1>0,catpn_1_BCHV_51>0),(dagenperjaar1*VLOOKUP(B7,dagsoorttabel1,2,FALSE))/(((dagenperjaar1*VLOOKUP(B7,dagsoorttabel1,2,FALSE))-catfd_1_BCHV_51)/catpn_1_BCHB_1+catfd_1_BCHV_51/catpn_1_BCHV_51),0) -> 0 | H7: m²/uur | I7: =IF(AND(catpn_1_BCHB_1>0,catpn_1_BCHV_51>0),(cattf_1_BCHB_1*((dagenperjaar1*VLOOKUP(B7,dagsoorttabel1,2,FALSE))-catfd_1_BCHV_51)/catpn_1_BCHB_1+cattf_1_BCHV_51*catfd_1_BCHV_51/catpn_1_BCHV_51)/(((dagenperjaar1*VLOOKUP(B7,dagsoorttabel1,2,FALSE))-catfd_1_BCHV_51)/catpn_1_BCHB_1+catfd_1_BCHV_51/catpn_1_BCHV_51),0) -> 0 | J7: =IF(OR(ISBLANK(G7),G7=0),0,F7/ROUND(G7,4)) -> 0 | K7: =ROUND(I7,2)*J7 -> 0 | L7: =J7*dagenperjaar1 -> 0 | M7: =L7*ROUND(I7,2) -> 0
A8: BCH | B8: 2W | C8: interieur | D8: Belcel harde vloer | E8: 2.4 | F8: =E8*VLOOKUP(B8,dagsoorttabel1,2,FALSE) -> 0.96 | G8: =IF(AND(catpn_1_BKHB_1>0,catpn_1_BKHV_51>0),(dagenperjaar1*VLOOKUP(B8,dagsoorttabel1,2,FALSE))/(((dagenperjaar1*VLOOKUP(B8,dagsoorttabel1,2,FALSE))-catfd_1_BKHV_51)/catpn_1_BKHB_1+catfd_1_BKHV_51/catpn_1_BKHV_51),0) -> 0 | H8: m²/uur | I8: =IF(AND(catpn_1_BKHB_1>0,catpn_1_BKHV_51>0),(cattf_1_BKHB_1*((dagenperjaar1*VLOOKUP(B8,dagsoorttabel1,2,FALSE))-catfd_1_BKHV_51)/catpn_1_BKHB_1+cattf_1_BKHV_51*catfd_1_BKHV_51/catpn_1_BKHV_51)/(((dagenperjaar1*VLOOKUP(B8,dagsoorttabel1,2,FALSE))-catfd_1_BKHV_51)/catpn_1_BKHB_1+catfd_1_BKHV_51/catpn_1_BKHV_51),0) -> 0 | J8: =IF(OR(ISBLANK(G8),G8=0),0,F8/ROUND(G8,4)) -> 0 | K8: =ROUND(I8,2)*J8 -> 0 | L8: =J8*dagenperjaar1 -> 0 | M8: =L8*ROUND(I8,2) -> 0
A9: BKH | B9: 1W | C9: interieur | D9: Kantoorruimte harde vloer | E9: 170.9 | F9: =E9*VLOOKUP(B9,dagsoorttabel1,2,FALSE) -> 34.18 | G9: =IF(AND(catpn_1_BKHB_1>0,catpn_1_BKHV_51>0),(dagenperjaar1*VLOOKUP(B9,dagsoorttabel1,2,FALSE))/(((dagenperjaar1*VLOOKUP(B9,dagsoorttabel1,2,FALSE))-catfd_1_BKHV_51)/catpn_1_BKHB_1+catfd_1_BKHV_51/catpn_1_BKHV_51),0) -> 0 | H9: m²/uur | I9: =IF(AND(catpn_1_BKHB_1>0,catpn_1_BKHV_51>0),(cattf_1_BKHB_1*((dagenperjaar1*VLOOKUP(B9,dagsoorttabel1,2,FALSE))-catfd_1_BKHV_51)/catpn_1_BKHB_1+cattf_1_BKHV_51*catfd_1_BKHV_51/catpn_1_BKHV_51)/(((dagenperjaar1*VLOOKUP(B9,dagsoorttabel1,2,FALSE))-catfd_1_BKHV_51)/catpn_1_BKHB_1+catfd_1_BKHV_51/catpn_1_BKHV_51),0) -> 0 | J9: =IF(OR(ISBLANK(G9),G9=0),0,F9/ROUND(G9,4)) -> 0 | K9: =ROUND(I9,2)*J9 -> 0 | L9: =J9*dagenperjaar1 -> 0 | M9: =L9*ROUND(I9,2) -> 0
A10: BKH | B10: 26J | C10: interieur | D10: Kantoorruimte harde vloer | E10: 42 | F10: =E10*VLOOKUP(B10,dagsoorttabel1,2,FALSE) -> 4.2823529 | G10: =catpn_1_BKHV_51 -> 0 | H10: m²/uur | I10: =cattf_1_BKHV_51 -> 0 | J10: =IF(OR(ISBLANK(G10),G10=0),0,F10/ROUND(G10,4)) -> 0 | K10: =ROUND(I10,2)*J10 -> 0 | L10: =J10*dagenperjaar1 -> 0 | M10: =L10*ROUND(I10,2) -> 0
A11: BKH | B11: 2W | C11: interieur | D11: Kantoorruimte harde vloer | E11: 392.7 | F11: =E11*VLOOKUP(B11,dagsoorttabel1,2,FALSE) -> 157.08 | G11: =IF(AND(catpn_1_BKHB_1>0,catpn_1_BKHV_51>0),(dagenperjaar1*VLOOKUP(B11,dagsoorttabel1,2,FALSE))/(((dagenperjaar1*VLOOKUP(B11,dagsoorttabel1,2,FALSE))-catfd_1_BKHV_51)/catpn_1_BKHB_1+catfd_1_BKHV_51/catpn_1_BKHV_51),0) -> 0 | H11: m²/uur | I11: =IF(AND(catpn_1_BKHB_1>0,catpn_1_BKHV_51>0),(cattf_1_BKHB_1*((dagenperjaar1*VLOOKUP(B11,dagsoorttabel1,2,FALSE))-catfd_1_BKHV_51)/catpn_1_BKHB_1+cattf_1_BKHV_51*catfd_1_BKHV_51/catpn_1_BKHV_51)/(((dagenperjaar1*VLOOKUP(B11,dagsoorttabel1,2,FALSE))-catfd_1_BKHV_51)/catpn_1_BKHB_1+catfd_1_BKHV_51/catpn_1_BKHV_51),0) -> 0 | J11: =IF(OR(ISBLANK(G11),G11=0),0,F11/ROUND(G11,4)) -> 0 | K11: =ROUND(I11,2)*J11 -> 0 | L11: =J11*dagenperjaar1 -> 0 | M11: =L11*ROUND(I11,2) -> 0
A12: BKH | B12: 3W | C12: interieur | D12: Kantoorruimte harde vloer | E12: 534.51 | F12: =E12*VLOOKUP(B12,dagsoorttabel1,2,FALSE) -> 320.706 | G12: =catpn_1_BKHV_51 -> 0 | H12: m²/uur | I12: =cattf_1_BKHV_51 -> 0 | J12: =IF(OR(ISBLANK(G12),G12=0),0,F12/ROUND(G12,4)) -> 0 | K12: =ROUND(I12,2)*J12 -> 0 | L12: =J12*dagenperjaar1 -> 0 | M12: =L12*ROUND(I12,2) -> 0
A13: BKH | B13: 5W | C13: interieur | D13: Kantoorruimte harde vloer | E13: 337.73 | F13: =E13*VLOOKUP(B13,dagsoorttabel1,2,FALSE) -> 337.73 | G13: =IF(AND(catpn_1_BKHB_1>0,catpn_1_BKHV_51>0),(dagenperjaar1*VLOOKUP(B13,dagsoorttabel1,2,FALSE))/(((dagenperjaar1*VLOOKUP(B13,dagsoorttabel1,2,FALSE))-catfd_1_BKHV_51)/catpn_1_BKHB_1+catfd_1_BKHV_51/catpn_1_BKHV_51),0) -> 0 | H13: m²/uur | I13: =IF(AND(catpn_1_BKHB_1>0,catpn_1_BKHV_51>0),(cattf_1_BKHB_1*((dagenperjaar1*VLOOKUP(B13,dagsoorttabel1,2,FALSE))-catfd_1_BKHV_51)/catpn_1_BKHB_1+cattf_1_BKHV_51*catfd_1_BKHV_51/catpn_1_BKHV_51)/(((dagenperjaar1*VLOOKUP(B13,dagsoorttabel1,2,FALSE))-catfd_1_BKHV_51)/catpn_1_BKHB_1+catfd_1_BKHV_51/catpn_1_BKHV_51),0) -> 0 | J13: =IF(OR(ISBLANK(G13),G13=0),0,F13/ROUND(G13,4)) -> 0 | K13: =ROUND(I13,2)*J13 -> 0 | L13: =J13*dagenperjaar1 -> 0 | M13: =L13*ROUND(I13,2) -> 0
A14: BKZ | B14: 1W | C14: interieur | D14: Kantoorruimte zachte vloer | E14: 112.9 | F14: =E14*VLOOKUP(B14,dagsoorttabel1,2,FALSE) -> 22.58 | G14: =IF(AND(catpn_1_BKZB_1>0,catpn_1_BKZV_51>0),(dagenperjaar1*VLOOKUP(B14,dagsoorttabel1,2,FALSE))/(((dagenperjaar1*VLOOKUP(B14,dagsoorttabel1,2,FALSE))-catfd_1_BKZV_51)/catpn_1_BKZB_1+catfd_1_BKZV_51/catpn_1_BKZV_51),0) -> 0 | H14: m²/uur | I14: =IF(AND(catpn_1_BKZB_1>0,catpn_1_BKZV_51>0),(cattf_1_BKZB_1*((dagenperjaar1*VLOOKUP(B14,dagsoorttabel1,2,FALSE))-catfd_1_BKZV_51)/catpn_1_BKZB_1+cattf_1_BKZV_51*catfd_1_BKZV_51/catpn_1_BKZV_51)/(((dagenperjaar1*VLOOKUP(B14,dagsoorttabel1,2,FALSE))-catfd_1_BKZV_51)/catpn_1_BKZB_1+catfd_1_BKZV_51/catpn_1_BKZV_51),0) -> 0 | J14: =IF(OR(ISBLANK(G14),G14=0),0,F14/ROUND(G14,4)) -> 0 | K14: =ROUND(I14,2)*J14 -> 0 | L14: =J14*dagenperjaar1 -> 0 | M14: =L14*ROUND(I14,2) -> 0
A15: BKZ | B15: 3W | C15: interieur | D15: Kantoorruimte zachte vloer | E15: 199.1 | F15: =E15*VLOOKUP(B15,dagsoorttabel1,2,FALSE) -> 119.46 | G15: =IF(AND(catpn_1_BKZB_1>0,catpn_1_BKHV_51>0),(dagenperjaar1*VLOOKUP(B15,dagsoorttabel1,2,FALSE))/(((dagenperjaar1*VLOOKUP(B15,dagsoorttabel1,2,FALSE))-catfd_1_BKHV_51)/catpn_1_BKZB_1+catfd_1_BKHV_51/catpn_1_BKHV_51),0) -> 0 | H15: m²/uur | I15: =IF(AND(catpn_1_BKZB_1>0,catpn_1_BKHV_51>0),(cattf_1_BKZB_1*((dagenperjaar1*VLOOKUP(B15,dagsoorttabel1,2,FALSE))-catfd_1_BKHV_51)/catpn_1_BKZB_1+cattf_1_BKHV_51*catfd_1_BKHV_51/catpn_1_BKHV_51)/(((dagenperjaar1*VLOOKUP(B15,dagsoorttabel1,2,FALSE))-catfd_1_BKHV_51)/catpn_1_BKZB_1+catfd_1_BKHV_51/catpn_1_BKHV_51),0) -> 0 | J15: =IF(OR(ISBLANK(G15),G15=0),0,F15/ROUND(G15,4)) -> 0 | K15: =ROUND(I15,2)*J15 -> 0 | L15: =J15*dagenperjaar1 -> 0 | M15: =L15*ROUND(I15,2) -> 0
A16: BKZ | B16: 4W | C16: interieur | D16: Kantoorruimte zachte vloer | E16: 1320.69 | F16: =E16*VLOOKUP(B16,dagsoorttabel1,2,FALSE) -> 1056.552 | G16: =IF(AND(catpn_1_BKZB_1>0,catpn_1_BKZV_51>0),(dagenperjaar1*VLOOKUP(B16,dagsoorttabel1,2,FALSE))/(((dagenperjaar1*VLOOKUP(B16,dagsoorttabel1,2,FALSE))-catfd_1_BKZV_51)/catpn_1_BKZB_1+catfd_1_BKZV_51/catpn_1_BKZV_51),0) -> 0 | H16: m²/uur | I16: =IF(AND(catpn_1_BKZB_1>0,catpn_1_BKZV_51>0),(cattf_1_BKZB_1*((dagenperjaar1*VLOOKUP(B16,dagsoorttabel1,2,FALSE))-catfd_1_BKZV_51)/catpn_1_BKZB_1+cattf_1_BKZV_51*catfd_1_BKZV_51/catpn_1_BKZV_51)/(((dagenperjaar1*VLOOKUP(B16,dagsoorttabel1,2,FALSE))-catfd_1_BKZV_51)/catpn_1_BKZB_1+catfd_1_BKZV_51/catpn_1_BKZV_51),0) -> 0 | J16: =IF(OR(ISBLANK(G16),G16=0),0,F16/ROUND(G16,4)) -> 0 | K16: =ROUND(I16,2)*J16 -> 0 | L16: =J16*dagenperjaar1 -> 0 | M16: =L16*ROUND(I16,2) -> 0
A17: BKZ | B17: 5W | C17: interieur | D17: Kantoorruimte zachte vloer | E17: 2071 | F17: =E17*VLOOKUP(B17,dagsoorttabel1,2,FALSE) -> 2071 | G17: =IF(AND(catpn_1_BKZB_1>0,catpn_1_BKZV_51>0),(dagenperjaar1*VLOOKUP(B17,dagsoorttabel1,2,FALSE))/(((dagenperjaar1*VLOOKUP(B17,dagsoorttabel1,2,FALSE))-catfd_1_BKZV_51)/catpn_1_BKZB_1+catfd_1_BKZV_51/catpn_1_BKZV_51),0) -> 0 | H17: m²/uur | I17: =IF(AND(catpn_1_BKZB_1>0,catpn_1_BKZV_51>0),(cattf_1_BKZB_1*((dagenperjaar1*VLOOKUP(B17,dagsoorttabel1,2,FALSE))-catfd_1_BKZV_51)/catpn_1_BKZB_1+cattf_1_BKZV_51*catfd_1_BKZV_51/catpn_1_BKZV_51)/(((dagenperjaar1*VLOOKUP(B17,dagsoorttabel1,2,FALSE))-catfd_1_BKZV_51)/catpn_1_BKZB_1+catfd_1_BKZV_51/catpn_1_BKZV_51),0) -> 0 | J17: =IF(OR(ISBLANK(G17),G17=0),0,F17/ROUND(G17,4)) -> 0 | K17: =ROUND(I17,2)*J17 -> 0 | L17: =J17*dagenperjaar1 -> 0 | M17: =L17*ROUND(I17,2) -> 0
A18: BRH | B18: 5W | C18: interieur | D18: Receptie/ontvangst-/wachtruimte harde vloer | E18: 14.8 | F18: =E18*VLOOKUP(B18,dagsoorttabel1,2,FALSE) -> 14.8 | G18: =IF(AND(catpn_1_BRHB_1>0,catpn_1_BRHV_51>0),(dagenperjaar1*VLOOKUP(B18,dagsoorttabel1,2,FALSE))/(((dagenperjaar1*VLOOKUP(B18,dagsoorttabel1,2,FALSE))-catfd_1_BRHV_51)/catpn_1_BRHB_1+catfd_1_BRHV_51/catpn_1_BRHV_51),0) -> 0 | H18: m²/uur | I18: =IF(AND(catpn_1_BRHB_1>0,catpn_1_BRHV_51>0),(cattf_1_BRHB_1*((dagenperjaar1*VLOOKUP(B18,dagsoorttabel1,2,FALSE))-catfd_1_BRHV_51)/catpn_1_BRHB_1+cattf_1_BRHV_51*catfd_1_BRHV_51/catpn_1_BRHV_51)/(((dagenperjaar1*VLOOKUP(B18,dagsoorttabel1,2,FALSE))-catfd_1_BRHV_51)/catpn_1_BRHB_1+catfd_1_BRHV_51/catpn_1_BRHV_51),0) -> 0 | J18: =IF(OR(ISBLANK(G18),G18=0),0,F18/ROUND(G18,4)) -> 0 | K18: =ROUND(I18,2)*J18 -> 0 | L18: =J18*dagenperjaar1 -> 0 | M18: =L18*ROUND(I18,2) -> 0
A19: BVH | B19: 2W | C19: interieur | D19: Spreek-/overleg-/vergaderruimte/studio harde vloer | E19: 232.7 | F19: =E19*VLOOKUP(B19,dagsoorttabel1,2,FALSE) -> 93.08 | G19: =IF(AND(catpn_1_BVHB_1>0,catpn_1_BVHV_51>0),(dagenperjaar1*VLOOKUP(B19,dagsoorttabel1,2,FALSE))/(((dagenperjaar1*VLOOKUP(B19,dagsoorttabel1,2,FALSE))-catfd_1_BVHV_51)/catpn_1_BVHB_1+catfd_1_BVHV_51/catpn_1_BVHV_51),0) -> 0 | H19: m²/uur | I19: =IF(AND(catpn_1_BVHB_1>0,catpn_1_BVHV_51>0),(cattf_1_BVHB_1*((dagenperjaar1*VLOOKUP(B19,dagsoorttabel1,2,FALSE))-catfd_1_BVHV_51)/catpn_1_BVHB_1+cattf_1_BVHV_51*catfd_1_BVHV_51/catpn_1_BVHV_51)/(((dagenperjaar1*VLOOKUP(B19,dagsoorttabel1,2,FALSE))-catfd_1_BVHV_51)/catpn_1_BVHB_1+catfd_1_BVHV_51/catpn_1_BVHV_51),0) -> 0 | J19: =IF(OR(ISBLANK(G19),G19=0),0,F19/ROUND(G19,4)) -> 0 | K19: =ROUND(I19,2)*J19 -> 0 | L19: =J19*dagenperjaar1 -> 0 | M19: =L19*ROUND(I19,2) -> 0
A20: BVH | B20: 3W | C20: interieur | D20: Spreek-/overleg-/vergaderruimte/studio harde vloer | E20: 187.6 | F20: =E20*VLOOKUP(B20,dagsoorttabel1,2,FALSE) -> 112.56 | G20: =IF(AND(catpn_1_BVHB_1>0,catpn_1_BVHV_51>0),(dagenperjaar1*VLOOKUP(B20,dagsoorttabel1,2,FALSE))/(((dagenperjaar1*VLOOKUP(B20,dagsoorttabel1,2,FALSE))-catfd_1_BVHV_51)/catpn_1_BVHB_1+catfd_1_BVHV_51/catpn_1_BVHV_51),0) -> 0 | H20: m²/uur | I20: =IF(AND(catpn_1_BVHB_1>0,catpn_1_BVHV_51>0),(cattf_1_BVHB_1*((dagenperjaar1*VLOOKUP(B20,dagsoorttabel1,2,FALSE))-catfd_1_BVHV_51)/catpn_1_BVHB_1+cattf_1_BVHV_51*catfd_1_BVHV_51/catpn_1_BVHV_51)/(((dagenperjaar1*VLOOKUP(B20,dagsoorttabel1,2,FALSE))-catfd_1_BVHV_51)/catpn_1_BVHB_1+catfd_1_BVHV_51/catpn_1_BVHV_51),0) -> 0 | J20: =IF(OR(ISBLANK(G20),G20=0),0,F20/ROUND(G20,4)) -> 0 | K20: =ROUND(I20,2)*J20 -> 0 | L20: =J20*dagenperjaar1 -> 0 | M20: =L20*ROUND(I20,2) -> 0
A21: BVH | B21: 5W | C21: interieur | D21: Spreek-/overleg-/vergaderruimte/studio harde vloer | E21: 105.8 | F21: =E21*VLOOKUP(B21,dagsoorttabel1,2,FALSE) -> 105.8 | G21: =IF(AND(catpn_1_BVHB_1>0,catpn_1_BVHV_51>0),(dagenperjaar1*VLOOKUP(B21,dagsoorttabel1,2,FALSE))/(((dagenperjaar1*VLOOKUP(B21,dagsoorttabel1,2,FALSE))-catfd_1_BVHV_51)/catpn_1_BVHB_1+catfd_1_BVHV_51/catpn_1_BVHV_51),0) -> 0 | H21: m²/uur | I21: =IF(AND(catpn_1_BVHB_1>0,catpn_1_BVHV_51>0),(cattf_1_BVHB_1*((dagenperjaar1*VLOOKUP(B21,dagsoorttabel1,2,FALSE))-catfd_1_BVHV_51)/catpn_1_BVHB_1+cattf_1_BVHV_51*catfd_1_BVHV_51/catpn_1_BVHV_51)/(((dagenperjaar1*VLOOKUP(B21,dagsoorttabel1,2,FALSE))-catfd_1_BVHV_51)/catpn_1_BVHB_1+catfd_1_BVHV_51/catpn_1_BVHV_51),0) -> 0 | J21: =IF(OR(ISBLANK(G21),G21=0),0,F21/ROUND(G21,4)) -> 0 | K21: =ROUND(I21,2)*J21 -> 0 | L21: =J21*dagenperjaar1 -> 0 | M21: =L21*ROUND(I21,2) -> 0
A22: BVZ | B22: 1W | C22: interieur | D22: Spreek-/overleg-/vergaderruimte/studio zachte vloer | E22: 93.25 | F22: =E22*VLOOKUP(B22,dagsoorttabel1,2,FALSE) -> 18.65 | G22: =IF(AND(catpn_1_BVZB_1>0,catpn_1_BVZV_51>0),(dagenperjaar1*VLOOKUP(B22,dagsoorttabel1,2,FALSE))/(((dagenperjaar1*VLOOKUP(B22,dagsoorttabel1,2,FALSE))-catfd_1_BVZV_51)/catpn_1_BVZB_1+catfd_1_BVZV_51/catpn_1_BVZV_51),0) -> 0 | H22: m²/uur | I22: =IF(AND(catpn_1_BVZB_1>0,catpn_1_BVZV_51>0),(cattf_1_BVZB_1*((dagenperjaar1*VLOOKUP(B22,dagsoorttabel1,2,FALSE))-catfd_1_BVZV_51)/catpn_1_BVZB_1+cattf_1_BVZV_51*catfd_1_BVZV_51/catpn_1_BVZV_51)/(((dagenperjaar1*VLOOKUP(B22,dagsoorttabel1,2,FALSE))-catfd_1_BVZV_51)/catpn_1_BVZB_1+catfd_1_BVZV_51/catpn_1_BVZV_51),0) -> 0 | J22: =IF(OR(ISBLANK(G22),G22=0),0,F22/ROUND(G22,4)) -> 0 | K22: =ROUND(I22,2)*J22 -> 0 | L22: =J22*dagenperjaar1 -> 0 | M22: =L22*ROUND(I22,2) -> 0
A23: BVZ | B23: 3W | C23: interieur | D23: Spreek-/overleg-/vergaderruimte/studio zachte vloer | E23: 63 | F23: =E23*VLOOKUP(B23,dagsoorttabel1,2,FALSE) -> 37.8 | G23: =IF(AND(catpn_1_BVZB_1>0,catpn_1_BVZV_51>0),(dagenperjaar1*VLOOKUP(B23,dagsoorttabel1,2,FALSE))/(((dagenperjaar1*VLOOKUP(B23,dagsoorttabel1,2,FALSE))-catfd_1_BVZV_51)/catpn_1_BVZB_1+catfd_1_BVZV_51/catpn_1_BVZV_51),0) -> 0 | H23: m²/uur | I23: =IF(AND(catpn_1_BVZB_1>0,catpn_1_BVZV_51>0),(cattf_1_BVZB_1*((dagenperjaar1*VLOOKUP(B23,dagsoorttabel1,2,FALSE))-catfd_1_BVZV_51)/catpn_1_BVZB_1+cattf_1_BVZV_51*catfd_1_BVZV_51/catpn_1_BVZV_51)/(((dagenperjaar1*VLOOKUP(B23,dagsoorttabel1,2,FALSE))-catfd_1_BVZV_51)/catpn_1_BVZB_1+catfd_1_BVZV_51/catpn_1_BVZV_51),0) -> 0 | J23: =IF(OR(ISBLANK(G23),G23=0),0,F23/ROUND(G23,4)) -> 0 | K23: =ROUND(I23,2)*J23 -> 0 | L23: =J23*dagenperjaar1 -> 0 | M23: =L23*ROUND(I23,2) -> 0
A24: BVZ | B24: 4W | C24: interieur | D24: Spreek-/overleg-/vergaderruimte/studio zachte vloer | E24: 27.7 | F24: =E24*VLOOKUP(B24,dagsoorttabel1,2,FALSE) -> 22.16 | G24: =IF(AND(catpn_1_BVZB_1>0,catpn_1_BVZV_51>0),(dagenperjaar1*VLOOKUP(B24,dagsoorttabel1,2,FALSE))/(((dagenperjaar1*VLOOKUP(B24,dagsoorttabel1,2,FALSE))-catfd_1_BVZV_51)/catpn_1_BVZB_1+catfd_1_BVZV_51/catpn_1_BVZV_51),0) -> 0 | H24: m²/uur | I24: =IF(AND(catpn_1_BVZB_1>0,catpn_1_BVZV_51>0),(cattf_1_BVZB_1*((dagenperjaar1*VLOOKUP(B24,dagsoorttabel1,2,FALSE))-catfd_1_BVZV_51)/catpn_1_BVZB_1+cattf_1_BVZV_51*catfd_1_BVZV_51/catpn_1_BVZV_51)/(((dagenperjaar1*VLOOKUP(B24,dagsoorttabel1,2,FALSE))-catfd_1_BVZV_51)/catpn_1_BVZB_1+catfd_1_BVZV_51/catpn_1_BVZV_51),0) -> 0 | J24: =IF(OR(ISBLANK(G24),G24=0),0,F24/ROUND(G24,4)) -> 0 | K24: =ROUND(I24,2)*J24 -> 0 | L24: =J24*dagenperjaar1 -> 0 | M24: =L24*ROUND(I24,2) -> 0
A25: BVZ | B25: 5W | C25: interieur | D25: Spreek-/overleg-/vergaderruimte/studio zachte vloer | E25: 511.8 | F25: =E25*VLOOKUP(B25,dagsoorttabel1,2,FALSE) -> 511.8 | G25: =IF(AND(catpn_1_BVZB_1>0,catpn_1_BVZV_51>0),(dagenperjaar1*VLOOKUP(B25,dagsoorttabel1,2,FALSE))/(((dagenperjaar1*VLOOKUP(B25,dagsoorttabel1,2,FALSE))-catfd_1_BVZV_51)/catpn_1_BVZB_1+catfd_1_BVZV_51/catpn_1_BVZV_51),0) -> 0 | H25: m²/uur | I25: =IF(AND(catpn_1_BVZB_1>0,catpn_1_BVZV_51>0),(cattf_1_BVZB_1*((dagenperjaar1*VLOOKUP(B25,dagsoorttabel1,2,FALSE))-catfd_1_BVZV_51)/catpn_1_BVZB_1+cattf_1_BVZV_51*catfd_1_BVZV_51/catpn_1_BVZV_51)/(((dagenperjaar1*VLOOKUP(B25,dagsoorttabel1,2,FALSE))-catfd_1_BVZV_51)/catpn_1_BVZB_1+catfd_1_BVZV_51/catpn_1_BVZV_51),0) -> 0 | J25: =IF(OR(ISBLANK(G25),G25=0),0,F25/ROUND(G25,4)) -> 0 | K25: =ROUND(I25,2)*J25 -> 0 | L25: =J25*dagenperjaar1 -> 0 | M25: =L25*ROUND(I25,2) -> 0
A26: EAH | B26: 3W | C26: interieur | D26: Werkplaats harde vloer | E26: 1.6 | F26: =E26*VLOOKUP(B26,dagsoorttabel1,2,FALSE) -> 0.96 | G26: =IF(AND(catpn_1_EAHB_1>0,catpn_1_EAHV_51>0),(dagenperjaar1*VLOOKUP(B26,dagsoorttabel1,2,FALSE))/(((dagenperjaar1*VLOOKUP(B26,dagsoorttabel1,2,FALSE))-catfd_1_EAHV_51)/catpn_1_EAHB_1+catfd_1_EAHV_51/catpn_1_EAHV_51),0) -> 0 | H26: m²/uur | I26: =IF(AND(catpn_1_EAHB_1>0,catpn_1_EAHV_51>0),(cattf_1_EAHB_1*((dagenperjaar1*VLOOKUP(B26,dagsoorttabel1,2,FALSE))-catfd_1_EAHV_51)/catpn_1_EAHB_1+cattf_1_EAHV_51*catfd_1_EAHV_51/catpn_1_EAHV_51)/(((dagenperjaar1*VLOOKUP(B26,dagsoorttabel1,2,FALSE))-catfd_1_EAHV_51)/catpn_1_EAHB_1+catfd_1_EAHV_51/catpn_1_EAHV_51),0) -> 0 | J26: =IF(OR(ISBLANK(G26),G26=0),0,F26/ROUND(G26,4)) -> 0 | K26: =ROUND(I26,2)*J26 -> 0 | L26: =J26*dagenperjaar1 -> 0 | M26: =L26*ROUND(I26,2) -> 0
A27: EAH | B27: 5W | C27: interieur | D27: Werkplaats harde vloer | E27: 72.8 | F27: =E27*VLOOKUP(B27,dagsoorttabel1,2,FALSE) -> 72.8 | G27: =IF(AND(catpn_1_EAHB_1>0,catpn_1_EAHV_51>0),(dagenperjaar1*VLOOKUP(B27,dagsoorttabel1,2,FALSE))/(((dagenperjaar1*VLOOKUP(B27,dagsoorttabel1,2,FALSE))-catfd_1_EAHV_51)/catpn_1_EAHB_1+catfd_1_EAHV_51/catpn_1_EAHV_51),0) -> 0 | H27: m²/uur | I27: =IF(AND(catpn_1_EAHB_1>0,catpn_1_EAHV_51>0),(cattf_1_EAHB_1*((dagenperjaar1*VLOOKUP(B27,dagsoorttabel1,2,FALSE))-catfd_1_EAHV_51)/catpn_1_EAHB_1+cattf_1_EAHV_51*catfd_1_EAHV_51/catpn_1_EAHV_51)/(((dagenperjaar1*VLOOKUP(B27,dagsoorttabel1,2,FALSE))-catfd_1_EAHV_51)/catpn_1_EAHB_1+catfd_1_EAHV_51/catpn_1_EAHV_51),0) -> 0 | J27: =IF(OR(ISBLANK(G27),G27=0),0,F27/ROUND(G27,4)) -> 0 | K27: =ROUND(I27,2)*J27 -> 0 | L27: =J27*dagenperjaar1 -> 0 | M27: =L27*ROUND(I27,2) -> 0
A28: ERH | B28: 4J | C28: interieur | D28: Expositie ruimte harde vloer | E28: 123.1 | F28: =E28*VLOOKUP(B28,dagsoorttabel1,2,FALSE) -> 1.9309804 | G28: =catpn_1_ERHV_1 -> 0 | H28: m²/uur | I28: =cattf_1_ERHV_1 -> 0 | J28: =IF(OR(ISBLANK(G28),G28=0),0,F28/ROUND(G28,4)) -> 0 | K28: =ROUND(I28,2)*J28 -> 0 | L28: =J28*dagenperjaar1 -> 0 | M28: =L28*ROUND(I28,2) -> 0
A29: LAH | B29: 1W | C29: interieur | D29: Laboratorium harde vloer | E29: 64 | F29: =E29*VLOOKUP(B29,dagsoorttabel1,2,FALSE) -> 12.8 | G29: =IF(AND(catpn_1_LAHB_1>0,catpn_1_LAHV_51>0),(dagenperjaar1*VLOOKUP(B29,dagsoorttabel1,2,FALSE))/(((dagenperjaar1*VLOOKUP(B29,dagsoorttabel1,2,FALSE))-catfd_1_LAHV_51)/catpn_1_LAHB_1+catfd_1_LAHV_51/catpn_1_LAHV_51),0) -> 0 | H29: m²/uur | I29: =IF(AND(catpn_1_LAHB_1>0,catpn_1_LAHV_51>0),(cattf_1_LAHB_1*((dagenperjaar1*VLOOKUP(B29,dagsoorttabel1,2,FALSE))-catfd_1_LAHV_51)/catpn_1_LAHB_1+cattf_1_LAHV_51*catfd_1_LAHV_51/catpn_1_LAHV_51)/(((dagenperjaar1*VLOOKUP(B29,dagsoorttabel1,2,FALSE))-catfd_1_LAHV_51)/catpn_1_LAHB_1+catfd_1_LAHV_51/catpn_1_LAHV_51),0) -> 0 | J29: =IF(OR(ISBLANK(G29),G29=0),0,F29/ROUND(G29,4)) -> 0 | K29: =ROUND(I29,2)*J29 -> 0 | L29: =J29*dagenperjaar1 -> 0 | M29: =L29*ROUND(I29,2) -> 0
A30: LAH | B30: 2W | C30: interieur | D30: Laboratorium harde vloer | E30: 14 | F30: =E30*VLOOKUP(B30,dagsoorttabel1,2,FALSE) -> 5.6 | G30: =IF(AND(catpn_1_LAHB_1>0,catpn_1_LAHV_51>0),(dagenperjaar1*VLOOKUP(B30,dagsoorttabel1,2,FALSE))/(((dagenperjaar1*VLOOKUP(B30,dagsoorttabel1,2,FALSE))-catfd_1_LAHV_51)/catpn_1_LAHB_1+catfd_1_LAHV_51/catpn_1_LAHV_51),0) -> 0 | H30: m²/uur | I30: =IF(AND(catpn_1_LAHB_1>0,catpn_1_LAHV_51>0),(cattf_1_LAHB_1*((dagenperjaar1*VLOOKUP(B30,dagsoorttabel1,2,FALSE))-catfd_1_LAHV_51)/catpn_1_LAHB_1+cattf_1_LAHV_51*catfd_1_LAHV_51/catpn_1_LAHV_51)/(((dagenperjaar1*VLOOKUP(B30,dagsoorttabel1,2,FALSE))-catfd_1_LAHV_51)/catpn_1_LAHB_1+catfd_1_LAHV_51/catpn_1_LAHV_51),0) -> 0 | J30: =IF(OR(ISBLANK(G30),G30=0),0,F30/ROUND(G30,4)) -> 0 | K30: =ROUND(I30,2)*J30 -> 0 | L30: =J30*dagenperjaar1 -> 0 | M30: =L30*ROUND(I30,2) -> 0
A31: LAH | B31: 3W | C31: interieur | D31: Laboratorium harde vloer | E31: 85.56 | F31: =E31*VLOOKUP(B31,dagsoorttabel1,2,FALSE) -> 51.336 | G31: =IF(AND(catpn_1_LAHB_1>0,catpn_1_LAHV_51>0),(dagenperjaar1*VLOOKUP(B31,dagsoorttabel1,2,FALSE))/(((dagenperjaar1*VLOOKUP(B31,dagsoorttabel1,2,FALSE))-catfd_1_LAHV_51)/catpn_1_LAHB_1+catfd_1_LAHV_51/catpn_1_LAHV_51),0) -> 0 | H31: m²/uur | I31: =IF(AND(catpn_1_LAHB_1>0,catpn_1_LAHV_51>0),(cattf_1_LAHB_1*((dagenperjaar1*VLOOKUP(B31,dagsoorttabel1,2,FALSE))-catfd_1_LAHV_51)/catpn_1_LAHB_1+cattf_1_LAHV_51*catfd_1_LAHV_51/catpn_1_LAHV_51)/(((dagenperjaar1*VLOOKUP(B31,dagsoorttabel1,2,FALSE))-catfd_1_LAHV_51)/catpn_1_LAHB_1+catfd_1_LAHV_51/catpn_1_LAHV_51),0) -> 0 | J31: =IF(OR(ISBLANK(G31),G31=0),0,F31/ROUND(G31,4)) -> 0 | K31: =ROUND(I31,2)*J31 -> 0 | L31: =J31*dagenperjaar1 -> 0 | M31: =L31*ROUND(I31,2) -> 0
A32: LAH | B32: 5W | C32: interieur | D32: Laboratorium harde vloer | E32: 43.9 | F32: =E32*VLOOKUP(B32,dagsoorttabel1,2,FALSE) -> 43.9 | G32: =IF(AND(catpn_1_LAHB_1>0,catpn_1_LAHV_51>0),(dagenperjaar1*VLOOKUP(B32,dagsoorttabel1,2,FALSE))/(((dagenperjaar1*VLOOKUP(B32,dagsoorttabel1,2,FALSE))-catfd_1_LAHV_51)/catpn_1_LAHB_1+catfd_1_LAHV_51/catpn_1_LAHV_51),0) -> 0 | H32: m²/uur | I32: =IF(AND(catpn_1_LAHB_1>0,catpn_1_LAHV_51>0),(cattf_1_LAHB_1*((dagenperjaar1*VLOOKUP(B32,dagsoorttabel1,2,FALSE))-catfd_1_LAHV_51)/catpn_1_LAHB_1+cattf_1_LAHV_51*catfd_1_LAHV_51/catpn_1_LAHV_51)/(((dagenperjaar1*VLOOKUP(B32,dagsoorttabel1,2,FALSE))-catfd_1_LAHV_51)/catpn_1_LAHB_1+catfd_1_LAHV_51/catpn_1_LAHV_51),0) -> 0 | J32: =IF(OR(ISBLANK(G32),G32=0),0,F32/ROUND(G32,4)) -> 0 | K32: =ROUND(I32,2)*J32 -> 0 | L32: =J32*dagenperjaar1 -> 0 | M32: =L32*ROUND(I32,2) -> 0
A33: MAH | B33: 12J | C33: interieur | D33: Magazijn-/ berg-/opslagruimte harde vloer | E33: 33.3 | F33: =E33*VLOOKUP(B33,dagsoorttabel1,2,FALSE) -> 1.5670588 | G33: =catpn_1_MAZV_12 -> 0 | H33: m²/uur | I33: =cattf_1_MAZV_12 -> 0 | J33: =IF(OR(ISBLANK(G33),G33=0),0,F33/ROUND(G33,4)) -> 0 | K33: =ROUND(I33,2)*J33 -> 0 | L33: =J33*dagenperjaar1 -> 0 | M33: =L33*ROUND(I33,2) -> 0
A34: MAH | B34: 26J | C34: interieur | D34: Magazijn-/ berg-/opslagruimte harde vloer | E34: 20 | F34: =E34*VLOOKUP(B34,dagsoorttabel1,2,FALSE) -> 2.0392157 | G34: =IF(AND(catpn_1_MAHB_1>0,catpn_1_MAZV_51>0),(dagenperjaar1*VLOOKUP(B34,dagsoorttabel1,2,FALSE))/(((dagenperjaar1*VLOOKUP(B34,dagsoorttabel1,2,FALSE))-catfd_1_MAZV_51)/catpn_1_MAHB_1+catfd_1_MAZV_51/catpn_1_MAZV_51),0) -> 0 | H34: m²/uur | I34: =IF(AND(catpn_1_MAHB_1>0,catpn_1_MAZV_51>0),(cattf_1_MAHB_1*((dagenperjaar1*VLOOKUP(B34,dagsoorttabel1,2,FALSE))-catfd_1_MAZV_51)/catpn_1_MAHB_1+cattf_1_MAZV_51*catfd_1_MAZV_51/catpn_1_MAZV_51)/(((dagenperjaar1*VLOOKUP(B34,dagsoorttabel1,2,FALSE))-catfd_1_MAZV_51)/catpn_1_MAHB_1+catfd_1_MAZV_51/catpn_1_MAZV_51),0) -> 0 | J34: =IF(OR(ISBLANK(G34),G34=0),0,F34/ROUND(G34,4)) -> 0 | K34: =ROUND(I34,2)*J34 -> 0 | L34: =J34*dagenperjaar1 -> 0 | M34: =L34*ROUND(I34,2) -> 0
A35: MAH | B35: 2J | C35: interieur | D35: Magazijn-/ berg-/opslagruimte harde vloer | E35: 3.7 | F35: =E35*VLOOKUP(B35,dagsoorttabel1,2,FALSE) -> 0.029019608 | G35: =catpn_1_MAZV_1 -> 0 | H35: m²/uur | I35: =cattf_1_MAZV_1 -> 0 | J35: =IF(OR(ISBLANK(G35),G35=0),0,F35/ROUND(G35,4)) -> 0 | K35: =ROUND(I35,2)*J35 -> 0 | L35: =J35*dagenperjaar1 -> 0 | M35: =L35*ROUND(I35,2) -> 0
A36: MAH | B36: 2W | C36: interieur | D36: Magazijn-/ berg-/opslagruimte harde vloer | E36: 12.55 | F36: =E36*VLOOKUP(B36,dagsoorttabel1,2,FALSE) -> 5.02 | G36: =IF(AND(catpn_1_MAHB_1>0,catpn_1_MAHV_51>0),(dagenperjaar1*VLOOKUP(B36,dagsoorttabel1,2,FALSE))/(((dagenperjaar1*VLOOKUP(B36,dagsoorttabel1,2,FALSE))-catfd_1_MAHV_51)/catpn_1_MAHB_1+catfd_1_MAHV_51/catpn_1_MAHV_51),0) -> 0 | H36: m²/uur | I36: =IF(AND(catpn_1_MAHB_1>0,catpn_1_MAHV_51>0),(cattf_1_MAHB_1*((dagenperjaar1*VLOOKUP(B36,dagsoorttabel1,2,FALSE))-catfd_1_MAHV_51)/catpn_1_MAHB_1+cattf_1_MAHV_51*catfd_1_MAHV_51/catpn_1_MAHV_51)/(((dagenperjaar1*VLOOKUP(B36,dagsoorttabel1,2,FALSE))-catfd_1_MAHV_51)/catpn_1_MAHB_1+catfd_1_MAHV_51/catpn_1_MAHV_51),0) -> 0 | J36: =IF(OR(ISBLANK(G36),G36=0),0,F36/ROUND(G36,4)) -> 0 | K36: =ROUND(I36,2)*J36 -> 0 | L36: =J36*dagenperjaar1 -> 0 | M36: =L36*ROUND(I36,2) -> 0
A37: MAH | B37: 4J | C37: interieur | D37: Magazijn-/ berg-/opslagruimte harde vloer | E37: 42.8 | F37: =E37*VLOOKUP(B37,dagsoorttabel1,2,FALSE) -> 0.67137255 | G37: =catpn_1_MAZV_1 -> 0 | H37: m²/uur | I37: =cattf_1_MAZV_1 -> 0 | J37: =IF(OR(ISBLANK(G37),G37=0),0,F37/ROUND(G37,4)) -> 0 | K37: =ROUND(I37,2)*J37 -> 0 | L37: =J37*dagenperjaar1 -> 0 | M37: =L37*ROUND(I37,2) -> 0
A38: RKH | B38: 1W | C38: interieur | D38: Keuken harde vloer | E38: 25.2 | F38: =E38*VLOOKUP(B38,dagsoorttabel1,2,FALSE) -> 5.04 | G38: =IF(AND(catpn_1_RKHB_1>0,catpn_1_RKHV_51>0),(dagenperjaar1*VLOOKUP(B38,dagsoorttabel1,2,FALSE))/(((dagenperjaar1*VLOOKUP(B38,dagsoorttabel1,2,FALSE))-catfd_1_RKHV_51)/catpn_1_RKHB_1+catfd_1_RKHV_51/catpn_1_RKHV_51),0) -> 0 | H38: m²/uur | I38: =IF(AND(catpn_1_RKHB_1>0,catpn_1_RKHV_51>0),(cattf_1_RKHB_1*((dagenperjaar1*VLOOKUP(B38,dagsoorttabel1,2,FALSE))-catfd_1_RKHV_51)/catpn_1_RKHB_1+cattf_1_RKHV_51*catfd_1_RKHV_51/catpn_1_RKHV_51)/(((dagenperjaar1*VLOOKUP(B38,dagsoorttabel1,2,FALSE))-catfd_1_RKHV_51)/catpn_1_RKHB_1+catfd_1_RKHV_51/catpn_1_RKHV_51),0) -> 0 | J38: =IF(OR(ISBLANK(G38),G38=0),0,F38/ROUND(G38,4)) -> 0 | K38: =ROUND(I38,2)*J38 -> 0 | L38: =J38*dagenperjaar1 -> 0 | M38: =L38*ROUND(I38,2) -> 0
A39: RKH | B39: 3W | C39: interieur | D39: Keuken harde vloer | E39: 47.3 | F39: =E39*VLOOKUP(B39,dagsoorttabel1,2,FALSE) -> 28.38 | G39: =IF(AND(catpn_1_RKHB_1>0,catpn_1_RKHV_51>0),(dagenperjaar1*VLOOKUP(B39,dagsoorttabel1,2,FALSE))/(((dagenperjaar1*VLOOKUP(B39,dagsoorttabel1,2,FALSE))-catfd_1_RKHV_51)/catpn_1_RKHB_1+catfd_1_RKHV_51/catpn_1_RKHV_51),0) -> 0 | H39: m²/uur | I39: =IF(AND(catpn_1_RKHB_1>0,catpn_1_RKHV_51>0),(cattf_1_RKHB_1*((dagenperjaar1*VLOOKUP(B39,dagsoorttabel1,2,FALSE))-catfd_1_RKHV_51)/catpn_1_RKHB_1+cattf_1_RKHV_51*catfd_1_RKHV_51/catpn_1_RKHV_51)/(((dagenperjaar1*VLOOKUP(B39,dagsoorttabel1,2,FALSE))-catfd_1_RKHV_51)/catpn_1_RKHB_1+catfd_1_RKHV_51/catpn_1_RKHV_51),0) -> 0 | J39: =IF(OR(ISBLANK(G39),G39=0),0,F39/ROUND(G39,4)) -> 0 | K39: =ROUND(I39,2)*J39 -> 0 | L39: =J39*dagenperjaar1 -> 0 | M39: =L39*ROUND(I39,2) -> 0
A40: RKH | B40: 4J | C40: interieur | D40: Keuken harde vloer | E40: 12.3 | F40: =E40*VLOOKUP(B40,dagsoorttabel1,2,FALSE) -> 0.19294118 | G40: =catpn_1_RPHV_4 -> 0 | H40: m²/uur | I40: =cattf_1_RPHV_4 -> 0 | J40: =IF(OR(ISBLANK(G40),G40=0),0,F40/ROUND(G40,4)) -> 0 | K40: =ROUND(I40,2)*J40 -> 0 | L40: =J40*dagenperjaar1 -> 0 | M40: =L40*ROUND(I40,2) -> 0
A41: RKH | B41: 4W | C41: interieur | D41: Keuken harde vloer | E41: 6.32 | F41: =E41*VLOOKUP(B41,dagsoorttabel1,2,FALSE) -> 5.056 | G41: =IF(AND(catpn_1_RKHB_1>0,catpn_1_RKHV_51>0),(dagenperjaar1*VLOOKUP(B41,dagsoorttabel1,2,FALSE))/(((dagenperjaar1*VLOOKUP(B41,dagsoorttabel1,2,FALSE))-catfd_1_RKHV_51)/catpn_1_RKHB_1+catfd_1_RKHV_51/catpn_1_RKHV_51),0) -> 0 | H41: m²/uur | I41: =IF(AND(catpn_1_RKHB_1>0,catpn_1_RKHV_51>0),(cattf_1_RKHB_1*((dagenperjaar1*VLOOKUP(B41,dagsoorttabel1,2,FALSE))-catfd_1_RKHV_51)/catpn_1_RKHB_1+cattf_1_RKHV_51*catfd_1_RKHV_51/catpn_1_RKHV_51)/(((dagenperjaar1*VLOOKUP(B41,dagsoorttabel1,2,FALSE))-catfd_1_RKHV_51)/catpn_1_RKHB_1+catfd_1_RKHV_51/catpn_1_RKHV_51),0) -> 0 | J41: =IF(OR(ISBLANK(G41),G41=0),0,F41/ROUND(G41,4)) -> 0 | K41: =ROUND(I41,2)*J41 -> 0 | L41: =J41*dagenperjaar1 -> 0 | M41: =L41*ROUND(I41,2) -> 0
A42: RKH | B42: 5W | C42: interieur | D42: Keuken harde vloer | E42: 17.6 | F42: =E42*VLOOKUP(B42,dagsoorttabel1,2,FALSE) -> 17.6 | G42: =IF(AND(catpn_1_RKHB_1>0,catpn_1_RKHV_51>0),(dagenperjaar1*VLOOKUP(B42,dagsoorttabel1,2,FALSE))/(((dagenperjaar1*VLOOKUP(B42,dagsoorttabel1,2,FALSE))-catfd_1_RKHV_51)/catpn_1_RKHB_1+catfd_1_RKHV_51/catpn_1_RKHV_51),0) -> 0 | H42: m²/uur | I42: =IF(AND(catpn_1_RKHB_1>0,catpn_1_RKHV_51>0),(cattf_1_RKHB_1*((dagenperjaar1*VLOOKUP(B42,dagsoorttabel1,2,FALSE))-catfd_1_RKHV_51)/catpn_1_RKHB_1+cattf_1_RKHV_51*catfd_1_RKHV_51/catpn_1_RKHV_51)/(((dagenperjaar1*VLOOKUP(B42,dagsoorttabel1,2,FALSE))-catfd_1_RKHV_51)/catpn_1_RKHB_1+catfd_1_RKHV_51/catpn_1_RKHV_51),0) -> 0 | J42: =IF(OR(ISBLANK(G42),G42=0),0,F42/ROUND(G42,4)) -> 0 | K42: =ROUND(I42,2)*J42 -> 0 | L42: =J42*dagenperjaar1 -> 0 | M42: =L42*ROUND(I42,2) -> 0
...

Sheet Ruimten werkdag
A1: =CONCATENATE("Bijlage G.3: ",tabeltype," ruimten werkdag") -> Bijlage G.3: Invultabel ruimten werkdag
A3: OBJECT | B3: BOUW-DEEL | C3: ETAGE | D3: RUIMTENR | E3: HOTELNR | F3: RUIMTENAAM | G3: VLOER | H3: TAAK | I3: FREQ | J3: WERK-SOORT | K3: DAG-KRACHT | L3: OPP OF AANTAL | M3: OPP OF AANTAL /DAG | N3: PRODUCTIE-NORM | O3: EENHEID | P3: TARIEF (EURO) | Q3: UREN/ DAG | R3: PRIJS/ DAG | S3: UREN/ JAAR | T3: PRIJS/ JAAR
A4: 0001 - Hoofdkantoor Apeldoorn, Steenbokstraat 10, Apeldoorn
A5: 0001 | C5: 00 | D5: 0.01 | F5: Tourniquet | G5: tapijt | H5: BBH | I5: 12J | J5: interieur | L5: 6 | M5: =L5*VLOOKUP(I5,dagsoorttabel1,2,FALSE) -> 0.28235294 | N5: =prodnorm32 -> 0 | O5: m²/uur | P5: =uurtarief32 -> 0 | Q5: =IF(ISBLANK(N5),0,M5/ROUND(N5,4)) -> #DIV/0! | R5: =ROUND(P5,2)*Q5 -> #DIV/0! | S5: =Q5*dagenperjaar1 -> #DIV/0! | T5: =S5*ROUND(P5,2) -> #DIV/0!
A6: 0001 | C6: 00 | D6: 0.01 | F6: Tourniquet | G6: tapijt | H6: VEZ | I6: 5W | J6: interieur | L6: 6 | M6: =L6*VLOOKUP(I6,dagsoorttabel1,2,FALSE) -> 6 | N6: =prodnorm129 -> 0 | O6: m²/uur | P6: =uurtarief129 -> 0 | Q6: =IF(ISBLANK(N6),0,M6/ROUND(N6,4)) -> #DIV/0! | R6: =ROUND(P6,2)*Q6 -> #DIV/0! | S6: =Q6*dagenperjaar1 -> #DIV/0! | T6: =S6*ROUND(P6,2) -> #DIV/0!
A7: 0001 | C7: 00 | D7: 0.02 | F7: Centrale hal | G7: marmer | H7: VAH | I7: 5W | J7: interieur | L7: 124.6 | M7: =L7*VLOOKUP(I7,dagsoorttabel1,2,FALSE) -> 124.6 | N7: =prodnorm113 -> 0 | O7: m²/uur | P7: =uurtarief113 -> 0 | Q7: =IF(ISBLANK(N7),0,M7/ROUND(N7,4)) -> #DIV/0! | R7: =ROUND(P7,2)*Q7 -> #DIV/0! | S7: =Q7*dagenperjaar1 -> #DIV/0! | T7: =S7*ROUND(P7,2) -> #DIV/0!
A8: 0001 | C8: 00 | D8: 0.03 | F8: Receptie | G8: linoleum | H8: BRH | I8: 5W | J8: interieur | L8: 14.8 | M8: =L8*VLOOKUP(I8,dagsoorttabel1,2,FALSE) -> 14.8 | N8: =prodnorm44 -> 0 | O8: m²/uur | P8: =uurtarief44 -> 0 | Q8: =IF(ISBLANK(N8),0,M8/ROUND(N8,4)) -> #DIV/0! | R8: =ROUND(P8,2)*Q8 -> #DIV/0! | S8: =Q8*dagenperjaar1 -> #DIV/0! | T8: =S8*ROUND(P8,2) -> #DIV/0!
A9: 0001 | C9: 00 | D9: 0.04 | F9: Garderobe | G9: marmer | H9: VAH | I9: 5W | J9: interieur | L9: 5.9 | M9: =L9*VLOOKUP(I9,dagsoorttabel1,2,FALSE) -> 5.9 | N9: =prodnorm113 -> 0 | O9: m²/uur | P9: =uurtarief113 -> 0 | Q9: =IF(ISBLANK(N9),0,M9/ROUND(N9,4)) -> #DIV/0! | R9: =ROUND(P9,2)*Q9 -> #DIV/0! | S9: =Q9*dagenperjaar1 -> #DIV/0! | T9: =S9*ROUND(P9,2) -> #DIV/0!
A10: 0001 | C10: 00 | D10: 0.05 | F10: Gang | G10: marmer | H10: VAH | I10: 5W | J10: interieur | L10: 58.7 | M10: =L10*VLOOKUP(I10,dagsoorttabel1,2,FALSE) -> 58.7 | N10: =prodnorm113 -> 0 | O10: m²/uur | P10: =uurtarief113 -> 0 | Q10: =IF(ISBLANK(N10),0,M10/ROUND(N10,4)) -> #DIV/0! | R10: =ROUND(P10,2)*Q10 -> #DIV/0! | S10: =Q10*dagenperjaar1 -> #DIV/0! | T10: =S10*ROUND(P10,2) -> #DIV/0!
A11: 0001 | C11: 00 | D11: 0.06 | F11: Vergaderruimte | G11: tapijt | H11: BVZ | I11: 5W | J11: interieur | L11: 52.8 | M11: =L11*VLOOKUP(I11,dagsoorttabel1,2,FALSE) -> 52.8 | N11: =prodnorm51 -> 0 | O11: m²/uur | P11: =uurtarief51 -> 0 | Q11: =IF(ISBLANK(N11),0,M11/ROUND(N11,4)) -> #DIV/0! | R11: =ROUND(P11,2)*Q11 -> #DIV/0! | S11: =Q11*dagenperjaar1 -> #DIV/0! | T11: =S11*ROUND(P11,2) -> #DIV/0!
A12: 0001 | C12: 00 | D12: 0.07 | F12: Gang | G12: marmer | H12: VAH | I12: 5W | J12: interieur | L12: 23.7 | M12: =L12*VLOOKUP(I12,dagsoorttabel1,2,FALSE) -> 23.7 | N12: =prodnorm113 -> 0 | O12: m²/uur | P12: =uurtarief113 -> 0 | Q12: =IF(ISBLANK(N12),0,M12/ROUND(N12,4)) -> #DIV/0! | R12: =ROUND(P12,2)*Q12 -> #DIV/0! | S12: =Q12*dagenperjaar1 -> #DIV/0! | T12: =S12*ROUND(P12,2) -> #DIV/0!
A13: 0001 | C13: 00 | D13: 0.08 | F13: Portaal | G13: betontegel | H13: VAH | I13: 5W | J13: interieur | L13: 3.3 | M13: =L13*VLOOKUP(I13,dagsoorttabel1,2,FALSE) -> 3.3 | N13: =prodnorm113 -> 0 | O13: m²/uur | P13: =uurtarief113 -> 0 | Q13: =IF(ISBLANK(N13),0,M13/ROUND(N13,4)) -> #DIV/0! | R13: =ROUND(P13,2)*Q13 -> #DIV/0! | S13: =Q13*dagenperjaar1 -> #DIV/0! | T13: =S13*ROUND(P13,2) -> #DIV/0!
A14: 0001 | C14: 00 | D14: 0.09 | F14: Noodentree | G14: tapijt | H14: VAZ | I14: 5W | J14: interieur | L14: 4.4 | M14: =L14*VLOOKUP(I14,dagsoorttabel1,2,FALSE) -> 4.4 | N14: =prodnorm118 -> 0 | O14: m²/uur | P14: =uurtarief118 -> 0 | Q14: =IF(ISBLANK(N14),0,M14/ROUND(N14,4)) -> #DIV/0! | R14: =ROUND(P14,2)*Q14 -> #DIV/0! | S14: =Q14*dagenperjaar1 -> #DIV/0! | T14: =S14*ROUND(P14,2) -> #DIV/0!
A15: 0001 | C15: 00 | D15: 0.10 | F15: Traphal | G15: gietvloer | H15: VAH | I15: 5W | J15: interieur | L15: 12.7 | M15: =L15*VLOOKUP(I15,dagsoorttabel1,2,FALSE) -> 12.7 | N15: =prodnorm113 -> 0 | O15: m²/uur | P15: =uurtarief113 -> 0 | Q15: =IF(ISBLANK(N15),0,M15/ROUND(N15,4)) -> #DIV/0! | R15: =ROUND(P15,2)*Q15 -> #DIV/0! | S15: =Q15*dagenperjaar1 -> #DIV/0! | T15: =S15*ROUND(P15,2) -> #DIV/0!
A16: 0001 | C16: 00 | D16: 0.11 | F16: Trap BG-1 | G16: tapijt | H16: VTZ | I16: 5W | J16: interieur | L16: 8.2 | M16: =L16*VLOOKUP(I16,dagsoorttabel1,2,FALSE) -> 8.2 | N16: =prodnorm150 -> 0 | O16: m²/uur | P16: =uurtarief150 -> 0 | Q16: =IF(ISBLANK(N16),0,M16/ROUND(N16,4)) -> #DIV/0! | R16: =ROUND(P16,2)*Q16 -> #DIV/0! | S16: =Q16*dagenperjaar1 -> #DIV/0! | T16: =S16*ROUND(P16,2) -> #DIV/0!
A17: 0001 | C17: 00 | D17: 0.12 | F17: Vergaderruimte | G17: tapijt | H17: BVZ | I17: 5W | J17: interieur | L17: 29 | M17: =L17*VLOOKUP(I17,dagsoorttabel1,2,FALSE) -> 29 | N17: =prodnorm51 -> 0 | O17: m²/uur | P17: =uurtarief51 -> 0 | Q17: =IF(ISBLANK(N17),0,M17/ROUND(N17,4)) -> #DIV/0! | R17: =ROUND(P17,2)*Q17 -> #DIV/0! | S17: =Q17*dagenperjaar1 -> #DIV/0! | T17: =S17*ROUND(P17,2) -> #DIV/0!
A18: 0001 | C18: 00 | D18: 0.13 | F18: Vergaderruimte | G18: tapijt | H18: BVZ | I18: 5W | J18: interieur | L18: 41.5 | M18: =L18*VLOOKUP(I18,dagsoorttabel1,2,FALSE) -> 41.5 | N18: =prodnorm51 -> 0 | O18: m²/uur | P18: =uurtarief51 -> 0 | Q18: =IF(ISBLANK(N18),0,M18/ROUND(N18,4)) -> #DIV/0! | R18: =ROUND(P18,2)*Q18 -> #DIV/0! | S18: =Q18*dagenperjaar1 -> #DIV/0! | T18: =S18*ROUND(P18,2) -> #DIV/0!
A19: 0001 | C19: 00 | D19: 0.14 | F19: Vergaderzaal | G19: tapijt | H19: BVZ | I19: 5W | J19: interieur | L19: 136 | M19: =L19*VLOOKUP(I19,dagsoorttabel1,2,FALSE) -> 136 | N19: =prodnorm51 -> 0 | O19: m²/uur | P19: =uurtarief51 -> 0 | Q19: =IF(ISBLANK(N19),0,M19/ROUND(N19,4)) -> #DIV/0! | R19: =ROUND(P19,2)*Q19 -> #DIV/0! | S19: =Q19*dagenperjaar1 -> #DIV/0! | T19: =S19*ROUND(P19,2) -> #DIV/0!
A20: 0001 | C20: 00 | D20: 0.15 | F20: Gang | G20: marmer | H20: VAH | I20: 5W | J20: interieur | L20: 23.9 | M20: =L20*VLOOKUP(I20,dagsoorttabel1,2,FALSE) -> 23.9 | N20: =prodnorm113 -> 0 | O20: m²/uur | P20: =uurtarief113 -> 0 | Q20: =IF(ISBLANK(N20),0,M20/ROUND(N20,4)) -> #DIV/0! | R20: =ROUND(P20,2)*Q20 -> #DIV/0! | S20: =Q20*dagenperjaar1 -> #DIV/0! | T20: =S20*ROUND(P20,2) -> #DIV/0!
