Workbook

Sheet Basisgegevens 
A1: Basisgegevens Contract
A3: Aanbestedende Dienst
A4: Naam Opdrachtgever | B4: RVKO
A5: Vestigingsplaats Opdrachtgever | B5: Rotterdam
A6: Kvk-nummer | B6: 40342002
A7: Naam tekenbevoegde opdrachtgever voor contract | B7: De heer T. Groot Zwaaftink
A8: Functie: | B8: Voorzitter CvB
A10: Inschrijver
A11: Volledige naam Inschrijver (Handelsnaam KvK)
A12: Vestigingsplaats Inschrijver (KvK)
A13: KvK-nummer
A14: Tekenbevoegde voor overeenkomt
A15: Functie
A17: Contactpersoon offerte
A18: Functie
A19: Telefoonnummer Kantoor
A20: Postadres Kantoor
A21: PC + Woonplaats Kantoor
A22: Mobielnummer contactpersoon offerte
A23: E-mail adres contactpersoon offerte

Sheet Totaalblad
A1: Totaalblad prijzen leveringen en services t.b.v. gunning
B5: Levering | C5: Aangeboden model | D5: Aantal* | E5: Inkoopprijs | F5: Opslagpercentage | G5: Prijs per stuk | H5: Gunningsprijs
A6: 1 | B6: Touchscreen 55 inch zonder OPS | C6: ='1. Touchscreen 55 inch'!C30 -> 0 | D6: 10 | E6: ='1. Touchscreen 55 inch'!C31 -> 0 | F6: ='1. Touchscreen 55 inch'!C32 -> 0 | G6: ='1. Touchscreen 55 inch'!C33 -> 0 | H6: =D6*G6 -> 0
A7: 2 | B7: Touchscreen 65 inch zonder OPS | C7: ='2. Touchscreen 65 inch '!C30 -> 0 | D7: 20 | E7: ='2. Touchscreen 65 inch '!C31 -> 0 | F7: ='2. Touchscreen 65 inch '!C32 -> 0 | G7: ='2. Touchscreen 65 inch '!C33 -> 0 | H7: =D7*G7 -> 0
A8: 3 | B8: Touchscreen 75 inch zonder OPS | C8: ='3. Touchscreen 75 inch'!C30 -> 0 | D8: 70 | E8: ='3. Touchscreen 75 inch'!C31 -> 0 | F8: ='3. Touchscreen 75 inch'!C32 -> 0 | G8: ='3. Touchscreen 75 inch'!C33 -> 0 | H8: =D8*G8 -> 0
A9: 4 | B9: Touchscreen 86 inch zonder OPS | C9: ='4. Touchscreen 86 inch'!C30 -> 0 | D9: 20 | E9: ='4. Touchscreen 86 inch'!C31 -> 0 | F9: ='4. Touchscreen 86 inch'!C32 -> 0 | G9: ='4. Touchscreen 86 inch'!C33 -> 0 | H9: =D9*G9 -> 0
A10: 5 | B10: 1 - OPS module - Windows | C10: ='5. OPS module'!C16 -> 0 | D10: 5 | E10: ='5. OPS module'!C17 -> 0 | F10: ='5. OPS module'!C18 -> 0 | G10: ='5. OPS module'!C19 -> 0 | H10: =D10*G10 -> 0
B11: 2 - OPS module - Chrome | C11: ='5. OPS module'!C36 -> 0 | D11: 5 | E11: ='5. OPS module'!C37 -> 0 | F11: ='5. OPS module'!C38 -> 0 | G11: ='5. OPS module'!C39 -> 0 | H11: =D11*G11 -> 0
A12: 6 | B12: Nieuwe opstellingen | C12: Zie werkblad | D12: 120 | H12: ='6. Nieuwe opstellingen'!H13 -> 0
A13: 7 | B13: Vijfvlaks whiteboards | C13: Zie werkblad | D13: ='7. Vijfvlaks whiteboards'!D12+'7. Vijfvlaks whiteboards'!D13 -> 30 | H13: ='7. Vijfvlaks whiteboards'!G14 -> 0
A14: 8 | B14: Uurtarieven | H14: ='8. Uurtarieven'!E16 -> 15000
A15: 9 | B15: Accessoires | F15: ='9. Accessoires'!C3 -> 0 | H15: ='9. Accessoires'!E5 -> 10000
E17: Totale vergelijkingsprijs | H17: =SUM(H6:H15) -> 25000

Sheet 1. Touchscreen 55 inch
A1: Touchscreen 55 inch zonder OPS
B3: Eisen | C3: Minimale eisen
A4: 1 | B4: Formaat | C4: 55 inch
A5: 2 | B5: Beeldverhouding | C5: 16:9
A6: 3 | B6: Resolutie | C6: Minimaal 3840 × 2160 (4K UHD)
A7: 4 | B7: Glasplaat | C7: Ontspiegeld veiligheidsglas, minimaal 4 mm dik
A8: 5 | B8: Helderheid | C8: Minimaal 400 cd/m²
A9: 6 | B9: Inkijkhoek | C9: Minimaal 178 graden
A10: 7 | B10: Contrastverhouding | C10: Minimaal 4.000:1
A11: 8 | B11: Multiwriting | C11: Minimaal 40 gelijktijdige touchpunten
A12: 9 | B12: Touchfunctionaliteit | C12: Ondersteuning voor palm rejection
A13: 10 | B13: Touch bediening | C13: Bedienbaar met vinger en stylus pen
A14: 11 | B14: HDMI aansluiting | C14: Minimaal 2 × HDMI 2.0 of hoger
A15: 12 | B15: USB aansluiting | C15: Minimaal 1 × USB-C-aansluiting die via één kabel gelijktijdig beeld, audio, touch/data en Power Delivery van minimaal 65 W ondersteunt, alsmede minimaal 3 × USB-A-aansluitingen
... A28: 25 | B28: Oplevering | C28: Inclusief alle benodigde bekabeling, materialen en werkzaamheden benodigd voor een volledige, veilige, gebruiksklare en werkende oplevering van de aangeboden oplossing.
B29: Prijzen
B30: Aangeboden model:
B31: Inkoopprijs
B32: Opslagpercentage
B33: Totaal prijs per stuk (exclusief btw) | C33: =(C31*C32)+C31 -> 0
A35: - | B35: U vult alle groen gearceerde cellen in

Sheet 2. Touchscreen 65 inch 
A1: Touchscreen 65 inch zonder OPS
B3: Eisen | C3: Minimale eisen
A4: 1 | B4: Formaat | C4: 65 inch
A5: 2 | B5: Beeldverhouding | C5: 16:9
A6: 3 | B6: Resolutie | C6: Minimaal 3840 × 2160 (4K UHD)
A7: 4 | B7: Glasplaat | C7: Ontspiegeld veiligheidsglas, minimaal 4 mm dik
A8: 5 | B8: Helderheid | C8: Minimaal 400 cd/m²
A9: 6 | B9: Inkijkhoek | C9: Minimaal 178 graden
A10: 7 | B10: Contrastverhouding | C10: Minimaal 4.000:1
A11: 8 | B11: Multiwriting | C11: Minimaal 40 gelijktijdige touchpunten
A12: 9 | B12: Touchfunctionaliteit | C12: Ondersteuning voor palm rejection
A13: 10 | B13: Touch bediening | C13: Bedienbaar met vinger en stylus pen
A14: 11 | B14: HDMI aansluiting | C14: Minimaal 2 × HDMI 2.0 of hoger
A15: 12 | B15: USB aansluiting | C15: Minimaal 1 × USB-C-aansluiting die via één kabel gelijktijdig beeld, audio, touch/data en Power Delivery van minimaal 65 W ondersteunt, alsmede minimaal 3 × USB-A-aansluitingen.
... A28: 25 | B28: Oplevering | C28: Inclusief alle benodigde bekabeling, materialen en werkzaamheden benodigd voor een volledige, veilige, gebruiksklare en werkende oplevering van de aangeboden oplossing.
B29: Prijzen
B30: Aangeboden model:
B31: Inkoopprijs
B32: Opslagpercentage
B33: Totaal prijs per stuk (exclusief btw) | C33: =(C31*C32)+C31 -> 0
A35: - | B35: U vult alle groen gearceerde cellen in

Sheet 3. Touchscreen 75 inch
A1: Touchscreen 75 inch zonder OPS
B3: Eisen | C3: Minimale eisen
A4: 1 | B4: Formaat | C4: 75 inch
A5: 2 | B5: Beeldverhouding | C5: 16:9
A6: 3 | B6: Resolutie | C6: Minimaal 3840 × 2160 (4K UHD)
A7: 4 | B7: Glasplaat | C7: Ontspiegeld veiligheidsglas, minimaal 4 mm dik
A8: 5 | B8: Helderheid | C8: Minimaal 400 cd/m²
A9: 6 | B9: Inkijkhoek | C9: Minimaal 178 graden
A10: 7 | B10: Contrastverhouding | C10: Minimaal 4.000:1
A11: 8 | B11: Multiwriting | C11: Minimaal 40 gelijktijdige touchpunten
A12: 9 | B12: Touchfunctionaliteit | C12: Ondersteuning voor palm rejection
A13: 10 | B13: Touch bediening | C13: Bedienbaar met vinger en stylus pen
A14: 11 | B14: HDMI aansluiting | C14: Minimaal 2 × HDMI 2.0 of hoger
A15: 12 | B15: USB aansluiting | C15: Minimaal 1 × USB-C-aansluiting die via één kabel gelijktijdig beeld, audio, touch/data en Power Delivery van minimaal 65 W ondersteunt, alsmede minimaal 3 × USB-A-aansluitingen.
... A28: 25 | B28: Oplevering | C28: Inclusief alle benodigde bekabeling, materialen en werkzaamheden benodigd voor een volledige, veilige, gebruiksklare en werkende oplevering van de aangeboden oplossing.
B29: Prijzen
B30: Aangeboden model:
B31: Inkoopprijs
B32: Opslagpercentage
B33: Totaal prijs per stuk (exclusief btw) | C33: =(C31*C32)+C31 -> 0
A35: - | B35: U vult alle groen gearceerde cellen in

Sheet 4. Touchscreen 86 inch
A1: Touchscreen 86 inch zonder OPS
B3: Eisen | C3: Minimale eisen
A4: 1 | B4: Formaat | C4: 86 inch
A5: 2 | B5: Beeldverhouding | C5: 16:9
A6: 3 | B6: Resolutie | C6: Minimaal 3840 × 2160 (4K UHD)
A7: 4 | B7: Glasplaat | C7: Ontspiegeld veiligheidsglas, minimaal 4 mm dik
A8: 5 | B8: Helderheid | C8: Minimaal 400 cd/m²
A9: 6 | B9: Inkijkhoek | C9: Minimaal 178 graden
A10: 7 | B10: Contrastverhouding | C10: Minimaal 4.000:1
A11: 8 | B11: Multiwriting | C11: Minimaal 40 gelijktijdige touchpunten
A12: 9 | B12: Touchfunctionaliteit | C12: Ondersteuning voor palm rejection
A13: 10 | B13: Touch bediening | C13: Bedienbaar met vinger en stylus pen
A14: 11 | B14: HDMI aansluiting | C14: Minimaal 2 × HDMI 2.0 of hoger
A15: 12 | B15: USB aansluiting | C15: Minimaal 1 × USB-C-aansluiting die via één kabel gelijktijdig beeld, audio, touch/data en Power Delivery van minimaal 65 W ondersteunt, alsmede minimaal 3 × USB-A-aansluitingen.
... A28: 25 | B28: Oplevering | C28: Inclusief alle benodigde bekabeling, materialen en werkzaamheden benodigd voor een volledige, veilige, gebruiksklare en werkende oplevering van de aangeboden oplossing.
B29: Prijzen
B30: Aangeboden model:
B31: Inkoopprijs
B32: Opslagpercentage
B33: Totaal prijs per stuk (exclusief btw) | C33: =(C31*C32)+C31 -> 0
A35: - | B35: U vult alle groen gearceerde cellen in

Sheet 5. OPS module
A1: 1 | B1: OPS Module - Windows
B3: Eisen | C3: Minimale eisen
A4: 1 | B4: Processor: | C4: Minimaal Intel Core i5 of aantoonbaar gelijkwaardig
A5: 2 | B5: Werkgeheugen: | C5: Minimaal 16 GB RAM
A6: 3 | B6: Opslag: | C6: Minimaal 512 GB SSD
A7: 4 | B7: Grafische ondersteuning: | C7: Geschikt voor 4K UHD-weergave
A8: 5 | B8: Besturingssysteem: | C8: Microsoft Windows 11 Pro
A9: 6 | B9: Beheer: | C9: Geschikt voor registratie en Centraal Beheer via Microsoft Intune en Microsoft Entra ID.
A10: 7 | B10: Trusted Platform Module (TPM): | C10: Minimaal TPM 2.0
A11: 8 | B11: Netwerkaansluiting: | C11: Minimaal 1 x Gigabit Ethernet (RJ45)
A12: 9 | B12: Draadloze communicatie: | C12: Minimaal Wi-Fi 6 en Bluetooth 5.0
A13: 10 | B13: Compatibiliteit: | C13: Volledig compatibel met het aangeboden Touchscreen
A14: 11 | B14: Garantie: | C14: Minimaal 5 jaar
B15: Prijzen
B16: Aangeboden model:
B17: Inkoopprijs
B18: Opslagpercentage
B19: Totaal prijs per stuk (exclusief btw) | C19: =(C17*C18)+C17 -> 0
A21: 2 | B21: OPS Module - Chrome
B23: Eisen | C23: Minimale eisen
A24: 1 | B24: Processor: | C24: Minimaal Intel Core i3 of aantoonbaar gelijkwaardig
A25: 2 | B25: Werkgeheugen: | C25: Minimaal 8 GB RAM
A26: 3 | B26: Opslag: | C26: Minimaal 64 GB SSD
A27: 4 | B27: Grafische ondersteuning: | C27: Geschikt voor 4K UHD-weergave
A28: 5 | B28: Besturingssysteem: | C28: Chrome OS
A29: 6 | B29: Beheer: | C29: Ondersteuning voor centraal beheer van ChromeOS-apparaten via Google Admin Console of gelijkwaardig.
A30: 7 | B30: Trusted Platform Module (TPM): | C30: Minimaal TPM 2.0
A31: 8 | B31: Netwerkaansluiting: | C31: Minimaal 1 x Gigabit Ethernet (RJ45)
A32: 9 | B32: Draadloze communicatie: | C32: Minimaal Wi-Fi 6 en Bluetooth 5.0
A33: 10 | B33: Compatibiliteit: | C33: Volledig compatibel met het aangeboden Touchscreen
A34: 11 | B34: Garantie: | C34: Minimaal 5 jaar
B35: Prijzen
B36: Aangeboden model:
B37: Inkoopprijs
B38: Opslagpercentage
B39: Totaal prijs per stuk (exclusief btw) | C39: =(C37*C38)+C37 -> 0
A41: - | B41: U vult alle groen gearceerde cellen in

Sheet 6. Nieuwe opstellingen
A1: Nieuwe opstellingen
B2: Technische eisen | C2: Minimale eisen
A3: 1 | B3: Geschikt voor | C3: Geschikt voor de aangeboden Touchscreens in de formaten 55", 65", 75" en 86".
A4: 2 | B4: Toepassing | C4: Geschikt voor toepassing binnen het onderwijs door zowel medewerkers als leerlingen.
A5: 3 | B5: Certificering | C5: Beschikt over een GS-keurmerk of gelijkwaardig
A6: 4 | B6: Veiligheid | C6: Voldoet aan de geldende veiligheidsnormen
A7: 5 | B7: Overig | C7: Inclusief alle benodigde bevestigingsmaterialen
B8: Type | C8: Omschrijving montage | D8: Specificaties | E8: Fictieve afname | F8: Aangeboden model | G8: Prijs* | H8: Totalen
B9: Wandmontage | C9: Vaste wandmontage | D9: Geen hoogteverstelling Niet kantelbaar | E9: 10 | H9: =E9*G9 -> 0
B10: Wandmontage muurlift / vloerlift | C10: Montageoplossing voor touchscreens | D10: Elektrisch in hoogte verstelbaar Voorzien van een beveiliging tegen inklemmen of aanrijden van obstakels (anti-collision of gelijkwaardig) Niet kantelbaar | E10: 60 | H10: =E10*G10 -> 0
B11: Verrijdbaar onderstel | C11: Verrijdbaar onderstel met elektrische hoogteverstelling | D11: Elektrisch in hoogte verstelbaar Voorzien van zwenkwielen Voorzien van remmen op de wielen Voorzien van een beveiliging tegen inklemmen of aanrijden van obstakels (anti-collision of gelijkwaardig) Niet kantelbaar | E11: 40 | H11: =E11*G11 -> 0
B12: Swing-opstelling | C12: Swing | D12: Elektrisch in hoogte verstelbaar Draaibaar/zwenkbaar ten opzichte van de wand Voorzien van een beveiliging tegen inklemmen of aanrijden van obstakels (anti-collision of gelijkwaardig) Niet kantelbaar | E12: 10 | H12: =E12*G12 -> 0
D13: Totale vergelijkingsprijs | E13: =SUM(E9:E12) -> 120 | H13: =SUM(H9:H12) -> 0
A14: * | B14: De opgegeven prijs betreft uitsluitend de meerprijs van de betreffende opstelling. Levering, montage, installatie, configuratie, benodigd materiaal, bekabeling, testen en werkend opleveren dienen te zijn opgenomen in de prijs van het aangeboden Touchscreen.
B15: U vult alle groen gearceerde cellen in

Sheet 7. Vijfvlaks whiteboards
A1: Vijfvlaks whiteboards
B2: Technische eisen | C2: Minimale eisen
A3: 1 | B3: Uitvoering | C3: 5-vlaks whiteboard
A4: 2 | B4: Geschikt voor | C4: Het aangeboden Touchscreen
B5: Materiaal | C5: Geschikt voor intensief onderwijsgebruik
B6: Montage | C6: Geschikt voor montage in combinatie met de aangeboden opstelling
B7: Veiligheid | C7: Geen scherpe randen of uitstekende delen
B8: Onderhoud | C8: Eenvoudig reinigbaar
B9: Kleur | C9: Wit
B10: Garantie | C10: Minimaal gelijk aan de garantie van de aangeboden constructie
B11: Type | C11: Geschikt voor | D11: Fictieve aantallen | E11: Aangeboden model | F11: Prijs* | G11: Totalen
B12: 5-Vlaks whiteboard | C12: Touchscreen 65 inch | D12: 10 | G12: =F12*D12 -> 0
B13: 5-Vlaks whiteboard | C13: Touchscreen 75 inch | D13: 20 | G13: =F13*D13 -> 0
G14: =SUM(G12:G13) -> 0
A15: * | B15: De opgegeven prijs betreft uitsluitend de meerprijs van de betreffende opstelling. Levering, montage, installatie, configuratie, benodigd materiaal, bekabeling, testen en werkend opleveren dienen te zijn opgenomen in de prijs van het aangeboden Touchscreen.
B16: U vult alle groen gearceerde cellen in

Sheet 8. Uurtarieven
A1: Uurtarieven
B2: Uurtarief monteur | C2: Uurtarief | D2: Aantal | E2: Gunningsprijs
A3: 1 | B3: Start uurtarief voor werkzaamheden het 1e uur (inclusief voorrijkosten) | D3: 50 | E3: =SUM(C3*D3) -> 0
A4: 2 | B4: Vervolg uurtarief, na het 1e uur (exclusief voorrijkosten) | D4: 50 | E4: =SUM(C4*D4) -> 0
B5: Uurtarief verplaatsen op locatie (in of tussen lokalen) | C5: Uurtarief | D5: Aantal | E5: Gunningsprijs
A6: 3 | B6: Start uurtarief voor werkzaamheden het 1e uur (inclusief voorrijkosten) | D6: 50 | E6: =SUM(C6*D6) -> 0
A7: 4 | B7: Vervolg uurtarief, na het 1e uur (exclusief voorrijkosten) | D7: 50 | E7: =SUM(C7*D7) -> 0
B8: Uurtarief verhuizing van ene naar andere locatie (binnen straal 20 km) | C8: Uurtarief | D8: Aantal | E8: Gunningsprijs
A9: 5 | B9: Start uurtarief voor werkzaamheden het 1e uur (inclusief voorrijkosten) | D9: 50 | E9: =SUM(C9*D9) -> 0
A10: 6 | B10: Vervolg uurtarief, na het 1e uur (exclusief voorrijkosten) | D10: 50 | E10: =SUM(C10*D10) -> 0
B11: Opslagpercentage | C11: Percentage | D11: Fictieve uitgave | E11: Gunningsprijs
A12: 3 | B12: Opslagpercentage onderdelen (alle onderdelen die nodig zijn voor het uitvoeren van onderhoud) | D12: 15000 | E12: =SUM(D12*C12)+D12 -> 15000
C16: Totaalprijs (excl. BTW) | E16: =SUM(E3+E4+E6+E7+E9+E10+E12) -> 15000
A18: - | B18: U vult alle groen gearceerde cellen in

Sheet 9. Accessoires
A1: Accessoires
B2: Opslagpercentage | C2: Opslagpercentage | D2: Fictieve uitgave | E2: Gunningsprijs
B3: Opslagpercentage accessoires | D3: 10000 | E3: =SUM(D3*C3)+D3 -> 10000
D5: Totaal | E5: =E3 -> 10000
A7: - | B7: U vult alle groen gearceerde cellen in
