Workbook
Name Eindbesluit: #REF!
Name Eindbesluit: #REF!
Name Eindbesluit: #REF!
Name Eindbesluit: #REF!
Name Eindbesluit2: #REF!
Name g: #REF!
Name Geslacht: #REF!
Name Geslacht: #REF!
Name Geslacht: #REF!
Name Geslacht: #REF!
Name nee: #REF!
Name nee: #REF!
Name nee: #REF!
Name nee: #REF!
Name trainingsplan_C7: #REF!
Name trainingsplan_C7: #REF!
Name trainingsplan_C7: #REF!
Name trainingsplan_C9: #REF!
Name trainingsplan_C9: #REF!
Name trainingsplan_C9: #REF!
Name x: #REF!

Sheet Algemene gegevens
A1: Algemene gegevens
A3: Taakstrafcode
A4: Locatie
A5: Regio
A6: Geboortedatum jongere
A7: Geslacht jongere
A8: Coördinator Taakstraffen
A9: Datum delict | F9: Betekenis kleuren gehele document
A10: Aanmelddatum (bestandenpostbus) | G10: Geel vrij in te vullen
A11: Datum beschikbaar hebben trainer | G11: Paars in te vullen vanuit uitklapmenu
G12: Blauw wordt acutoamtisch ingevuld
A13: Trainer:
A14: Uitvoerende organisatie
A16: Aanvangdatum/ startdatum

Sheet Delictanalyse
A1: Delictanalyse
A2: 1. Delictomschrijving
A3: Geef in een paar zinnen weer voor welk delict de jongere de taakstraf heeft gekregen.
A5: 2. Situatie voor en tijdens het delict
A6: A. Met welke stressoren werd de jongere voor en tijdens het delict geconfronteerd? (bijvoorbeeld: alle vrienden deden mee met het delict waardoor het voor de jongere extra moeilijk werd om nee te zeggen)
A8: B. Welke vaardigheden heeft de jongere ten aanzien van het delict laten zien? (bijv. 'nee zeggen'; omgaan met groepsdruk; Time out nemen)
A10: C. Welke vaardigheden heeft de jongere ten aanzien van het delict niet laten zien?
A12: E. Welke protectieve factoren waren aanwezig waarvan de jongere beter gebruik had kunnen maken? (bijvoorbeeld: 1 vriend haakte tijdig af, de jongere had met deze vriend mee kunnen gaan)
A14: 3. Welke denkfouten maakt de jongere voor, tijdens en na het delict? (alleen aan jezelf denken, uitgaan van het ergste, anderen de schuld geven, goed praten/ minder erg maken/ anders benoemen; illustreer met voorbeelden.)

Sheet Trainingsoverzicht
A1: Trainingsoverzicht
A2: Bijeenkomst | B2: Datum | E2: Eventuele opmerkingen | G2: De volgorde van de bijeenkomsten kan worden aangepast.
A3: Intakgesprek
A4: Delictbespreking
A5: BCT 1
A6: SOVA 1a
A7: Ouderbijeenkomst
A8: BCT 2
A9: SOVA 1b
A10: BCT 3
A11: SOVA 2a
A12: Ouder- jongere bijeenkomst
A13: BCT 4
A14: SOVA 2b
... A24: Eindevaluatie

Sheet Tussenrapportage
B1: Tussenrapportage TACt
B3: Naam jongere
B4: Naam trainer
B5: Trainingsdata
B7: Aanwezigheid
A8: 1. | B8: Aanwezigheid:
A9: 2. | B9: Aantal keren te laat:
A10: 3. | B10: Aantal keren afwezig:
A11: 4. | B11: Bijeenkomsten ingehaald?
A12: 5. | B12: Toelichting | C12: Geef hier een toelichting over de aanwezigheid van de jongere. Denk hierbij bijv. aan: Zijn er afspraken gemaakt over te laat komen/ afwezigheid? Wat kan de jongere helpen om op tijd te komen/ aanwezig te zijn? Of wat helpt de jongere al? Wat zijn de afspraken over nog in te halen bijeenkomsten?
B14: Deelname
A15: 1. | B15: Actieve deelname:
A16: 2. | B16: Uitvoering huiswerkopdrachten:
A17: 4. | B17: Initiatief nemen (oefeningen, vragen beantwoorden):
A18: 5. | B18: Toelichting: | C18: Geef hier een toelichting over de deelname van de jongere. Denk hierbij bijv. aan: Zijn er gemaakte afspraken over het huiswerk/ inbrengen van eigen situaties/ initatief nemen? Wat kan de jongere hierbij helpen? Of wat helpt de jongere al?
B20: Overige opmerkingen
C21: Hier kan je andere opmerkingen kwijt. Denk hierbij bijv. aan: Heeft de jongere een gele kaart gekregen? Zo ja, waarom en wat zijn de gemaakte afspraken?; Hoe is de betrokkenheid van ouders/verzorgers? ; Heeft de ouder/jongere bijeenkomst plaatsgevonden?
B23: Boosheidscontrole
B24: Onderdeel | C24: Jongere | E24: Trainer
A25: 1. | B25: Herkennen van externe triggers (Gebeurtenissen en gedachten van anderen die boosheid oproepen)
A26: 2. | B26: Herkennen van lichaamssignalen
A27: 3. | B27: Time out nemen
A28: 4. | B28: Gebruiken van ontspanningstechnieken om rustig te worden (diep ademhalen, terugtellen, aan iets leuks denken)
A29: 5. | B29: Gebruiken van geheugensteuntjes om rustig te worden
A30: 6. | B30: Bepalen of je rustig genoeg bent om goed verder te gaan
A31: 7. | B31: Inzetten van een sociale vaardigheid
A33: 8. | B33: Sterke punten m.b.t. de zelfcontroleketen:
A34: 9. | B34: Beste zinnetjes bij het nemen van de time-out: (autoriteit en vrienden)
A35: 10. | B35: Belangrijke geheugensteuntje(s):
A36: 11. | B36: Aandachtspunten m.b.t. de zelfcontroleketen:
B38: Sociale Vaardigheden
B39: Vaardigheid Gewoonlijk worden er 4 verschillende vaardigheden getraind tijdens de gehele training. | C39: Regel | E39: Jongere | G39: Trainer
A40: 1.
A41: 2.
A42: 3.
A43: 4.
A45: 5. | B45: Belangrijke vaardigheden voor de jongere
A46: 6. | B46: Toelichting
A47: 7. | B47: Wat gaat goed m.b.t. sociale vaardigheden?
A48: 8. | B48: Wat vind je nog lastig m.b.t. sociale vaardigheden?
A51: Datum | C51: Dag | D51: maand | E51: jaar
B53: Hantekening trainer
B54: Dit verslag is met …................ besproken en hij/zij wil hierover zeggen:
B55: Hantekening jongere

Sheet Eindrapportage
B1: Eindrapportage TACt
B3: Naam jongere
B4: Naam trainer
B5: Trainingsdata
B7: Aanwezigheid
A8: 1. | B8: Aanwezigheid:
A9: 2. | B9: Aantal keren te laat:
A10: 3. | B10: Aantal keren afwezig:
A11: 4. | B11: Bijeenkomsten ingehaald?
A12: 5. | B12: Toelichting | C12: Geef hier een toelichting over de aanwezigheid van de jongere. Denk hierbij bijv. aan: Zijn er afspraken gemaakt over te laat komen/ afwezigheid? Wat kan de jongere helpen om op tijd te komen/ aanwezig te zijn? Of wat helpt de jongere al? Wat zijn de afspraken over nog in te halen bijeenkomsten?
B14: Deelname
A15: 1. | B15: Actieve deelname:
A16: 2. | B16: Uitvoering huiswerkopdrachten:
A17: 4. | B17: Initiatief nemen (oefeningen, vragen beantwoorden):
A18: 5. | B18: Toelichting: | C18: Geef hier een toelichting over de deelname van de jongere. Denk hierbij bijv. aan: Zijn er gemaakte afspraken over het huiswerk/ inbrengen van eigen situaties/ initatief nemen? Wat kan de jongere hierbij helpen? Of wat helpt de jongere al?
B20: Overige opmerkingen
C21: Hier kan je andere opmerkingen kwijt. Denk hierbij bijv. aan: Heeft de jongere een gele kaart gekregen? Zo ja, waarom en wat zijn de gemaakte afspraken?; Hoe is de betrokkenheid van ouders/verzorgers? ; Heeft de ouder/jongere bijeenkomst plaatsgevonden?
B23: Boosheidscontrole
B24: Onderdeel | C24: Jongere | E24: Trainer
A25: 1. | B25: Herkennen van externe triggers (Gebeurtenissen en gedachten van anderen die boosheid oproepen)
A26: 2. | B26: Herkennen van lichaamssignalen
A27: 3. | B27: Time out nemen
A28: 4. | B28: Gebruiken van ontspanningstechnieken om rustig te worden (diep ademhalen, terugtellen, aan iets leuks denken)
A29: 5. | B29: Gebruiken van geheugensteuntjes om rustig te worden
A30: 6. | B30: Bepalen of je rustig genoeg bent om verder te gaan
A31: 7. | B31: Inzetten van een sociale vaardigheid
A33: 8. | B33: Sterkte punten m.b.t. de zelfcontroleketen:
A34: 9. | B34: Beste zinnetjes bij het nemen van de time out: (autoriteit en vrienden)
A35: 10. | B35: Belangrijke geheugensteuntje(s):
A36: 11. | B36: Aandachtspunten m.b.t. de zelfcontroleketen:
B38: Sociale Vaardigheden
B39: Vaardigheid Gewoonlijk worden er 4 verschillende vaardigheden getraind tijdens de gehele training. | C39: Regel | E39: Jongere | G39: Trainer
A40: 1.
A41: 2.
A42: 3.
A43: 4.
A45: 5. | B45: Belangrijke vaardigheden voor de jongere
A46: 6. | B46: Toelichting
A47: 7. | B47: Wat gaat goed m.b.t. sociale vaardigheden?
A48: 8. | B48: Wat vind je nog lastig m.b.t. sociale vaardigheden?
A51: Datum | C51: Dag | D51: maand | E51: jaar
B53: Handtekening trainer
B54: Dit verslag is met …................ besproken en hij/zij wil hierover zeggen:
B55: Handtekening jongere

Sheet Einde training
B1: Einde Training
A2: Daadwerkelijke einddatum
A3: Eindbesluit
A4: Is de training aangevangen?
A5: Reden voor niet aangevangen
A6: Aantal gevolgde bijeenkomsten
A7: Aantal gemiste bijeenkomsten
A8: Reden gemist
A10: Aantal bijeenkomst jongere afwezig (no show)
A11: Aantal bijeenkomsten middels beeldbellen
A12: Aantal bijeenkomsten op locatie
A13: Welke locatie?
A14: Is steeds dezelfde trainer ingezet?
... A25: Toelichting op huiswerk/evaluatieformulier

Sheet Evaluatie jongere
B1: Evaluatie formulier jongere
B2: Item | C2: Kies het antwoord dat het beste bij je past
A3: 1. | B3: Wat vind je van de lengte van de training (het aantal keer dan je bent geweest)?
A4: 2. | B4: Wat vind je goed/leuk aan de training?
A5: 3. | B5: Wat vind je niet goed/leuk aan de training?
A6: 4. | B6: Wat vind je van de onderwerpen waar we het in de training over gehad hebben?
A7: 5. | B7: Zijn er nog andere onderwerpen die je graag had willen oefenen/bespreken?
B8: Toelichting:
A9: 6. | B9: Hoe vond je het praten over de onderwerpen tijdens de training?
A10: 7. | B10: Hoe vond je het oefenen tijdens de training?
A11: 8. | B11: Wat vond je van de informatie en tips die de trainer je gegeven heeft?
A12: 9. | B12: Kun je kort opschrijven wat je van de trainer geleerd hebt? Noem 3 dingen. | C12: 1. 2. 3.
A13: 10. | B13: Zal de training jou (extra) helpen om te zorgen dat je niet nogmaals een delict pleegt?
B14: Toelichting:
A15: 11. | B15: Zijn er dingen aan de training die verbeterd kunnen worden?
B16: Toelichting:
A17: 13. | B17: Wil je verder nog iets opschrijven over de training wat je belangrijk vindt?

Sheet Evaluatie ouder(s)verzorger(s)
B1: Evaluatie formulier ouders
B2: Relatie t.o.v. jongere
B3: Item | C3: Kies het antwoord dat het beste bij u past
A4: 1. | B4: Hoe belangrijk vindt u het om als ouder bij de training betrokken te zijn geweest?
A5: 2. | B5: Wat vindt u van uw rol in de training?
A6: 3. | B6: Wat is voor u het belangrijkste dat besproken is in de bijeenkomsten die u aanwezig bent geweest? (intake, ouder/jongere bijeenkomst en tussenevalatie)
A7: 4. | B7: Wat vindt u dat uw zoon/dochter van de training heeft geleerd?
A8: 5. | B8: Is er iets veranderd in het gedrag van uw zoon/dochten tijdens het volgen van de training?
B9: Zo ja, wat is er veranderd?
A10: 6. | B10: Zal deze training uw zoon/dochter (extra) helpen om te zorgen dat hij/zij niet nogmaals een delict pleegt?
B11: Toelichting:
A12: 7. | B12: Zijn er naar uw mening dingen in de training die verbeterd kunnen worden? (waardoor jongeren meer aan de training hebben?)
B13: Toelichting:
A14: 8. | B14: Kan de rol van de ouder(s) in de training verbeterd worden?
B15: Toelichting:
A16: 9. | B16: Zijn er nog andere dingen die u kwijt wilt over de training?

Sheet Gegevens RvdK
A1: Gegevens voor de RvdK
A3: Locatie | B3: Regio | C3: Taakstrafcode | D3: Aanmelddatum (bestandenpostbus) | G3: Datum beschikbaar hebben trainer | J3: Aanvangdatum | M3: Einddatum | P3: Aantal gevolgde bijeenkomsten | Q3: Aantal gemiste bijeenkomsten | R3: Reden gemist | S3: Aantal bijeenkomsten middels beeldbellen | T3: Aantal bijeenkomsten op locatie | U3: Raadslocatie/ Externe locatie | V3: Leerstaf afgerond | W3: Zo nee, reden niet afronden | X3: Aantal bijeenkomsten jongere afwezig (no show) | Y3: Reden van niet aanvangen | Z3: Is de leerstaf uitgevoerd zoals bedoeld? (aantal, volgorde, uitval) | AA3: Zo nee, waarom niet? | AB3: Is steeds dezelfde trainer ingezet? | AC3: Indien 'nee', waarom niet? | AD3: Is het huiswerk gemaakt? | AE3: Evaluatie afgenomen? | AF3: Uitkomst evaluatie
D4: dag | E4: maand | F4: jaar | G4: dag | H4: maand | I4: jaar | J4: dag | K4: maand | L4: jaar | M4: dag | N4: maand | O4: jaar
A5: ='Algemene gegevens'!B4 -> 0 | B5: ='Algemene gegevens'!B5 -> 0 | C5: ='Algemene gegevens'!B3 -> 0 | D5: ='Algemene gegevens'!B10 -> 0 | E5: ='Algemene gegevens'!C10 -> 0 | F5: ='Algemene gegevens'!D10 -> 0 | G5: ='Algemene gegevens'!B11 -> 0 | H5: ='Algemene gegevens'!C11 -> 0 | I5: ='Algemene gegevens'!D11 -> 0 | J5: ='Algemene gegevens'!B16 -> 0 | K5: ='Algemene gegevens'!C16 -> 0 | L5: ='Algemene gegevens'!D16 -> 0 | M5: ='Einde training'!D2 -> 0 | N5: ='Einde training'!E2 -> 0 | O5: ='Einde training'!F2 -> 0 | P5: ='Einde training'!D6 -> 0 | Q5: ='Einde training'!D7 -> 0 | R5: ='Einde training'!D8 -> 0 | S5: ='Einde training'!D11 -> 0 | T5: ='Einde training'!D12 -> 0 | U5: ='Einde training'!D13 -> 0 | V5: ='Einde training'!D18 -> 0 | W5: ='Einde training'!D19 -> 0 | X5: ='Einde training'!D10 -> 0 | Y5: ='Einde training'!D5 -> 0 | Z5: ='Einde training'!D20 -> 0 | AA5: ='Einde training'!D21 -> 0 | AB5: ='Einde training'!D14 -> 0 | AC5: ='Einde training'!D15 -> 0 | AD5: ='Einde training'!D23 -> 0 | AE5: ='Einde training'!D24 -> 0 | AF5: ='Einde training'!D25 -> 0
A9: knippen door op regelnummer te staan en met rechtermuis te knippen. Ga dan naar het koppelbestand en plak het daarin!

Sheet Invulgegevens
AA1: Einde training tabbalad:
A2: 1 | B2: Januari | C2: 1990 | D2: Goed | E2: Goed | F2: Jongen | G2: 0 | H2: Niet van toepassing | M2: Hulp vragen | R2: Ja | U2: Belangrijk | W2: Te klein | Y2: nee | AB2: Geslaagd | AC2: Verhuisd / vertrokken | AH2: Niet verschenen | AK2: Ja | AO2: Goed | AQ2: 0 bijeenkomsten | AS2: Raadslocatie | AU2: ja
A3: 2 | B3: Februari | C3: 1991 | D3: Voldoende | E3: Matig | F3: Meisje | G3: 1 | H3: Ja, alle bijeenkomsten zijn ingehaald | M3: Overleggen | R3: Nee | U3: Niet belangrijk | W3: Precies goed | Y3: ja | AB3: Mislukt | AC3: Contra-indicatie | AH3: Niet aan regels houden | AK3: Nee | AO3: Voldoende | AQ3: 1 bijeenkomst | AS3: Externe locatie | AU3: nee
A4: 3 | B4: Maart | C4: 1992 | D4: Onvoldoende | E4: Slecht | F4: Anders dan bovenstaande | G4: 2 | H4: Nee, nog niet alle bijeenkomsten zijn ingehaald | M4: Aangeven waarmee je zit | W4: Te groot | AB4: On hold | AC4: Afspraak maken niet mogelijk / jongere niet bereikbaar | AH4: Lage motivatie | AK4: Nvt | AO4: Onvoldoende | AQ4: 2 bijeenkomsten | AU4: nvt
A5: 4 | B5: April | C5: 1993 | E5: Nog niet gebruikt | G5: 3 | M5: Je mening geven | AC5: Jongere werkt niet mee | AH5: Niet nuchter | AQ5: 3 bijeenkomsten
A6: 5 | B6: Mei | C6: 1994 | G6: 4 | M6: Een vraag stellen | R6: Belangrijk | U6: Intakegesprek | AC6: Andere reden | AH6: Delictrecidive | AQ6: 4 bijeenkomsten
A7: 6 | B7: Juni | C7: 1995 | G7: 5 | M7: Je excuses aanbieden | R7: Een beetje belangrijk | U7: Delictbespreking | AC7: Nvt | AH7: Crisissituatie | AQ7: 5 bijeenkomsten
A8: 7 | B8: Juli | C8: 1996 | E8: Onvoldoende, lukt niet | G8: 6 | M8: Je grens aangeven | R8: Niet belangrijk | U8: Ouderbijeenkomst | AH8: Andere reden | AQ8: 6 bijeenkomsten
A9: 8 | B9: Augustus | C9: 1997 | E9: Redelijk, lukt wel, nog niet gebruikt | G9: 7 | M9: Uitleg geven | U9: Ouder- jongere bijeenkomst | AH9: Nvt | AQ9: 7 bijeenkomsten
A10: 9 | B10: September | C10: 1998 | E10: Goed, lukt en ook gebruikt | G10: 8 | M10: Een voorstel doen | U10: Tussenevaluatie | AQ10: 8 bijeenkomsten
A11: 10 | B11: Oktober | C11: 1999 | G11: 9 | R11: Leuk | U11: Eindevaluatie | AQ11: 9 bijeenkomsten
A12: 11 | B12: November | C12: 2000 | G12: 10 | M12: Vechten mag niet | R12: Gaat wel | U12: BCT 1 | AQ12: 10 bijeenkomsten
A13: 12 | B13: December | C13: 2001 | G13: 11 | M13: Schelden mag niet | R13: Niet leuk | U13: BCT 2 | AQ13: 11 bijeenkomsten
A14: 13 | B14: Januari | C14: 2002 | G14: 12 | M14: Stelen mag niet | U14: BCT 3 | AQ14: 12 bijeenkomsten
A15: 14 | B15: Februari | C15: 2003 | G15: 13 | M15: Liegen mag niet | U15: BCT 4 | AQ15: 13 bijeenkomsten
A16: 15 | B16: Maart | C16: 2004 | G16: 14 | M16: Wapenbezit mag niet | R16: Ja | U16: BCT 5 | AQ16: 14 bijeenkomsten
A17: 16 | B17: April | C17: 2005 | G17: 15 | M17: Inbreken mag niet | R17: Een beetje | U17: BCT 6 | AQ17: 15 bijeenkomsten
A18: 17 | B18: Mei | C18: 2006 | G18: 16 | M18: Huiselijk geweld mag niet | R18: Nee | U18: BCT 7 | AQ18: 16 bijeenkomsten
A19: 18 | B19: Juni | C19: 2007 | G19: 17 | M19: Iemand pijn doen mag niet | U19: BCT 8 | AQ19: 17 bijeenkomsten
A20: 19 | B20: Juli | C20: 2008 | G20: 18 | M20: Vernielen van spullen mag niet | U20: SOVA 1a | AQ20: 18 bijeenkomsten
A21: 20 | B21: Augustus | C21: 2009 | G21: 19 | U21: SOVA 1b | AQ21: 19 bijeenkomsten
A22: 21 | B22: September | C22: 2010 | G22: 20 | U22: SOVA 2a | AQ22: 20 bijeenkomsten
A23: 22 | B23: Oktober | C23: 2011 | G23: 21 | U23: SOVA 2b | AQ23: 21 bijeenkomsten
A24: 23 | B24: November | C24: 2012 | G24: 22 | U24: SOVA 3a | AQ24: 22 bijeenkomsten
A25: 24 | B25: December | C25: 2013 | G25: 23 | U25: SOVA 3b | AQ25: 23 bijeenkomsten
A26: 25 | C26: 2014 | G26: 24 | U26: SOVA 4a | AQ26: 24 bijeenkomsten
A27: 26 | C27: 2015 | G27: 25 | U27: SOVA 4b | AQ27: 25 bijeenkomsten
A28: 27 | C28: 2016 | G28: 26 | U28: Anders | AQ28: 26 bijeenkomsten
A29: 28 | C29: 2017 | G29: 27 | AQ29: 27 bijeenkomsten
A30: 29 | C30: 2018 | G30: 28 | I30: Te kort | AQ30: 28 bijeenkomsten
A31: 30 | C31: 2019 | G31: 29 | I31: Precies goed | AQ31: 29 bijeenkomsten
A32: 31 | C32: 2020 | G32: 30 | I32: Te lang | AQ32: 30 bijeenkomsten
C33: 2021 | G33: 31 | AQ33: 31 bijeenkomsten
C34: 2022 | G34: 32 | AQ34: 32 bijeenkomsten
C35: 2023 | G35: 33
C36: 2024 | G36: 34
C37: 2025 | G37: 35
C38: 2026 | G38: 36
C39: 2027 | G39: 37
C40: 2028 | G40: 38
C41: 2029 | G41: 39
C42: 2030 | G42: 40
C43: 2031 | G43: 41
C44: 2032 | G44: 42
C45: 2033
C46: 2034
C47: 2035
C48: 2036
C49: 2037
C50: 2038
C51: 2039
C52: 2040
C53: 2041
C54: 2042
C55: 2043
C56: 2044
C57: 2045

Sheet Blad2
