Workbook

Sheet Prijzenblad
A2: 53014 | ROK Ontwerp en Directievoering & toezicht voor vier Afdelingen intensief Toezicht
A3: Begrotingsformulier opgave project | D3: De licht blauwe cellen dienen door de inschrijver te worden ingevuld
A4: versie 0.5 d.d. 28-10-2026
A5: Honorarium ontwerp en directievoering & toezicht vier AIT's
A6: Adviseur: | B6: .... B.V.
A7: Datum: | B7: 36526
A9: Discipline | B9: Uurtarief
A10: Projectleider/manager | B10: 0 | C10: Uurtafief inclusief alle bijkomende kosten (zoals reiskosten) en andere direct toerekenbare onkosten.
A11: Bouwkostendeskundige | B11: 0 | C11: Uurtafief inclusief alle bijkomende kosten (zoals reiskosten) en andere direct toerekenbare onkosten.
A12: Adviseur bouwkunde | B12: 0 | C12: Uurtafief inclusief alle bijkomende kosten (zoals reiskosten) en andere direct toerekenbare onkosten.
A13: Adviseur installaties (E/W) | B13: 0 | C13: Uurtafief inclusief alle bijkomende kosten (zoals reiskosten) en andere direct toerekenbare onkosten.
A14: Adviseur bouwfysica | B14: 0 | C14: Uurtafief inclusief alle bijkomende kosten (zoals reiskosten) en andere direct toerekenbare onkosten.
A15: Adviseur constructies | B15: 0 | C15: Uurtafief inclusief alle bijkomende kosten (zoals reiskosten) en andere direct toerekenbare onkosten.
A16: Adviseur veiligheid | B16: 0 | C16: Uurtafief inclusief alle bijkomende kosten (zoals reiskosten) en andere direct toerekenbare onkosten.
A17: Adviseur beveiliging | B17: 0 | C17: Uurtafief inclusief alle bijkomende kosten (zoals reiskosten) en andere direct toerekenbare onkosten.
A18: Modelleur / tekenaar | B18: 0 | C18: Uurtafief inclusief alle bijkomende kosten (zoals reiskosten) en andere direct toerekenbare onkosten.
A19: Bestekschrijver | B19: 0 | C19: Uurtafief inclusief alle bijkomende kosten (zoals reiskosten) en andere direct toerekenbare onkosten.
A20: Directievoerder | B20: 0 | C20: Uurtafief inclusief alle bijkomende kosten (zoals reiskosten) en andere direct toerekenbare onkosten.
A21: Toezichthouder B | B21: 0 | C21: Uurtafief inclusief alle bijkomende kosten (zoals reiskosten) en andere direct toerekenbare onkosten.
A22: Toezichthouder installaties | B22: 0 | C22: Uurtafief inclusief alle bijkomende kosten (zoals reiskosten) en andere direct toerekenbare onkosten.
A24: Datum | B24: Handtekening

Sheet Begroting PI Leeuwarden
A2: 53014 | Ontwerp en Directievoering en toezicht voor Afdelingen intensief Toezicht PI Leeuwarden
A3: Begrotingsformulier opgave project
A4: versie 0.5 d.d. 28-10-2026
A5: Honorarium ontwerp en directievoering & toezicht AIT PI Leeuwarden
A6: =Prijzenblad!A6 -> Adviseur: | B6: =Prijzenblad!B6 -> .... B.V.
A7: =Prijzenblad!A7 -> Datum: | B7: =Prijzenblad!B7 -> 36526
A9: Discipline | B9: Uurtarief | C9: Uren Structuur Ontwerp | D9: Uren Voorlopig Ontwerp | E9: Uren Definitief Ontwerp | F9: Uren Technisch Ontwerp | G9: Prijs- en contractfase | H9: Uren realisatiefase | I9: Uren nazorgfase | J9: Totaal aantal uren | K9: Prijs (uren x uurtarief)
A10: =Prijzenblad!A10 -> Projectleider/manager | B10: =Prijzenblad!B10 -> 0 | C10: 40 | D10: 60 | E10: 40 | F10: 24 | G10: 24 | H10: 20 | I10: 0 | J10: =SUM(C10:I10) -> 208 | K10: =J10*B10 -> 0
A11: =Prijzenblad!A11 -> Bouwkostendeskundige | B11: =Prijzenblad!B11 -> 0 | C11: 16 | D11: 16 | E11: 8 | F11: 8 | G11: 8 | H11: 0 | I11: 0 | J11: =SUM(C11:I11) -> 56 | K11: =J11*B11 -> 0
A12: =Prijzenblad!A12 -> Adviseur bouwkunde | B12: =Prijzenblad!B12 -> 0 | C12: 16 | D12: 40 | E12: 40 | F12: 8 | G12: 8 | H12: 10 | I12: 4 | J12: =SUM(C12:I12) -> 126 | K12: =J12*B12 -> 0
A13: =Prijzenblad!A13 -> Adviseur installaties (E/W) | B13: =Prijzenblad!B13 -> 0 | C13: 4 | D13: 24 | E13: 16 | F13: 8 | G13: 2 | H13: 10 | I13: 4 | J13: =SUM(C13:I13) -> 68 | K13: =J13*B13 -> 0
A14: =Prijzenblad!A14 -> Adviseur bouwfysica | B14: =Prijzenblad!B14 -> 0 | C14: 8 | D14: 16 | E14: 8 | F14: 8 | G14: 2 | H14: 10 | I14: 4 | J14: =SUM(C14:I14) -> 56 | K14: =J14*B14 -> 0
A15: =Prijzenblad!A15 -> Adviseur constructies | B15: =Prijzenblad!B15 -> 0 | C15: 4 | D15: 8 | E15: 8 | F15: 8 | G15: 2 | H15: 10 | I15: 4 | J15: =SUM(C15:I15) -> 44 | K15: =J15*B15 -> 0
A16: =Prijzenblad!A16 -> Adviseur veiligheid | B16: =Prijzenblad!B16 -> 0 | C16: 2 | D16: 8 | E16: 2 | F16: 2 | G16: 2 | H16: 10 | I16: 2 | J16: =SUM(C16:I16) -> 28 | K16: =J16*B16 -> 0
A17: =Prijzenblad!A17 -> Adviseur beveiliging | B17: =Prijzenblad!B17 -> 0 | C17: 16 | D17: 40 | E17: 40 | F17: 8 | G17: 8 | H17: 10 | I17: 4 | J17: =SUM(C17:I17) -> 126 | K17: =J17*B17 -> 0
A18: =Prijzenblad!A18 -> Modelleur / tekenaar | B18: =Prijzenblad!B18 -> 0 | C18: 40 | D18: 40 | E18: 40 | F18: 16 | G18: 0 | H18: 0 | I18: 0 | J18: =SUM(C18:I18) -> 136 | K18: =J18*B18 -> 0
A19: =Prijzenblad!A19 -> Bestekschrijver | B19: =Prijzenblad!B19 -> 0 | C19: 0 | D19: 0 | E19: 0 | F19: 40 | G19: 8 | H19: 0 | I19: 0 | J19: =SUM(C19:I19) -> 48 | K19: =J19*B19 -> 0
A20: =Prijzenblad!A20 -> Directievoerder | B20: =Prijzenblad!B20 -> 0 | C20: 0 | D20: 0 | E20: 0 | F20: 0 | G20: 0 | H20: 320 | I20: 20 | J20: =SUM(C20:I20) -> 340 | K20: =J20*B20 -> 0
A21: =Prijzenblad!A21 -> Toezichthouder B | B21: =Prijzenblad!B21 -> 0 | C21: 0 | D21: 0 | E21: 0 | F21: 0 | G21: 0 | H21: 700 | I21: 40 | J21: =SUM(C21:I21) -> 740 | K21: =J21*B21 -> 0
A22: =Prijzenblad!A22 -> Toezichthouder installaties | B22: =Prijzenblad!B22 -> 0 | C22: 0 | D22: 0 | E22: 0 | F22: 0 | G22: 0 | H22: 700 | I22: 40 | J22: =SUM(C22:I22) -> 740 | K22: =J22*B22 -> 0
A23: Totaal uren | C23: =SUM(C10:C22) -> 146 | E23: =SUM(E10:E22) -> 202 | F23: =SUM(F10:F22) -> 130 | G23: =SUM(G10:G22) -> 64 | H23: =SUM(H10:H22) -> 1800 | I23: =SUM(I10:I22) -> 122 | J23: =SUM(J10:J22) -> 2716
A24: Totaal kosten | C24: =($B10*C10)+($B11*C11)+($B12*C12)+($B13*C13)+($B14*C14)+($B15*C15)+($B16*C16)+($B17*C17)+($B18*C18)+($B19*C19)+($B20*C20)+($B21*C21)+($B22*C22) -> 0 | D24: =($B10*D10)+($B11*D11)+($B12*D12)+($B13*D13)+($B14*D14)+($B15*D15)+($B16*D16)+($B17*D17)+($B18*D18)+($B19*D19)+($B20*D20)+($B21*D21)+($B22*D22) -> 0 | E24: =($B10*E10)+($B11*E11)+($B12*E12)+($B13*E13)+($B14*E14)+($B15*E15)+($B16*E16)+($B17*E17)+($B18*E18)+($B19*E19)+($B20*E20)+($B21*E21)+($B22*E22) -> 0 | F24: =($B10*F10)+($B11*F11)+($B12*F12)+($B13*F13)+($B14*F14)+($B15*F15)+($B16*F16)+($B17*F17)+($B18*F18)+($B19*F19)+($B20*F20)+($B21*F21)+($B22*F22) -> 0 | G24: =($B10*G10)+($B11*G11)+($B12*G12)+($B13*G13)+($B14*G14)+($B15*G15)+($B16*G16)+($B17*G17)+($B18*G18)+($B19*G19)+($B20*G20)+($B21*G21)+($B22*G22) -> 0 | H24: =($B10*H10)+($B11*H11)+($B12*H12)+($B13*H13)+($B14*H14)+($B15*H15)+($B16*H16)+($B17*H17)+($B18*H18)+($B19*H19)+($B20*H20)+($B21*H21)+($B22*H22) -> 0 | I24: =($B10*I10)+($B11*I11)+($B12*I12)+($B13*I13)+($B14*I14)+($B15*I15)+($B16*I16)+($B17*I17)+($B18*I18)+($B19*I19)+($B20*I20)+($B21*I21)+($B22*I22) -> 0 | K24: =SUM(K10:K23) -> 0
K25: Bedrag in Groene veld invullen op inschrijfbiljet
