Workbook

Sheet Voorblad
B2: EA Afdrukapparatuur en Printmanagementsoftware Curio
B4: TenderNed kenmerk: 599494
B6: Datum:
B9: Versie:
B12: Bedrijfsnaam:
B15: Naam ondertekenaar:
B18: Functie:
B21: Handtekening:

Sheet Instructies
B2: Instructies
B4: Beveiligd | D4: De wit gemarkeerde cellen in de achterliggende tabbladen mogen door Inschrijver niet worden veranderd.
B7: Invullen | D7: De licht groen gemarkeerde cellen in de achterliggende tabbladen dienen door Inschrijver te worden ingevuld (ook op het Voorblad; Datum, Versienummer, Inschrijver en Handtekening).
B10: Toelichting | D10: De blauw gemarkeerde cellen bevatten aanvullende toelichting / instructies voor Inschijver voor het invullen van de gevraagde prijsinformatie. Voor aanvullende achtergrondinformatie met betrekking tot de verschillende onderdelen uit dit prijzenblad wordt verwezen naar de Aanbestedingsleidraad.
B13: Totalen | D13: De grijs gemarkeerde cellen bevatten de berekende totalen ten behoeve van de TKI berekening.
B15: TKI | D15: Totale Kosten Inschrijver.

Sheet Eisen 
B2: Eisen
B4: Nr | C4: Eis | D4: Referentie tab
B5: 1 | C5: BTW: Alle opgegeven kosten/prijzen zijn exclusief BTW en op twee decimalen nauwkeurig. | D5: Implementatie en Exploitatie
B6: 2 | C6: Het betreft maandtarieven. | D6: Exploitatie
B7: 3 | C7: Totale Kosten Inschrijver (TKI). De TKI berekening is van toepassing op de gehele looptijd van de initiële Raamovereenkomst en de eventuele verlenging. | D7: Implementatie en Exploitatie
B8: 4 | C8: De implementatiekosten zijn onderdeel van de TKI berekening en worden eenmalig bij de start van de Raamovereenkomst gefactureerd. | D8: Implementatie
B9: 5 | C9: Voor de huur van de Apparatuur geldt dat in de verlengingsjaren geen huurpijs in rekening gebracht mag worden. Verder geldt dat in de verlengingsjaren Apparaten ingeleverd kunnen worden zonder bijkomende kosten. | D9: Exploitatie
B10: 6 | C10: Er zullen geen kosten in rekening worden gebracht voor het retourhalen en wipen van Apparatuur tijdens of aan het einde van de Raamovereenkomst, behoudens eventueel verschuldigde resttermijnen. | D10: Exploitatie
B11: 7 | C11: Voor scans geldt een nul tarief, deze worden dus niet in rekening gebracht. | D11: Exploitatie
B12: 8 | C12: Alle variabele en vaste kosten zoals toner en/of inkt (ongeacht vlakvulling), drum, toner opvangbakjes, Verbruiksartikelen in algemene zin, voorrijdkosten, reparatie etc. zitten in de afgesproken Afdrukprijs. Enige uitzondering hierop zijn huur van de machine, nietjes, stroom en papier. | D12: Exploitatie
B13: 9 | C13: Strategisch en/of manipulatief inschrijven is niet toegestaan. | D13: Implementatie en Exploitatie

Sheet Totale Kosten Inschrijver
B2: Totale Kosten Inschrijver
B4: Samenvatting opgegeven kosten | C4: Initiële looptijd | H4: Verlenging
B5: Onderdeel | C5: Jaar 1 | D5: Jaar 2 | E5: Jaar 3 | F5: Jaar 4 | G5: Jaar 5 | H5: Eerste Jaar | I5: Tweede Jaar | J5: Derde jaar | K5: Totaal TKI
B6: Tabel 1: Eenmalige implementatiekosten | C6: =Implementatie!C7 -> 0 | K6: =SUM(C6:J6) -> 0
B7: Tabel 2: Huur Apparatuur | C7: =Exploitatie!F14 -> 0 | D7: =Exploitatie!G14 -> 0 | E7: =Exploitatie!H14 -> 0 | F7: =Exploitatie!I14 -> 0 | G7: =Exploitatie!J14 -> 0 | K7: =SUM(C7:J7) -> 0
B8: Tabel 3: Verbruik Afdrukken | C8: =Exploitatie!E31 -> 0 | D8: =Exploitatie!F31 -> 0 | E8: =Exploitatie!G31 -> 0 | F8: =Exploitatie!H31 -> 0 | G8: =Exploitatie!I31 -> 0 | H8: =Exploitatie!J31 -> 0 | I8: =Exploitatie!K31 -> 0 | J8: =Exploitatie!L31 -> 0 | K8: =SUM(C8:J8) -> 0
B9: Tabel 4: Printmanagement software | C9: =Exploitatie!G45 -> 0 | D9: =Exploitatie!H45 -> 0 | E9: =Exploitatie!I45 -> 0 | F9: =Exploitatie!J45 -> 0 | G9: =Exploitatie!K45 -> 0 | H9: =Exploitatie!L45 -> 0 | I9: =Exploitatie!M45 -> 0 | J9: =Exploitatie!N45 -> 0 | K9: =SUM(C9:J9) -> 0
B10: Totaal | C10: =SUM(C6:C9) -> 0 | D10: =SUM(D6:D9) -> 0 | E10: =SUM(E6:E9) -> 0 | F10: =SUM(F6:F9) -> 0 | G10: =SUM(G6:G9) -> 0 | H10: =SUM(H6:H9) -> 0 | I10: =SUM(I6:I9) -> 0 | J10: =SUM(J6:J9) -> 0 | K10: =SUM(K6:K9) -> 0
B12: Toelichting
B13: - Inschrijver dient in dit tabblad niets in te vullen of aan te passen, alle ingevulde bedragen uit de andere tabbladen worden automatisch overgenomen.
B14: - Bovenstaande tabel geeft een samenvatting van de prijzen en vergoedingen opgenomen in de andere tabbladen.
B15: - De optelsom van alle prijscomponenten over de gehele looptijd vormt de TKI (Totale Kosten Inschrijver).
B16: - Er wordt geen gebruik gemaakt van weging tussen de verschillende tabellen.

Sheet Implementatie
B2: Kosten Implementatie
B4: Tabel 1: Eenmalige implementatiekosten
B5: Onderdeel | C5: Tarief | D5: Percentage TKI
B6: Eenmalige implementatiekosten | C6: 0 | D6: =IF(('Totale Kosten Inschrijver'!K10>0),(C6/'Totale Kosten Inschrijver'!K10),0) -> 0
B7: Subtotaal | C7: =C6 -> 0
B9: Toelichting
B10: - In de bovenstaande tabel vult Inschrijver de algemene kosten voor de totale Implementatie in (zie Programma van Eisen voor de definitie).
B11: - De kosten voor de Implementatie zijn all-in kosten voor het opleveren van de Apparatuur en Software tot de volledige ingebruikname door de eindgebruikers.
B12: - De opgegeven eenmalige implementatiekosten mogen niet meer dan 2% van TKI bedragen.

Sheet Exploitatie
B2: Kosten Exploitatie
F4: Huurprijs per jaar
B5: Tabel 2: Huur Apparatuur | F5: Initiële looptijd | K5: Verlenging
B6: Type | C6: Model conform eisen PVE | D6: Aantal (Indicatief) | E6: Huurprijs per rmaand per Apparaat | F6: Jaar 1 | G6: Jaar 2 | H6: Jaar 3 | I6: Jaar 4 | J6: Jaar 5 | K6: Eerste Jaar | L6: Tweede Jaar | M6: Derde Jaar
B7: Type 1 | C7: A4 MFP - > 25 ppm | D7: 10 | E7: 0 | F7: =$D7*$E7*12 -> 0 | G7: =$D7*$E7*12 -> 0 | H7: =$D7*$E7*12 -> 0 | I7: =$D7*$E7*12 -> 0 | J7: =$D7*$E7*12 -> 0
B8: Type 2 | C8: A3 MFP - > 30 ppm | D8: 91 | E8: 0 | F8: =$D8*$E8*12 -> 0 | G8: =$D8*$E8*12 -> 0 | H8: =$D8*$E8*12 -> 0 | I8: =$D8*$E8*12 -> 0 | J8: =$D8*$E8*12 -> 0
B9: Type 3 | C9: A3 MFP - > 50 ppm | D9: 26 | E9: 0 | F9: =$D9*$E9*12 -> 0 | G9: =$D9*$E9*12 -> 0 | H9: =$D9*$E9*12 -> 0 | I9: =$D9*$E9*12 -> 0 | J9: =$D9*$E9*12 -> 0
B10: Optioneel | C10: Externe finisher | D10: 24 | E10: 0 | F10: =$D10*$E10*12 -> 0 | G10: =$D10*$E10*12 -> 0 | H10: =$D10*$E10*12 -> 0 | I10: =$D10*$E10*12 -> 0 | J10: =$D10*$E10*12 -> 0
B11: Optioneel | C11: Bulklade/ LCT | D11: 24 | E11: 0 | F11: =$D11*$E11*12 -> 0 | G11: =$D11*$E11*12 -> 0 | H11: =$D11*$E11*12 -> 0 | I11: =$D11*$E11*12 -> 0 | J11: =$D11*$E11*12 -> 0
B12: Type 4 | C12: A4 Printer zwart/wit - > 25 ppm | D12: 9 | E12: 0 | F12: =$D12*$E12*12 -> 0 | G12: =$D12*$E12*12 -> 0 | H12: =$D12*$E12*12 -> 0 | I12: =$D12*$E12*12 -> 0 | J12: =$D12*$E12*12 -> 0
B13: Optioneel | C13: Cardreader | D13: 3 | E13: 0 | F13: =$D13*$E13*12 -> 0 | G13: =$D13*$E13*12 -> 0 | H13: =$D13*$E13*12 -> 0 | I13: =$D13*$E13*12 -> 0 | J13: =$D13*$E13*12 -> 0
E14: Subtotaal | F14: =SUM(F7:F13) -> 0 | G14: =SUM(G7:G13) -> 0 | H14: =SUM(H7:H13) -> 0 | I14: =SUM(I7:I13) -> 0 | J14: =SUM(J7:J13) -> 0
B18: Toelichting
B19: - In de kolom 'model conform eisen PvE' moet het modelnummer van de Inschrijver worden ingevuld.
B20: - In de bovenstaande tabel vult Inschrijver de Huurprijs per Apparaat per maand in. De configuratie van de aangeboden Apparatuur moet voldoen aan de machinespecificaties uit Bijlage G.
B21: - De aantallen Apparaten betreffen een indicatief aantal. Hier kunnen geen rechten aan ontleend worden.
B22: - In de subtotaal regel van bovenstaande tabel wordt de TKI per jaar voor dit onderdeel berekend door de verschillende onderdelen bij elkaar op te tellen.
E26: Afdrukkosten per jaar
B27: Tabel 3: Verbruik Afdrukken | E27: Initiële looptijd | J27: Verlenging
B28: Type Print | C28: Volume per maand | D28: Afdrukprijs | E28: Jaar 1 | F28: Jaar 2 | G28: Jaar 3 | H28: Jaar 4 | I28: Jaar 5 | J28: Eerste Jaar | K28: Tweede Jaar | L28: Derde Jaar
B29: Mono | C29: 500000 | D29: 0 | E29: =($C$29*$D$29)*12 -> 0 | F29: =($C$29*$D$29)*12 -> 0 | G29: =($C$29*$D$29)*12 -> 0 | H29: =($C$29*$D$29)*12 -> 0 | I29: =($C$29*$D$29)*12 -> 0 | J29: =($C$29*$D$29)*12 -> 0 | K29: =($C$29*$D$29)*12 -> 0 | L29: =($C$29*$D$29)*12 -> 0
B30: Kleur | C30: 500000 | D30: 0 | E30: =($C$30*$D$30)*12 -> 0 | F30: =($C$30*$D$30)*12 -> 0 | G30: =($C$30*$D$30)*12 -> 0 | H30: =($C$30*$D$30)*12 -> 0 | I30: =($C$30*$D$30)*12 -> 0 | J30: =($C$30*$D$30)*12 -> 0 | K30: =($C$30*$D$30)*12 -> 0 | L30: =($C$30*$D$30)*12 -> 0
D31: Subtotaal | E31: =SUM(E29:E30) -> 0 | F31: =SUM(F29:F30) -> 0 | G31: =SUM(G29:G30) -> 0 | H31: =SUM(H29:H30) -> 0 | I31: =SUM(I29:I30) -> 0 | J31: =J30+J29 -> 0 | K31: =K30+K29 -> 0 | L31: =L30+L29 -> 0
B33: Toelichting
B34: - In de kolom Afdrukprijs voert Inschrijver de Afdrukprijs voor het betreffende type print.
B35: - Het volume per maand betreft een indicatief aantal. Hier kunnen geen rechten aan ontleend worden.
B36: - In de subtotaal regel van bovenstaande tabel wordt de TKI per jaar voor dit onderdeel berekend door de verschillende onderdelen bij elkaar op te tellen.
G40: Huur- en supportkosten per jaar
B41: Tabel 4: Printmanagement Software | G41: Initiële looptijd | L41: Verlenging
B42: Printmanagement conform eisen PVE | D42: Aantal t.b.h. TKI | E42: Maandelijkse kosten jaar 1 t/m 5 | F42: Maandelijkse kosten verlenging | G42: Jaar 1 | H42: Jaar 2 | I42: Jaar 3 | J42: Jaar 4 | K42: Jaar 5 | L42: Eerste Jaar | M42: Tweede Jaar | N42: Derde Jaar
B43: Printmanagement per MFP | D43: =D7+D8+D9 -> 127 | E43: 0 | F43: 0 | G43: =$D$43*$E$43 -> 0 | H43: =$D$43*$E$43 -> 0 | I43: =$D$43*$E$43 -> 0 | J43: =$D$43*$E$43 -> 0 | K43: =$D$43*$E$43 -> 0 | L43: =$D$43*$F$43 -> 0 | M43: =$D$43*$F$43 -> 0 | N43: =$D$43*$F$43 -> 0
B44: Printmanagement per Printer | D44: =D12 -> 9 | E44: 0 | F44: 0 | G44: =$D$44*$E$44 -> 0 | H44: =$D$44*$E$44 -> 0 | I44: =$D$44*$E$44 -> 0 | J44: =$D$44*$E$44 -> 0 | K44: =$D$44*$E$44 -> 0 | L44: =$D$44*$F$44 -> 0 | M44: =$D$44*$F$44 -> 0 | N44: =$D$44*$F$44 -> 0
F45: Subtotaal | G45: =G43+G44 -> 0 | H45: =H43+H44 -> 0 | I45: =I43+I44 -> 0 | J45: =J43+J44 -> 0 | K45: =K43+K44 -> 0 | L45: =SUM(L43:L44) -> 0 | M45: =SUM(M43:M44) -> 0 | N45: =SUM(N43:N44) -> 0
B47: Toelichting
B48: - In de kolom Maandelijkse kosten voert u de maandelijkse kosten voor het betreffende item in.
B49: - Het aantal betreft een indicatief aantal t.b.v. van de TKI berekening.
B50: - In de subtotaal regel van bovenstaande tabel wordt de TKI per jaar voor dit onderdeel berekend door de verschillende onderdelen bij elkaar op te tellen.

Sheet Kosten tijdens Looptijd
B2: Kosten tijdens looptijd
B4: Tabel 5: uurtarieven
B5: Type ondersteuning | C5: Tarief
B6: Projectmanager | C6: 130
B7: Solution consultant | C7: 130
B8: Software engineer | C8: 110
B9: Hardware engineer | C9: 90
B11: Toelichting
B12: - In de bovenstaande tabel vindt Inschrijver de tarieven die gerekend worden voor ondersteuning, die niet standaard onderdeel is van de overeengekomen dienstverlening, gedurende de looptijd van de Raamovereenkomst.
B13: - De tarieven uit bovenstaande tabel mogen alleen in rekening worden gebracht wanneer er extra dienstverlening of uitbreiding van de bestaande dienstverlening is verlangt of voor extra activiteiten die het gevolg zijn van handelingen aan de kant van Opdrachtgever.
B14: - Indien Inschrijver niet akkoord gaat met deze tarieven dan wordt deze uitgesloten van deelname aan de Aanbestedingsprocedure.
B15: - Inzet van bovenstaande ondersteuning vindt alleen plaats na goedkeuring van een ureninschatting van Inschrijver door Opdrachtgever.
B19: Tabel 6: Verbruiksartikelen
B20: Soort | C20: Tarief | D20: Capaciteit cartridge
B21: Nietjes Type 2 | C21: 0 | D21: 0
B22: Nietjes Type 3 | C22: 0 | D22: 0
B24: Toelichting
B25: - In de bovenstaande tabel vult Inschrijver de kosten en de capciteit van de gevraagde verbruiksartikelen in.
B26: - Het ingegeven tarief is vast gedurende de looptijd van de Raamovereenkomst.
B27: - Levering van Verbruiksartikelen vindt plaats op basis van bestelling door Opdrachtgever.
