Workbook
Name Bouwaard: Data!$B$2:$B$6
Name CAD: Data!$C$2:$C$3
Name courtage: 'Verrekening Jaarpremie'!#REF!
Name Interest: Data!$A$2:$A$16
Name Taxatie: Data!$D$2:$D$4

Sheet Overzicht
A1: Totaaloverzicht
A2: Polisnummer | B2: B0100135903
A3: Verzekeringsnemer | B3: Regionaal Opleidingen Centrum Nijmegen en Omstreken
A4: VNAB-nummer | B4: 648405501
A5: Behorende bij | B5: Aanhangsel 2.5
B6: Van | C6: Tot
A7: Periode | B7: 46023 | C7: 46388
B9: Verzekerde waarde | C9: Jaarpremie
A10: Gebouwen | B10: 186647000 | C10: 86512.751
A11: Bedrijfsuitrusting | B11: 39849000 | C11: 18470.41
A12: Opruimingskosten | B12: 8000000 | C12: 3708.08
A13: Totaal | B13: 234496000 | C13: 108691.24

Sheet Specificatie
D1: Specificatie | S1: Mutaties | T1: Situatie voorgaande polis
D2: Polisnummer | J2: =Overzicht!B2 -> B0100135903 | T2: Aanhangsel 2.4
D3: Verzekeringsnemer | J3: =Overzicht!B3 -> Regionaal Opleidingen Centrum Nijmegen en Omstreken
D4: VNAB-nummer | J4: =Overzicht!B4 -> 648405501
A5: Verzekerde | B5: Certificaat | C5: Sub | D5: Verzekerde interest | E5: Bestemming | F5: Omschrijving | G5: Schadevergoedingstermijn | H5: Bouwaard | I5: Getaxeerd? | J5: Adres | K5: Postcode | L5: Plaats | M5: Land | N5: Vorkbedrag | O5: Premiegrondslag | P5: Indexverschil | Q5: Verzekerde waarde | R5: Index nieuw | S5: Verzekerde waarde | T5: Verz. Waarde Oud: | U5: Index oud
I6: Ja/Nee | S6: inclusief mutaties
A9: Verzekerde | B9: Certificaat | C9: Sub | D9: Verzekerde interest | E9: Bestemming | F9: Omschrijving | G9: Schadevergoedingstermijn | H9: Bouwaard | I9: Getaxeerd | J9: Adres | K9: Postcode | L9: Plaats | M9: Land | N9: Vorkbedrag | O9: Premiegrondslag | P9: Indexverschil | Q9: Verzekerde Waarde | R9: Index nieuw | S9: Mutaties | T9: Verz. Waarde Oud: | U9: Index oud
B10: 0 | C10: 1 | D10: Gebouwen | H10: - | I10: Ja | J10: Begijnenstraat 2 | K10: 5831 EM | L10: Boxmeer | M10: Nederland | N10: 0 | O10: =IF(N10=0,Q10,(Q10+N10)/2) -> 8347000 | P10: =Table3[[#This Row],[Verzekerde Waarde]]-Table3[[#This Row],[Mutaties]] -> 0 | Q10: =IF(R10=U10,S10,ROUNDUP(S10/U10*R10,-3)) -> 8347000 | R10: 138.1 | S10: =T10+SUMIF(Table4[Subnummer],Table3[[#This Row],[Sub]],Table4[Som mutaties]) -> 8347000 | T10: 8347000 | U10: 138.1
B11: 0 | C11: 2 | D11: Bedrijfsuitrusting | H11: - | I11: Ja | L11: Boxmeer | M11: Nederland | N11: 0 | O11: =IF(N11=0,Q11,(Q11+N11)/2) -> 2950000 | P11: =Table3[[#This Row],[Verzekerde Waarde]]-Table3[[#This Row],[Mutaties]] -> 0 | Q11: =IF(R11=U11,S11,ROUNDUP(S11/U11*R11,-3)) -> 2950000 | R11: 133.4 | S11: =T11+SUMIF(Table4[Subnummer],Table3[[#This Row],[Sub]],Table4[Som mutaties]) -> 2950000 | T11: 2950000 | U11: 133.4
B12: 0 | C12: 3 | D12: Gebouwen | H12: - | I12: Ja | J12: Campusbaan 6 | L12: Nijmegen | M12: Nederland | N12: 0 | O12: =IF(N12=0,Q12,(Q12+N12)/2) -> 95223000 | P12: =Table3[[#This Row],[Verzekerde Waarde]]-Table3[[#This Row],[Mutaties]] -> 0 | Q12: =IF(R12=U12,S12,ROUNDUP(S12/U12*R12,-3)) -> 95223000 | R12: 138.1 | S12: =T12+SUMIF(Table4[Subnummer],Table3[[#This Row],[Sub]],Table4[Som mutaties]) -> 95223000 | T12: 95223000 | U12: 138.1
B13: 0 | C13: 4 | D13: Bedrijfsuitrusting | H13: - | I13: Ja | L13: Nijmegen | M13: Nederland | N13: 0 | O13: =IF(N13=0,Q13,(Q13+N13)/2) -> 16675000 | P13: =Table3[[#This Row],[Verzekerde Waarde]]-Table3[[#This Row],[Mutaties]] -> 0 | Q13: =IF(R13=U13,S13,ROUNDUP(S13/U13*R13,-3)) -> 16675000 | R13: 133.4 | S13: =T13+SUMIF(Table4[Subnummer],Table3[[#This Row],[Sub]],Table4[Som mutaties]) -> 16675000 | T13: 16675000 | U13: 133.4
B14: 0 | C14: 5 | D14: Gebouwen | H14: - | I14: Ja | J14: Energieweg 25 | K14: 6541 CW | L14: Nijmegen | M14: Nederland | N14: 0 | O14: =IF(N14=0,Q14,(Q14+N14)/2) -> 6468000 | P14: =Table3[[#This Row],[Verzekerde Waarde]]-Table3[[#This Row],[Mutaties]] -> 0 | Q14: =IF(R14=U14,S14,ROUNDUP(S14/U14*R14,-3)) -> 6468000 | R14: 138.1 | S14: =T14+SUMIF(Table4[Subnummer],Table3[[#This Row],[Sub]],Table4[Som mutaties]) -> 6468000 | T14: 6468000 | U14: 138.1
B15: 0 | C15: 6 | D15: Bedrijfsuitrusting | H15: - | I15: Ja | L15: Nijmegen | M15: Nederland | N15: 0 | O15: =IF(N15=0,Q15,(Q15+N15)/2) -> 3808000 | P15: =Table3[[#This Row],[Verzekerde Waarde]]-Table3[[#This Row],[Mutaties]] -> 0 | Q15: =IF(R15=U15,S15,ROUNDUP(S15/U15*R15,-3)) -> 3808000 | R15: 133.4 | S15: =T15+SUMIF(Table4[Subnummer],Table3[[#This Row],[Sub]],Table4[Som mutaties]) -> 3808000 | T15: 3808000 | U15: 133.4
B16: 0 | C16: 7 | D16: Gebouwen | H16: - | I16: Ja | J16: Marterstraat 45 | K16: 6531 KA | L16: Nijmegen | M16: Nederland | N16: 0 | O16: =IF(N16=0,Q16,(Q16+N16)/2) -> 12012000 | P16: =Table3[[#This Row],[Verzekerde Waarde]]-Table3[[#This Row],[Mutaties]] -> 0 | Q16: =IF(R16=U16,S16,ROUNDUP(S16/U16*R16,-3)) -> 12012000 | R16: 138.1 | S16: =T16+SUMIF(Table4[Subnummer],Table3[[#This Row],[Sub]],Table4[Som mutaties]) -> 12012000 | T16: 12012000 | U16: 138.1
B17: 0 | C17: 8 | D17: Bedrijfsuitrusting | H17: - | I17: Ja | L17: Nijmegen | M17: Nederland | N17: 0 | O17: =IF(N17=0,Q17,(Q17+N17)/2) -> 3106000 | P17: =Table3[[#This Row],[Verzekerde Waarde]]-Table3[[#This Row],[Mutaties]] -> 0 | Q17: =IF(R17=U17,S17,ROUNDUP(S17/U17*R17,-3)) -> 3106000 | R17: 133.4 | S17: =T17+SUMIF(Table4[Subnummer],Table3[[#This Row],[Sub]],Table4[Som mutaties]) -> 3106000 | T17: 3106000 | U17: 133.4
B18: 0 | C18: 9 | D18: Gebouwen | H18: - | I18: Ja | J18: Heyendaalseweg 98 | L18: Nijmegen | M18: Nederland | N18: 0 | O18: =IF(N18=0,Q18,(Q18+N18)/2) -> 64597000 | P18: =Table3[[#This Row],[Verzekerde Waarde]]-Table3[[#This Row],[Mutaties]] -> 0 | Q18: =IF(R18=U18,S18,ROUNDUP(S18/U18*R18,-3)) -> 64597000 | R18: 138.1 | S18: =T18+SUMIF(Table4[Subnummer],Table3[[#This Row],[Sub]],Table4[Som mutaties]) -> 64597000 | T18: 64597000 | U18: 138.1
B19: 0 | C19: 10 | D19: Bedrijfsuitrusting | H19: - | I19: Ja | L19: Nijmegen | M19: Nederland | N19: 0 | O19: =IF(N19=0,Q19,(Q19+N19)/2) -> 12869000 | P19: =Table3[[#This Row],[Verzekerde Waarde]]-Table3[[#This Row],[Mutaties]] -> 0 | Q19: =IF(R19=U19,S19,ROUNDUP(S19/U19*R19,-3)) -> 12869000 | R19: 133.4 | S19: =T19+SUMIF(Table4[Subnummer],Table3[[#This Row],[Sub]],Table4[Som mutaties]) -> 12869000 | T19: 12869000 | U19: 133.4
B20: 0 | C20: 11 | D20: Bedrijfsuitrusting | H20: - | I20: Ja | J20: Tarweweg 3 | L20: Nijmegen | M20: Nederland | N20: 0 | O20: =IF(N20=0,Q20,(Q20+N20)/2) -> 441000 | P20: =Table3[[#This Row],[Verzekerde Waarde]]-Table3[[#This Row],[Mutaties]] -> 0 | Q20: =IF(R20=U20,S20,ROUNDUP(S20/U20*R20,-3)) -> 441000 | R20: 133.4 | S20: =T20+SUMIF(Table4[Subnummer],Table3[[#This Row],[Sub]],Table4[Som mutaties]) -> 441000 | T20: 441000 | U20: 133.4
A21: Total | N21: =SUBTOTAL(109,Table3[Vorkbedrag]) -> 0 | O21: =SUBTOTAL(109,Table3[Premiegrondslag]) -> 226496000 | P21: =SUBTOTAL(109,Table3[Indexverschil]) -> 0 | Q21: =SUBTOTAL(109,Table3[Verzekerde Waarde]) -> 226496000 | S21: =SUBTOTAL(109,Table3[Mutaties]) -> 226496000 | T21: =SUBTOTAL(109,Table3[Verz. Waarde Oud:]) -> 226496000
Q31: =SUM(Table3[[#Totals],[Verzekerde Waarde]]-Table3[[#Totals],[Mutaties]]) -> 0

Sheet Taxaties
A1: Getaxeerde objecten
A2: Sub | B2: Soort interest | C2: Taxateur | D2: Taxatiedatum | E2: Rapportnummer | F2: Vervalt op
A3: 1 | B3: Gebouwen | C3: CED | D3: 44392 | E3: 21.389396.4 | F3: 46583
A4: 2 | B4: Bedrijfsuitrusting | C4: CED | D4: 45693 | E4: 24.438176.4 | F4: 46788
A5: 3 | B5: =IFERROR(_xlfn.XLOOKUP(Table8[[#This Row],[Sub]],Table3[Sub],Table3[Verzekerde interest]),"-") -> Gebouwen | C5: CED | D5: 45012 | E5: 23.416875.4 | F5: 47204
A6: 4 | B6: =IFERROR(_xlfn.XLOOKUP(Table8[[#This Row],[Sub]],Table3[Sub],Table3[Verzekerde interest]),"-") -> Bedrijfsuitrusting | C6: CED | D6: 45715 | E6: 24.438174.4 | F6: 46810
A7: 5 | B7: =IFERROR(_xlfn.XLOOKUP(Table8[[#This Row],[Sub]],Table3[Sub],Table3[Verzekerde interest]),"-") -> Gebouwen | C7: CED | D7: 44392 | E7: 21.389853.4 | F7: 46583
A8: 6 | B8: =IFERROR(_xlfn.XLOOKUP(Table8[[#This Row],[Sub]],Table3[Sub],Table3[Verzekerde interest]),"-") -> Bedrijfsuitrusting | C8: CED | D8: 45702 | E8: 24.438173.4 | F8: 46797
A9: 7 | B9: =IFERROR(_xlfn.XLOOKUP(Table8[[#This Row],[Sub]],Table3[Sub],Table3[Verzekerde interest]),"-") -> Gebouwen | C9: CED | D9: 44392 | E9: 21.389854.4 | F9: 46583
A10: 8 | B10: =IFERROR(_xlfn.XLOOKUP(Table8[[#This Row],[Sub]],Table3[Sub],Table3[Verzekerde interest]),"-") -> Bedrijfsuitrusting | C10: CED | D10: 45742 | E10: 24.438172.4 | F10: 46838
A11: 9 | B11: =IFERROR(_xlfn.XLOOKUP(Table8[[#This Row],[Sub]],Table3[Sub],Table3[Verzekerde interest]),"-") -> Gebouwen | C11: CED | D11: 45012 | E11: 23.417969.4 | F11: 47204
A12: 10 | B12: =IFERROR(_xlfn.XLOOKUP(Table8[[#This Row],[Sub]],Table3[Sub],Table3[Verzekerde interest]),"-") -> Bedrijfsuitrusting | C12: CED | D12: 45702 | E12: 24.438175.4 | F12: 46797
A13: 11 | B13: =IFERROR(_xlfn.XLOOKUP(Table8[[#This Row],[Sub]],Table3[Sub],Table3[Verzekerde interest]),"-") -> Bedrijfsuitrusting | C13: CED | D13: 45702 | E13: 24.436108.4 | F13: 46797

Sheet Verrekening Jaarpremie
A1: Verrekening Jaarpremie
A2: =Overzicht!B2 -> B0100135903
A3: =Overzicht!B3 -> Regionaal Opleidingen Centrum Nijmegen en Omstreken
A4: =Overzicht!B4 -> 648405501
A7: Termijn: | B7: Datum
A8: Van | B8: =Overzicht!B7 -> 46023
A9: Tot | B9: =Overzicht!C7 -> 46388
A11: Certificaat | B11: 0
A12: Verzekeraar | B12: Relatienummer | C12: Aandeel | D12: Jaarpremie | E12: Al geboekt met nota | F12: Nog te boeken
A13: =Specificatie!#REF! -> #REF! | B13: =Specificatie!#REF! -> #REF! | C13: =Specificatie!#REF! -> #REF! | D13: =SUMIF(Table3[Certificaat],$B11,#REF!) -> #REF! | F13: =D13-E13 -> #REF!
A14: =Specificatie!#REF! -> #REF! | B14: =Specificatie!#REF! -> #REF! | C14: =Specificatie!#REF! -> #REF! | D14: =SUMIF(Table3[Certificaat],$B11,#REF!) -> #REF! | F14: =D14-E14 -> #REF!
A15: =Specificatie!#REF! -> #REF! | B15: =Specificatie!#REF! -> #REF! | C15: =Specificatie!#REF! -> #REF! | D15: =SUMIF(Table3[Certificaat],$B11,#REF!) -> #REF! | F15: =D15-E15 -> #REF!
A16: =Specificatie!#REF! -> #REF! | B16: =Specificatie!#REF! -> #REF! | C16: =Specificatie!#REF! -> #REF! | D16: =SUMIF(Table3[Certificaat],$B11,#REF!) -> #REF! | F16: =D16-E16 -> #REF!
A17: =Specificatie!#REF! -> #REF! | B17: =Specificatie!#REF! -> #REF! | C17: =Specificatie!#REF! -> #REF! | D17: =SUMIF(Table3[Certificaat],$B11,#REF!) -> #REF! | F17: =D17-E17 -> #REF!
A18: Total | C18: =SUBTOTAL(109,Table1[Aandeel]) -> #REF! | D18: =SUBTOTAL(109,Table1[Jaarpremie]) -> #REF! | E18: =SUBTOTAL(109,Table1[Al geboekt met nota ]) -> 0 | F18: =SUBTOTAL(109,Table1[Nog te boeken]) -> #REF!

Sheet Mutaties
A1: Mutatielijst
A2: =Overzicht!A2 -> Polisnummer | B2: =Overzicht!B2 -> B0100135903
A3: =Overzicht!A3 -> Verzekeringsnemer | B3: =Overzicht!B3 -> Regionaal Opleidingen Centrum Nijmegen en Omstreken
A4: =Overzicht!A4 -> VNAB-nummer | B4: =Overzicht!B4 -> 648405501
A5: Klant | B5: Omschrijving mutatie: | C5: Certificaat | D5: Sub | F5: Verzekerd bedrag | M5: Mutatiedatum | N5: Vervaldatum | O5: Dagen | P5: Dagen per jaar | Q5: Sprake van CAD? | R5: Verrekeningen
W6: =Specificatie!#REF! -> #REF! | X6: =Specificatie!#REF! -> #REF! | Y6: =Specificatie!#REF! -> #REF! | Z6: =Specificatie!#REF! -> #REF! | AA6: =Specificatie!#REF! -> #REF! | AB6: =Specificatie!#REF! -> #REF! | AC6: =Specificatie!#REF! -> #REF! | AD6: =Specificatie!#REF! -> #REF! | ... AF6: =Specificatie!#REF! -> #REF!
W7: =Specificatie!#REF! -> #REF! | X7: =Specificatie!#REF! -> #REF! | Y7: =Specificatie!#REF! -> #REF! | Z7: =Specificatie!#REF! -> #REF! | AA7: =Specificatie!#REF! -> #REF! | AB7: =Specificatie!#REF! -> #REF! | AC7: =Specificatie!#REF! -> #REF! | AD7: =Specificatie!#REF! -> #REF! | ... AF7: =Specificatie!#REF! -> #REF! | AG7: Totaal
A8: Klant | B8: Omschrijving mutatie | C8: Certificaat | D8: Subnummer | E8: Adres | F8: Oud | G8: Investering Nieuw | H8: Investering bestaand | I8: Verlaging | J8: Afvoer | K8: Inclusief mutatie | L8: Som mutaties | M8: Mutatiedatum | N8: Vervaldatum | O8: Dagen | P8: Dagen per jaar | Q8: Sprake van CAD? | R8: Investering nieuw2 | S8: Investering bestaand2 | T8: Verlaging2 | U8: Afvoer2 | V8: Totaal | W8: Verzekeraar 6 | X8: Verzekeraar 7 | Y8: Verzekeraar 8 | Z8: Verzekeraar 9 | AA8: Verzekeraar 10 | AB8: Verzekeraar 17 | AC8: Verzekeraar 18 | AD8: Verzekeraar 19 | AE8: Verzekeraar 20 | AF8: Verzekeraar 21 | AG8: Totaal2 | AH8: Boeking
A9: =IFERROR(_xlfn.XLOOKUP(D9,Table3[Sub],Table3[Verzekerde]),"-") -> - | C9: =IFERROR(_xlfn.XLOOKUP(Table4[[#This Row],[Subnummer]],Table3[Sub],Table3[Certificaat]),"-") -> - | D9: 0 | E9: =_xlfn.XLOOKUP(Table4[[#This Row],[Subnummer]],Table3[Sub],Table3[Adres],"Error",0,1) -> Error | F9: =IFERROR(_xlfn.XLOOKUP(Table4[[#This Row],[Subnummer]],Table3[Sub],Table3[Verz. Waarde Oud:]),0) -> 0 | G9: 0 | H9: 0 | I9: 0 | J9: 0 | K9: =F9+G9+H9-I9-J9 -> 0 | L9: =K9-F9 -> 0 | M9: 45145 | N9: 45292 | O9: =N9-M9 -> 147 | P9: 365 | Q9: Nee | R9: =G9*O9/P9 -> 0 | S9: {=_xlfn.IFS($Q9="Nee",H9*$O9/$P9,$Q9="Ja",H9*0.5)} -> 0 | T9: {=_xlfn.IFS($Q9="Nee",-(I9*$O9/$P9),$Q9="Ja",-(I9*0.5))} -> 0 | U9: =-J9*O9/P9 -> 0 | V9: =SUM(R9:U9) -> 0 | W9: =IFERROR(_xlfn.XLOOKUP(Table4[[#This Row],[Subnummer]],Table3[Sub],#REF!),0) -> 0 | X9: =IFERROR(_xlfn.XLOOKUP(Table4[[#This Row],[Subnummer]],Table3[Sub],#REF!),0) -> 0 | Y9: =IFERROR(_xlfn.XLOOKUP(Table4[[#This Row],[Subnummer]],Table3[Sub],#REF!),0) -> 0 | Z9: =IFERROR(_xlfn.XLOOKUP(Table4[[#This Row],[Subnummer]],Table3[Sub],#REF!),0) -> 0 | AA9: =IFERROR(_xlfn.XLOOKUP(Table4[[#This Row],[Subnummer]],Table3[Sub],#REF!),0) -> 0 | AB9: =$V9*W9/1000*W$7 -> #REF! | AC9: =$V9*X9/1000*X$7 -> #REF! | AD9: =$V9*Y9/1000*Y$7 -> #REF! | AE9: =$V9*Z9/1000*Z$7 -> #REF! | AF9: =$V9*AA9/1000*AA$7 -> #REF! | AG9: =SUM(AB9:AF9) -> #REF! | AH9: {=_xlfn.IFS(AG9=0,"Nihil",AG9>0,"Suppletie",AG9<0,"Restitutie")} -> #REF!
A10: =IFERROR(_xlfn.XLOOKUP(D10,Table3[Sub],Table3[Verzekerde]),"-") -> - | C10: =IFERROR(_xlfn.XLOOKUP(Table4[[#This Row],[Subnummer]],Table3[Sub],Table3[Certificaat]),"-") -> - | D10: 0 | E10: =_xlfn.XLOOKUP(Table4[[#This Row],[Subnummer]],Table3[Sub],Table3[Adres],"Error",0,1) -> Error | F10: =IFERROR(_xlfn.XLOOKUP(Table4[[#This Row],[Subnummer]],Table3[Sub],Table3[Verz. Waarde Oud:]),0) -> 0 | G10: 0 | H10: 0 | I10: 0 | J10: 0 | K10: =F10+G10+H10-I10-J10 -> 0 | L10: =K10-F10 -> 0 | M10: 45146 | N10: 45292 | O10: =N10-M10 -> 146 | P10: 365 | Q10: Nee | R10: =G10*O10/P10 -> 0 | S10: {=_xlfn.IFS($Q10="Nee",H10*$O10/$P10,$Q10="Ja",H10*0.5)} -> 0 | T10: {=_xlfn.IFS($Q10="Nee",-(I10*$O10/$P10),$Q10="Ja",-(I10*0.5))} -> 0 | U10: =-J10*O10/P10 -> 0 | V10: =SUM(R10:U10) -> 0 | W10: =IFERROR(_xlfn.XLOOKUP(Table4[[#This Row],[Subnummer]],Table3[Sub],#REF!),0) -> 0 | X10: =IFERROR(_xlfn.XLOOKUP(Table4[[#This Row],[Subnummer]],Table3[Sub],#REF!),0) -> 0 | Y10: =IFERROR(_xlfn.XLOOKUP(Table4[[#This Row],[Subnummer]],Table3[Sub],#REF!),0) -> 0 | Z10: =IFERROR(_xlfn.XLOOKUP(Table4[[#This Row],[Subnummer]],Table3[Sub],#REF!),0) -> 0 | AA10: =IFERROR(_xlfn.XLOOKUP(Table4[[#This Row],[Subnummer]],Table3[Sub],#REF!),0) -> 0 | AB10: =$V10*W10/1000*W$7 -> #REF! | AC10: =$V10*X10/1000*X$7 -> #REF! | AD10: =$V10*Y10/1000*Y$7 -> #REF! | AE10: =$V10*Z10/1000*Z$7 -> #REF! | AF10: =$V10*AA10/1000*AA$7 -> #REF! | AG10: =SUM(AB10:AF10) -> #REF! | AH10: {=_xlfn.IFS(AG10=0,"Nihil",AG10>0,"Suppletie",AG10<0,"Restitutie")} -> #REF!
A11: =IFERROR(_xlfn.XLOOKUP(D11,Table3[Sub],Table3[Verzekerde]),"-") -> - | C11: =IFERROR(_xlfn.XLOOKUP(Table4[[#This Row],[Subnummer]],Table3[Sub],Table3[Certificaat]),"-") -> - | D11: 0 | E11: =_xlfn.XLOOKUP(Table4[[#This Row],[Subnummer]],Table3[Sub],Table3[Adres],"Error",0,1) -> Error | F11: =IFERROR(_xlfn.XLOOKUP(Table4[[#This Row],[Subnummer]],Table3[Sub],Table3[Verz. Waarde Oud:]),0) -> 0 | G11: 0 | H11: 0 | I11: 0 | J11: 0 | K11: =F11+G11+H11-I11-J11 -> 0 | L11: =K11-F11 -> 0 | M11: 45147 | N11: 45292 | O11: =N11-M11 -> 145 | P11: 365 | Q11: Nee | R11: =G11*O11/P11 -> 0 | S11: {=_xlfn.IFS($Q11="Nee",H11*$O11/$P11,$Q11="Ja",H11*0.5)} -> 0 | T11: {=_xlfn.IFS($Q11="Nee",-(I11*$O11/$P11),$Q11="Ja",-(I11*0.5))} -> 0 | U11: =-J11*O11/P11 -> 0 | V11: =SUM(R11:U11) -> 0 | W11: =IFERROR(_xlfn.XLOOKUP(Table4[[#This Row],[Subnummer]],Table3[Sub],#REF!),0) -> 0 | X11: =IFERROR(_xlfn.XLOOKUP(Table4[[#This Row],[Subnummer]],Table3[Sub],#REF!),0) -> 0 | Y11: =IFERROR(_xlfn.XLOOKUP(Table4[[#This Row],[Subnummer]],Table3[Sub],#REF!),0) -> 0 | Z11: =IFERROR(_xlfn.XLOOKUP(Table4[[#This Row],[Subnummer]],Table3[Sub],#REF!),0) -> 0 | AA11: =IFERROR(_xlfn.XLOOKUP(Table4[[#This Row],[Subnummer]],Table3[Sub],#REF!),0) -> 0 | AB11: =$V11*W11/1000*W$7 -> #REF! | AC11: =$V11*X11/1000*X$7 -> #REF! | AD11: =$V11*Y11/1000*Y$7 -> #REF! | AE11: =$V11*Z11/1000*Z$7 -> #REF! | AF11: =$V11*AA11/1000*AA$7 -> #REF! | AG11: =SUM(AB11:AF11) -> #REF! | AH11: {=_xlfn.IFS(AG11=0,"Nihil",AG11>0,"Suppletie",AG11<0,"Restitutie")} -> #REF!
A12: =IFERROR(_xlfn.XLOOKUP(D12,Table3[Sub],Table3[Verzekerde]),"-") -> - | C12: =IFERROR(_xlfn.XLOOKUP(Table4[[#This Row],[Subnummer]],Table3[Sub],Table3[Certificaat]),"-") -> - | D12: 0 | E12: =_xlfn.XLOOKUP(Table4[[#This Row],[Subnummer]],Table3[Sub],Table3[Adres],"Error",0,1) -> Error | F12: =IFERROR(_xlfn.XLOOKUP(Table4[[#This Row],[Subnummer]],Table3[Sub],Table3[Verz. Waarde Oud:]),0) -> 0 | G12: 0 | H12: 0 | I12: 0 | J12: 0 | K12: =F12+G12+H12-I12-J12 -> 0 | L12: =K12-F12 -> 0 | M12: 45148 | N12: 45292 | O12: =N12-M12 -> 144 | P12: 365 | Q12: Nee | R12: =G12*O12/P12 -> 0 | S12: {=_xlfn.IFS($Q12="Nee",H12*$O12/$P12,$Q12="Ja",H12*0.5)} -> 0 | T12: {=_xlfn.IFS($Q12="Nee",-(I12*$O12/$P12),$Q12="Ja",-(I12*0.5))} -> 0 | U12: =-J12*O12/P12 -> 0 | V12: =SUM(R12:U12) -> 0 | W12: =IFERROR(_xlfn.XLOOKUP(Table4[[#This Row],[Subnummer]],Table3[Sub],#REF!),0) -> 0 | X12: =IFERROR(_xlfn.XLOOKUP(Table4[[#This Row],[Subnummer]],Table3[Sub],#REF!),0) -> 0 | Y12: =IFERROR(_xlfn.XLOOKUP(Table4[[#This Row],[Subnummer]],Table3[Sub],#REF!),0) -> 0 | Z12: =IFERROR(_xlfn.XLOOKUP(Table4[[#This Row],[Subnummer]],Table3[Sub],#REF!),0) -> 0 | AA12: =IFERROR(_xlfn.XLOOKUP(Table4[[#This Row],[Subnummer]],Table3[Sub],#REF!),0) -> 0 | AB12: =$V12*W12/1000*W$7 -> #REF! | AC12: =$V12*X12/1000*X$7 -> #REF! | AD12: =$V12*Y12/1000*Y$7 -> #REF! | AE12: =$V12*Z12/1000*Z$7 -> #REF! | AF12: =$V12*AA12/1000*AA$7 -> #REF! | AG12: =SUM(AB12:AF12) -> #REF! | AH12: {=_xlfn.IFS(AG12=0,"Nihil",AG12>0,"Suppletie",AG12<0,"Restitutie")} -> #REF!
A13: Totaal | F13: =SUBTOTAL(109,Table4[Oud]) -> 0 | G13: =SUBTOTAL(109,Table4[Investering Nieuw]) -> 0 | H13: =SUBTOTAL(109,Table4[Investering bestaand]) -> 0 | I13: =SUBTOTAL(109,Table4[Verlaging]) -> 0 | J13: =SUBTOTAL(109,Table4[Afvoer]) -> 0 | K13: =SUBTOTAL(109,Table4[Inclusief mutatie]) -> 0 | L13: =SUBTOTAL(109,Table4[Som mutaties]) -> 0 | R13: =SUBTOTAL(109,Table4[Investering nieuw2]) -> 0 | S13: =SUBTOTAL(109,Table4[Investering bestaand2]) -> 0 | T13: =SUBTOTAL(109,Table4[Verlaging2]) -> 0 | U13: =SUBTOTAL(109,Table4[Afvoer2]) -> 0 | V13: =SUBTOTAL(109,Table4[Totaal]) -> 0 | AB13: =SUBTOTAL(109,Table4[Verzekeraar 17]) -> #REF! | AC13: =SUBTOTAL(109,Table4[Verzekeraar 18]) -> #REF! | AD13: =SUBTOTAL(109,Table4[Verzekeraar 19]) -> #REF! | AE13: =SUBTOTAL(109,Table4[Verzekeraar 20]) -> #REF! | AF13: =SUBTOTAL(109,Table4[Verzekeraar 21]) -> #REF! | AG13: =SUBTOTAL(109,Table4[Totaal2]) -> #REF!

Sheet Verrekening Pro Rata-CAD
A1: Verrekening Mutaties
A2: =Overzicht!B2 -> B0100135903
A3: =Overzicht!B3 -> Regionaal Opleidingen Centrum Nijmegen en Omstreken
A4: =Overzicht!B4 -> 648405501
A7: Termijn: | B7: Datum
A8: Van | B8: 45597
A9: Tot | B9: 45658
A11: Certificaat | B11: 0
A12: Verzekeraar | B12: Relatienummer | C12: Aandeel | D12: Boeking/restitutie
A13: =Specificatie!#REF! -> #REF! | B13: =Specificatie!#REF! -> #REF! | C13: =Specificatie!#REF! -> #REF! | D13: =SUMIFS(Table4[Verzekeraar 17],Table4[Mutatiedatum],$B8,Table4[Certificaat],$B11) -> 0
A14: =Specificatie!#REF! -> #REF! | B14: =Specificatie!#REF! -> #REF! | C14: =Specificatie!#REF! -> #REF! | D14: =SUMIFS(Table4[Verzekeraar 18],Table4[Mutatiedatum],$B8,Table4[Certificaat],$B11) -> 0
A15: =Specificatie!#REF! -> #REF! | B15: =Specificatie!#REF! -> #REF! | C15: =Specificatie!#REF! -> #REF! | D15: =SUMIFS(Table4[Verzekeraar 19],Table4[Mutatiedatum],$B8,Table4[Certificaat],$B11) -> 0
A16: =Specificatie!#REF! -> #REF! | B16: =Specificatie!#REF! -> #REF! | C16: =Specificatie!#REF! -> #REF! | D16: =SUMIFS(Table4[Verzekeraar 20],Table4[Mutatiedatum],$B8,Table4[Certificaat],$B11) -> 0
A17: =Specificatie!#REF! -> #REF! | B17: =Specificatie!#REF! -> #REF! | C17: =Specificatie!#REF! -> #REF! | D17: =SUMIFS(Table4[Verzekeraar 21],Table4[Mutatiedatum],$B8,Table4[Certificaat],$B11) -> 0
A18: Total | C18: =SUBTOTAL(109,Table2[Aandeel]) -> #REF! | D18: =SUBTOTAL(109,Table2[Boeking/restitutie]) -> 0

Sheet Data
A1: Interest | B1: Bouwaard | C1: CAD | D1: Taxatie
A2: - | B2: - | C2: Ja | D2: -
A3: Bedrijfsschade | B3: Hout, harde dekking | C3: Nee | D3: Ja
A4: Bedrijfsuitrusting | B4: Hout, rieten dekking | D4: Nee
A5: Bijzondere kosten | B5: Steen, harde dekking
A6: Exploitatiekosten | B6: Steen, rieten dekking
A7: Extra kosten
A8: Gebouwen
A9: Goederen
A10: Goederen van derden
A11: Huurdersbelang
A12: Huurderving
A13: Opruimingskosten
A14: Overig
A15: Reconstructiekosten
A16: Woningverbetering
