Workbook

Sheet Inschrijfblad
A1: Bijlage 2 Inschrijfformulier tarief
A2: Auteur: | B2: Karel
A3: Datum: | B3: 11 augustus 2026 (herziene versie)
A4: Naam aanbesteding: | B4: Schuldhulpverlening fase 2 & budgetbeheer
A5: Kenmerk: | B5: K011636
A8: Als Bijlage 2 treft u het Invulformulier tarieven aan. Het invulformulier dient u aan de Inschrijving toe te voegen, met als naam ‘2 - Invulformulier tarieven – naam Inschrijver’ (als PDF-bestand en ondertekend). U dient de geel gemarkeerde velden volledig in te vullen en het invulformulier door een daartoe bevoegde functionaris te laten ondertekenen.
A10: Invulformulier tarieven
C11: Trajectprijs
A12: =Blad2!C13 -> uurtarief (spreekuur, klantmanager op locatie)
A14: =Blad2!C14 -> schuldregeling (eenmalig tarief)
A16: =Blad2!C15 -> saneringskrediet (eenmalig tarief)
A18: =Blad2!C16 -> schuldbemiddeling, incl. her- en eindcontrole (eenmalig tarief)
A20: =Blad2!C17 -> crisisinstrumenten (eenmalig tarief)
A22: budgetbeheer | B22: basis (maandtarief, vanaf maand 4)
B23: middel (maandtarief, vanaf maand 4)
B24: totaal (maandtarief, vanaf maand 4)
A26: =Blad2!C21 -> opstartkosten budgetbeheer (eerste 3 maanden)
A28: =Blad2!C22 -> Wsnp begeleiding (eenmalig tarief)
A29: =Blad2!C23 -> Wsnp verklaring (eenmalig tarief)
A30: =Blad2!C24 -> Dwangakkoord (eenmalig tarief)
A32: =Blad2!C25 -> DFD (maandtarief)
A34: =Blad2!C26 -> betalingsregeling (eenmalig tarief)
A36: =Blad2!C27 -> herfinanciering (eenmalig tarief)
A38: Ingevuld door
A39: (tekenbevoegde functionaris Inschrijver)
A40: Functie
A41: Datum
A42: Handtekening tekenbevoegde
A44: Op het volgende tabblad treft u een rekentool die u kan helpen om de puntenscore die past bij uw tarieven inzichtelijk te krijgen.

Sheet tool
A1: Rekenmodule om de puntenscore voor de inschrijfprijs te berekenen in de gunningformule#
B4: tarieven schuldhulpverlening | H4: factor hoger/lager tarief
C5: wegingsfactor | H5: 1.025 | I5: 1.1 | J5: 0.9 | K5: 0.75
B6: =IF(B$4="tarieven schuldhulpverlening",Blad2!C13,Blad2!C29) -> uurtarief (spreekuur, klantmanager op locatie) | C6: =Blad2!B13 -> 0.4 | F6: vul hier de 'all-in' trajectprijzen die u wilt bieden in (excl. BTW) | G6: 82.5 | H6: =H$5*$G6 -> 84.5625 | I6: =I$5*$G6 -> 90.75 | J6: =J$5*$G6 -> 74.25 | K6: =K$5*$G6 -> 61.875
B7: =IF(B$4="tarieven schuldhulpverlening",Blad2!C14,Blad2!C30) -> schuldregeling (eenmalig tarief) | C7: =Blad2!B14 -> 0.076325088 | G7: 990 | H7: =H$5*$G7 -> 1014.75 | I7: =I$5*$G7 -> 1089 | J7: =J$5*$G7 -> 891 | K7: =K$5*$G7 -> 742.5
B8: =IF(B$4="tarieven schuldhulpverlening",Blad2!C15,Blad2!C31) -> saneringskrediet (eenmalig tarief) | C8: =Blad2!B15 -> 0.038162544 | G8: 108 | H8: =H$5*$G8 -> 110.7 | I8: =I$5*$G8 -> 118.8 | J8: =J$5*$G8 -> 97.2 | K8: =K$5*$G8 -> 81
B9: =IF(B$4="tarieven schuldhulpverlening",Blad2!C16,Blad2!C32) -> schuldbemiddeling, incl. her- en eindcontrole (eenmalig tarief) | C9: =Blad2!B16 -> 0.042402827 | G9: 485 | H9: =H$5*$G9 -> 497.125 | I9: =I$5*$G9 -> 533.5 | J9: =J$5*$G9 -> 436.5 | K9: =K$5*$G9 -> 363.75
B10: =IF(B$4="tarieven schuldhulpverlening",Blad2!C17,Blad2!C33) -> crisisinstrumenten (eenmalig tarief) | C10: =Blad2!B17 -> 0.0021201413 | G10: 234 | H10: =H$5*$G10 -> 239.85 | I10: =I$5*$G10 -> 257.4 | J10: =J$5*$G10 -> 210.6 | K10: =K$5*$G10 -> 175.5
B11: =IF(B$4="tarieven schuldhulpverlening",Blad2!C18,Blad2!C34) -> budgetbeheer - basis (maandtarief vanaf 3 maanden) | C11: =Blad2!B18 -> 0.067844523 | G11: 65 | H11: =H$5*$G11 -> 66.625 | I11: =I$5*$G11 -> 71.5 | J11: =J$5*$G11 -> 58.5 | K11: =K$5*$G11 -> 48.75
B12: =IF(B$4="tarieven schuldhulpverlening",Blad2!C19,Blad2!C35) -> budgetbeheer - middel (maandtarief vanaf 3 maanden) | C12: =Blad2!B19 -> 0.067844523 | G12: 115 | H12: =H$5*$G12 -> 117.875 | I12: =I$5*$G12 -> 126.5 | J12: =J$5*$G12 -> 103.5 | K12: =K$5*$G12 -> 86.25
B13: =IF(B$4="tarieven schuldhulpverlening",Blad2!C20,Blad2!C36) -> budgetbeheer totaal (maandtarief, vanaf 3 maanden) | C13: =Blad2!B20 -> 0.067844523 | G13: 165 | H13: =H$5*$G13 -> 169.125 | I13: =I$5*$G13 -> 181.5 | J13: =J$5*$G13 -> 148.5 | K13: =K$5*$G13 -> 123.75
B14: =IF(B$4="tarieven schuldhulpverlening",Blad2!C21,Blad2!C37) -> opstartkosten budgetbeheer (eerste 3 maanden) | C14: =Blad2!B21 -> 0.13568905 | G14: 65 | H14: =H$5*$G14 -> 66.625 | I14: =I$5*$G14 -> 71.5 | J14: =J$5*$G14 -> 58.5 | K14: =K$5*$G14 -> 48.75
B15: =IF(B$4="tarieven schuldhulpverlening",Blad2!C22,Blad2!C37) -> Wsnp begeleiding (eenmalig tarief) | C15: =Blad2!B22 -> 0.0084805654 | G15: 250 | H15: =H$5*$G15 -> 256.25 | I15: =I$5*$G15 -> 275 | J15: =J$5*$G15 -> 225 | K15: =K$5*$G15 -> 187.5
B16: =IF(B$4="tarieven schuldhulpverlening",Blad2!C23,Blad2!C38) -> Wsnp verklaring (eenmalig tarief) | C16: =Blad2!B23 -> 0.0084805654 | G16: 412 | H16: =H$5*$G16 -> 422.3 | I16: =I$5*$G16 -> 453.2 | J16: =J$5*$G16 -> 370.8 | K16: =K$5*$G16 -> 309
B17: =IF(B$4="tarieven schuldhulpverlening",Blad2!C24,Blad2!C39) -> Dwangakkoord (eenmalig tarief) | C17: =Blad2!B24 -> 0.0042402827 | G17: 234 | H17: =H$5*$G17 -> 239.85 | I17: =I$5*$G17 -> 257.4 | J17: =J$5*$G17 -> 210.6 | K17: =K$5*$G17 -> 175.5
B18: =IF(B$4="tarieven schuldhulpverlening",Blad2!C25,Blad2!C40) -> DFD (maandtarief) | C18: =Blad2!B25 -> 0.067844523 | G18: 82.5 | H18: =H$5*$G18 -> 84.5625 | I18: =I$5*$G18 -> 90.75 | J18: =J$5*$G18 -> 74.25 | K18: =K$5*$G18 -> 61.875
B19: =IF(B$4="tarieven schuldhulpverlening",Blad2!C26,Blad2!C41) -> betalingsregeling (eenmalig tarief) | C19: =Blad2!B26 -> 0.006360424 | G19: 82.5 | H19: =H$5*$G19 -> 84.5625 | I19: =I$5*$G19 -> 90.75 | J19: =J$5*$G19 -> 74.25 | K19: =K$5*$G19 -> 61.875
B20: =IF(B$4="tarieven schuldhulpverlening",Blad2!C27,Blad2!C42) -> herfinanciering (eenmalig tarief) | C20: =Blad2!B27 -> 0.006360424 | G20: 82.5 | H20: =H$5*$G20 -> 84.5625 | I20: =I$5*$G20 -> 90.75 | J20: =J$5*$G20 -> 74.25 | K20: =K$5*$G20 -> 61.875
G22: 9.3 | H22: 9.1 | I22: 8 | J22: 9.8 | K22: 0
B23: uw inschrijfprijs: | D23: =IF(B$4="tarieven schuldhulpverlening",((D6*Blad2!B13)+(D7*Blad2!B14)+(D8*Blad2!B15)+(D9*Blad2!B16)+(D10*Blad2!B17)+(D11*Blad2!B18)+(D12*Blad2!B19)+(D13*Blad2!B20)+(D14*Blad2!B21)+(D15*Blad2!B22)+(D16*Blad2!B23)+(D17*Blad2!B24)+(D18*Blad2!B25)+(D19*Blad2!B26)+(D20*Blad2!B27)),0) -> 0
A25: dan zijn dit de punten die u scoort in de gunning op het onderdeel prijs, volgens de vier in het bestek onderscheiden opdrachten
B27: uw puntenscore: | D27: =IF(D23="","",Blad2!B3) -> 0
A29: #: dit betreft de scoreberekening in het bestek inkoop schuldhulpverlening van De6, juni 2026
A31: Toelichting:
B32: Eerst vult u uw onderbouwde tarieven in in de gele vakken.
B33: Uw inschrijfprijs volgt in het oranje vak.
B34: Uw puntenscore die samenhangt met uw prijsbod volgt dan automatisch in het groene vak.
B36: Let op: er geldt een bandbreedte waarbinnen uw inschrijfprijs (het oranje vak) mag liggen.
B37: Voor SHV zijn dit: minimumprijs € 140, maximumprijs € 210
B38: Ligt uw inschrijfprijs buiten de genoemde bandbreedte dan wordt uw score automatisch 0 punten.

Sheet Blad2
K1: 211 | L1: 0
K2: =K3+5 -> 210 | L2: 6
B3: =IF(E3>(3/2*C3), 0, IF(E3<C3, 0, (100-(50^(C$5*(($E3-C3)/C3))-1))/10)) -> 0 | C3: 140 | D3: =3/2*C3 -> 210 | E3: =tool!D23 -> 0 | K3: =K4+5 -> 205 | L3: 6.9
C4: 1.9 | K4: =K5+5 -> 200 | L4: 7.7
C5: 1.9 | K5: =K6+5 -> 195 | L5: 8.2
K6: =K7+5 -> 190 | L6: 8.7
K7: 185 | L7: 9
K8: 180 | L8: 9.3
K9: 175 | L9: 9.5
A10: trajecten SHV | K10: 170 | L10: 9.6
K11: 160 | L11: 9.8
A12: Wegingsfactoren SHV | K12: 150 | L12: 9.9
A13: =tool!D6 -> 0 | B13: 0.4 | C13: uurtarief (spreekuur, klantmanager op locatie) | K13: 140 | L13: 10
A14: =tool!D7 -> 0 | B14: 0.076325088 | C14: schuldregeling (eenmalig tarief) | K14: 139 | L14: 0
A15: =tool!D8 -> 0 | B15: 0.038162544 | C15: saneringskrediet (eenmalig tarief)
A16: =tool!D9 -> 0 | B16: 0.042402827 | C16: schuldbemiddeling, incl. her- en eindcontrole (eenmalig tarief)
A17: =tool!D10 -> 0 | B17: 0.0021201413 | C17: crisisinstrumenten (eenmalig tarief)
A18: =tool!D11 -> 0 | B18: 0.067844523 | C18: budgetbeheer - basis (maandtarief vanaf 3 maanden)
A19: =tool!D12 -> 0 | B19: 0.067844523 | C19: budgetbeheer - middel (maandtarief vanaf 3 maanden)
A20: =tool!D13 -> 0 | B20: 0.067844523 | C20: budgetbeheer totaal (maandtarief, vanaf 3 maanden)
A21: =tool!D14 -> 0 | B21: 0.13568905 | C21: opstartkosten budgetbeheer (eerste 3 maanden)
A22: =tool!D15 -> 0 | B22: 0.0084805654 | C22: Wsnp begeleiding (eenmalig tarief)
A23: =tool!D16 -> 0 | B23: 0.0084805654 | C23: Wsnp verklaring (eenmalig tarief)
A24: =tool!D17 -> 0 | B24: 0.0042402827 | C24: Dwangakkoord (eenmalig tarief)
A25: =tool!D18 -> 0 | B25: 0.067844523 | C25: DFD (maandtarief)
A26: =tool!D19 -> 0 | B26: 0.006360424 | C26: betalingsregeling (eenmalig tarief)
A27: =tool!D20 -> 0 | B27: 0.006360424 | C27: herfinanciering (eenmalig tarief)
B28: =SUM(B13:B27) -> 1
