Workbook
Name Print_Area: Totaalblad!#REF!

Sheet Basisgegevens
A1: Basisgegevens Contract
A3: Aanbestedende Dienst
A4: Naam Opdrachtgever | B4: Stichting Zinder
A5: Vestigingsplaats Opdrachtgever | B5: Deventer
A6: Kvk-nummer | B6: 08185273
A7: Naam tekenbevoegde opdrachtgever voor contract | B7: Dhr. B. Roumen
A8: Functie: | B8: Bestuurder
A10: Inschrijver
A11: Volledige naam Inschrijver (Handelsnaam KvK)
A12: Vestigingsplaats Inschrijver (KvK)
A13: KvK-nummer
A14: Tekenbevoegde voor overeenkomt
A15: Functie
A17: Contactpersoon offerte
A18: Telefoonnummer Kantoor
A19: Postadres Kantoor
A20: PC + Woonplaats Kantoor
A21: Mobielnummer contactpersoon offerte
A22: E-mail adres contactpersoon offerte

Sheet Totaalblad
B1: Prijzenblad t.b.v. de gunning
B2: Instructie
B6: Onderdeel ICT Hardware | C6: Fictieve uitgaven | D6: Korting- en/of Opslagpercentage | E6: Korting- en of Opslag bedrag | F6: Vergelijkingsprijs
A7: 1 | B7: Chromebooks | C7: 100000 | D7: ='1. Chromebooks'!C11 -> 0 | E7: =SUM(C7*D7) -> 0 | F7: =SUM(C7+E7) -> 100000
A8: 2 | B8: ='2. Windows'!B3 -> Windows apparaten (laptops en desktops) | C8: 50000 | D8: ='2. Windows'!C13 -> 0 | E8: =SUM(C8*D8) -> 0 | F8: =SUM(C8+E8) -> 50000
A9: 3 | B9: ='3. Ipads'!B3 -> iPads | C9: 10000 | D9: ='3. Ipads'!C9 -> 0 | E9: =SUM(C9*D9) -> 0 | F9: =C9-E9 -> 10000
A10: 4 | B10: ='4. Monitoren'!B1 -> Monitoren | C10: 10000 | D10: ='4. Monitoren'!C11 -> 0 | E10: =SUM(C10*D10) -> 0 | F10: =SUM(C10+E10) -> 10000
A11: 5 | B11: ='5. Accessoires'!B3 -> Accessoires | C11: 10000 | D11: ='5. Accessoires'!B7 -> 0 | E11: =SUM(C11*D11) -> 0 | F11: =C11+E11 -> 10000
A12: 6 | B12: ='6. Tarieven'!C1 -> Tarieven | F12: ='6. Tarieven'!E17 -> 10000
D13: Totaal vergelijkingsprijs | F13: =SUM(F7:F12) -> 190000

Sheet 1. Chromebooks
B1: Chromebooks
A2: 1 | B2: Chromebooks
B4: Minimale eisen: | C4: Omschrijving
B5: Minimale eisen | C5: 14" Touchscreen scherm / 8 GB werkgeheugen / 64 GB opslag / Wifi 6E of hoger
B6: Licentie | C6: Google-Education licentie meegeleverd
B7: Batterij | C7: Minimaal 12 uur batterijlading
B8: Merk | C8: A merk; HP, Dell of gelijkwaardig
B9: Stroom | C9: Kabel voor stroomvoorziening en oplader is meegeleverd
B10: Prijzen Chromebooks
B11: Opslagpercentage

Sheet 2. Windows
B1: Windows apparaten (laptops en desktops)
A3: 2 | B3: Windows apparaten (laptops en desktops)
B5: Minimale eisen: | C5: Omschrijving
B6: Model | C6: De mogelijkheid om een leerkrachtenmodel en leerlingenmodel te leveren, zowel als laptop als desktop
B7: Minimale eisen | C7: 16 GB werkgeheugen / 512 GB opslag / Wifi 6E of hoger
B8: Scherm | C8: Voor laptops geldt een minimaal schermformaat van 16"
B9: Licentie | C9: Windows 11 PRO / Education of hoger
B10: Merk | C10: A merk; HP, Dell of gelijkwaardig
B11: Stroom | C11: Benodigde kabels voor stroomvoorziening zijn meegeleverd. Bij laptops wordt tevens een oplader meegeleverd.
B12: Prijzen Windows apparaten
B13: Opslagpercentage

Sheet 3. Ipads
B1: Ipads
A3: 3 | B3: iPads
B4: Minimale eisen: | C4: Omschrijving
B5: Model | C5: Leverancier kan de meest actuele iPad leveren. De Opdrachtgever maakt bij de aanschaf een keuze voor het model binnen deze Overeenkomst.
B6: Opslag | C6: Minimaal 128 Gb
B7: Kleuren | C7: Alle beschikbare kleuren
B8: Prijzen iPads
B9: Let op: kortingspercentage

Sheet 4. Monitoren
A1: 4 | B1: Monitoren
B3: Minimale eisen: | C3: Omschrijving
B4: Formaat | C4: 24 Inch of groter
B5: Scherm | C5: Full HD en Anti reflectielaag
B6: Merk | C6: A merk (zie het Programma van Eisen)
B7: Aansluitingen | C7: 2 HDMI-aansluitingen en/of 2 displaypoort
B8: Kijkhoek | C8: 178 graden
B9: Verstelbaarheid | C9: In hoogte verstelbaar
B10: Prijzen Monitor
B11: Opslagpercentage

Sheet 5. Accessoires
B1: Accessoires
A3: 5 | B3: Accessoires
B4: De opdrachtgever heeft de mogelijkheid om accessoires voor de alle Devices bij te bestellen tegen een vast opslagpercentage. Onder accessoires wordt verstaan maar niet beperkt tot: toetsenborden, muizen, beschermhoesen, dockingstations etc.
B5: De accessoires kunnen besteld worden in de webshop van de leverancier, met de opgegeven opslagpercentage.
B6: Opslagpercentage accessoires

Sheet 6. Tarieven
C1: Tarieven
A3: 6 | B3: Reparatietarieven | C3: Fictieve aantallen / eenheden | D3: Uurtarief | E3: Totaal
B4: Uurtarief reparatiewerkzaamheden | C4: 20 | E4: =SUM(C4*D4) -> 0
B5: Onderzoekskosten | C5: 20 | E5: =SUM(C5*D5) -> 0
D6: Totaal | E6: =E4+E5 -> 0
B8: Onderdelen | C8: Fictieve inkoopwaarde | D8: Opslagpercentage
B9: Opslagpercentage onderdelen | C9: 10000 | E9: =SUM(C9*D9)+C9 -> 10000
D10: Totaal | E10: =E8+E9 -> 10000
B12: Gebruiksklaar opleveren | C12: Fictieve aantallen | D12: Tarief per device
B13: Gebruiksklaar opleveren (alleen verschuldigd bij afname) | C13: 1000 | E13: =SUM(C13*D13) -> 0
D14: Totaal | E14: =E13 -> 0
C17: Totale vergelijkingsprijs tarieven | E17: =E6+E10+E14 -> 10000
