Workbook

Sheet Invulblad reguliere diensten
A1: Bijlage 3 Tarievenblad Bedrijfsafvalwerking (versie 1.3)
A3: ! Voor een correcte invulling van dit tarievenblad wordt inschrijvers verzocht kennis te nemen van de uitgangspunten, voorwaarden en overige toelichting zoals opgenomen in paragraaf 5.2.3 Prijs van de Aanbestedingsleidraad Bedrijfsafvalverwerking.
A4: ! Alle groene invoervelden in het Tarievenblad zijn verplichte invulvelden en dienen volledig te worden ingevuld. Op dit tabblad tot en met regel 121.
A6: Reguliere diensten
A8: Afvalstroom | B8: Container | C8: Aantal containers | D8: Ledigingsfrequentie | E8: Ledigingsfrequentie per jaar, per container | F8: Opties ledigingsdag(en) | G8: Daadwerkelijke ledingsdag(en) | H8: Verantwoordelijk team | I8: All-in prijs, per lediging per container | J8: All- in prijs, per container per maand | K8: Totaal All-in prijs per jaar
A9: Stadhuis (Purmersteenweg 42, 1441DM Purmerend)
A10: Data / vertrouwelijke documenten (o.a. paspoorten, Identiteitskaarten en rijbewijzen) | B10: 240 liter, aluminium rolcontainer met slot, met tekstuele aanduiding soort afvalstroom | C10: 3 | D10: 1x per 3 weken | E10: 17 | F10: Maandag, dinsdag, woensdag, donderdag en vrijdag (tussen 7:30 - 17:00 uur) | H10: Facilitair | I10: 0 | J10: =K10/12/C10 -> 0 | K10: =I10*E10*C10 -> 0
A11: Papier/karton | B11: 660 liter, blauwe rolcontainer, met tekstuele aanduiding soort afvalstroom | C11: 4 | D11: 1x per week | E11: 52 | F11: Maandag, dinsdag, woensdag, donderdag en vrijdag (tussen 7:30 - 17:00 uur) | I11: 0 | J11: =K11/12/C11 -> 0 | K11: =I11*E11*C11 -> 0
A12: Vertrouwelijk papier | B12: 70 liter, aluminium (rol)container met slot | C12: 2 | D12: Lediging op afroep | F12: In overleg indien van toepassing | G12: In overleg indien van toepassing | I12: 0 | J12: =K12/12/C12 -> 0 | K12: =I12*E12*C12 -> 0
A13: Vertrouwelijk papier | B13: 240 liter, aluminium rolcontainer met slot | C13: 23 | D13: 1x per week | E13: 52 | F13: Maandag, dinsdag, woensdag, donderdag en vrijdag (tussen 7:30 - 17:00 uur) | I13: 0 | J13: =K13/12/C13 -> 0 | K13: =I13*E13*C13 -> 0
A14: Handdoekjes/tissues (papier) | B14: 660 liter, gele rolcontainer, met tekstuele aanduiding soort afvalstroom | C14: 3 | D14: 1x per week | E14: 52 | F14: Maandag, dinsdag, woensdag, donderdag en vrijdag (tussen 7:30 - 17:00 uur) | I14: 0 | J14: =K14/12/C14 -> 0 | K14: =I14*E14*C14 -> 0
A15: Restafval | B15: 1100 liter, grijze rolcontainer, met tekstuele aanduiding soort afvalstroom | C15: 4 | D15: 1x per week | E15: 52 | F15: Maandag, dinsdag, woensdag, donderdag en vrijdag (tussen 7:30 - 17:00 uur) | I15: 0 | J15: =K15/12/C15 -> 0 | K15: =I15*E15*C15 -> 0
A16: GFT | B16: 660, groene rolcontainer, met tekstuele aanduiding soort afvalstroom | C16: 1 | D16: 1x per week | E16: 52 | F16: Maandag, dinsdag, woensdag, donderdag en vrijdag (tussen 7:30 - 17:00 uur) | I16: 0 | J16: =K16/12/C16 -> 0 | K16: =I16*E16*C16 -> 0
A17: PMD | B17: 1100 liter, oranje rolcontainer, met tekstuele aanduiding soort afvalstroom | C17: 1 | D17: 1x per week | E17: 52 | F17: Maandag, dinsdag, woensdag, donderdag en vrijdag (tussen 7:30 - 17:00 uur) | I17: 0 | J17: =K17/12/C17 -> 0 | K17: =I17*E17*C17 -> 0
I18: Subtotaal Stadhuis | K18: =SUM(K10:K17) -> 0
A20: Begraafplaats (Purmerweg 92, 1441RC Purmerend)
A21: Restafval | B21: 660 liter, rolcontainer | C21: 5 | D21: 1x per week | E21: 52 | F21: Dinsdag, woensdag en donderdag (tussen 7:00 - 12:00 uur) | H21: Facilitair | I21: 0 | J21: =K21/12/C21 -> 0 | K21: =I21*E21*C21 -> 0
A22: Restafval | B22: 1100 liter, rolcontainer | C22: 3 | D22: 1x per week | E22: 52 | F22: Dinsdag, woensdag en donderdag (tussen 7:00 - 12:00 uur) | I22: 0 | J22: =K22/12/C22 -> 0 | K22: =I22*E22*C22 -> 0
I23: Subtotaal Begraafplaats | K23: =SUM(K21:K22) -> 0
A25: Grond Depot (Edammerweg 3, 1446AH Purmerend)
A26: Restafval | B26: 240 liter, rolcontainer | C26: 1 | D26: 1x per 2 weken | E26: 26 | F26: Maandag, dinsdag, woensdag, donderdag en vrijdag (tussen 7:00 - 16:00) | H26: Facilitair | I26: 0 | J26: =K26/12/C26 -> 0 | K26: =I26*E26*C26 -> 0
A27: Vertrouwelijk papier | B27: 240 liter, aluminium rolcontainer met slot | C27: 1 | D27: Lediging op afroep | F27: In overleg indien van toepassing | G27: In overleg indien van toepassing | I27: 0 | J27: =K27/12 -> 0 | K27: =I27*E27*C27 -> 0
I28: Subtotaal Grond Depot | K28: =SUM(K26:K27) -> 0
A30: De Gors (Dotterbloem 100, 1441TP Purmerend)
A31: Vertrouwelijk papier | B31: 240 liter, rolcontainer met slot | C31: 1 | D31: Lediging op afroep | E31: 4 | F31: In overleg indien van toepassing | G31: In overleg indien van toepassing | H31: Facilitair | I31: 0 | J31: =K31/12 -> 0 | K31: =I31*E31*C31 -> 0
I32: Subtotaal De Gors | K32: =K31 -> 0
A34: De Koog (Van IJsendijkstraat 417, 1442LB Purmerend)
A35: Papier/karton | B35: 660 liter, rolcontainer | C35: 1 | D35: 1x per 12 weken | E35: 4 | F35: Maandag, dinsdag, woensdag, donderdag en vrijdag (tussen 7:00 - 16:00 uur) | H35: Facilitair | I35: 0 | J35: =K35/12 -> 0 | K35: =I35*E35*C35 -> 0
A36: Vertrouwelijk papier | B36: 240 liter, rolcontainer met slot | C36: 7 | D36: 1x per 12 weken | E36: 4 | F36: Maandag, dinsdag, woensdag, donderdag en vrijdag (tussen 7:00 - 16:00 uur) | I36: 0 | J36: =K36/12 -> 0 | K36: =I36*E36*C36 -> 0
I37: Subtotaal De Koog | K37: =SUM(K35:K36) -> 0
A39: Gasinjetstraat (Gasinjetstraat 74, 1442WP Purmerend)
A40: Vertrouwelijk papier | B40: 240 liter, rolcontainer met slot | C40: 1 | D40: Lediging op afroep | F40: In overleg indien van toepassing | G40: In overleg indien van toepassing | H40: Facilitair | I40: 0 | J40: =K40/12 -> 0 | K40: =I40*E40*C40 -> 0
I41: Subtotaal Gasinjetstraat | K41: =K40 -> 0
A43: Den Uyllaan (Doctor J.M. Den Uyllaan 14, 1442 VS Purmerend)
A44: Vertrouwelijk papier | B44: 240 liter, rolcontainer met slot | C44: 1 | D44: Lediging op afroep | F44: In overleg indien van toepassing | G44: In overleg indien van toepassing | H44: Facilitair | I44: 0 | J44: =K44/12 -> 0 | K44: =I44*E44*C44 -> 0
I45: Subtotaal Den Uyllaan | K45: =K44 -> 0
A47: Kinderboerderij (Leeghwaterpark 4, 1445RA Purmerend)
A48: Restafval | B48: 1100 liter, rolcontainer | C48: 1 | D48: 1x per week | E48: 52 | F48: Maandag, dinsdag, woensdag, donderdag en vrijdag | H48: Facilitair | I48: 0 | J48: =K48/12/C48 -> 0 | K48: =I48*E48*C48 -> 0
A49: Papier/karton | B49: 660 liter, rolcontainer | C49: 1 | D49: 1x per 4 weken | E49: 13 | F49: Maandag, dinsdag, woensdag, donderdag en vrijdag | I49: 0 | J49: =K49/12 -> 0 | K49: =I49*E49*C49 -> 0
I50: Subtotaal Kinderboerderij | K50: =SUM(K48:K49) -> 0
A52: Kwadijkerkoogweg (Kwadijkerkoogweg 1 C, 1442LA Purmerend)
A53: Vertrouwelijk papier | B53: 240 liter, rolcontainer met slot | C53: 1 | D53: 1x per 12 weken | E53: 4 | F53: Maandag, dinsdag, donderdag en vrijdag (tussen 08:00 - 16:00 uur) | H53: Facilitair | I53: 0 | J53: =K53/12 -> 0 | K53: =I53*E53*C53 -> 0
I54: Subtotaal Kwadijkerkoogweg | K54: =K53 -> 0
A56: Loods Trimpad (Trimpad 6, 1443WB Purmerend)
A57: Restafval | B57: 240 liter, rolcontainer | C57: 1 | D57: 1x per 4 weken | E57: 13 | F57: Maandag, dinsdag, woensdag, donderdag en vrijdag (tussen 09:00 - 17:00 uur) | H57: Facilitair | I57: 0 | J57: =K57/12/C57 -> 0 | K57: =I57*E57*C57 -> 0
I58: Subtotaal Loods Trimpad | K58: =K57 -> 0
A60: Infopunt Wheermolen (John F. Kennedyplein 1, 1443EA Purmerend)
A61: Restafval | B61: 240 liter, rolcontainer | C61: 1 | D61: 1x per week | E61: 52 | F61: Woensdag en donderdag (tussen 9:00 - 16.00 uur) | H61: Facilitair | I61: 0 | J61: =K61/12/C61 -> 0 | K61: =I61*E61*C61 -> 0
A62: Vertrouwelijk papier (met slot) | B62: 240 liter, rolcontainer met slot | C62: 1 | D62: Lediging op afroep | F62: In overleg indien van toepassing | G62: In overleg indien van toepassing | I62: 0 | J62: =K62/12 -> 0 | K62: =I62*E62*C62 -> 0
I63: Subtotaal Infopunt Wheermolen | K63: =SUM(K61:K62) -> 0
A65: Purmerends Museum (Kaasmarkt 20, 1441BG Purmerend)
A66: Vertrouwelijk papier | B66: 240 liter, aluminium rolcontainer met slot | C66: 2 | D66: Lediging op afroep | F66: In overleg indien van toepassing | G66: In overleg indien van toepassing | H66: Facilitair | I66: 0 | J66: =K66/12 -> 0 | K66: =I66*E66*C66 -> 0
I67: Subtotaal Purmerends Museum | K67: =K66 -> 0
A69: Purmaryn (Waagplein 1, 1441 BR Purmerend)
A70: Papier/karton | B70: 240 liter, rolcontainer | C70: 1 | D70: 1x per week | E70: 52 | F70: Vrijdag | G70: Vrijdag | H70: Purmaryn | I70: 0 | J70: =K70/12 -> 0 | K70: =I70*E70*C70 -> 0
A71: Restafval | B71: 1700 liter | C71: 1 | D71: 2x per week | E71: 104 | F71: Maandag, vrijdag | G71: Maandag, vrijdag | I71: 0 | J71: =K71/12 -> 0 | K71: =I71*E71*C71 -> 0
I72: Subtotaal Purmaryn | K72: =SUM(K70:K71) -> 0
A74: Stadhuispleingarage (Purmersteenweg 42, 1441DP Purmerend)
A75: Restafval | B75: 240 liter, rolcontainer | C75: 1 | D75: 1x per 2 weken | E75: 26 | F75: Maandag, dinsdag, woensdag, donderdag en vrijdag | H75: Vastgoed | I75: 0 | J75: =K75/12 -> 0 | K75: =I75*E75*C75 -> 0
I76: Subtotaal Stadhuispleingarage | K76: =K75 -> 0
A78: CJG Beemster (Centrum Jeugd en Gezin) (Tobias de Coeneplein 3a en 4, 1462 KB Middenbeemster)
A79: Restafval | B79: 240 liter, rolcontainer | C79: 1 | D79: 1x per week | E79: 52 | F79: Maandag, dinsdag, woensdag, donderdag en vrijdag | H79: Vastgoed | I79: 0 | J79: =K79/12 -> 0 | K79: =I79*E79*C79 -> 0
I80: Subtotaal CJB Beemster | K80: =K79 -> 0
A82: Cultuurhuis (Van ijsendijkstraat 403, 1442 LB Purmerend)
A83: Restafval | B83: 660 liter | C83: 1 | D83: 1x per 2 weken | E83: 26 | F83: Maandag, dinsdag, woensdag, donderdag en vrijdag | H83: Vastgoed | I83: 0 | J83: =K83/12 -> 0 | K83: =I83*E83*C83 -> 0
A84: Papier/karton | B84: 240 liter, rolcontainer | C84: 2 | D84: 1x per 2 weken | E84: 26 | F84: Maandag, dinsdag, woensdag, donderdag en vrijdag | I84: 0 | J84: =K84/12 -> 0 | K84: =I84*E84*C84 -> 0
I85: Subtotaal Cultuurhuis | K85: =SUM(K83:K84) -> 0
A87: Parkeergarage de Claxonate (Schoolplein 9, 1441GV)
A88: Restafval | B88: 240 liter, rolcontainer | C88: 1 | D88: 1x 2 per weken | E88: 26 | F88: Maandag, dinsdag, woensdag, donderdag en vrijdag | H88: Vastgoed | I88: 0 | J88: =K88/12 -> 0 | K88: =I88*E88*C88 -> 0
I89: Subtotaal Parkeergarage de Claxonate | K89: =K88 -> 0
A91: Opvanglocatie Gorslaan (Gorslaan 60, 1441RG Purmerend)
A92: Restafval | B92: 1700 liter, rolcontainer | C92: 1 | D92: 3x per week | E92: 156 | F92: Maandag, woensdag en vrijdag | G92: Maandag, woensdag en vrijdag | H92: Ontheemden | I92: 0 | J92: =K92/12 -> 0 | K92: =I92*E92*C92 -> 0
A93: Papier/karton | B93: 2400 liter, rolcontainer | C93: 1 | D93: 1x per week | E93: 52 | F93: Maandag, dinsdag, woensdag, donderdag en vrijdag | I93: 0 | J93: =K93/12 -> 0 | K93: =I93*E93*C93 -> 0
A94: Glas | B94: 240 liter, rolcontainer | C94: 1 | D94: 1x per 2 weken | E94: 26 | F94: Maandag, dinsdag, woensdag, donderdag en vrijdag | I94: 0 | J94: =K94/12 -> 0 | K94: =I94*E94*C94 -> 0
I95: Subtotaal Opvanglocatie Gorslaan | K95: =SUM(K92:K94) -> 0
A97: Opvanglocatie Van IJsendijkstraat (Van IJsendijkstraat 148, 1442 CS Purmerend)
A98: Restafval | B98: 1700 liter, rolcontainer | C98: 2 | D98: 3x per week | E98: 156 | F98: Maandag, woensdag en vrijdag | G98: Maandag, woensdag en vrijdag | H98: Ontheemden | I98: 0 | J98: =K98/12/C98 -> 0 | K98: =I98*E98*C98 -> 0
I99: Subtotaal Opvanglocatie Van IJsendijkstraat | K99: =K98 -> 0
A101: Opvanglocatie Rijn Middelburgstraat (Rijn Middelburgstraat 1, 1462 NV Middenbeemster)
A102: Restafval | B102: 1700 liter, rolcontainer | C102: 3 | D102: 2x per week | E102: 104 | F102: Maandag, dinsdag, woensdag, donderdag en vrijdag (evenredig verdeeld over de week ) | H102: Ontheemden | I102: 0 | J102: =K102/12/C102 -> 0 | K102: =I102*E102*C102 -> 0
A103: Papier/karton | B103: 2400 liter, rolcontainer | C103: 1 | D103: 1x per week | E103: 52 | F103: Maandag, dinsdag, woensdag, donderdag en vrijdag | I103: 0 | J103: =K103/12 -> 0 | K103: =I103*E103*C103 -> 0
I104: Subtotaal Opvanglocatie Rijn Middelburgstraat | K104: =SUM(K102:K103) -> 0
A106: Opvanglocatie Meeuwvleugel (Rietgorsplein 1, 1444 TA Purmerend)
A107: Restafval | B107: 1700 liter, rolcontainer | C107: 1 | D107: 3x per week | E107: 156 | F107: Maandag, woensdag, vrijdag | G107: Maandag, woensdag, vrijdag | H107: Ontheemden | I107: 0 | J107: =K107/12/C107 -> 0 | K107: =I107*E107*C107 -> 0
A108: Papier/karton | B108: 1700 liter, rolcontainer | C108: 1 | D108: 1x per week | E108: 52 | F108: Maandag, dinsdag, woensdag, donderdag en vrijdag | I108: 0 | J108: =K108/12 -> 0 | K108: =I108*E108*C108 -> 0
I109: Subtotaal Opvanglocatie Meeuwvleugel | K109: =SUM(K107:K108) -> 0
A111: Aanvullende diensten ten behoeve van reguliere diensten | I111: EINDTOTAAL REGULIERE DIENSTEN | K111: =K18+K23+K28+K32+K37+K41+K45+K50+K54+K58+K63+K67+K72+K76+K80+K85+K89+K95+K99+K104+K109 -> 0
A112: Afvalstroom | B112: Container | C112: All-in prijs, per lediging per container
A113: GFT | B113: 240 liter | C113: 0
A114: GFT | B114: 1100liter | C114: 0
A115: PMD | B115: 240liter | C115: 0
A116: PMD | B116: 660liter | C116: 0
A117: Papier/karton | B117: 1100liter | C117: 0
A118: Vertrouwelijk papier (met slot) | B118: 660liter (kunstof container) | C118: 0
A119: Vertrouwelijk papier (met slot) | B119: 660liter (aluminium containerontainer) | C119: 0
A120: Handdoekjes/tissues (papier) | B120: 240liter | C120: 0
A121: Handdoekjes/tissues (papier) | B121: 1100liter | C121: 0

Sheet Invulblad aanvullende diensten
A1: Bijlage 3 Tarievenblad Bedrijfsafvalwerking (versie 1.3)
A3: ! Voor een correcte invulling van dit tarievenblad wordt inschrijvers verzocht kennis te nemen van de uitgangspunten, voorwaarden en overige toelichting zoals opgenomen in paragraaf 5.2.3 Prijs van de Aanbestedingsleidraad Bedrijfsafvalverwerking.
A4: ! Alle groene invoervelden in het Tarievenblad zijn verplichte invulvelden en dienen volledig te worden ingevuld. Op dit tabblad tot en met regel 29.
A6: Aanvullende diensten (op afroep)
A8: Afzetcontainers ten behoeve van aanvullende dienstverlening (op afroep)
A9: Afvalstroom | B9: Afzetcontainer | C9: Huurprijs per eenheid * | D9: Verwerkingskosten per ton in KG | E9: Huurprijs per werkdag (na 8 weken huurvrije periode) | F9: All-in prijs **
A10: Bouw en sloopafval | B10: 6 m3 afzetcontainer (open & gesloten) | C10: n.v.t | D10: n.v.t | E10: n.v.t | F10: 0
A11: Bouw en sloopafval | B11: 10 m3 afzetcontainer (open & gesloten) | C11: n.v.t | D11: n.v.t | E11: n.v.t | F11: 0
A12: Bouw en sloopafval | B12: 30 & 40 m3 afzetcontainer | C12: 0 | D12: 0 | E12: 0 | F12: n.v.t
A13: Glas | B13: 10 m3 afzetcontainer (open & gesloten) | C13: n.v.t | D13: n.v.t | E13: n.v.t | F13: 0
A14: Vervuild puin | B14: 20 m3 afzetcontainer | C14: 0 | D14: 0 | E14: 0 | F14: n.v.t
A15: Bedrijfsafval | B15: 20 & 30 m3 afzetcontainer | C15: 0 | D15: 0 | E15: 0 | F15: n.v.t
A16: Karton | B16: 20 & 30 m3 afzetcontainer | C16: 0 | D16: n.v.t | E16: 0 | F16: n.v.t
A17: * All-in huurprijs per eenheid, inclusief 8 weken huurvrije periode en exclusief verwerkingskosten. Onder all-in prijs wordt verstaan hetgeen is opgenomen in paragraaf 5.2.3 (Prijs) van de Aanbestedingsleidraad.
A18: ** All-in huurprijs per eenheid, inclusief 8 weken huurvrije periode. Onder all-in prijs wordt verstaan hetgeen is opgenomen in paragraaf 5.2.3 (Prijs) van de Aanbestedingsleidraad.
A20: Diversen ten behoeve van aanvullende diensten (op afroep)
A21: Omschrijving | B21: Eenheid | C21: Prijs
A22: Extra sleutel (incl. verzending en evt. administratie) | B22: per stuk | C22: 0
A23: Vernietigen Data dragers/harde schijven | B23: per kilo (op afroep) | C23: 0
A24: Vernietigen (ontbrande) Lithium batterijen | B24: Transportkosten | C24: 0
B25: Verwerkingskosten per kg. | C25: 0
A26: Lediging Stembussen n.a.v.verkiezingen | B26: 0 - 200 stembussen | C26: 0
A27: Afvoeren matrassen | B27: per stuk | C27: 0
A28: Papiervernietiging op locatie | B28: per stop | C28: 0
A29: Afvoeren (lach)gasfles | B29: per stuk | C29: 0
A31: Fictieve casus o.b.v. fictieve aantallen en hoeveelheden t.b.v. het inschrijfbedrag
A32: Afvalstroom | B32: Container | C32: Aantal per jaar | D32: Tonnage per jaar | E32: Totaal all-in prijs per jaar
A33: Bouw en sloopafval | B33: 10 m3 afzetcontainer (open & gesloten) | C33: 18 | D33: n.v.t | E33: ='Invulblad aanvullende diensten'!F11*C33 -> 0
A34: ='Invulblad aanvullende diensten'!A12 -> Bouw en sloopafval | B34: ='Invulblad aanvullende diensten'!B12 -> 30 & 40 m3 afzetcontainer | C34: 17 | D34: 9.5 | E34: =(C34*'Invulblad aanvullende diensten'!C12)+(D34*'Invulblad aanvullende diensten'!D12) -> 0
A35: Vervuild puin | B35: ='Invulblad aanvullende diensten'!B14 -> 20 m3 afzetcontainer | C35: 23 | D35: 242 | E35: =(C35*'Invulblad aanvullende diensten'!C14)+(D35*'Invulblad aanvullende diensten'!D14) -> 0
A36: ='Invulblad aanvullende diensten'!A15 -> Bedrijfsafval | B36: ='Invulblad aanvullende diensten'!B15 -> 20 & 30 m3 afzetcontainer | C36: 9 | D36: 10.5 | E36: =(C36*'Invulblad aanvullende diensten'!C15)+(D36*'Invulblad aanvullende diensten'!D15) -> 0
A37: ='Invulblad aanvullende diensten'!A16 -> Karton | B37: ='Invulblad aanvullende diensten'!B16 -> 20 & 30 m3 afzetcontainer | C37: 7 | D37: n.v.t | E37: =(C37*'Invulblad aanvullende diensten'!C16) -> 0
A38: ='Invulblad aanvullende diensten'!A26 -> Lediging Stembussen n.a.v.verkiezingen | B38: ='Invulblad aanvullende diensten'!B26 -> 0 - 200 stembussen | C38: 1 | D38: n.v.t | E38: =C38*'Invulblad aanvullende diensten'!C26 -> 0
C39: EINDTOTAAL AANVULLENDE DIENSTEN | E39: =SUM(E33:E38) -> 0
A40: * De aantallen en hoeveelheid tonnage is fictief en dient uitsluitend ter prijsvergelijking. Aan dit aantal kunnen geen rechten worden ontleend.
A41: De facturatie vindt plaats op basis van de daadwerkelijke op afroep gerealiseerde ledigingen.

Sheet Inschrijfbedrag
A1: Bijlage 3 Tarievenblad Bedrijfsafvalwerking (versie 1.3)
A3: ! Voor een correcte invulling van dit tarievenblad wordt inschrijvers verzocht kennis te nemen van de uitgangspunten,
A4: voorwaarden en overige toelichting zoals opgenomen in paragraaf 5.2.3 Prijs van de Aanbestedingsleidraad Bedrijfsafvalverwerking.
A5: ! Alle groene invoervelden in het Tarievenblad zijn verplichte invulvelden en dienen volledig te worden ingevuld. Op dit tabblad tot en met regel 32.
A7: INSCHRIJFBEDRAG | B7: ='Invulblad reguliere diensten'!K111+'Invulblad aanvullende diensten'!E39 -> 0
A8: Het inschrijfbedrag wordt uitsluitend gebruikt voor de beoordeling en rangschikking van de inschrijvingen.
A9: Aan het inschrijfbedrag kunnen geen afnamegaranties, volumeverplichtingen of omzetverwachtingen worden ontleend.
A12: Verklaring Inschrijver
A14: Hierbij verklaart ondergetekende namens Inschrijver dat:
A15: 1. het tarievenblad volledig en naar waarheid is ingevuld;
A16: 2. de aangeboden prijzen zijn opgesteld overeenkomstig de eisen, uitgangspunten en voorwaarden van de aanbestedingsstukken;
A17: 3. de inschrijving onvoorwaardelijk en gestand wordt gedaan overeenkomstig de in de aanbestedingsleidraad opgenomen gestanddoeningstermijn;
A18: 4. de aangeboden tarieven alle kosten omvatten zoals voorgeschreven in paragraaf 5.2.3 Prijs van de Aanbestedingsleidraad;
A19: 5. de ondertekenaar bevoegd is om Inschrijver rechtsgeldig te vertegenwoordigen.
A21: Ondertekening
A23: Bedrijfsnaam:
A24: Naam:
... A28: Handtekening:
