Workbook

Sheet Toelichting
A1: Prijzenblad – Corporate drukwerk
A3: Prijsopgave | B3: Vul per product het all-in tarief in euro’s exclusief btw in. De tarieven zijn inclusief alle bijkomende kosten, waaronder productie, afwerking, verpakking, transport en aflevering.
A4: Staffels | B4: De staffels zijn leidend.
A5: Staffelregel | B5: Het tarief voor een hogere staffel mag niet hoger zijn dan het tarief voor de direct voorafgaande staffel.
A6: CBR-magazine | B6: Voor het CBR-magazine wordt een all-in tarief per editie ingevuld. De fictieve prijs wordt berekend op basis van vier edities per jaar.
A7: Indicatieve volumes | B7: De vermelde jaarlijkse aantallen zijn indicatief en gebaseerd op de beschikbare scope-informatie. Hieraan kunnen geen rechten worden ontleend. Lege of als onbekend aangeduide aantallen moeten zo nodig worden aangevuld.
A8: Fictieve inschrijfprijs | B8: De fictieve inschrijfprijs wordt automatisch berekend door de opgegeven staffeltarieven per product op te tellen, rekening houdend met de factor.
A9: Wegingsfactoren (staffels) | B9: Per product en per oplagestaffel is op het tabblad ‘Wegingsfactoren’ een factor ingesteld. Factor 1 telt normaal mee; factor 2 telt dubbel mee in het totaal fictief per product.

Sheet 1. Ondertekening
A1: Ondertekeningsvel – Prijzenblad Corporate drukwerk
A3: Gegevens van de Inschrijver
A4: Naam onderneming
A5: Statutaire vestigingsplaats
A6: Naam rechtsgeldig vertegenwoordiger
A7: Functie
A8: Adres
A9: KvK-nummer
A10: E-mailadres
A11: Telefoonnummer
A13: Verklaring en ondertekening
A14: Ondergetekende verklaart dat het bijgevoegde prijzenblad volledig en naar waarheid is ingevuld, dat de opgegeven prijzen in euro’s en exclusief btw zijn vermeld en dat de inschrijving wordt gedaan overeenkomstig de aanbestedingsstukken en de daarin opgenomen voorwaarden.
... A26: Let op: ondertekening dient plaats te vinden door een persoon die bevoegd is de Inschrijver rechtsgeldig te vertegenwoordigen. Voeg indien vereist bewijs van vertegenwoordigingsbevoegdheid toe.

Sheet 2. Totaal
A1: Totaaloverzicht fictieve inschrijfprijs
A3: De totale fictieve inschrijfprijs bestaat uit de fictieve inschrijfprijs voor standaard drukwerk en het CBR Magazine.
A5: Onderdeel | B5: Bronblad | C5: Fictieve inschrijfprijs excl. btw (€)
A6: Corporate drukwerk | B6: Prijzenblad | C6: ='3. Standaard drukwerk'!O57 -> 0
A7: CBR Magazine | B7: CBR Magazine | C7: ='4. CBR Magazine'!F18 -> 0
A9: TOTALE FICTIEVE INSCHRIJFPRIJS | C9: =SUM(C6:C7) -> 0

Sheet 3. Standaard drukwerk
A1: Prijzenblad – Standaard drukwerk
A3: Vul de gele velden in. Alle tarieven zijn all-in, in euro’s en exclusief btw. Zie tabblad ‘Toelichting’.
A5: Product | B5: Artikelcode | C5: Kernspecificatie | D5: Indicatief aantal per jaar | E5: Eenheid | F5: Tarief bij 1-100 stuks (€) | G5: Tarief bij 101-500 stuks (€) | H5: Tarief bij 501-1000 stuks (€) | I5: Tarief bij 1001-2000 stuks (€) | J5: Tarief bij 2001-5000 stuks (€) | K5: Tarief bij 5.001-10.000 stuks (€) | L5: Tarief bij 10.000 stuks en meer (€) | M5: Totaal fictief per product (€) | N5: Factor | O5: Gewogen tarief (€)
A6: Briefpapier A4 | B6: corp-403 / ccv-403 / rijges-403 / rijvaar-403 / theor-403 | C6: A4; 80 g/m² Koninklijk wit of vergelijkbaar; enkelzijdig; PMS cyaan + PMS 151 | D6: 182000 | E6: oplage | F6: 0 | G6: 0 | H6: 0 | I6: 0 | J6: 0 | K6: 0 | L6: 0 | M6: =SUMPRODUCT(F6:L6,INDEX('3a. Wegingsfactoren'!$C$5:$I$53,MATCH(ROW(),'3a. Wegingsfactoren'!$A$5:$A$53,0),0)) -> 0 | N6: 2 | O6: =M6*N6 -> 0
A7: Vervolgpapier A4 | B7: corp-404 | C7: A4; 80 g/m² Motiv Premium of vergelijkbaar; enkelzijdig; PMS cyaan + PMS 151 | D7: 215000 | E7: oplage | F7: 0 | G7: 0 | H7: 0 | I7: 0 | J7: 0 | K7: 0 | L7: 0 | M7: =SUMPRODUCT(F7:L7,INDEX('3a. Wegingsfactoren'!$C$5:$I$53,MATCH(ROW(),'3a. Wegingsfactoren'!$A$5:$A$53,0),0)) -> 0 | N7: 2 | O7: =M7*N7 -> 0
A8: EC4 antwoordenvelop Rijschooladministratie | B8: corp-794 | C8: 240 × 340 mm; 120 g/m² Berga Superior of gelijkwaardig; tweezijdig, voorzijde aflopend; voorzijde PMS cyaan + PMS 151 + PMS 432; achterzijde PMS 432; binnenzijde PMS 7543 | D8: 1000 | E8: oplage | F8: 0 | G8: 0 | H8: 0 | I8: 0 | J8: 0 | K8: 0 | L8: X | M8: =SUMPRODUCT(F8:L8,INDEX('3a. Wegingsfactoren'!$C$5:$I$53,MATCH(ROW(),'3a. Wegingsfactoren'!$A$5:$A$53,0),0)) -> 0 | N8: 2 | O8: =M8*N8 -> 0
A9: C5 vensterenvelop Port Betaald | B9: corp-795 | C9: 229 × 162 mm; 80 g/m² Prinsen wit; tweezijdig, voorzijde aflopend; voorzijde PMS cyaan + PMS 151 + PMS 432; achterzijde PMS 432 | D9: 1000 | E9: oplage | F9: 0 | G9: 0 | H9: 0 | I9: 0 | J9: 0 | K9: 0 | L9: X | M9: =SUMPRODUCT(F9:L9,INDEX('3a. Wegingsfactoren'!$C$5:$I$53,MATCH(ROW(),'3a. Wegingsfactoren'!$A$5:$A$53,0),0)) -> 0 | N9: 2 | O9: =M9*N9 -> 0
A10: C5 antwoordenvelop RIS | B10: corp-796 | C10: C5; 80 g/m² Berga Superior; tweezijdig, voorzijde aflopend; voorzijde PMS cyaan + PMS 151 + PMS 432; achterzijde PMS 432 | D10: 1000 | E10: oplage | F10: 0 | G10: 0 | H10: 0 | I10: 0 | J10: 0 | K10: 0 | L10: X | M10: =SUMPRODUCT(F10:L10,INDEX('3a. Wegingsfactoren'!$C$5:$I$53,MATCH(ROW(),'3a. Wegingsfactoren'!$A$5:$A$53,0),0)) -> 0 | N10: 2 | O10: =M10*N10 -> 0
A11: C5 antwoordenvelop HR | B11: corp-797 | C11: C5; 80 g/m² Berga Superior; tweezijdig, voorzijde aflopend; voorzijde PMS cyaan + PMS 151 + PMS 432; achterzijde PMS 432 | D11: 1000 | E11: oplage | F11: 0 | G11: 0 | H11: 0 | I11: 0 | J11: 0 | K11: 0 | L11: X | M11: =SUMPRODUCT(F11:L11,INDEX('3a. Wegingsfactoren'!$C$5:$I$53,MATCH(ROW(),'3a. Wegingsfactoren'!$A$5:$A$53,0),0)) -> 0 | N11: 2 | O11: =M11*N11 -> 0
A12: Vensterenvelop C4 Strobord Port Betaald | B12: corp-800 | C12: C4; 120 g/m² Berga Superior; tweezijdig, voorzijde aflopend; voorzijde PMS cyaan + PMS 151 + PMS 432; achterzijde PMS 432; verzwaard onderbord | D12: 18000 | E12: oplage | F12: 0 | G12: 0 | H12: 0 | I12: 0 | J12: 0 | K12: 0 | L12: 0 | M12: =SUMPRODUCT(F12:L12,INDEX('3a. Wegingsfactoren'!$C$5:$I$53,MATCH(ROW(),'3a. Wegingsfactoren'!$A$5:$A$53,0),0)) -> 0 | N12: 2 | O12: =M12*N12 -> 0
A13: EC4 retourenvelop Postbus 1129 | B13: corp-895 | C13: 340 × 240 mm; 120 g/m² Koninklijk wit; tweezijdig, voorzijde aflopend; voorzijde PMS cyaan + PMS 151 + PMS 432; achterzijde PMS 432 | D13: 1000 | E13: oplage | F13: 0 | G13: 0 | H13: 0 | I13: 0 | J13: 0 | K13: 0 | L13: X | M13: =SUMPRODUCT(F13:L13,INDEX('3a. Wegingsfactoren'!$C$5:$I$53,MATCH(ROW(),'3a. Wegingsfactoren'!$A$5:$A$53,0),0)) -> 0 | N13: 2 | O13: =M13*N13 -> 0
A14: Envelop EC4 | B14: corp-896 | C14: 340 × 240 mm; 120 g/m² Berga Superior; enkelzijdig, aflopend; PMS cyaan + PMS 151 + PMS 432 | D14: 1000 | E14: oplage | F14: 0 | G14: 0 | H14: 0 | I14: 0 | J14: 0 | K14: 0 | L14: X | M14: =SUMPRODUCT(F14:L14,INDEX('3a. Wegingsfactoren'!$C$5:$I$53,MATCH(ROW(),'3a. Wegingsfactoren'!$A$5:$A$53,0),0)) -> 0 | N14: 2 | O14: =M14*N14 -> 0
A15: Envelop C5 drukwerk Port Betaald | B15: corp-897 | C15: 229 × 162 mm; 80 g/m² Prinsen wit; tweezijdig, voorzijde aflopend; voorzijde PMS cyaan + PMS 151 + PMS 432; achterzijde PMS 432 | D15: 15000 | E15: oplage | F15: 0 | G15: 0 | H15: 0 | I15: 0 | J15: 0 | K15: 0 | L15: 0 | M15: =SUMPRODUCT(F15:L15,INDEX('3a. Wegingsfactoren'!$C$5:$I$53,MATCH(ROW(),'3a. Wegingsfactoren'!$A$5:$A$53,0),0)) -> 0 | N15: 2 | O15: =M15*N15 -> 0
A16: Vensterenvelop C5 Port Betaald | B16: corp-898 | C16: C5; 80 g/m² Prinsen wit; tweezijdig, voorzijde aflopend; voorzijde PMS cyaan + PMS 151 + PMS 432; achterzijde PMS 432 | D16: 1030000 | E16: oplage | F16: 0 | G16: 0 | H16: 0 | I16: 0 | J16: 0 | K16: 0 | L16: 0 | M16: =SUMPRODUCT(F16:L16,INDEX('3a. Wegingsfactoren'!$C$5:$I$53,MATCH(ROW(),'3a. Wegingsfactoren'!$A$5:$A$53,0),0)) -> 0 | N16: 2 | O16: =M16*N16 -> 0
A17: Venster envelop C4 Port Betaald | B17: corp-899 | C17: 229 × 324 mm; 120 g/m² Berga Superior; tweezijdig, voorzijde aflopend; voorzijde PMS cyaan + PMS 151 + PMS 432; achterzijde PMS 432 | D17: 55000 | E17: oplage | F17: 0 | G17: 0 | H17: 0 | I17: 0 | J17: 0 | K17: 0 | L17: 0 | M17: =SUMPRODUCT(F17:L17,INDEX('3a. Wegingsfactoren'!$C$5:$I$53,MATCH(ROW(),'3a. Wegingsfactoren'!$A$5:$A$53,0),0)) -> 0 | N17: 2 | O17: =M17*N17 -> 0
A18: Om envelop Gemeente met venster | B18: rijges-858 | C18: 229 × 162 mm; 80 g/m² Prinsen wit; voorzijde aflopend; PMS cyaan + PMS 151 | D18: 70000 | E18: oplage | F18: 0 | G18: 0 | H18: 0 | I18: 0 | J18: 0 | K18: 0 | L18: 0 | M18: =SUMPRODUCT(F18:L18,INDEX('3a. Wegingsfactoren'!$C$5:$I$53,MATCH(ROW(),'3a. Wegingsfactoren'!$A$5:$A$53,0),0)) -> 0 | N18: 2 | O18: =M18*N18 -> 0
A19: Retourenvelop Medisch Beroepsgeheim – Postbus 1062 | B19: rijges-859 | C19: 215 × 156 mm; 80 g/m² Prinsen wit; tweezijdig, voorzijde aflopend; PMS cyaan + PMS 151 + PMS 432 | D19: 90000 | E19: oplage | F19: 0 | G19: 0 | H19: 0 | I19: 0 | J19: 0 | K19: 0 | L19: 0 | M19: =SUMPRODUCT(F19:L19,INDEX('3a. Wegingsfactoren'!$C$5:$I$53,MATCH(ROW(),'3a. Wegingsfactoren'!$A$5:$A$53,0),0)) -> 0 | N19: 2 | O19: =M19*N19 -> 0
A20: Retourenvelop Medisch Beroepsgeheim – Postbus 3014 | B20: rijges-861 | C20: 215 × 156 mm; 80 g/m² Prinsen wit; tweezijdig, voorzijde aflopend; PMS cyaan + PMS 151 + PMS 432 | D20: 5500 | E20: oplage | F20: 0 | G20: 0 | H20: 0 | I20: 0 | J20: 0 | K20: 0 | L20: 0 | M20: =SUMPRODUCT(F20:L20,INDEX('3a. Wegingsfactoren'!$C$5:$I$53,MATCH(ROW(),'3a. Wegingsfactoren'!$A$5:$A$53,0),0)) -> 0 | N20: 2 | O20: =M20*N20 -> 0
A21: Brochure EMD-kaart | B21: rijges-600 | C21: 210 × 297 mm; 250 g/m² Silk MC; tweezijdig full colour; rondom aflopend | D21: 4500 | E21: oplage | F21: 0 | G21: 0 | H21: 0 | I21: 0 | J21: 0 | K21: 0 | L21: 0 | M21: =SUMPRODUCT(F21:L21,INDEX('3a. Wegingsfactoren'!$C$5:$I$53,MATCH(ROW(),'3a. Wegingsfactoren'!$A$5:$A$53,0),0)) -> 0 | N21: 2 | O21: =M21*N21 -> 0
A22: Brochure cursusboek EMA | B22: rijges-603 | C22: 210 × 210 mm, gevouwen A5; 68 pagina’s incl. 4 pagina’s omslag; omslag 300 g/m² eenzijdig gestreken sulfaatkarton; binnenwerk 120 g/m² HVO; full colour | D22: 6916 | E22: oplage | F22: 0 | G22: 0 | H22: 0 | I22: 0 | J22: 0 | K22: 0 | L22: 0 | M22: =SUMPRODUCT(F22:L22,INDEX('3a. Wegingsfactoren'!$C$5:$I$53,MATCH(ROW(),'3a. Wegingsfactoren'!$A$5:$A$53,0),0)) -> 0 | N22: 2 | O22: =M22*N22 -> 0
A23: Brochure cursusboek LEMA | B23: rijges-604 | C23: 210 × 210 mm, gevouwen A5; 28 pagina’s incl. 4 pagina’s omslag; omslag 250 g/m² sulfaatkarton; binnenwerk 100 g/m² Koninklijk wit; full colour | D23: 1736 | E23: oplage | F23: 0 | G23: 0 | H23: 0 | I23: 0 | J23: 0 | K23: 0 | L23: 0 | M23: =SUMPRODUCT(F23:L23,INDEX('3a. Wegingsfactoren'!$C$5:$I$53,MATCH(ROW(),'3a. Wegingsfactoren'!$A$5:$A$53,0),0)) -> 0 | N23: 2 | O23: =M23*N23 -> 0
A24: Brochure cursusboek EMG | B24: rijges-605 | C24: 210 × 210 mm, gevouwen A5; 40 pagina’s incl. 4 pagina’s omslag; omslag 300 g/m² eenzijdig gestreken sulfaatkarton; binnenwerk 120 g/m² Koninklijk wit; full colour | D24: 5362 | E24: oplage | F24: 0 | G24: 0 | H24: 0 | I24: 0 | J24: 0 | K24: 0 | L24: 0 | M24: =SUMPRODUCT(F24:L24,INDEX('3a. Wegingsfactoren'!$C$5:$I$53,MATCH(ROW(),'3a. Wegingsfactoren'!$A$5:$A$53,0),0)) -> 0 | N24: 2 | O24: =M24*N24 -> 0
A25: Brochure cursusboek EMD | B25: rijges-606 | C25: 210 × 210 mm, gevouwen A5; 44 pagina’s incl. 4 pagina’s omslag; omslag 300 g/m² eenzijdig gestreken sulfaatkarton; binnenwerk 120 g/m² Koninklijk wit; full colour | D25: 15788 | E25: oplage | F25: 0 | G25: 0 | H25: 0 | I25: 0 | J25: 0 | K25: 0 | L25: 0 | M25: =SUMPRODUCT(F25:L25,INDEX('3a. Wegingsfactoren'!$C$5:$I$53,MATCH(ROW(),'3a. Wegingsfactoren'!$A$5:$A$53,0),0)) -> 0 | N25: 2 | O25: =M25*N25 -> 0
A26: Brochure cursusboek LEMG | B26: rijges-607 | C26: 210 × 210 mm, gevouwen A5; 52 pagina’s incl. 4 pagina’s omslag; omslag 300 g/m² eenzijdig gestreken sulfaatkarton; binnenwerk 100 g/m² houtvrij offset wit; full colour | D26: 4718 | E26: oplage | F26: 0 | G26: 0 | H26: 0 | I26: 0 | J26: 0 | K26: 0 | L26: 0 | M26: =SUMPRODUCT(F26:L26,INDEX('3a. Wegingsfactoren'!$C$5:$I$53,MATCH(ROW(),'3a. Wegingsfactoren'!$A$5:$A$53,0),0)) -> 0 | N26: 2 | O26: =M26*N26 -> 0
A27: Overeenkomst tussen CBR en opleider | B27: corp-150 | C27: 630 × 297 mm, gevouwen naar A4; 6 pagina’s; 120 g/m²; tweezijdig full colour | D27: 2750 | E27: oplage | F27: 0 | G27: 0 | H27: 0 | I27: 0 | J27: 0 | K27: 0 | L27: X | M27: =SUMPRODUCT(F27:L27,INDEX('3a. Wegingsfactoren'!$C$5:$I$53,MATCH(ROW(),'3a. Wegingsfactoren'!$A$5:$A$53,0),0)) -> 0 | N27: 2 | O27: =M27*N27 -> 0
A28: Toelichting overeenkomst tussen CBR en opleider | B28: corp-151 | C28: 420 × 297 mm, gevouwen naar A4; 4 pagina’s; 120 g/m²; tweezijdig full colour | D28: 500 | E28: oplage | F28: 0 | G28: 0 | H28: 0 | I28: 0 | J28: 0 | K28: 0 | M28: =SUMPRODUCT(F28:L28,INDEX('3a. Wegingsfactoren'!$C$5:$I$53,MATCH(ROW(),'3a. Wegingsfactoren'!$A$5:$A$53,0),0)) -> 0 | N28: 2 | O28: =M28*N28 -> 0
A29: Inschrijfformulier opleider overeenkomst | B29: corp-152 | C29: 420 × 297 mm, gevouwen naar A4; 4 pagina’s; 120 g/m²; tweezijdig full colour; afscheurperforatie | D29: 3000 | E29: oplage | F29: 0 | G29: 0 | H29: 0 | I29: 0 | J29: 0 | K29: 0 | L29: X | M29: =SUMPRODUCT(F29:L29,INDEX('3a. Wegingsfactoren'!$C$5:$I$53,MATCH(ROW(),'3a. Wegingsfactoren'!$A$5:$A$53,0),0)) -> 0 | N29: 2 | O29: =M29*N29 -> 0
A30: Naamkaartjes / tafelnaambordjes | B30: corp-008 | C30: A4; 250 g/m² Prinsen wit; enkelzijdig full colour; ril-/vouwlijn in het midden | D30: 30000 | E30: oplage | F30: 0 | G30: 0 | H30: 0 | I30: 0 | J30: 0 | K30: 0 | L30: X | M30: =SUMPRODUCT(F30:L30,INDEX('3a. Wegingsfactoren'!$C$5:$I$53,MATCH(ROW(),'3a. Wegingsfactoren'!$A$5:$A$53,0),0)) -> 0 | N30: 2 | O30: =M30*N30 -> 0
A31: Visitekaartjes | C31: 55 × 85 mm; 300 g/m² wit premium; tweezijdig; 4 varianten; verpakken per 100 stuks | D31: 800 | E31: oplage | F31: 0 | G31: 0 | H31: X | I31: X | J31: X | K31: X | L31: X | M31: =SUMPRODUCT(F31:L31,INDEX('3a. Wegingsfactoren'!$C$5:$I$53,MATCH(ROW(),'3a. Wegingsfactoren'!$A$5:$A$53,0),0)) -> 0 | N31: 2 | O31: =M31*N31 -> 0
A32: With Compliment card | B32: corp-002 | C32: A5; 300 g/m² Koninklijk wit; enkelzijdig; PMS cyaan + PMS 151 + PMS 432 | D32: 1500 | E32: oplage | F32: 0 | G32: 0 | H32: 0 | I32: 0 | J32: 0 | K32: 0 | L32: X | M32: =SUMPRODUCT(F32:L32,INDEX('3a. Wegingsfactoren'!$C$5:$I$53,MATCH(ROW(),'3a. Wegingsfactoren'!$A$5:$A$53,0),0)) -> 0 | N32: 2 | O32: =M32*N32 -> 0
A33: Kladpapier TEC's | B33: corp-007 | C33: A6; 90 g/m²; enkelzijdig; PMS cyaan + PMS 151 + PMS 432; blokken van circa 50 vel met zwaar onderbord | D33: 3000 | E33: oplage | F33: 0 | G33: 0 | H33: 0 | I33: 0 | J33: 0 | K33: 0 | L33: X | M33: =SUMPRODUCT(F33:L33,INDEX('3a. Wegingsfactoren'!$C$5:$I$53,MATCH(ROW(),'3a. Wegingsfactoren'!$A$5:$A$53,0),0)) -> 0 | N33: 2 | O33: =M33*N33 -> 0
A34: Notitieblok relatiegeschenken/meetings | B34: corp-009 | C34: A6 105 × 148 mm; omplakt dekvel; dekvel enkelzijdig full colour met mat laminaat; binnenwerk 80 g/m² HVO PMS 151+ cyaan; 35 vel, verlijmd op zwaar onderbord | D34: 1000 | E34: oplage | F34: 0 | G34: 0 | H34: 0 | I34: 0 | J34: 0 | K34: X | L34: X | M34: =SUMPRODUCT(F34:L34,INDEX('3a. Wegingsfactoren'!$C$5:$I$53,MATCH(ROW(),'3a. Wegingsfactoren'!$A$5:$A$53,0),0)) -> 0 | N34: 2 | O34: =M34*N34 -> 0
A35: Notitieblok onboarding | B35: corp-018 | C35: A6 105 × 148 mm; omplakt dekvel; dekvel enkelzijdig full colour met mat laminaat; binnenwerk 90 g/m² in PMS 151 + cyaan; 35 vel, verlijmd op zwaar onderbord | D35: 200 | E35: oplage | F35: 0 | G35: 0 | H35: 0 | I35: 0 | J35: 0 | K35: X | L35: X | M35: =SUMPRODUCT(F35:L35,INDEX('3a. Wegingsfactoren'!$C$5:$I$53,MATCH(ROW(),'3a. Wegingsfactoren'!$A$5:$A$53,0),0)) -> 0 | N35: 2 | O35: =M35*N35 -> 0
A36: Flyer/folder Keuring voor het rijbewijs | B36: rijges-200 | C36: 297 × 210 mm, gevouwen naar A5; 2 pagina’s; 200 g/m² wit; tweezijdig full colour | D36: 1500 | E36: oplage | F36: 0 | G36: 0 | H36: 0 | I36: 0 | J36: 0 | K36: 0 | L36: X | M36: =SUMPRODUCT(F36:L36,INDEX('3a. Wegingsfactoren'!$C$5:$I$53,MATCH(ROW(),'3a. Wegingsfactoren'!$A$5:$A$53,0),0)) -> 0 | N36: 2 | O36: =M36*N36 -> 0
A37: Flyer/folder Gezondheid wijziging | B37: rijges-201 | C37: 297 × 210 mm, gevouwen naar A5; 2 pagina’s; 200 g/m² wit; tweezijdig full colour | D37: 1500 | E37: oplage | F37: 0 | G37: 0 | H37: 0 | I37: 0 | J37: 0 | K37: 0 | L37: X | M37: =SUMPRODUCT(F37:L37,INDEX('3a. Wegingsfactoren'!$C$5:$I$53,MATCH(ROW(),'3a. Wegingsfactoren'!$A$5:$A$53,0),0)) -> 0 | N37: 2 | O37: =M37*N37 -> 0
A38: Flyer/folder Rijtest druk | B38: rijges-202 | C38: 297 × 210 mm, gevouwen naar A5; 2 pagina’s; 200 g/m² wit; tweezijdig full colour | D38: 1500 | E38: oplage | F38: 0 | G38: 0 | H38: 0 | I38: 0 | J38: 0 | K38: 0 | L38: X | M38: =SUMPRODUCT(F38:L38,INDEX('3a. Wegingsfactoren'!$C$5:$I$53,MATCH(ROW(),'3a. Wegingsfactoren'!$A$5:$A$53,0),0)) -> 0 | N38: 2 | O38: =M38*N38 -> 0
A39: Flyer/folder Rijden met een lichamelijke beperking | B39: rijges-203 | C39: 297 × 210 mm, gevouwen naar A5; 2 pagina’s; 200 g/m² wit; tweezijdig full colour | D39: 1500 | E39: oplage | F39: 0 | G39: 0 | H39: 0 | I39: 0 | J39: 0 | K39: 0 | L39: X | M39: =SUMPRODUCT(F39:L39,INDEX('3a. Wegingsfactoren'!$C$5:$I$53,MATCH(ROW(),'3a. Wegingsfactoren'!$A$5:$A$53,0),0)) -> 0 | N39: 2 | O39: =M39*N39 -> 0
A40: Flyer/folder Melding na examen | B40: rijges-924 | C40: A5; 170 g/m²; tweezijdig full colour | D40: 1300 | E40: oplage | F40: 0 | G40: 0 | H40: 0 | I40: 0 | J40: 0 | K40: 0 | L40: X | M40: =SUMPRODUCT(F40:L40,INDEX('3a. Wegingsfactoren'!$C$5:$I$53,MATCH(ROW(),'3a. Wegingsfactoren'!$A$5:$A$53,0),0)) -> 0 | N40: 2 | O40: =M40*N40 -> 0
A42: Incidentele bestellingen
A43: Invulhulp GV | B43: rijges-974 | C43: A5-brochure, 8 pagina’s, 90 g/m² wit, tweezijdig full colour | D43: 2000 | E43: oplage | F43: 0 | G43: 0 | H43: 0 | I43: 0 | J43: 0 | K43: 0 | L43: 0 | M43: =SUMPRODUCT(F43:L43,INDEX('3a. Wegingsfactoren'!$C$5:$I$53,MATCH(ROW(),'3a. Wegingsfactoren'!$A$5:$A$53,0),0)) -> 0 | N43: 1 | O43: =M43*N43 -> 0
...

Sheet 3a. Wegingsfactoren
A1: Wegingsfactoren per product en oplagestaffel
A2: Factor 1 = normale weging. Factor 2 = de betreffende staffel telt dubbel mee in het fictieve totaal per product.
A4: Bronregel | B4: Product | C4: 1–100 | D4: 101–500 | E4: 501–1.000 | F4: 1.001–2.000 | G4: 2.001–5.000 | H4: 5.001–10.000 | I4: 10.000+
A5: 6 | B5: Briefpapier A4 | C5: 1 | D5: 1 | E5: 1 | F5: 1 | G5: 1 | H5: 1 | I5: 2
A6: 7 | B6: Vervolgpapier A4 | C6: 1 | D6: 1 | E6: 1 | F6: 1 | G6: 1 | H6: 1 | I6: 2
A7: 8 | B7: EC4 antwoordenvelop Rijschooladministratie | C7: 1 | D7: 1 | E7: 2 | F7: 1 | G7: 1 | H7: 1 | I7: 1
A8: 9 | B8: C5 vensterenvelop Port Betaald | C8: 1 | D8: 1 | E8: 2 | F8: 1 | G8: 1 | H8: 1 | I8: 1
A9: 10 | B9: C5 antwoordenvelop RIS | C9: 1 | D9: 1 | E9: 2 | F9: 1 | G9: 1 | H9: 1 | I9: 1
A10: 11 | B10: C5 antwoordenvelop HR | C10: 1 | D10: 1 | E10: 2 | F10: 1 | G10: 1 | H10: 1 | I10: 1
A11: 12 | B11: Vensterenvelop C4 Strobord Port Betaald | C11: 1 | D11: 1 | E11: 1 | F11: 1 | G11: 1 | H11: 2 | I11: 1
A12: 13 | B12: EC4 retourenvelop Postbus 1129 | C12: 1 | D12: 1 | E12: 1 | F12: 2 | G12: 1 | H12: 1 | I12: 1
A13: 14 | B13: Envelop EC4 | C13: 1 | D13: 1 | E13: 2 | F13: 1 | G13: 1 | H13: 1 | I13: 1
A14: 15 | B14: Envelop C5 drukwerk Port Betaald | C14: 1 | D14: 1 | E14: 1 | F14: 1 | G14: 1 | H14: 1 | I14: 2
A15: 16 | B15: Vensterenvelop C5 Port Betaald | C15: 1 | D15: 1 | E15: 1 | F15: 1 | G15: 1 | H15: 1 | I15: 2
A16: 17 | B16: Venster envelop C4 Port Betaald | C16: 1 | D16: 1 | E16: 1 | F16: 1 | G16: 1 | H16: 1 | I16: 2
... A53: 56 | B53: Uitslagformulier praktijkexamen schipper | C53: 2 | D53: 1 | E53: 1 | F53: 1 | G53: 1 | H53: 1 | I53: 1

Sheet 4. CBR Magazine
A1: Prijzenblad – CBR Magazine
A3: Uitgangspunten op basis van bijlage 14- Scope uitwerking
A4: Product | B4: CBR Magazine
A5: Oplage per editie | B5: 2400
A6: Aantal edities per jaar | B6: 4
A7: Formaat | B7: 200 x 264 mm
A8: Omslag | B8: 4 pagina’s, 200 grams Nautilus Super White
A9: Binnenwerk | B9: 120 grams papier
A10: Bedrukking | B10: Full colour
A11: Afwerking | B11: Geniet met 2 nietjes; omslag rillen
A12: Voorbereiden voor verzending | B12: Port Betaald voorbereiden en sealen/labelen
A13: Bezorging | B13: Circa 2.100 exemplaren huis-aan-huis; restant naar hoofdkantoor
A16: Prijsopgave
A17: Omschrijving | B17: Eenheid | C17: Aantal per jaar | D17: Prijs per editie excl. btw (€) | E17: Aantal edities | F17: Totaal fictieve prijs excl. btw (€)
A18: CBR Magazine – productie, afwerking en verzendklaar maken | B18: per editie | C18: =B5*B6 -> 9600 | D18: 0 | E18: =B6 -> 4 | F18: =D18*E18 -> 0
A20: Vul één all-in prijs per editie in. Neem alle kosten mee, waaronder productie, afwerking, adressering, sealen/labelen en eventuele overige kosten. Het totaal wordt berekend op basis van 4 edities per jaar.
