Workbook

Sheet Voorblad
A1: Bijlage 4 - Prijzenblad - Offerteaanvraag inzake Drukwerk ten behoeve van Veiligheidsregio Fryslân | H1: Invulinstructie: > Inschrijver vult de oranje vakken in; > Alle prijzen zijn excl. Btw; > Aan de genoemde indicatieve jaarlijkse afname kunnen geen rechten worden ontleend, dit betreffen slechts indicatieve aantallen; > 'Prijzen opties' vallen buiten de inschrijprijs, deze worden optioneel uitgevraagd. > Het prijzenblad wordt zowel in PDF als Excel ingediend.
B6: Versie 1.0 | D6: In te vullen door Inschrijver
B7: 46287
B8: TN-Kenmerk 602037
B11: Naam Inschrijver:
B12: Datum:
B13: Naam en rechtsgeldige ondertekening:
A19: Alle door Inschrijver verstrekte tarieven en prijzen zijn marktconform en realistisch. Indien blijkt dat er niet marktconform of realistisch wordt aangeboden, is Opdrachtgever gerechtigd de Inschrijving ongeldig te verklaren.
A23: Totale inschrijfprijs (excl. Btw) | D23: =Prijzenblad!L108 -> 0

Sheet Prijzenblad
F3: =Voorblad!A1 -> Bijlage 4 - Prijzenblad - Offerteaanvraag inzake Drukwerk ten behoeve van Veiligheidsregio Fryslân
C7: =Voorblad!B6 -> Versie 1.0 | F7: Invulinstructie: De oranje gekleurde vakken dienen te worden ingevuld door Inschrijver.
C8: =Voorblad!B7 -> 46287
C9: =Voorblad!B8 -> TN-Kenmerk 602037
C11: Product | D11: Formaat | F11: Gewicht | G11: Papiersoort | H11: Bedrukking | I11: Toelichting | J11: Oplage | K11: Prijs per oplage | L11: Totale prijs | M11: Indicatieve jaarlijkse afname
C12: Brief | D12: A4 | E12: 210x297mm | F12: 90 g/m² | G12: Bankpost wit | H12: 4/4 | I12: Beveiligd printen Onder Beveiligd printen wordt verstaan: het ontvangen van de opdracht, het aantal afdrukken (100000 stuks per jaar) en het couverteren (50000) van deze opdrachten. | J12: 50 | K12: 0 | L12: =K12*($M$12/4) -> 0 | M12: 100000
J13: 100 | K13: 0 | L13: =K13*($M$12/4) -> 0
J14: 250 | K14: 0 | L14: =K14*($M$12/4) -> 0
J15: 500 | K15: 0 | L15: =K15*($M$12/4) -> 0
C16: Brief-/vervolgpapier | D16: A4 | E16: 210x297mm | F16: 90 g/m² | G16: Bankpost wit | H16: 4/0 | J16: 1000 | K16: 0 | L16: =K16*($M$16/2) -> 0 | M16: 131500
J17: 2500 | K17: 0 | L17: =K17*($M$16/2) -> 0
C18: Document | D18: A4 | E18: 210x297mm | F18: 120 g/m² | G18: Bankpost wit | H18: 4/0 | I18: Voor bijv. kleurplaten en diploma's | J18: 50 | K18: 0 | L18: =K18*($M$18/4) -> 0 | M18: 5000
J19: 100 | K19: 0 | L19: =K19*($M$18/4) -> 0
J20: 250 | K20: 0 | L20: =K20*($M$18/4) -> 0
J21: 500 | K21: 0 | L21: =K21*($M$18/4) -> 0
C22: Envelop | D22: C5 | E22: 162x229 mm | F22: 90 g/m² | G22: Wit Enveloppenbank | H22: 4/0 | I22: Dienstenvelop zonder venster (striplocksluiting) | J22: 500 | K22: 0 | L22: =K22*M22 -> 0 | M22: 51000
D23: C5 | E23: 162x229 mm | F23: 90 g/m² | G23: Wit Enveloppenbank | H23: 4/0 | I23: Dienstenvelop zonder venster (gegomde sluiting) | J23: 500 | K23: 0 | L23: =K23*M23 -> 0 | M23: 14000
D24: C5 | E24: 162x229 mm | F24: 90 g/m² | G24: Wit Enveloppenbank | H24: 4/0 | I24: Dienstenvelop met venster (striplocksluiting) | J24: 500 | K24: 0 | L24: =K24*M24 -> 0 | M24: 4000
D25: C5 | E25: 162x229 mm | F25: 90 g/m² | G25: Wit Enveloppenbank | H25: 4/0 | I25: Dienstenvelop met venster (gegomde sluiting) | J25: 500 | K25: 0 | L25: =K25*M25 -> 0 | M25: 100000
D26: EA5 | E26: 156x220 mm | F26: 90 g/m² | G26: Wit Enveloppenbank | H26: 4/0 | I26: Envelop zonder venster | J26: 500 | K26: 0 | L26: =K26*M26 -> 0 | M26: 4000
D27: EA5 | E27: 156x220mm | F27: 90 g/m² | G27: Wit Enveloppenbank | H27: 4/0 | I27: Envelop met venster | J27: 500 | K27: 0 | L27: =K27*M27 -> 0 | M27: 1000
D28: C4 | E28: 229x324 mm | F28: 120 g/m² | G28: Wit Enveloppenbank | H28: 4/0 | I28: Akte-envelop zonder venster (striplocksluiting) | J28: 250 | K28: 0 | L28: =K28*M28 -> 0 | M28: 11000
D29: C4 | E29: 229x324 mm | F29: 120 g/m² | G29: Wit Enveloppenbank | H29: 4/0 | I29: Akte-envelop zonder venster (gegomde sluiting) | J29: 250 | K29: 0 | L29: =K29*M29 -> 0 | M29: 10000
D30: C4 | E30: 229x324 mm | F30: 120 g/m² | G30: Wit Enveloppenbank | H30: 4/0 | I30: Akte-envelop met venster (striplocksluiting) | J30: 250 | K30: 0 | L30: =K30*M30 -> 0 | M30: 3000
D31: C4 | E31: 229x324 mm | F31: 120 g/m² | G31: Wit Enveloppenbank | H31: 4/0 | I31: Akte-envelop met venster (gegomde sluiting) | J31: 250 | K31: 0 | L31: =K31*M31 -> 0 | M31: 10000
C32: Monsterzak | D32: C4 | E32: 229x 324x38mm | F32: 170 g/m² | G32: Wit craft | H32: 4/0 | I32: Uitvouwbare bodem | J32: 125 | K32: 0 | L32: =K32*($M$32/3) -> 0 | M32: 3750
J33: 250 | K33: 0 | L33: =K33*($M$32/3) -> 0
J34: 500 | K34: 0 | L34: =K34*($M$32/3) -> 0
C35: Adresstickers | D35: A4 | E35: 210x297mm | G35: Stickervel | H35: 4/0 | I35: 8 stickers per vel (112x74mm) | J35: 500 | K35: 0 | L35: =K35*M35 -> 0 | M35: 200
C36: Flyer | D36: A5 | E36: 148x210mm | F36: 170 g/m² | G36: Houtvrij gesatineerd mc (glanzend) | H36: 4/0 | J36: 100 | K36: 0 | L36: =K36*($M$36/4) -> 0 | M36: 5000
J37: 250 | K37: 0 | L37: =K37*($M$36/4) -> 0
J38: 500 | K38: 0 | L38: =K38*($M$36/4) -> 0
J39: 1000 | K39: 0 | L39: =K39*($M$36/4) -> 0
D40: A5 | E40: 148x210mm | F40: 170 g/m² | G40: Houtvrij gesatineerd mc (glanzend) | H40: 4/4 | J40: 100 | K40: 0 | L40: =K40*($M$40/4) -> 0 | M40: 10000
J41: 250 | K41: 0 | L41: =K41*($M$40/4) -> 0
J42: 500 | K42: 0 | L42: =K42*($M$40/4) -> 0
J43: 1000 | K43: 0 | L43: =K43*($M$40/4) -> 0
D44: A4 | E44: 210x297mm | F44: 170 g/m² | G44: Houtvrij gesatineerd mc (glanzend) | H44: 4/4 | J44: 100 | K44: 0 | L44: =K44*($M$36/4) -> 0 | M44: 3000
J45: 250 | K45: 0 | L45: =K45*($M$36/4) -> 0
J46: 500 | K46: 0 | L46: =K46*($M$36/4) -> 0
J47: 1000 | K47: 0 | L47: =K47*($M$36/4) -> 0
C48: Flyer water- en scheurvast | D48: A5 | E48: 148x210mm | F48: 234 g/m² | G48: Yupo blue | H48: 4/4 | J48: 25 | K48: 0 | L48: =K48*($M$48/3) -> 0 | M48: 250
J49: 50 | K49: 0 | L49: =K49*($M$48/3) -> 0
J50: 100 | K50: 0 | L50: =K50*($M$48/3) -> 0
D51: A4 | E51: 210x297mm | F51: 234 g/m² | G51: Yupo blue | H51: 4/4 | J51: 25 | K51: 0 | L51: =K51*($M$51/3) -> 0 | M51: 250
J52: 50 | K52: 0 | L52: =K52*($M$51/3) -> 0
J53: 100 | K53: 0 | L53: =K53*($M$51/3) -> 0
C54: Folder | D54: A4 gevouwen naar A5 | E54: 148x210mm | F54: 170 g/m² | G54: Houtvrij gesatineerd mc (glanzend) | H54: 4/4 | J54: 100 | K54: 0 | L54: =K54*($M$54/4) -> 0 | M54: 17250
J55: 250 | K55: 0 | L55: =K55*($M$54/4) -> 0
J56: 500 | K56: 0 | L56: =K56*($M$54/4) -> 0
J57: 1000 | K57: 0 | L57: =K57*($M$54/4) -> 0
D58: Drieluik A5 | E58: 148x210mm | F58: 170 g/m² | G58: Houtvrij gesatineerd mc (glanzend) | H58: 4/4 | I58: Drieluik wikkelgevouwen, voorzien van 2 rillen, schoonsnijden. | J58: 100 | K58: 0 | L58: =K58*($M$58/4) -> 0 | M58: 1500
J59: 250 | K59: 0 | L59: =K59*($M$58/4) -> 0
J60: 500 | K60: 0 | L60: =K60*($M$58/4) -> 0
J61: 1000 | K61: 0 | L61: =K61*($M$58/4) -> 0
C62: Kaart | D62: A5 | E62: 210x148mm | F62: 300 g/m² | G62: Houtvrij mat mc | H62: 4/0 | J62: 100 | K62: 0 | L62: =K62*($M$62/3) -> 0 | M62: 1500
J63: 250 | K63: 0 | L63: =K63*($M$62/3) -> 0
J64: 500 | K64: 0 | L64: =K64*($M$62/3) -> 0
D65: A5 | E65: 210x148mm | F65: 300 g/m² | G65: Houtvrij mat mc | H65: 4/4 | J65: 100 | K65: 0 | L65: =K65*($M$65/3) -> 0 | M65: 250
J66: 250 | K66: 0 | L66: =K66*($M$65/3) -> 0
J67: 500 | K67: 0 | L67: =K67*($M$65/3) -> 0
D68: A6 | E68: 148x105mm | F68: 300 g/m² | G68: Houtvrij mat mc | H68: 4/0 | J68: 100 | K68: 0 | L68: =K68*($M$68/3) -> 0 | M68: 60
J69: 250 | K69: 0 | L69: =K69*($M$68/3) -> 0
J70: 500 | K70: 0 | L70: =K70*($M$68/3) -> 0
D71: A6 | E71: 148x105mm | F71: 300 g/m² | G71: Houtvrij mat mc | H71: 4/4 | J71: 100 | K71: 0 | L71: =K71*($M$71/3) -> 0 | M71: 5000
J72: 250 | K72: 0 | L72: =K72*($M$71/3) -> 0
J73: 500 | K73: 0 | L73: =K73*($M$71/3) -> 0
D74: A5 | E74: 210x148mm | F74: 300 g/m² | G74: Houtvrij mat mc | H74: 4/4 | I74: Zonder begeleidend schrijven | J74: 250 | K74: 0 | L74: =K74*($M$74/3) -> 0 | M74: 1000
J75: 500 | K75: 0 | L75: =K75*($M$74/3) -> 0
J76: 1000 | K76: 0 | L76: =K76*($M$74/3) -> 0
C77: Poster | D77: A0 | E77: 841x1189mm | F77: 250 g/m² | G77: Houtvrij gesatineerd mc (glanzend) | H77: 4/0 | J77: 10 | K77: 0 | L77: =K77*($M$77/3) -> 0 | M77: 5
J78: 25 | K78: 0 | L78: =K78*($M$77/3) -> 0
J79: 50 | K79: 0 | L79: =K79*($M$77/3) -> 0
D80: A1 | E80: 594x841mm | F80: 250 g/m² | G80: Houtvrij gesatineerd mc (glanzend) | H80: 4/0 | J80: 10 | K80: 0 | L80: =K80*$M$80/3 -> 0 | M80: 40
J81: 25 | K81: 0 | L81: =K81*$M$80/3 -> 0
J82: 50 | K82: 0 | L82: =K82*$M$80/3 -> 0
D83: A2 | E83: 420x594mm | F83: 250 g/m² | G83: Houtvrij gesatineerd mc (glanzend) | H83: 4/0 | J83: 10 | K83: 0 | L83: =K83*$M$83 -> 0 | M83: 200
J84: 25 | K84: 0 | L84: =K84*$M$83 -> 0
J85: 50 | K85: 0 | L85: =K85*$M$83 -> 0
D86: A3 | E86: 297x420mm | F86: 170 g/m² | G86: Houtvrij gesatineerd mc (glanzend) | H86: 4/0 | J86: 10 | K86: 0 | L86: =K86*($M$86/3) -> 0 | M86: 1750
J87: 25 | K87: 0 | L87: =K87*($M$86/3) -> 0
J88: 50 | K88: 0 | L88: =K88*($M$86/3) -> 0
D89: A3 | E89: 420x297mm | F89: 250 g/m² | G89: Houtvrij Mat mc (Mat) | H89: 4/0 | I89: Brandweerbouwplaat | J89: 100 | K89: 0 | L89: =K89*($M$89/3) -> 0 | M89: 5000
J90: 250 | K90: 0 | L90: =K90*($M$89/3) -> 0
J91: 500 | K91: 0 | L91: =K91*($M$89/3) -> 0
D92: A4 | E92: 210x297mm | F92: 170 g/m² | G92: Houtvrij gesatineerd mc (glanzend) | H92: 4/0 | J92: 100 | K92: 0 | L92: =K92*($M$92/3) -> 0 | M92: 4500
J93: 250 | K93: 0 | L93: =K93*($M$92/3) -> 0
J94: 500 | K94: 0 | L94: =K94*($M$92/3) -> 0
C95: Maskers | E95: 400X190mm | F95: 350 g/m² | G95: Ensocoat 1S SBS, 01, mat ingeriemd, FSC | H95: 4/1 | I95: Stansen en verpakken | J95: 1000 | K95: 0 | L95: =K95*M95 -> 0 | M95: 10000
C96: Brochure | D96: A5 | E96: 148x210mm | F96: Omslag 170 g/m² Binnenwerk 135 g/m² | G96: Houtvrij mat mc | H96: 4/4 | I96: 8 pagina's Geniet | J96: 100 | K96: 0 | L96: =K96*($M$96/3) -> 0 | M96: 200
J97: 250 | K97: 0 | L97: =K97*($M$96/3) -> 0
J98: 500 | K98: 0 | L98: =K98*($M$96/3) -> 0
D99: A5 | E99: 148x210mm | F99: Omslag 170 g/m² Binnenwerk 135 g/m² | G99: Houtvrij mat mc | H99: 4/4 | I99: 36 pagina's Geniet | J99: 100 | K99: 0 | L99: =K99*($M$99/2) -> 0 | M99: 200
J100: 250 | K100: 0 | L100: =K100*($M$99/2) -> 0
D101: A4 | E101: 210x297mm | F101: Omslag 250 g/m² Binnenwerk 135 g/m² | G101: Houtvrij mat mc | H101: 4/4 | I101: 36 pagina's Geniet | J101: 100 | K101: 0 | L101: =K101*($M$101/2) -> 0 | M101: 200
J102: 250 | K102: 0 | L102: =K102*($M$101/2) -> 0
C103: Presentatiemap | D103: A4 | E103: 210x297mm | F103: 350 g/m² | G103: Houtvrij mat mc | H103: 4/4 | J103: 100 | K103: 0 | L103: =K103*M103 -> 0 | M103: 100
C104: Schrijfblokken á 50 vel | E104: 100x140 mm staand | F104: 80 g/m2 | G104: Houtvrij wit offset | H104: 4/0 | I104: Schoonsnijden, aftellen en gelijmd aan de korte zijde op onderbord | J104: 50 | K104: 0 | L104: =K104*M104 -> 0 | M104: 750
C105: Visitekaartje | E105: 85x55mm | F105: 300 g/m² | G105: Houtvrij mat mc | H105: 4/4 | J105: 50 | K105: 0 | L105: =K105*($M$105/3) -> 0 | M105: 12650
J106: 100 | K106: 0 | L106: =K106*($M$105/3) -> 0
...
