Workbook

Sheet Voorblad
A1: Bijlage 4 - Prijzenblad - Offerteaanvraag inzake Drukwerk ten behoeve van Veiligheidsregio Fryslân | H1: Invulinstructie: > Inschrijver vult de oranje vakken in; > Alle prijzen zijn excl. Btw; > Aan de genoemde indicatieve jaarlijkse afname kunnen geen rechten worden ontleend, dit betreffen slechts indicatieve aantallen; > 'Prijzen opties' vallen buiten de inschrijprijs, deze worden optioneel uitgevraagd. > Het prijzenblad wordt zowel in PDF als Excel ingediend.
B6: Versie 1.0 | D6: In te vullen door Inschrijver
B7: 46287
B8: TN-Kenmerk 602037
B11: Naam Inschrijver:
B12: Datum:
B13: Naam en rechtsgeldige ondertekening:
A19: Alle door Inschrijver verstrekte tarieven en prijzen zijn marktconform en realistisch. Indien blijkt dat er niet marktconform of realistisch wordt aangeboden, is Opdrachtgever gerechtigd de Inschrijving ongeldig te verklaren.
A23: Totale inschrijfprijs (excl. Btw) | D23: =Prijzenblad!L108 -> 0

Sheet Prijzenblad
F3: =Voorblad!A1 -> Bijlage 4 - Prijzenblad - Offerteaanvraag inzake Drukwerk ten behoeve van Veiligheidsregio Fryslân
C7: =Voorblad!B6 -> Versie 1.0 | F7: Invulinstructie: De oranje gekleurde vakken dienen te worden ingevuld door Inschrijver.
C8: =Voorblad!B7 -> 46287
C9: =Voorblad!B8 -> TN-Kenmerk 602037
C11: Product | D11: Formaat | F11: Gewicht | G11: Papiersoort | H11: Bedrukking | I11: Toelichting | J11: Oplage | K11: Prijs per oplage | L11: Totale prijs | M11: Indicatieve jaarlijkse afname
C12: Brief | D12: A4 | E12: 210x297mm | F12: 90 g/m² | G12: Bankpost wit | H12: 4/4 | I12: Beveiligd printen Onder Beveiligd printen wordt verstaan: het ontvangen van de opdracht, het aantal afdrukken (100000 stuks per jaar) en het couverteren (50000) van deze opdrachten. | J12: 50 | K12: 0 | L12: =K12*($M$12/4) -> 0 | M12: 100000
J13: 100 | K13: 0 | L13: =K13*($M$12/4) -> 0
J14: 250 | K14: 0 | L14: =K14*($M$12/4) -> 0
J15: 500 | K15: 0 | L15: =K15*($M$12/4) -> 0
C16: Brief-/vervolgpapier | D16: A4 | E16: 210x297mm | F16: 90 g/m² | G16: Bankpost wit | H16: 4/0 | J16: 1000 | K16: 0 | L16: =K16*($M$16/2) -> 0 | M16: 131500
J17: 2500 | K17: 0 | L17: =K17*($M$16/2) -> 0
C18: Document | D18: A4 | E18: 210x297mm | F18: 120 g/m² | G18: Bankpost wit | H18: 4/0 | I18: Voor bijv. kleurplaten en diploma's | J18: 50 | K18: 0 | L18: =K18*($M$18/4) -> 0 | M18: 5000
J19: 100 | K19: 0 | L19: =K19*($M$18/4) -> 0
J20: 250 | K20: 0 | L20: =K20*($M$18/4) -> 0
J21: 500 | K21: 0 | L21: =K21*($M$18/4) -> 0
C22: Envelop | D22: C5 | E22: 162x229 mm | F22: 90 g/m² | G22: Wit Enveloppenbank | H22: 4/0 | I22: Dienstenvelop zonder venster (striplocksluiting) | J22: 500 | K22: 0 | L22: =K22*M22 -> 0 | M22: 51000
D23: C5 | E23: 162x229 mm | F23: 90 g/m² | G23: Wit Enveloppenbank | H23: 4/0 | I23: Dienstenvelop zonder venster (gegomde sluiting) | J23: 500 | K23: 0 | L23: =K23*M23 -> 0 | M23: 14000
D24: C5 | E24: 162x229 mm | F24: 90 g/m² | G24: Wit Enveloppenbank | H24: 4/0 | I24: Dienstenvelop met venster (striplocksluiting) | J24: 500 | K24: 0 | L24: =K24*M24 -> 0 | M24: 4000
D25: C5 | E25: 162x229 mm | F25: 90 g/m² | G25: Wit Enveloppenbank | H25: 4/0 | I25: Dienstenvelop met venster (gegomde sluiting) | J25: 500 | K25: 0 | L25: =K25*M25 -> 0 | M25: 100000
D26: EA5 | E26: 156x220 mm | F26: 90 g/m² | G26: Wit Enveloppenbank | H26: 4/0 | I26: Envelop zonder venster | J26: 500 | K26: 0 | L26: =K26*M26 -> 0 | M26: 4000
D27: EA5 | E27: 156x220mm | F27: 90 g/m² | G27: Wit Enveloppenbank | H27: 4/0 | I27: Envelop met venster | J27: 500 | K27: 0 | L27: =K27*M27 -> 0 | M27: 1000
D28: C4 | E28: 229x324 mm | F28: 120 g/m² | G28: Wit Enveloppenbank | H28: 4/0 | I28: Akte-envelop zonder venster (striplocksluiting) | J28: 250 | K28: 0 | L28: =K28*M28 -> 0 | M28: 11000
D29: C4 | E29: 229x324 mm | F29: 120 g/m² | G29: Wit Enveloppenbank | H29: 4/0 | I29: Akte-envelop zonder venster (gegomde sluiting) | J29: 250 | K29: 0 | L29: =K29*M29 -> 0 | M29: 10000
D30: C4 | E30: 229x324 mm | F30: 120 g/m² | G30: Wit Enveloppenbank | H30: 4/0 | I30: Akte-envelop met venster (striplocksluiting) | J30: 250 | K30: 0 | L30: =K30*M30 -> 0 | M30: 3000
D31: C4 | E31: 229x324 mm | F31: 120 g/m² | G31: Wit Enveloppenbank | H31: 4/0 | I31: Akte-envelop met venster (gegomde sluiting) | J31: 250 | K31: 0 | L31: =K31*M31 -> 0 | M31: 10000
C32: Monsterzak | D32: C4 | E32: 229x 324x38mm | F32: 170 g/m² | G32: Wit craft | H32: 4/0 | I32: Uitvouwbare bodem | J32: 125 | K32: 0 | L32: =K32*($M$32/3) -> 0 | M32: 3750
J33: 250 | K33: 0 | L33: =K33*($M$32/3) -> 0
J34: 500 | K34: 0 | L34: =K34*($M$32/3) -> 0
C35: Adresstickers | D35: A4 | E35: 210x297mm | G35: Stickervel | H35: 4/0 | I35: 8 stickers per vel (112x74mm) | J35: 500 | K35: 0 | L35: =K35*M35 -> 0 | M35: 200
C36: Flyer | D36: A5 | E36: 148x210mm | F36: 170 g/m² | G36: Houtvrij gesatineerd mc (glanzend) | H36: 4/0 | J36: 100 | K36: 0 | L36: =K36*($M$36/4) -> 0 | M36: 5000
J37: 250 | K37: 0 | L37: =K37*($M$36/4) -> 0
J38: 500 | K38: 0 | L38: =K38*($M$36/4) -> 0
J39: 1000 | K39: 0 | L39: =K39*($M$36/4) -> 0
D40: A5 | E40: 148x210mm | F40: 170 g/m² | G40: Houtvrij gesatineerd mc (glanzend) | H40: 4/4 | J40: 100 | K40: 0 | L40: =K40*($M$40/4) -> 0 | M40: 10000
J41: 250 | K41: 0 | L41: =K41*($M$40/4) -> 0
J42: 500 | K42: 0 | L42: =K42*($M$40/4) -> 0
J43: 1000 | K43: 0 | L43: =K43*($M$40/4) -> 0
D44: A4 | E44: 210x297mm | F44: 170 g/m² | G44: Houtvrij gesatineerd mc (glanzend) | H44: 4/4 | J44: 100 | K44: 0 | L44: =K44*($M$36/4) -> 0 | M44: 3000
J45: 250 | K45: 0 | L45: =K45*($M$36/4) -> 0
J46: 500 | K46: 0 | L46: =K46*($M$36/4) -> 0
...
