Workbook
Name Lijsten_JaNee: #REF!

Sheet Voorblad
A1: Contractmanagershandboek CATS CM versie 4.0A FM
A2: Werkbladen
A4: Versie 4.0A
A5: 46052
A7: Behorende bij het Contractmanagershandboek CATS CM® versie 4 4.0A
A10: Overzicht werkbladen
A11: Handboekwerkblad | B11: Excel-werkblad | C11: Onderdeel handboek | D11: Omschrijving | E11: Fase | F11: CM Essential
A12: Aannamelijst | B12: Aannames | C12: 4.4.8 | D12: Lijst met aannames uit het contract | E12: Initiate | F12: Risico's
A13: Actielijst | B13: Actielijst | C13: 6.4.1 | D13: Lijst met acties voor essentials | E13: PDCA | F13: Alle
A14: Agenda en notulen E1 | B14: Agenda-E1 | C14: 6.4.6 | D14: Overleg en notulen voor CE-CE-overleg | E14: PDCA | F14: Contractbesturing
A15: Agenda en notulen E2 | B15: Agenda-E2 | C15: 6.4.6 | D15: Overleg en notulen voor CM-CM-overleg | E15: PDCA | F15: Contractbesturing
A16: Agenda en notulen E3 | B16: Agenda-E3 | C16: 6.4.6 | D16: Overleg en notulen voor RVM-RVM-overleg | E16: PDCA | F16: Contractbesturing
A17: Agenda en notulen I1 | B17: Agenda-I1 | C17: 6.4.6 | D17: Overleg en notulen voor CE-CM-overleg | E17: PDCA | F17: Contractbesturing
A18: Agenda en notulen I2 | B18: Agenda-I2 | C18: 6.4.6 | D18: Overleg en notulen voor CM-RVM-overleg | E18: PDCA | F18: Contractbesturing
A19: Agenda en notulen I3 | B19: Agenda-I3 | C19: 6.4.6 | D19: Overleg en notulen voor RVM-gebruikers/productieteam-overleg | E19: PDCA | F19: Contractbesturing
A20: Agenda en notulen I4 | B20: Agenda-I4 | C20: 6.4.6 | D20: Overleg en notulen voor Contract Board | E20: PDCA | F20: Contractbesturing
A21: CA-Plan | B21: CA-Plan | C21: 9.4.1 | D21: Overzicht van de uit te voeren activiteiten tijdens de Conclude-stap | E21: Conclude | F21: Alle
A22: Checklist CM Essentials | B22: Checklist-Essentials | C22: 7.4.4 | D22: checklist voor de doorlopende activiteiten uit de CM Essentials | E22: Check | F22: Alle
... A67: Werkplanning | B67: Werkplanning | C67: 5.4.2 | D67: Planning van de algemene PDCA-cyclus | E67: PDCA | F67: Alle

Sheet Scenario's
A1: Scenario's
A2: Basisscenario's
B3: Contracttype
B4: Input | C4: Activiteit | D4: Output | E4: Effect
A5: Tweede criterium
A6: Standaard CATS CM® | B6: Minimaal | C6: Aangepast | D6: Intensief | E6: Zeer intensief
A7: Som methodiek | B7: Routine | C7: Routine | D7: Performance of ontwikkelen | E7: strategisch
A9: Gehanteerde CM Essentials
B10: Basisscenario
B11: Minimaal | C11: Aangepast | D11: Intensief | E11: Zeer intensief
A12: Frequentie PDCA-cyclus CM Essentials | B12: Zeer laag | C12: Laag | D12: Gemiddeld | E12: Hoog
A13: CM Essential
A14: Contractdoelstellingen | B14: jaarlijks | C14: jaarlijks | D14: half jaarlijks | E14: half jaarlijks
A15: Stakeholders | C15: jaarlijks | D15: half jaarlijks | E15: kwartaal
A16: Contractrelaties | C16: jaarlijks | D16: half jaarlijks | E16: half jaarlijks
A17: Risico's | C17: jaarlijks | D17: half jaarlijks | E17: kwartaal
A18: Verplichtingen | C18: jaarlijks | D18: half jaarlijks | E18: half jaarlijks
A19: Financiën | B19: jaarlijks | C19: jaarlijks | D19: half jaarlijks | E19: kwartaal
A20: Contractbesturing | B20: jaarlijks | C20: jaarlijks | D20: half jaarlijks | E20: half jaarlijks
A21: Tevredenheid | E21: jaarlijks
A22: Contractkalender | B22: jaarlijks | C22: jaarlijks | D22: half jaarlijks | E22: half jaarlijks
A23: Contractdossier | B23: jaarlijks | C23: jaarlijks | D23: half jaarlijks | E23: kwartaal
A25: Invloed contract- en omgevingskenmerken op uitvoeringsfrequentie
F26: CM Essentials
A27: Kenmerk | C27: Grens laag | D27: Grens hoog | E27: Type effect | F27: Contractdoelstellingen | G27: Stakeholders | H27: Contractrelaties | I27: Risico's | J27: Verplichtingen | K27: Financiën | L27: Contractbesturing | M27: Tevredenheid | N27: Contractkalender | O27: Contractdossier
A28: Omvang in € per jaar | E28: + of - | I28: X | J28: X | K28: X | L28: X
A29: Politieke gevoeligheid | E29: + of - | G29: X
A30: Betrokken medewerkers DOP | E30: + of - | G30: X | J30: X | K30: X | L30: X
A31: Meetbaarheid DOP | E31: + of - | I31: X | J31: X
A32: Wijzigingsfrequentie omgeving | E32: + of - | F32: X | H32: X | I32: X | J32: X | L32: X | M32: X | O32: X
A37: Positief effect: boven "Grens hoog" neemt frequentie toe, onder "Grens laag" neemt frequentie af
A38: Negatief effect: boven "Grens hoog" neemt frequentie af, onder "Grens laag" neemt frequentie toe
A40: Standaard CATS CM® | B40: Minimaal | C40: Aangepast | D40: Intensief | E40: Zeer intensief | F40: Weging
A41: Som methodiek | B41: Routine | C41: Routine | D41: Performance of ontwikkelen | E41: strategisch
A42: Omvang in € per jaar | B42: tot 50.000 | C42: tot 250.000 | D42: tot 1000.000 | E42: vanaf 1000.000 | F42: 0.3
A43: Interne gevoeligheid (gedoe) | B43: geen interesse | C43: laag interesse | D43: middel interesse | E43: hoog interesse | F43: 0.3
A44: Betrokken medewerkers DOP (aantal) | B44: tot 10 | C44: 10 tot 25 | D44: 25 tot 50 | E44: meer dan 50 | F44: 0.2
A45: Wijzigingsfrequentie omgeving | B45: laag | C45: laag | D45: midden | E45: hoog | F45: 0.1
A46: Assortiment | B46: beperkt | C46: beperkt | D46: gemiddeld | E46: breed | F46: 0.1

Sheet Contractenlijst
A1: Contractenlijst
A2: Contractidentificatie | G2: Betrokken personen eigen organisatie*) | J2: Looptijd | L2: Prestatie en tegenprestatie | N2: CM scenario | P2: Uitvoering
A3: Contractnummer | B3: ContractID | C3: Contractnaam | D3: Opdrachtgever | E3: Leverancier | F3: Soort | G3: Contracteigenaar | H3: Contractmanager | I3: Realisatie- en verificatiemanager | J3: Startdatum | K3: Huidige einddatum | L3: DOP op hoofdlijnen | M3: Contractwaarde | N3: Contracttype | O3: Basisscenario | P3: Status
A24: *) Deze gegevens kunnen worden uitgebreid met naam, functie, personeelsnummer, etc.

Sheet Contractscenario
A1: Contractscenario
A2: Contractnaam | B2: =Contractgegevens!B5 -> <Contractnaam> | D2: Datum | E2: =Contractgegevens!B2 -> 0
A3: Contracteigenaar | B3: =Contractgegevens!B24 -> <PDMer>
A5: Scenario
A6: Contracttype | B6: =Contractgegevens!F5 -> 0
A7: 2e criterium
A9: Scenario | B9: =Contractgegevens!F6 -> 0
A11: Factoren
A12: Contract- en omgevingsfactoren | B12: Kolom1 | C12: Waarde | D12: Effect
A13: Omvang in € per jaar
A14: Politieke gevoeligheid
A15: Betrokken medewerkers DOP
A16: Meetbaarheid DOP
A17: Wijzigingsfrequentie omgeving
A25: Gehanteerde CM Essentials
A26: CM Essential | B26: Kolom1 | C26: Scenario | D26: Aanpassing
A27: Contractdoelstellingen | C27: =Contractgegevens!F6 -> 0
A28: Stakeholders | C28: =Contractgegevens!F6 -> 0
A29: Contractrelaties | C29: =Contractgegevens!F6 -> 0
A30: Risico's | C30: =Contractgegevens!F6 -> 0
A31: Verplichtingen | C31: =Contractgegevens!F6 -> 0
A32: Financiën | C32: =Contractgegevens!F6 -> 0
A33: Contractbesturing | C33: =Contractgegevens!F6 -> 0
A34: Tevredenheid | C34: =Contractgegevens!F6 -> 0
A35: Contractkalender | C35: =Contractgegevens!F6 -> 0
A36: Contractdossier | C36: =Contractgegevens!F6 -> 0

Sheet Contractcreatie
A1: Contractcreatiechecklist
A3: Contractnaam | B3: =Contractgegevens!B5 -> <Contractnaam> | D3: Datum compleet | E3: =Contractgegevens!B2 -> 0
A4: Vraag- / leveringseigenaar | B4: =Contractgegevens!B23 -> <Vraageigenaar>
A5: Inkoper / verkoper | B5: =Contractgegevens!B28 -> <Inkoper>
A6: Contractmanager | B6: =Contractgegevens!B25 -> <LCMer>
A8: Zijn de volgende onderdelen opgenomen in de offerteuitvraag/selectieleidraad/het conceptcontract of is hier rekening mee gehouden
A9: Onderwerp | B9: Onderdeel | F9: Voldoende geadresseerd? | G9: Motivatie nee
A10: Algemeen | B10: Aansluiting op CM-scenario
A11: Contractdoelstellingen | B11: Contractdoelstellingen beschreven
A12: Contractdoelstellingen | B12: Contractdoelstellingen vertaald naar prestaties
A13: Contractdoelstellingen | B13: Draagt alle DOP bij aan contractdoelstellingen?
A14: Contractdoelstellingen | B14: Draagt alle AOC bij aan contractdoelstellingen?
A15: Contractdoelstellingen | B15: Match noodzakelijk met contractdoelstellingen wederpartij?
A16: Stakeholders | B16: Matchen rapportages/overleggen met informatiebehoefte bekende stakeholders?
A17: Contractrelaties | B17: Referentie aan alle betrokken documenten
A18: Contractrelaties | B18: Volgordelijkheid contractdocumenten
A19: Contractrelaties | B19: Ketenafhankelijkheid andere contracten beoordeeld op toereikendheid
A20: Contractrelaties | B20: Match rapportages/overleggen met informatiebehoefte gerelateerde contracten?
A21: Risico's | B21: Voortijdigebeëindigingsprocedure
... A36: Tevredenheid | B36: Tevredenheidsmeting wederpartij

Sheet CC-registratie
A1: Registratie contractcreatie
A3: Contractnaam | B3: =Contractgegevens!B5 -> <Contractnaam>
A4: Vraag- / leveringseigenaar | B4: =Contractgegevens!B23 -> <Vraageigenaar>
A5: Inkoper / verkoper | B5: =Contractgegevens!B28 -> <Inkoper>
A6: Contractmanager | B6: =Contractgegevens!B25 -> <LCMer>
A8: Contractdoelstellingen
A9: Contractdoelstelling | B9: Doelstellinghouder | C9: Bovenliggende organisatiedoelstelling | D9: Organisatiebelang bovenliggende doelstelling | E9: Gerelateerde prestaties
A15: Bekende stakeholders
A16: Naam | B16: Functie | C16: CATS CM®-rol | D16: Belang | E16: Invloed | F16: Relatie met andere stakeholders
A22: Bekende resterende risico's
A23: Omschrijving | B23: Bron | C23: Kans | D23: Impact | E23: Urgentie | F23: Reeds genomen maatregelen
A30: Belangrijke onderhandelingspunten
A31: Onderhandelingspunt | B31: Standpunt Opdrachtgever | E31: Standpunt Leverancier | G31: Uitkomst
A37: Contractstructuur
A38: Documentnaam | B38: Rangorde | C38: Afhankelijk van document
A39: <ROK> | B39: <nummer> | C39: <nummer>
A40: <NOK> | B40: <nummer> | C40: <nummer>
A41: <SLA> | B41: <nummer> | C41: <nummer>
A42: <AIV> | B42: <nummer> | C42: <nummer>
A45: Contractdossier
A46: Document | B46: Versienummer | C46: Status | D46: Datum | E46: Eigenaar | F46: Locatie

Sheet Contractgegevens
A1: Contractgegevens
A2: Datum
A4: Contractgegevens | E4: CM-aanpak | H4: CM Essentials
A5: Contractnaam | B5: <Contractnaam> | E5: Contracttype | H5: Essential | I5: Frequentie PDCA-cyclus
A6: Naam wederpartij | B6: <Wederpartij> | E6: Basisscenario | H6: Contractdoelstellingen
A7: Contractidentificatie | E7: Gerelateerde contracten | H7: Stakeholders
A8: Dienstverlening | H8: Contractrelaties
A9: Startdatum | B9: <datum> | H9: Risico's
A10: Einddatum | B10: <datum> | E10: CM-PDCA-cyclusfrequentie | H10: Verplichtingen
A11: Einddatum optiejaar 1 | B11: <datum> | E11: Overleg | F11: Frequentie | H11: Financiën
A12: Einddatum optiejaar 2 | B12: <datum> | E12: I1: CM-CE-overleg | H12: Contractbesturing
A13: Einddatum optiejaar 3 | B13: <datum> | E13: I2: CM-RVM-overleg | H13: Tevredenheid
A14: Einddatum optiejaar 4 | B14: <datum> | E14: I3: RVM-gebr/delivery-overleg | H14: Contractkalender
A15: Opzegtermijn | E15: I4: Contractboard | H15: Contractdossier
A16: Indexatiedatum | E16: E1: Strategisch (CE-CE)
A17: Contractwaarde, excl. BTW | B17: <waarde> | E17: E2: Tactisch (CM-CM)
A18: Jaarlijkse spend, excl. BTW | E18: E3: Operationeel (RVM-RVM)
A19: Facturatieperiode
A21: Rollen
B22: Opdrachtgever | C22: Leverancier
A23: Vraag/Leveringseigena(a)r(en) | B23: <Vraageigenaar>
A24: Contracteigenaar | B24: <PDMer>
A25: Contractmanager (Lead) | B25: <LCMer>
A26: Realisatie- en verificatiemanager(s) | B26: <RVMer>
A27: Servicemanager/Projectmanager | B27: <ServiceManager>
A28: Inkoper/Verkoper | B28: <Inkoper>

Sheet CD-inhoudsopgave
A1: Contractdossierinhoudsopgave
A3: Contractnaam | D3: =Contractgegevens!B5 -> <Contractnaam> | G3: Datum compleet | H3: =Contractgegevens!B2 -> 0
A4: Contracteigenaar | D4: =Contractgegevens!B24 -> <PDMer>
A5: Contractmanager | D5: =Contractgegevens!B25 -> <LCMer>
A6: Realisatie- en verificatiemanager | D6: =Contractgegevens!B26 -> <RVMer>
A9: Beschikbare documenten
A10: Documentnaam | B10: Versienummer | C10: Status | D10: Publicatiedatum | E10: Eigenaar | F10: Documenttype | G10: Kwaliteit | H10: Beperkte circulatie | I10: Leesrechten | J10: Schrijfrechten | K10: Bron | L10: Opmerkingen
A23: Ontbrekende documenten
A24: Documentnaam | B24: Versienummer | C24: Eigenaar | D24: Documenttype | E24: Verantwoordelijke voor aanlevering | F24: Datum aangeleverd | G24: Opmerkingen

Sheet Onduidelijkheden
A1: Contractonduidelijkhedenlijst
A3: Contractnaam | B3: =Contractgegevens!B5 -> <Contractnaam> | E3: Datum | F3: =Contractgegevens!B2 -> 0
A4: Contracteigenaar | B4: =Contractgegevens!B24 -> <PDMer>
A5: Contractmanager | B5: =Contractgegevens!B25 -> <LCMer>
A6: Realisatie- en verificatiemanager | B6: =Contractgegevens!B26 -> <RVMer>
A9: Onduidelijkheden in het contract
A10: Document | B10: Onderdeel | C10: Type | D10: Omschrijving | E10: Categorie | F10: Soort | G10: CM Essential | H10: Dienst/product | I10: Impact | J10: Aanpassing nodig? | K10: Omschrijving aanpassing | L10: Urgentie | M10: Aangepast

Sheet Doelstellingen
A1: Contractdoelstellingen
A3: Contractnaam | B3: =Contractgegevens!B5 -> <Contractnaam> | D3: Datum | E3: =Contractgegevens!B2 -> 0
A4: Contracteigenaar | B4: =Contractgegevens!B24 -> <PDMer>
A5: Contractmanager | B5: =Contractgegevens!B25 -> <LCMer>
A6: Realisatie- en verificatiemanager | B6: =Contractgegevens!B26 -> <RVMer>
A9: Eigen contractdoelstellingen
A10: Contractdoelstelling | B10: Doelstellinghouder | C10: Bovenliggende organisatiedoelstelling | D10: Organisatiebelang bovenliggende doelstelling | E10: Gerelateerde prestaties | F10: Startdatum | G10: Einddatum | H10: Referentie
F11: =Contractgegevens!B9 -> <datum> | G11: =Contractgegevens!B10 -> <datum>
F12: =Contractgegevens!B9 -> <datum> | G12: =Contractgegevens!B10 -> <datum>
F13: =Contractgegevens!B9 -> <datum> | G13: =Contractgegevens!B10 -> <datum>
F14: =Contractgegevens!B9 -> <datum> | G14: =Contractgegevens!B10 -> <datum>
F15: =Contractgegevens!B9 -> <datum> | G15: =Contractgegevens!B10 -> <datum>
F16: =Contractgegevens!B9 -> <datum> | G16: =Contractgegevens!B10 -> <datum>
F17: =Contractgegevens!B9 -> <datum> | G17: =Contractgegevens!B10 -> <datum>
F18: =Contractgegevens!B9 -> <datum> | G18: =Contractgegevens!B10 -> <datum>

Sheet Stakeholders
A1: Stakeholderlijst
A3: Contractnaam | B3: =Contractgegevens!B5 -> <Contractnaam> | E3: Datum | F3: =Contractgegevens!B2 -> 0
A4: Contracteigenaar | B4: =Contractgegevens!B24 -> <PDMer>
A5: Contractmanager | B5: =Contractgegevens!B25 -> <LCMer>
A6: Realisatie- en verificatiemanager | B6: =Contractgegevens!B26 -> <RVMer>
A8: Stakeholders
A9: Organisatieonderdeel | B9: Naam | C9: Functie | D9: Rol | E9: Belang | F9: Invloed | G9: Type invloed | H9: Attitude | I9: Stakeholderstrategie | J9: E-mailadres | K9: Mobiel telefoonnummer
A10: <business unit>
A11: <afdeling>

Sheet Relaties
A1: Contractrelatieslijst
A3: Contractnaam | B3: =Contractgegevens!B5 -> <Contractnaam> | D3: Datum | E3: =Contractgegevens!B2 -> 0
A4: Contracteigenaar | B4: =Contractgegevens!B24 -> <PDMer>
A5: Contractmanager | B5: =Contractgegevens!B25 -> <LCMer>
A7: Juridische relaties
A8: Documentnaam | B8: Documenttype | C8: Versie | D8: Startdatum | E8: Einddatum | F8: Type relatie | G8: Contractmanager | H8: Relatiestrategie
G9: =Contractgegevens!B25 -> <LCMer>
G10: =Contractgegevens!B25 -> <LCMer>
G11: =Contractgegevens!B25 -> <LCMer>
G12: =Contractgegevens!B25 -> <LCMer>
G13: =Contractgegevens!B25 -> <LCMer>
G14: =Contractgegevens!B25 -> <LCMer>
A15: Bepalingen uit het ene contract zijn van toepassing op het andere contract
A16: Relatiestrategie alleen van belang als er een andere contractmanager is
A18: Ketenrelaties
A19: Vertikaal: Het ene contract is afhankelijk van het andere contact
A20: Horizontaal: beide contracten ondersteunen dezelfde dienst
A21: Documentnaam | B21: Documenttype | C21: Versie | D21: Startdatum | E21: Einddatum | F21: Afhankelijkheid | G21: Wederpartij | H21: Contractmanager | I21: Relatiestrategie
G22: =Contractgegevens!B6 -> <Wederpartij> | H22: =Contractgegevens!B25 -> <LCMer>
G23: =Contractgegevens!B6 -> <Wederpartij> | H23: =Contractgegevens!B25 -> <LCMer>
G24: =Contractgegevens!B6 -> <Wederpartij> | H24: =Contractgegevens!B25 -> <LCMer>
G25: =Contractgegevens!B6 -> <Wederpartij> | H25: =Contractgegevens!B25 -> <LCMer>
G26: =Contractgegevens!B6 -> <Wederpartij> | H26: =Contractgegevens!B25 -> <LCMer>
A28: Contracten met dezelfde wederpartij
A29: Documentnaam | B29: Documenttype | C29: Versie | D29: Startdatum | E29: Einddatum | F29: Type dienstverlening | G29: Afhankelijkheid | H29: Contractmanager | I29: Accountmanager/Leveranciersmanager | J29: Relatiestrategie
H30: =Contractgegevens!B25 -> <LCMer>
H31: =Contractgegevens!B25 -> <LCMer>
H32: =Contractgegevens!B25 -> <LCMer>
H33: =Contractgegevens!B25 -> <LCMer>
H34: =Contractgegevens!B25 -> <LCMer>
A35: Van belang voor leveranciersmanagement

Sheet Risico's
A1: Risicolijst
A3: Contractnaam | B3: =Contractgegevens!B5 -> <Contractnaam> | D3: Datum | E3: =Contractgegevens!B2 -> 0
A4: Contracteigenaar | B4: =Contractgegevens!B24 -> <PDMer>
A5: Contractmanager | B5: =Contractgegevens!B25 -> <LCMer>
A7: Risico's
A8: Volgnummer | B8: Naam | C8: Bron | D8: Beschrijving | E8: Effect | F8: Kans | G8: Impact op contractdoelstellingen | H8: Impact op relatie met wederpartij | I8: Impact op operatie | J8: Urgentie | K8: Prioriteit | L8: Status
A9: 1

Sheet Aannames
A1: Contractaannames | B1: Aannames
A3: Contractnaam | B3: =Contractgegevens!B5 -> <Contractnaam> | D3: Datum | E3: =Contractgegevens!B2 -> 0
A4: Contracteigenaar | B4: =Contractgegevens!B24 -> <PDMer>
A5: Contractmanager | B5: =Contractgegevens!B25 -> <LCMer>
A7: Aannames
A8: Document | B8: Onderdeel | C8: Beschrijving artikel | D8: Beschrijving Aanname | E8: Categorie | F8: Type | G8: Heeft betrekking op | H8: Getoetst | I8: Risico | J8: Geverifieerd | K8: Uitkomst verificatie | L8: Risiconummer

Sheet CRP
A1: Contractrisicoprofiel
A3: Contractnaam | C3: =Contractgegevens!B5 -> <Contractnaam> | G3: Datum | H3: =Contractgegevens!B2 -> 0
A4: Contracteigenaar | C4: =Contractgegevens!B24 -> <PDMer>
A5: Contractmanager | C5: =Contractgegevens!B25 -> <LCMer>
C7: Weinig | G7: Veel | H7: Onbekend
A8: A | B8: Contractdoelstellingen | C8: 1 | D8: 2 | E8: 3 | F8: 4 | G8: 5 | H8: Info/Actie | I8: Omschrijving
A9: 1 | B9: Beschikbaarheid
A10: 2 | B10: Realiseerbaarheid
A11: 3 | B11: Voldoende specifiek
A12: 4 | B12: Match levering en doelstelling
A13: B | B13: Contractkenmerken | C13: 1 | D13: 2 | E13: 3 | F13: 4 | G13: 5 | H13: Info/Actie | I13: Omschrijving
A14: 1 | B14: Type werk versus type contract
A15: 2 | B15: Politieke gevoeligheid
A16: 3 | B16: Doorlooptijd
A17: 4 | B17: Uitvoeringslocatie
A18: 5 | B18: Contractwaarde
A19: C | B19: Resources | C19: 1 | D19: 2 | E19: 3 | F19: 4 | G19: 5 | H19: Info/Actie | I19: Omschrijving
A20: 1 | B20: Beschikbaarheid vereiste resources
A21: 2 | B21: Complexiteit vs leveringservaring
A22: 3 | B22: Resourcingprofiel
A23: 4 | B23: Realisatie- en verificatiemanagerervaring
A24: 5 | B24: Subcontractorratio
A25: D | B25: Contractkwaliteit | C25: 1 | D25: 2 | E25: 3 | F25: 4 | G25: 5 | H25: Info/Actie | I25: Omschrijving
A26: 1 | B26: Kwaliteit contract(dossier)
A27: 2 | B27: Annuleringsconditie
A28: 3 | B28: Realistische planning
A29: 4 | B29: Realistische oplossing
A30: 5 | B30: Factureringsconditie
A31: E | B31: Organisatorische aspecten | C31: 1 | D31: 2 | E31: 3 | F31: 4 | G31: 5 | H31: Info/Actie | I31: Omschrijving
A32: 1 | B32: Leveranciersorganisatie-stabiliteit
A33: 2 | B33: Opdrachtgeversorganisatie-stabiliteit
A34: 3 | B34: Contracteigenaar-commitment
A35: 4 | B35: Leverings- of Vraageigenaar-commitment
A36: 5 | B36: Realisatie- en verificatiemanager-overeenstemming
A37: 6 | B37: Contractmanager-overeenstemming
A38: 7 | B38: Overeenstemming van de governance in de contractorganisatie
A39: F | B39: Andere aspecten | C39: 1 | D39: 2 | E39: 3 | F39: 4 | G39: 5 | H39: Info/Actie | I39: Omschrijving
A40: 1
A41: 2
A42: 3
...

Sheet Verplichtingen
A1: Verplichtingen
A3: Contractnaam | C3: =Contractgegevens!B5 -> <Contractnaam> | F3: Datum | G3: =Contractgegevens!B2 -> 0
A4: Contracteigenaar | C4: =Contractgegevens!B24 -> <PDMer>
A5: Contractmanager | C5: =Contractgegevens!B25 -> <LCMer>
A6: Realisatie- en verificatiemanager | C6: =Contractgegevens!B26 -> <RVMer>
A8: Verplichtingen uit het contract
A9: Document | B9: Onderdeel | C9: Beschrijving | D9: Type | E9: Soort | F9: Voor | G9: Categorie | H9: Proces | I9: Dienst- of productnaam | J9: Status

Sheet Verificatieplan
A1: Verificatieplan
A3: Contractnaam | C3: =Contractgegevens!B5 -> <Contractnaam> | F3: Datum | G3: =Contractgegevens!B2 -> 0
A4: Contracteigenaar | C4: =Contractgegevens!B24 -> <PDMer>
A5: Contractmanager | C5: =Contractgegevens!B25 -> <LCMer>
A6: Realisatie- en verificatiemanager | C6: =Contractgegevens!B26 -> <RVMer>
A8: Verificatieacties
A9: Dienst/product | B9: Verplichting | C9: Soort | D9: Levering door | E9: KPI | F9: Wijze van meten | G9: Frequentie | H9: Prestatieverklaring | I9: Controleur | J9: Startdatum | K9: Einddatum

Sheet Fin-afspraken
A1: Financiële afspraken
A3: Contractnaam | C3: =Contractgegevens!B5 -> <Contractnaam> | D3: Datum | E3: =Contractgegevens!B2 -> 0
A4: Contracteigenaar | C4: =Contractgegevens!B24 -> <PDMer>
A5: Contractmanager | C5: =Contractgegevens!B25 -> <LCMer>
A7: Contractuele financiële afspraken
A8: Document | B8: Onderdeel | C8: Beschrijving | D8: Type | E8: Bron

Sheet Finplan-Odg
A1: Financieel plan Opdrachtgever
A3: Contractnaam | B3: =Contractgegevens!B5 -> <Contractnaam> | C3: Datum | D3: =Contractgegevens!B2 -> 0
A4: Contracteigenaar | B4: =Contractgegevens!B24 -> <PDMer>
A5: Contractmanager | B5: =Contractgegevens!B25 -> <LCMer>
A7: Budget voor de contractwaarde | H7: Aantallen | M7: Contractwaarde
A8: Onderdeel | B8: Vraageigenaar | C8: Verantwoordelijk RVM-er | D8: Kolom1 | E8: Startdatum | F8: Einddatum | G8: Type hoeveelheid | H8: Jaar 1 | I8: Jaar 2 | J8: Jaar 3 | K8: Jaar 4 | L8: Totaal | M8: Jaar 12 | N8: Jaar 23 | O8: Jaar 34 | P8: Jaar 45 | Q8: Totaal6
A14: Totale contractwaarde | H14: =SUM(H8:H13) -> 0 | I14: =SUM(I8:I13) -> 0 | J14: =SUM(J8:J13) -> 0 | K14: =SUM(K8:K13) -> 0 | L14: =SUM(L8:L13) -> 0 | M14: =SUM(M8:M13) -> 0 | N14: =SUM(N8:N13) -> 0 | O14: =SUM(O8:O13) -> 0 | ... Q14: =SUM(Q8:Q13) -> 0
A16: Budget eigen organisatiekosten | H16: Aantallen | M16: Bedrag
A17: Onderdeel | B17: Vraageigenaar | C17: Verantwoordelijk CM-/RVM-er | D17: Type kosten | E17: Startdatum | F17: Einddatum | G17: Type hoeveelheid | H17: Jaar 1 | I17: Jaar 2 | J17: Jaar 3 | K17: Jaar 4 | L17: Totaal | M17: Jaar 12 | N17: Jaar 23 | O17: Jaar 34 | P17: Jaar 45 | Q17: Totaal6
A28: Totale eigen organisatiekosten | H28: =SUM(H17:H27) -> 0 | I28: =SUM(I17:I27) -> 0 | J28: =SUM(J17:J27) -> 0 | K28: =SUM(K17:K27) -> 0 | L28: =SUM(L17:L27) -> 0 | M28: =SUM(M17:M27) -> 0 | N28: =SUM(N17:N27) -> 0 | O28: =SUM(O17:O27) -> 0 | ... Q28: =SUM(Q17:Q27) -> 0
A30: Total Cost of Contract Ownership
A31: Onderdeel | B31: =H8 -> Jaar 1 | C31: =I8 -> Jaar 2 | D31: =J8 -> Jaar 3 | E31: =K8 -> Jaar 4 | F31: Totaal
A32: Contractwaarde | B32: =M14 -> 0 | C32: =N14 -> 0 | D32: =O14 -> 0 | E32: =P14 -> 0 | F32: =Q14 -> 0
A33: Eigen organisatiekosten | B33: =M28 -> 0 | C33: =N28 -> 0 | D33: =O28 -> 0 | E33: =P28 -> 0 | F33: =Q28 -> 0
A34: TCCO | B34: =B33+B32 -> 0 | C34: =C33+C32 -> 0 | D34: =D33+D32 -> 0 | E34: =E33+E32 -> 0 | F34: =F33+F32 -> 0

Sheet Finplan-Lev
A1: Financieel plan Leverancier
A3: Contractnaam | B3: =Contractgegevens!B5 -> <Contractnaam> | C3: Datum | D3: =Contractgegevens!B2 -> 0 | G3: Wij gebruiken alleen het tabblad financieel plan opdrachtgever
A4: Contracteigenaar | B4: =Contractgegevens!B24 -> <PDMer>
A5: Contractmanager | B5: =Contractgegevens!B25 -> <LCMer>
A7: Budget voor contractwaarde | H7: Aantallen | M7: Contractwaarde (obv verkoopprijs)
A8: Onderdeel | B8: Leveringseigenaar | C8: Verantwoordelijk RVM-er | D8: Kolom1 | E8: Startdatum | F8: Einddatum | G8: Type hoeveelheid | H8: Jaar 1 | I8: Jaar 2 | J8: Jaar 3 | K8: Jaar 4 | L8: Totaal | M8: Jaar 12 | N8: Jaar 23 | O8: Jaar 34 | P8: Jaar 45 | Q8: Totaal6
A14: Totale contractwaarde | H14: =SUM(H8:H13) -> 0 | I14: =SUM(I8:I13) -> 0 | J14: =SUM(J8:J13) -> 0 | K14: =SUM(K8:K13) -> 0 | L14: =SUM(L8:L13) -> 0 | M14: =SUM(M8:M13) -> 0 | N14: =SUM(N8:N13) -> 0 | O14: =SUM(O8:O13) -> 0 | ... Q14: =SUM(Q8:Q13) -> 0
A16: Budget eigen organisatiekosten | H16: Aantallen | M16: Bedrag (obv kostprijs)
A17: Onderdeel | B17: Leveringseigenaar | C17: Verantwoordelijk CM-/RVM-er | D17: Type kosten | E17: Startdatum | F17: Einddatum | G17: Type hoeveelheid | H17: Jaar 1 | I17: Jaar 2 | J17: Jaar 3 | K17: Jaar 4 | L17: Totaal | M17: Jaar 12 | N17: Jaar 23 | O17: Jaar 34 | P17: Jaar 45 | Q17: Totaal6
A28: Total Cost of Contract Ownership | H28: =SUM(H17:H27) -> 0 | I28: =SUM(I17:I27) -> 0 | J28: =SUM(J17:J27) -> 0 | K28: =SUM(K17:K27) -> 0 | L28: =SUM(L17:L27) -> 0 | M28: =SUM(M17:M27) -> 0 | N28: =SUM(N17:N27) -> 0 | O28: =SUM(O17:O27) -> 0 | ... Q28: =SUM(Q17:Q27) -> 0
A30: Marge op het contract
A31: Onderdeel | B31: =H8 -> Jaar 1 | C31: =I8 -> Jaar 2 | D31: =J8 -> Jaar 3 | E31: =K8 -> Jaar 4 | F31: Totaal
A32: Contractwaarde | B32: =M14 -> 0 | C32: =N14 -> 0 | D32: =O14 -> 0 | E32: =P14 -> 0 | F32: =SUM(B32:E32) -> 0
A33: Kosten | B33: =M28 -> 0 | C33: =N28 -> 0 | D33: =O28 -> 0 | E33: =P28 -> 0 | F33: =SUM(B33:E33) -> 0
A34: Marge | B34: =B32-B33 -> 0 | C34: =C32-C33 -> 0 | D34: =D32-D33 -> 0 | E34: =E32-E33 -> 0 | F34: =SUM(B34:E34) -> 0

Sheet Tevredenheid
A1: Wederpartij tevredenheid
A3: Contractnaam | C3: =Contractgegevens!B5 -> <Contractnaam> | D3: Datum | E3: =Contractgegevens!B2 -> 0
A4: Contracteigenaar | C4: =Contractgegevens!B24 -> <PDMer>
A5: Contractmanager | C5: =Contractgegevens!B25 -> <LCMer>
A7: Contractdoelstellingen wederpartij
A8: Contractdoelstelling | B8: Doelstellinghouder | C8: Bovenliggende organisatiedoelstelling | D8: Belang bovenliggende doelstelling | E8: Essentiële prestaties *) | F8: Startdatum | G8: Einddatum
A14: Afgesproken tevredenheidsmetingen
A15: Naam | B15: Omschrijving | C15: Vorm | D15: Frequentie | E15: Uitvoerende | F15: Norm
A22: Stakeholders wederpartij
A23: Organisatieonderdeel | B23: Naam | C23: Functie | D23: Rol | E23: Belang | F23: Invloed | G23: Type invloed | H23: Attitude | I23: Stakeholderstrategie
A38: *) Essentiële prestaties
A39: Document | B39: Onderdeel | C39: Beschrijving | D39: Belang wederpartij | E39: Gevolgen bij onvoldoende presteren | F39: Prestatieborging | G39: Type

Sheet Overleggen
A1: Schema overlegstructuur
A3: Contractnaam | C3: =Contractgegevens!B5 -> <Contractnaam> | D3: Datum | E3: =Contractgegevens!B2 -> 0
A4: Contracteigenaar | C4: =Contractgegevens!B24 -> <PDMer>
A5: Contractmanager | C5: =Contractgegevens!B25 -> <LCMer>
A8: Contractoverleggen
A9: Nummer | B9: Naam van het overleg | C9: Deelnemers eigen organsiatie | D9: Deelnemers wederpartij | E9: Frequentie | F9: Duur
A10: I1 | B10: Contractmanagementoverleg | C10: Contracteigenaar Contractmanager
A11: I2 | B11: Contractoverleg | C11: Contractmanager Realisatie- en verificatiemanager
A12: I3 | B12: Leveringsoverleg | C12: Realisatie- en verificatiemanager Gebruikersvertegenwoordiging of Deliveryteam
A13: I4 | B13: Contract board overleg | C13: Contracteigenaar Vraageigenaren of Leveringseigenaren Jurist Inkoper of Verkoper HR-specialist Controller Contractmanager
A14: E1 | B14: Strategisch contractoverleg | C14: Contracteigenaar Contractmanager | D14: Contracteigenaar Contractmanager
A15: E2 | B15: Tactisch contractoverleg | C15: Contractmanager (Realisatie- en verificatiemanager) | D15: Contractmanager (Realisatie- en verificatiemanager)
A16: E3 | B16: Operationeel contractoverleg | C16: Realisatie- en verificatiemanager (Servicemanager) | D16: Realisatie- en verificatiemanager (Servicemanager)

Sheet CM-Plan
A1: CM-Plan
A3: Contractnaam | B3: =Contractgegevens!B5 -> <Contractnaam> | C3: Datum | D3: =Contractgegevens!B2 -> 0
A4: Contracteigenaar | B4: =Contractgegevens!B24 -> <PDMer> | C4: Versie
A5: Contractmanager | B5: =Contractgegevens!B25 -> <LCMer> | C5: Goedkeuringsdatum
A6: Realisatie- en verificatiemanager(s) | B6: =Contractgegevens!B26 -> <RVMer>
A7: CM-scenario | B7: =Contractgegevens!F6 -> 0
A9: Werkplanning CM
A10: PDCA-cyclus-frequentie eigen werkplanning CM
A11: Werkwijze bijhouden werkplanning
A14: Managen CM Essentials
A15: CM Essential | B15: Managen in uitvoeringsfase | C15: Activiteiten | D15: Frequentie doorlopen PDCA-cyclus | E15: Benodigde middelen | F15: Vastlegging | G15: Gedelegeerde taken | H15: Benodigde uren op jaarbasis
A16: Contractdoelstellingen | C16: - Realisatie verificatie, actualiseren ism RVM en CE - - - | F16: - Tabblad doelstellingen - - -
A17: Stakeholders | C17: - Uitvoeren stakeholdercommunicatie-strategie, Nieuwe stakeholders identificeren, Rapporteren en afstemmen. - - | F17: - Tabblad stakeholders - - -
A18: Contractrelaties | C18: - In kaart brengen relaties met andere contractpartijen - | F18: - Aanbestedingsstukken - Tabblad relaties -
A19: Risico's | C19: - Risicolijst updaten, besluiten implementatie maatregelen. CRP updaten - | F19: - Tabblad risico's - Tabblad aannames - Tablad onduidelijkheden - Tabblad CRP - Tabblad risicomitigatie - Tabblad restlijst -
A20: Verplichtingen | C20: - Verplichtingen assessment toetsen of aan LCM verplichtingen is voldaan. - - - | F20: - Tabblad verplichtingen - Tabblad verplichtingenassesment - Tabblad Verificatieplan -
A21: Financiën | C21: - Check facturatieproces en uitnutting inkooporders - Check betaalschema - Check op indexaties - | F21: - Tabblad finplan-Lev - Tabblad finplan-Odg - Tabblad fin-afspraken - Tabblad fin-Rapportage-Lev - Tabblad fin-Rapportage-Odg -
A22: Contractbesturing | C22: - Uitvoeren contractbesturing, voeren overleggen, evalueren, besluiten in overleggen, afhandeling escalaties. - Rapportages beschikbaar stellen voor de betreffende stakeholders - | F22: - Conceptformats gespreksverslag CM & OTH - Tabbladen agenda E1-E3, I1-I4 & C1-C2 - Tabblad besturingsmodel - Tabblad issues - Tabblad wijzigingen - Tabblad overleggen -
A23: Tevredenheid | C23: - Hierin wordt tevredenheid van de leverancier met de opdrachtgever gemeten. Er wordt een tevredenheidstoets ontwikkeled met gezamelijke punten om te meten - | F23: - Tabblad tevredenheid - Tabblad tevredenheidstoets -
A24: Contractkalender | C24: - Update, na kijken welke acties er uitkomen, ingeven van nieuwe afspraken/overleggen, Rapportages als: Beschikbaarheid, Problem registratie, software updates - | F24: - Tabblad contractkalender - Tabblad signaleringen -
A25: Contractdossier | C25: - Check op volledigheid - | F25: - Tabblad CD-inhoudsopgave - Tabblad dossierplan - Tabblad status-CD -
G26: Totaal aantal uren per jaar | H26: =SUBTOTAL(109,H16:H25) -> 0

Sheet CI-Plan
A1: CI-Plan
A3: Contractnaam | B3: =Contractgegevens!B5 -> <Contractnaam> | E3: Datum | G3: =Contractgegevens!B2 -> 0
A4: Contracteigenaar | B4: =Contractgegevens!B24 -> <PDMer> | E4: Versie
A5: Contractmanager | B5: =Contractgegevens!B25 -> <LCMer> | E5: Goedkeuringsdatum
A6: Realisatie- en verificatiemanager | B6: =Contractgegevens!B26 -> <RVMer>
A7: CM-scenario | B7: =Contractgegevens!F6 -> 0
A9: Inrichting Essentials
A10: CM Essential | B10: Activiteit | E10: Type | F10: Geplande startdatum | G10: Werkelijke startdatum | H10: Geplande einddatum | I10: Werkelijke einddatum | J10: Werkblad
A11: Contractdoelstellingen | B11: Afstemmen contractdoelstellingen
A12: Stakeholders | B12: Check op de lijst met stakeholders
B13: Informeren alle relevante stakeholders
A14: Contractrelaties | B14: Check op onderliggende contracten in de keten
B15: Verzamelen contactgegevens van betrokken contractmanagers
A16: Risico's | B16: Inrichten risicomanagementprocedure
B17: Maken van afspraken om tegenstrijdigheden, onduidelijkheden en omissies in het contract te elimineren of te reduceren
B18: Borgen dat open einden uit de onderhandelingen en het contract afgerond worden.
A19: Verplichtingen | B19: Opstellen prestatieverklaringstemplate en prestatieverklaringsprocedure
B20: Inrichten randvoorwaarden voor levering
B21: Opstellen leveringsafspraken
B22: Inrichten leveringsprocedure (Leverancier)
A23: Financiën | B23: Inrichten facturatie inclusief betalingstermijn, kostenplaats, inkoopordernr, facturatieadres
B24: Inrichten indexatieprocedure
B25: Inrichten budgettering- en realisatieoverzichten
B26: Vaststellen toereikendheid audit/toetsafspraken in prestatierapportage
A27: Contractbesturing | B27: Vaststellen definitieve agenda
B28: Bepalen deelnemers overleggen
B29: Verzamelen contactgegevens van alle betrokkenen bij de contractbesturing inclusief rol, mandaat en vervangers
B30: Inrichten rapportages
A31: Tevredenheid | B31: Afstemmen contractdoelstellingen
A32: Contractkalender | B32: Inrichten contractkalender
B33: Initieel vullen van de contractkalender
A34: Contractdossier | B34: Inrichten contractdossier
B35: Instellen signaleringen
B36: Initieel vullen van het contractdossier
B37: Inrichten managementrapportage
B38: Verzamelen ontbrekende documenten uit de contractcreatie

Sheet Besturingsmodel
A1: Besturingsmodel
A3: Contractnaam | B3: =Contractgegevens!B5 -> <Contractnaam> | E3: Datum | F3: =Contractgegevens!B2 -> 0
A4: Directe / Opdrachtgever
A5: Sectorhoofd/ portefeuille houder
A6: PDM | B6: =Contractgegevens!B24 -> <PDMer>
A7: Inkoper
A8: Implementatie manager
A9: Contractbeheerder
A10: Lead/strategisch contractmanager | B10: =Contractgegevens!B25 -> <LCMer>
A11: CM eenheid | B11: Zie stakeholdersoverzicht
A12: RVM per contract | B12: Zie stakeholdersoverzicht
A14: Besturingmodel
A15: Voor het besturingsmodel maken wij gebruik van de RASCI
A16: - FM – DVW sector Operatiën (VVL en PU), Bedrijfsvoering (Services) - (RVM binnen FM)
A17: - FM – DVW sector Operatiën (Operationele middelen), Bedrijfsvoering (HRM, Communicatie en Financiën) - (RVM buiten FM)
A19: Escalatie
A20: Eerste escalatie niveau - leverancier (functioneel) | C20: Realisatie- en verificatiemanager | D20: Operationeel toezichthouder
A21: Tweede escalatie niveau - leverancier (functioneel) | C21: Contractmanager | D21: Contractmanager
A22: Derde escalatie niveau - leverancier (functioneel) | C22: Contractmanager | D22: Leadcontractmanger
A23: Vierde escalatie niveau - leverancier (functioneel) | C23: Projectmanager | D23: Producten- en dienstenmanager
A24: Vijfde escalatie niveau - leverancier (functioneel) | C24: Contracteigenaar | D24: Sectorhoofd
A26: Mandaatregeling | B26: Bedrag in €
A27: Teamchef | B27: tot € 100,000
A28: Sectorhoofd | B28: tot € 250,000
A29: Directie | B29: tot € 1000,000 of ongelimiteerd
A30: Directie staf korpsleiding | B30: ongelimiteerd
A31: Korpschef | B31: ongelimiteerd

Sheet Intake
A1: Intakegesprek
A3: Contractnaam | B3: =Contractgegevens!B5 -> <Contractnaam> | D3: Datum | E3: =Contractgegevens!B2 -> 0
A4: Contracteigenaar | B4: =Contractgegevens!B24 -> <PDMer> | D4: Locatie
A5: Contractmanager | B5: =Contractgegevens!B25 -> <LCMer>
A7: Omschrijving van het contractmanagement
A8: Onderdeel | C8: Opmerkingen | E8: Beslissingen
A9: Visie van contracteigenaar op omvang, complexiteit en zwaarte van de opdracht
A10: Indruk contractmanager obv contractanalyse en contractrisicoprofiel
A12: Te bespreken documenten
A13: Document | C13: Opmerkingen | E13: Beslissingen | G13: Documenten akkoord | H13: Geplande wijziging
A14: CM-Opdracht, versie X
A15: Documenten CM handboek met inhoud van CM Essentials
A16: CM-Plan, versie X
A17: CI-Plan, versie X
A19: Acceptatie opdracht
A20: Geaccepteerd
A21: Argumenten

Sheet Opdracht
A1: Opdrachtomschrijving
A3: Contractnaam | F3: Datum
A4: Contracteigenaar
A5: Contractmanager
A7: Opdrachtomschrijving
A8: CATS CM® standaard-opdrachtomschrijving
A9: 1 | B9: Het binnen een bepaalde bevoegdheid pro-actief beheersen van alle afspraken, verplichtingen, voorwaarden, aannames, verwachtingen en doelstellingen m.b.t. een bepaald contract tussen leverancier, klant en eventuele subcontractor(s).
A10: 2 | B10: Het elimineren of reduceren van gebreken, hiaten, onduidelijkheden en verschil van interpretatie in de afspraken, verplichtingen, verwachtingen en voorwaarden.
A11: 3 | B11: Op de in het CM-Plan vastgelegde momenten of op verzoek tijdig verschaffen van zo correct mogelijke informatie m.b.t. status, voortgang, financiën, risico's, besluiten, acties en openstaande issues aan de verantwoordelijke contracteigenaar, de Contract Board en auditors.
A12: 4 | B12: Het organiseren, voeren en administreren van de in het CM-Plan vastgelegde overleggen met de contracteigenaar, realisatie- en verificatiemanager, contractmanager van de contractpartij, Contract Board, en (eventueel) subcontractor om de in de CM-Plan benoemde zaken tot voldoening van alle partijen uit te voeren.
A13: 5 | B13: Het op overzichtelijke wijze beheren van alle contract gerelateerde documenten, overzichten en correspondentie.
A14: 6 | B14: Het managen van niet-contractueel vastgelegde maar voor de contracteigenaar belangrijke aspecten of (neven-)doelstellingen, voor zover van toepassing.
A16: Aanpassingen t.o.v. CATS CM® standaard-opdrachtomschrijving
A17: 1
A18: 2
A19: 3
A20: 4
A21: 5
A23: Urenbudget
A24: Tijdvak | C24: Stap(pen) | D24: Uren CM per maand | F24: Uren CM totaal
C25: <Initiate>
C26: <PDCA>
C27: <Conclude>
B29: Totaal urenbudget | F29: =SUM(F24:F28) -> 0
A31: Bevoegdheid contractmanager
A32: 1
A33: 2
A34: 3
A35: 4
A37: Mandaat contractmanager
A38: 1
A39: 2
A40: 3
A41: 4
A42: 5
A43: 6
A45: Afgesproken prestatie-indicatoren opdracht
A46: 1
A47: 2
A48: 3
...

Sheet Contractkalender
A1: Contractkalender
A3: Contractnaam | B3: =Contractgegevens!B5 -> <Contractnaam> | D3: Datum | E3: =Contractgegevens!B2 -> 0
A4: Contracteigenaar | B4: =Contractgegevens!B24 -> <PDMer>
A5: Contractmanager | B5: =Contractgegevens!B25 -> <LCMer>
A7: Belangrijke datums
A8: Datum | B8: CM Essential | C8: Type | D8: Gebeurtenis/Deadline | E8: Verantwoordelijke

Sheet Signaleringen
A1: Signaleringenlijst
A3: Contractnaam | B3: =Contractgegevens!B5 -> <Contractnaam> | D3: Datum | E3: =Contractgegevens!B2 -> 0
A4: Contracteigenaar | B4: =Contractgegevens!B24 -> <PDMer>
A5: Contractmanager | B5: =Contractgegevens!B25 -> <LCMer>
A7: Signaleringen (AOC)
A8: CM Essential | B8: Onderwerp | C8: Signalering | D8: Uiterste datum | E8: Signaleringsdatum | F8: Te informeren rol | G8: Te informeren functionaris

Sheet Dossierplan
A1: Inrichtingsplan contractdossier
A3: Contractnaam | B3: =Contractgegevens!B5 -> <Contractnaam> | D3: Datum | E3: =Contractgegevens!B2 -> 0
A4: Contracteigenaar | B4: =Contractgegevens!B24 -> <PDMer>
A5: Contractmanager | B5: =Contractgegevens!B25 -> <LCMer>
A6: Contractbeheerder
A8: Procedures
A9: Procedurenaam | B9: Beschrijving
A10: Versiebeheerprocedure
A11: Documentintakeprocedure
A12: Documentopvraagprocedure
A13: Dossiercontroleprocedure
A15: Dossierinrichting
G16: Rechten
A17: Documenttype | B17: Opslaglocatie | C17: Verantwoordelijke | D17: Minimale bewaartermijn | E17: Maximale bewaartermijn | F17: Beveiligingsniveau | G17: Vraageigenaar | H17: Leveringseigenaar | I17: Contracteigenaar | J17: Contractmanager | K17: Realisatie- en verificatiemanager | L17: Servicemanager | M17: Contractbeheerder | N17: <overig> | O17: <overig>2

Sheet Prioriteiten
A1: Prioriteitenlijst
A3: Contractnaam | C3: =Contractgegevens!B5 -> <Contractnaam> | E3: Datum | F3: =Contractgegevens!B2 -> 0
A4: Contracteigenaar | C4: =Contractgegevens!B24 -> <PDMer>
A5: Contractmanager | C5: =Contractgegevens!B25 -> <LCMer>
A7: Prioriteiten
A8: Prio | B8: Onderwerp | C8: Verantwoordelijke | D8: Urgentie | E8: Kritische datum | F8: Motivatie
A9: 1
A10: 2
A11: 3
A12: 4
A13: 5
A14: 6
A15: 7
A16: 8
A17: 9
A18: 10

Sheet Werkplanning
A1: Werkplanning
A3: Contractnaam | B3: =Contractgegevens!B5 -> <Contractnaam> | D3: Datum | E3: =Contractgegevens!A2 -> Datum
A4: Contracteigenaar | B4: =Contractgegevens!B24 -> <PDMer> | D4: Startdatum cyclus
A5: Contractmanager | B5: =Contractgegevens!B25 -> <LCMer> | D5: Plan gereed
D6: Start check
D7: Check afgerond
D8: Einddatum cyclus
A10: Planning komende cyclus op basis van PDCA-cyclus
A11: CM Essential | B11: Onderdeel | C11: Plan-stap deze cyclus | D11: Datum Plan afgerond | E11: Check-stap deze cyclus | F11: Datum Check afgerond | G11: Act/Adjust-stap deze cyclus | H11: Datum Act/Adjust afgerond | I11: Verantwoordelijke | J11: Betrokkenen
A23: Overige belangrijke activiteiten
A24: CM Essential | B24: Onderdeel | C24: Activiteit | D24: Type | E24: Startdatum | F24: Einddatum | G24: Verantwoordelijke | H24: Betrokkenen

Sheet Actielijst
A1: Actielijst
A3: Contractnaam | C3: =Contractgegevens!B5 -> <Contractnaam> | E3: Datum | F3: =Contractgegevens!B2 -> 0
A4: Contracteigenaar | C4: =Contractgegevens!B24 -> <PDMer>
A5: Contractmanager | C5: =Contractgegevens!B25 -> <LCMer>
A7: Nr | B7: CM Essential | C7: Naam | D7: Bron | E7: Achtergrond | F7: Uit te voeren actie | G7: Status | H7: Actiehouder | I7: Actiedatum | J7: Geplande einddatum | K7: Werkelijke einddatum | L7: Logboek
A8: 1
A9: 2
A10: 3
A11: 4
A12: 5
A13: 6
A14: 7
A15: 8
A16: 9
A17: 10
A18: 11
A19: 12
A20: 13

Sheet Risicomitigatie
A1: Lijst met risicomitigerende maatregelen
A3: Contractnaam | C3: =Contractgegevens!B5 -> <Contractnaam> | E3: Datum | F3: =Contractgegevens!B2 -> 0
A4: Contracteigenaar | C4: =Contractgegevens!B24 -> <PDMer>
A5: Contractmanager | C5: =Contractgegevens!B25 -> <LCMer>
A7: Beheersmaatregelen
A8: Nummer | B8: Risiconr | C8: Risiconaam | D8: Mitigerende maatregel | E8: Type maatregel | F8: Effect | G8: Verantwoordelijke | H8: Datum gerealiseerd | I8: Status | J8: Laatste datum gecontroleerd
A9: 1
A10: 2
A11: 3
A12: 4
A13: 5
A14: 6
A15: 7
A16: 8
A17: 9
A18: 10

Sheet Verplichtingenassessment
A1: Verplichtingenassessment
A3: Contractnaam | B3: =Contractgegevens!B5 -> <Contractnaam> | E3: Datum | F3: =Contractgegevens!B2 -> 0
A4: Contracteigenaar | B4: =Contractgegevens!B24 -> <PDMer>
A5: Contractmanager | B5: =Contractgegevens!B25 -> <LCMer>
A7: Geraadpleegde personen
A8: Organisatie | B8: Naam | C8: Functie | D8: Rol
A13: Verplichtingenassessment
A14: Product/dienst/AOC | B14: Nodig | C14: In contract | D14: Geleverd | E14: Benodigde actie

Sheet Wijzigingen
A1: Contractwijzigingenlijst
A3: Contractnaam | C3: =Contractgegevens!B5 -> <Contractnaam> | E3: Datum | F3: =Contractgegevens!B2 -> 0
A4: Contracteigenaar | C4: =Contractgegevens!B24 -> <PDMer>
A5: Contractmanager | C5: =Contractgegevens!B25 -> <LCMer>
A6: Contractmanager wederpartij
A8: Contractwijzigingen
A9: Nummer | B9: Naam | C9: Startdatum | D9: Initiërende partij | E9: Bron | F9: Omschrijving | G9: Motivatie | H9: Eigenaar | I9: Status | J9: Betrokken document | K9: Impact opdrachtgever | L9: Impact leverancier | M9: Advies | N9: Huidige actie | O9: Actiehouder | P9: Actiedatum | Q9: Besluit | R9: Resultaat | S9: Vastgelegd in | T9: Datum afgerond | U9: Logboek
A10: 1
A11: 2
A12: 3
A13: 4
A14: 5
A15: 6
A16: 7
A17: 8

Sheet Issues
A1: Contractissuelijst
A3: Contractnaam | D3: =Contractgegevens!B5 -> <Contractnaam> | G3: Datum | H3: =Contractgegevens!B2 -> 0
A4: Contracteigenaar | D4: =Contractgegevens!B24 -> <PDMer>
A5: Contractmanager | D5: =Contractgegevens!B25 -> <LCMer>
A6: Contractmanager wederpartij
A9: Nummer | B9: Datum | C9: Gemeld door | D9: Bron | E9: Omschrijving | F9: Status | G9: Huidige actie | H9: Actiehouder | I9: Actiedatum | J9: Behandelaar | K9: Impact Opdrachtgever | L9: Impact Leverancier | M9: Datum escalatie CE | N9: Datum escalatie directie | O9: Ingebrekestelling | P9: Aansprakelijkstelling | Q9: Datum afgerond | R9: Resultaat | S9: Log
A10: 1
A11: 2
A12: 3
A13: 4
A14: 5
A15: 6
A16: 7
A17: 8

Sheet Agenda-E1
A1: Agenda en notulen contracteigenarenoverleg (strategisch overleg)
A3: Contractnaam | C3: =Contractgegevens!B5 -> <Contractnaam>
A4: Contracteigenaar | C4: =Contractgegevens!B24 -> <PDMer>
A5: Contractmanager | C5: =Contractgegevens!B25 -> <LCMer>
A6: Contracteigenaar wederpartij
A7: Contractmanager wederpartij
A10: Agenda en Notulen
A11: Datum overleg | E11: Locatie overleg
A12: Aanwezigen Opdrachtgever
A13: Aanwezigen Leverancier
A14: Voorzitter
A15: Notulist
A17: Agendapunten
A18: Nummer | B18: Onderwerp | E18: Voorbereid door | G18: Bijbehorende stukken | J18: Bijzonderheden
A19: 1 | B19: Opening
A20: 2 | B20: Escalaties
A21: 3 | B21: Ontwikkelingen in de organisatie
A22: 4 | B22: Ontwikkelingen in de DOP
A23: 5 | B23: Tevredenheid contract t.a.v. contractdoelstellingen
A24: 6 | B24: Uitkomsten tevredenheidsmetingen
A25: 7 | B25: Definitief maken contractwijzigingen
A26: 8 | B26: Actielijst bespreken
A27: 9 | B27: Rondvraag
A28: 10 | B28: Datum nieuw overleg
A30: Actielijst overleg
A31: Nummer | B31: Datum | C31: Omschrijving | F31: Actiehouder | H31: Status | J31: Plandatum | K31: Deadline | L31: Datum afgerond
A37: Besluitenlijst overleg
A38: Nummer | B38: Datum | C38: Omschrijving | I38: Motivatie

Sheet Agenda-E2
A1: Agenda en notulen contractmanagersoverleg (tactisch overleg)
A2: Contractgegevens
A3: Contractnaam | D3: =Contractgegevens!B5 -> <Contractnaam>
A4: Leverancier | D4: =Contractgegevens!B6 -> <Wederpartij>
A5: Basisscenario | D5: =Contractgegevens!F6 -> 0
A6: Looptijd contract (van tot) | D6: =Contractgegevens!B9 -> <datum> | F6: =Contractgegevens!B10 -> <datum>
A7: Verlengingsdatum | D7: =Contractgegevens!B11 -> <datum>
A9: Datum overleg | F9: Locatie overleg
A10: Eenheid
A11: Aanwezigen Opdrachtgever
A12: Aanwezigen Leverancier
A13: Voorzitter
A14: Notulist
A15: Aanleiding gesprek
A16: Structureel overleg
A17: Overleg naar aanleiding van
A19: Agendapunten en notulen
A20: Nummer | B20: Onderwerp | E20: Voorbereid door | G20: Bijbehorende stukken | J20: Notulen
A21: 1 | B21: Opening en agenda vaststellen
A22: 2 | B22: Actielijst bespreken
A23: 3 | B23: Verslag vorig overleg goedkeuren
A24: 4 | B24: Input vanuit operationeel overleg en strategisch overleg
A25: 5 | B25: Doornemen en vaststellen rapportages (KPI's, afwijkingen en verbeterpunten)
A26: 6 | B26: Review contractdoelstellingen
A27: 7 | B27: Risico's (AOC, status van maatregelen)
A28: 8 | B28: Afwijkingen in de levering en verbeterplannen
A29: 9 | B29: Facturatie en andere financiële aspecten
A30: 10 | B30: Bespreken en uitonderhandelen van contractwijzigingen
A31: 11 | B31: Klachten / incidenten / escalaties
A32: 12 | B32: Communicatie en samenwerking in- en extern
... A37: 17 | B37: Datum nieuw overleg
A39: Nieuwe ontwikkelingen
A40: Leverancier
A41: Opdrachtgever
A43: Actielijst overleg
A44: Nummer | B44: Datum | C44: Omschrijving | I44: Actiehouder | K44: Deadline
A50: Besluitenlijst overleg
A51: Nummer | B51: Datum | C51: Omschrijving
A61: Overige opmerkingen
A65: Akkoord notulen
...

Sheet Agenda-E3
A1: Agenda en notulen realisatie- en verificatiemanagersoverleg (operationeel overleg)
A2: Contractgegevens
A3: Contractnaam | D3: =Contractgegevens!B5 -> <Contractnaam>
A4: Leverancier | D4: =Contractgegevens!B6 -> <Wederpartij>
A5: Looptijd contract (van tot) | D5: =Contractgegevens!B9 -> <datum> | F5: =Contractgegevens!B10 -> <datum>
A6: Verlengingsdatum | D6: =Contractgegevens!B11 -> <datum>
A8: Datum overleg | F8: Locatie overleg
A9: Eenheid
A10: Aanwezigen Opdrachtgever
A11: Aanwezigen Leverancier
A12: Voorzitter
A13: Notulist
A14: Aanleiding gesprek
A15: Structureel overleg
A16: Overleg naar aanleiding van
A18: Agendapunten en notulen
A19: Nummer | B19: Onderwerp | E19: Voorbereid door | G19: Bijbehorende stukken | J19: Notulen
A20: 1 | B20: Opening en vaststellen agenda
A21: 2 | B21: Actielijst bespreken
A22: 3 | B22: Verslag vorig overleg goedkeuren
A23: 4 | B23: Oplossen operationele issues
A24: 5 | B24: Input vanuit tactisch overleg
A25: 6 | B25: Status, kwaliteit en eventuele risico's van de levering diensten of producten
A26: 7 | B26: Invulling randvoorwaarden door de politie georganiseerd
A27: 8 | B27: Uirvoering contractwijzigingen correct uitgevoerd? (indien van toepassing)
A28: 9 | B28: Klachten / incidenten / escalaties
A29: 10 | B29: Communicatie en samenwerking in- en extern
A30: 11 | B30: Personele aangelegenheden
A31: 12 | B31: Vooruitblik komende periode
... A34: 15 | B34: Datum nieuw overleg
A36: Actielijst overleg
A37: Nummer | B37: Datum | C37: Omschrijving | F37: Actiehouder | H37: Deadline
A43: Besluitenlijst overleg
A44: Nummer | B44: Datum | C44: Omschrijving
A54: Procesafspraken
A55: - OTH’er stuurt standaard agendapunten naar de leverancier en vraagt na of er nog aanvullende agendapunten zijn. Dit gebeurt uiterlijk 1 week voor aanvang van het overleg.
A56: - De leverancier levert uiterlijk 1 week na het overleg de notulen aan.
A57: - Notulen worden opgeslagen op de P: schijf contractmanagement van het betreffende contract.

Sheet Agenda-I1
A1: Agenda en notulen overleg contracteigenaar en contractmanager
A3: Contractnaam | C3: =Contractgegevens!B5 -> <Contractnaam>
A4: Contracteigenaar | C4: =Contractgegevens!B24 -> <PDMer>
A5: Contractmanager | C5: =Contractgegevens!B25 -> <LCMer>
A7: Agenda en Notulen
A8: Datum overleg | E8: Locatie overleg
A9: Voorzitter
A10: Notulist
A12: Agendapunten
A13: Nummer | B13: Onderwerp | E13: Voorbereid door | G13: Bijbehorende stukken | J13: Notulen
A14: 1 | B14: Opening
A15: 2 | B15: Voortgang levering afgelopen periode
A16: 3 | B16: Openstaande problemen en issues
A17: 4 | B17: Risico's
A18: 5 | B18: Te nemen beslissingen komende periode
A19: 6 | B19: Financiële status en voortgang
A20: 7 | B20: Gewenste contractaanpassingen
A21: 8 | B21: Actielijst bespreken
A22: 9 | B22: Rondvraag
A23: 10 | B23: Datum nieuw overleg
A25: Actielijst overleg
A26: Nummer | B26: Datum | C26: Omschrijving | F26: Actiehouder | L26: Deadline
A32: Besluitenlijst overleg
A33: Nummer | B33: Datum | C33: Omschrijving

Sheet Agenda-I2
A1: Agenda en notulen overleg contractmanager en realisatie- en verificatiemanager
A3: Contractnaam | D3: =Contractgegevens!B5 -> <Contractnaam>
A4: Contracteigenaar | D4: =Contractgegevens!B24 -> <PDMer>
A5: Contractmanager | D5: =Contractgegevens!B25 -> <LCMer>
A6: Realisatie- en verificatiemanager | D6: =Contractgegevens!B26 -> <RVMer>
A8: Agenda en Notulen
A9: Datum overleg | E9: Locatie overleg
A10: Voorzitter
A11: Notulist
A13: Agendapunten
A14: Nummer | B14: Onderwerp | E14: Voorbereid door | G14: Bijbehorende stukken | J14: Notulen
A15: 1 | B15: Opening en agenda vaststellen
A16: 2 | B16: Verslag vorig overleg goedkeuren
A17: 3 | B17: Voortgang en planning
A18: 4 | B18: Operationele knelpunten met contractuele consequenties
A19: 5 | B19: Afwijkingen in de levering
A20: 6 | B20: Risico's
A21: 7 | B21: Bestede uren en middelen
A22: 8 | B22: Haalbaarheid van afgegeven planningen
A23: 9 | B23: Aankomende wijzigingen
A24: 10 | B24: Organisatorische ontwikkelingen
A25: 11 | B25: Tevredenheid van de gebruikers/productieteam
A26: 12 | B26: Actielijst bespreken
... A28: 14 | B28: Datum nieuw overleg
A30: Actielijst overleg
A31: Nummer | B31: Datum | C31: Omschrijving | F31: Actiehouder | L31: Deadline
A37: Besluitenlijst overleg
A38: Nummer | B38: Datum | C38: Omschrijving

Sheet Agenda-I3
A1: Agenda en notulen overleg realisatie- en verificatiemanager en gebuikers/productieteam
A3: Contractnaam | D3: =Contractgegevens!B5 -> <Contractnaam>
A4: Contracteigenaar | D4: =Contractgegevens!B24 -> <PDMer>
A5: Contractmanager | D5: =Contractgegevens!B25 -> <LCMer>
A6: Realisatie- en verificatiemanager | D6: =Contractgegevens!B26 -> <RVMer>
A7: Gebruikers/productieteamvertegenwooridger
A9: Agenda en Notulen
A10: Datum overleg | E10: Locatie overleg
A11: Voorzitter
A12: Notulist
A14: Agendapunten
A15: Nummer | B15: Onderwerp | E15: Voorbereid door | G15: Bijbehorende stukken | J15: Notulen
A16: 1 | B16: Opening en agenda vaststellen
A17: 2 | B17: Verslag vorig overleg goedkeuren
A18: 3 | B18: Tevredenheid levering
A19: 4 | B19: Operationele knelpunten
A20: 5 | B20: Kortetermijn verwachtingen
A21: 6 | B21: Risico's
A22: 7 | B22: Actielijst bespreken
A23: 8 | B23: Rondvraag
A24: 9 | B24: Datum nieuw overleg
A26: Actielijst overleg
A27: Nummer | B27: Datum | C27: Omschrijving | F27: Actiehouder | L27: Deadline
A33: Besluitenlijst overleg
A34: Nummer | B34: Datum | C34: Omschrijving

Sheet Agenda-I4
A1: Agenda en notulen Contract Board | P1: DIT TABBLAD WORDT NIET GEBRUIKT , AANGEZIEN DE CONTRACTBOARD NA DE AANBESTEDING NIET MEER SAMENKOMT
A3: Contractnaam | D3: =Contractgegevens!B5 -> <Contractnaam>
A4: Contracteigenaar | D4: =Contractgegevens!B24 -> <PDMer>
A5: Contractmanager | D5: =Contractgegevens!B25 -> <LCMer>
A6: Realisatie- en verificatiemanager | D6: =Contractgegevens!B26 -> <RVMer>
A7: Gebruikers/productieteamvertegenwoordiger
A9: Agenda en Notulen
A10: Datum overleg | E10: Locatie overleg
A11: Voorzitter
A12: Notulist
A13: Aanwezigen
A15: Agendapunten
A16: Nummer | B16: Onderwerp | E16: Voorbereid door | G16: Bijbehorende stukken | J16: Bijzonderheden
A17: 1 | B17: Opening
A18: 2 | B18: Algehele voortgang en tevredenheid over uitvoering
A19: 3 | B19: Status en uitnutting van het budget vraageigenaren/ Status en bezetting van de middelen leveringseigenaren
A20: 4 | B20: Voorliggende beslissingen
A21: 5 | B21: Risico's
A22: 6 | B22: Contractwijzigingen
A23: 7 | B23: Verlengingsbeslissing
A24: 8 | B24: Actielijst bespreken
A25: 9 | B25: Rondvraag
A26: 10 | B26: Datum nieuw overleg
A28: Actielijst overleg
A29: Nummer | B29: Datum | C29: Omschrijving | F29: Actiehouder | H29: Status | J29: Plandatum | K29: Deadline | L29: Datum afgerond
A35: Besluitenlijst overleg
A36: Nummer | B36: Datum | C36: Omschrijving | I36: Motivatie

Sheet Tevredenheidstoets
A1: Tevredenheidstoets
A3: Contractnaam | B3: =Contractgegevens!B5 -> <Contractnaam> | D3: Datum | E3: =Contractgegevens!B2 -> 0
A4: Contracteigenaar | B4: =Contractgegevens!B24 -> <PDMer>
A5: Contractmanager | B5: =Contractgegevens!B25 -> <LCMer>
A6: Contractmanager wederpartij
A8: Basisgegevens
A9: Datum
A10: Locatie
A11: Aanwezigen wederpartij
A12: Werkvorm | B12: <Workshop/Interview>
A14: Vragenlijst
A15: CM Essential | B15: Onderwerp | E15: Beoordeling | G15: Motivatie | J15: Verbeterpunten
A16: Contractdoelstellingen | B16: Contract realiseert doelstellingen in voldoende mate
A17: Contractrelaties | B17: Tevreden met aansluiting met andere contracten
A18: Risico's | B18: Vertrouwen in uitgevoerd risicomanagement
A19: Verplichtingen | B19: Tevreden met de geleverde prestaties/randvoorwaarden
A20: Verplichtingen | B20: Tevreden met afhandeling escalaties
A21: Verplichtingen | B21: Tevreden met samenwerking op leveringsgebied
A22: Financiën | B22: Tevreden over factuurafhandeling
A23: Contractbesturing | B23: Tevreden met samenwerking in overlegstructuren
A24: Contractbesturing | B24: Tevreden met oppakken contractwijzigingen

Sheet Checklist-Essentials
A1: Checklist CM Essentials
A3: Contractnaam | B3: =Contractgegevens!B5 -> <Contractnaam> | E3: Datum | F3: =Contractgegevens!B2 -> 0
A4: Contracteigenaar | B4: =Contractgegevens!B24 -> <PDMer>
A5: Contractmanager | B5: =Contractgegevens!B25 -> <LCMer>
A7: Checklist
A8: CM Essential | B8: Onderdeel | C8: Controle | G8: Op orde | H8: Uitleg bij "nee"
A9: Contractdoelstellingen | B9: Registratie | C9: Doelstellingenlijst volledig
A10: Stakeholders | B10: Registratie | C10: Stakeholderlijst bijgewerkt en up-to-date
A11: Stakeholders | B11: Acties | C11: Stakeholderacties tijdig uitgevoerd
A12: Contractrelaties | B12: Registratie | C12: Contractrelatieslijst bijgewerkt en up-to-date
A13: Contractrelaties | B13: Acties | C13: Contractrelatiesacties tijdig uitgevoerd
A14: Risico's | B14: Registratie | C14: Risicolijst bijgewerkt en up-to-date
A15: Risico's | B15: Registratie | C15: Aannamelijst bijgewerkt en up-to-date
A16: Risico's | B16: Identicatie | C16: Risicoidentificatie uitgevoerd
A17: Risico's | B17: Maatregelen | C17: Risicomitigerende maatregelen uitgevoerd
A18: Risico's | B18: Maatregelen | C18: Risicomitigerende maatregelen effectief
A19: Verplichtingen | B19: Registratie | C19: Verplichtingenlijst bijgewerkt en up-to-date
A20: Verplichtingen | B20: Prestaties | C20: Prestaties conform procedure gecontroleerd
... A28: Contractdossier | B28: Registratie | C28: Contractdossier bijgewerkt en up-to-date

Sheet Status-CD
A1: Statusrapport contractdossier
A3: Contractnaam | C3: =Contractgegevens!B5 -> <Contractnaam> | E3: Datum | F3: =Contractgegevens!B2 -> 0
A4: Contracteigenaar | C4: =Contractgegevens!B24 -> <PDMer>
A5: Contractmanager | C5: =Contractgegevens!B25 -> <LCMer>
A6: Contractbeheerder
A8: Algemene status
A9: Onderwerp | C9: Aantal
A10: Opgenomen documenten | E10: Volledigheid | F10: =IF(C12=0,"",C10/C12)
A11: Ontbrekende documenten | E11: Kwaliteit | F11: =IF(ISBLANK(C10),"",(C10-C13)/C10)
A12: Totaal documenten | C12: =SUM(C9:C11) -> 0
A13: Onvolledige of onjuiste documenten
A15: Ontbrekende documenten
A16: Naam | C16: Ontbrekende informatie | D16: Datum | E16: Verantwoordelijke | F16: Datum hersteld
A25: Onvolledige of onjuiste documenten
A26: Naam | C26: Onvolledigheid/onjuistheid | D26: Datum | E26: Verantwoordelijke | F26: Datum hersteld

Sheet Fin-rapportage-Odg
A1: Financiële rapportage Opdrachtgever
A3: Contractnaam | B3: =Contractgegevens!B5 -> <Contractnaam> | D3: Datum | E3: =Contractgegevens!B2 -> 0
A4: Contracteigenaar | B4: =Contractgegevens!B24 -> <PDMer>
A5: Contractmanager | B5: =Contractgegevens!B25 -> <LCMer>
A7: Contractwaarde | C7: Aantal | G7: Bedrag
A8: Onderdeel | B8: Type hoeveelheid | C8: Gepland periode | D8: Werkelijk periode | E8: Verschil | F8: Verklaring verschil | G8: Gepland periode | H8: Werkelijk periode | I8: Verschil | J8: Verklaring verschil
E9: =C9-D9 -> 0 | G9: 0 | H9: 0 | I9: =G9-H9 -> 0
E10: =C10-D10 -> 0 | G10: 0 | H10: 0 | I10: =G10-H10 -> 0
E11: =C11-D11 -> 0 | G11: 0 | H11: 0 | I11: =G11-H11 -> 0
E12: =C12-D12 -> 0 | G12: 0 | H12: 0 | I12: =G12-H12 -> 0
A14: Totale contractwaarde | C14: =SUM(C8:C13) -> 0 | D14: =SUM(D8:D13) -> 0 | E14: =SUM(E8:E13) -> 0 | F14: =SUM(F8:F13) -> 0 | G14: =SUM(G8:G13) -> 0 | H14: =SUM(H8:H13) -> 0 | I14: =SUM(I8:I13) -> 0
A16: Budget eigen organisatiekosten | C16: Aantal | G16: Bedrag
A17: Onderdeel | B17: Type hoeveelheid | C17: Gepland periode | D17: Werkelijk periode | E17: Verschil | F17: Verklaring verschil | G17: Gepland periode | H17: Werkelijk periode | I17: Verschil | J17: Verklaring verschil
E18: =C18-D18 -> 0 | G18: 0 | H18: 0 | I18: =G18-H18 -> 0
E19: =C19-D19 -> 0 | G19: 0 | H19: 0 | I19: =G19-H19 -> 0
E20: =C20-D20 -> 0 | G20: 0 | H20: 0 | I20: =G20-H20 -> 0
E21: =C21-D21 -> 0 | G21: 0 | H21: 0 | I21: =G21-H21 -> 0
E22: =C22-D22 -> 0 | G22: 0 | H22: 0 | I22: =G22-H22 -> 0
E23: =C23-D23 -> 0 | G23: 0 | H23: 0 | I23: =G23-H23 -> 0
E24: =C24-D24 -> 0 | G24: 0 | H24: 0 | I24: =G24-H24 -> 0
E25: =C25-D25 -> 0 | G25: 0 | H25: 0 | I25: =G25-H25 -> 0
E26: =C26-D26 -> 0 | G26: 0 | H26: 0 | I26: =G26-H26 -> 0
C28: =SUM(C17:C27) -> 0 | D28: =SUM(D17:D27) -> 0 | E28: =SUM(E22:E27) -> 0 | F28: =SUM(F17:F27) -> 0 | G28: =SUM(G17:G27) -> 0 | H28: =SUM(H17:H27) -> 0 | I28: =SUM(I17:I27) -> 0
A30: Total Cost of Contract Ownership
A31: Onderdeel | C31: Gepland periode | D31: Werkelijk periode | E31: Verschil
A32: Contractwaarde | C32: =G14 -> 0 | D32: =H14 -> 0 | E32: =I14 -> 0
A33: Eigen organisatiekosten | C33: =G28 -> 0 | D33: =H28 -> 0 | E33: =I28 -> 0
A34: TCCO | C34: =C32+C33 -> 0 | D34: =D32+D33 -> 0 | E34: =E32+E33 -> 0

Sheet Fin-rapportage-Lev
A1: Financiële rapportage Leverancier
G2: Wij gebruiken alleen het tabblad financiële rapportage opdrachtgever
A3: Contractnaam | B3: =Contractgegevens!B5 -> <Contractnaam> | D3: Datum | E3: =Contractgegevens!B2 -> 0
A4: Contracteigenaar | B4: =Contractgegevens!B24 -> <PDMer>
A5: Contractmanager | B5: =Contractgegevens!B25 -> <LCMer>
A7: Omzet | C7: Aantal | G7: Omzet
A8: Onderdeel | B8: Type hoeveelheid | C8: Gepland periode | D8: Werkelijk periode | E8: Verschil | F8: Verklaring verschil | G8: Gepland periode | H8: Werkelijk periode | I8: Verschil | J8: Verklaring verschil
G9: 0 | H9: 0 | I9: =G9-H9 -> 0
G10: 0 | H10: 0 | I10: =G10-H10 -> 0
