Workbook

Sheet Prijsopgave
A1: PRIJSOPGAVEFORMULIER – HYBRIDE VERGOEDINGSMODEL
A4: Vul de blauwe velden in. Alle bedragen zijn exclusief btw en prijsindexering. De berekende prijs bestaat uit vaste vergoedingen, variabele tarieven en bijzondere werkzaamheden. Licht ieder onderdeel van de vaste vergoedingen verplicht toe in het tabblad “Onderbouwing vaste kosten”.
A8: Gegevens Inschrijver
A9: Naam Inschrijver
A10: Contactpersoon
A11: Datum
A13: A. Vaste vergoedingen
A14: Nr. | B14: Kostenonderdeel | C14: Eenheid | D14: Aantal | E14: Tarief | F14: Berekende prijs
A15: 1 | B15: Implementatie en inrichting | C15: eenmalig | D15: 1 | F15: =IF(OR(D15="",E15=""),0,D15*E15) -> 0
A16: 2 | B16: Digitale voorzieningen | C16: eenmalig | D16: 1 | F16: =IF(OR(D16="",E16=""),0,D16*E16) -> 0
A17: 3 | B17: Jaarlijkse basisvergoeding | C17: jaar | D17: 15 | F17: =IF(OR(D17="",E17=""),0,D17*E17) -> 0
A18: 4 | B18: Rapportage en relatiebeheer | C18: jaar | D18: 15 | F18: =IF(OR(D18="",E18=""),0,D18*E18) -> 0
A19: 5 | B19: Beheer- en afwikkelingsfase | C19: jaar | D19: 15 | F19: =IF(OR(D19="",E19=""),0,D19*E19) -> 0
A20: SUBTOTAAL VASTE VERGOEDINGEN | F20: =SUM(F15:F19) -> 0
A22: B. Variabele vergoedingen
A23: Nr. | B23: Kostenonderdeel | C23: Eenheid | D23: Indicatief aantal | E23: Tarief / percentage | F23: Berekende prijs
A24: 1 | B24: Beoordeling aanvraag | C24: per aanvraag | D24: 50 | F24: =IF(OR(D24="",E24=""),0,D24*E24) -> 0
A25: 2 | B25: Toeslag complexe aanvraag | C25: per complexe aanvraag | D25: 30 | F25: =IF(OR(D25="",E25=""),0,D25*E25) -> 0
A26: 3 | B26: Contractering lening | C26: per verstrekte lening | D26: 100 | F26: =IF(OR(D26="",E26=""),0,D26*E26) -> 0
A27: 4 | B27: Jaarlijks beheer lening | C27: per leningjaar | D27: 650 | F27: =IF(OR(D27="",E27=""),0,D27*E27) -> 0
A28: 5 | B28: Herbeoordeling | C28: per herbeoordeling | D28: 50 | F28: =IF(OR(D28="",E28=""),0,D28*E28) -> 0
A29: 6 | B29: Waarderings-/taxatiereview | C29: per review | D29: 50 | F29: =IF(OR(D29="",E29=""),0,D29*E29) -> 0
A30: 7 | B30: Juridische/staatsteuntoets | C30: per toets | D30: 40 | F30: =IF(OR(D30="",E30=""),0,D30*E30) -> 0
A31: 8 | B31: Bijzonder beheer | C31: per dossierjaar | D31: 25 | F31: =IF(OR(D31="",E31=""),0,D31*E31) -> 0
A32: 9 | B32: Afwikkeling lening | C32: per lening | D32: 100 | F32: =IF(OR(D32="",E32=""),0,D32*E32) -> 0
A33: SUBTOTAAL VARIABELE VERGOEDINGEN | F33: =SUM(F24:F32) -> 0
A35: C. Bijzondere werkzaamheden
A36: Nr. | B36: Functieniveau / expertise | C36: Eenheid | D36: Indicatief aantal uren | E36: Maximum uurtarief | F36: Berekende prijs
A37: 1 | B37: Project-/fondsdirecteur | C37: uur | D37: 100 | F37: =IF(OR(D37="",E37=""),0,D37*E37) -> 0
A38: 2 | B38: Senior fondsmanager | C38: uur | D38: 250 | F38: =IF(OR(D38="",E38=""),0,D38*E38) -> 0
A39: 3 | B39: Investment-/kredietmanager | C39: uur | D39: 500 | F39: =IF(OR(D39="",E39=""),0,D39*E39) -> 0
A40: 4 | B40: Juridisch/staatssteunspecialist | C40: uur | D40: 250 | F40: =IF(OR(D40="",E40=""),0,D40*E40) -> 0
A41: 5 | B41: Planeconoom/gebiedsontwikkeling | C41: uur | D41: 300 | F41: =IF(OR(D41="",E41=""),0,D41*E41) -> 0
A42: 6 | B42: Taxateur/waarderingsspecialist | C42: uur | D42: 200 | F42: =IF(OR(D42="",E42=""),0,D42*E42) -> 0
A43: 7 | B43: IT/data specialist | C43: uur | D43: 200 | F43: =IF(OR(D43="",E43=""),0,D43*E43) -> 0
A44: SUBTOTAAL BIJZONDERE WERKZAAMHEDEN | F44: =SUM(F37:F43) -> 0
A46: D. Totale prijs
A47: TOTALE BEREKENDE PRIJS | F47: =SUM(F20,F33,F44) -> 0
A49: Ondertekening
A51: De Inschrijver verklaart dat de prijsopgave volledig en juist is, dat geen kosten dubbel zijn opgenomen en dat geen PM-posten zijn opgenomen.
...

Sheet Toelichting
A1: TOELICHTING VERGOEDINGSMODEL
A4: Nr. | B4: Component | C4: Werking | D4: Aandachtspunt
A5: 1 | B5: Vast | C5: Betaald voor vaste beschikbaarheid en werkzaamheden. | D5: Niet afhankelijk van volume. Kosten voor social return (E.48) zijn opgenomen in de vaste vergoedingen.
A6: 2 | B6: Per activiteit | C6: Werkelijk gerealiseerde eenheden × aangeboden tarief. | D6: Alleen afgeronde en geaccepteerde eenheden. Debiteurenbeheer, incasso en monitoring per lening vallen onder "Jaarlijks beheer lening".
A7: 3 | B7: Bijzonder | C7: Werkelijke uren × maximaal uurtarief na schriftelijke opdracht. | D7: Niet voor reguliere werkzaamheden.
A8: 4 | B8: Evaluatieprijs | C8: Uniform scenario voor prijsvergelijking. | D8: Geen contractwaarde of afnamegarantie.

Sheet Onderbouwing vaste kosten
A1: ONDERBOUWING VASTE KOSTEN
A3: Licht per vast kostenonderdeel op hoofdlijnen toe hoe het tarief is opgebouwd: de belangrijkste inzet (functies en indicatieve uren), de overige kosten en de uitgangspunten, in maximaal 250 woorden per onderdeel. Het tarief omvat in ieder geval de werkzaamheden die in de kolom "Omvat" zijn beschreven. Uitsluitingen en PM-posten zijn niet toegestaan. De onderbouwing wordt niet gewogen bij de gunning, maar wordt gebruikt bij de toets op een abnormaal lage inschrijving en wordt onderdeel van de Dienstverleningsovereenkomst. Als de onderbouwing niet aansluit op het tarief, is het tarief leidend en levert de Opdrachtnemer de beschreven werkzaamheden voor dat tarief.
A8: Nr. | B8: Kostenonderdeel | C8: Omvat in ieder geval (ingevuld door Opdrachtgever) | D8: Tarief per eenheid (€ excl. btw) | E8: Onderbouwing (ingevuld door Inschrijver) Inzet (functies en indicatieve uren), overige kosten en uitgangspunten; max. 250 woorden
A9: 1 | B9: Implementatie en inrichting | C9: Oprichting en inrichting van de fondsentiteit, implementatieplan en op te leveren producten tot en met de toets door Opdrachtgever, waaronder mandaatstructuur, uitvoeringsprotocol, beoordelingskader, modelleningsovereenkomst, aanvraagloket, afspraken met accountant en auditcomité en eerste jaarplan (PvE, blok Implementatie). | D9: =Prijsopgave!E15 -> 0
A10: 2 | B10: Digitale voorzieningen | C10: Inrichting van fondsadministratie, aanvraag-, dossier- en rapportagesystemen, inclusief informatiebeveiliging en verwerkersovereenkomst, tot en met openstelling. | D10: =Prijsopgave!E16 -> 0
A11: 3 | B11: Jaarlijkse basisvergoeding | C11: Beschikbaarheid van organisatie en sleutelpersonen, governance en interne beheersing, fondsadministratie en boekhouding op fondsniveau, liquiditeitsbeheer, portefeuillebeheer en risicomanagement op fondsniveau, beheer en onderhoud van de digitale voorzieningen, compliance, het jaarlijks actualiseren van het exitplan, en de jaarrekening inclusief accountantscontrole. Werkzaamheden per aanvraag of per lening, waaronder debiteurenbeheer, incasso en monitoring van individuele leningen, vallen onder de variabele vergoedingen.Daarnaast omvat dit onderdeel alle overige werkzaamheden uit het Programma van Eisen, de Dienstverleningsovereenkomst en de Inschrijving van de Opdrachtnemer die niet onder een ander vast onderdeel of de variabele vergoedingen vallen. | D11: =Prijsopgave!E17 -> 0
A12: 4 | B12: Rapportage en relatiebeheer | C12: Kwartaalrapportages, jaarverslag, evaluatierapportages, KPI-rapportage, ad-hoc escalatierapportages en herstelplannen bij KPI-onderschrijding, het jaarplan, het periodiek overleg met de Opdrachtgever inclusief secretariaat, medewerking aan externe evaluaties en audits, en algemene voorlichting, accountmanagement en loketcommunicatie richting gemeenten. | D12: =Prijsopgave!E18 -> 0
A13: 5 | B13: Beheer- en afwikkelingsfase | C13: [Door Opdrachtgever te bepalen: samenvoegen met de jaarlijkse basisvergoeding, of beperken tot de periode na de laatste verstrekking (afbouw portefeuille, eindafrekening en overdracht).] | D13: =Prijsopgave!E19 -> 0
A15: Grijze cellen worden door de Opdrachtgever ingevuld; de Inschrijver vult de blauwe cellen in. Het tarief wordt automatisch overgenomen uit het tabblad "Prijsopgave".
