Workbook
Name Afdrukbereik_MI: #REF!
Name Afdrukbereik_MI: #REF!
Name Afdrukbereik_MI: #REF!
Name kln: #REF!
Name kln: #REF!
Name kln: #REF!
Name la: #REF!
Name ort: [3]ort!$A$6:$E$78
Name ow: [3]ow!$A$6:$K$78
Name resultaat: #REF!
Name resultaat: #REF!
Name resultaat: #REF!
Name TABEL: [3]Berekeningen!$A$18:$W$90

Sheet 1. Ondertekening
C3: Naam opdrachtgever | D3: CBR
C4: Versienummer | D4: 1.0
C5: Prijspeil | D5: 46388
C6: Leverancier
C10: RECHTSGELDIGE ONDERTEKENING*
C12: Organisatienaam
C15: Naam tekeningsbevoegde functionaris
C18: Functie tekeningsbevoegde functionaris
C21: Handtekening
C27: * Door het indienen van het Prijzenblad verklaart Inschrijver dat deze zich volledig conformeert aan het Beschrijvend Document inclusief bijlagen. Tevens accepteert Inschrijver eventuele wijzigingen/ aanvullingen zoals opgenomen in de Nota('s) van Inlichtingen en gaat ermee akkoord dat de hierin opgenomen wijzigingen/ aanvullingen prevaleren boven hetgeen bepaald in eerder genoemde Beschrijvend Document inclusief bijlagen. Door het indienen van het Prijzenblad verklaart Inschrijver tevens dat de Inschrijving volledig is gebaseerd op en voldoet aan de bepalingen in de eerder genoemde Beschrijvend Document, Programma van Eisen, Nota('s) van Inlichtingen en de eigen beantwoording van de gunningscriteria. Alle kosten gerelateerd aan de uitvoering van de beantwoording van de gunningscriteria worden geacht in de aangeboden prijzen te zijn verdisconteerd. Inschrijver verklaart met het indienen van het Prijzenblad dat de door hem geoffreerde prijzen en tarieven zonder voorbehoud zijn.

Sheet 2. Totaalbegroting
C3: Naam opdrachtgever | D3: ='1. Ondertekening'!D3 -> CBR
C4: Versienummer | D4: ='1. Ondertekening'!D4 -> 1.0
C5: Prijspeil | D5: ='1. Ondertekening'!D5 -> 46388
C6: Leverancier | D6: ='1. Ondertekening'!D6 -> 0
C10: TOTAAL BEGROTING
C12: Onderdeel | E12: Totaal
C14: 3. Groenvoorziening binnen | D14: Contractjaarprijs | E14: =+'3. Groenvoorziening binnen'!F32+'3. Groenvoorziening binnen'!I39+'3. Groenvoorziening binnen'!H48 -> 0
C15: 4. Groenvoorziening buiten | D15: Contractjaarprijs | E15: ='4. Groenvoorziening buiten'!I30 -> 0
C16: Totaal (fictieve) inschrijfprijs P2 | E16: =SUM(E14:E15) -> 0
C18: 5. Gladheidsbestrijding | D18: Fictieve jaarprijs | E18: ='5. Gladheidsbestrijding'!J52 -> 0
C19: Totaal (fictieve) inschrijfprijs P1 | E19: =E18 -> 0

Sheet 3. Groenvoorziening binnen
C3: Naam opdrachtgever | D3: ='1. Ondertekening'!D3 -> CBR
C4: Versienummer | D4: ='1. Ondertekening'!D4 -> 1.0
C5: Prijspeil | D5: ='1. Ondertekening'!D5 -> 46388
C6: Leverancier | D6: ='1. Ondertekening'!D6 -> 0
C9: Onderhoud beplanting
C10: Afmeting bak | D10: Aantal bakken | E10: Onderhoudsprijs per bak per jaar | F10: Prijs per jaar
C11: 90 x 42 cm | D11: 207 | F11: =D11*E11 -> 0
C12: 160 x 42 cm | D12: 2 | F12: =D12*E12 -> 0
C13: 155 x 56 cm | D13: 1 | F13: =D13*E13 -> 0
C14: 160 x 42 cm | D14: 1 | F14: =D14*E14 -> 0
C15: 180 x 56 cm | D15: 1 | F15: =D15*E15 -> 0
C16: 210 x 56 cm | D16: 1 | F16: =D16*E16 -> 0
C17: ø20 | D17: 3 | F17: =D17*E17 -> 0
C18: ø23 | D18: 3 | F18: =D18*E18 -> 0
C19: ø27 | D19: 5 | F19: =D19*E19 -> 0
C20: ø32 | D20: 15 | F20: =D20*E20 -> 0
C21: 37x37 cm | hoogte 140 cm | D21: 1 | F21: =D21*E21 -> 0
C22: 37x37 cm | hoogte 60 cm | D22: 1 | F22: =D22*E22 -> 0
... C31: 50x50 cm | hoogte 180 cm | D31: 1 | F31: =D31*E31 -> 0
C32: TOTAALPRIJS | F32: =SUM(F11:F31) -> 0
C35: Aankoop plantenbak + vullen
C36: Soort en afmeting bak | G36: Prijs per stuk | H36: Fictief aantal | I36: Fictieve jaarpijs
C37: Plantenbak B900xL420xH200 | H37: 5 | I37: =G37*H37 -> 0
C38: Vullen plantenbak met levende beplanting B900xL420xH200 | H38: 10 | I38: =G38*H38 -> 0
C39: TOTAALPRIJS | I39: =SUM(I37:I38) -> 0
C42: Kerstbomen + kerstdecoratie
C43: Soort | E43: Hoogte | F43: Stuksprijs | G43: Aantallen | H43: Fictieve jaarprijs
C44: Kerstboom incl. decoratie | E44: 210 cm | G44: 2 | H44: =F44*G44 -> 0
C45: Kerstboom incl. decoratie | E45: 240 cm | G45: 1 | H45: =F45*G45 -> 0
C46: Kerstboom incl. decoratie | E46: 270 cm | G46: 4 | H46: =F46*G46 -> 0
C47: Decoratie t.b.v. kerstboom (eigendom CBR) | E47: 400 cm | G47: 1 | H47: =F47*G47 -> 0
C48: TOTAALPRIJS | H48: =SUM(H44:H47) -> 0

Sheet 4. Groenvoorziening buiten
C3: Naam opdrachtgever | D3: ='1. Ondertekening'!D3 -> CBR
C4: Versienummer | D4: ='1. Ondertekening'!D4 -> 1.0
C5: Prijspeil | D5: ='1. Ondertekening'!D5 -> 46388
C6: Leverancier | D6: ='1. Ondertekening'!D6 -> 0
C9: Locatie | D9: Adres | E9: Aantal m2 terrein | F9: Aantal bomen per locatie | G9: Prijs onderhoud per jaar | H9: Prijs per VTA (uitgaande van 1x per 3 jaar) | I9: Prijs per jaar
C10: Alkmaar | D10: Olympiaweg 28 | E10: ='6. Locatiekenmerken'!B11 -> 883 | F10: 2 | I10: =G10+(1/3*H10) -> 0
C11: Amsterdam* | D11: Naritaweg 150 | E11: =+'6. Locatiekenmerken'!D11 -> 3832 | F11: 1 | I11: =G11+(1/3*H11) -> 0
C12: Apeldoorn | D12: Antillen 11 | E12: =+'6. Locatiekenmerken'!E11 -> 964 | I12: =G12+(1/3*H12) -> 0
C13: Arnhem (Wassenaarweg) | D13: Wassenaarweg 20 | E13: =+'6. Locatiekenmerken'!G11 -> 2500 | I13: =G13+(1/3*H13) -> 0
C14: Arnhem (Hazekamp) | D14: Hazenkamp 10 | E14: ='6. Locatiekenmerken'!F11 -> 3200 | F14: 6 | I14: =G14+(1/3*H14) -> 0
C15: Assen (1/Aziëweg) | D15: Aziëweg 25 | E15: =+'6. Locatiekenmerken'!I11 -> 645 | F15: 3 | I15: =G15+(1/3*H15) -> 0
C16: Barendrecht | D16: Zwaalweg 1 | E16: =+'6. Locatiekenmerken'!K11 -> 1084 | I16: =G16+(1/3*H16) -> 0
C17: Deventer | D17: Duisburgstraat 10 | E17: =+'6. Locatiekenmerken'!R11 -> 883 | F17: 3 | I17: =G17+(1/3*H17) -> 0
C18: Eemnes | D18: Bramenberg 6 | E18: =+'6. Locatiekenmerken'!U11 -> 2047 | I18: =G18+(1/3*H18) -> 0
C19: Eindhoven | D19: Hoevenweg 20 | E19: =+'6. Locatiekenmerken'!V11 -> 2912 | F19: 6 | I19: =G19+(1/3*H19) -> 0
C20: Emmen | D20: Nijbracht 112 | E20: =+'6. Locatiekenmerken'!X11 -> 760 | I20: =G20+(1/3*H20) -> 0
C21: Gouda | D21: Zwolleweg 10 | E21: =+'6. Locatiekenmerken'!Z11 -> 667 | F21: 6 | I21: =G21+(1/3*H21) -> 0
C22: Groningen | D22: Protonstraat 3 | E22: =+'6. Locatiekenmerken'!AA11 -> 2080 | F22: 4 | I22: =G22+(1/3*H22) -> 0
C23: Leusden | D23: Fokkerstraat 21 | E23: =+'6. Locatiekenmerken'!AL11 -> 3787 | I23: =G23+(1/3*H23) -> 0
C24: Nijmegen | D24: Wijchenseweg 2 | E24: =+'6. Locatiekenmerken'!AO11 -> 2109 | F24: 14 | I24: =G24+(1/3*H24) -> 0
C25: Rijswijk 30 (HQ) | D25: Lange Kleiweg 30 | E25: =+'6. Locatiekenmerken'!AP11 -> 2388 | F25: 6 | I25: =G25+(1/3*H25) -> 0
C26: Rotterdam | D26: Noorderbocht 25 | E26: =+'6. Locatiekenmerken'!AV11 -> 3000 | F26: 9 | I26: =G26+(1/3*H26) -> 0
C27: Terneuzen | D27: Handelspoort 3a | E27: =+'6. Locatiekenmerken'!AZ11 -> 455 | I27: =G27+(1/3*H27) -> 0
C28: Utrecht | D28: Mississippidreef 151A | E28: =+'6. Locatiekenmerken'!BC11 -> 1895 | F28: 22 | I28: =G28+(1/3*H28) -> 0
C29: Zoetermeer | D29: Zilverstraat 40 | E29: =+'6. Locatiekenmerken'!BI11 -> 2193 | I29: =G29+(1/3*H29) -> 0
C30: TOTAALPRIJS | E30: =SUM(E10:E29) -> 38284 | F30: =SUM(F10:F29) -> 82 | I30: =SUM(I10:I29) -> 0
C32: * Let op: special groenvoorziening in tab 6. Locatiekenmerken

Sheet 5. Gladheidsbestrijding
C3: Naam opdrachtgever | D3: ='1. Ondertekening'!D3 -> CBR
C4: Versienummer | D4: ='1. Ondertekening'!D4 -> 1.0
C5: Prijspeil | D5: ='1. Ondertekening'!D5 -> 46388
C6: Leverancier | D6: ='1. Ondertekening'!D6 -> 0
C9: Locatie | D9: Adres | E9: Aantal m2 terrein | F9: Prijs per ronde ma-za* | G9: Prijs per ronde zo-fe* | H9: Fictief aantal rondes ma-za** | I9: Fictief aantal rondes zo-fe** | J9: Prijs per jaar
C10: Alkmaar | D10: Olympiaweg 28 | E10: 883 | H10: 39 | I10: 5 | J10: =(F10*H10)+(G10*I10) -> 0
C11: Almelo | D11: Bedrijvenpark Twente 305 | E11: 811 | H11: 39 | I11: 5 | J11: =(F11*H11)+(G11*I11) -> 0
C12: Amsterdam | D12: Naritaweg 150 | E12: 3832 | H12: 39 | I12: 5 | J12: =(F12*H12)+(G12*I12) -> 0
C13: Apeldoorn | D13: Antillen 11 | E13: 964 | H13: 39 | I13: 5 | J13: =(F13*H13)+(G13*I13) -> 0
C14: Arnhem (Wassenaarweg) | D14: Wassenaarweg 20 | E14: 2500 | H14: 39 | I14: 5 | J14: =(F14*H14)+(G14*I14) -> 0
C15: Assen (1/Aziëweg) | D15: Aziëweg 25 | E15: 645 | H15: 39 | I15: 5 | J15: =(F15*H15)+(G15*I15) -> 0
C16: Assen (2/Overcingellaan) | D16: Overcingellaan 13 | E16: 1800 | H16: 39 | I16: 5 | J16: =(F16*H16)+(G16*I16) -> 0
C17: Barendrecht | D17: Zwaalweg 1 | E17: 1084 | H17: 39 | I17: 5 | J17: =(F17*H17)+(G17*I17) -> 0
C18: Bergen op Zoom | D18: Gagelboslaan 162 | E18: 721 | H18: 39 | I18: 5 | J18: =(F18*H18)+(G18*I18) -> 0
C19: Breda (Breepark) | D19: Bavelseparklaan 16 | E19: 3039 | H19: 39 | I19: 5 | J19: =(F19*H19)+(G19*I19) -> 0
C20: Den Bosch | D20: Hambakenwetering 13A | E20: 1910 | H20: 39 | I20: 5 | J20: =(F20*H20)+(G20*I20) -> 0
C21: Deventer | D21: Duisburgstraat 10 | E21: 883 | H21: 39 | I21: 5 | J21: =(F21*H21)+(G21*I21) -> 0
... C51: AVB Amsterdam / Schiphol | D51: Kruisweg 279 | E51: 10532 | H51: 1 | I51: 1 | J51: =(F51*H51)+(G51*I51) -> 0
C52: FICTIEVE TOTAALPRIJS | J52: =SUM(J10:J51) -> 0
C54: * Met per keer wordt hiermee 1 uitvoeringsronde bedoeld
C55: ** Fictief aantal obv gemiddelde aantallen seizoen 2025/2026
C57: Let op: Dagen lopen van 00.00 uur tot en met 23.59 van de desbetreffende dag.

Sheet 6. Locatiekenmerken
A1: Locatiekenmerkenoverzicht 3G
B2: 1 | C2: 2 | D2: 3 | E2: 4 | F2: 5 | G2: 6 (praktijk) | H2: 7 (theorie) | I2: 8 | J2: 9 | K2: 10 | L2: 11 | M2: 12 | N2: 13 | O2: 14 | P2: 15 | Q2: 16 | R2: 17 | S2: 18 | T2: 19 | U2: 20 | V2: 21 | W2: 22 | X2: 23 | Y2: 24 | Z2: 25 | AA2: 26 | AB2: 27 | AC2: 28 | AD2: 29 | AE2: 30 | AF2: 31 | AG2: 32 | AH2: 33 | AI2: 34 | AJ2: 35 | AK2: 36 | AL2: 37 | AM2: 38 | AN2: 39 | AO2: 40 | AP2: 41 | AQ2: 42 | AR2: 43 | AS2: 44 | AT2: 45 | AU2: 46 | AV2: 47 | AW2: 48 | AX2: 49 | AY2: 50 | AZ2: 51 | BA2: 52 | BB2: 53 | BC2: 54 | BD2: 55 | BE2: 56 | BF2: 57 | BG2: 58 | BH2: 59 | BI2: 60 | BJ2: 61 | BK2: 62 | BL2: 63 | BM2: 64 | BN2: 65 | BO2: 66 | BP2: 67 | BQ2: 68 | BR2: 69 | BS2: 70 | BT2: 71 | BU2: 72 | BV2: 73 | BW2: 74 | BX2: 75 | BY2: 76 | BZ2: 77 | CA2: 78 | CB2: 79 | CC2: 80 | CD2: 81 | CE2: 82
A3: Locatiekenmerken | B3: Alkmaar | C3: Almelo | D3: Amsterdam | E3: Apeldoorn | F3: Arnhem (Hazenkamp) | G3: Arnhem (Wassenaarweg) | H3: Arnhem (Bovenbeekstraat) | I3: Assen (1/Aziëweg) | J3: Assen (2/Overcingellaan) | K3: Barendrecht | L3: Bergen op Zoom | M3: Berkel Enschot | N3: Breda (Breepark) | O3: Breda (Stationsplein) | P3: Den Bosch | Q3: Den Helder | R3: Deventer | S3: Doetinchem | T3: Dordrecht | U3: Eemnes | V3: Eindhoven | W3: Emmeloord | X3: Emmen | Y3: Goes | Z3: Gouda | AA3: Groningen | AB3: Haarlem | AC3: Harderwijk | AD3: Heerenveen / Nijehaske | AE3: Hengelo | AF3: Herten (Roermond) | AG3: Hoogeveen | AH3: Hoorn | AI3: Kerkrade | AJ3: Leeuwarden | AK3: Leiden | AL3: Leusden | AM3: Meppel | AN3: Mierlo (Helmond) | AO3: Nijmegen | AP3: Rijswijk 30 (HQ) | AQ3: Rijswijk 54 | AR3: Rijswijk 60 | AS3: Rijswijk 62 | AT3: Roermond | AU3: Ritthem (Vlissingen) | AV3: Rotterdam | AW3: Schelluinen/Gorinchem | AX3: Sneek | AY3: Spijkenisse | AZ3: Terneuzen | BA3: Tiel | BB3: Urmond | BC3: Utrecht | BD3: Venlo (1/Atoniusplein) | BE3: Venlo (2/Parlevinkerweg) | BF3: Weert | BG3: Winschoten | BH3: Zaandam | BI3: Zoetermeer | BJ3: Zwolle | BK3: AVB Alkmaar | BL3: AVB Arnhem | BM3: AVB Assen | BN3: AVB Dordrecht | BO3: AVB Drachten | BP3: AVB Eindhoven | BQ3: AVB Enschede | BR3: AVB Erp | BS3: AVB Etten-Leur | BT3: AVB Goes | BU3: AVB Heerlen | BV3: AVB Lelystad | BW3: AVB Leusden | BX3: AVB Naaldwijk | BY3: AVB Rotterdam | BZ3: AVB Amsterdam / Schiphol | CA3: AVB Staphorst | CB3: AVB Susteren | CC3: AVB Venlo | CD3: AVB Wognum | CE3: Tiel CCV Truckwash
A4: Regio | B4: West | C4: Oost | D4: West | E4: Oost | F4: Oost | G4: Oost | H4: Oost | I4: Noord | J4: Noord | K4: West | L4: Zuid | M4: Zuid | N4: Zuid | O4: Zuid | P4: Zuid | Q4: West | R4: Oost | S4: Oost | T4: West | U4: West | V4: Zuid | W4: Noord | X4: Noord | Y4: Zuid | Z4: West | AA4: Noord | AB4: West | AC4: Oost | AD4: Noord | AE4: Oost | AF4: Zuid | AG4: Noord | AH4: West | AI4: Zuid | AJ4: Noord | AK4: West | AL4: Oost | AM4: Noord | AN4: Zuid | AO4: Oost | AP4: West | AQ4: West | AR4: West | AS4: West | AT4: Zuid | AU4: Zuid | AV4: West | AW4: West | AX4: Noord | AY4: West | AZ4: Zuid | BA4: Oost | BB4: Zuid | BC4: West | BD4: Zuid | BE4: Zuid | BF4: Zuid | BG4: Noord | BH4: West | BI4: West | BJ4: Noord
A5: Algemeen | F5: Sluit tijdelijk per 6-5-2026, heropent in Q1-2027 | G5: Opent tijdelijk per 6-5-2026 | H5: Opent per 6-5-2026 | S5: Sluit naar verwachting Q1 - 2027 | W5: Sluit per 01-06-2026 | AK5: Sluirt per 31-10-2026, vervangende locatie nnb | AR5: Sluit per 31-12-2026, vervangende locatie LWK 40 | AS5: Sluit per 31-12-2026, vervangende locatie LWK 40 | BD5: Sluit per 30-11-2026, vervangende locatie nnb | CE5: Sluirt per 30-09-2026, zal worden vervangen voor andere locatie in Tiel
A6: Locatiecode | B6: 040 | C6: 036 | D6: 046 | E6: 034 | F6: 048 | G6: 095 | H6: 096 | I6: 084 | J6: 022 | K6: 072 | L6: 064 | M6: 060 | N6: 098 | O6: 094 | P6: 059 | Q6: 041 | R6: 037 | S6: 050 | T6: 073 | U6: 045 | V6: 056 | W6: 029 | X6: 024 | Y6: 065 | Z6: 069 | AA6: 021 | AB6: 043 | AC6: 033 | AD6: 028 | AE6: 088 | AF6: 078 | AG6: 025 | AH6: 042 | AI6: 076 | AJ6: 026 | AK6: 071 | AL6: 031 | AM6: 030 | AN6: 057 | AO6: 049 | AP6: 068 | AQ6: 083 | AR6: 079 | AS6: 085 | AT6: 097 | AU6: 081 | AV6: 070 | AW6: 075 | AX6: 027 | AY6: 074 | AZ6: 067 | BA6: 061 | BB6: 053 | BC6: 044 | BD6: 058 | BE6: 092 | BF6: 055 | BG6: 023 | BH6: 047 | BI6: 077 | BJ6: 032 | BK6: 200 | BL6: 201 | BM6: 202 | BN6: 204 | BO6: 205 | BP6: 206 | BQ6: 207 | BR6: 208 | BS6: 209 | BT6: 210 | BU6: 212 | BV6: 214 | BW6: 215 | BX6: 216 | BY6: 218 | BZ6: 219 | CA6: 221 | CB6: 222 | CC6: 224 | CD6: 242 | CE6: 223
A7: Adres | B7: Olympiaweg 28 | C7: Bedrijvenpark Twente 305 | D7: Naritaweg 150 | E7: Antillen 11 | F7: Hazenkamp 10 | G7: Wassenaarweg 20 | H7: Bovenbeekstraat 26a | I7: Aziëweg 25 | J7: Overcingellaan 13 | K7: Zwaalweg 1 | L7: Gagelboslaan 162 | M7: Bosscheweg 11 | N7: Bavelseparklaan 16 | O7: Stationsplein 42 | P7: Hambakenwetering 13A | Q7: Nijverheidsweg 8C | R7: Duisburgstraat 10 | S7: Koopmanslaan 3 | T7: Egstraat 4 | U7: Bramenberg 6 | V7: Hoevenweg 20 | W7: Het Hooivled 9 | X7: Nijbracht 112 | Y7: M.A. de Ruijterlaan 2 | Z7: Zwolleweg 10 | AA7: Protonstraat 3 | AB7: Prof. Eijkmanlaan 2 | AC7: Tesselschadelaan 1 | AD7: Bussinesspark Friesland-West 41 | AE7: Jan Tinbergenstraat 115 | AF7: Oude Trambaan 27b | AG7: Grote Beer 20 | AH7: Holenweg 14 G | AI7: Spekhofstraat 24 | AJ7: Douwe Tammingawei 30 | AK7: Smaragdlaan 99a | AL7: Fokkerstraat 21 | AM7: Blankenstein 230 | AN7: Geldropseweg 10 | AO7: Wijchenseweg 2 | AP7: Lange Kleiweg 30 | AQ7: Lange Kleiweg 54 (b.g.) | AR7: Lange Kleiweg 60 | AS7: Lange Kleiweg 62 (5e) | AT7: Hamstraat 37 | AU7: Marie Curieweg 5b | AV7: Noorderbocht 25 | AW7: Sportlaan 2a | AX7: Smidsstraat 6 | AY7: Einsteinweg 6 | AZ7: Handelspoort 3a | BA7: Stephensonstraat 25 | BB7: Mauritslaan 49 | BC7: Mississippidreef 151A | BD7: Antoniusplein 2 | BE7: Parlevinkerweg 1 | BF7: Risseweg 46 | BG7: Zeefbaan 20A | BH7: Kuilpad 1 | BI7: Zilverstraat 40 | BJ7: Branderweg 15 | BK7: Olympiaweg 28 | BL7: Batavierenweg 25D | BM7: De Haar 9 | BN7: Krommedijk 210 | BO7: De Knobben 100 | BP7: Park Forum 1362 | BQ7: Colosseum 65 (terrein Aqua Twente) | BR7: Bussele 6 | BS7: Hoevenseweg 39 | BT7: Olympiastraat 3 | BU7: Beitel 94 | BV7: Talingweg 76 | BW7: Plesmanstraat 1 | BX7: De Hoge Bomen 4 | BY7: Charles Binghamweg 98 | BZ7: Kruisweg 279 | CA7: Viaductweg 1 | CB7: Baakhoverweg 45 | CC7: James Cookweg 31 | CD7: Nieuweweg 24B | CE7: De Prinsenhof 2
A8: Postcode | B8: 1816 MJ | C8: 7602 KL | D8: 1043 CA | E8: 7333 PE | F8: 6836 BA | G8: 6843 NW | H8: 6823 GB | I8: 9407 TC | J8: 9401 LA | K8: 2991 ZC | L8: 4623 AH | M8: 5056 PP | N8: 4817 ZX | O8: 4811 BB | P8: 5231 DD | Q8: 1784 AP | R8: 7418 BK | S8: 7005 BK | T8: 3319 LA | U8: 3655 BX | V8: 5652 AW | W8: 8302 AE | X8: 7821 CE | Y8: 4461 GE | Z8: 2803 PS | AA8: 9743 AL | AB8: 2035 XB | AC8: 3842 GA | AD8: 8448 MT | AE8: 7559 SP | AF8: 6049 GT | AG8: 7904 LW | AH8: 1624 PB | AI8: 6466 LZ | AJ8: 8914 BK | AK8: 2332 JP | AL8: 3833 LD | AM8: 7943 PG | AN8: 5731 AM | AO8: 6537 TL | AP8: 2288 GK | AQ8: 2292 GK | AR8: 2289 GK | AS8: 2291 GK | AT8: 6041 HA | AU8: 4389 WB | AV8: 3039 MA | AW8: 4209 AX | AX8: 8601 WB | AY8: 3208 KK | AZ8: 4538 BN | BA8: 4004 JA | BB8: 6129 EL | BC8: 3565 CE | BD8: 5921 GV | BE8: 5928 NV | BF8: 6004 RM | BG8: 9672 BN | BH8: 1509 AS | BI8: 2718 RK | BJ8: 8042 PD | BK8: 1816 MJ | BL8: 6841 HN | BM8: 9405 TE | BN8: 3312 LH | BO8: 9202 XJ | BP8: 5657 HM | BQ8: 7521 PP | BR8: 5469 DT | BS8: 4877 LA | BT8: 4462 GG | BU8: 6422 PB | BV8: 8218 NX | BW8: 3833 LA | BX8: 2641 NZ | BY8: 3077 PZ | BZ8: 1437 CE | CA8: 7951 AZ | CB8: 6114 RG | CC8: 5928 LJ | CD8: 1687 BA | CE8: 4004 LN
A9: Huur/Eigendom | B9: Eigendom | C9: Huur | D9: Eigendom | E9: Huur | F9: Eigendom | G9: Huur | H9: Huur | I9: Huur | J9: Huur | K9: Huur | L9: Huur | M9: Huur | N9: Huur | O9: Huur | P9: Huur | Q9: Huur | R9: Huur | S9: Huur | T9: Huur | U9: Huur | V9: Eigendom | W9: Huur | X9: Huur | Y9: Huur | Z9: Huur | AA9: Huur | AB9: Huur | AC9: Huur | AD9: Huur | AE9: Huur | AF9: Huur | AG9: Huur | AH9: Huur | AI9: Huur | AJ9: Huur | AK9: Huur | AL9: Eigendom | AM9: Huur | AN9: Huur | AO9: Eigendom | AP9: Eigendom | AQ9: Huur | AR9: Huur | AS9: Huur | AT9: Huur | AU9: Huur | AV9: Eigendom | AW9: Huur | AX9: Huur | AY9: Huur | AZ9: Huur | BA9: Huur | BB9: Huur | BC9: Eigendom | BD9: Huur | BE9: Huur | BF9: Huur | BG9: Huur | BH9: Huur | BI9: Huur | BJ9: Huur | BK9: Eigendom | BL9: Huur | BM9: Huur | BN9: Huur | BO9: Huur | BP9: Huur | BQ9: Huur | BR9: Huur | BS9: Huur | BT9: Huur | BU9: Huur | BV9: Huur | BW9: Huur | BX9: Huur | BY9: Huur | BZ9: Huur | CA9: Huur | CB9: Huur | CC9: Huur | CD9: Huur | CE9: Huur
A10: Type locatie | B10: B | C10: C | D10: A | E10: C | F10: A | G10: D + C | H10: E | I10: C | J10: D | K10: B | L10: C | M10: C | N10: C | O10: E | P10: C | Q10: C | R10: B | S10: C | T10: C | U10: C | V10: A | W10: C | X10: C | Y10: B | Z10: C | AA10: B | AB10: B | AC10: C | AD10: C | AE10: B | AF10: C | AG10: B | AH10: C | AI10: C | AJ10: B | AK10: C | AL10: B | AM10: C | AN10: C | AO10: C | AP10: A | AQ10: D | AR10: D | AS10: D | AT10: E | AU10: C | AV10: C | AW10: B | AX10: C | AY10: C | AZ10: C | BA10: C | BB10: C | BC10: B | BD10: E | BE10: C | BF10: C | BG10: C | BH10: C | BI10: C | BJ10: B | BK10: AVB | BL10: AVB | BM10: AVB | BN10: AVB | BO10: AVB | BP10: AVB | BQ10: AVB | BR10: AVB | BS10: AVB | BT10: AVB | BU10: AVB | BV10: AVB | BW10: AVB | BX10: AVB | BY10: AVB | BZ10: AVB | CA10: AVB | CB10: AVB | CC10: AVB | CD10: AVB | CE10: CCV
A11: Aantal m2 terrein | B11: 883 | C11: 811 | D11: 3832 | E11: 964 | F11: 3200 | G11: 2500 | I11: 645 | J11: 1800 | K11: 1084 | L11: 721 | M11: 943 | N11: 3039 | P11: 1910 | R11: 883 | S11: 1061 | T11: 799 | U11: 2047 | V11: 2912 | W11: 572 | X11: 760 | Y11: 972 | Z11: 667 | AA11: 2080 | AB11: 1099 | AD11: 983 | AF11: 1397 | AI11: 1710 | AJ11: 2428 | AL11: 3787 | AM11: 478 | AN11: 624 | AO11: 2109 | AP11: 2388 | AU11: 875 | AV11: 3000 | AW11: 938 | AY11: 638 | AZ11: 455 | BA11: 1745 | BC11: 1895 | BE11: 482 | BF11: 734 | BG11: 516 | BI11: 2193 | BJ11: 1604 | BZ11: 10532
A12: Aantal bomen | B12: 2 | D12: 1 | F12: 6 | I12: 3 | R12: 3 | V12: 6 | Z12: 6 | AA12: 4 | AO12: 14 | AP12: 6 | AV12: 9 | BC12: 22
A13: Aantallen theorieexamens per jaar (2025) | B13: 48162 | C13: 0 | D13: 86695 | E13: 0 | F13: 61915 | G13: 0 | H13: 0 | I13: 0 | J13: 0 | K13: 79517 | L13: 0 | M13: 0 | N13: 52674 | O13: 0 | P13: 0 | Q13: 0 | R13: 22813 | S13: 0 | T13: 0 | U13: 0 | V13: 69856 | W13: 0 | X13: 0 | Y13: 26859 | Z13: 0 | AA13: 38403 | AB13: 40112 | AC13: 0 | AD13: 0 | AE13: 35761 | AF13: 0 | AG13: 18667 | AH13: 0 | AI13: 0 | AJ13: 29996 | AK13: 0 | AL13: 39733 | AM13: 0 | AN13: 0 | AO13: 0 | AP13: 86534 | AQ13: 0 | AR13: 0 | AS13: 0 | AT13: 4417 | AU13: 0 | AV13: 0 | AW13: 29781 | AX13: 0 | AY13: 0 | AZ13: 0 | BA13: 0 | BB13: 0 | BC13: 69398 | BD13: 20336 | BE13: 0 | BF13: 0 | BG13: 0 | BH13: 0 | BI13: 0 | BJ13: 44392
A14: Aantallen praktijkexamens per jaar (2025) | B14: 15607 | C14: 8983 | D14: 36019 | E14: 8641 | F14: 18576 | G14: 0 | H14: 0 | I14: 7401 | J14: 0 | K14: 21782 | L14: 5893 | M14: 14864 | N14: 14058 | O14: 0 | P14: 20236 | Q14: 5365 | R14: 8332 | S14: 10593 | T14: 12691 | U14: 18083 | V14: 16970 | W14: 9620 | X14: 7046 | Y14: 6359 | Z14: 11205 | AA14: 12560 | AB14: 18564 | AC14: 9164 | AD14: 8142 | AE14: 16997 | AF14: 0 | AG14: 5358 | AH14: 11708 | AI14: 7493 | AJ14: 12359 | AK14: 19539 | AL14: 19949 | AM14: 5183 | AN14: 12968 | AO14: 14599 | AP14: 32428 | AQ14: 0 | AR14: 0 | AS14: 0 | AT14: 4760 | AU14: 4382 | AV14: 22498 | AW14: 8718 | AX14: 3780 | AY14: 10152 | AZ14: 3239 | BA14: 12815 | BB14: 4863 | BC14: 29892 | BD14: 0 | BE14: 7531 | BF14: 3687 | BG14: 8637 | BH14: 12981 | BI14: 15584 | BJ14: 12164
A15: Aantallen kantoorpersoneel (2026) | B15: 4 | C15: 2 | D15: 8 | G15: 239 | I15: 3 | K15: 2 | N15: 2 | O15: 5 | P15: 7 | T15: 1 | U15: 1 | V15: 29 | W15: 1 | X15: 2 | Y15: 3 | Z15: 1 | AA15: 2 | AB15: 1 | AC15: 1 | AD15: 1 | AE15: 3 | AF15: 1 | AG15: 1 | AH15: 4 | AJ15: 2 | AK15: 2 | AL15: 20 | AO15: 16 | AP15: 499 | AR15: 188 | AS15: 4 | AT15: 1 | AV15: 3 | AW15: 1 | BA15: 1 | BC15: 3 | BE15: 2 | BF15: 2 | BI15: 1 | BJ15: 5
A16: Aantallen examinatoren (2026) | B16: 20 | C16: 7 | D16: 34 | E16: 8 | G16: 19 | I16: 10 | K16: 17 | L16: 10 | M16: 14 | N16: 14 | P16: 18 | Q16: 4 | R16: 9 | S16: 8 | T16: 14 | U16: 19 | V16: 15 | W16: 6 | X16: 6 | Y16: 7 | Z16: 9 | AA16: 12 | AB16: 14 | AC16: 10 | AD16: 8 | AE16: 17 | AF16: 9 | AG16: 6 | AH16: 8 | AI16: 6 | AJ16: 14 | AK16: 20 | AL16: 18 | AM16: 3 | AN16: 13 | AO16: 17 | AP16: 30 | AT16: 9 | AU16: 5 | AV16: 22 | AW16: 8 | AX16: 3 | AY16: 8 | AZ16: 1 | BA16: 12 | BB16: 6 | BC16: 23 | BE16: 7 | BF16: 2 | BG16: 7 | BH16: 10 | BI16: 20 | BJ16: 10
A17: Aantallen theoriemedewerkers (2026) | B17: 3 | D17: 17 | H17: 8 | K17: 8 | O17: 6 | R17: 5 | V17: 15 | Y17: 3 | AA17: 5 | AB17: 3 | AE17: 6 | AF17: 4 | AG17: 3 | AJ17: 5 | AL17: 5 | AP17: 13 | AT17: 4 | AW17: 3 | BC17: 11 | BE17: 3 | BJ17: 7
A18: Tijdstip openingsronde | B18: 07.30 | C18: 07.30 | D18: 06.30 | E18: 07.30 | F18: 06.00 | G18: 06.00 | H18: 07.30 | I18: 07.30 | J18: 07.30 | K18: 07.30 | L18: 07.30 | M18: 07.30 | N18: 07.30 | O18: 07.30 | P18: 07.30 | Q18: 07.30 | R18: 07.30 | S18: 07.30 | T18: 07.30 | U18: 07.30 | V18: 07.30 | W18: 07.30 | X18: 07.30 | Y18: 07.30 | Z18: 07.30 | AA18: 07.30 | AB18: 07.30 | AC18: 07.30 | AD18: 07.30 | AE18: 07.30 | AF18: 07.30 | AG18: 07.30 | AH18: 07.30 | AI18: 07.30 | AJ18: 07.30 | AK18: 07.30 | AL18: 07.00 | AM18: 07.30 | AN18: 07.30 | AO18: 07.30 | AP18: 06.30 | AQ18: 06.30 | AR18: 06.30 | AS18: 06.30 | AT18: 07.30 | AU18: 07.30 | AV18: 06.30 | AW18: 07.30 | AX18: 07.30 | AY18: 07.30 | AZ18: 07.30 | BA18: 07.30 | BB18: 07.00 | BC18: 07.30 | BD18: 07.30 | BE18: 07.30 | BF18: 07.30 | BG18: 07.30 | BH18: 07.30 | BI18: 06.00 | BJ18: 07.30 | BK18: - | BL18: - | BM18: - | BN18: - | BO18: - | BP18: - | BQ18: - | BR18: - | BS18: - | BT18: - | BV18: - | BW18: - | BX18: - | BY18: - | BZ18: - | CA18: - | CB18: - | CC18: - | CE18: -
A19: Tijdstip sluitronde | B19: 17.00 | C19: 17.00 | D19: 18.30 | E19: 17.00 | F19: 20.00 | G19: 20.00 | H19: 17.00 | I19: 17.00 | J19: 17.00 | K19: 17.00 | L19: 17.00 | M19: 17.00 | N19: 17.00 | O19: 17.00 | P19: 17.00 | Q19: 17.00 | R19: 17.00 | S19: 17.00 | T19: 17.00 | U19: 17.00 | V19: 19.00 | W19: 18.00 | X19: 17.00 | Y19: 17.00 | Z19: 17.00 | AA19: 17.00 | AB19: 17.00 | AC19: 17.00 | AD19: 17.00 | AE19: 17.00 | AF19: 17.00 | AG19: 21.00 | AH19: 17.00 | AI19: 17.00 | AJ19: 17.00 | AK19: 17.00 | AL19: 17.00 | AM19: 17.00 | AN19: 17.00 | AO19: 17.00 | AP19: 20.00 | AQ19: 20.00 | AR19: 20.00 | AS19: 20.00 | AT19: 17.00 | AU19: 17.00 | AV19: 17.00 | AW19: 17.00 | AX19: 17.00 | AY19: 17.00 | AZ19: 17.00 | BA19: 17.00 | BB19: 17.00 | BC19: 21.00 | BD19: 17.00 | BE19: 17.00 | BF19: 17.00 | BG19: 17.00 | BH19: 17.00 | BI19: 17.00 | BJ19: 17.00 | BK19: - | BL19: - | BM19: - | BN19: - | BO19: - | BP19: - | BQ19: - | BR19: - | BS19: - | BT19: - | BV19: - | BW19: - | BX19: - | BY19: - | BZ19: - | CA19: - | CB19: - | CC19: - | CE19: -
A20: Verantwoordelijke sluiten | B20: CBR | C20: Beheerder | D20: Beveiliging | E20: CBR | F20: Beveiliging | G20: Beveiliging | H20: CBR | I20: CBR | J20: Beveiliging | K20: CBR | L20: CBR | M20: Beheerder | N20: CBR | O20: CBR | P20: CBR | Q20: CBR | R20: CBR | S20: CBR | T20: CBR | U20: CBR | V20: Schoonmaak | W20: Beheerder | X20: CBR | Y20: Beheerder | Z20: CBR | AA20: Schoonmaak | AB20: CBR | AC20: Beheerder | AD20: CBR | AE20: CBR | AF20: CBR | AG20: Beheerder | AH20: Schoonmaak | AI20: CBR | AJ20: CBR | AK20: CBR | AL20: CBR | AM20: CBR | AN20: CBR | AO20: Schoonmaak | AP20: Beveiliging | AQ20: Beveiliging | AR20: Beveiliging | AS20: Beveiliging | AT20: CBR | AU20: CBR | AV20: Beveiliging | AW20: CBR | AX20: Beheerder | AY20: CBR | AZ20: CBR | BA20: CBR | BB20: Beheerder | BC20: Beveiliging | BD20: Beheerder | BE20: Beheerder | BF20: CBR | BG20: Beheerder | BH20: Schoonmaak | BI20: Schoonmaak | BJ20: CBR
A21: Openingstijden receptie | B21: - | C21: 07.30 - 17.00 | D21: 08.00 - 17:30 | E21: - | F21: 08.00 - 17.00 | G21: 07:30 - 17.00 | H21: - | I21: - | J21: - | K21: - | L21: - | M21: - | N21: - | O21: - | P21: - | Q21: - | R21: - | S21: - | T21: - | U21: - | V21: 08.00 - 17.00 | W21: - | X21: - | Y21: - | Z21: - | AA21: - | AB21: - | AC21: - | AD21: - | AE21: - | AF21: - | AG21: - | AH21: - | AI21: - | AJ21: - | AK21: - | AL21: - | AM21: - | AN21: - | AO21: - | AP21: 07:30 - 20:00 | AQ21: - | AR21: 08:00 - 18:00 | AS21: - | AT21: - | AU21: - | AV21: 07:00 - 18:00 | AW21: - | AX21: - | AY21: - | AZ21: - | BA21: - | BB21: - | BC21: - | BD21: - | BE21: - | BF21: - | BG21: - | BH21: - | BI21: - | BJ21: - | BK21: - | BL21: - | BM21: - | BN21: - | BO21: - | BP21: - | BQ21: - | BR21: - | BS21: - | BT21: - | BV21: - | BW21: - | BX21: - | BY21: - | BZ21: - | CA21: - | CB21: - | CC21: - | CE21: -
A22: Energielabel | B22: A+ | C22: A+ | D22: C | E22: C | I22: A++ | J22: B | K22: A | L22: Onbekend | M22: Onbekend | O22: A | P22: A | Q22: C | R22: A++ | S22: Onbekend | T22: A | U22: A+ | V22: B | X22: A | Y22: A++ | Z22: A | AA22: B | AB22: F | AC22: Onbekend | AD22: A | AE22: A+++ | AF22: A | AG22: A | AH22: A | AI22: A | AJ22: A++ | AK22: E | AL22: A+ | AM22: A | AN22: C | AO22: D | AP22: A++ | AQ22: A+ | AR22: D | AS22: C | AU22: A | AV22: A+ | AW22: A | AX22: Onbekend | AY22: B | AZ22: C | BA22: A | BB22: A+ | BC22: A++ | BD22: Onbekend | BE22: Onbekend | BF22: A+ | BG22: A | BH22: Onbekend | BI22: C | BJ22: A+ | BK22: - | BL22: - | BM22: - | BN22: - | BO22: - | BP22: - | BQ22: - | BR22: - | BS22: - | BT22: - | BV22: - | BW22: - | BX22: - | BY22: - | BZ22: - | CA22: - | CB22: - | CC22: - | CD22: - | CE22: -
A23: Parkeergelegenheid buiten | B23: Ja | C23: Ja | D23: Ja | E23: Ja | F23: Ja | G23: Ja | H23: Nee | I23: Ja | J23: Ja | K23: Ja | L23: Ja | M23: Ja | N23: Ja | O23: Nee | P23: Ja | Q23: Ja | R23: Ja | S23: Ja | T23: Ja | U23: Ja | V23: Ja | W23: Ja | X23: Ja | Y23: Ja | Z23: Ja | AA23: Ja | AB23: Ja | AC23: Ja | AD23: Ja | AE23: Ja | AF23: Ja | AG23: Ja | AH23: Ja | AI23: Ja | AJ23: Ja | AK23: Ja | AL23: Ja | AM23: Ja | AN23: Ja | AO23: Ja | AP23: Ja | AQ23: Ja | AR23: Ja | AS23: Ja | AT23: Nee | AU23: Ja | AV23: Ja | AW23: Ja | AX23: Ja | AY23: Ja | AZ23: Ja | BA23: Ja | BB23: Ja | BC23: Ja | BD23: Ja | BE23: Ja | BF23: Ja | BG23: Ja | BH23: Ja | BI23: Ja | BJ23: Ja | BK23: Ja | BL23: Ja | BM23: Ja | BN23: Ja | BO23: Ja | BP23: Ja | BQ23: Ja | BR23: Ja | BS23: Ja | BT23: Ja | BV23: Ja | BW23: Ja | BX23: Ja | BY23: Ja | BZ23: Ja | CA23: Ja | CB23: Ja | CC23: Ja | CD23: Ja | CE23: Ja
A24: Parkeergarage | B24: Nee | C24: Nee | D24: Ja | E24: Nee | F24: Nee | G24: Nee | H24: Nee | I24: Nee | J24: Nee | K24: Nee | L24: Nee | M24: Nee | N24: Nee | O24: Nee | P24: Nee | Q24: Nee | R24: Nee | S24: Nee | T24: Nee | U24: Nee | V24: Ja | W24: Nee | X24: Nee | Y24: Nee | Z24: Nee | AA24: Nee | AB24: Nee | AC24: Nee | AD24: Nee | AE24: Nee | AF24: Nee | AG24: Nee | AH24: Nee | AI24: Nee | AJ24: Nee | AK24: Nee | AL24: Ja | AM24: Nee | AN24: Nee | AO24: Nee | AP24: Ja | AQ24: Nee | AR24: Nee | AS24: Nee | AT24: Nee | AU24: Nee | AV24: Nee | AW24: Nee | AX24: Nee | AY24: Nee | AZ24: Nee | BA24: Nee | BB24: Nee | BC24: Nee | BD24: Nee | BE24: Nee | BF24: Nee | BG24: Nee | BH24: Nee | BI24: Nee | BJ24: Nee | BK24: Nee | BL24: Nee | BM24: Nee | BN24: Nee | BO24: Nee | BP24: Nee | BQ24: Nee | BR24: Nee | BS24: Nee | BT24: Nee | BV24: Nee | BW24: Nee | BX24: Nee | BY24: Nee | BZ24: Nee | CA24: Nee | CB24: Nee | CC24: Nee | CD24: Nee | CE24: Nee
A25: Cursuslocatie (Trafieq) | B25: Nee | C25: Nee | D25: Ja | E25: Nee | F25: Nee | G25: Nee | H25: Nee | I25: Nee | J25: Ja | K25: Nee | L25: Nee | M25: Nee | N25: Nee | O25: Nee | P25: Nee | Q25: Nee | R25: Nee | S25: Nee | T25: Nee | U25: Nee | V25: Ja | W25: Nee | X25: Nee | Y25: Nee | Z25: Nee | AA25: Nee | AB25: Nee | AC25: Nee | AD25: Nee | AE25: Nee | AF25: Nee | AG25: Nee | AH25: Nee | AI25: Nee | AJ25: Nee | AK25: Nee | AL25: Nee | AM25: Nee | AN25: Nee | AO25: Nee | AP25: Nee | AQ25: Nee | AR25: Nee | AS25: Nee | AT25: Nee | AU25: Nee | AV25: Ja | AW25: Nee | AX25: Nee | AY25: Nee | AZ25: Nee | BA25: Nee | BB25: Nee | BC25: Ja | BD25: Nee | BE25: Nee | BF25: Nee | BG25: Nee | BH25: Nee | BI25: Nee | BJ25: Ja
A26: 3G
A27: Groenvoorziening buiten o.b.v. beeldniveau | B27: Ja, B | C27: Nee | D27: Ja, A | E27: Ja, B | F27: Ja, A (tijdelijk C)* | G27: Ja, B | H27: Nee | I27: Ja, B | J27: Nee | K27: Ja, B | L27: Nee | M27: Nee | N27: Nee | O27: Nee | P27: Nee | Q27: Nee | R27: Ja, B | S27: Ja, B | T27: Nee | U27: Ja, B | V27: Ja, A | W27: Nee | X27: Ja, B | Y27: Nee | Z27: Ja, B | AA27: Ja, B | AB27: Nee | AC27: Nee | AD27: Nee | AE27: Nee | AF27: Nee | AG27: Nee | AH27: Nee | AI27: Nee | AJ27: Nee | AK27: Nee | AL27: Ja, B | AM27: Nee | AN27: Nee | AO27: Ja, B | AP27: Ja, A+ | AQ27: Nee | AR27: Nee | AS27: Nee | AT27: Nee | AU27: Nee | AV27: Ja, B | AW27: Nee | AX27: Nee | AY27: Nee | AZ27: Ja, B | BA27: Nee | BB27: Nee | BC27: Ja, B | BD27: Nee | BE27: Nee | BF27: Nee | BG27: Nee | BH27: Nee | BI27: Ja, B | BJ27: Nee | BK27: Nee | BL27: Nee | BM27: Nee | BN27: Nee | BO27: Nee | BP27: Nee | BQ27: Nee | BR27: Nee | BS27: Nee | BT27: Nee | BU27: Nee | BV27: Nee | BW27: Ja, B | BX27: Nee | BY27: Nee | BZ27: Nee | CA27: Nee | CB27: Nee | CC27: Nee | CD27: Nee | CE27: Nee
A28: Groenvoorziening binnen | B28: Nee | C28: Nee | D28: Nee | E28: Nee | F28: Ja | G28: Ja | H28: Nee | I28: Nee | J28: Nee | K28: Nee | L28: Nee | M28: Nee | N28: Nee | O28: Nee | P28: Nee | Q28: Nee | R28: Nee | S28: Nee | T28: Nee | U28: Nee | V28: Nee | W28: Nee | X28: Nee | Y28: Nee | Z28: Nee | AA28: Nee | AB28: Nee | AC28: Nee | AD28: Nee | AE28: Nee | AF28: Nee | AG28: Nee | AH28: Nee | AI28: Nee | AJ28: Nee | AK28: Nee | AL28: Nee | AM28: Nee | AN28: Nee | AO28: Ja | AP28: Ja | AQ28: Nee | AR28: Ja | AS28: Ja | AT28: Nee | AU28: Nee | AV28: Nee | AW28: Nee | AX28: Nee | AY28: Nee | AZ28: Nee | BA28: Nee | BB28: Nee | BC28: Nee | BD28: Nee | BE28: Nee | BF28: Nee | BG28: Nee | BH28: Nee | BI28: Nee | BJ28: Nee | BK28: Nee | BL28: Nee | BM28: Nee | BN28: Nee | BO28: Nee | BP28: Nee | BQ28: Nee | BR28: Nee | BS28: Nee | BT28: Nee | BU28: Nee | BV28: Nee | BW28: Nee | BX28: Nee | BY28: Nee | BZ28: Nee | CA28: Nee | CB28: Nee | CC28: Nee | CD28: Nee | CE28: Nee
A29: Gladheidsbestrijding | B29: Ja | C29: Ja | D29: Ja | E29: Ja | F29: Ja | G29: Ja | H29: Nee | I29: Ja | J29: Ja | K29: Ja | L29: Ja | M29: Nee | N29: Ja | O29: Nee | P29: Ja | Q29: Nee | R29: Ja | S29: Ja | T29: Ja | U29: Ja | V29: Ja | W29: Nee | X29: Ja | Y29: Ja | Z29: Ja | AA29: Ja | AB29: Ja | AC29: Nee | AD29: Ja | AE29: Nee | AF29: Ja | AG29: Nee | AH29: Nee | AI29: Ja | AJ29: Ja | AK29: Nee | AL29: Ja | AM29: Ja | AN29: Ja | AO29: Ja | AP29: Ja | AQ29: Nee | AR29: Nee | AS29: Nee | AT29: Nee | AU29: Ja | AV29: Ja | AW29: Ja | AX29: Nee | AY29: Ja | AZ29: Ja | BA29: Ja | BB29: Nee | BC29: Ja | BD29: Nee | BE29: Ja | BF29: Ja | BG29: Ja | BH29: Nee | BI29: Ja | BJ29: Ja | BK29: Nee | BL29: Nee | BM29: Nee | BN29: Nee | BO29: Nee | BP29: Nee | BQ29: Nee | BR29: Nee | BS29: Nee | BT29: Nee | BU29: Nee | BV29: Nee | BW29: Nee | BX29: Nee | BY29: Nee | BZ29: Ja, op afroep | CA29: Nee | CB29: Nee | CC29: Nee | CD29: Nee | CE29: Nee
A30: Overige
A31: Specials groenvoorziening buiten | D31: Bakken buitenzijde pand - bewateren | F31: * tijdens sluiting wel groenonderhoud
