Workbook

Sheet Productgroepen
B2: Nr. | C2: Productgroep | D2: Omschrijving
B3: 1 | C3: Koffie, thee en automateningrediënten | D3: Onder deze productgroep vallen alle producten die nodig zijn voor koffie- en theevoorzieningen en koffieautomaten. Hierbij kan worden gedacht aan koffiebonen, gemalen koffie, thee, cacao, topping, creamer, melkpoeder, suikersticks en overige ingrediënten die nodig zijn voor het gebruik van koffieautomaten.
B4: 2 | C4: Dranken & Alcohol | D4: Onder deze productgroep vallen alle drinkwaren, waaronder frisdranken, water, sappen, zuiveldranken, siropen en overige alcoholvrije dranken. Ook alcoholhoudende dranken vallen onder deze productgroep, voor zover deze onderdeel uitmaken van het kernassortiment en binnen de opdracht worden afgenomen.
B5: 3 | C5: Brood & banket | D5: Onder deze productgroep vallen broodproducten en banketproducten die worden gebruikt binnen de cateringvoorziening. Hierbij kan worden gedacht aan brood, broodjes, stokbrood, wraps, croissants, gebak, cake, taart en vergelijkbare producten.
B6: 4 | C6: Koek en zoetwaren | D6: Onder deze productgroep vallen koek, snoep, chocolade en overige zoete tussendoorproducten. Deze productgroep ziet op producten die niet direct onder brood of banket vallen, maar wel regelmatig worden gebruikt binnen de cateringvoorziening.
B7: 5 | C7: Zuivel | D7: Onder deze productgroep vallen zuivelproducten en plantaardige zuivelalternatieven. Hierbij kan worden gedacht aan melk, yoghurt, kwark, room, boter, plantaardige melkvervangers en vergelijkbare producten.
B8: 6 | C8: Kaas en eieren | D8: Onder deze productgroep vallen kaasproducten en eieren. Hierbij kan worden gedacht aan plakken kaas, geraspte kaas, roomkaas, overige kaasproducten en eieren in verschillende vormen of verpakkingen.
B9: 7 | C9: Groente, fruit, salades en versproducten | D9: Onder deze productgroep vallen verse producten zoals groente, fruit, aardappelen, salades en overige versproducten die worden gebruikt voor bereiding, presentatie of directe consumptie binnen de cateringvoorziening.
B10: 8 | C10: Vlees, vis, gevogelte en vegetarisch/vegan | D10: Onder deze productgroep vallen vleesproducten, visproducten, gevogelte en vegetarische of veganistische alternatieven. Hierbij kan worden gedacht aan vleeswaren, vis, kipproducten, vleesvervangers, vegan producten en overige eiwitrijke maaltijd- of belegcomponenten.
B11: 9 | C11: Snacks, diepvries en maaltijdcomponenten | D11: Onder deze productgroep vallen snacks, diepvriesproducten en producten die worden gebruikt als maaltijdcomponent of convenienceproduct. Hierbij kan worden gedacht aan bittergarnituur, warme snacks, diepvriesproducten, kant-en-klare of deels bereide producten en overige producten die snel kunnen worden verwerkt of geserveerd.
B12: 10 | C12: Droge waren | D12: Onder deze productgroep vallen houdbare basisproducten en droge ingrediënten die vooral worden gebruikt voor bereiding van gerechten. Hierbij kan worden gedacht aan pasta, rijst, couscous, bloem, granen, peulvruchten, ontbijtgranen, paneermeel en vergelijkbare droge producten.
B13: 11 | C13: Kruidenierswaren, sauzen en smaakmakers | D13: Onder deze productgroep vallen overige houdbare levensmiddelen en producten die worden gebruikt voor bereiding, smaaktoevoeging of afwerking van gerechten. Hierbij kan worden gedacht aan mayonaise, ketchup, mosterd, dressings, olie, azijn, kruiden, specerijen, peper, zout, bouillon, conserven en vergelijkbare kruidenierswaren.
B14: 12 | C14: Non-food cateringproducten | D14: Onder deze productgroep vallen non-foodproducten die direct verband houden met de cateringvoorziening. Hierbij kan worden gedacht aan disposables, servetten, bekers, verpakkingsmateriaal, folie, zakken, schoonmaak- en hygiëneproducten voor cateringgebruik en kleine cateringbenodigdheden. Producten zonder directe relatie met de cateringvoorziening vallen niet onder deze productgroep.

Sheet Inschrijvingsoverzicht
C2: Prijzenblad - SWF 25107
C3: Aanbesteding Levering Cateringproducten gemeente Súdwest-Fryslân
B6: Onderdeel | C6: Levering Cateringproducten | D6: Totaal prijs kernassortiment | E6: Gewogen kortingspercentage randassortiment | F6: Bruto waarde randassortiment | G6: Fictieve korting randassortiment | H6: Totaal incl. korting
B7: A.1 | C7: Koffie, thee en automateningrediënten | D7: =SUMIF(KernTable[Productgroep],Inschrijvingsoverzicht!C7,KernTable[Totaalprijs o.b.v. jaarverbruik excl. btw]) -> 0 | E7: ='Randassortiment SWF'!D7*J30 -> #DIV/0! | F7: =125000*J30 -> #DIV/0! | G7: =125000*E7 -> #DIV/0! | H7: =D7+F7-G7 -> #DIV/0! | I7: totaal = D + F - G
B8: A.2 | C8: Dranken & Alcohol | D8: =SUMIF(KernTable[Productgroep],Inschrijvingsoverzicht!C8,KernTable[Totaalprijs o.b.v. jaarverbruik excl. btw]) -> 0 | E8: ='Randassortiment SWF'!D8*J31 -> #DIV/0! | F8: =125000*J31 -> #DIV/0! | G8: =125000*E8 -> #DIV/0! | H8: =D8+F8-G8 -> #DIV/0! | I8: totaal = D + F - G
B9: A.3 | C9: Brood & banket | D9: =SUMIF(KernTable[Productgroep],Inschrijvingsoverzicht!C9,KernTable[Totaalprijs o.b.v. jaarverbruik excl. btw]) -> 0 | E9: ='Randassortiment SWF'!D9*J32 -> #DIV/0! | F9: =125000*J32 -> #DIV/0! | G9: =125000*E9 -> #DIV/0! | H9: =D9+F9-G9 -> #DIV/0! | I9: totaal = D + F - G
B10: A.4 | C10: Koek en zoetwaren | D10: =SUMIF(KernTable[Productgroep],Inschrijvingsoverzicht!C10,KernTable[Totaalprijs o.b.v. jaarverbruik excl. btw]) -> 0 | E10: ='Randassortiment SWF'!D10*J33 -> #DIV/0! | F10: =125000*J33 -> #DIV/0! | G10: =125000*E10 -> #DIV/0! | H10: =D10+F10-G10 -> #DIV/0! | I10: totaal = D + F - G
B11: A.5 | C11: Zuivel | D11: =SUMIF(KernTable[Productgroep],Inschrijvingsoverzicht!C11,KernTable[Totaalprijs o.b.v. jaarverbruik excl. btw]) -> 0 | E11: ='Randassortiment SWF'!D11*J34 -> #DIV/0! | F11: =125000*J34 -> #DIV/0! | G11: =125000*E11 -> #DIV/0! | H11: =D11+F11-G11 -> #DIV/0! | I11: totaal = D + F - G
B12: A.6 | C12: Kaas en eieren | D12: =SUMIF(KernTable[Productgroep],Inschrijvingsoverzicht!C12,KernTable[Totaalprijs o.b.v. jaarverbruik excl. btw]) -> 0 | E12: ='Randassortiment SWF'!D12*J35 -> #DIV/0! | F12: =125000*J35 -> #DIV/0! | G12: =125000*E12 -> #DIV/0! | H12: =D12+F12-G12 -> #DIV/0! | I12: totaal = D + F - G
B13: A.7 | C13: Groente, fruit, salades en versproducten | D13: =SUMIF(KernTable[Productgroep],Inschrijvingsoverzicht!C13,KernTable[Totaalprijs o.b.v. jaarverbruik excl. btw]) -> 0 | E13: ='Randassortiment SWF'!D13*J36 -> #DIV/0! | F13: =125000*J36 -> #DIV/0! | G13: =125000*E13 -> #DIV/0! | H13: =D13+F13-G13 -> #DIV/0! | I13: totaal = D + F - G
B14: A.8 | C14: Vlees, vis, gevogelte en vegetarisch/vegan | D14: =SUMIF(KernTable[Productgroep],Inschrijvingsoverzicht!C14,KernTable[Totaalprijs o.b.v. jaarverbruik excl. btw]) -> 0 | E14: ='Randassortiment SWF'!D14*J37 -> #DIV/0! | F14: =125000*J37 -> #DIV/0! | G14: =125000*E14 -> #DIV/0! | H14: =D14+F14-G14 -> #DIV/0! | I14: totaal = D + F - G
B15: A.9 | C15: Snacks, diepvries en maaltijdcomponenten | D15: =SUMIF(KernTable[Productgroep],Inschrijvingsoverzicht!C15,KernTable[Totaalprijs o.b.v. jaarverbruik excl. btw]) -> 0 | E15: ='Randassortiment SWF'!D15*J38 -> #DIV/0! | F15: =125000*J38 -> #DIV/0! | G15: =125000*E15 -> #DIV/0! | H15: =D15+F15-G15 -> #DIV/0! | I15: totaal = D + F - G
B16: A.10 | C16: Droge waren | D16: =SUMIF(KernTable[Productgroep],Inschrijvingsoverzicht!C16,KernTable[Totaalprijs o.b.v. jaarverbruik excl. btw]) -> 0 | E16: ='Randassortiment SWF'!D16*J39 -> #DIV/0! | F16: =125000*J39 -> #DIV/0! | G16: =125000*E16 -> #DIV/0! | H16: =D16+F16-G16 -> #DIV/0! | I16: totaal = D + F - G
B17: A.11 | C17: Kruidenierswaren, sauzen en smaakmakers | D17: =SUMIF(KernTable[Productgroep],Inschrijvingsoverzicht!C17,KernTable[Totaalprijs o.b.v. jaarverbruik excl. btw]) -> 0 | E17: ='Randassortiment SWF'!D17*J40 -> #DIV/0! | F17: =125000*J40 -> #DIV/0! | G17: =125000*E17 -> #DIV/0! | H17: =D17+F17-G17 -> #DIV/0! | I17: totaal = D + F - G
B18: A.12 | C18: Non-food cateringproducten | D18: =SUMIF(KernTable[Productgroep],Inschrijvingsoverzicht!C18,KernTable[Totaalprijs o.b.v. jaarverbruik excl. btw]) -> 0 | E18: ='Randassortiment SWF'!D18*J41 -> #DIV/0! | F18: =125000*J41 -> #DIV/0! | G18: =125000*E18 -> #DIV/0! | H18: =D18+F18-G18 -> #DIV/0! | I18: totaal = D + F - G
B19: A.13 | C19: Overig (s.v.p. nader toelichten) | D19: 0 | H19: 0
C20: TOTAAL | D20: =SUM(D7:D19) -> 0 | E20: =SUM(E7:E18) -> #DIV/0! | F20: =SUM(F7:F18) -> #DIV/0! | G20: =125000-SUM(G7:G18) -> #DIV/0!
B22: Totaal A | C22: TOTALE FICTIEVE INSCHRIJVINGSPRIJS | H22: =SUM(H7:H19) -> #DIV/0!
C23: TOTALE FICTIEVE INSCHRIJVINGSPRIJS (inclusief BTW) | H23: =H22*1.21 -> #DIV/0!
M24: =J45*(1-K47) -> #DIV/0!
C25: Toelichting prijzenblad:
B26: - | C26: Gebruik voor invulling van de prijzen het Prijsinvulformulier
B27: - | C27: Alle vermelden prijzen en tarieven dienen gesteld te zijn in euro’s, exclusief btw;
B28: - | C28: De prijs is aangeboden in euro’s (€) tot op 2 decimalen achter de komma;
B29: - | C29: Het is op geen enkele regel toegestaan om een negatieve prijs of een 'nulprijs' te offreren.
B30: - | C30: Inschrijver is desgevraagd in staat de bedrijfseconomische realiteit van de aangeboden prijzen te onderbouwen, ook op onderdelen; | H30: =D7-G7 -> #DIV/0! | J30: =D7/$J$45 -> #DIV/0! | K30: =D7*(1-E7) -> #DIV/0!
B31: - | C31: De aangeboden prijzen zijn ook geldig voor eventuele uitbreidingen; | H31: =D8-G8 -> #DIV/0! | J31: =D8/$J$45 -> #DIV/0! | K31: =D8*(1-E8) -> #DIV/0!
B32: - | C32: Manipulatieve prijsinschrijvingen leiden tot uitsluiting. | H32: =D9-G9 -> #DIV/0! | J32: =D9/$J$45 -> #DIV/0! | K32: =D9*(1-E9) -> #DIV/0!
B33: - | C33: De door Inschrijver aangeboden prijzen en tarieven dienen inclusief overige belastingen en/of heffingen en alle andere mogelijke kosten (dat wil zeggen een all-in tarief) te zijn. | H33: =D10-G10 -> #DIV/0! | J33: =D10/$J$45 -> #DIV/0! | K33: =D10*(1-E10) -> #DIV/0!
B34: - | C34: De prijzen zoals ingevuld zijn inclusief alle andere bijkomende kosten o.a. voortkomend uit het programma van eisen en de gunningcriteria. | H34: =D11-G11 -> #DIV/0! | J34: =D11/$J$45 -> #DIV/0! | K34: =D11*(1-E11) -> #DIV/0!
B35: - | C35: De overige kosten (indien van toepassing) worden beschouwd als eenmalige kosten | H35: =D12-G12 -> #DIV/0! | J35: =D12/$J$45 -> #DIV/0! | K35: =D12*(1-E12) -> #DIV/0!
H36: =D13-G13 -> #DIV/0! | J36: =D13/$J$45 -> #DIV/0! | K36: =D13*(1-E13) -> #DIV/0!
B37: Aldus naar waarheid ingevuld en door Inschrijver ondertekend. | H37: =D14-G14 -> #DIV/0! | J37: =D14/$J$45 -> #DIV/0! | K37: =D14*(1-E14) -> #DIV/0!
B38: Naam | H38: =D15-G15 -> #DIV/0! | J38: =D15/$J$45 -> #DIV/0! | K38: =D15*(1-E15) -> #DIV/0!
B39: Functie | H39: =D16-G16 -> #DIV/0! | J39: =D16/$J$45 -> #DIV/0! | K39: =D16*(1-E16) -> #DIV/0!
B40: Naam Leverancier | H40: =D17-G17 -> #DIV/0! | J40: =D17/$J$45 -> #DIV/0! | K40: =D17*(1-E17) -> #DIV/0!
B41: Plaats en datum | H41: =D18-G18 -> #DIV/0! | J41: =D18/$J$45 -> #DIV/0! | K41: =D18*(1-E18) -> #DIV/0!
B42: Handtekening | H42: =D19 -> 0
H45: =SUM(H30:H41) -> #DIV/0! | J45: =SUM(D7:D18) -> 0 | K45: =SUM(K30:K41) -> #DIV/0!
K47: =SUM(E7:E18) -> #DIV/0!

Sheet Kernassortiment SWF
B2: G.1.1 Kernassortiment SWF
B3: De Inschrijver vult uitsluitend de geel gemarkeerde kolommen in. De productgroepindeling is afgestemd op de 12 hoofdgroepen van het kernassortiment. De opgenomen producten dienen als referentieproducten. Het aanbieden van gelijkwaardige producten is toegestaan, mits deze voldoen aan het gevraagde type, de kwaliteit, inhoud/verpakking en toepassing. Het historische jaarverbruik over 2025 is uitsluitend indicatief en vormt geen afnamegarantie. De opgenomen productregels zijn leidend voor de prijsinvulling. Voor het kernassortiment dient de Inschrijver per verpakkingseenheid een vaste netto inschrijfprijs exclusief btw op te geven.
B7: Nr. | C7: Productgroep | D7: Referentieproduct / omschrijving | E7: Besteleenheid/verpakking | F7: Inhoud/aantal per verpakking | G7: Eenheid | H7: Historisch jaarverbruik 2025 | I7: Nettoprijs per verpakkingseenheid excl. btw | J7: Afwijkend/gelijkwaardig product | K7: Afwijkende inhoud/besteleenheid | L7: Totaalprijs o.b.v. jaarverbruik excl. btw | M7: Toelichting inschrijver | N7: Controle
B8: =MATCH(C8,{"Koffie, thee en automateningrediënten";"Dranken & Alcohol";"Brood & banket";"Koek en zoetwaren";"Zuivel";"Kaas en eieren";"Groente, fruit, salades en versproducten";"Vlees, vis, gevogelte en vegetarisch/vegan";"Snacks, diepvries en maaltijdcomponenten";"Droge waren";"Kruidenierswaren, sauzen en smaakmakers";"Non-food cateringproducten"},0) -> 1 | C8: Koffie, thee en automateningrediënten | D8: D.E. cappuccino sticks a80 | E8: DOOS | F8: 80 | G8: ST | H8: 6 | L8: =IF(K8="",H8*I8,IF(OR(F8="",K8=""),"",H8*F8/K8*I8)) -> 0 | N8: =IF($I8="","Prijs ontbreekt",IF($I8<=0,"Prijs moet >0 zijn","")) -> Prijs ontbreekt
B9: =MATCH(C9,{"Koffie, thee en automateningrediënten";"Dranken & Alcohol";"Brood & banket";"Koek en zoetwaren";"Zuivel";"Kaas en eieren";"Groente, fruit, salades en versproducten";"Vlees, vis, gevogelte en vegetarisch/vegan";"Snacks, diepvries en maaltijdcomponenten";"Droge waren";"Kruidenierswaren, sauzen en smaakmakers";"Non-food cateringproducten"},0) -> 1 | C9: Koffie, thee en automateningrediënten | D9: D.E. decafe koffiestick 1.5gr a200 | E9: DOOS | F9: 200 | G9: ST | H9: 5 | L9: =IF(K9="",H9*I9,IF(OR(F9="",K9=""),"",H9*F9/K9*I9)) -> 0 | N9: =IF($I9="","Prijs ontbreekt",IF($I9<=0,"Prijs moet >0 zijn","")) -> Prijs ontbreekt
B10: =MATCH(C10,{"Koffie, thee en automateningrediënten";"Dranken & Alcohol";"Brood & banket";"Koek en zoetwaren";"Zuivel";"Kaas en eieren";"Groente, fruit, salades en versproducten";"Vlees, vis, gevogelte en vegetarisch/vegan";"Snacks, diepvries en maaltijdcomponenten";"Droge waren";"Kruidenierswaren, sauzen en smaakmakers";"Non-food cateringproducten"},0) -> 1 | C10: Koffie, thee en automateningrediënten | D10: D.E. koffiemelk cups UHT 7.5gr. a240 | E10: DOOS | F10: 240 | G10: ST | H10: 129 | L10: =IF(K10="",H10*I10,IF(OR(F10="",K10=""),"",H10*F10/K10*I10)) -> 0 | N10: =IF($I10="","Prijs ontbreekt",IF($I10<=0,"Prijs moet >0 zijn","")) -> Prijs ontbreekt
B11: =MATCH(C11,{"Koffie, thee en automateningrediënten";"Dranken & Alcohol";"Brood & banket";"Koek en zoetwaren";"Zuivel";"Kaas en eieren";"Groente, fruit, salades en versproducten";"Vlees, vis, gevogelte en vegetarisch/vegan";"Snacks, diepvries en maaltijdcomponenten";"Droge waren";"Kruidenierswaren, sauzen en smaakmakers";"Non-food cateringproducten"},0) -> 1 | C11: Koffie, thee en automateningrediënten | D11: Koffiebonen diverse soorten | E11: KG | F11: 1 | G11: KG | H11: 2177.4 | L11: =IF(K11="",H11*I11,IF(OR(F11="",K11=""),"",H11*F11/K11*I11)) -> 0 | N11: =IF($I11="","Prijs ontbreekt",IF($I11<=0,"Prijs moet >0 zijn","")) -> Prijs ontbreekt
B12: =MATCH(C12,{"Koffie, thee en automateningrediënten";"Dranken & Alcohol";"Brood & banket";"Koek en zoetwaren";"Zuivel";"Kaas en eieren";"Groente, fruit, salades en versproducten";"Vlees, vis, gevogelte en vegetarisch/vegan";"Snacks, diepvries en maaltijdcomponenten";"Droge waren";"Kruidenierswaren, sauzen en smaakmakers";"Non-food cateringproducten"},0) -> 1 | C12: Koffie, thee en automateningrediënten | D12: Filterkoffie diverse soorten | E12: KG | F12: 1 | G12: KG | H12: 489 | L12: =IF(K12="",H12*I12,IF(OR(F12="",K12=""),"",H12*F12/K12*I12)) -> 0 | N12: =IF($I12="","Prijs ontbreekt",IF($I12<=0,"Prijs moet >0 zijn","")) -> Prijs ontbreekt
B13: =MATCH(C13,{"Koffie, thee en automateningrediënten";"Dranken & Alcohol";"Brood & banket";"Koek en zoetwaren";"Zuivel";"Kaas en eieren";"Groente, fruit, salades en versproducten";"Vlees, vis, gevogelte en vegetarisch/vegan";"Snacks, diepvries en maaltijdcomponenten";"Droge waren";"Kruidenierswaren, sauzen en smaakmakers";"Non-food cateringproducten"},0) -> 1 | C13: Koffie, thee en automateningrediënten | D13: Instantkoffie diverse soorten | E13: KG | F13: 1 | G13: KG | H13: 3 | L13: =IF(K13="",H13*I13,IF(OR(F13="",K13=""),"",H13*F13/K13*I13)) -> 0 | N13: =IF($I13="","Prijs ontbreekt",IF($I13<=0,"Prijs moet >0 zijn","")) -> Prijs ontbreekt
B14: =MATCH(C14,{"Koffie, thee en automateningrediënten";"Dranken & Alcohol";"Brood & banket";"Koek en zoetwaren";"Zuivel";"Kaas en eieren";"Groente, fruit, salades en versproducten";"Vlees, vis, gevogelte en vegetarisch/vegan";"Snacks, diepvries en maaltijdcomponenten";"Droge waren";"Kruidenierswaren, sauzen en smaakmakers";"Non-food cateringproducten"},0) -> 1 | C14: Koffie, thee en automateningrediënten | D14: Korffilters 90/250 mm a1000 | E14: DOOS | F14: 1000 | G14: ST | H14: 3 | L14: =IF(K14="",H14*I14,IF(OR(F14="",K14=""),"",H14*F14/K14*I14)) -> 0 | N14: =IF($I14="","Prijs ontbreekt",IF($I14<=0,"Prijs moet >0 zijn","")) -> Prijs ontbreekt
B15: =MATCH(C15,{"Koffie, thee en automateningrediënten";"Dranken & Alcohol";"Brood & banket";"Koek en zoetwaren";"Zuivel";"Kaas en eieren";"Groente, fruit, salades en versproducten";"Vlees, vis, gevogelte en vegetarisch/vegan";"Snacks, diepvries en maaltijdcomponenten";"Droge waren";"Kruidenierswaren, sauzen en smaakmakers";"Non-food cateringproducten"},0) -> 1 | C15: Koffie, thee en automateningrediënten | D15: Melitta koffiefilterzakjes 1x4 80st. a9 | E15: TRAY | F15: 9 | G15: PK | H15: 2 | L15: =IF(K15="",H15*I15,IF(OR(F15="",K15=""),"",H15*F15/K15*I15)) -> 0 | N15: =IF($I15="","Prijs ontbreekt",IF($I15<=0,"Prijs moet >0 zijn","")) -> Prijs ontbreekt
B16: =MATCH(C16,{"Koffie, thee en automateningrediënten";"Dranken & Alcohol";"Brood & banket";"Koek en zoetwaren";"Zuivel";"Kaas en eieren";"Groente, fruit, salades en versproducten";"Vlees, vis, gevogelte en vegetarisch/vegan";"Snacks, diepvries en maaltijdcomponenten";"Droge waren";"Kruidenierswaren, sauzen en smaakmakers";"Non-food cateringproducten"},0) -> 1 | C16: Koffie, thee en automateningrediënten | D16: Mschap cacaomix 1kg. a6 | E16: DOOS | F16: 6 | G16: ST | H16: 107 | L16: =IF(K16="",H16*I16,IF(OR(F16="",K16=""),"",H16*F16/K16*I16)) -> 0 | N16: =IF($I16="","Prijs ontbreekt",IF($I16<=0,"Prijs moet >0 zijn","")) -> Prijs ontbreekt
B17: =MATCH(C17,{"Koffie, thee en automateningrediënten";"Dranken & Alcohol";"Brood & banket";"Koek en zoetwaren";"Zuivel";"Kaas en eieren";"Groente, fruit, salades en versproducten";"Vlees, vis, gevogelte en vegetarisch/vegan";"Snacks, diepvries en maaltijdcomponenten";"Droge waren";"Kruidenierswaren, sauzen en smaakmakers";"Non-food cateringproducten"},0) -> 1 | C17: Koffie, thee en automateningrediënten | D17: Mschap cappuccino topping 1kg. a6 | E17: DOOS | F17: 6 | G17: ST | H17: 179 | L17: =IF(K17="",H17*I17,IF(OR(F17="",K17=""),"",H17*F17/K17*I17)) -> 0 | N17: =IF($I17="","Prijs ontbreekt",IF($I17<=0,"Prijs moet >0 zijn","")) -> Prijs ontbreekt
B18: =MATCH(C18,{"Koffie, thee en automateningrediënten";"Dranken & Alcohol";"Brood & banket";"Koek en zoetwaren";"Zuivel";"Kaas en eieren";"Groente, fruit, salades en versproducten";"Vlees, vis, gevogelte en vegetarisch/vegan";"Snacks, diepvries en maaltijdcomponenten";"Droge waren";"Kruidenierswaren, sauzen en smaakmakers";"Non-food cateringproducten"},0) -> 1 | C18: Koffie, thee en automateningrediënten | D18: Tea of life diverse smaken1.5gr. a100 | E18: DOOS | F18: 100 | G18: ST | H18: 800 | L18: =IF(K18="",H18*I18,IF(OR(F18="",K18=""),"",H18*F18/K18*I18)) -> 0 | N18: =IF($I18="","Prijs ontbreekt",IF($I18<=0,"Prijs moet >0 zijn","")) -> Prijs ontbreekt
B19: =MATCH(C19,{"Koffie, thee en automateningrediënten";"Dranken & Alcohol";"Brood & banket";"Koek en zoetwaren";"Zuivel";"Kaas en eieren";"Groente, fruit, salades en versproducten";"Vlees, vis, gevogelte en vegetarisch/vegan";"Snacks, diepvries en maaltijdcomponenten";"Droge waren";"Kruidenierswaren, sauzen en smaakmakers";"Non-food cateringproducten"},0) -> 1 | C19: Koffie, thee en automateningrediënten | D19: Zuivelrijck bio hv koffiemelk cups 7.5gr. a200 | E19: DOOS | F19: 200 | G19: ST | H19: 98 | L19: =IF(K19="",H19*I19,IF(OR(F19="",K19=""),"",H19*F19/K19*I19)) -> 0 | N19: =IF($I19="","Prijs ontbreekt",IF($I19<=0,"Prijs moet >0 zijn","")) -> Prijs ontbreekt
... B233: =MATCH(C233,{"Koffie, thee en automateningrediënten";"Dranken & Alcohol";"Brood & banket";"Koek en zoetwaren";"Zuivel";"Kaas en eieren";"Groente, fruit, salades en versproducten";"Vlees, vis, gevogelte en vegetarisch/vegan";"Snacks, diepvries en maaltijdcomponenten";"Droge waren";"Kruidenierswaren, sauzen en smaakmakers";"Non-food cateringproducten"},0) -> 12 | C233: Non-food cateringproducten | D233: Vacuümzakken diverse maten en uitvoeringen (11×25, 25×30 en 25×40 cm) | E233: STUK | F233: 1 | G233: ST | H233: 800 | L233: =IF(K233="",H233*I233,IF(OR(F233="",K233=""),"",H233*F233/K233*I233)) -> 0 | N233: =IF($I233="","Prijs ontbreekt",IF($I233<=0,"Prijs moet >0 zijn","")) -> Prijs ontbreekt

Sheet Randassortiment SWF
B2: G.1.2 Randassortiment SWF - concept 2026
B3: Het randassortiment bestaat uit food- en non-food cateringproducten die niet zijn opgenomen in het kernassortiment. De Inschrijver geeft per productgroep een kortingspercentage op ten opzichte van de geldende catalogus- of brutoprijslijst. Dit kortingspercentage geldt voor alle producten binnen de betreffende productgroep, met uitzondering van producten die onderdeel uitmaken van het kernassortiment. De catalogus- of brutoprijslijst waarop het opgegeven kortingspercentage wordt toegepast, dient bij uitvoering inzichtelijk te zijn.
B6: Productgroep | C6: Toepassing / toelichting | D6: Kortingspercentage | E6: Toelichting / uitzonderingen inschrijver | F6: Controle
B7: Koffie, thee en automateningrediënten | C7: Producten voor koffie- en theevoorzieningen en koffieautomaten, zoals koffie, thee, cacao, topping, creamer, melkpoeder, suikersticks en automaatgerelateerde ingrediënten. | F7: =IF($D7="","Korting ontbreekt",IF($D7<0,"Korting mag niet negatief zijn","")) -> Korting ontbreekt
B8: Dranken & Alcohol | C8: Drinkwaren, waaronder frisdranken, water, sappen, siropen, zuiveldranken en alcoholhoudende dranken voor zover deze onderdeel uitmaken van het kernassortiment. | F8: =IF($D8="","Korting ontbreekt",IF($D8<0,"Korting mag niet negatief zijn","")) -> Korting ontbreekt
B9: Brood & banket | C9: Broodproducten en banketproducten voor cateringgebruik, zoals brood, broodjes, wraps, croissants, gebak, cake en vergelijkbare producten. | F9: =IF($D9="","Korting ontbreekt",IF($D9<0,"Korting mag niet negatief zijn","")) -> Korting ontbreekt
B10: Koek en zoetwaren | C10: Koek, snoep, chocolade, bonbons en overige zoete tussendoorproducten die regelmatig binnen de cateringvoorziening worden gebruikt. | F10: =IF($D10="","Korting ontbreekt",IF($D10<0,"Korting mag niet negatief zijn","")) -> Korting ontbreekt
B11: Zuivel | C11: Zuivelproducten en plantaardige alternatieven, zoals melk, yoghurt, kwark, room, boter en plantaardige zuivelvervangers. | F11: =IF($D11="","Korting ontbreekt",IF($D11<0,"Korting mag niet negatief zijn","")) -> Korting ontbreekt
B12: Kaas en eieren | C12: Kaasproducten en eieren, zoals plakken kaas, kaasblokjes, geraspte kaas, roomkaas, brie en eieren in verschillende vormen of verpakkingen. | F12: =IF($D12="","Korting ontbreekt",IF($D12<0,"Korting mag niet negatief zijn","")) -> Korting ontbreekt
B13: Groente, fruit, salades en versproducten | C13: Verse producten zoals groente, fruit, aardappelen, verse kruiden, salades, rauwkost en overige versproducten voor bereiding of directe consumptie. | F13: =IF($D13="","Korting ontbreekt",IF($D13<0,"Korting mag niet negatief zijn","")) -> Korting ontbreekt
B14: Vlees, vis, gevogelte en vegetarisch/vegan | C14: Vleesproducten, visproducten, gevogelte en vegetarische of veganistische alternatieven voor beleg, bereiding of maaltijdcomponenten. | F14: =IF($D14="","Korting ontbreekt",IF($D14<0,"Korting mag niet negatief zijn","")) -> Korting ontbreekt
B15: Snacks, diepvries en maaltijdcomponenten | C15: Snacks, diepvriesproducten en maaltijdcomponenten, zoals bittergarnituur, warme snacks, soep, diepvriesproducten en convenienceproducten. | F15: =IF($D15="","Korting ontbreekt",IF($D15<0,"Korting mag niet negatief zijn","")) -> Korting ontbreekt
B16: Droge waren | C16: Houdbare droge basisproducten en ingrediënten voor bereiding, zoals pasta, rijst, couscous, bloem, granen, peulvruchten, paneermeel en vergelijkbare producten. | F16: =IF($D16="","Korting ontbreekt",IF($D16<0,"Korting mag niet negatief zijn","")) -> Korting ontbreekt
B17: Kruidenierswaren, sauzen en smaakmakers | C17: Overige houdbare levensmiddelen en producten voor bereiding, smaaktoevoeging of afwerking, zoals mayonaise, ketchup, mosterd, dressings, olie, azijn, kruiden, specerijen, peper, zout, bouillon en conserven. | F17: =IF($D17="","Korting ontbreekt",IF($D17<0,"Korting mag niet negatief zijn","")) -> Korting ontbreekt
B18: Non-food cateringproducten | C18: Non-foodproducten die direct verband houden met catering, zoals disposables, servetten, bekers, verpakkingsmateriaal, folie, zakken, schoonmaak- en hygiëneproducten voor cateringgebruik en kleine cateringbenodigdheden. | F18: =IF($D18="","Korting ontbreekt",IF($D18<0,"Korting mag niet negatief zijn","")) -> Korting ontbreekt
