Workbook

Sheet Locaties
A1: Locatie | B1: Adres | C1: Openingstijden | D1: Opmerkingen
A2: Gemeentehuis | B2: Raadhuislaan 2 5341 GM Oss | C2: 8.00-17.00 uur
A3: Ir Diddewerf (Gemeentereiniging) | B3: Singel 1940-1945 nr. 300 5348 PV Oss | C3: 8.00-16.00 uur
A4: De Elzenhoek (Natuurcentrum en stadsboerderij) | B4: Anna van Schuurmanstraat 602 5344 TX Oss | C4: 8.00-17.00 uur
A5: Hoogen Heuvel (begraafplaats) | B5: Lindenstraat 22 5342 XJ Oss | C5: 8.00-16.00 uur | D5: Bellen bij levering: 0412-625413

Sheet Voorzieningen
A1: Locatie | B1: Adres | C1: Hygiënebox | D1: Luierbox | E1: Luchtverfrissers | F1: Handdoekautomaat (katoen) | G1: Handdoekautomaat (papier) | H1: Toiletborstel + houder | I1: Toiletpapierdispenser | J1: Handdesinfectie 1000 ml | K1: Zeepschuimdispenser | L1: Handdoekautomaat garage (katoen blauw) | M1: Dispenser voor zonnebrand | N1: Afvalbakken
A2: Gemeentehuis | B2: Raadhuislaan 2 5341 GM Oss | C2: 32 | D2: 1 | E2: 60 | F2: 48 | G2: 14 | H2: 51 | I2: 49 | J2: 1 | K2: 53 | M2: 1 | N2: 36
A3: Ir Diddewerf | B3: Singel 1940-1945 nr. 300 5348 PV Oss | C3: 6 | E3: 14 | F3: 10 | H3: 11 | I3: 11 | K3: 11 | L3: 3 | M3: 1
A4: De Elzenhoek (Natuurcentrum en stadsboerderij) | B4: Anna van Schuurmanstraat 602 5344 TX Oss | C4: 1 | D4: 2 | E4: 6 | F4: 4 | G4: 4 | H4: 4 | I4: 4 | J4: 2 | K4: =6+5 -> 11
A5: Hoogen Heuvel (begraafplaats) | B5: Lindenstraat 22 5342 XJ Oss | E5: 6 | F5: 5 | H5: 6 | I5: 6 | K5: 5
A6: Totaal | C6: =SUM(C2:C5) -> 39 | D6: =SUM(D2:D5) -> 3 | E6: =SUM(E2:E5) -> 86 | F6: =SUM(F2:F5) -> 67 | G6: =SUM(G2:G5) -> 18 | H6: =SUM(H2:H5) -> 72 | I6: =SUM(I2:I5) -> 70 | J6: =SUM(J2:J5) -> 3 | ... N6: =SUM(N2:N5) -> 36
A8: * De dispenser voor zonnebrand is voor locatie Duurzaamheidsplein. Opdrachtgever zorgt zelf voor interne logistiek.

Sheet Verbruiksartikelen per maand
A1: Locatie | B1: Adres | C1: Luchtverfrisservulling | D1: Handdoekenrol (katoen of nonwoven) | E1: Papieren Handdoek | F1: Toiletpapier | G1: Handdesinfectie | H1: Zeepschuim | I1: Handdoekrol blauw (katoen of nonwoven) | J1: Zonnebrand
A2: Gemeentehuis | B2: Raadhuislaan 2 5341 GM Oss | C2: Nvt | D2: 290 | E2: 60 | F2: 446 | G2: Nvt | H2: 25 | J2: 1
A3: Ir Diddewerf | B3: Singel 1940-1945 nr. 300 5348 PV Oss | C3: Nvt | D3: 36 | E3: 48 | F3: 34 | H3: 5 | I3: 6 | J3: 1
A4: De Elzenhoek (Natuurcentrum en stadsboerderij) | B4: Anna van Schuurmanstraat 602 5344 TX Oss | C4: Nvt | D4: 11 | E4: 20 | F4: 48 | G4: Nvt | H4: 14
A5: Hoogen Heuvel (begraafplaats) | B5: Lindenstraat 22 5342 XJ Oss | C5: Nvt | D5: 2 | F5: 4 | H5: 1
A6: Totaal | C6: 2 | D6: =SUM(D2:D5) -> 339 | E6: =SUBTOTAL(109,E2:E5) -> 128 | F6: =SUBTOTAL(109,F2:F5) -> 532 | G6: 1 | H6: =SUBTOTAL(109,H2:H5) -> 45 | I6: =SUBTOTAL(109,I2:I5) -> 6 | J6: =SUM(J2:J5) -> 2
A8: * Voor luchtverfrisservullingen en handdesinfectievullingen is, vanwege het ontbreken van representatieve historische verbruiksgegevens, een indicatief jaarverbruik opgenomen ten behoeve van de prijsvergelijking.

Sheet Prijs
A1: Prijzenformulier
A2: U vult alleen de grijze velden in. Maak verder geen aanpassingen in het formulier.
A4: Inschrijver
A6: Voorzieningen met verbruiksartikelen | B6: Huurprijs per voorziening per maand | C6: Prijs per verbruiksartikel | D6: Huidige verbruikseenheid | E6: Huidige inhoud per eenheid | F6: Aantal voorzieningen | G6: Indicatief verbruik per maand | H6: Subtotaal
A7: Hygiënebox | B7: 0 | D7: stuk | F7: =Voorzieningen!C6 -> 39 | H7: =(B7*F7)*12 -> 0
A8: Luierbox | B8: 0 | D8: stuk | F8: =Voorzieningen!D6 -> 3 | H8: =(B8*F8)*12 -> 0
A9: Luchtverfrisser en vulling | B9: 0 | C9: 0 | D9: stuk | F9: =Voorzieningen!E6 -> 86 | G9: ='Verbruiksartikelen per maand'!C6 -> 2 | H9: =((B9*F9)+(C9*G9))*12 -> 0
A10: Handdoekenautomaat en rol (katoen of nonwoven) | B10: 0 | C10: 0 | D10: stuk | E10: 1 rol van 35 meter per eenheid | F10: =Voorzieningen!F6 -> 67 | G10: ='Verbruiksartikelen per maand'!D6 -> 339 | H10: =((Tabel3[[#This Row],[Huurprijs per voorziening per maand]]*Tabel3[[#This Row],[Aantal voorzieningen]])+(Tabel3[[#This Row],[Prijs per verbruiksartikel]]*Tabel3[[#This Row],[Indicatief verbruik per maand]]))*12 -> 0
A11: Handdoekdispensers (papier) | B11: 0 | C11: 0 | D11: doos | E11: 20 wikkels in een doos, 2880 servetten | F11: =Voorzieningen!G6 -> 18 | G11: ='Verbruiksartikelen per maand'!E6 -> 128 | H11: =((Tabel3[[#This Row],[Huurprijs per voorziening per maand]]*Tabel3[[#This Row],[Aantal voorzieningen]])+(Tabel3[[#This Row],[Prijs per verbruiksartikel]]*Tabel3[[#This Row],[Indicatief verbruik per maand]]))*12 -> 0
A12: Toiletborstels met houders | B12: 0 | D12: stuk | F12: =Voorzieningen!H6 -> 72 | H12: =(B12*F12)*12 -> 0
A13: Toiletpapierhouders en toiletpapier | B13: 0 | C13: 0 | D13: doos | E13: 24 rollen per doos | F13: =Voorzieningen!I6 -> 70 | G13: ='Verbruiksartikelen per maand'!F6 -> 532 | H13: =((B13*F13)+(C13*G13))*12 -> 0
A14: Handdesinfectie | B14: 0 | C14: 0 | D14: stuk | E14: 1 flacon a 1000 ml | F14: =Voorzieningen!J6 -> 3 | G14: ='Verbruiksartikelen per maand'!G6 -> 1 | H14: =((B14*F14)+(C14*G14))*12 -> 0
A15: Zeepschuimdispensers en zeepschuim | B15: 0 | C15: 0 | D15: doos | E15: 9 flacons a 500 ml per flacon | F15: =Voorzieningen!K6 -> 80 | G15: ='Verbruiksartikelen per maand'!H6 -> 45 | H15: =((B15*F15)+(C15*G15))*12 -> 0
A16: Handdoekrol blauw (katoen of nonwoven) | B16: 0 | C16: 0 | D16: stuk | E16: 1 rol van 35 meter per eenheid | F16: =Voorzieningen!L6 -> 3 | G16: ='Verbruiksartikelen per maand'!I6 -> 6 | H16: =((B16*F16)+(C16*G16))*12 -> 0
A17: Dispenser voor zonnebrand (1/4 t/m 1/9) | B17: 0 | C17: 0 | D17: stuk | E17: 1 flacon a 1000 ml | F17: =Voorzieningen!M6 -> 2 | G17: 1 | H17: =((B17*F17)+(C17*G17))*12 -> 0
A18: Afvalbakken | B18: 0 | D18: stuk | F18: =Voorzieningen!N6 -> 36 | H18: =(B18*F18)*12 -> 0
F21: Inschrijfprijs voor 4 jaar* | H21: =SUM(H7:H18)*4 -> 0
A23: * De opgegeven prijzen en/of tarieven zijn uitgedrukt in Euro’s en exclusief BTW, maar inclusief alle overige kosten, waaronder onder meer begrepen maar niet beperkt tot de kosten voor levering, montage- en demontagekosten, salariskosten, kantoorkosten, kosten voor hard- en software, telefoonkosten, coördinatiekosten, kosten woon-werkverkeer, parkeerkosten, reis- en verblijfkosten, verzekeringskosten en sociale premies en belastingen, algemene kosten, winst en risico. Naast aangeboden prijzen mag u geen aanvullende kosten in rekening brengen. Kosten voor reiniging en verwisseling zijn verdisconteerd in de huurprijzen per maand.
