Workbook

Sheet Toelichting en voorwaarden
A1: # | B1: Bijgaand treft u het prijzenblad voor het perceel 3 payrolldienstverlening. Hieronder wordt een en ander toegelicht en hier staan tevens de voorwaarden die van toepassing zijn gedurende de looptijd van de raamovereenkomst.
A2: P1 | B2: De naam van de inschrijver hoeft maar 1x ingevuld te worden, in cel B2 op het tabblad "omrekenfactoren"
A3: P2 | B3: De kostprijzen gedetailleerd ingevuld te worden, de bureaumarge en de organisatienaam (cel b2) bij tabblad omrekenfactoren dient ingevuld te worden en alle roze tabbladen zijn toelichting tabbladen, deze hoeven niet ingevuld te worden. Opdrachtnemer dient zowel bij zijn inschrijving als bij wijzigingen, gedurende de looptijd van de Raamovereenkomst, inzicht te geven in de opbouw van de kostprijs. Hiervoor dient inschrijver dit prijzenblad te gebruiken.
A4: P3 | B4: Met betrekking tot de vergoedingen geven de laatste 2 tabbladen uitleg over de afdrachten en wat van toepassing is.
A5: P4 | B5: Bij de kostprijzen staan er een aantal velden benoemd als "specificeren", hier kunt u de organisatie specifieke lasten benoemen en aangeven.
A6: P5 | B6: Bij het tabblad Omrekenfactoren (groen), daar kunt u alleen bureaumarge voor de normale uren invullen, alle overige urensoorten zijn beperkt met 2,5% fee (de afdracht aan RWB). Voor belaste vergoedingen is de feevergoeding van 2,5% niet van toepassing.
A7: P6 | B7: De bureaumarge wordt gedurende de looptijd niet meer aangepast, deze blijft gelijk. De bureaumarge mag dus in geen geval geïndexeerd worden.
A8: P7 | B8: Het onderste blok "additionele werkgeverslasten" worden ook niet meer aangepast gedurende de looptijd van de raamovereenkomst.
A9: P8 | B9: Indien er velden bij de kostprijs tabbladen niet van toepassing zijn, dan kunt u deze leeg laten.
A10: P9 | B10: Scholing; hiervoor dient 1,02% opgenomen te worden in de kostprijs. Inschrijver kan hiermee de basis van scholing aanbieden via haar eigen platform of middelen. Er dient een overzicht aangeleverd te worden voor de onderbouwing van de uitgaven en reservering van het totaal aantal werkenden. Indien er specifieke scholing ingezet dient te worden voor de gemeente, dient er akkoord gegeven te worden, indien dit doorbelast wordt ( zonder bureaumarge).
A11: P10 | B11: Kort verzuim bij declarabele uren is gebaseerd op de officiële percentages van de ABU CAO (2025) uitvoering voor kort verzuim worden gevolgd vanuit de eerder gepubliceerde richtlijnen ABU CAO (artikel 28). Indien er additioneel kort verzuim vanuit de CAO inlener van toepassing zijn, kunnen deze doorbelast worden, na akkoord en overleg met Opdrachtgever
A12: P11 | B12: De (Boven) wettelijk verlofdagen en feestdagen worden door aanbestedende dienst aangepast, indien er een wijziging is vanuit de CAO Gemeente of SGO.
... A26: P25 | B26: Gedurende de looptijd van het contract geldt dat alle te werk gestelde payrollkrachten kosteloos overgenomen kunnen worden door Opdrachtgever.
A27: Feevergoeding applicatie
A28: P26 | B28: Opdrachtnemer is een feevergoeding verschuldigd aan Regio West-Brabant over de omzet die is gerealiseerd bij de Opdrachtgevers, gedurende de looptijd van de raamovereenkomst. Onder de omzet verstaan we de bedragen die aan de deelnemende organisaties worden gefactureerd via het tarief excl. BTW. De feevergoeding bedraagt 2,5%. Vanaf het moment dat de Raamovereenkomst ingaat en per gefactureerd uur draagt u een feevergoeding af van 2,5%. Onkostenvergoedingen zoals reiskosten zijn hiervan dus uitgezonderd.
A29: P27 | B29: In beginsel wordt de feevergoeding per kwartaal aan Opdrachtnemer in rekening gebracht. Voor het voldoen van de feevergoeding geldt een betalingstermijn van 30 dagen.
A30: P28 | B30: De feevergoeding wordt gebruikt voor de dekking van de kosten van de inhuurdesk.
A31: P29 | B31: Feevergoeding is gebaseerd op de totale omzet, gerealiseerd door Opdrachtnemer, ongeacht of de facturatie en/of aanvragen via de applicatie verlopen.

Sheet Gemiddeld gewogen ORF
A1: Naam Aanbieder: | B1: ='Omrekenfactoren 2027'!B1 -> SVP invullen
A2: Urensoorten | B2: Gewogen gemiddelde omreken factor | C2: Weging
A3: Overeenkomst Contract normale uren Model 1 | B3: ='Omrekenfactoren 2027'!D5 -> 1.1705 | C3: 0.077 | D3: Contract:
A4: Overeenkomst Contract toeslaguren Model 1 | B4: ='Omrekenfactoren 2027'!D6 -> 1.1076923 | C4: 0.04 | D4: =C3+C4+C5+C6+C7 -> 0.147
A5: Overeenkomst Contract overuren Model 1 | B5: ='Omrekenfactoren 2027'!D7 -> 1.1076923 | C5: 0.01
A6: Overeenkomst Contract Belaste vergoedingen 1 - Model 1 | B6: ='Omrekenfactoren 2027'!D8 -> 1.08 | C6: 0.01
A7: Overeenkomst Contract Belaste vergoedingen 2 - Model 1 | B7: ='Omrekenfactoren 2027'!D9 -> 1 | C7: 0.01
A8: Overeenkomst Declarabele normale uren Model 2 | B8: ='Omrekenfactoren 2027'!D10 -> 1.3587951 | C8: 0.77 | D8: Declarabel:
A9: Overeenkomst Declarabele toeslaguren Model 2 | B9: ='Omrekenfactoren 2027'!D11 -> 1.2449285 | C9: 0.05 | D9: =C8+C9+C10+C11+C12 -> 0.853
A10: Overeenkomst Declarabele overuren Model 2 | B10: ='Omrekenfactoren 2027'!D12 -> 1.1076923 | C10: 0.01
A11: Overeenkomst Declarabele Belaste vergoedingen 1 - Model 2 | B11: ='Omrekenfactoren 2027'!D13 -> 1.08 | C11: 0.013
A12: Overeenkomst Declarabele Belaste vergoedingen 2 - Model 2 | B12: ='Omrekenfactoren 2027'!D14 -> 1 | C12: 0.01
A13: Gemiddeld gewogen omrekenfactor payroll | B13: =AVERAGE(B8*C8)+(B9*C9)+(B10*C10)+(B3*C3)+(B4*C4)+(B5*C5)+(B6*C6)+(B7*C7)+(B11*C11)+(B12*C12) -> 1.3099487 | C13: =SUM(C3:C12) -> 1
A16: Toelichting: Indien er in B13 geen omrekenfactor komt te staan, dan is het belangrijk om het tabblad Omrekenfactoren na te kijken of daar de kostprijs van alle verschillende urensoorten en fases ingevuld zijn. Zo niet, dan dienen de kostprijs tabbladen gedetalleerd ingevuld te worden. Indien er geen reële factor in kolom B komt te staan, kan de inschrijver niet beoordeeld. worden.
A17: N.B. Gemiddeld gewogen omrekenfactor en omrekenfactoren gelden op basis van 4 decimalen achter de komma gewogen.

Sheet Omrekenfactoren 2027
A1: Naam Aanbieder: | B1: SVP invullen
B2: Payroll alle functies/loonschalen
A3: Urensoorten | B3: Kostprijs | C3: Bureaumarge % incl. Fee afdracht RWB | D3: Omreken factor
A4: VOORBEELD | B4: 160 | C4: 5 | D4: =B4/(100-C4) -> 1.6842105
A5: Overeenkomst Contract normale uren Model 1 | B5: ='KP contract model 1 2027'!D30*100 -> 117.05 | C5: 0 | D5: =B5/(100-C5) -> 1.1705
A6: Overeenkomst Contract toeslag uren Model 1 | B6: ='KP contract model 1 2027'!G30*100 -> 108 | C6: 2.5 | D6: =B6/(100-C6) -> 1.1076923
A7: Overeenkomst Contract overuren uren Model 1 | B7: ='KP contract model 1 2027'!J30*100 -> 108 | C7: 2.5 | D7: =B7/(100-C7) -> 1.1076923
A8: Overeenkomst Contract Belaste vergoedingen 1 - Model 1 | B8: ='KP contract model 1 2027'!M30*100 -> 108 | C8: 0 | D8: =B8/(100-C8) -> 1.08
A9: Overeenkomst Contract Belaste vergoedingen 2 - Model 1 | B9: ='KP contract model 1 2027'!P30*100 -> 100 | C9: 0 | D9: =B9/(100-C9) -> 1
A10: Overeenkomst Declarabele normale uren Model 2 | B10: ='KP declarabel model 2 2027'!D36*100 -> 135.87951 | C10: 0 | D10: =B10/(100-C10) -> 1.3587951
A11: Overeenkomst Declarabele toeslaguren Model 2 | B11: ='KP declarabel model 2 2027'!G36*100 -> 121.38053 | C11: 2.5 | D11: =B11/(100-C11) -> 1.2449285
A12: Overeenkomst Declarabele overuren Model 2 | B12: ='KP declarabel model 2 2027'!J36*100 -> 108 | C12: 2.5 | D12: =B12/(100-C12) -> 1.1076923
A13: Overeenkomst Declarabele Belaste vergoedingen 1 - Model 2 | B13: ='KP declarabel model 2 2027'!M36*100 -> 108 | C13: 0 | D13: =B13/(100-C13) -> 1.08
A14: Overeenkomst Declarabele Belaste vergoedingen 2 - Model 2 | B14: ='KP declarabel model 2 2027'!P36*100 -> 100 | C14: 0 | D14: =B14/(100-C14) -> 1
A15: Overeenkomst Declarabele AOW gerechtigde normale uren Model 2 | B15: ='AOW declarabel model 2 2027 '!D36*100 -> 135.87951 | C15: 0 | D15: =B15/(100-C15) -> 1.3587951
A16: Overeenkomst Declarabele AOW toeslaguren Model 2 | B16: ='AOW declarabel model 2 2027 '!G36*100 -> 121.38053 | C16: 2.5 | D16: =B16/(100-C16) -> 1.2449285
A17: Overeenkomst Declarabele AOW overuren Model 2 | B17: ='AOW declarabel model 2 2027 '!J36*100 -> 108 | C17: 2.5 | D17: =B17/(100-C17) -> 1.1076923
A18: Overeenkomst Declarabele AOW Belaste vergoedingen 1 - Model 2 | B18: ='AOW declarabel model 2 2027 '!M36*100 -> 108 | C18: 0 | D18: =B18/(100-C18) -> 1.08
A19: Overeenkomst Declarabele AOW Belaste vergoedingen 2 - Model 2 | B19: ='AOW declarabel model 2 2027 '!P36*100 -> 100 | C19: 0 | D19: =B19/(100-C19) -> 1
A21: N.B.1: U dient de bureaumarge in de blauwe cellen in te vullen, format rekent de kostprijs en bureaumarge om naar de omrekenfactor. Deze factoren worden automatisch doorgezet naar het tabblad "Gemiddelde gewogen omrekenfactor. N.B.2: Alleen tabblad "Omrekenfactoren" en tabbladen "Kostprijs" invullen. N.B. 3: De bureaumarge is inclusief 2,5% afdracht voor de inrichting van de inhuurdesk, inschrijver dient hier rekenening mee te houden. Als u in een veld voor normale uren geen bureaumarge invult, blijft de cel blauw, betekent dit dus een negatieve bureaumarge van 2,5% is, ivm de afdracht aan de inhuurdesk. De bureaumarge op de over- en toeslaguren is gemaximeerd op 2,5%, dit betreft de afdracht aan het RWB, dus deze cel kan niet worden ingevuld, deze is beveiligd. Voor belaste vergoedingen geldt geen afdracht aan het RWB. NB 4: Gespecificeerde Kostprijsopbouw (gedetailleerde open kostencalculatie) dient ingevuld te worden bij de tabbladen "KP). Er zijn reeds enkele reserveringen opgenomen, indien niet van toepassing kan deze op 0% gezet worden. Als u in een veld geen bureaumarge invult, blijft de cel blauw, dan betekent dit dus een negatieve marge van 2,5%, ivm afdracht aan de inhuurdesk. Voor de belaste vergoedingen geldt geen afdracht. N.B. 5: Inschrijver dient naam bovenin te vermelden, in cel B1, dan staat het overal bovenaan in de tabbladen.
A22: Er kunnen geen rechten ontleend worden aan de verstrekte gegevens.

Sheet KP contract model 1 2027
A1: Naam Aanbieder: | B1: ='Omrekenfactoren 2027'!B1 -> SVP invullen
C3: Contract normale uren | F3: Contract Toeslaguren | I3: Contract Overuren | L3: Belaste vergoedingen 1 Contracturen | O3: Belaste vergoedingen 2 Contracturen
A5: Salaris
A6: Bruto uursalaris | C6: 1 | D6: =C6 -> 1 | F6: 1 | G6: =F6 -> 1 | I6: 1 | J6: =I6 -> 1 | L6: 1 | M6: =L6 -> 1 | O6: 1 | P6: =O6 -> 1
D7: =SUM(D6:D6) -> 1 | G7: =SUM(G6:G6) -> 1 | J7: =SUM(J6:J6) -> 1 | M7: =SUM(M6:M6) -> 1 | P7: =SUM(P6:P6) -> 1
A8: Reservering IKB (Individueel Keuze Budget; 8% vakantietoeslag, 1,5% levensloopregeling en 7,55% eindejaarsuitkering) | C8: 0.1705 | D8: =D7*C8 -> 0.1705 | F8: 0.08 | G8: =G7*F8 -> 0.08 | I8: 0.08 | J8: =J7*I8 -> 0.08 | L8: 0.08 | M8: =M7*L8 -> 0.08 | O8: 0 | P8: =P7*O8 -> 0
D9: =D8+D7 -> 1.1705 | G9: =G8+G7 -> 1.08 | J9: =J8+J7 -> 1.08 | M9: =M8+M7 -> 1.08 | P9: =P8+P7 -> 1
A10: Werkgeverslasten
A11: Ziektewet | C11: 0 | D11: =C11*D9 -> 0 | F11: 0 | G11: =F11*G9 -> 0 | I11: 0 | J11: =I11*J9 -> 0 | L11: 0 | M11: =L11*M9 -> 0 | O11: 0 | P11: =O11*P9 -> 0
A12: Premie AWF | C12: 0 | D12: =C12*D9 -> 0 | F12: 0 | G12: =F12*G9 -> 0 | I12: 0 | J12: =I12*J9 -> 0 | L12: 0 | M12: =L12*M9 -> 0 | O12: 0 | P12: =O12*P9 -> 0
A13: Zorgverzekeringswet (ZVW) | C13: 0 | D13: =C13*D9 -> 0 | F13: 0 | G13: =F13*G9 -> 0 | I13: 0 | J13: =I13*J9 -> 0 | L13: 0 | M13: =L13*M9 -> 0 | O13: 0 | P13: =O13*P9 -> 0
A14: AOF incl. kinderopvang | C14: 0 | D14: =C14*D9 -> 0 | F14: 0 | G14: =F14*G9 -> 0 | I14: 0 | J14: =I14*J9 -> 0 | L14: 0 | M14: =L14*M9 -> 0 | O14: 0 | P14: =O14*P9 -> 0
A15: WGA | C15: 0 | D15: =C15*D9 -> 0 | F15: 0 | G15: =F15*G9 -> 0 | I15: 0 | J15: =I15*J9 -> 0 | L15: 0 | M15: =L15*M9 -> 0 | O15: 0 | P15: =O15*P9 -> 0
A16: Transitievergoeding | C16: 0 | D16: =C16*D9 -> 0 | F16: 0 | G16: =F16*G9 -> 0 | I16: 0 | J16: =I16*J9 -> 0 | L16: 0 | M16: =L16*M9 -> 0 | O16: 0 | P16: =O16*P9 -> 0
A17: Pensioen reservering ABP | C17: 0 | D17: =C17*D9 -> 0 | F17: 0 | G17: =F17*G9 -> 0 | I17: 0 | J17: =I17*J9 -> 0 | L17: 0 | M17: =L17*M9 -> 0 | O17: 0 | P17: =O17*P9 -> 0
A18: Specificeren | C18: 0 | D18: =C18*D9 -> 0 | F18: 0 | G18: =F18*G9 -> 0 | I18: 0 | J18: =I18*J9 -> 0 | L18: 0 | M18: =L18*M9 -> 0 | O18: 0 | P18: =O18*P9 -> 0
A19: Specificeren | C19: 0 | D19: =C19*D9 -> 0 | F19: 0 | G19: =F19*G9 -> 0 | I19: 0 | J19: =I19*J9 -> 0 | L19: 0 | M19: =L19*M9 -> 0 | O19: 0 | P19: =O19*P9 -> 0
A20: Specificeren | C20: 0 | D20: =C20*D9 -> 0 | F20: 0 | G20: =F20*G9 -> 0 | I20: 0 | J20: =I20*J9 -> 0 | L20: 0 | M20: =L20*M9 -> 0 | O20: 0 | P20: =O20*P9 -> 0
A21: Specificeren | C21: 0 | D21: =C21*D9 -> 0 | F21: 0 | G21: =F21*G9 -> 0 | I21: 0 | J21: =I21*J9 -> 0 | L21: 0 | M21: =L21*M9 -> 0 | O21: 0 | P21: =O21*P9 -> 0
C22: =SUM(C11:C21) -> 0 | D22: =C22*D9 -> 0 | F22: =SUM(F11:F21) -> 0 | G22: =F22*G9 -> 0 | I22: =SUM(I11:I21) -> 0 | J22: =I22*J9 -> 0 | L22: =SUM(L11:L21) -> 0 | M22: =L22*M9 -> 0 | O22: =SUM(O11:O21) -> 0 | P22: =O22*P9 -> 0
D23: =D9+D22 -> 1.1705 | G23: =G9+G22 -> 1.08 | J23: =J9+J22 -> 1.08 | M23: =M9+M22 -> 1.08 | P23: =P9+P22 -> 1
A24: Additionele werkgeverslasten
A25: Specificeren | C25: 0 | D25: =C25*D23 -> 0 | F25: 0 | G25: =F25*G23 -> 0 | I25: 0 | J25: =I25*J23 -> 0 | L25: 0 | M25: =L25*M23 -> 0 | O25: 0 | P25: =O25*P23 -> 0
A26: Specificeren | C26: 0 | D26: =C26*D23 -> 0 | F26: 0 | G26: =F26*G23 -> 0 | I26: 0 | J26: =I26*J23 -> 0 | L26: 0 | M26: =L26*M23 -> 0 | O26: 0 | P26: =O26*P23 -> 0
A27: Specificeren | C27: 0 | D27: =C27*D23 -> 0 | F27: 0 | G27: =F27*G23 -> 0 | I27: 0 | J27: =I27*J23 -> 0 | L27: 0 | M27: =L27*M23 -> 0 | O27: 0 | P27: =O27*P23 -> 0
A28: Specificeren | C28: 0 | D28: =C28*D23 -> 0 | F28: 0 | G28: =F28*G23 -> 0 | I28: 0 | J28: =I28*J23 -> 0 | L28: 0 | M28: =L28*M23 -> 0 | O28: 0 | P28: =O28*P23 -> 0
C29: =SUM(C25:C28) -> 0 | D29: =D23*C29 -> 0 | F29: =SUM(F25:F28) -> 0 | G29: =G23*F29 -> 0 | I29: =SUM(I25:I28) -> 0 | J29: =J23*I29 -> 0 | L29: =SUM(L25:L28) -> 0 | M29: =M23*L29 -> 0 | O29: =SUM(O25:O28) -> 0 | P29: =P23*O29 -> 0
A30: Kostprijs regulier contracturen model 1 | D30: =D23+D29 -> 1.1705 | G30: =G23+G29 -> 1.08 | J30: =J23+J29 -> 1.08 | M30: =M23+M29 -> 1.08 | P30: =P23+P29 -> 1
A32: Toelichting:
A33: N.B. 1 Jaarlijks worden per 1 januari, eenmalig de kostprijzen aangepast, na goedkeuring van Opdrachtgever. De reservering feestdagen/verlof en IKB worden door opdrachtgever gewijzigd op het moment dat die wijziging van toepassing is, maar in ieder geval per 1 januari.
A34: NB 2:Uitleg invullen sheet: alle reserveringen moeten worden ingevuld in de blauwe niet beveiligde cellen. De reserveringen worden automatisch doorberekend en komen als kostprijs in het sheet te staan. In het donkergrijze blok 3 'Additionele werkgeverslasten' kunnen bedrijfspecifieke omschrijvingen opgenomen worden. Tijdens de duur van het contract wordt Blok 3; Additionele werkgeverslasten niet meer aangepast.
A35: N.B. 3: De eerstvolgende wijziging is per 1-1-2028

Sheet KP declarabel model 2 2027
A1: Naam Aanbieder: | B1: ='Omrekenfactoren 2027'!B1 -> SVP invullen
C3: Overeenkomst normale uren declarabel | F3: Overeenkomst toeslaguren declarabel | I3: Overeenkomst overuren declarabel | L3: Belaste vergoedingen 1 Declarabele uren | O3: Belaste vergoedingen 2 Declarabele uren
A5: Salaris
A6: Bruto uursalaris | C6: 1 | D6: =C6 -> 1 | F6: 1 | G6: =F6 -> 1 | I6: 1 | J6: =I6 -> 1 | L6: 1 | M6: =L6 -> 1 | O6: 1 | P6: =O6 -> 1
D7: =SUM(D6:D6) -> 1 | G7: =SUM(G6:G6) -> 1 | J7: =SUM(J6:J6) -> 1 | M7: =SUM(M6:M6) -> 1 | P7: =SUM(P6:P6) -> 1
A8: Reserveringen
A9: Feestdagen | C9: ='[1]Toelichting Vakantie-feestdagen'!B1 -> 0.030973451 | D9: =C9*D7 -> 0.030973451 | F9: 0 | G9: =F9*G7 -> 0 | I9: 0 | J9: =I9*J7 -> 0 | L9: 0 | M9: =L9*M7 -> 0 | O9: 0 | P9: =O9*P7 -> 0
A10: Vakantiedagen | C10: ='[1]Toelichting Vakantie-feestdagen'!B2 -> 0.12389381 | D10: =C10*D7 -> 0.12389381 | F10: =C10 -> 0.12389381 | G10: =F10*G7 -> 0.12389381 | I10: 0 | J10: =I10*J7 -> 0 | L10: 0 | M10: =L10*M7 -> 0 | O10: 0 | P10: =O10*P7 -> 0
A11: Kort verzuim / buitengewoon verlof | C11: 0.006 | D11: =C11*D7 -> 0.006 | F11: 0 | G11: =F11*G7 -> 0 | I11: 0 | J11: =I11*J7 -> 0 | L11: 0 | M11: =L11*M7 -> 0 | O11: 0 | P11: =O11*P7 -> 0
C12: =SUM(C9:C11) -> 0.16086726 | D12: =D7*C12 -> 0.16086726 | F12: =SUM(F9:F11) -> 0.12389381 | G12: =G7*F12 -> 0.12389381 | I12: =SUM(I9:I11) -> 0 | J12: =J7*I12 -> 0 | L12: =SUM(L9:L11) -> 0 | M12: =M7*L12 -> 0 | O12: =SUM(O9:O11) -> 0 | P12: =P7*O12 -> 0
D13: =D7+D12 -> 1.1608673 | G13: =G7+G12 -> 1.1238938 | J13: =J7+J12 -> 1 | M13: =M7+M12 -> 1 | P13: =P7+P12 -> 1
A14: Reservering IKB (Individueel Keuze Budget; 8% vakantietoeslag, 1,5% levensloopregeling en 7,55% eindejaarsuitkering) | C14: 0.1705 | D14: =D13*C14 -> 0.19792787 | F14: 0.08 | G14: =G13*F14 -> 0.089911504 | I14: 0.08 | J14: =J13*I14 -> 0.08 | L14: 0.08 | M14: =M13*L14 -> 0.08 | O14: 0 | P14: =P13*O14 -> 0
D15: =SUM(D13:D14) -> 1.3587951 | G15: =SUM(G13:G14) -> 1.2138053 | J15: =SUM(J13:J14) -> 1.08 | M15: =SUM(M13:M14) -> 1.08 | P15: =SUM(P13:P14) -> 1
A16: Werkgeverslasten
A17: Ziektewet | C17: 0 | D17: =C17*D15 -> 0 | F17: 0 | G17: =F17*G15 -> 0 | I17: 0 | J17: =I17*J15 -> 0 | L17: 0 | M17: =L17*M15 -> 0 | O17: 0 | P17: =O17*P15 -> 0
A18: Premie AWF | C18: 0 | D18: =C18*D15 -> 0 | F18: 0 | G18: =F18*G15 -> 0 | I18: 0 | J18: =I18*J15 -> 0 | L18: 0 | M18: =L18*M15 -> 0 | O18: 0 | P18: =O18*P15 -> 0
A19: Zorgverzekeringswet (ZVW) | C19: 0 | D19: =C19*D15 -> 0 | F19: 0 | G19: =F19*G15 -> 0 | I19: 0 | J19: =I19*J15 -> 0 | L19: 0 | M19: =L19*M15 -> 0 | O19: 0 | P19: =O19*P15 -> 0
A20: AOF incl. kinderopvang | C20: 0 | D20: =C20*D15 -> 0 | F20: 0 | G20: =F20*G15 -> 0 | I20: 0 | J20: =I20*J15 -> 0 | L20: 0 | M20: =L20*M15 -> 0 | O20: 0 | P20: =O20*P15 -> 0
A21: WGA | C21: 0 | D21: =C21*D15 -> 0 | F21: 0 | G21: =F21*G15 -> 0 | I21: 0 | J21: =I21*J15 -> 0 | L21: 0 | M21: =L21*M15 -> 0 | O21: 0 | P21: =O21*P15 -> 0
A22: Transitievergoeding | C22: 0 | D22: =C22*D15 -> 0 | F22: 0 | G22: =F22*G15 -> 0 | I22: 0 | J22: =I22*J15 -> 0 | L22: 0 | M22: =L22*M15 -> 0 | O22: 0 | P22: =O22*P15 -> 0
A23: Pensioen reservering ABP | C23: 0 | D23: =C23*D15 -> 0 | F23: 0 | G23: =F23*G15 -> 0 | I23: 0 | J23: =I23*J15 -> 0 | L23: 0 | M23: =L23*M15 -> 0 | O23: 0 | P23: =O23*P15 -> 0
A24: Specificeren | C24: 0 | D24: =C24*D15 -> 0 | F24: 0 | G24: =F24*G15 -> 0 | I24: 0 | J24: =I24*J15 -> 0 | L24: 0 | M24: =L24*M15 -> 0 | O24: 0 | P24: =O24*P15 -> 0
A25: Specificeren | C25: 0 | D25: =C25*D15 -> 0 | F25: 0 | G25: =F25*G15 -> 0 | I25: 0 | J25: =I25*J15 -> 0 | L25: 0 | M25: =L25*M15 -> 0 | O25: 0 | P25: =O25*P15 -> 0
A26: Specificeren | C26: 0 | D26: =C26*D15 -> 0 | F26: 0 | G26: =F26*G15 -> 0 | I26: 0 | J26: =I26*J15 -> 0 | L26: 0 | M26: =L26*M15 -> 0 | O26: 0 | P26: =O26*P15 -> 0
A27: Specificeren | C27: 0 | D27: =C27*D15 -> 0 | F27: 0 | G27: =F27*G15 -> 0 | I27: 0 | J27: =I27*J15 -> 0 | L27: 0 | M27: =L27*M15 -> 0 | O27: 0 | P27: =O27*P15 -> 0
C28: =SUM(C17:C27) -> 0 | D28: =C28*D15 -> 0 | F28: =SUM(F17:F27) -> 0 | G28: =F28*G15 -> 0 | I28: =SUM(I17:I27) -> 0 | J28: =I28*J15 -> 0 | L28: =SUM(L17:L27) -> 0 | M28: =L28*M15 -> 0 | O28: =SUM(O17:O27) -> 0 | P28: =O28*P15 -> 0
D29: =D15+D28 -> 1.3587951 | G29: =G15+G28 -> 1.2138053 | J29: =J15+J28 -> 1.08 | M29: =M15+M28 -> 1.08 | P29: =P15+P28 -> 1
A30: Additionele werkgeverslasten
A31: Specificeren | C31: 0 | D31: =C31*D29 -> 0 | F31: 0 | G31: =F31*G29 -> 0 | I31: 0 | J31: =I31*J29 -> 0 | L31: 0 | M31: =L31*M29 -> 0 | O31: 0 | P31: =O31*P29 -> 0
A32: Specificeren | C32: 0 | D32: =C32*D29 -> 0 | F32: 0 | G32: =F32*G29 -> 0 | I32: 0 | J32: =I32*J29 -> 0 | L32: 0 | M32: =L32*M29 -> 0 | O32: 0 | P32: =O32*P29 -> 0
A33: Specificeren | C33: 0 | D33: =C33*D29 -> 0 | F33: 0 | G33: =F33*G29 -> 0 | I33: 0 | J33: =I33*J29 -> 0 | L33: 0 | M33: =L33*M29 -> 0 | O33: 0 | P33: =O33*P29 -> 0
A34: Specificeren | C34: 0 | D34: =C34*D29 -> 0 | F34: 0 | G34: =F34*G29 -> 0 | I34: 0 | J34: =I34*J29 -> 0 | L34: 0 | M34: =L34*M29 -> 0 | O34: 0 | P34: =O34*P29 -> 0
C35: =SUM(C31:C34) -> 0 | D35: =D29*C35 -> 0 | F35: =SUM(F31:F34) -> 0 | G35: =G29*F35 -> 0 | I35: =SUM(I31:I34) -> 0 | J35: =J29*I35 -> 0 | L35: =SUM(L31:L34) -> 0 | M35: =M29*L35 -> 0 | O35: =SUM(O31:O34) -> 0 | P35: =P29*O35 -> 0
A36: Kostprijs regulier declarabele uren model 2 | D36: =D29+D35 -> 1.3587951 | G36: =G29+G35 -> 1.2138053 | J36: =J29+J35 -> 1.08 | M36: =M29+M35 -> 1.08 | P36: =P29+P35 -> 1
A38: Toelichting:
A39: N.B. 1 Jaarlijks worden per 1 januari, eenmalig de kostprijzen aangepast, na goedkeuring van Opdrachtgever. De reservering feestdagen/verlof en IKB worden door opdrachtgever gewijzigd op het moment dat die wijziging van toepassing is, maar in ieder geval per 1 januari.
A40: NB 2:Uitleg invullen sheet: alle reserveringen moeten worden ingevuld in de blauwe niet beveiligde cellen. De reserveringen worden automatisch doorberekend en komen als kostprijs in het sheet te staan. In het donkergrijze blok 3 'Additionele werkgeverslasten' kunnen bedrijfspecifieke omschrijvingen opgenomen worden. Tijdens de duur van het contract wordt Blok 3; Additionele werkgeverslasten niet meer aangepast.
A41: N.B. 3: De eerstvolgende wijziging is per 1-1-2028.

Sheet AOW declarabel model 2  2027 
A1: Naam Aanbieder: | B1: ='Omrekenfactoren 2027'!B1 -> SVP invullen
C3: Overeenkomst AOW gerechtigde normale uren declarabel | F3: Overeenkomst AOW toeslaguren declarabel | I3: Overeenkomst overuren AOW declarabel | L3: Belaste vergoedingen 1 AOW Declarabele uren | O3: Belaste vergoedingen 2 AOW Declarabele uren
A5: Salaris
A6: Bruto uursalaris | C6: 1 | D6: =C6 -> 1 | F6: 1 | G6: =F6 -> 1 | I6: 1 | J6: =I6 -> 1 | L6: 1 | M6: =L6 -> 1 | O6: 1 | P6: =O6 -> 1
D7: =SUM(D6:D6) -> 1 | G7: =SUM(G6:G6) -> 1 | J7: =SUM(J6:J6) -> 1 | M7: =SUM(M6:M6) -> 1 | P7: =SUM(P6:P6) -> 1
A8: Reserveringen (zie tabblad vakantie/feestdagen)
A9: Feestdagen | C9: ='[1]Toelichting Vakantie-feestdagen'!B1 -> 0.030973451 | D9: =C9*D7 -> 0.030973451 | F9: 0 | G9: =F9*G7 -> 0 | I9: 0 | J9: =I9*J7 -> 0 | L9: 0 | M9: =L9*M7 -> 0 | O9: 0 | P9: =O9*P7 -> 0
A10: Vakantiedagen | C10: ='[1]Toelichting Vakantie-feestdagen'!B2 -> 0.12389381 | D10: =C10*D7 -> 0.12389381 | F10: =C10 -> 0.12389381 | G10: =F10*G7 -> 0.12389381 | I10: 0 | J10: =I10*J7 -> 0 | L10: 0 | M10: =L10*M7 -> 0 | O10: 0 | P10: =O10*P7 -> 0
A11: Kort verzuim / buitengewoon verlof | C11: 0.006 | D11: =C11*D7 -> 0.006 | F11: 0 | G11: =F11*G7 -> 0 | I11: 0 | J11: =I11*J7 -> 0 | L11: 0 | M11: =L11*M7 -> 0 | O11: 0 | P11: =O11*P7 -> 0
C12: =SUM(C9:C11) -> 0.16086726 | D12: =D7*C12 -> 0.16086726 | F12: =SUM(F9:F11) -> 0.12389381 | G12: =G7*F12 -> 0.12389381 | I12: =SUM(I9:I11) -> 0 | J12: =J7*I12 -> 0 | L12: =SUM(L9:L11) -> 0 | M12: =M7*L12 -> 0 | O12: =SUM(O9:O11) -> 0 | P12: =P7*O12 -> 0
D13: =D7+D12 -> 1.1608673 | G13: =G7+G12 -> 1.1238938 | J13: =J7+J12 -> 1 | M13: =M7+M12 -> 1 | P13: =P7+P12 -> 1
A14: Reservering IKB (Individueel Keuze Budget; 8% vakantietoeslag, 1,5% levensloopregeling en 7,55% eindejaarsuitkering) | C14: 0.1705 | D14: =D13*C14 -> 0.19792787 | F14: 0.08 | G14: =G13*F14 -> 0.089911504 | I14: 0.08 | J14: =J13*I14 -> 0.08 | L14: 0.08 | M14: =M13*L14 -> 0.08 | O14: 0 | P14: =P13*O14 -> 0
D15: =SUM(D13:D14) -> 1.3587951 | G15: =SUM(G13:G14) -> 1.2138053 | J15: =SUM(J13:J14) -> 1.08 | M15: =SUM(M13:M14) -> 1.08 | P15: =SUM(P13:P14) -> 1
A16: Werkgeverslasten
A17: Ziektewet | C17: 0 | D17: =C17*D15 -> 0 | F17: 0 | G17: =F17*G15 -> 0 | I17: 0 | J17: =I17*J15 -> 0 | L17: 0 | M17: =L17*M15 -> 0 | O17: 0 | P17: =O17*P15 -> 0
A18: Premie AWF | C18: 0 | D18: =C18*D15 -> 0 | F18: 0 | G18: =F18*G15 -> 0 | I18: 0 | J18: =I18*J15 -> 0 | L18: 0 | M18: =L18*M15 -> 0 | O18: 0 | P18: =O18*P15 -> 0
A19: Zorgverzekeringswet (ZVW) | C19: 0 | D19: =C19*D15 -> 0 | F19: 0 | G19: =F19*G15 -> 0 | I19: 0 | J19: =I19*J15 -> 0 | L19: 0 | M19: =L19*M15 -> 0 | O19: 0 | P19: =O19*P15 -> 0
A20: AOF incl. kinderopvang | C20: 0 | D20: =C20*D15 -> 0 | F20: 0 | G20: =F20*G15 -> 0 | I20: 0 | J20: =I20*J15 -> 0 | L20: 0 | M20: =L20*M15 -> 0 | O20: 0 | P20: =O20*P15 -> 0
A21: WGA | C21: 0 | D21: =C21*D15 -> 0 | F21: 0 | G21: =F21*G15 -> 0 | I21: 0 | J21: =I21*J15 -> 0 | L21: 0 | M21: =L21*M15 -> 0 | O21: 0 | P21: =O21*P15 -> 0
A22: Transitievergoeding | C22: 0 | D22: =C22*D15 -> 0 | F22: 0 | G22: =F22*G15 -> 0 | I22: 0 | J22: =I22*J15 -> 0 | L22: 0 | M22: =L22*M15 -> 0 | O22: 0 | P22: =O22*P15 -> 0
A23: Pensioen reservering ABP | C23: 0 | D23: =C23*D15 -> 0 | F23: 0 | G23: =F23*G15 -> 0 | I23: 0 | J23: =I23*J15 -> 0 | L23: 0 | M23: =L23*M15 -> 0 | O23: 0 | P23: =O23*P15 -> 0
A24: Specificeren | C24: 0 | D24: =C24*D15 -> 0 | F24: 0 | G24: =F24*G15 -> 0 | I24: 0 | J24: =I24*J15 -> 0 | L24: 0 | M24: =L24*M15 -> 0 | O24: 0 | P24: =O24*P15 -> 0
A25: Specificeren | C25: 0 | D25: =C25*D15 -> 0 | F25: 0 | G25: =F25*G15 -> 0 | I25: 0 | J25: =I25*J15 -> 0 | L25: 0 | M25: =L25*M15 -> 0 | O25: 0 | P25: =O25*P15 -> 0
A26: Specificeren | C26: 0 | D26: =C26*D15 -> 0 | F26: 0 | G26: =F26*G15 -> 0 | I26: 0 | J26: =I26*J15 -> 0 | L26: 0 | M26: =L26*M15 -> 0 | O26: 0 | P26: =O26*P15 -> 0
A27: Specificeren | C27: 0 | D27: =C27*D15 -> 0 | F27: 0 | G27: =F27*G15 -> 0 | I27: 0 | J27: =I27*J15 -> 0 | L27: 0 | M27: =L27*M15 -> 0 | O27: 0 | P27: =O27*P15 -> 0
C28: =SUM(C17:C27) -> 0 | D28: =C28*D15 -> 0 | F28: =SUM(F17:F27) -> 0 | G28: =F28*G15 -> 0 | I28: =SUM(I17:I27) -> 0 | J28: =I28*J15 -> 0 | L28: =SUM(L17:L27) -> 0 | M28: =L28*M15 -> 0 | O28: =SUM(O17:O27) -> 0 | P28: =O28*P15 -> 0
D29: =D15+D28 -> 1.3587951 | G29: =G15+G28 -> 1.2138053 | J29: =J15+J28 -> 1.08 | M29: =M15+M28 -> 1.08 | P29: =P15+P28 -> 1
A30: Additionele werkgeverslasten
A31: Specificeren | C31: 0 | D31: =C31*D29 -> 0 | F31: 0 | G31: =F31*G29 -> 0 | I31: 0 | J31: =I31*J29 -> 0 | L31: 0 | M31: =L31*M29 -> 0 | O31: 0 | P31: =O31*P29 -> 0
A32: Specificeren | C32: 0 | D32: =C32*D29 -> 0 | F32: 0 | G32: =F32*G29 -> 0 | I32: 0 | J32: =I32*J29 -> 0 | L32: 0 | M32: =L32*M29 -> 0 | O32: 0 | P32: =O32*P29 -> 0
A33: Specificeren | C33: 0 | D33: =C33*D29 -> 0 | F33: 0 | G33: =F33*G29 -> 0 | I33: 0 | J33: =I33*J29 -> 0 | L33: 0 | M33: =L33*M29 -> 0 | O33: 0 | P33: =O33*P29 -> 0
A34: Specificeren | C34: 0 | D34: =C34*D29 -> 0 | F34: 0 | G34: =F34*G29 -> 0 | I34: 0 | J34: =I34*J29 -> 0 | L34: 0 | M34: =L34*M29 -> 0 | O34: 0 | P34: =O34*P29 -> 0
C35: =SUM(C31:C34) -> 0 | D35: =D29*C35 -> 0 | F35: =SUM(F31:F34) -> 0 | G35: =G29*F35 -> 0 | I35: =SUM(I31:I34) -> 0 | J35: =J29*I35 -> 0 | L35: =SUM(L31:L34) -> 0 | M35: =M29*L35 -> 0 | O35: =SUM(O31:O34) -> 0 | P35: =P29*O35 -> 0
A36: Kostprijs declarabele uren AOW model 2 | D36: =D29+D35 -> 1.3587951 | G36: =G29+G35 -> 1.2138053 | J36: =J29+J35 -> 1.08 | M36: =M29+M35 -> 1.08 | P36: =P29+P35 -> 1
A38: Toelichting:
A39: N.B. 1 Jaarlijks worden per 1 januari, eenmalig de kostprijzen aangepast, na goedkeuring van Opdrachtgever. De reservering feestdagen/verlof en IKB worden door opdrachtgever gewijzigd op het moment dat die wijziging van toepassing is, maar in ieder geval per 1 januari.
A40: NB 2:Uitleg invullen sheet: alle reserveringen moeten worden ingevuld in de blauwe niet beveiligde cellen. De reserveringen worden automatisch doorberekend en komen als kostprijs in het sheet te staan. In het donkergrijze blok 3 'Additionele werkgeverslasten' kunnen bedrijfspecifieke omschrijvingen opgenomen worden. Tijdens de duur van het contract wordt Blok 3; Additionele werkgeverslasten niet meer aangepast.
A41: N.B. 3: De eerstvolgende wijziging is per 1-1-2028

Sheet Toelichting Vakantie-feestdagen
A1: Feestdagen o.b.v. 7 feestdagen | B1: =F4/F5 -> 0.030973451 | F1: 365 | G1: Dagen per jaar
A2: Vakantiedagen (wettelijke en bovenwettelijk verlofdagen) | B2: =F3/F5 -> 0.12389381 | F2: 104 | G2: Weekend dagen
F3: 28 | G3: Wettelijk 144 uur en bovenwettelijk verlof 57.6 uur --> 28 dagen per jaar (144/7.2= 20 dagen + 57.6/7.2= 8 dagen)
F4: 7 | G4: Feestdagen
F5: =F1-F2-F3-F4 -> 226 | G5: Werkbare dagen
A9: N.B. Jaarlijks worden deze reserveringen aangepast door opdrachtgever, indien er een wijziging in de dagen van toepassing is.

Sheet Toelichting belaste vergoeding
A1: Vergoedingen | B1: Artikel in de CAO gemeenten of de CAO sgo | C1: Vast bedrag/open bedrag of % | D1: Belast of onbelaste verboeding of uitruil | E1: Specifiek voor één of meerdere gemeenten | F1: Bruto/netto | G1: Belastbare vergoeding - welke afdrachten per vergoeding (incl of excl IKB en welke andere lasten, svp alle afdrachten aangeven) | H1: Omrekenfactor (nader vast te stellen nav deze input)
A2: Jubileumuitkering | B2: Artikel 3.17 | C2: Open bedrag | D2: Belast en of onbelast | F2: Bruto/netto | G2: Zie NB 1 | H2: Belaste vergoeding 1
A3: Uitstekend functioneren of bijzondere prestaties | B3: Artikel 3.18 | C3: Open bedrag | D3: Belast | F3: Bruto | G3: Zie NB 1 | H3: Belaste vergoeding 1
A4: Overwerkvergoeding | B4: Artikel 3.19 | C4: % | D4: Belast | F4: Bruto | G4: 8% IKB opbouw | H4: Belaste vergoeding 2
A5: Vergoeding BHV, EHBO en interventieteam | B5: Artikel 3.20 | C5: Vast bedrag | D5: Belast | F5: Bruto | H5: Belaste vergoeding 2
A6: Reis- en verblijfkostenvergoeding | B6: Artikel 3.21 | C6: Open bedrag | D6: Onbelast | F6: Netto | H6: 1:1
A7: Vergoeding dienstreis onbelast | B7: - | C7: Vast bedrag | D7: Onbelast | F7: Netto | H7: 1:1
A8: Vergoeding dienstreis belast | B8: - | C8: Vast bedrag | D8: Belast | F8: Netto | G8: Valt in de vrije ruimte van de WKR | H8: 1:1
A9: Vergoeding parkeerkosten | B9: - | C9: Open bedrag | D9: Belast en of onbelast | F9: Netto | G9: Soms bruteren en anders in de vrije ruimte WKR | H9: 1:1
A10: Reiskostenvergoeding woon-werk auto | B10: Artikel 3.22 | C10: Vast bedrag | D10: Onbelast | F10: Netto | H10: 1:1
A11: Reiskostenvergoeding woon-werk openbaar vervoer | B11: Artikel 3.22 | C11: Open bedrag | D11: Onbelast | F11: Netto | H11: 1:1
A12: Reiskostenvergoeding woon-werk fiets | B12: Artikel 3.22 | C12: Vast bedrag | D12: Onbelast | F12: Netto | H12: 1:1
A13: Vergoeding hybride werken | B13: Artikel 3.23 | C13: Vast bedrag | D13: Onbelast | F13: Netto | H13: 1:1
A14: Tegemoetkoming kosten collectieve zorgverzekering | B14: Artikel 3.25 | C14: Vast bedrag | D14: Belast | F14: Netto | G14: Zie NB 1 | H14: Belaste vergoeding 1
A15: Structurele toelage overgangsrecht (TOR) | B15: Artikel 3.26 | C15: % van vast bedrag | D15: Belast | F15: Bruto | G15: 8% IKB opbouw Incl. opbouw pensioenpremie | H15: Belaste vergoeding 2
A16: Dinervergoeding | B16: - | C16: Open bedrag | D16: Onbelast | F16: Netto | H16: 1:1
A17: Lunchvergoeding | B17: - | C17: Open bedrag | D17: Onbelast | F17: Netto | H17: 1:1
A18: (Werk-)kledingvergoeding | B18: - | C18: Open bedrag | D18: Belast en of onbelast | F18: Netto | G18: Onbelast wanneer logo met max. afmeting aanwezig is. | H18: 1:1
A19: Vergoeding persoonlijke arbo hulpmiddelen | B19: - | C19: Open bedrag | D19: Belast en/of onbelast | F19: Netto | G19: Gericht vrijgesteld onder bepaalde voorwaarden | H19: 1:1
A20: VOG vergoeding | B20: - | C20: Vast bedrag | D20: Onbelast | F20: Netto | H20: 1:1
A21: Vergoeding aanschaf beeldschermbril | B21: - | C21: Open bedrag | D21: Onbelast | F21: Netto | H21: 1:1
A22: Tegemoetkoming kosten arbeidsongeschiktheidsverzekering (AO) | B22: - | C22: Vast bedrag | D22: Belast | F22: Bruto | G22: Zie NB 1 | H22: Belaste vergoeding 1
A23: Aanbrengpremie | B23: - | C23: Vast bedrag | D23: Belast en/of onbelast | F23: Netto/bruto | G23: In WKR tot € 10,000,-, daarna bruteren | H23: 1:1
A24: Inconveniënten oproeppremie (Afvalinzameling, Gladheidbestrijding en de Bomenploeg) | B24: - | C24: Vast bedrag | D24: Belast | F24: Netto | G24: Zie NB 1 | H24: Belaste vergoeding 1
A25: Toelage Sociaal Rechercheurs | B25: - | C25: Vast percentage 10% | D25: Belast | F25: bruto | G25: 8% IKB opbouw Incl. opbouw pensioenpremie | H25: Belaste vergoeding 2
A26: Eenmalige uitkering | B26: Artikel 3.18 | C26: Open bedrag | D26: Belast | F26: Bruto | G26: Zie NB 1 | H26: Belaste vergoeding 1
A27: Wachtdienstvergoeding | B27: - | C27: Vast percentage 8% | D27: Belast | F27: Bruto | H27: Belaste vergoeding 1
A28: Vergoeding thuiswerkfaciliteiten | B28: - | C28: Vast bedrag | D28: Onbelast | F28: Netto | G28: Valt in de vrije ruimte van de WKR | H28: 1:1
A29: Vergoeding beroepsvaccinatie | B29: - | C29: Open bedrag | D29: Onbelast | F29: Netto | G29: Is gericht vrijgesteld in de WKR | H29: 1:1
A30: Koffiegeld | B30: - | C30: Vast bedrag | D30: Onbelast | F30: Netto | G30: Valt in de vrije ruimte van de WKR | H30: 1:1
A31: Vergoeding werkgeversbijdrage leasefiets | B31: - | C31: Vast bedrag | D31: Onbelast | F31: Netto | H31: 1:1
A34: Salaristoelagen | B34: Artikel in de CAO gemeenten of de CAO sgo | C34: Vast bedrag/open bedrag of % | D34: Belast of onbelaste verboeding of uitruil | E34: Specifiek voor één of meerdere gemeenten | F34: Bruto/netto | G34: Belastbare vergoeding - welke afdrachten per vergoeding (incl of excl IKB en welke andere lasten, svp alle afdrachten aangeven) | H34: Omrekenfactor (nader vast te stellen nav deze input)
A35: Functioneringstoelage | B35: Artikel 3.8 | C35: Open bedrag | D35: Belast | F35: Bruto | G35: 8% IKB opbouw | H35: Belaste vergoeding 2
A36: Arbeidsmarkttoelage | B36: Artikel 3.9 | C36: Open bedrag | D36: Belast | F36: Bruto | G36: 8% IKB opbouw | H36: Belaste vergoeding 2
A37: Waarnemingstoelage | B37: Artikel 3.10 | C37: Open bedrag | D37: Belast | F37: Bruto | G37: 8% IKB opbouw Incl. opbouw pensioenpremie | H37: Belaste vergoeding 2
A38: Toelage onregelmatige dienst | B38: Artikel 3.11 | C38: % | D38: Belast | F38: Bruto | G38: 8% IKB opbouw Incl. opbouw pensioenpremie | H38: Belaste vergoeding 2
A39: Buitendagvenstertoelage | B39: Artikel 3.12 | C39: % | D39: Belast | F39: Bruto | G39: 8% IKB opbouw Incl. opbouw pensioenpremie | H39: Belaste vergoeding 2
A40: Toelage beschikbaarheidsdienst | B40: Artikel 3.13 | C40: % | D40: Belast | F40: Bruto | G40: 8% IKB opbouw Incl. opbouw pensioenpremie | H40: Belaste vergoeding 2
A41: Inconveniëntentoelage | B41: Artikel 3.14 | C41: Vast bedrag | D41: Belast | F41: Bruto | G41: 8% IKB opbouw Incl. opbouw pensioenpremie | H41: Belaste vergoeding 2
A42: Garantietoelage | B42: Artikel 3.15 | C42: Open bedrag | D42: Belast | F42: Bruto | G42: 8% IKB opbouw Incl. opbouw pensioenpremie | H42: Belaste vergoeding 2
...

Sheet Vergoedingen IKB-Pensioengevend
A1: Doorwerking IKB en pensioen (hoofdstuk 3 salaristoelagen en vergoedingen in IKB)
A2: Toelagen | B2: Artikel CAO gemeente | C2: Doorwerking in artikel 4.2 lid 1 onder b (voormalig Eindejaarsuitkering)? | D2: Doorwerking in artikel 4.2 lid 1 onder c (voormalig Levensloopregeling)? | E2: Doorwerking in artikel 4.2 lid 1 onder a (voormalig Vakantietoelast)? | F2: Pensioengevend?
A3: Functioneringstoelage | B3: Artikel 3.8 | C3: Nee | D3: Nee | E3: Ja | F3: Ja
A4: Arbeidsmarkttoelage | B4: Artikel 3.9 | C4: Nee | D4: Nee | E4: Ja | F4: Ja
A5: Waarnemingstoelage | B5: Artikel 3.10 | C5: Nee | D5: Nee | E5: Ja | F5: Ja
A6: Toelage onregelmatige dienst | B6: Artikel 3.11 | C6: Nee | D6: Nee | E6: Ja | F6: Ja
A7: Buitendagvenstertoelage | B7: Artikel 3.12 | C7: Nee | D7: Nee | E7: Ja | F7: Ja
A8: Toelage Beschikbaarheidsdienst | B8: Artikel 3.13 | C8: Nee | D8: Nee | E8: Ja | F8: Ja
A9: Inconveniëntentoelage | B9: Artikel 3.14 | C9: Nee | D9: Nee | E9: Ja | F9: Ja
A10: Garantietoelage | B10: Artikel 3.15 | C10: Nee | D10: Nee | E10: Ja | F10: Ja
A11: Garantietoelage nachtdiensten | B11: Artikel 3.15a | C11: Nee | D11: Nee | E11: Ja | F11: Ja
A12: Afbouwtoelage | B12: Artikel 3.16 | C12: Nee | D12: Nee | E12: Ja | F12: Ja
A13: Overwerkvergoeding | B13: Artikel 3.19 | C13: Nee | D13: Nee | E13: Ja | F13: Nee, in het geval van variabel overwerk
... A16: Vergoeding BHV, EHBO en interventieteam | B16: Artikel 3.20 | C16: Nee | D16: Nee | E16: Nee | F16: Nee
