Workbook

Sheet Toelichting en voorwaarden
A1: # | B1: Bijgaand treft u het prijzenblad voor het perceel 1 uitzend dienstverlening. Hieronder wordt een en ander toegelicht en hier staan tevens de voorwaarden die van toepassing zijn gedurende de looptijd van de raamovereenkomst.
A2: P1 | B2: De naam van de inschrijver hoeft maar 1x ingevuld te worden, in cel B2 op het tabblad "omrekenfactoren"
A3: P2 | B3: De kostprijzen gedetailleerd ingevuld te worden, de bureaumarge en de organisatienaam (cel b2) bij tabblad omrekenfactoren dient ingevuld te worden en alle roze tabbladen zijn toelichting tabbladen, deze hoeven niet ingevuld te worden. Opdrachtnemer dient zowel bij zijn inschrijving als bij wijzigingen, gedurende de looptijd van de Raamovereenkomst, inzicht te geven in de opbouw van de kostprijs. Hiervoor dient inschrijver dit prijzenblad te gebruiken.
A4: P3 | B4: Met betrekking tot de vergoedingen geven de laatste 2 tabbladen uitleg over de afdrachten en wat van toepassing is.
A5: P4 | B5: Bij de kostprijzen staan er een aantal velden benoemd als "specificeren", hier kunt u de organisatie specifieke lasten benoemen en aangeven.
A6: P5 | B6: Bij het tabblad Omrekenfactoren (groen), daar kunt u alleen bureaumarge (inclusief feevergoeding) voor de normale uren invullen, alle overige urensoorten zijn beperkt met 2,5% feevergoeding (de afdracht aan RWB). Voor belaste vergoedingen is de feevergoeding van 2,5% niet van toepassing.
A7: P6 | B7: De bureaumarge wordt gedurende de looptijd niet meer aangepast, deze blijft gelijk. De bureaumarge mag dus in geen geval geïndexeerd worden.
A8: P7 | B8: Het onderste blok "Additionele werkgeverslasten" worden ook niet meer aangepast gedurende de looptijd van de raamovereenkomst.
A9: P8 | B9: Indien er velden bij de kostprijs tabbladen niet van toepassing zijn, dan kunt u deze leeg laten.
A10: P9 | B10: Scholing; hiervoor is 1,02% opgenomen in de kostprijs. Inschrijver kan hiermee de basis van scholing aanbieden via haar eigen platform of middelen. Er dient een overzicht aangeleverd te worden voor de onderbouwing van de uitgaven en reservering van het totaal aantal werkenden. Indien er specifieke scholing ingezet dient te worden voor de gemeente, dient er akkoord gegeven te worden, indien dit doorbelast wordt ( zonder bureaumarge).
A11: P10 | B11: Kort verzuim is gebaseerd op de officiële percentages van de ABU CAO (2025) uitvoering voor kort verzuim worden gevolgd vanuit de eerder gepubliceerde richtlijnen ABU CAO (artikel 28). Indien er additioneel kort verzuim vanuit de CAO inlener van toepassing zijn, kunnen deze doorbelast worden, na akkoord en overleg met Opdrachtgever
A12: P11 | B12: De (Boven) wettelijk verlofdagen en feestdagen worden door aanbestedende dienst aangepast, indien er een wijziging is vanuit de CAO Gemeente of SGO.
... A27: P26 | B27: Indien een verklaring omtrent gedrag wordt gevraagd, worden de kosten hiervan zonder bureaumarge doorberekend aan Opdrachtgever.
A28: Werving voor een vaste aanstelling (geen uitzend of detacheringsovereenkomst)
A29: P27 | B29: Voor alle vacatures voor een aanstelling bij de Opdrachtgever, geldt dat Opdrachtnemer een werving en selectie fee rekent van 18% van het bruto jaarsalaris (naar rato van het aantal uren fulltime/parttime), exclusief bonus, inclusief eindejaarsuitkering aan de Opdrachtgever. Dit is dus alleen van toepassing als een kandidaat nog niet tewerkgesteld is bij de Opdrachgever.
A30: P28 | B30: Indien Opdrachtgever zelf de werving heeft gestart en de kandidaat heeft zich ook via de Opdrachtnemer ingeschreven, geldt dat als de kandidaat eerder heeft gesolliciteerd bij de Opdrachtgever dan dat deze kandidaat wordt aangeboden, dat er geen fee betaalt hoeft te worden door de Opdrachtgever aan Opdrachtnemer. Indien kandidaat solliciteert nadat deze is voorgesteld door Opdrachtnemer, dan dienen partijen met elkaar in overleg te gaan en hierover een consensus te vinden.
A31: Overname door Opdrachtgever bij een lopende tewerkstelling
A32: P29 | B32: Gedurende de looptijd van het contract geldt dat indien een Flexibele Arbeidskracht minder dan 520 uur of tot 26 weken gewerkt heeft, er door de Opdrachtnemer 20% van het tarief als bemiddeling fee naar rato wordt berekend, dus tot maximaal 520 uur en gefactureerd aan de Opdrachtgever, tenzij anders overeengekomen (maatwerk).
A33: Feevergoeding applicatie
A34: P30 | B34: Opdrachtnemer is een feevergoeding verschuldigd aan Regio West-Brabant over de omzet die is gerealiseerd bij de Opdrachtgevers gedurende de looptijd van de raamovereenkomst. Onder de omzet verstaan we de bedragen die aan de deelnemende organisaties worden gefactureerd via het tarief excl. BTW. De feevergoeding bedraagt 2,5%. Vanaf het moment dat de Raamovereenkomst ingaat en per gefactureerd uur draagt u een feevergoeding af van 2,5%. Onkostenvergoedingen zoals reiskosten zijn hiervan dus uitgezonderd.
A35: P31 | B35: In beginsel wordt de feevergoeding per kwartaal aan Opdrachtnemer in rekening gebracht. Voor het voldoen van de feevergoeding geldt een betalingstermijn van 30 dagen.
A36: P32 | B36: De feevergoeding wordt gebruikt voor de dekking van de kosten van de inhuurdesk.
A37: P33 | B37: Feevergoeding is gebaseerd op de totale omzet, gerealiseerd door Opdrachtnemer, ongeacht of de facturatie en/of aanvragen via de applicatie verlopen.

Sheet Gemiddeld gewogen ORF
A2: Naam inschrijver | B2: ='Omrekenfactoren 2027'!B2 -> SVP invullen
A3: Risicogroep uitzendbedrijven I - Administratief Tariefsoort | B3: Gewogen gemiddelde omreken factor | C3: Weging | D3: Toelichting
A4: Overeenkomst Fase A - reguliere normale uren | B4: ='Omrekenfactoren 2027'!D5 -> 1.6738997 | C4: =D4*D7 -> 0.552 | D4: 0.6 | E4: Fase A
A5: Overeenkomst Fase A - reguliere toeslaguren | B5: ='Omrekenfactoren 2027'!D6 -> 1.5209292 | C5: =D4*D8 -> 0.018 | D5: 0.4 | E5: Fase B/C
A6: Overeenkomst Fase A - reguliere overuren | B6: ='Omrekenfactoren 2027'!D7 -> 1.3532677 | C6: =D4*D9 -> 0.006
A7: Overeenkomst Fase A - AOW gerechtigde normale uren | B7: ='Omrekenfactoren 2027'!D12 -> 1.4417223 | C7: =D4*D10 -> 0.024 | D7: 0.92 | E7: Regulier normale uren
A8: Bepaalde tijd ovk. Fase B/C - reguliere normale uren | B8: ='Omrekenfactoren 2027'!D16 -> 1.6711821 | C8: =D5*D7 -> 0.368 | D8: 0.03 | E8: Toeslag/onregelmatige uren
A9: Bepaalde tijd ovk. Fase B/C- reguliere toeslaguren | B9: ='Omrekenfactoren 2027'!D17 -> 1.5184393 | C9: =D5*D8 -> 0.012 | D9: 0.01 | E9: Overuren
A10: Bepaalde tijd ovk. Fase B/C - reguliere overuren | B10: ='Omrekenfactoren 2027'!D18 -> 1.3510523 | C10: =D5*D9 -> 0.004 | D10: 0.04 | E10: AOW gerechtigde normale uren
A11: Bepaalde tijd ovk. Fase B/C - AOW gerechtigde normale uren | B11: ='Omrekenfactoren 2027'!D21 -> 1.4417223 | C11: =D5*D10 -> 0.016
A12: Gemiddeld gewogen omrekenfactor KCC pool | B12: =('Omrekenfactoren 2027'!G5+'Omrekenfactoren 2027'!G16)/2 -> 1.6725409
A13: Weging Risicogroep uitzendbedrijven I - Administratief Tariefsoort | B13: =AVERAGE(B4*C4)+(B5*C5)+(B6*C6)+(B7*C7)+(B8*C8)+(B9*C9)+(B10*C10)+(B11*C11) -> 1.6557784 | C13: =SUM(C4:C11) -> 1 | D13: =SUM(D7:D10) -> 1 | E13: 0.6
A14: Risicogroep uitzendbedrijven II - Technisch Tariefsoort | B14: Gewogen gemiddelde omreken factor | C14: Weging | D14: Toelichting
A15: Overeenkomst Fase A - reguliere normale uren | B15: ='Omrekenfactoren 2027'!D27 -> 1.6738997 | C15: =D15*D18 -> 0.534 | D15: 0.6 | E15: Fase A
A16: Overeenkomst Fase A - reguliere toeslaguren | B16: ='Omrekenfactoren 2027'!D28 -> 1.5209292 | C16: =D15*D19 -> 0.036 | D16: 0.4 | E16: Fase B/C
A17: Overeenkomst Fase A - reguliere overuren | B17: ='Omrekenfactoren 2027'!D29 -> 1.3532677 | C17: =D15*D20 -> 0.006
A18: Overeenkomst Fase A - AOW gerechtigde normale uren | B18: ='Omrekenfactoren 2027'!D34 -> 1.4417223 | C18: =D15*D21 -> 0.024 | D18: 0.89 | E18: Regulier normale uren
A19: Bepaalde tijd ovk. Fase B/C - reguliere normale uren | B19: ='Omrekenfactoren 2027'!D38 -> 1.6711821 | C19: =D16*D18 -> 0.356 | D19: 0.06 | E19: Toeslag/onregelmatige uren
A20: Bepaalde tijd ovk. Fase B/C - reguliere toeslaguren | B20: ='Omrekenfactoren 2027'!D39 -> 1.5184393 | C20: =D16*D19 -> 0.024 | D20: 0.01 | E20: Overuren
A21: Bepaalde tijd ovk. Fase B/C - reguliere overuren | B21: ='Omrekenfactoren 2027'!D40 -> 1.3510523 | C21: =D16*D20 -> 0.004 | D21: 0.04 | E21: AOW gerechtigde normale uren
A22: Bepaalde tijd ovk. Fase B/C - AOW gerechtigde normale uren | B22: ='Omrekenfactoren 2027'!D43 -> 1.4417223 | C22: =D16*D21 -> 0.016
A23: Gemiddeld gewogen omrekenfactor Afvalservice pool | B23: =B24 -> 1.651192
A24: Weging Risicogroep uitzendbedrijven II - Technisch Tariefsoort | B24: =AVERAGE(B15*C15)+(B16*C16)+(B17*C17)+(B18*C18)+(B19*C19)+(B20*C20)+(B21*C21)+(B22*C22) -> 1.651192 | C24: =SUM(C15:C22) -> 1 | D24: =SUM(D18:D21) -> 1 | E24: 0.4
A26: Gemiddeld gewogen omrekenfactor uitzenden RG I en II | B26: =(B13*E13)+(B24*E24) -> 1.6539438
A29: Toelichting: Indien er in B26 geen omrekenfactor komt te staan, dan is het belangrijk om het tabblad Omrekenfactoren na te kijken of daar de kostprijs van alle verschillende urensoorten en fases ingevuld zijn. Zo niet, dan dienen de kostprijs tabbladen gedetalleerd ingevuld te worden. Indien er geen reële factor in kolom B komt te staan, kan de inschrijver niet beoordeeld worden.
A30: N.B. Gemiddeld gewogen omrekenfactor en omrekenfactoren gelden op basis van 4 decimalen achter de komma gewogen.

Sheet Omrekenfactoren 2027
A2: Naam | B2: SVP invullen
B3: Functies van loonschaal t/m 7/8 -VMBO/MBO/MBO+HBO | E3: KCC medewerkers (poolmanagement) en directie secretaresses
A4: Risicogroep uitzendbedrijven I - Administratief Tariefsoort | B4: Kostprijs Administratief | C4: Bureau marge % incl Fee RWB | D4: Omreken factor | E4: Kostprijs Administratief | F4: Bureau marge % incl Fee RWB | G4: Omreken factor
A5: Fase A - Reguliere normale uren | B5: ='KP regulier normale uren 2027'!C38*100 -> 167.38997 | C5: 0 | D5: =B5/(100-C5) -> 1.6738997 | E5: =B5 -> 167.38997 | F5: 0 | G5: =E5/(100-F5) -> 1.6738997
A6: Fase A - Reguliere toeslaguren | B6: ='KP regulier toeslaguren 2027'!C38*100 -> 148.29059 | C6: 2.5 | D6: =B6/(100-C6) -> 1.5209292 | E6: =B6 -> 148.29059 | F6: 2.5 | G6: =E6/(100-F6) -> 1.5209292
A7: Fase A - Reguliere overuren | B7: ='KP reguliere overuren 2027'!C38*100 -> 131.9436 | C7: 2.5 | D7: =B7/(100-C7) -> 1.3532677 | E7: =B7 -> 131.9436 | F7: 2.5 | G7: =E7/(100-F7) -> 1.3532677
A8: Fase A - Vakantiekrachten normale uren | B8: ='KP vakantiekrachten 2027'!C38*100 -> 151.44864 | C8: 0 | D8: =B8/(100-C8) -> 1.5144864 | E8: =B8 -> 151.44864 | F8: 0 | G8: =E8/(100-F8) -> 1.5144864
A9: Fase A - Vakantiekrachten toeslag-overuren | B9: ='KP vakantiekrachten 2027'!F38*100 -> 151.2007 | C9: 2.5 | D9: =B9/(100-C9) -> 1.5507765 | E9: =B9 -> 151.2007 | F9: 2.5 | G9: =E9/(100-F9) -> 1.5507765
A10: Fase A - Belaste vergoedingen 1 regulier | B10: ='KP belaste vergoedingen 1 2027'!C38*100 -> 131.7276 | C10: 0 | D10: =B10/(100-C10) -> 1.317276 | E10: =B10 -> 131.7276 | F10: 0 | G10: =E10/(100-F10) -> 1.317276
A11: Fase A - Belaste vergoedingen 2 regulier | B11: ='KP belaste vergoedingen 2 2027'!C38*100 -> 121.97 | C11: 0 | D11: =B11/(100-C11) -> 1.2197 | E11: =B11 -> 121.97 | F11: 0 | G11: =E11/(100-F11) -> 1.2197
A12: Fase A - AOW gerechtigde normale uren | B12: ='Kostprijs AOW normale uren 2027'!C38*100 -> 144.17223 | C12: 0 | D12: =B12/(100-C12) -> 1.4417223 | E12: =B12 -> 144.17223 | F12: 0 | G12: =E12/(100-F12) -> 1.4417223
A13: Fase A - AOW gerechtigde toeslag-overuren | B13: ='KP AOW toeslag-overuren 2027'!C38*100 -> 128.78545 | C13: 2.5 | D13: =B13/(100-C13) -> 1.3208764 | E13: =B13 -> 128.78545 | F13: 2.5 | G13: =E13/(100-F13) -> 1.3208764
A14: Fase A - Belaste vergoedingen 1 AOW gerechtigden | B14: ='KP belaste vergoeding 1 AOW ''27'!C38*100 -> 131.7276 | C14: 0 | D14: =B14/(100-C14) -> 1.317276 | E14: =B14 -> 131.7276 | F14: 0 | G14: =E14/(100-F14) -> 1.317276
A15: Fase A - Belaste vergoedingen 2 AOW gerechtgden | B15: ='KP belaste vergoeding 2 AOW ''27'!C38*100 -> 121.97 | C15: 0 | D15: =B15/(100-C15) -> 1.2197 | E15: =B15 -> 121.97 | F15: 0 | G15: =E15/(100-F15) -> 1.2197
A16: Fase B/C - Reguliere normale uren | B16: ='KP regulier normale uren 2027'!F38*100 -> 167.11821 | C16: 0 | D16: =B16/(100-C16) -> 1.6711821 | E16: =B16 -> 167.11821 | F16: 0 | G16: =E16/(100-F16) -> 1.6711821
A17: Fase B/C - Reguliere toeslaguren | B17: ='KP regulier toeslaguren 2027'!F38*100 -> 148.04783 | C17: 2.5 | D17: =B17/(100-C17) -> 1.5184393 | E17: =B17 -> 148.04783 | F17: 2.5 | G17: =E17/(100-F17) -> 1.5184393
A18: Fase B/C - Reguliere overuren | B18: ='KP reguliere overuren 2027'!F38*100 -> 131.7276 | C18: 2.5 | D18: =B18/(100-C18) -> 1.3510523 | E18: =B18 -> 131.7276 | F18: 2.5 | G18: =E18/(100-F18) -> 1.3510523
A19: Fase B/C - Belaste vergoedingen 1 regulier | B19: ='KP belaste vergoedingen 1 2027'!F38*100 -> 131.7276 | C19: 0 | D19: =B19/(100-C19) -> 1.317276 | E19: =B19 -> 131.7276 | F19: 0 | G19: =E19/(100-F19) -> 1.317276
A20: Fase B/C - Belaste vergoedingen 2 regulier | B20: ='KP belaste vergoedingen 2 2027'!F38*100 -> 121.97 | C20: 0 | D20: =B20/(100-C20) -> 1.2197 | E20: =B20 -> 121.97 | F20: 0 | G20: =E20/(100-F20) -> 1.2197
A21: Fase B/C - AOW gerechtigde normale uren | B21: ='Kostprijs AOW normale uren 2027'!F38*100 -> 144.17223 | C21: 0 | D21: =B21/(100-C21) -> 1.4417223 | E21: =B21 -> 144.17223 | F21: 0 | G21: =E21/(100-F21) -> 1.4417223
A22: Fase B/C - AOW gerechtigde toeslag-overuren | B22: ='KP AOW toeslag-overuren 2027'!F38*100 -> 128.78545 | C22: 2.5 | D22: =B22/(100-C22) -> 1.3208764 | E22: =B22 -> 128.78545 | F22: 2.5 | G22: =E22/(100-F22) -> 1.3208764
A23: Fase B/C - Belaste vergoedingen 1 AOW gerechtigden | B23: ='KP belaste vergoeding 1 AOW ''27'!F38*100 -> 131.7276 | C23: 0 | D23: =B23/(100-C23) -> 1.317276 | E23: =B23 -> 131.7276 | F23: 0 | G23: =E23/(100-F23) -> 1.317276
A24: Fase B/C - Belaste vergoedingen 2 AOW gerechtigden | B24: ='KP belaste vergoeding 2 AOW ''27'!F38*100 -> 121.97 | C24: 0 | D24: =B24/(100-C24) -> 1.2197 | E24: =B24 -> 121.97 | F24: 0 | G24: =E24/(100-F24) -> 1.2197
B25: Functies van loonschaal t/m 7/8 -VMBO/MBO/MBO+HBO | E25: Chauffeurs rijbewijs C
A26: Risicogroep uitzendbedrijven II - Technisch /industrieel Tariefsoort oa afvalinzameling | B26: Kostprijs Technisch | C26: Bureau marge % incl Fee RWB | D26: Omreken factor | E26: Kostprijs Technisch | F26: Bureau marge % incl Fee RWB | G26: Omreken factor
A27: Fase A - Reguliere normale uren | B27: ='KP regulier normale uren 2027'!I38*100 -> 167.38997 | C27: 0 | D27: =B27/(100-C27) -> 1.6738997 | E27: =B27 -> 167.38997 | F27: 0 | G27: =E27/(100-F27) -> 1.6738997
A28: Fase A - Reguliere toeslaguren | B28: ='KP regulier toeslaguren 2027'!I38*100 -> 148.29059 | C28: 2.5 | D28: =B28/(100-C28) -> 1.5209292 | E28: =B28 -> 148.29059 | F28: 2.5 | G28: =E28/(100-F28) -> 1.5209292
A29: Fase A - Reguliere overuren | B29: ='KP reguliere overuren 2027'!I38*100 -> 131.9436 | C29: 2.5 | D29: =B29/(100-C29) -> 1.3532677 | E29: =B29 -> 131.9436 | F29: 2.5 | G29: =E29/(100-F29) -> 1.3532677
A30: Fase A - Vakantiekrachten | B30: ='KP vakantiekrachten 2027'!I38*100 -> 151.44864 | C30: 0 | D30: =B30/(100-C30) -> 1.5144864 | E30: =B30 -> 151.44864 | F30: 0 | G30: =E30/(100-F30) -> 1.5144864
A31: Fase A - Vakantiekrachten toeslag-overuren | B31: ='KP vakantiekrachten 2027'!L38*100 -> 151.2007 | C31: 2.5 | D31: =B31/(100-C31) -> 1.5507765 | E31: =B31 -> 151.2007 | F31: 2.5 | G31: =E31/(100-F31) -> 1.5507765
A32: Fase A - Belaste vergoedingen 1 regulier | B32: ='KP belaste vergoedingen 1 2027'!I38*100 -> 131.7276 | C32: 0 | D32: =B32/(100-C32) -> 1.317276 | E32: =B32 -> 131.7276 | F32: 0 | G32: =E32/(100-F32) -> 1.317276
A33: Fase A - Belaste vergoedingen 2 regulier | B33: ='KP belaste vergoedingen 2 2027'!I38*100 -> 121.97 | C33: 0 | D33: =B33/(100-C33) -> 1.2197 | E33: =B33 -> 121.97 | F33: 0 | G33: =E33/(100-F33) -> 1.2197
A34: Fase A - AOW gerechtigde normale uren | B34: ='Kostprijs AOW normale uren 2027'!I38*100 -> 144.17223 | C34: 0 | D34: =B34/(100-C34) -> 1.4417223 | E34: =B34 -> 144.17223 | F34: 0 | G34: =E34/(100-F34) -> 1.4417223
A35: Fase A - AOW gerechtigde toeslag-overuren | B35: ='KP AOW toeslag-overuren 2027'!I38*100 -> 128.78545 | C35: 2.5 | D35: =B35/(100-C35) -> 1.3208764 | E35: =B35 -> 128.78545 | F35: 2.5 | G35: =E35/(100-F35) -> 1.3208764
A36: Fase A - Belaste vergoedingen 1 AOW gerechtigden | B36: ='KP belaste vergoeding 1 AOW ''27'!I38*100 -> 131.7276 | C36: 0 | D36: =B36/(100-C36) -> 1.317276 | E36: =B36 -> 131.7276 | F36: 0 | G36: =E36/(100-F36) -> 1.317276
A37: Fase A - Belaste vergoedingen 2 AOW gerechtgden | B37: ='KP belaste vergoeding 2 AOW ''27'!I38*100 -> 121.97 | C37: 0 | D37: =B37/(100-C37) -> 1.2197 | E37: =B37 -> 121.97 | F37: 0 | G37: =E37/(100-F37) -> 1.2197
A38: Fase B/C - Reguliere normale uren | B38: ='KP regulier normale uren 2027'!L38*100 -> 167.11821 | C38: 0 | D38: =B38/(100-C38) -> 1.6711821 | E38: =B38 -> 167.11821 | F38: 0 | G38: =E38/(100-F38) -> 1.6711821
A39: Fase B/C - Reguliere toeslaguren | B39: ='KP regulier toeslaguren 2027'!L38*100 -> 148.04783 | C39: 2.5 | D39: =B39/(100-C39) -> 1.5184393 | E39: =B39 -> 148.04783 | F39: 2.5 | G39: =E39/(100-F39) -> 1.5184393
A40: Fase B/C - Reguliere overuren | B40: ='KP reguliere overuren 2027'!L38*100 -> 131.7276 | C40: 2.5 | D40: =B40/(100-C40) -> 1.3510523 | E40: =B40 -> 131.7276 | F40: 2.5 | G40: =E40/(100-F40) -> 1.3510523
A41: Fase B/C - Belaste vergoedingen 1 regulier | B41: ='KP belaste vergoedingen 1 2027'!L38*100 -> 131.7276 | C41: 0 | D41: =B41/(100-C41) -> 1.317276 | E41: =B41 -> 131.7276 | F41: 0 | G41: =E41/(100-F41) -> 1.317276
...

Sheet KP regulier normale uren 2027
A1: Naam Aanbieder: | B1: ='Omrekenfactoren 2027'!B2 -> SVP invullen
B2: Risicogroep Uitzendbedrijven I- Administratief | H2: Risicogroep Uitzendbedrijven II - Technisch
B4: Overeenkomst (Fase A) normale uren | E4: (On)bepaalde tijd contract (Fase BC) normale uren | H4: Overeenkomst (Fase A) normale uren | K4: (On)bepaalde tijd contract (Fase BC) normale uren
A6: Salaris
A7: Bruto uursalaris | B7: 1 | C7: =B7 -> 1 | E7: 1 | F7: =E7 -> 1 | H7: 1 | I7: =H7 -> 1 | K7: 1 | L7: =K7 -> 1
C8: =SUM(C7:C7) -> 1 | F8: =SUM(F7:F7) -> 1 | I8: =SUM(I7:I7) -> 1 | L8: =SUM(L7:L7) -> 1
A9: Reserveringen
A10: Feestdagen - 7 dagen | B10: ='Toelichting Vakantie-feestdagen'!B1 -> 0.030973451 | C10: =B10*C8 -> 0.030973451 | E10: =B10 -> 0.030973451 | F10: =E10*F8 -> 0.030973451 | H10: =B10 -> 0.030973451 | I10: =H10*I8 -> 0.030973451 | K10: =B10 -> 0.030973451 | L10: =K10*L8 -> 0.030973451
A11: Vakantiedagen - 28 dagen | B11: ='Toelichting Vakantie-feestdagen'!B2 -> 0.12389381 | C11: =B11*C8 -> 0.12389381 | E11: =B11 -> 0.12389381 | F11: =E11*F8 -> 0.12389381 | H11: =B11 -> 0.12389381 | I11: =H11*I8 -> 0.12389381 | K11: =B11 -> 0.12389381 | L11: =K11*L8 -> 0.12389381
A12: Kort verzuim / buitengewoon verlof richtlijnen ABU CAO | B12: 0.006 | C12: =B12*C8 -> 0.006 | E12: =B12 -> 0.006 | F12: =E12*F8 -> 0.006 | H12: =B12 -> 0.006 | I12: =H12*I8 -> 0.006 | K12: =B12 -> 0.006 | L12: =K12*L8 -> 0.006
B13: =SUM(B10:B12) -> 0.16086726 | C13: =SUM(C10:C12) -> 0.16086726 | E13: =SUM(E10:E12) -> 0.16086726 | F13: =SUM(F10:F12) -> 0.16086726 | H13: =SUM(H10:H12) -> 0.16086726 | I13: =SUM(I10:I12) -> 0.16086726 | K13: =SUM(K10:K12) -> 0.16086726 | L13: =SUM(L10:L12) -> 0.16086726
C14: =C8+C13 -> 1.1608673 | F14: =F8+F13 -> 1.1608673 | I14: =I8+I13 -> 1.1608673 | L14: =L8+L13 -> 1.1608673
A15: Reservering IKB (Individueel Keuze Budget; 8% vakantietoeslag, 1,5% levensloopregeling en 7,55% eindejaarsuitkering) | B15: 0.1705 | C15: =C14*B15 -> 0.19792787 | E15: =B15 -> 0.1705 | F15: =F14*E15 -> 0.19792787 | H15: =B15 -> 0.1705 | I15: =I14*H15 -> 0.19792787 | K15: =B15 -> 0.1705 | L15: =L14*K15 -> 0.19792787
C16: =SUM(C14:C15) -> 1.3587951 | F16: =SUM(F14:F15) -> 1.3587951 | I16: =SUM(I14:I15) -> 1.3587951 | L16: =SUM(L14:L15) -> 1.3587951
A17: Werkgeverslasten
A18: Stichting Sociaal fonds uitzendbranche (SFU) | B18: 0.002 | C18: =B18*C16 -> 0.0027175902 | E18: 0 | F18: =E18*F16 -> 0 | H18: 0.002 | I18: =H18*I16 -> 0.0027175902 | K18: 0 | L18: =K18*L16 -> 0
A19: Premie AWF | B19: 0.0774 | C19: =B19*C16 -> 0.10517074 | E19: =B19 -> 0.0774 | F19: =E19*F16 -> 0.10517074 | H19: =B19 -> 0.0774 | I19: =H19*I16 -> 0.10517074 | K19: =B19 -> 0.0774 | L19: =K19*L16 -> 0.10517074
A20: Ziekte | B20: 0 | C20: =B20*C16 -> 0 | E20: 0 | F20: =E20*F16 -> 0 | H20: 0 | I20: =H20*I16 -> 0 | K20: 0 | L20: =K20*L16 -> 0
A21: Premie aanvulling ziektewet (AZW) | B21: 0 | C21: =B21*C16 -> 0 | E21: 0 | F21: =E21*F16 -> 0 | H21: 0 | I21: =H21*I16 -> 0 | K21: 0 | L21: =K21*L16 -> 0
A22: Zorgverzekeringswet (ZVW) | B22: 0.061 | C22: =B22*C16 -> 0.082886503 | E22: =B22 -> 0.061 | F22: =E22*F16 -> 0.082886503 | H22: =B22 -> 0.061 | I22: =H22*I16 -> 0.082886503 | K22: =B22 -> 0.061 | L22: =K22*L16 -> 0.082886503
A23: AOF incl. kinderopvang | B23: 0.0813 | C23: =B23*C16 -> 0.11047004 | E23: =B23 -> 0.0813 | F23: =E23*F16 -> 0.11047004 | H23: =B23 -> 0.0813 | I23: =H23*I16 -> 0.11047004 | K23: =B23 -> 0.0813 | L23: =K23*L16 -> 0.11047004
A24: Transitievergoeding | B24: 0 | C24: =B24*C16 -> 0 | E24: 0 | F24: =E24*F16 -> 0 | H24: 0 | I24: =H24*I16 -> 0 | K24: 0 | L24: =K24*L16 -> 0
A25: WGA totaal | B25: 0 | C25: =B25*C16 -> 0 | E25: 0 | F25: =E25*F16 -> 0 | H25: 0 | I25: =H25*I16 -> 0 | K25: 0 | L25: =K25*L16 -> 0
A26: Pensioen reservering op basis van ABP | B26: 0 | C26: =B26*C16 -> 0 | E26: 0 | F26: =E26*F16 -> 0 | H26: 0 | I26: =H26*I16 -> 0 | K26: 0 | L26: =K26*L16 -> 0
A27: Pensioencompensatie op basis van ABP | B27: 0 | C27: =B27*C16 -> 0 | E27: 0 | F27: =E27*F16 -> 0 | H27: 0 | I27: =H27*I16 -> 0 | K27: 0 | L27: =K27*L16 -> 0
A28: Scholing/duurzame inzetbaarheid | B28: 0.0102 | C28: =B28*C16 -> 0.01385971 | E28: 0.0102 | F28: =E28*F16 -> 0.01385971 | H28: 0.0102 | I28: =H28*I16 -> 0.01385971 | K28: 0.0102 | L28: =K28*L16 -> 0.01385971
A29: Specificeren | B29: 0 | C29: =B29*C16 -> 0 | E29: 0 | F29: =E29*F16 -> 0 | H29: 0 | I29: =H29*I16 -> 0 | K29: 0 | L29: =K29*L16 -> 0
B30: =SUM(B18:B29) -> 0.2319 | C30: =C16*B30 -> 0.31510459 | E30: =SUM(E18:E29) -> 0.2299 | F30: =F16*E30 -> 0.312387 | H30: =SUM(H18:H29) -> 0.2319 | I30: =I16*H30 -> 0.31510459 | K30: =SUM(K18:K29) -> 0.2299 | L30: =L16*K30 -> 0.312387
C31: =C16+C30 -> 1.6738997 | F31: =F16+F30 -> 1.6711821 | I31: =I16+I30 -> 1.6738997 | L31: =L16+L30 -> 1.6711821
A32: Additionele werkgeverslasten
A33: Specificeren | B33: 0 | C33: =B33*C31 -> 0 | E33: 0 | F33: =E33*F31 -> 0 | H33: 0 | I33: =H33*I31 -> 0 | K33: 0 | L33: =K33*L31 -> 0
A34: Specificeren | B34: 0 | C34: =B34*C31 -> 0 | E34: 0 | F34: =E34*F31 -> 0 | H34: 0 | I34: =H34*I31 -> 0 | K34: 0 | L34: =K34*L31 -> 0
A35: Specificeren | B35: 0 | C35: =B35*C31 -> 0 | E35: 0 | F35: =E35*F31 -> 0 | H35: 0 | I35: =H35*I31 -> 0 | K35: 0 | L35: =K35*L31 -> 0
A36: Specificeren | B36: 0 | C36: =B36*C31 -> 0 | E36: 0 | F36: =E36*F31 -> 0 | H36: 0 | I36: =H36*I31 -> 0 | K36: 0 | L36: =K36*L31 -> 0
B37: =SUM(B33:B36) -> 0 | C37: =C31*B37 -> 0 | E37: =SUM(E33:E36) -> 0 | F37: =F31*E37 -> 0 | H37: =SUM(H33:H36) -> 0 | I37: =I31*H37 -> 0 | K37: =SUM(K33:K36) -> 0 | L37: =L31*K37 -> 0
A38: Kostprijs reguliere normale uren | C38: =C31+C37 -> 1.6738997 | F38: =F31+F37 -> 1.6711821 | I38: =I31+I37 -> 1.6738997 | L38: =L31+L37 -> 1.6711821
A40: Toelichting:
A41: N.B. 1 De ingevulde percentages zijn gebaseerd op de reserveringen van 2026, deze kunnen worden aangepast voor 2027. De vakantie en feestdagen zijn op basis van de CAO van de Opdrachtgever. Kort verzuim is gebaseerd op de officiële percentages van de ABU CAO (2025) uitvoering voor kort verzuim worden gevolgd vanuit de eerder gepubliceerde richtlijnen ABU CAO (artikel 28). Indien er additioneel kort verzuim vanuit de CAO inlener van toepassing zijn, kunnen deze doorbelast worden, na akkoord en overleg met Opdrachtgever. De feest en vakantiedagen reservering zal jaarlijks gecheckt worden en zo nodig aangepast worden door Opdrachtgever. Zie tabblad "toelichting Vakantie-feestdagen" voor berekening van deze dagen.
A42: NB 2:Uitleg invullen tabblad: alle reserveringen moeten worden ingevuld in de blauwe niet beveiligde cellen. De reserveringen worden automatisch doorberekend en komen als kostprijs in het tabblad te staan. In het donkergrijze blok 3 'Additionele werkgeverslasten' kunnen bedrijfspecifieke omschrijvingen opgenomen worden. Tijdens de duur van de raamovereenkomst wordt Blok 3; Additionele werkgeverslasten niet meer aangepast.
A43: NB 3: Scholing of duurzame inzetbaarheid mag door leverancier ingevuld worden, indien dit beleid is van een inschrijver. De ontwikkel en opleidingskosten die door Opdrachtgever worden ingezet, zijn voor rekening van Opdrachtgever, er word uitgegaan van een minimale reservering van 1,02%.
...

Sheet KP regulier toeslaguren 2027
A1: Naam Aanbieder: | B1: ='Omrekenfactoren 2027'!B2 -> SVP invullen
B2: Risicogroep Uitzendbedrijven I- Administratief | H2: Risicogroep Uitzendbedrijven II - Technisch
B4: Overeenkomst (Fase A) toeslaguren | E4: (On)bepaalde tijd contract (Fase BC) toeslaguren | H4: Overeenkomst (Fase A) toeslaguren | K4: (On)bepaalde tijd contract (Fase BC) toeslaguren
A6: Salaris
A7: Bruto uursalaris | B7: 1 | C7: =B7 -> 1 | E7: 1 | F7: =E7 -> 1 | H7: 1 | I7: =H7 -> 1 | K7: 1 | L7: =K7 -> 1
C8: =SUM(C7:C7) -> 1 | F8: =SUM(F7:F7) -> 1 | I8: =SUM(I7:I7) -> 1 | L8: =SUM(L7:L7) -> 1
A9: Reserveringen
A10: Feestdagen - 7 dagen n.v.t. | B10: 0 | C10: =B10*C8 -> 0 | E10: =B10 -> 0 | F10: =E10*F8 -> 0 | H10: =B10 -> 0 | I10: =H10*I8 -> 0 | K10: =B10 -> 0 | L10: =K10*L8 -> 0
A11: Vakantiedagen - 28 dagen | B11: ='Toelichting Vakantie-feestdagen'!B2 -> 0.12389381 | C11: =B11*C8 -> 0.12389381 | E11: =B11 -> 0.12389381 | F11: =E11*F8 -> 0.12389381 | H11: =B11 -> 0.12389381 | I11: =H11*I8 -> 0.12389381 | K11: =B11 -> 0.12389381 | L11: =K11*L8 -> 0.12389381
A12: Kort verzuim / buitengewoon verlof richtlijnen ABU CAO nvt | B12: 0 | C12: =B12*C8 -> 0 | E12: =B12 -> 0 | F12: =E12*F8 -> 0 | H12: =B12 -> 0 | I12: =H12*I8 -> 0 | K12: =B12 -> 0 | L12: =K12*L8 -> 0
B13: =SUM(B10:B12) -> 0.12389381 | C13: =SUM(C10:C12) -> 0.12389381 | E13: =SUM(E10:E12) -> 0.12389381 | F13: =SUM(F10:F12) -> 0.12389381 | H13: =SUM(H10:H12) -> 0.12389381 | I13: =SUM(I10:I12) -> 0.12389381 | K13: =SUM(K10:K12) -> 0.12389381 | L13: =SUM(L10:L12) -> 0.12389381
C14: =C8+C13 -> 1.1238938 | F14: =F8+F13 -> 1.1238938 | I14: =I8+I13 -> 1.1238938 | L14: =L8+L13 -> 1.1238938
A15: Reservering IKB (Individueel Keuze Budget; Alleen 8% vakantietoeslag van toepassing) | B15: 0.08 | C15: =C14*B15 -> 0.089911504 | E15: =B15 -> 0.08 | F15: =F14*E15 -> 0.089911504 | H15: =B15 -> 0.08 | I15: =I14*H15 -> 0.089911504 | K15: =B15 -> 0.08 | L15: =L14*K15 -> 0.089911504
C16: =SUM(C14:C15) -> 1.2138053 | F16: =SUM(F14:F15) -> 1.2138053 | I16: =SUM(I14:I15) -> 1.2138053 | L16: =SUM(L14:L15) -> 1.2138053
A17: Werkgeverslasten
A18: Stichting Sociaal fonds uitzendbranche (SFU) | B18: 0.002 | C18: =B18*C16 -> 0.0024276106 | E18: 0 | F18: =E18*F16 -> 0 | H18: 0.002 | I18: =H18*I16 -> 0.0024276106 | K18: 0 | L18: =K18*L16 -> 0
A19: Premie AWF | B19: 0.0774 | C19: =B19*C16 -> 0.093948531 | E19: =B19 -> 0.0774 | F19: =E19*F16 -> 0.093948531 | H19: =B19 -> 0.0774 | I19: =H19*I16 -> 0.093948531 | K19: =B19 -> 0.0774 | L19: =K19*L16 -> 0.093948531
A20: Ziektewet | B20: 0 | C20: =B20*C16 -> 0 | E20: 0 | F20: =E20*F16 -> 0 | H20: 0 | I20: =H20*I16 -> 0 | K20: 0 | L20: =K20*L16 -> 0
A21: Premie aanvulling ziektewet (AZW) | B21: 0 | C21: =B21*C16 -> 0 | E21: 0 | F21: =E21*F16 -> 0 | H21: 0 | I21: =H21*I16 -> 0 | K21: 0 | L21: =K21*L16 -> 0
A22: Zorgverzekeringswet (ZVW) | B22: 0.061 | C22: =B22*C16 -> 0.074042124 | E22: =B22 -> 0.061 | F22: =E22*F16 -> 0.074042124 | H22: =B22 -> 0.061 | I22: =H22*I16 -> 0.074042124 | K22: =B22 -> 0.061 | L22: =K22*L16 -> 0.074042124
A23: AOF incl. kinderopvang | B23: 0.0813 | C23: =B23*C16 -> 0.098682372 | E23: =B23 -> 0.0813 | F23: =E23*F16 -> 0.098682372 | H23: =B23 -> 0.0813 | I23: =H23*I16 -> 0.098682372 | K23: =B23 -> 0.0813 | L23: =K23*L16 -> 0.098682372
A24: Transitievergoeding | B24: 0 | C24: =B24*C16 -> 0 | E24: 0 | F24: =E24*F16 -> 0 | H24: 0 | I24: =H24*I16 -> 0 | K24: 0 | L24: =K24*L16 -> 0
A25: WGA totaal | B25: 0 | C25: =B25*C16 -> 0 | E25: 0 | F25: =E25*F16 -> 0 | H25: 0 | I25: =H25*I16 -> 0 | K25: 0 | L25: =K25*L16 -> 0
A26: Pensioen reservering | B26: 0 | C26: =B26*C16 -> 0 | E26: 0 | F26: =E26*F16 -> 0 | H26: 0 | I26: =H26*I16 -> 0 | K26: 0 | L26: =K26*L16 -> 0
A27: Pensioencompensatie | B27: 0 | C27: =B27*C16 -> 0 | E27: 0 | F27: =E27*F16 -> 0 | H27: 0 | I27: =H27*I16 -> 0 | K27: 0 | L27: =K27*L16 -> 0
A28: Specificeren | B28: 0 | C28: =B28*C16 -> 0 | E28: 0 | F28: =E28*F16 -> 0 | H28: 0 | I28: =H28*I16 -> 0 | K28: 0 | L28: =K28*L16 -> 0
A29: Specificeren | B29: 0 | C29: =B29*C16 -> 0 | E29: 0 | F29: =E29*F16 -> 0 | H29: 0 | I29: =H29*I16 -> 0 | K29: 0 | L29: =K29*L16 -> 0
B30: =SUM(B18:B29) -> 0.2217 | C30: =C16*B30 -> 0.26910064 | E30: =SUM(E18:E29) -> 0.2197 | F30: =F16*E30 -> 0.26667303 | H30: =SUM(H18:H29) -> 0.2217 | I30: =I16*H30 -> 0.26910064 | K30: =SUM(K18:K29) -> 0.2197 | L30: =L16*K30 -> 0.26667303
C31: =C16+C30 -> 1.4829059 | F31: =F16+F30 -> 1.4804783 | I31: =I16+I30 -> 1.4829059 | L31: =L16+L30 -> 1.4804783
A32: Additionele werkgeverslasten
A33: Specificeren | B33: 0 | C33: =B33*C31 -> 0 | E33: 0 | F33: =E33*F31 -> 0 | H33: 0 | I33: =H33*I31 -> 0 | K33: 0 | L33: =K33*L31 -> 0
A34: Specificeren | B34: 0 | C34: =B34*C31 -> 0 | E34: 0 | F34: =E34*F31 -> 0 | H34: 0 | I34: =H34*I31 -> 0 | K34: 0 | L34: =K34*L31 -> 0
A35: Specificeren | B35: 0 | C35: =B35*C31 -> 0 | E35: 0 | F35: =E35*F31 -> 0 | H35: 0 | I35: =H35*I31 -> 0 | K35: 0 | L35: =K35*L31 -> 0
A36: Specificeren | B36: 0 | C36: =B36*C31 -> 0 | E36: 0 | F36: =E36*F31 -> 0 | H36: 0 | I36: =H36*I31 -> 0 | K36: 0 | L36: =K36*L31 -> 0
B37: =SUM(B33:B36) -> 0 | C37: =C31*B37 -> 0 | E37: =SUM(E33:E36) -> 0 | F37: =F31*E37 -> 0 | H37: =SUM(H33:H36) -> 0 | I37: =I31*H37 -> 0 | K37: =SUM(K33:K36) -> 0 | L37: =L31*K37 -> 0
A38: Kostprijs reguliere toeslaguren | C38: =C31+C37 -> 1.4829059 | F38: =F31+F37 -> 1.4804783 | I38: =I31+I37 -> 1.4829059 | L38: =L31+L37 -> 1.4804783
A40: Toelichting:
A41: N.B. 1 De ingevulde percentages zijn gebaseerd op de reserveringen van 2026, deze kunnen worden aangepast voor 2027. De vakantie en feestdagen zijn op basis van de CAO van de Opdrachtgever. Kort verzuim is gebaseerd op de officiële percentages van de ABU CAO (2025) uitvoering voor kort verzuim worden gevolgd vanuit de eerder gepubliceerde richtlijnen ABU CAO (artikel 28). Indien er additioneel kort verzuim vanuit de CAO inlener van toepassing zijn, kunnen deze doorbelast worden, na akkoord en overleg met Opdrachtgever. De feest en vakantiedagen reservering zal jaarlijks gecheckt worden en zo nodig aangepast worden door Opdrachtgever. Zie tabblad "toelichting Vakantie-feestdagen" voor berekening van deze dagen.
A42: N.B. 2:Uitleg invullen tabblad: alle reserveringen moeten worden ingevuld in de blauwe niet beveiligde cellen. De reserveringen worden automatisch doorberekend en komen als kostprijs in het tabblad te staan. In het donkergrijze blok 3 'Additionele werkgeverslasten' kunnen bedrijfsspecifieke omschrijvingen opgenomen worden. Tijdens de duur van de raamovereenkomst wordt Blok 3; Additionele werkgeverslasten niet meer aangepast.
A43: N.B. 3: Rekenmethodiek facturatie toeslaguren (onregelmatige uren): 100% regulier + (toeslag%*bruto uurloon*kostprijs toeslag), rekenmethodiek overuren Stel 40% toeslag: 140% * bruto uurloon * kostprijs overuren).
...

Sheet KP reguliere overuren 2027
A1: Naam Aanbieder: | B1: ='Omrekenfactoren 2027'!B2 -> SVP invullen
B2: Risicogroep Uitzendbedrijven I- Administratief | H2: Risicogroep Uitzendbedrijven II - Technisch
B4: Overeenkomst (Fase A) Overuren | E4: (On)bepaalde tijd contract (Fase BC) overuren | H4: Overeenkomst (Fase A) Overuren | K4: (On)bepaalde tijd contract (Fase BC) overuren
A6: Salaris
A7: Bruto uursalaris | B7: 1 | C7: =B7 -> 1 | E7: 1 | F7: =E7 -> 1 | H7: 1 | I7: =H7 -> 1 | K7: 1 | L7: =K7 -> 1
C8: =SUM(C7:C7) -> 1 | F8: =SUM(F7:F7) -> 1 | I8: =SUM(I7:I7) -> 1 | L8: =SUM(L7:L7) -> 1
A9: Reserveringen
A10: Feestdagen - 7 dagen n.v.t. | B10: 0 | C10: =B10*C8 -> 0 | E10: =B10 -> 0 | F10: =E10*F8 -> 0 | H10: =B10 -> 0 | I10: =H10*I8 -> 0 | K10: =B10 -> 0 | L10: =K10*L8 -> 0
A11: Vakantiedagen - 28 dagen n.v.t. | B11: 0 | C11: =B11*C8 -> 0 | E11: =B11 -> 0 | F11: =E11*F8 -> 0 | H11: =B11 -> 0 | I11: =H11*I8 -> 0 | K11: =B11 -> 0 | L11: =K11*L8 -> 0
A12: Kort verzuim / buitengewoon verlof richtlijnen ABU CAO n.v.t. | B12: 0 | C12: =B12*C8 -> 0 | E12: =B12 -> 0 | F12: =E12*F8 -> 0 | H12: =B12 -> 0 | I12: =H12*I8 -> 0 | K12: =B12 -> 0 | L12: =K12*L8 -> 0
B13: =SUM(B10:B12) -> 0 | C13: =SUM(C10:C12) -> 0 | E13: =SUM(E10:E12) -> 0 | F13: =SUM(F10:F12) -> 0 | H13: =SUM(H10:H12) -> 0 | I13: =SUM(I10:I12) -> 0 | K13: =SUM(K10:K12) -> 0 | L13: =SUM(L10:L12) -> 0
C14: =C8+C13 -> 1 | F14: =F8+F13 -> 1 | I14: =I8+I13 -> 1 | L14: =L8+L13 -> 1
A15: Reservering IKB (Individueel Keuze Budget; Alleen 8% vakantietoeslag van toepassing) | B15: 0.08 | C15: =C14*B15 -> 0.08 | E15: =B15 -> 0.08 | F15: =F14*E15 -> 0.08 | H15: =B15 -> 0.08 | I15: =I14*H15 -> 0.08 | K15: =B15 -> 0.08 | L15: =L14*K15 -> 0.08
C16: =SUM(C14:C15) -> 1.08 | F16: =SUM(F14:F15) -> 1.08 | I16: =SUM(I14:I15) -> 1.08 | L16: =SUM(L14:L15) -> 1.08
A17: Werkgeverslasten
A18: Stichting Sociaal fonds uitzendbranche (SFU) | B18: 0.002 | C18: =B18*C16 -> 0.00216 | E18: 0 | F18: =E18*F16 -> 0 | H18: 0.002 | I18: =H18*I16 -> 0.00216 | K18: 0 | L18: =K18*L16 -> 0
A19: Premie AWF | B19: 0.0774 | C19: =B19*C16 -> 0.083592 | E19: =B19 -> 0.0774 | F19: =E19*F16 -> 0.083592 | H19: =B19 -> 0.0774 | I19: =H19*I16 -> 0.083592 | K19: =B19 -> 0.0774 | L19: =K19*L16 -> 0.083592
A20: Ziektewet | B20: 0 | C20: =B20*C16 -> 0 | E20: 0 | F20: =E20*F16 -> 0 | H20: 0 | I20: =H20*I16 -> 0 | K20: 0 | L20: =K20*L16 -> 0
A21: Premie aanvulling ziektewet (AZW) | B21: 0 | C21: =B21*C16 -> 0 | E21: 0 | F21: =E21*F16 -> 0 | H21: 0 | I21: =H21*I16 -> 0 | K21: 0 | L21: =K21*L16 -> 0
A22: Zorgverzekeringswet (ZVW) | B22: 0.061 | C22: =B22*C16 -> 0.06588 | E22: =B22 -> 0.061 | F22: =E22*F16 -> 0.06588 | H22: =B22 -> 0.061 | I22: =H22*I16 -> 0.06588 | K22: =B22 -> 0.061 | L22: =K22*L16 -> 0.06588
A23: AOF incl. kinderopvang | B23: 0.0813 | C23: =B23*C16 -> 0.087804 | E23: =B23 -> 0.0813 | F23: =E23*F16 -> 0.087804 | H23: =B23 -> 0.0813 | I23: =H23*I16 -> 0.087804 | K23: =B23 -> 0.0813 | L23: =K23*L16 -> 0.087804
A24: Transitievergoeding | B24: 0 | C24: =B24*C16 -> 0 | E24: 0 | F24: =E24*F16 -> 0 | H24: 0 | I24: =H24*I16 -> 0 | K24: 0 | L24: =K24*L16 -> 0
A25: WGA totaal | B25: 0 | C25: =B25*C16 -> 0 | E25: 0 | F25: =E25*F16 -> 0 | H25: 0 | I25: =H25*I16 -> 0 | K25: 0 | L25: =K25*L16 -> 0
A26: Pensioen reservering | B26: 0 | C26: =B26*C16 -> 0 | E26: 0 | F26: =E26*F16 -> 0 | H26: 0 | I26: =H26*I16 -> 0 | K26: 0 | L26: =K26*L16 -> 0
A27: Pensioencompensatie | B27: 0 | C27: =B27*C16 -> 0 | E27: 0 | F27: =E27*F16 -> 0 | H27: 0 | I27: =H27*I16 -> 0 | K27: 0 | L27: =K27*L16 -> 0
A28: Specificeren | B28: 0 | C28: =B28*C16 -> 0 | E28: 0 | F28: =E28*F16 -> 0 | H28: 0 | I28: =H28*I16 -> 0 | K28: 0 | L28: =K28*L16 -> 0
A29: Specificeren | B29: 0 | C29: =B29*C16 -> 0 | E29: 0 | F29: =E29*F16 -> 0 | H29: 0 | I29: =H29*I16 -> 0 | K29: 0 | L29: =K29*L16 -> 0
B30: =SUM(B18:B29) -> 0.2217 | C30: =C16*B30 -> 0.239436 | E30: =SUM(E18:E29) -> 0.2197 | F30: =F16*E30 -> 0.237276 | H30: =SUM(H18:H29) -> 0.2217 | I30: =I16*H30 -> 0.239436 | K30: =SUM(K18:K29) -> 0.2197 | L30: =L16*K30 -> 0.237276
C31: =C16+C30 -> 1.319436 | F31: =F16+F30 -> 1.317276 | I31: =I16+I30 -> 1.319436 | L31: =L16+L30 -> 1.317276
A32: Additionele werkgeverslasten
A33: Specificeren | B33: 0 | C33: =B33*C31 -> 0 | E33: 0 | F33: =E33*F31 -> 0 | H33: 0 | I33: =H33*I31 -> 0 | K33: 0 | L33: =K33*L31 -> 0
A34: Specificeren | B34: 0 | C34: =B34*C31 -> 0 | E34: 0 | F34: =E34*F31 -> 0 | H34: 0 | I34: =H34*I31 -> 0 | K34: 0 | L34: =K34*L31 -> 0
A35: Specificeren | B35: 0 | C35: =B35*C31 -> 0 | E35: 0 | F35: =E35*F31 -> 0 | H35: 0 | I35: =H35*I31 -> 0 | K35: 0 | L35: =K35*L31 -> 0
A36: Specificeren | B36: 0 | C36: =B36*C31 -> 0 | E36: 0 | F36: =E36*F31 -> 0 | H36: 0 | I36: =H36*I31 -> 0 | K36: 0 | L36: =K36*L31 -> 0
B37: =SUM(B33:B36) -> 0 | C37: =C31*B37 -> 0 | E37: =SUM(E33:E36) -> 0 | F37: =F31*E37 -> 0 | H37: =SUM(H33:H36) -> 0 | I37: =I31*H37 -> 0 | K37: =SUM(K33:K36) -> 0 | L37: =L31*K37 -> 0
A38: Kostprijs reguliere overuren | C38: =C31+C37 -> 1.319436 | F38: =F31+F37 -> 1.317276 | I38: =I31+I37 -> 1.319436 | L38: =L31+L37 -> 1.317276
A40: Toelichting:
A41: N.B. 1:Uitleg invullen tabblad: alle reserveringen moeten worden ingevuld in de blauwe niet beveiligde cellen. De reserveringen worden automatisch doorberekend en komen als kostprijs in het tabblad te staan. In het donkergrijze blok 3 'Additionele werkgeverslasten' kunnen bedrijfsspecifieke omschrijvingen opgenomen worden. Tijdens de duur van de raamovereenkomst wordt Blok 3; Additionele werkgeverslasten niet meer aangepast.
A42: N.B. 2: Rekenmethodiek facturatie toeslaguren: 100% regulier + (toeslag%*bruto uurloon*kostprijs toeslaguren), rekenmethodiek overuren Stel 40% toeslag: 140% * bruto uurloon * kostprijs overuren).
A43: N.B. 3: Indien er een bepaalde reservering niet van toepassing is, blijft de cel blauw en op 0% staan, dat heeft verder geen gevolg.

Sheet KP vakantiekrachten 2027
A1: Naam Aanbieder: | B1: ='Omrekenfactoren 2027'!B2 -> SVP invullen
B2: Risicogroep Uitzendbedrijven I- Administratief | H2: Risicogroep Uitzendbedrijven II - Technisch
B4: Overeenkomst (Fase A) Vakantiekrachten normale uren | E4: Over/toeslaguren (Fase A) vakantiekrachten | H4: Overeenkomst (Fase A) Vakantiekrachten normale uren | K4: Over/toeslaguren (Fase A) vakantiekrachten
A6: Salaris
A7: Bruto uursalaris | B7: 1 | C7: =B7 -> 1 | E7: 1 | F7: =E7 -> 1 | H7: 1 | I7: =H7 -> 1 | K7: 1 | L7: =K7 -> 1
C8: =SUM(C7:C7) -> 1 | F8: =SUM(F7:F7) -> 1 | I8: =SUM(I7:I7) -> 1 | L8: =SUM(L7:L7) -> 1
A9: Reserveringen
A10: Feestdagen - 7 dagen n.v.t. | B10: 0 | C10: =B10*C8 -> 0 | E10: =B10 -> 0 | F10: =E10*F8 -> 0 | H10: =B10 -> 0 | I10: =H10*I8 -> 0 | K10: =B10 -> 0 | L10: =K10*L8 -> 0
A11: Vakantiedagen - 28 dagen | B11: ='Toelichting Vakantie-feestdagen'!B2 -> 0.12389381 | C11: =B11*C8 -> 0.12389381 | E11: =B11 -> 0.12389381 | F11: =E11*F8 -> 0.12389381 | H11: =B11 -> 0.12389381 | I11: =H11*I8 -> 0.12389381 | K11: =B11 -> 0.12389381 | L11: =K11*L8 -> 0.12389381
A12: Kort verzuim / buitengewoon verlof richtlijnen ABU CAO n.v.t. | B12: 0 | C12: =B12*C8 -> 0 | E12: =B12 -> 0 | F12: =E12*F8 -> 0 | H12: =B12 -> 0 | I12: =H12*I8 -> 0 | K12: =B12 -> 0 | L12: =K12*L8 -> 0
B13: =SUM(B10:B12) -> 0.12389381 | C13: =SUM(C10:C12) -> 0.12389381 | E13: =SUM(E10:E12) -> 0.12389381 | F13: =SUM(F10:F12) -> 0.12389381 | H13: =SUM(H10:H12) -> 0.12389381 | I13: =SUM(I10:I12) -> 0.12389381 | K13: =SUM(K10:K12) -> 0.12389381 | L13: =SUM(L10:L12) -> 0.12389381
C14: =C8+C13 -> 1.1238938 | F14: =F8+F13 -> 1.1238938 | I14: =I8+I13 -> 1.1238938 | L14: =L8+L13 -> 1.1238938
A15: Reservering IKB (Individueel Keuze Budget; 8% vakantietoeslag, 0,8% bovenwettelijk en 1,5% levensloopregeling van toepassing) | B15: 0.103 | C15: =C14*B15 -> 0.11576106 | E15: =B15 -> 0.103 | F15: =F14*E15 -> 0.11576106 | H15: =B15 -> 0.103 | I15: =I14*H15 -> 0.11576106 | K15: =B15 -> 0.103 | L15: =L14*K15 -> 0.11576106
C16: =SUM(C14:C15) -> 1.2396549 | F16: =SUM(F14:F15) -> 1.2396549 | I16: =SUM(I14:I15) -> 1.2396549 | L16: =SUM(L14:L15) -> 1.2396549
A17: Werkgeverslasten
A18: Stichting Sociaal fonds uitzendbranche (SFU) | B18: 0.002 | C18: =B18*C16 -> 0.0024793097 | E18: 0 | F18: =E18*F16 -> 0 | H18: 0.002 | I18: =H18*I16 -> 0.0024793097 | K18: 0 | L18: =K18*L16 -> 0
A19: Premie AWF | B19: 0.0774 | C19: =B19*C16 -> 0.095949287 | E19: =B19 -> 0.0774 | F19: =E19*F16 -> 0.095949287 | H19: =B19 -> 0.0774 | I19: =H19*I16 -> 0.095949287 | K19: =B19 -> 0.0774 | L19: =K19*L16 -> 0.095949287
A20: Ziektewet | B20: 0 | C20: =B20*C16 -> 0 | E20: 0 | F20: =E20*F16 -> 0 | H20: 0 | I20: =H20*I16 -> 0 | K20: 0 | L20: =K20*L16 -> 0
A21: Premie aanvulling ziektewet (AZW) | B21: 0 | C21: =B21*C16 -> 0 | E21: 0 | F21: =E21*F16 -> 0 | H21: 0 | I21: =H21*I16 -> 0 | K21: 0 | L21: =K21*L16 -> 0
A22: Zorgverzekeringswet (ZVW) | B22: 0.061 | C22: =B22*C16 -> 0.075618947 | E22: =B22 -> 0.061 | F22: =E22*F16 -> 0.075618947 | H22: =B22 -> 0.061 | I22: =H22*I16 -> 0.075618947 | K22: =B22 -> 0.061 | L22: =K22*L16 -> 0.075618947
A23: AOF incl. kinderopvang | B23: 0.0813 | C23: =B23*C16 -> 0.10078394 | E23: =B23 -> 0.0813 | F23: =E23*F16 -> 0.10078394 | H23: =B23 -> 0.0813 | I23: =H23*I16 -> 0.10078394 | K23: =B23 -> 0.0813 | L23: =K23*L16 -> 0.10078394
A24: Transitievergoeding | B24: 0 | C24: =B24*C16 -> 0 | E24: 0 | F24: =E24*F16 -> 0 | H24: 0 | I24: =H24*I16 -> 0 | K24: 0 | L24: =K24*L16 -> 0
A25: WGA totaal | B25: 0 | C25: =B25*C16 -> 0 | E25: 0 | F25: =E25*F16 -> 0 | H25: 0 | I25: =H25*I16 -> 0 | K25: 0 | L25: =K25*L16 -> 0
A26: Pensioen reservering | B26: 0 | C26: =B26*C16 -> 0 | E26: 0 | F26: =E26*F16 -> 0 | H26: 0 | I26: =H26*I16 -> 0 | K26: 0 | L26: =K26*L16 -> 0
A27: Pensioencompensatie | B27: 0 | C27: =B27*C16 -> 0 | E27: 0 | F27: =E27*F16 -> 0 | H27: 0 | I27: =H27*I16 -> 0 | K27: 0 | L27: =K27*L16 -> 0
A28: Scholing/duurzame inzetbaarheid | B28: 0 | C28: =B28*C16 -> 0 | E28: 0 | F28: =E28*F16 -> 0 | H28: 0 | I28: =H28*I16 -> 0 | K28: 0 | L28: =K28*L16 -> 0
A29: Specificeren | B29: 0 | C29: =B29*C16 -> 0 | E29: 0 | F29: =E29*F16 -> 0 | H29: 0 | I29: =H29*I16 -> 0 | K29: 0 | L29: =K29*L16 -> 0
B30: =SUM(B18:B29) -> 0.2217 | C30: =C16*B30 -> 0.27483148 | E30: =SUM(E18:E29) -> 0.2197 | F30: =F16*E30 -> 0.27235217 | H30: =SUM(H18:H29) -> 0.2217 | I30: =I16*H30 -> 0.27483148 | K30: =SUM(K18:K29) -> 0.2197 | L30: =L16*K30 -> 0.27235217
C31: =C16+C30 -> 1.5144864 | F31: =F16+F30 -> 1.512007 | I31: =I16+I30 -> 1.5144864 | L31: =L16+L30 -> 1.512007
A32: Additionele werkgeverslasten
A33: Specificeren | B33: 0 | C33: =B33*C31 -> 0 | E33: 0 | F33: =E33*F31 -> 0 | H33: 0 | I33: =H33*I31 -> 0 | K33: 0 | L33: =K33*L31 -> 0
A34: Specificeren | B34: 0 | C34: =B34*C31 -> 0 | E34: 0 | F34: =E34*F31 -> 0 | H34: 0 | I34: =H34*I31 -> 0 | K34: 0 | L34: =K34*L31 -> 0
A35: Specificeren | B35: 0 | C35: =B35*C31 -> 0 | E35: 0 | F35: =E35*F31 -> 0 | H35: 0 | I35: =H35*I31 -> 0 | K35: 0 | L35: =K35*L31 -> 0
A36: Specificeren | B36: 0 | C36: =B36*C31 -> 0 | E36: 0 | F36: =E36*F31 -> 0 | H36: 0 | I36: =H36*I31 -> 0 | K36: 0 | L36: =K36*L31 -> 0
B37: =SUM(B33:B36) -> 0 | C37: =C31*B37 -> 0 | E37: =SUM(E33:E36) -> 0 | F37: =F31*E37 -> 0 | H37: =SUM(H33:H36) -> 0 | I37: =I31*H37 -> 0 | K37: =SUM(K33:K36) -> 0 | L37: =L31*K37 -> 0
A38: Kostprijs vakantiekrachten normale en toeslag/overuren | C38: =C31+C37 -> 1.5144864 | F38: =F31+F37 -> 1.512007 | I38: =I31+I37 -> 1.5144864 | L38: =L31+L37 -> 1.512007
A40: Toelichting:
A41: N.B. 1 De ingevulde percentages zijn gebaseerd op de reserveringen van 2026, deze kunnen worden aangepast voor 2027. De vakantie en feestdagen zijn op basis van de CAO van de Opdrachtgever. De feest en vakantiedagen reservering zal jaarlijks gecheckt worden en zo nodig aangepast worden door Opdrachtgever. Zie tabblad "toelichting Vakantie-feestdagen" voor berekening van deze dagen.
A42: NB 2:Uitleg invullen tabblad: alle reserveringen moeten worden ingevuld in de blauwe niet beveiligde cellen. De reserveringen worden automatisch doorberekend en komen als kostprijs in het tabblad te staan. In het donkergrijze blok 3 'Additionele werkgeverslasten' kunnen bedrijfsspecifieke omschrijvingen opgenomen worden. Tijdens de duur van de raamovereenkomst wordt Blok 3; Additionele werkgeverslasten niet meer aangepast.
A43: NB 3: Indien er een bepaalde reservering niet van toepassing is, blijft de cel blauw en op 0% staan, dat heeft verder geen gevolg.
...

Sheet KP belaste vergoedingen 1 2027
A1: Naam Aanbieder: | B1: ='Omrekenfactoren 2027'!B2 -> SVP invullen
B2: Risicogroep Uitzendbedrijven I- Administratief | H2: Risicogroep Uitzendbedrijven II - Technisch
B4: Overeenkomst (Fase A) Belaste vergoedingen 1 | E4: (On)bepaalde tijd contract (Fase B/C) Belaste vergoedingen 1 | H4: Overeenkomst (Fase A) Belaste vergoedingen 1 | K4: (On)bepaalde tijd contract (Fase B/C) Belaste vergoedingen 1
A6: Salaris
A7: Bruto uursalaris | B7: 1 | C7: =B7 -> 1 | E7: 1 | F7: =E7 -> 1 | H7: 1 | I7: =H7 -> 1 | K7: 1 | L7: =K7 -> 1
C8: =SUM(C7:C7) -> 1 | F8: =SUM(F7:F7) -> 1 | I8: =SUM(I7:I7) -> 1 | L8: =SUM(L7:L7) -> 1
A9: Reserveringen
A10: Feestdagen - 7 dagen n.v.t. | B10: 0 | C10: =B10*C8 -> 0 | E10: =B10 -> 0 | F10: =E10*F8 -> 0 | H10: =B10 -> 0 | I10: =H10*I8 -> 0 | K10: =B10 -> 0 | L10: =K10*L8 -> 0
A11: Vakantiedagen - 28 dagen n.v.t. | B11: 0 | C11: =B11*C8 -> 0 | E11: =B11 -> 0 | F11: =E11*F8 -> 0 | H11: =B11 -> 0 | I11: =H11*I8 -> 0 | K11: =B11 -> 0 | L11: =K11*L8 -> 0
A12: Kort verzuim / buitengewoon verlof richtlijnen ABU CAO n.v.t. | B12: 0 | C12: =B12*C8 -> 0 | E12: =B12 -> 0 | F12: =E12*F8 -> 0 | H12: =B12 -> 0 | I12: =H12*I8 -> 0 | K12: =B12 -> 0 | L12: =K12*L8 -> 0
B13: =SUM(B10:B12) -> 0 | C13: =SUM(C10:C12) -> 0 | E13: =SUM(E10:E12) -> 0 | F13: =SUM(F10:F12) -> 0 | H13: =SUM(H10:H12) -> 0 | I13: =SUM(I10:I12) -> 0 | K13: =SUM(K10:K12) -> 0 | L13: =SUM(L10:L12) -> 0
C14: =C8+C13 -> 1 | F14: =F8+F13 -> 1 | I14: =I8+I13 -> 1 | L14: =L8+L13 -> 1
A15: Reservering IKB (Individueel Keuze Budget; Alleen 8% vakantietoeslag van toepassing) | B15: 0.08 | C15: =C14*B15 -> 0.08 | E15: =B15 -> 0.08 | F15: =F14*E15 -> 0.08 | H15: =B15 -> 0.08 | I15: =I14*H15 -> 0.08 | K15: =B15 -> 0.08 | L15: =L14*K15 -> 0.08
C16: =SUM(C14:C15) -> 1.08 | F16: =SUM(F14:F15) -> 1.08 | I16: =SUM(I14:I15) -> 1.08 | L16: =SUM(L14:L15) -> 1.08
A17: Werkgeverslasten
A18: Stichting Sociaal fonds uitzendbranche (SFU) | B18: 0 | C18: =B18*C16 -> 0 | E18: 0 | F18: =E18*F16 -> 0 | H18: 0 | I18: =H18*I16 -> 0 | K18: 0 | L18: =K18*L16 -> 0
A19: Premie AWF | B19: 0.0774 | C19: =B19*C16 -> 0.083592 | E19: =B19 -> 0.0774 | F19: =E19*F16 -> 0.083592 | H19: =B19 -> 0.0774 | I19: =H19*I16 -> 0.083592 | K19: =B19 -> 0.0774 | L19: =K19*L16 -> 0.083592
A20: Ziektewet | B20: 0 | C20: =B20*C16 -> 0 | E20: 0 | F20: =E20*F16 -> 0 | H20: 0 | I20: =H20*I16 -> 0 | K20: 0 | L20: =K20*L16 -> 0
A21: Premie aanvulling ziektewet (AZW) | B21: 0 | C21: =B21*C16 -> 0 | E21: 0 | F21: =E21*F16 -> 0 | H21: 0 | I21: =H21*I16 -> 0 | K21: 0 | L21: =K21*L16 -> 0
A22: Zorgverzekeringswet (ZVW) | B22: 0.061 | C22: =B22*C16 -> 0.06588 | E22: =B22 -> 0.061 | F22: =E22*F16 -> 0.06588 | H22: =B22 -> 0.061 | I22: =H22*I16 -> 0.06588 | K22: =B22 -> 0.061 | L22: =K22*L16 -> 0.06588
A23: AOF incl. kinderopvang | B23: 0.0813 | C23: =B23*C16 -> 0.087804 | E23: =B23 -> 0.0813 | F23: =E23*F16 -> 0.087804 | H23: =B23 -> 0.0813 | I23: =H23*I16 -> 0.087804 | K23: =B23 -> 0.0813 | L23: =K23*L16 -> 0.087804
A24: Transitievergoeding | B24: 0 | C24: =B24*C16 -> 0 | E24: 0 | F24: =E24*F16 -> 0 | H24: 0 | I24: =H24*I16 -> 0 | K24: 0 | L24: =K24*L16 -> 0
A25: WGA totaal | B25: 0 | C25: =B25*C16 -> 0 | E25: 0 | F25: =E25*F16 -> 0 | H25: 0 | I25: =H25*I16 -> 0 | K25: 0 | L25: =K25*L16 -> 0
A26: Pensioen reservering | B26: 0 | C26: =B26*C16 -> 0 | E26: 0 | F26: =E26*F16 -> 0 | H26: 0 | I26: =H26*I16 -> 0 | K26: 0 | L26: =K26*L16 -> 0
A27: Pensioencompensatie | B27: 0 | C27: =B27*C16 -> 0 | E27: 0 | F27: =E27*F16 -> 0 | H27: 0 | I27: =H27*I16 -> 0 | K27: 0 | L27: =K27*L16 -> 0
A28: Specificeren | B28: 0 | C28: =B28*C16 -> 0 | E28: 0 | F28: =E28*F16 -> 0 | H28: 0 | I28: =H28*I16 -> 0 | K28: 0 | L28: =K28*L16 -> 0
A29: Specificeren | B29: 0 | C29: =B29*C16 -> 0 | E29: 0 | F29: =E29*F16 -> 0 | H29: 0 | I29: =H29*I16 -> 0 | K29: 0 | L29: =K29*L16 -> 0
B30: =SUM(B18:B29) -> 0.2197 | C30: =C16*B30 -> 0.237276 | E30: =SUM(E18:E29) -> 0.2197 | F30: =F16*E30 -> 0.237276 | H30: =SUM(H18:H29) -> 0.2197 | I30: =I16*H30 -> 0.237276 | K30: =SUM(K18:K29) -> 0.2197 | L30: =L16*K30 -> 0.237276
C31: =C16+C30 -> 1.317276 | F31: =F16+F30 -> 1.317276 | I31: =I16+I30 -> 1.317276 | L31: =L16+L30 -> 1.317276
A32: Additionele werkgeverslasten
A33: Specificeren | B33: 0 | C33: =B33*C31 -> 0 | E33: 0 | F33: =E33*F31 -> 0 | H33: 0 | I33: =H33*I31 -> 0 | K33: 0 | L33: =K33*L31 -> 0
A34: Specificeren | B34: 0 | C34: =B34*C31 -> 0 | E34: 0 | F34: =E34*F31 -> 0 | H34: 0 | I34: =H34*I31 -> 0 | K34: 0 | L34: =K34*L31 -> 0
A35: Specificeren | B35: 0 | C35: =B35*C31 -> 0 | E35: 0 | F35: =E35*F31 -> 0 | H35: 0 | I35: =H35*I31 -> 0 | K35: 0 | L35: =K35*L31 -> 0
A36: Specificeren | B36: 0 | C36: =B36*C31 -> 0 | E36: 0 | F36: =E36*F31 -> 0 | H36: 0 | I36: =H36*I31 -> 0 | K36: 0 | L36: =K36*L31 -> 0
B37: =SUM(B33:B36) -> 0 | C37: =C31*B37 -> 0 | E37: =SUM(E33:E36) -> 0 | F37: =F31*E37 -> 0 | H37: =SUM(H33:H36) -> 0 | I37: =I31*H37 -> 0 | K37: =SUM(K33:K36) -> 0 | L37: =L31*K37 -> 0
A38: Kostprijs Belaste vergoedingen 1 regulier | C38: =C31+C37 -> 1.317276 | F38: =F31+F37 -> 1.317276 | I38: =I31+I37 -> 1.317276 | L38: =L31+L37 -> 1.317276
A40: Toelichting:
A41: NB 1:Uitleg invullen tabblad: alle reserveringen moeten worden ingevuld in de blauwe niet beveiligde cellen. De reserveringen worden automatisch doorberekend en komen als kostprijs in het tabblad te staan. In het donkergrijze blok 3 'Additionele werkgeverslasten' kunnen bedrijfsspecifieke omschrijvingen opgenomen worden. Tijdens de duur van de raamovereenkomst wordt Blok 3; Additionele werkgeverslasten niet meer aangepast.
A42: NB 2: Vakantiedagen, kort verzuim en feestdagen niet van toepassing voor de belaste vergoedingen. IKB behalve vakantietoeslag, is geen grondslag voor de belaste vergoedingen. Pensioen is wel van toepassing op de belaste vergoeding. Indien er reserveringen onterecht opgenomen worden onder de noemer belaste vergoedingen, kunnen deze reserveringen tijdens implementatie of bij de jaarlijkse aanpassing aangepast worden, hier zal een benchmark op toegepast worden.
A43: NB 3: Indien er een bepaalde reservering niet van toepassing is, blijft de cel blauw en op 0% staan, dat heeft verder geen gevolg.
...

Sheet KP belaste vergoedingen 2 2027
A1: Naam Aanbieder: | B1: ='Omrekenfactoren 2027'!B2 -> SVP invullen
B2: Risicogroep Uitzendbedrijven I- Administratief | H2: Risicogroep Uitzendbedrijven II - Technisch
B4: Overeenkomst (Fase A) Belaste vergoedingen 2 | E4: (On)bepaalde tijd contract (Fase B/C) Belaste vergoedingen 2 | H4: Overeenkomst (Fase A) Belaste vergoedingen 2 | K4: (On)bepaalde tijd contract (Fase B/C) Belaste vergoedingen 2
A6: Salaris
A7: Bruto uursalaris | B7: 1 | C7: =B7 -> 1 | E7: 1 | F7: =E7 -> 1 | H7: 1 | I7: =H7 -> 1 | K7: 1 | L7: =K7 -> 1
C8: =SUM(C7:C7) -> 1 | F8: =SUM(F7:F7) -> 1 | I8: =SUM(I7:I7) -> 1 | L8: =SUM(L7:L7) -> 1
A9: Reserveringen
A10: Feestdagen - 7 dagen n.v.t. | B10: 0 | C10: =B10*C8 -> 0 | E10: =B10 -> 0 | F10: =E10*F8 -> 0 | H10: =B10 -> 0 | I10: =H10*I8 -> 0 | K10: =B10 -> 0 | L10: =K10*L8 -> 0
A11: Vakantiedagen - 28 dagen n.v.t. | B11: 0 | C11: =B11*C8 -> 0 | E11: =B11 -> 0 | F11: =E11*F8 -> 0 | H11: =B11 -> 0 | I11: =H11*I8 -> 0 | K11: =B11 -> 0 | L11: =K11*L8 -> 0
A12: Kort verzuim / buitengewoon verlof richtlijnen ABU CAO n.v.t. | B12: 0 | C12: =B12*C8 -> 0 | E12: =B12 -> 0 | F12: =E12*F8 -> 0 | H12: =B12 -> 0 | I12: =H12*I8 -> 0 | K12: =B12 -> 0 | L12: =K12*L8 -> 0
B13: =SUM(B10:B12) -> 0 | C13: =SUM(C10:C12) -> 0 | E13: =SUM(E10:E12) -> 0 | F13: =SUM(F10:F12) -> 0 | H13: =SUM(H10:H12) -> 0 | I13: =SUM(I10:I12) -> 0 | K13: =SUM(K10:K12) -> 0 | L13: =SUM(L10:L12) -> 0
C14: =C8+C13 -> 1 | F14: =F8+F13 -> 1 | I14: =I8+I13 -> 1 | L14: =L8+L13 -> 1
A15: Reservering IKB n.v.t. | B15: 0 | C15: =C14*B15 -> 0 | E15: =B15 -> 0 | F15: =F14*E15 -> 0 | H15: =B15 -> 0 | I15: =I14*H15 -> 0 | K15: =B15 -> 0 | L15: =L14*K15 -> 0
C16: =SUM(C14:C15) -> 1 | F16: =SUM(F14:F15) -> 1 | I16: =SUM(I14:I15) -> 1 | L16: =SUM(L14:L15) -> 1
A17: Werkgeverslasten
A18: Stichting Sociaal fonds uitzendbranche (SFU) | B18: 0 | C18: =B18*C16 -> 0 | E18: 0 | F18: =E18*F16 -> 0 | H18: 0 | I18: =H18*I16 -> 0 | K18: 0 | L18: =K18*L16 -> 0
A19: Premie AWF | B19: 0.0774 | C19: =B19*C16 -> 0.0774 | E19: =B19 -> 0.0774 | F19: =E19*F16 -> 0.0774 | H19: =B19 -> 0.0774 | I19: =H19*I16 -> 0.0774 | K19: =B19 -> 0.0774 | L19: =K19*L16 -> 0.0774
A20: Ziektewet | B20: 0 | C20: =B20*C16 -> 0 | E20: 0 | F20: =E20*F16 -> 0 | H20: 0 | I20: =H20*I16 -> 0 | K20: 0 | L20: =K20*L16 -> 0
A21: Premie aanvulling ziektewet (AZW) | B21: 0 | C21: =B21*C16 -> 0 | E21: 0 | F21: =E21*F16 -> 0 | H21: 0 | I21: =H21*I16 -> 0 | K21: 0 | L21: =K21*L16 -> 0
A22: Zorgverzekeringswet (ZVW) | B22: 0.061 | C22: =B22*C16 -> 0.061 | E22: =B22 -> 0.061 | F22: =E22*F16 -> 0.061 | H22: =B22 -> 0.061 | I22: =H22*I16 -> 0.061 | K22: =B22 -> 0.061 | L22: =K22*L16 -> 0.061
A23: AOF incl. kinderopvang | B23: 0.0813 | C23: =B23*C16 -> 0.0813 | E23: =B23 -> 0.0813 | F23: =E23*F16 -> 0.0813 | H23: =B23 -> 0.0813 | I23: =H23*I16 -> 0.0813 | K23: =B23 -> 0.0813 | L23: =K23*L16 -> 0.0813
A24: Transitievergoeding | B24: 0 | C24: =B24*C16 -> 0 | E24: 0 | F24: =E24*F16 -> 0 | H24: 0 | I24: =H24*I16 -> 0 | K24: 0 | L24: =K24*L16 -> 0
A25: WGA totaal | B25: 0 | C25: =B25*C16 -> 0 | E25: 0 | F25: =E25*F16 -> 0 | H25: 0 | I25: =H25*I16 -> 0 | K25: 0 | L25: =K25*L16 -> 0
A26: Pensioen reservering | B26: 0 | C26: =B26*C16 -> 0 | E26: 0 | F26: =E26*F16 -> 0 | H26: 0 | I26: =H26*I16 -> 0 | K26: 0 | L26: =K26*L16 -> 0
A27: Pensioencompensatie | B27: 0 | C27: =B27*C16 -> 0 | E27: 0 | F27: =E27*F16 -> 0 | H27: 0 | I27: =H27*I16 -> 0 | K27: 0 | L27: =K27*L16 -> 0
A28: Specificeren | B28: 0 | C28: =B28*C16 -> 0 | E28: 0 | F28: =E28*F16 -> 0 | H28: 0 | I28: =H28*I16 -> 0 | K28: 0 | L28: =K28*L16 -> 0
A29: Specificeren | B29: 0 | C29: =B29*C16 -> 0 | E29: 0 | F29: =E29*F16 -> 0 | H29: 0 | I29: =H29*I16 -> 0 | K29: 0 | L29: =K29*L16 -> 0
B30: =SUM(B18:B29) -> 0.2197 | C30: =C16*B30 -> 0.2197 | E30: =SUM(E18:E29) -> 0.2197 | F30: =F16*E30 -> 0.2197 | H30: =SUM(H18:H29) -> 0.2197 | I30: =I16*H30 -> 0.2197 | K30: =SUM(K18:K29) -> 0.2197 | L30: =L16*K30 -> 0.2197
C31: =C16+C30 -> 1.2197 | F31: =F16+F30 -> 1.2197 | I31: =I16+I30 -> 1.2197 | L31: =L16+L30 -> 1.2197
A32: Additionele werkgeverslasten
A33: Specificeren | B33: 0 | C33: =B33*C31 -> 0 | E33: 0 | F33: =E33*F31 -> 0 | H33: 0 | I33: =H33*I31 -> 0 | K33: 0 | L33: =K33*L31 -> 0
A34: Specificeren | B34: 0 | C34: =B34*C31 -> 0 | E34: 0 | F34: =E34*F31 -> 0 | H34: 0 | I34: =H34*I31 -> 0 | K34: 0 | L34: =K34*L31 -> 0
A35: Specificeren | B35: 0 | C35: =B35*C31 -> 0 | E35: 0 | F35: =E35*F31 -> 0 | H35: 0 | I35: =H35*I31 -> 0 | K35: 0 | L35: =K35*L31 -> 0
A36: Specificeren | B36: 0 | C36: =B36*C31 -> 0 | E36: 0 | F36: =E36*F31 -> 0 | H36: 0 | I36: =H36*I31 -> 0 | K36: 0 | L36: =K36*L31 -> 0
B37: =SUM(B33:B36) -> 0 | C37: =C31*B37 -> 0 | E37: =SUM(E33:E36) -> 0 | F37: =F31*E37 -> 0 | H37: =SUM(H33:H36) -> 0 | I37: =I31*H37 -> 0 | K37: =SUM(K33:K36) -> 0 | L37: =L31*K37 -> 0
A38: Kostprijs Belaste vergoedingen 2 regulier | C38: =C31+C37 -> 1.2197 | F38: =F31+F37 -> 1.2197 | I38: =I31+I37 -> 1.2197 | L38: =L31+L37 -> 1.2197
A40: Toelichting:
A41: NB 1:Uitleg invullen tabblad: alle reserveringen moeten worden ingevuld in de blauwe niet beveiligde cellen. De reserveringen worden automatisch doorberekend en komen als kostprijs in het tabblad te staan. In het donkergrijze blok 3 'Additionele werkgeverslasten' kunnen bedrijfsspecifieke omschrijvingen opgenomen worden. Tijdens de duur van de raamovereenkomst wordt Blok 3; Additionele werkgeverslasten niet meer aangepast.
A42: NB 2: Vakantiedagen, kort verzuim en feestdagen niet van toepassing voor de belaste vergoedingen. IKB, is geen grondslag voor de belaste vergoedingen. Pensioen is wel van toepassing op de belaste vergoeding. Indien er reserveringen onterecht opgenomen worden onder de noemer belaste vergoedingen, kunnen deze reserveringen tijdens implementatie of bij de jaarlijkse aanpassing aangepast worden, hier zal een benchmark op toegepast worden.
A43: NB 3: Indien er een bepaalde reservering niet van toepassing is, blijft de cel blauw en op 0% staan, dat heeft verder geen gevolg.
...

Sheet Kostprijs AOW normale uren 2027
A1: Naam Aanbieder: | B1: ='Omrekenfactoren 2027'!B2 -> SVP invullen
B2: Risicogroep Uitzendbedrijven I- Administratief | H2: Risicogroep Uitzendbedrijven II - Technisch
B4: Overeenkomst (Fase A) AOW gerechtigde normale uren | E4: (On)bepaalde tijd contract (Fase BC) AOW gerechtigde normale uren | H4: Overeenkomst (Fase A) AOW gerechtigde normale uren | K4: (On)bepaalde tijd contract (Fase BC) AOW gerechtigde normale uren
A6: Salaris
A7: Bruto uursalaris | B7: 1 | C7: =B7 -> 1 | E7: 1 | F7: =E7 -> 1 | H7: 1 | I7: =H7 -> 1 | K7: 1 | L7: =K7 -> 1
C8: =SUM(C7:C7) -> 1 | F8: =SUM(F7:F7) -> 1 | I8: =SUM(I7:I7) -> 1 | L8: =SUM(L7:L7) -> 1
A9: Reserveringen
A10: Feestdagen - 7 dagen | B10: 0.031 | C10: =B10*C8 -> 0.031 | E10: =B10 -> 0.031 | F10: =E10*F8 -> 0.031 | H10: =B10 -> 0.031 | I10: =H10*I8 -> 0.031 | K10: =B10 -> 0.031 | L10: =K10*L8 -> 0.031
A11: Vakantiedagen - 28 dagen | B11: 0.1239 | C11: =B11*C8 -> 0.1239 | E11: =B11 -> 0.1239 | F11: =E11*F8 -> 0.1239 | H11: =B11 -> 0.1239 | I11: =H11*I8 -> 0.1239 | K11: =B11 -> 0.1239 | L11: =K11*L8 -> 0.1239
A12: Kort verzuim / buitengewoon verlof richtlijnen ABU CAO | B12: 0.006 | C12: =B12*C8 -> 0.006 | E12: =B12 -> 0.006 | F12: =E12*F8 -> 0.006 | H12: =B12 -> 0.006 | I12: =H12*I8 -> 0.006 | K12: =B12 -> 0.006 | L12: =K12*L8 -> 0.006
B13: =SUM(B10:B12) -> 0.1609 | C13: =SUM(C10:C12) -> 0.1609 | E13: =SUM(E10:E12) -> 0.1609 | F13: =SUM(F10:F12) -> 0.1609 | H13: =SUM(H10:H12) -> 0.1609 | I13: =SUM(I10:I12) -> 0.1609 | K13: =SUM(K10:K12) -> 0.1609 | L13: =SUM(L10:L12) -> 0.1609
C14: =C8+C13 -> 1.1609 | F14: =F8+F13 -> 1.1609 | I14: =I8+I13 -> 1.1609 | L14: =L8+L13 -> 1.1609
A15: Reservering IKB (Individueel Keuze Budget; 8% vakantietoeslag, 1,5% levensloopregeling en 7,55% eindejaarsuitkering) | B15: 0.1705 | C15: =C14*B15 -> 0.19793345 | E15: =B15 -> 0.1705 | F15: =F14*E15 -> 0.19793345 | H15: =B15 -> 0.1705 | I15: =I14*H15 -> 0.19793345 | K15: =B15 -> 0.1705 | L15: =L14*K15 -> 0.19793345
C16: =SUM(C14:C15) -> 1.3588335 | F16: =SUM(F14:F15) -> 1.3588335 | I16: =SUM(I14:I15) -> 1.3588335 | L16: =SUM(L14:L15) -> 1.3588335
A17: Werkgeverslasten
A18: Stichting Sociaal fonds uitzendbranche (SFU) | B18: 0 | C18: =B18*C16 -> 0 | E18: 0 | F18: =E18*F16 -> 0 | H18: 0 | I18: =H18*I16 -> 0 | K18: 0 | L18: =K18*L16 -> 0
A19: Premie AWF | B19: 0 | C19: =B19*C16 -> 0 | E19: =B19 -> 0 | F19: =E19*F16 -> 0 | H19: =B19 -> 0 | I19: =H19*I16 -> 0 | K19: =B19 -> 0 | L19: =K19*L16 -> 0
A20: Ziekte | B20: 0 | C20: =B20*C16 -> 0 | E20: 0 | F20: =E20*F16 -> 0 | H20: 0 | I20: =H20*I16 -> 0 | K20: 0 | L20: =K20*L16 -> 0
A21: Premie aanvulling ziektewet (AZW) | B21: 0 | C21: =B21*C16 -> 0 | E21: 0 | F21: =E21*F16 -> 0 | H21: 0 | I21: =H21*I16 -> 0 | K21: 0 | L21: =K21*L16 -> 0
A22: Zorgverzekeringswet (ZVW) | B22: 0.061 | C22: =B22*C16 -> 0.08288884 | E22: =B22 -> 0.061 | F22: =E22*F16 -> 0.08288884 | H22: =B22 -> 0.061 | I22: =H22*I16 -> 0.08288884 | K22: =B22 -> 0.061 | L22: =K22*L16 -> 0.08288884
A23: AOF incl. kinderopvang | B23: 0 | C23: =B23*C16 -> 0 | E23: =B23 -> 0 | F23: =E23*F16 -> 0 | H23: =B23 -> 0 | I23: =H23*I16 -> 0 | K23: =B23 -> 0 | L23: =K23*L16 -> 0
A24: Transitievergoeding | B24: 0 | C24: =B24*C16 -> 0 | E24: 0 | F24: =E24*F16 -> 0 | H24: 0 | I24: =H24*I16 -> 0 | K24: 0 | L24: =K24*L16 -> 0
A25: WGA totaal | B25: 0 | C25: =B25*C16 -> 0 | E25: 0 | F25: =E25*F16 -> 0 | H25: 0 | I25: =H25*I16 -> 0 | K25: 0 | L25: =K25*L16 -> 0
A26: Pensioen reservering | B26: 0 | C26: =B26*C16 -> 0 | E26: 0 | F26: =E26*F16 -> 0 | H26: 0 | I26: =H26*I16 -> 0 | K26: 0 | L26: =K26*L16 -> 0
