Workbook

Sheet Overzicht raamactiviteiten
C3: Uiterwaarden | D3: Totaal
C4: Buitenwaarden Oldeneel | D4: =SUM('Buitenwaarden Oldeneel'!I137) -> 23709.202
C5: Buitenwaarden Welsum – Katerstede | D5: =SUM('Buitenwaarden Welsum – Katerste'!I95) -> 305328.54
C6: Buitenwaarden Wijhe | D6: =SUM('Buitenwaarden Wijhe'!I80) -> 265084.72
C7: Buitenwaarden Windesheim | D7: =SUM('Buitenwaarden Windesheim'!I123) -> 413601.92
C8: Dorperwaarden | D8: =SUM(Dorperwaarden!I67) -> 35916.34
C9: Fortmond/ Duursche waarden | D9: =SUM('Fortmond Duursche waarden'!I67) -> 50449.102
C10: Hoenwaard | D10: =SUM(Hoenwaard!I96) -> 98007.422
C11: Koppelerwaard | D11: =SUM(Koppelerwaard!I53) -> 20882.702
C12: Marlerwaarden | D12: =SUM(Marlerwaarden!I95) -> 183601.22
C13: Oenerdijkerwaarden en welsumerwaarden | D13: =SUM('Oenerdijkerwaarden en welsumerw'!I67) -> 64671.902
C14: Olsterwaarden/ Henforderwaarden | D14: =SUM('Olsterwaarden Henforderwaarden'!I67) -> 179699.56
C15: Vorchterwaarden | D15: =SUM(Vorchterwaarden!I67) -> 32814.902
C16: Zalkerbosch | D16: =SUM(Zalkerbosch!I95) -> 86610.364
C17: ORBA | D17: =SUM(ORBA!F7) -> 25 | E17: +
D19: =SUM(D4:D17) -> 1760402.9

Sheet Buitenwaarden Oldeneel
D3: Staat van prijzen per eenheid raamactiviteiten (Stapper)
D4: NOK: Buitenwaarden Oldeneel
C6: # | D6: Omschrijving | E6: Hoeveelheid | F6: Eenheid | G6: Eenheidsprijs | I6: Totaal
D7: Directe bouwkosten
D9: KRW Maatregel 1:
C10: A | D10: Grondwerk
C11: A.1 | D11: Ontgraven | E11: 2000 | F11: m3 | G11: 1 | H11: EUR/m3 | I11: =E11*G11 -> 2000
C12: A.2 | D12: Transport intern | E12: 2000 | F12: m3 | G12: 1 | H12: EUR/m3 | I12: =E12*G12 -> 2000
C13: A.3 | D13: Afvoer grond
C14: A.3.1 | D14: Afvoer NT | E14: =0.3*E12 -> 600 | F14: m3 | G14: 1 | H14: EUR/m3 | I14: =E14*G14 -> 600
C15: A.3.2 | D15: Afvoer overig | E15: =0.7*E12 -> 1400 | F15: m3 | G15: 1 | H15: EUR/m3 | I15: =E15*G15 -> 1400
C16: A.4 | D16: Aanbrengen grond | E16: 0 | F16: m3 | G16: 0 | H16: EUR/m3 | I16: =E16*G16 -> 0
C17: B | D17: Steenwerk
C18: B.1 | D18: Opnemen bestorting | E18: 0 | F18: m3 | G18: 0 | H18: EUR/m3 | I18: =E18*G18 -> 0
C19: B.2 | D19: Transport intern | E19: 0 | F19: m3 | G19: 0 | H19: EUR/m3 | I19: =E19*G19 -> 0
C20: B.3 | D20: Afvoer steen | E20: 0 | F20: m3 | G20: 0 | H20: EUR/m3 | I20: =E20*G20 -> 0
C21: B.4 | D21: Leveren & aanbrengen steen | E21: 0 | F21: m3 | G21: 0 | H21: EUR/m3 | I21: =E21*G21 -> 0
D23: KRW maatregel 2: Dijk
C24: A | D24: Grondwerk
C25: A.1 | D25: Ontgraven | E25: 700 | F25: m3 | G25: 1 | H25: EUR/m3 | I25: =E25*G25 -> 700
C26: A.2 | D26: Transport intern | E26: 700 | F26: m3 | G26: 1 | H26: EUR/m3 | I26: =E26*G26 -> 700
C27: A.3 | D27: Afvoer grond
C28: A.3.1 | D28: Afvoer NT | E28: =0.3*E26 -> 210 | F28: m3 | G28: 1 | H28: EUR/m3 | I28: =E28*G28 -> 210
C29: A.3.2 | D29: Afvoer overig | E29: =0.7*E26 -> 490 | F29: m3 | G29: 1 | H29: EUR/m3 | I29: =E29*G29 -> 490
C30: A.4 | D30: Aanbrengen grond | E30: 200 | F30: m3 | G30: 1 | H30: EUR/m3 | I30: =E30*G30 -> 200
C31: B | D31: Steenwerk
C32: B.1 | D32: Opnemen bestorting | E32: 0 | F32: m3 | G32: 0 | H32: EUR/m3 | I32: =E32*G32 -> 0
C33: B.2 | D33: Transport intern | E33: 0 | F33: m3 | G33: 0 | H33: EUR/m3 | I33: =E33*G33 -> 0
C34: B.3 | D34: Afvoer steen | E34: 0 | F34: m3 | G34: 0 | H34: EUR/m3 | I34: =E34*G34 -> 0
C35: B.4 | D35: Leveren & aanbrengen steen | E35: 0 | F35: m3 | G35: 0 | H35: EUR/m3 | I35: =E35*G35 -> 0
D37: KRW maatregel 3: Strang 1
C38: A | D38: Grondwerk
C39: A.1 | D39: Ontgraven | E39: 3700 | F39: m3 | G39: 1 | H39: EUR/m3 | I39: =E39*G39 -> 3700
C40: A.2 | D40: Transport intern | E40: 3700 | F40: m3 | G40: 1 | H40: EUR/m3 | I40: =E40*G40 -> 3700
C41: A.3 | D41: Afvoer grond
C42: A.3.1 | D42: Afvoer NT | E42: =ROUNDUP(0.3*E40,-2) -> 1200 | F42: m3 | G42: 1 | H42: EUR/m3 | I42: =E42*G42 -> 1200
C43: A.3.2 | D43: Afvoer overig | E43: =ROUNDUP(0.7*E40,-2) -> 2600 | F43: m3 | G43: 1 | H43: EUR/m3 | I43: =E43*G43 -> 2600
C44: A.4 | D44: Aanbrengen grond | E44: 0 | F44: m3 | G44: 0 | H44: EUR/m3 | I44: =E44*G44 -> 0
C45: B | D45: Steenwerk
C46: B.1 | D46: Opnemen bestorting | E46: 0 | F46: m3 | G46: 0 | H46: EUR/m3 | I46: =E46*G46 -> 0
C47: B.2 | D47: Transport intern | E47: 0 | F47: m3 | G47: 0 | H47: EUR/m3 | I47: =E47*G47 -> 0
C48: B.3 | D48: Afvoer steen | E48: 0 | F48: m3 | G48: 0 | H48: EUR/m3 | I48: =E48*G48 -> 0
C49: B.4 | D49: Leveren & aanbrengen steen | E49: 0 | F49: m3 | G49: 0 | H49: EUR/m3 | I49: =E49*G49 -> 0
D51: KRW maatregel 4: Strang 2
C52: A | D52: Grondwerk
C53: A.1 | D53: Ontgraven | E53: 800 | F53: m3 | G53: 1 | H53: EUR/m3 | I53: =E53*G53 -> 800
C54: A.2 | D54: Transport intern | E54: 800 | F54: m3 | G54: 1 | H54: EUR/m3 | I54: =E54*G54 -> 800
C55: A.3 | D55: Afvoer grond
C56: A.3.1 | D56: Afvoer NT | E56: =0.3*E54 -> 240 | F56: m3 | G56: 1 | H56: EUR/m3 | I56: =E56*G56 -> 240
C57: A.3.2 | D57: Afvoer overig | E57: =0.7*E54 -> 560 | F57: m3 | G57: 1 | H57: EUR/m3 | I57: =E57*G57 -> 560
C58: A.4 | D58: Aanbrengen grond | E58: 0 | F58: m3 | G58: 0 | H58: EUR/m3 | I58: =E58*G58 -> 0
C59: B | D59: Steenwerk
C60: B.1 | D60: Opnemen bestorting | E60: 0 | F60: m3 | G60: 0 | H60: EUR/m3 | I60: =E60*G60 -> 0
C61: B.2 | D61: Transport intern | E61: 0 | F61: m3 | G61: 0 | H61: EUR/m3 | I61: =E61*G61 -> 0
C62: B.3 | D62: Afvoer steen | E62: 0 | F62: m3 | G62: 0 | H62: EUR/m3 | I62: =E62*G62 -> 0
C63: B.4 | D63: Leveren & aanbrengen steen | E63: 0 | F63: m3 | G63: 0 | H63: EUR/m3 | I63: =E63*G63 -> 0
D65: KRW maatregel 5: Strang 3
C66: A | D66: Grondwerk
C67: A.1 | D67: Ontgraven | E67: 1100 | F67: m3 | G67: 1 | H67: EUR/m3 | I67: =E67*G67 -> 1100
C68: A.2 | D68: Transport intern | E68: 1100 | F68: m3 | G68: 1 | H68: EUR/m3 | I68: =E68*G68 -> 1100
C69: A.3 | D69: Afvoer grond
C70: A.3.1 | D70: Afvoer NT | E70: =ROUNDUP(0.3*E68,-2) -> 400 | F70: m3 | G70: 1 | H70: EUR/m3 | I70: =E70*G70 -> 400
C71: A.3.2 | D71: Afvoer overig | E71: =ROUNDUP(0.7*E68,-2) -> 800 | F71: m3 | G71: 1 | H71: EUR/m3 | I71: =E71*G71 -> 800
C72: A.4 | D72: Aanbrengen grond | E72: 0 | F72: m3 | G72: 0 | H72: EUR/m3 | I72: =E72*G72 -> 0
C73: B | D73: Steenwerk
C74: B.1 | D74: Opnemen bestorting | E74: 0 | F74: m3 | G74: 0 | H74: EUR/m3 | I74: =E74*G74 -> 0
C75: B.2 | D75: Transport intern | E75: 0 | F75: m3 | G75: 0 | H75: EUR/m3 | I75: =E75*G75 -> 0
C76: B.3 | D76: Afvoer steen | E76: 0 | F76: m3 | G76: 0 | H76: EUR/m3 | I76: =E76*G76 -> 0
C77: B.4 | D77: Leveren & aanbrengen steen | E77: 0 | F77: m3 | G77: 0 | H77: EUR/m3 | I77: =E77*G77 -> 0
D79: KRW maatregel 6: Strang 4
C80: A | D80: Grondwerk
C81: A.1 | D81: Ontgraven | E81: 700 | F81: m3 | G81: 1 | H81: EUR/m3 | I81: =E81*G81 -> 700
C82: A.2 | D82: Transport intern | E82: 700 | F82: m3 | G82: 1 | H82: EUR/m3 | I82: =E82*G82 -> 700
C83: A.3 | D83: Afvoer grond
C84: A.3.1 | D84: Afvoer NT | E84: =0.3*E82 -> 210 | F84: m3 | G84: 1 | H84: EUR/m3 | I84: =E84*G84 -> 210
C85: A.3.2 | D85: Afvoer overig | E85: =0.7*E82 -> 490 | F85: m3 | G85: 1 | H85: EUR/m3 | I85: =E85*G85 -> 490
C86: A.4 | D86: Aanbrengen grond | E86: 0 | F86: m3 | G86: 0 | H86: EUR/m3 | I86: =E86*G86 -> 0
C87: B | D87: Steenwerk
C88: B.1 | D88: Opnemen bestorting | E88: 0 | F88: m3 | G88: 0 | H88: EUR/m3 | I88: =E88*G88 -> 0
C89: B.2 | D89: Transport intern | E89: 0 | F89: m3 | G89: 0 | H89: EUR/m3 | I89: =E89*G89 -> 0
C90: B.3 | D90: Afvoer steen | E90: 0 | F90: m3 | G90: 0 | H90: EUR/m3 | I90: =E90*G90 -> 0
C91: B.4 | D91: Leveren & aanbrengen steen | E91: 0 | F91: m3 | G91: 0 | H91: EUR/m3 | I91: =E91*G91 -> 0
D93: KRW maatregel 7: Strang 1-1
C94: A | D94: Grondwerk
C95: A.1 | D95: Ontgraven | E95: 800 | F95: m3 | G95: 1 | H95: EUR/m3 | I95: =E95*G95 -> 800
C96: A.2 | D96: Transport intern | E96: 800 | F96: m3 | G96: 1 | H96: EUR/m3 | I96: =E96*G96 -> 800
C97: A.3 | D97: Afvoer grond
C98: A.3.1 | D98: Afvoer NT | E98: =0.3*E96 -> 240 | F98: m3 | G98: 1 | H98: EUR/m3 | I98: =E98*G98 -> 240
C99: A.3.2 | D99: Afvoer overig | E99: =0.7*E96 -> 560 | F99: m3 | G99: 1 | H99: EUR/m3 | I99: =E99*G99 -> 560
C100: A.4 | D100: Aanbrengen grond | E100: 0 | F100: m3 | G100: 0 | H100: EUR/m3 | I100: =E100*G100 -> 0
C101: B | D101: Steenwerk
C102: B.1 | D102: Opnemen bestorting | E102: 0 | F102: m3 | G102: 0 | H102: EUR/m3 | I102: =E102*G102 -> 0
C103: B.2 | D103: Transport intern | E103: 0 | F103: m3 | G103: 0 | H103: EUR/m3 | I103: =E103*G103 -> 0
C104: B.3 | D104: Afvoer steen | E104: 0 | F104: m3 | G104: 0 | H104: EUR/m3 | I104: =E104*G104 -> 0
C105: B.4 | D105: Leveren & aanbrengen steen | E105: 0 | F105: m3 | G105: 0 | H105: EUR/m3 | I105: =E105*G105 -> 0
H106: Subtotaal - Directe bouwkosten | I106: =SUM(I11:I105) -> 29800
D108: Engineeringskosten
C109: C.1 | D109: Opstellen DO | E109: 1 | F109: st | G109: 1 | H109: EUR/st | I109: =E109*G109 -> 1
C110: C.2 | D110: Opstellen UO | E110: 1 | F110: st | G110: 1 | H110: EUR/st | I110: =E110*G110 -> 1
C111: C.3 | D111: Overige Documenten Ontwerpfase | E111: 1 | F111: st | G111: 1 | H111: EUR/st | I111: =E111*G111 -> 1
...

Sheet Buitenwaarden Welsum – Katerste
D3: Staat van prijzen per eenheid raamactiviteiten (Stapper)
D4: NOK: Buitenwaarden Welsum – Katerste
C6: # | D6: Omschrijving | E6: Hoeveelheid | F6: Eenheid | G6: Eenheidsprijs | I6: Totaal
D7: Directe bouwkosten
D9: KRW Maatregel 1: Traject 1 Natuurvriendelijke oever
C10: A | D10: Grondwerk
C11: A.1 | D11: Ontgraven | E11: 10000 | F11: m3 | G11: 1 | H11: EUR/m3 | I11: =E11*G11 -> 10000
C12: A.2 | D12: Transport intern | E12: 10000 | F12: m3 | G12: 1 | H12: EUR/m3 | I12: =E12*G12 -> 10000
C13: A.3 | D13: Afvoer grond
C14: A.3.1 | D14: Afvoer NT | E14: =ROUNDUP(0.3*E12,-2) -> 3000 | F14: m3 | G14: 1 | H14: EUR/m3 | I14: =E14*G14 -> 3000
C15: A.3.2 | D15: Afvoer overig | E15: =ROUNDUP(0.7*E12,-2) -> 7000 | F15: m3 | G15: 1 | H15: EUR/m3 | I15: =E15*G15 -> 7000
C16: A.4 | D16: Aanbrengen grond | E16: 0 | F16: m3 | G16: 0 | H16: EUR/m3 | I16: =E16*G16 -> 0
C17: B | D17: Steenwerk
C18: B.1 | D18: Opnemen bestorting | E18: 8400 | F18: m3 | G18: 1 | H18: EUR/m3 | I18: =E18*G18 -> 8400
C19: B.2 | D19: Transport intern | E19: 8400 | F19: m3 | G19: 1 | H19: EUR/m3 | I19: =E19*G19 -> 8400
C20: B.3 | D20: Afvoer steen | E20: 8400 | F20: m3 | G20: 1 | H20: EUR/m3 | I20: =E20*G20 -> 8400
C21: B.4 | D21: Leveren & aanbrengen steen | E21: 0 | F21: m3 | G21: 0 | H21: EUR/m3 | I21: =E21*G21 -> 0
D23: KRW Maatregel 2: Traject 2 Natuurvriendelijke oever
C24: A | D24: Grondwerk
C25: A.1 | D25: Ontgraven | E25: 13000 | F25: m3 | G25: 1 | H25: EUR/m3 | I25: =E25*G25 -> 13000
C26: A.2 | D26: Transport intern | E26: 13000 | F26: m3 | G26: 1 | H26: EUR/m3 | I26: =E26*G26 -> 13000
C27: A.3 | D27: Afvoer grond
C28: A.3.1 | D28: Afvoer NT | E28: =ROUNDUP(0.3*E26,-2) -> 3900 | F28: m3 | G28: 1 | H28: EUR/m3 | I28: =E28*G28 -> 3900
C29: A.3.2 | D29: Afvoer overig | E29: =ROUNDUP(0.7*E26,-2) -> 9100 | F29: m3 | G29: 1 | H29: EUR/m3 | I29: =E29*G29 -> 9100
C30: A.4 | D30: Aanbrengen grond | E30: 0 | F30: m3 | G30: 0 | H30: EUR/m3 | I30: =E30*G30 -> 0
C31: B | D31: Steenwerk
C32: B.1 | D32: Opnemen bestorting | E32: 6200 | F32: m3 | G32: 1 | H32: EUR/m3 | I32: =E32*G32 -> 6200
C33: B.2 | D33: Transport intern | E33: 6200 | F33: m3 | G33: 1 | H33: EUR/m3 | I33: =E33*G33 -> 6200
C34: B.3 | D34: Afvoer steen | E34: 6200 | F34: m3 | G34: 1 | H34: EUR/m3 | I34: =E34*G34 -> 6200
C35: B.4 | D35: Leveren & aanbrengen steen | E35: 0 | F35: m3 | G35: 0 | H35: EUR/m3 | I35: =E35*G35 -> 0
D37: KRW Maatregel 3: Traject 3 Natuurvriendelijke oever
C38: A | D38: Grondwerk
C39: A.1 | D39: Ontgraven | E39: 16000 | F39: m3 | G39: 1 | H39: EUR/m3 | I39: =E39*G39 -> 16000
C40: A.2 | D40: Transport intern | E40: 16000 | F40: m3 | G40: 1 | H40: EUR/m3 | I40: =E40*G40 -> 16000
C41: A.3 | D41: Afvoer grond
C42: A.3.1 | D42: Afvoer NT | E42: =ROUNDUP(0.3*E40,-2) -> 4800 | F42: m3 | G42: 1 | H42: EUR/m3 | I42: =E42*G42 -> 4800
C43: A.3.2 | D43: Afvoer overig | E43: =ROUNDUP(0.7*E40,-2) -> 11200 | F43: m3 | G43: 1 | H43: EUR/m3 | I43: =E43*G43 -> 11200
C44: A.4 | D44: Aanbrengen grond | E44: 0 | F44: m3 | H44: EUR/m3 | I44: =E44*G44 -> 0
C45: B | D45: Steenwerk
C46: B.1 | D46: Opnemen bestorting | E46: 4100 | F46: m3 | G46: 1 | H46: EUR/m3 | I46: =E46*G46 -> 4100
C47: B.2 | D47: Transport intern | E47: 4100 | F47: m3 | G47: 1 | H47: EUR/m3 | I47: =E47*G47 -> 4100
C48: B.3 | D48: Afvoer steen | E48: 4100 | F48: m3 | G48: 1 | H48: EUR/m3 | I48: =E48*G48 -> 4100
C49: B.4 | D49: Leveren & aanbrengen steen | E49: 0 | F49: m3 | G49: 0 | H49: EUR/m3 | I49: =E49*G49 -> 0
D51: KRW Maatregel 4: Geul
C52: A | D52: Grondwerk
C53: A.1 | D53: Ontgraven | E53: 65700 | F53: m3 | G53: 1 | H53: EUR/m3 | I53: =E53*G53 -> 65700
C54: A.2 | D54: Transport intern | E54: 65700 | F54: m3 | G54: 1 | H54: EUR/m3 | I54: =E54*G54 -> 65700
C55: A.3 | D55: Afvoer grond
C56: A.3.1 | D56: Afvoer NT | E56: =ROUNDUP(0.3*E54,-2) -> 19800 | F56: m3 | G56: 1 | H56: EUR/m3 | I56: =E56*G56 -> 19800
C57: A.3.2 | D57: Afvoer overig | E57: =ROUNDUP(0.7*E54,-2) -> 46000 | F57: m3 | G57: 1 | H57: EUR/m3 | I57: =E57*G57 -> 46000
C58: A.4 | D58: Aanbrengen grond | E58: 0 | F58: m3 | G58: 0 | H58: EUR/m3 | I58: =E58*G58 -> 0
C59: B | D59: Steenwerk
C60: B.1 | D60: Opnemen bestorting | E60: 0 | F60: m3 | G60: 0 | H60: EUR/m3 | I60: =E60*G60 -> 0
C61: B.2 | D61: Transport intern | E61: 0 | F61: m3 | G61: 0 | H61: EUR/m3 | I61: =E61*G61 -> 0
C62: B.3 | D62: Afvoer steen | E62: 0 | F62: m3 | G62: 0 | H62: EUR/m3 | I62: =E62*G62 -> 0
C63: B.4 | D63: Leveren & aanbrengen steen | E63: 1200 | F63: m3 | G63: 1 | H63: EUR/m3 | I63: =E63*G63 -> 1200
H64: Subtotaal - Directe bouwkosten | I64: =SUM(I11:I63) -> 371500
D66: Engineeringskosten
C67: C.1 | D67: Opstellen DO | E67: 1 | F67: st | G67: 1 | H67: EUR/st | I67: =E67*G67 -> 1
C68: C.2 | D68: Opstellen UO | E68: 1 | F68: st | G68: 1 | H68: EUR/st | I68: =E68*G68 -> 1
C69: C.3 | D69: Overige Documenten Ontwerpfase | E69: 1 | F69: st | G69: 1 | H69: EUR/st | I69: =E69*G69 -> 1
C70: C.4 | D70: Overige Documenten Uitvoeringsfase | E70: 1 | F70: st | G70: 1 | H70: EUR/st | I70: =E70*G70 -> 1
H71: Subtotaal - Engineeringskosten | I71: =SUM(I67:I70) -> 4
D73: Indirecte kosten
C74: D.1 | D74: Eenmalige kosten | E74: 1 | F74: st | G74: 1 | H74: EUR/st | I74: =E74*G74 -> 1
C75: D.2 | D75: Algemene bouwplaatskosten | E75: 1 | F75: st | G75: 1 | H75: EUR/st | I75: =E75*G75 -> 1
C76: D.3 | D76: Uitvoeringskosten | E76: 1 | F76: st | G76: 1 | H76: EUR/st | I76: =E76*G76 -> 1
C77: D.4 | D77: Projectmanagementkosten | E77: 1 | F77: st | G77: 1 | H77: EUR/st | I77: =E77*G77 -> 1
C78: D.5 | D78: Algemene kosten | E78: 0.01 | F78: % | G78: =SUM(I71:I77)+I64 -> 371508 | I78: =E78*G78 -> 3715.08
C79: D.6 | D79: Winst | E79: 0.01 | F79: % | G79: =SUM(I71:I78)+I64 -> 375223.08 | I79: =E79*G79 -> 3752.2308
C80: D.7 | D80: Risico | E80: 0.01 | F80: % | G80: =SUM(I71:I78)+I64 -> 375223.08 | I80: =E80*G80 -> 3752.2308
H81: Subtotaal - Indirecte kosten | I81: =SUM(I74:I80) -> 11223.542
D83: Verschil in kosten bij inzet ZE-materieel
C84: E.1 | D84: Verschil in kosten voor inzet ZE-materieel >0 & ≤30,00% | E84: 0.25 | F84: st | G84: 1 | H84: EUR/st | I84: =E84*G84 -> 0.25
C85: E.2 | D85: Verschil in kosten voor inzet ZE-materieel >30 & ≤50% | E85: 0.25 | F85: st | G85: 1 | H85: EUR/st | I85: =E85*G85 -> 0.25
C86: E.3 | D86: Verschil in kosten voor inzet ZE-materieel >50 & ≤70% | E86: 0.25 | F86: st | G86: 1 | H86: EUR/st | I86: =E86*G86 -> 0.25
C87: E.4 | D87: Verschil in kosten voor inzet ZE-materieel >70% | E87: 0.25 | F87: st | G87: 1 | H87: EUR/st | I87: =E87*G87 -> 0.25
H88: Subtotaal - Verschil in kosten inzet ZE-materieel | I88: =SUM(I84:I87) -> 1
D90: Waarde grond
C91: F.1.1 | D91: Waarde van aan de Opdrachtnemer te vervallen zand | E91: 40700 | F91: m3 | G91: 1 | H91: EUR/m3 | I91: =E91*G91 -> 40700
C92: F.1.2 | D92: Waarde van aan de Opdrachtnemer te vervallen klei | E92: 36700 | F92: m3 | G92: 1 | H92: EUR/m3 | I92: =E92*G92 -> 36700
H93: Subtotaal - Waarde grond | I93: =SUM(I91:I92) -> 77400
H95: Totaal stapper [Buitenwaarden Welsum – Katerste] | I95: =I64+I81+I71+I88-I93 -> 305328.54

Sheet Buitenwaarden Wijhe
D3: Staat van prijzen per eenheid raamactiviteiten (Stapper)
D4: NOK: Buitenwaarden Wijhe
C6: # | D6: Omschrijving | E6: Hoeveelheid | F6: Eenheid | G6: Eenheidsprijs | I6: Totaal
D7: Directe bouwkosten
D9: KRW-maatregel 1: Watergang
C10: A | D10: Grondwerk
C11: A.1 | D11: Ontgraven | E11: 55100 | F11: m3 | G11: 1 | H11: EUR/m3 | I11: =E11*G11 -> 55100
C12: A.2 | D12: Transport intern | E12: 55100 | F12: m3 | G12: 1 | H12: EUR/m3 | I12: =E12*G12 -> 55100
C13: A.3 | D13: Afvoer grond
C14: A.3.1 | D14: Afvoer NT | E14: =ROUNDUP(0.3*E12,-2) -> 16600 | F14: m3 | G14: 1 | H14: EUR/m3 | I14: =E14*G14 -> 16600
C15: A.3.2 | D15: Afvoer overig | E15: =ROUNDUP(0.7*E12,-2) -> 38600 | F15: m3 | G15: 1 | H15: EUR/m3 | I15: =E15*G15 -> 38600
C16: A.4 | D16: Aanbrengen grond | E16: 52700 | F16: m3 | G16: 1 | H16: EUR/m3 | I16: =E16*G16 -> 52700
C17: B | D17: Steenwerk
C18: B.1 | D18: Opnemen bestorting | E18: 0 | F18: m3 | G18: 0 | H18: EUR/m3 | I18: =E18*G18 -> 0
C19: B.2 | D19: Transport intern | E19: 0 | F19: m3 | G19: 0 | H19: EUR/m3 | I19: =E19*G19 -> 0
C20: B.3 | D20: Afvoer steen | E20: 0 | F20: m3 | G20: 0 | H20: EUR/m3 | I20: =E20*G20 -> 0
C21: B.4 | D21: Leveren & aanbrengen steen | E21: 1000 | F21: m3 | G21: 1 | H21: EUR/m3 | I21: =E21*G21 -> 1000
D23: KRW-Maatregel 2: "kolk"
C24: A | D24: Grondwerk
C25: A.1 | D25: Ontgraven | E25: 600 | F25: m3 | G25: 1 | H25: EUR/m3 | I25: =E25*G25 -> 600
C26: A.2 | D26: Transport intern | E26: 600 | F26: m3 | G26: 1 | H26: EUR/m3 | I26: =E26*G26 -> 600
C27: A.3 | D27: Afvoer grond
C28: A.3.1 | D28: Afvoer NT | E28: =0.3*E26 -> 180 | F28: m3 | G28: 1 | H28: EUR/m3 | I28: =E28*G28 -> 180
C29: A.3.2 | D29: Afvoer overig | E29: =0.7*E26 -> 420 | F29: m3 | G29: 1 | H29: EUR/m3 | I29: =E29*G29 -> 420
C30: A.4 | D30: Aanbrengen grond | E30: 0 | F30: m3 | G30: 0 | H30: EUR/m3 | I30: =E30*G30 -> 0
C31: B | D31: Steenwerk
C32: B.1 | D32: Opnemen bestorting | E32: 0 | F32: m3 | G32: 0 | H32: EUR/m3 | I32: =E32*G32 -> 0
C33: B.2 | D33: Transport intern | E33: 0 | F33: m3 | G33: 0 | H33: EUR/m3 | I33: =E33*G33 -> 0
C34: B.3 | D34: Afvoer steen | E34: 0 | F34: m3 | G34: 0 | H34: EUR/m3 | I34: =E34*G34 -> 0
C35: B.4 | D35: Leveren & aanbrengen steen | E35: 300 | F35: m3 | G35: 1 | H35: EUR/m3 | I35: =E35*G35 -> 300
D37: KRW- Maatregel 3: "natuurvriendelijke oever"
C38: A | D38: Grondwerk
C39: A.1 | D39: Ontgraven | E39: 7100 | F39: m3 | G39: 1 | H39: EUR/m3 | I39: =E39*G39 -> 7100
C40: A.2 | D40: Transport intern | E40: 7100 | F40: m3 | G40: 1 | H40: EUR/m3 | I40: =E40*G40 -> 7100
C41: A.3 | D41: Afvoer grond
C42: A.3.1 | D42: Afvoer NT | E42: =ROUNDUP(0.3*E40,-2) -> 2200 | F42: m3 | G42: 1 | H42: EUR/m3 | I42: =E42*G42 -> 2200
C43: A.3.2 | D43: Afvoer overig | E43: =ROUNDUP(0.7*E40,-2) -> 5000 | F43: m3 | G43: 1 | H43: EUR/m3 | I43: =E43*G43 -> 5000
C44: A.4 | D44: Aanbrengen grond | E44: 14300 | F44: m3 | G44: 1 | H44: EUR/m3 | I44: =E44*G44 -> 14300
C45: B | D45: Steenwerk
C46: B.1 | D46: Opnemen bestorting | E46: 3500 | F46: m3 | G46: 1 | H46: EUR/m3 | I46: =E46*G46 -> 3500
C47: B.2 | D47: Transport intern | E47: 3500 | F47: m3 | G47: 1 | H47: EUR/m3 | I47: =E47*G47 -> 3500
C48: B.3 | D48: Afvoer steen | E48: 3500 | F48: m3 | G48: 1 | H48: EUR/m3 | I48: =E48*G48 -> 3500
C49: B.4 | D49: Leveren & aanbrengen steen | E49: 0 | F49: m3 | G49: 0 | H49: EUR/m3 | I49: =E49*G49 -> 0
H50: Subtotaal - Directe bouwkosten | I50: =SUM(I11:I49) -> 267400
D51: Engineeringskosten
C52: C.1 | D52: Opstellen DO | E52: 1 | F52: st | G52: 1 | H52: EUR/st | I52: =E52*G52 -> 1
C53: C.2 | D53: Opstellen UO | E53: 1 | F53: st | G53: 1 | H53: EUR/st | I53: =E53*G53 -> 1
C54: C.3 | D54: Overige Documenten Ontwerpfase | E54: 1 | F54: st | G54: 1 | H54: EUR/st | I54: =E54*G54 -> 1
C55: C.4 | D55: Overige Documenten Uitvoeringsfase | E55: 1 | F55: st | G55: 1 | H55: EUR/st | I55: =E55*G55 -> 1
H56: Subtotaal - Engineeringskosten | I56: =SUM(I52:I55) -> 4
D58: Indirecte kosten
C59: D.1 | D59: Eenmalige kosten | E59: 1 | F59: st | G59: 1 | H59: EUR/st | I59: =E59*G59 -> 1
C60: D.2 | D60: Algemene bouwplaatskosten | E60: 1 | F60: st | G60: 1 | H60: EUR/st | I60: =E60*G60 -> 1
C61: D.3 | D61: Uitvoeringskosten | E61: 1 | F61: st | G61: 1 | H61: EUR/st | I61: =E61*G61 -> 1
C62: D.4 | D62: Projectmanagementkosten | E62: 1 | F62: st | G62: 1 | H62: EUR/st | I62: =E62*G62 -> 1
C63: D.5 | D63: Algemene kosten | E63: 0.01 | F63: % | G63: =SUM(I56:I62)+I50 -> 267408 | I63: =E63*G63 -> 2674.08
C64: D.6 | D64: Winst | E64: 0.01 | F64: % | G64: =SUM(I56:I63)+I50 -> 270082.08 | I64: =E64*G64 -> 2700.8208
C65: D.7 | D65: Risico | E65: 0.01 | F65: % | G65: =SUM(I56:I63)+I50 -> 270082.08 | I65: =E65*G65 -> 2700.8208
H66: Subtotaal - Indirecte kosten | I66: =SUM(I59:I65) -> 8079.7216
D68: Verschil in kosten bij inzet ZE-materieel
C69: E.1 | D69: Verschil in kosten voor inzet ZE-materieel >0 & ≤30,00% | E69: 0.25 | F69: st | G69: 1 | H69: EUR/st | I69: =E69*G69 -> 0.25
C70: E.2 | D70: Verschil in kosten voor inzet ZE-materieel >30 & ≤50% | E70: 0.25 | F70: st | G70: 1 | H70: EUR/st | I70: =E70*G70 -> 0.25
C71: E.3 | D71: Verschil in kosten voor inzet ZE-materieel >50 & ≤70% | E71: 0.25 | F71: st | G71: 1 | H71: EUR/st | I71: =E71*G71 -> 0.25
C72: E.4 | D72: Verschil in kosten voor inzet ZE-materieel >70% | E72: 0.25 | F72: st | G72: 1 | H72: EUR/st | I72: =E72*G72 -> 0.25
H73: Subtotaal - Verschil in kosten inzet ZE-materieel | I73: =SUM(I69:I72) -> 1
D75: Waarde grond
C76: F.1.1 | D76: Waarde van aan de Opdrachtnemer te vervallen zand | E76: 1300 | F76: m3 | G76: 1 | H76: EUR/m3 | I76: =E76*G76 -> 1300
C77: F.1.2 | D77: Waarde van aan de Opdrachtnemer te vervallen klei | E77: 9100 | F77: m3 | G77: 1 | H77: EUR/m3 | I77: =E77*G77 -> 9100
H78: Subtotaal - Waarde grond | I78: =SUM(I76:I77) -> 10400
H80: Totaal stapper [Buitenwaarden Wijhe] | I80: =I50+I66+I56+I73-I78 -> 265084.72

Sheet Dorperwaarden
D3: Staat van prijzen per eenheid raamactiviteiten (Stapper)
D4: NOK: Dorperwaarden
C6: # | D6: Omschrijving | E6: Hoeveelheid | F6: Eenheid | G6: Eenheidsprijs | I6: Totaal
D7: Directe bouwkosten
D9: KRW-maatregel 1 "Ontstenen oevers"
C10: A | D10: Grondwerk
C11: A.1 | D11: Ontgraven | E11: 2100 | F11: m3 | G11: 1 | H11: EUR/m3 | I11: =E11*G11 -> 2100
C12: A.2 | D12: Transport intern | E12: 2100 | F12: m3 | G12: 1 | H12: EUR/m3 | I12: =E12*G12 -> 2100
C13: A.3 | D13: Afvoer grond
C14: A.3.1 | D14: Afvoer NT | E14: 1200 | F14: m3 | G14: 1 | H14: EUR/m3 | I14: =E14*G14 -> 1200
C15: A.3.2 | D15: Afvoer overig | E15: 890 | F15: m3 | G15: 1 | H15: EUR/m3 | I15: =E15*G15 -> 890
C16: A.4 | D16: Aanbrengen grond | E16: 600 | F16: m3 | G16: 1 | H16: EUR/m3 | I16: =E16*G16 -> 600
C17: B | D17: Steenwerk
C18: B.1 | D18: Opnemen bestorting | E18: 2600 | F18: m3 | G18: 1 | H18: EUR/m3 | I18: =E18*G18 -> 2600
C19: B.2 | D19: Transport intern | E19: 2600 | F19: m3 | G19: 1 | H19: EUR/m3 | I19: =E19*G19 -> 2600
C20: B.3 | D20: Afvoer steen | E20: 2600 | F20: m3 | G20: 1 | H20: EUR/m3 | I20: =E20*G20 -> 2600
C21: B.4 | D21: Leveren & aanbrengen steen | E21: 600 | F21: m3 | G21: 1 | H21: EUR/m3 | I21: =E21*G21 -> 600
D23: KRW-maatregel 2 "Ontstenen en verflauwen oevers"
C24: A | D24: Grondwerk
C25: A.1 | D25: Ontgraven | E25: 4800 | F25: m3 | G25: 1 | H25: EUR/m3 | I25: =E25*G25 -> 4800
C26: A.2 | D26: Transport intern | E26: 4800 | F26: m3 | G26: 1 | H26: EUR/m3 | I26: =E26*G26 -> 4800
C27: A.3 | D27: Afvoer grond
C28: A.3.1 | D28: Afvoer NT | E28: 2400 | F28: m3 | G28: 1 | H28: EUR/m3 | I28: =E28*G28 -> 2400
C29: A.3.2 | D29: Afvoer overig | E29: 2400 | F29: m3 | G29: 1 | H29: EUR/m3 | I29: =E29*G29 -> 2400
C30: A.4 | D30: Aanbrengen grond | E30: 500 | F30: m3 | G30: 1 | H30: EUR/m3 | I30: =E30*G30 -> 500
C31: B | D31: Steenwerk
C32: B.1 | D32: Opnemen bestorting | E32: 2100 | F32: m3 | G32: 1 | H32: EUR/m3 | I32: =E32*G32 -> 2100
C33: B.2 | D33: Transport intern | E33: 2100 | F33: m3 | G33: 1 | H33: EUR/m3 | I33: =E33*G33 -> 2100
C34: B.3 | D34: Afvoer steen | E34: 2100 | F34: m3 | G34: 1 | H34: EUR/m3 | I34: =E34*G34 -> 2100
C35: B.4 | D35: Leveren & aanbrengen steen | E35: 500 | F35: m3 | G35: 1 | H35: EUR/m3 | I35: =E35*G35 -> 500
H36: Subtotaal - Directe bouwkosten | I36: =SUM(I11:I35) -> 36990
D38: Engineeringskosten
C39: C.1 | D39: Opstellen DO | E39: 1 | F39: st | G39: 1 | H39: EUR/st | I39: =E39*G39 -> 1
C40: C.2 | D40: Opstellen UO | E40: 1 | F40: st | G40: 1 | H40: EUR/st | I40: =E40*G40 -> 1
C41: C.3 | D41: Overige Documenten Ontwerpfase | E41: 1 | F41: st | G41: 1 | H41: EUR/st | I41: =E41*G41 -> 1
C42: C.4 | D42: Overige Documenten Uitvoeringsfase | E42: 1 | F42: st | G42: 1 | H42: EUR/st | I42: =E42*G42 -> 1
H43: Subtotaal - Engineeringskosten | I43: =SUM(I39:I42) -> 4
D45: Indirecte kosten
C46: D.1 | D46: Eenmalige kosten | E46: 1 | F46: st | G46: 1 | H46: EUR/st | I46: =E46*G46 -> 1
C47: D.2 | D47: Algemene bouwplaatskosten | E47: 1 | F47: st | G47: 1 | H47: EUR/st | I47: =E47*G47 -> 1
C48: D.3 | D48: Uitvoeringskosten | E48: 1 | F48: st | G48: 1 | H48: EUR/st | I48: =E48*G48 -> 1
C49: D.4 | D49: Projectmanagementkosten | E49: 1 | F49: st | G49: 1 | H49: EUR/st | I49: =E49*G49 -> 1
C50: D.5 | D50: Algemene kosten | E50: 0.01 | F50: % | G50: =SUM(I43:I49)+I36 -> 36998 | I50: =E50*G50 -> 369.98
C51: D.6 | D51: Winst | E51: 0.01 | F51: % | G51: =SUM(I43:I50)+I36 -> 37367.98 | I51: =E51*G51 -> 373.6798
C52: D.7 | D52: Risico | E52: 0.01 | F52: % | G52: =SUM(I43:I50)+I36 -> 37367.98 | I52: =E52*G52 -> 373.6798
H53: Subtotaal - Indirecte kosten | I53: =SUM(I46:I52) -> 1121.3396
D55: Verschil in kosten bij inzet ZE-materieel
C56: E.1 | D56: Verschil in kosten voor inzet ZE-materieel >0 & ≤30,00% | E56: 0.25 | F56: st | G56: 1 | H56: EUR/st | I56: =E56*G56 -> 0.25
C57: E.2 | D57: Verschil in kosten voor inzet ZE-materieel >30 & ≤50% | E57: 0.25 | F57: st | G57: 1 | H57: EUR/st | I57: =E57*G57 -> 0.25
C58: E.3 | D58: Verschil in kosten voor inzet ZE-materieel >50 & ≤70% | E58: 0.25 | F58: st | G58: 1 | H58: EUR/st | I58: =E58*G58 -> 0.25
C59: E.4 | D59: Verschil in kosten voor inzet ZE-materieel >70% | E59: 0.25 | F59: st | G59: 1 | H59: EUR/st | I59: =E59*G59 -> 0.25
H60: Subtotaal - Verschil in kosten inzet ZE-materieel | I60: =SUM(I56:I59) -> 1
D62: Waarde grond
C63: F.1.1 | D63: Waarde van aan de Opdrachtnemer te vervallen zand | E63: 1200 | F63: m3 | G63: 1 | H63: EUR/m3 | I63: =E63*G63 -> 1200
C64: F.1.2 | D64: Waarde van aan de Opdrachtnemer te vervallen klei | E64: 1000 | F64: m3 | G64: 1 | H64: EUR/m3 | I64: =E64*G64 -> 1000
H65: Subtotaal - Waarde grond | I65: =SUM(I63:I64) -> 2200
H67: Totaal stapper [Dorperwaarden] | I67: =I36+I53+I43+I60-I65 -> 35916.34

Sheet Buitenwaarden Windesheim
D3: Staat van prijzen per eenheid raamactiviteiten (Stapper)
D4: NOK: Buitenwaarden Windesheim
C6: # | D6: Omschrijving | E6: Hoeveelheid | F6: Eenheid | G6: Eenheidsprijs | I6: Totaal
D7: Directe bouwkosten
D9: KRW Maatregel 1: Traject 1 Natuurvriendelijke oever
C10: A | D10: Grondwerk
C11: A.1 | D11: Ontgraven | E11: 1800 | F11: m3 | G11: 1 | H11: EUR/m3 | I11: =E11*G11 -> 1800
C12: A.2 | D12: Transport intern | E12: 1800 | F12: m3 | G12: 1 | H12: EUR/m3 | I12: =E12*G12 -> 1800
C13: A.3 | D13: Afvoer grond
C14: A.3.1 | D14: Afvoer NT | E14: =ROUNDUP(0.3*E12,-2) -> 600 | F14: m3 | G14: 1 | H14: EUR/m3 | I14: =E14*G14 -> 600
C15: A.3.2 | D15: Afvoer overig | E15: =ROUNDUP(0.7*E12,-2) -> 1300 | F15: m3 | G15: 1 | H15: EUR/m3 | I15: =E15*G15 -> 1300
C16: A.4 | D16: Aanbrengen grond | E16: 0 | F16: m3 | G16: 0 | H16: EUR/m3 | I16: =E16*G16 -> 0
C17: B | D17: Steenwerk
C18: B.1 | D18: Opnemen bestorting | E18: 1800 | F18: m3 | G18: 1 | H18: EUR/m3 | I18: =E18*G18 -> 1800
C19: B.2 | D19: Transport intern | E19: 1800 | F19: m3 | G19: 1 | H19: EUR/m3 | I19: =E19*G19 -> 1800
C20: B.3 | D20: Afvoer steen | E20: 1800 | F20: m3 | G20: 1 | H20: EUR/m3 | I20: =E20*G20 -> 1800
C21: B.4 | D21: Leveren & aanbrengen steen | E21: 0 | F21: m3 | G21: 0 | H21: EUR/m3 | I21: =E21*G21 -> 0
D23: KRW Maatregel 2: Geul-Noord
C24: A | D24: Grondwerk
C25: A.1 | D25: Ontgraven | E25: 65900 | F25: m3 | G25: 1 | H25: EUR/m3 | I25: =E25*G25 -> 65900
C26: A.2 | D26: Transport intern | E26: 65900 | F26: m3 | G26: 1 | H26: EUR/m3 | I26: =E26*G26 -> 65900
C27: A.3 | D27: Afvoer grond
C28: A.3.1 | D28: Afvoer NT | E28: =ROUNDUP(0.3*E26,-2) -> 19800 | F28: m3 | G28: 1 | H28: EUR/m3 | I28: =E28*G28 -> 19800
C29: A.3.2 | D29: Afvoer overig | E29: =ROUNDUP(0.7*E26,-2) -> 46200 | F29: m3 | G29: 1 | H29: EUR/m3 | I29: =E29*G29 -> 46200
C30: A.4 | D30: Aanbrengen grond | E30: 0 | F30: m3 | G30: 0 | H30: EUR/m3 | I30: =E30*G30 -> 0
C31: B | D31: Steenwerk
C32: B.1 | D32: Opnemen bestorting | E32: 3100 | F32: m3 | G32: 1 | H32: EUR/m3 | I32: =E32*G32 -> 3100
C33: B.2 | D33: Transport intern | E33: 3100 | F33: m3 | G33: 1 | H33: EUR/m3 | I33: =E33*G33 -> 3100
C34: B.3 | D34: Afvoer steen | E34: 3100 | F34: m3 | G34: 1 | H34: EUR/m3 | I34: =E34*G34 -> 3100
C35: B.4 | D35: Leveren & aanbrengen steen | E35: 0 | F35: m3 | G35: 0 | H35: EUR/m3 | I35: =E35*G35 -> 0
D37: KRW Maatregel 3: Geul-Zuid
C38: A | D38: Grondwerk
C39: A.1 | D39: Ontgraven | E39: 62400 | F39: m3 | G39: 1 | H39: EUR/m3 | I39: =E39*G39 -> 62400
C40: A.2 | D40: Transport intern | E40: 62400 | F40: m3 | G40: 1 | H40: EUR/m3 | I40: =E40*G40 -> 62400
C41: A.3 | D41: Afvoer grond
C42: A.3.1 | D42: Afvoer NT | E42: =ROUNDUP(0.3*E40,-2) -> 18800 | F42: m3 | G42: 1 | H42: EUR/m3 | I42: =E42*G42 -> 18800
C43: A.3.2 | D43: Afvoer overig | E43: =ROUNDUP(0.7*E40,-2) -> 43700 | F43: m3 | G43: 1 | H43: EUR/m3 | I43: =E43*G43 -> 43700
C44: A.4 | D44: Aanbrengen grond | E44: 0 | F44: m3 | G44: 0 | H44: EUR/m3 | I44: =E44*G44 -> 0
C45: B | D45: Steenwerk
C46: B.1 | D46: Opnemen bestorting | E46: 6400 | F46: m3 | G46: 1 | H46: EUR/m3 | I46: =E46*G46 -> 6400
C47: B.2 | D47: Transport intern | E47: 6400 | F47: m3 | G47: 1 | H47: EUR/m3 | I47: =E47*G47 -> 6400
C48: B.3 | D48: Afvoer steen | E48: 6400 | F48: m3 | G48: 1 | H48: EUR/m3 | I48: =E48*G48 -> 6400
C49: B.4 | D49: Leveren & aanbrengen steen | E49: 300 | F49: m3 | G49: 1 | H49: EUR/m3 | I49: =E49*G49 -> 300
D51: KRW-Maatregel 4: Zomerkade
C52: A | D52: Grondwerk
C53: A.1 | D53: Ontgraven | E53: 0 | F53: m3 | G53: 0 | H53: EUR/m3 | I53: =E53*G53 -> 0
C54: A.2 | D54: Transport intern | E54: 0 | F54: m3 | G54: 0 | H54: EUR/m3 | I54: =E54*G54 -> 0
C55: A.3 | D55: Afvoer grond
C56: A.3.1 | D56: Afvoer NT | E56: 0 | F56: m3 | G56: 0 | H56: EUR/m3 | I56: =E56*G56 -> 0
C57: A.3.2 | D57: Afvoer overig | E57: 0 | F57: m3 | G57: 0 | H57: EUR/m3 | I57: =E57*G57 -> 0
C58: A.4 | D58: Aanbrengen grond | E58: 8800 | F58: m3 | G58: 1 | H58: EUR/m3 | I58: =E58*G58 -> 8800
C59: B | D59: Steenwerk
C60: B.1 | D60: Opnemen bestorting | E60: 0 | F60: m3 | G60: 0 | H60: EUR/m3 | I60: =E60*G60 -> 0
C61: B.2 | D61: Transport intern | E61: 0 | F61: m3 | G61: 0 | H61: EUR/m3 | I61: =E61*G61 -> 0
C62: B.3 | D62: Afvoer steen | E62: 0 | F62: m3 | G62: 0 | H62: EUR/m3 | I62: =E62*G62 -> 0
C63: B.4 | D63: Leveren & aanbrengen steen | E63: 0 | F63: m3 | G63: 0 | H63: EUR/m3 | I63: =E63*G63 -> 0
D65: KRW-Maatregel 5: Demper inlaat
C66: A | D66: Grondwerk
C67: A.1 | D67: Ontgraven | E67: 0 | F67: m3 | G67: 0 | H67: EUR/m3 | I67: =E67*G67 -> 0
C68: A.2 | D68: Transport intern | E68: 0 | F68: m3 | G68: 0 | H68: EUR/m3 | I68: =E68*G68 -> 0
C69: A.3 | D69: Afvoer grond
C70: A.3.1 | D70: Afvoer NT | E70: 0 | F70: m3 | G70: 0 | H70: EUR/m3 | I70: =E70*G70 -> 0
C71: A.3.2 | D71: Afvoer overig | E71: 0 | F71: m3 | G71: 0 | H71: EUR/m3 | I71: =E71*G71 -> 0
C72: A.4 | D72: Aanbrengen grond | E72: 10200 | F72: m3 | G72: 1 | H72: EUR/m3 | I72: =E72*G72 -> 10200
C73: B | D73: Steenwerk
C74: B.1 | D74: Opnemen bestorting | E74: 0 | F74: m3 | G74: 0 | H74: EUR/m3 | I74: =E74*G74 -> 0
C75: B.2 | D75: Transport intern | E75: 0 | F75: m3 | G75: 0 | H75: EUR/m3 | I75: =E75*G75 -> 0
C76: B.3 | D76: Afvoer steen | E76: 0 | F76: m3 | G76: 0 | H76: EUR/m3 | I76: =E76*G76 -> 0
C77: B.4 | D77: Leveren & aanbrengen steen | E77: 0 | F77: m3 | G77: 0 | H77: EUR/m3 | I77: =E77*G77 -> 0
D79: KRW-Maatregel 6: Inlaat
C80: A | D80: Grondwerk
C81: A.1 | D81: Ontgraven | E81: 1700 | F81: m3 | G81: 1 | H81: EUR/m3 | I81: =E81*G81 -> 1700
C82: A.2 | D82: Transport intern | E82: 1700 | F82: m3 | G82: 1 | H82: EUR/m3 | I82: =E82*G82 -> 1700
C83: A.3 | D83: Afvoer grond
C84: A.3.1 | D84: Afvoer NT | E84: =ROUNDUP(0.3*E82,-2) -> 600 | F84: m3 | G84: 1 | H84: EUR/m3 | I84: =E84*G84 -> 600
C85: A.3.2 | D85: Afvoer overig | E85: =ROUNDUP(0.7*E82,-2) -> 1200 | F85: m3 | G85: 1 | H85: EUR/m3 | I85: =E85*G85 -> 1200
C86: A.4 | D86: Aanbrengen grond | E86: 0 | F86: m3 | G86: 0 | H86: EUR/m3 | I86: =E86*G86 -> 0
C87: B | D87: Steenwerk
C88: B.1 | D88: Opnemen bestorting | E88: 1100 | F88: m3 | G88: 1 | H88: EUR/m3 | I88: =E88*G88 -> 1100
C89: B.2 | D89: Transport intern | E89: 1100 | F89: m3 | G89: 1 | H89: EUR/m3 | I89: =E89*G89 -> 1100
C90: B.3 | D90: Afvoer steen | E90: 1100 | F90: m3 | G90: 1 | H90: EUR/m3 | I90: =E90*G90 -> 1100
C91: B.4 | D91: Leveren & aanbrengen steen | E91: 1100 | F91: m3 | G91: 1 | H91: EUR/m3 | I91: =E91*G91 -> 1100
H92: Subtotaal - Directe bouwkosten | I92: =SUM(I11:I91) -> 453400
D94: Engineeringskosten
C95: C.1 | D95: Opstellen DO | E95: 1 | F95: st | G95: 1 | H95: EUR/st | I95: =E95*G95 -> 1
C96: C.2 | D96: Opstellen UO | E96: 1 | F96: st | G96: 1 | H96: EUR/st | I96: =E96*G96 -> 1
C97: C.3 | D97: Overige Documenten Ontwerpfase | E97: 1 | F97: st | G97: 1 | H97: EUR/st | I97: =E97*G97 -> 1
C98: C.4 | D98: Overige Documenten Uitvoeringsfase | E98: 1 | F98: st | G98: 1 | H98: EUR/st | I98: =E98*G98 -> 1
H99: Subtotaal - Engineeringskosten | I99: =SUM(I95:I98) -> 4
D101: Indirecte kosten
C102: D.1 | D102: Eenmalige kosten | E102: 1 | F102: st | G102: 1 | H102: EUR/st | I102: =E102*G102 -> 1
C103: D.2 | D103: Algemene bouwplaatskosten | E103: 1 | F103: st | G103: 1 | H103: EUR/st | I103: =E103*G103 -> 1
C104: D.3 | D104: Uitvoeringskosten | E104: 1 | F104: st | G104: 1 | H104: EUR/st | I104: =E104*G104 -> 1
C105: D.4 | D105: Projectmanagementkosten | E105: 1 | F105: st | G105: 1 | H105: EUR/st | I105: =E105*G105 -> 1
C106: D.5 | D106: Algemene kosten | E106: 0.01 | F106: % | G106: =SUM(I99:I105)+I92 -> 453408 | I106: =E106*G106 -> 4534.08
C107: D.6 | D107: Winst | E107: 0.01 | F107: % | G107: =SUM(I99:I106)+I92 -> 457942.08 | I107: =E107*G107 -> 4579.4208
C108: D.7 | D108: Risico | E108: 0.01 | F108: % | G108: =SUM(I99:I106)+I92 -> 457942.08 | I108: =E108*G108 -> 4579.4208
H109: Subtotaal - Indirecte kosten | I109: =SUM(I102:I108) -> 13696.922
D111: Verschil in kosten bij inzet ZE-materieel
C112: E.1 | D112: Verschil in kosten voor inzet ZE-materieel >0 & ≤30,00% | E112: 0.25 | F112: st | G112: 1 | H112: EUR/st | I112: =E112*G112 -> 0.25
...

Sheet Olsterwaarden  Henforderwaarden
D3: Staat van prijzen per eenheid raamactiviteiten (Stapper)
D4: NOK: Olsterwaarden Henforderwaarden
C6: # | D6: Omschrijving | E6: Hoeveelheid | F6: Eenheid | G6: Eenheidsprijs | I6: Totaal
D7: Directe bouwkosten
D9: KRW Maatregel 1: Natuurvriendelijke oever
C10: A | D10: Grondwerk
C11: A.1 | D11: Ontgraven | E11: 52700 | F11: m3 | G11: 1 | H11: EUR/m3 | I11: =E11*G11 -> 52700
C12: A.2 | D12: Transport intern | E12: 52700 | F12: m3 | G12: 1 | H12: EUR/m3 | I12: =E12*G12 -> 52700
C13: A.3 | D13: Afvoer grond
C14: A.3.1 | D14: Afvoer NT | E14: =ROUNDUP(0.3*E12,-2) -> 15900 | F14: m3 | G14: 1 | H14: EUR/m3 | I14: =E14*G14 -> 15900
C15: A.3.2 | D15: Afvoer overig | E15: =ROUNDUP(0.7*E12,-2) -> 36900 | F15: m3 | G15: 1 | H15: EUR/m3 | I15: =E15*G15 -> 36900
C16: A.4 | D16: Aanbrengen grond | E16: 0 | F16: m3 | G16: 0 | H16: EUR/m3 | I16: =E16*G16 -> 0
C17: B | D17: Steenwerk
C18: B.1 | D18: Opnemen bestorting | E18: 15500 | F18: m3 | G18: 1 | H18: EUR/m3 | I18: =E18*G18 -> 15500
C19: B.2 | D19: Transport intern | E19: 15500 | F19: m3 | G19: 1 | H19: EUR/m3 | I19: =E19*G19 -> 15500
C20: B.3 | D20: Afvoer steen | E20: 15500 | F20: m3 | G20: 1 | H20: EUR/m3 | I20: =E20*G20 -> 15500
C21: B.4 | D21: Leveren & aanbrengen steen | E21: 0 | F21: m3 | G21: 0 | H21: EUR/m3 | I21: =E21*G21 -> 0
D23: KRW Maatregel 2: Poelen
C24: A | D24: Grondwerk
C25: A.1 | D25: Ontgraven | E25: 2300 | F25: m3 | G25: 1 | H25: EUR/m3 | I25: =E25*G25 -> 2300
C26: A.2 | D26: Transport intern | E26: 2300 | F26: m3 | G26: 1 | H26: EUR/m3 | I26: =E26*G26 -> 2300
C27: A.3 | D27: Afvoer grond
C28: A.3.1 | D28: Afvoer NT | E28: =0.3*E26 -> 690 | F28: m3 | G28: 1 | H28: EUR/m3 | I28: =E28*G28 -> 690
C29: A.3.2 | D29: Afvoer overig | E29: =0.7*E26 -> 1610 | F29: m3 | G29: 1 | H29: EUR/m3 | I29: =E29*G29 -> 1610
C30: A.4 | D30: Aanbrengen grond | E30: 0 | F30: m3 | G30: 0 | H30: EUR/m3 | I30: =E30*G30 -> 0
C31: B | D31: Steenwerk
C32: B.1 | D32: Opnemen bestorting | E32: 0 | F32: m3 | G32: 0 | H32: EUR/m3 | I32: =E32*G32 -> 0
C33: B.2 | D33: Transport intern | E33: 0 | F33: m3 | G33: 0 | H33: EUR/m3 | I33: =E33*G33 -> 0
C34: B.3 | D34: Afvoer steen | E34: 0 | F34: m3 | G34: 0 | H34: EUR/m3 | I34: =E34*G34 -> 0
C35: B.4 | D35: Leveren & aanbrengen steen | E35: 0 | F35: m3 | G35: 0 | H35: EUR/m3 | I35: =E35*G35 -> 0
H36: Subtotaal - Directe bouwkosten | I36: =SUM(I11:I35) -> 211600
D38: Engineeringskosten
C39: C.1 | D39: Opstellen DO | E39: 1 | F39: st | G39: 1 | H39: EUR/st | I39: =E39*G39 -> 1
C40: C.2 | D40: Opstellen UO | E40: 1 | F40: st | G40: 1 | H40: EUR/st | I40: =E40*G40 -> 1
C41: C.3 | D41: Overige Documenten Ontwerpfase | E41: 1 | F41: st | G41: 1 | H41: EUR/st | I41: =E41*G41 -> 1
C42: C.4 | D42: Overige Documenten Uitvoeringsfase | E42: 1 | F42: st | G42: 1 | H42: EUR/st | I42: =E42*G42 -> 1
H43: Subtotaal - Engineeringskosten | I43: =SUM(I39:I42) -> 4
D45: Indirecte kosten
C46: D.1 | D46: Eenmalige kosten | E46: 1 | F46: st | G46: 1 | H46: EUR/st | I46: =E46*G46 -> 1
C47: D.2 | D47: Algemene bouwplaatskosten | E47: 1 | F47: st | G47: 1 | H47: EUR/st | I47: =E47*G47 -> 1
C48: D.3 | D48: Uitvoeringskosten | E48: 1 | F48: st | G48: 1 | H48: EUR/st | I48: =E48*G48 -> 1
C49: D.4 | D49: Projectmanagementkosten | E49: 1 | F49: st | G49: 1 | H49: EUR/st | I49: =E49*G49 -> 1
C50: D.5 | D50: Algemene kosten | E50: 0.01 | F50: % | G50: =SUM(I43:I49)+I36 -> 211608 | I50: =E50*G50 -> 2116.08
C51: D.6 | D51: Winst | E51: 0.01 | F51: % | G51: =SUM(I43:I50)+I36 -> 213724.08 | I51: =E51*G51 -> 2137.2408
C52: D.7 | D52: Risico | E52: 0.01 | F52: % | G52: =SUM(I43:I50)+I36 -> 213724.08 | I52: =E52*G52 -> 2137.2408
H53: Subtotaal - Indirecte kosten | I53: =SUM(I46:I52) -> 6394.5616
D55: Verschil in kosten bij inzet ZE-materieel
C56: E.1 | D56: Verschil in kosten voor inzet ZE-materieel >0 & ≤30,00% | E56: 0.25 | F56: st | G56: 1 | H56: EUR/st | I56: =E56*G56 -> 0.25
C57: E.2 | D57: Verschil in kosten voor inzet ZE-materieel >30 & ≤50% | E57: 0.25 | F57: st | G57: 1 | H57: EUR/st | I57: =E57*G57 -> 0.25
C58: E.3 | D58: Verschil in kosten voor inzet ZE-materieel >50 & ≤70% | E58: 0.25 | F58: st | G58: 1 | H58: EUR/st | I58: =E58*G58 -> 0.25
C59: E.4 | D59: Verschil in kosten voor inzet ZE-materieel >70% | E59: 0.25 | F59: st | G59: 1 | H59: EUR/st | I59: =E59*G59 -> 0.25
H60: Subtotaal - Verschil in kosten inzet ZE-materieel | I60: =SUM(I56:I59) -> 1
D62: Waarde grond
C63: F.1.1 | D63: Waarde van aan de Opdrachtnemer te vervallen zand | E63: 12900 | F63: m3 | G63: 1 | H63: EUR/m3 | I63: =E63*G63 -> 12900
C64: F.1.2 | D64: Waarde van aan de Opdrachtnemer te vervallen klei | E64: 25400 | F64: m3 | G64: 1 | H64: EUR/m3 | I64: =E64*G64 -> 25400
H65: Subtotaal - Waarde grond | I65: =SUM(I63:I64) -> 38300
H67: Totaal stapper [Olsterwaarden Henforderwaarden] | I67: =I36+I53+I43+I60-I65 -> 179699.56

Sheet Fortmond  Duursche waarden
D3: Staat van prijzen per eenheid raamactiviteiten (Stapper)
D4: NOK: Fortmond Duursche waarden
C6: # | D6: Omschrijving | E6: Hoeveelheid | F6: Eenheid | G6: Eenheidsprijs | I6: Totaal
D7: Directe bouwkosten
D9: KRW Maatregel 1: Natuurvriendelijke oever Zuid
C10: A | D10: Grondwerk
C11: A.1 | D11: Ontgraven | E11: 6200 | F11: m3 | G11: 1 | H11: EUR/m3 | I11: =E11*G11 -> 6200
C12: A.2 | D12: Transport intern | E12: 6200 | F12: m3 | G12: 1 | H12: EUR/m3 | I12: =E12*G12 -> 6200
C13: A.3 | D13: Afvoer grond
C14: A.3.1 | D14: Afvoer NT | E14: 4500 | F14: m3 | G14: 1 | H14: EUR/m3 | I14: =E14*G14 -> 4500
C15: A.3.2 | D15: Afvoer overig | E15: 1700 | F15: m3 | G15: 1 | H15: EUR/m3 | I15: =E15*G15 -> 1700
C16: A.4 | D16: Aanbrengen grond | E16: 200 | F16: m3 | G16: 1 | H16: EUR/m3 | I16: =E16*G16 -> 200
C17: B | D17: Steenwerk
C18: B.1 | D18: Opnemen bestorting | E18: 1900 | F18: m3 | G18: 1 | H18: EUR/m3 | I18: =E18*G18 -> 1900
C19: B.2 | D19: Transport intern | E19: 1900 | F19: m3 | G19: 1 | H19: EUR/m3 | I19: =E19*G19 -> 1900
C20: B.3 | D20: Afvoer steen | E20: 1900 | F20: m3 | G20: 1 | H20: EUR/m3 | I20: =E20*G20 -> 1900
C21: B.4 | D21: Leveren & aanbrengen steen | E21: 200 | F21: m3 | G21: 1 | H21: EUR/m3 | I21: =E21*G21 -> 200
D23: KRW Maatregel 2: Natuurvriendelijke oever Noord
C24: A | D24: Grondwerk
C25: A.1 | D25: Ontgraven | E25: 8700 | F25: m3 | G25: 1 | H25: EUR/m3 | I25: =E25*G25 -> 8700
C26: A.2 | D26: Transport intern | E26: 8700 | F26: m3 | G26: 1 | H26: EUR/m3 | I26: =E26*G26 -> 8700
C27: A.3 | D27: Afvoer grond
C28: A.3.1 | D28: Afvoer NT | E28: 4200 | F28: m3 | G28: 1 | H28: EUR/m3 | I28: =E28*G28 -> 4200
C29: A.3.2 | D29: Afvoer overig | E29: 4500 | F29: m3 | G29: 1 | H29: EUR/m3 | I29: =E29*G29 -> 4500
C30: A.4 | D30: Aanbrengen grond | E30: 500 | F30: m3 | G30: 1 | H30: EUR/m3 | I30: =E30*G30 -> 500
C31: B | D31: Steenwerk
C32: B.1 | D32: Opnemen bestorting | E32: 800 | F32: m3 | G32: 1 | H32: EUR/m3 | I32: =E32*G32 -> 800
C33: B.2 | D33: Transport intern | E33: 800 | F33: m3 | G33: 1 | H33: EUR/m3 | I33: =E33*G33 -> 800
C34: B.3 | D34: Afvoer steen | E34: 800 | F34: m3 | G34: 1 | H34: EUR/m3 | I34: =E34*G34 -> 800
C35: B.4 | D35: Leveren & aanbrengen steen | E35: 600 | F35: m3 | G35: 1 | H35: EUR/m3 | I35: =E35*G35 -> 600
H36: Subtotaal - Directe bouwkosten | I36: =SUM(I9:I35) -> 54300
D38: Engineeringskosten
C39: C.1 | D39: Opstellen DO | E39: 1 | F39: st | G39: 1 | H39: EUR/st | I39: =E39*G39 -> 1
C40: C.2 | D40: Opstellen UO | E40: 1 | F40: st | G40: 1 | H40: EUR/st | I40: =E40*G40 -> 1
C41: C.3 | D41: Overige Documenten Ontwerpfase | E41: 1 | F41: st | G41: 1 | H41: EUR/st | I41: =E41*G41 -> 1
C42: C.4 | D42: Overige Documenten Uitvoeringsfase | E42: 1 | F42: st | G42: 1 | H42: EUR/st | I42: =E42*G42 -> 1
H43: Subtotaal - Engineeringskosten | I43: =SUM(I39:I42) -> 4
D45: Indirecte kosten
C46: D.1 | D46: Eenmalige kosten | E46: 1 | F46: st | G46: 1 | H46: EUR/st | I46: =E46*G46 -> 1
C47: D.2 | D47: Algemene bouwplaatskosten | E47: 1 | F47: st | G47: 1 | H47: EUR/st | I47: =E47*G47 -> 1
C48: D.3 | D48: Uitvoeringskosten | E48: 1 | F48: st | G48: 1 | H48: EUR/st | I48: =E48*G48 -> 1
C49: D.4 | D49: Projectmanagementkosten | E49: 1 | F49: st | G49: 1 | H49: EUR/st | I49: =E49*G49 -> 1
C50: D.5 | D50: Algemene kosten | E50: 0.01 | F50: % | G50: =SUM(I43:I49)+I36 -> 54308 | I50: =E50*G50 -> 543.08
C51: D.6 | D51: Winst | E51: 0.01 | F51: % | G51: =SUM(I43:I50)+I36 -> 54851.08 | I51: =E51*G51 -> 548.5108
C52: D.7 | D52: Risico | E52: 0.01 | F52: % | G52: =SUM(I43:I50)+I36 -> 54851.08 | I52: =E52*G52 -> 548.5108
H53: Subtotaal - Indirecte kosten | I53: =SUM(I46:I52) -> 1644.1016
D55: Verschil in kosten bij inzet ZE-materieel
C56: E.1 | D56: Verschil in kosten voor inzet ZE-materieel >0 & ≤30,00% | E56: 0.25 | F56: st | G56: 1 | H56: EUR/st | I56: =E56*G56 -> 0.25
C57: E.2 | D57: Verschil in kosten voor inzet ZE-materieel >30 & ≤50% | E57: 0.25 | F57: st | G57: 1 | H57: EUR/st | I57: =E57*G57 -> 0.25
C58: E.3 | D58: Verschil in kosten voor inzet ZE-materieel >50 & ≤70% | E58: 0.25 | F58: st | G58: 1 | H58: EUR/st | I58: =E58*G58 -> 0.25
C59: E.4 | D59: Verschil in kosten voor inzet ZE-materieel >70% | E59: 0.25 | F59: st | G59: 1 | H59: EUR/st | I59: =E59*G59 -> 0.25
H60: Subtotaal - Verschil in kosten inzet ZE-materieel | I60: =SUM(I56:I59) -> 1
D62: Waarde grond
C63: F.1.1 | D63: Waarde van aan de Opdrachtnemer te vervallen zand | E63: 3900 | F63: m3 | G63: 1 | H63: EUR/m3 | I63: =E63*G63 -> 3900
C64: F.1.2 | D64: Waarde van aan de Opdrachtnemer te vervallen klei | E64: 1600 | F64: m3 | G64: 1 | H64: EUR/m3 | I64: =E64*G64 -> 1600
H65: Subtotaal - Waarde grond | I65: =SUM(I63:I64) -> 5500
H67: Totaal stapper [Fortmond Duursche waarden] | I67: =I53+I43+I60-I65+I36 -> 50449.102

Sheet Hoenwaard
D3: Staat van prijzen per eenheid raamactiviteiten (Stapper)
D4: NOK: Hoenwaard
C6: # | D6: Omschrijving | E6: Hoeveelheid | F6: Eenheid | G6: Eenheidsprijs | I6: Totaal
D7: Directe bouwkosten
D10: KRW Maatregel 1: Trajact 1 Natuurvriendelijke oever
C11: A | D11: Grondwerk
C12: A.1 | D12: Ontgraven | E12: 6900 | F12: m3 | G12: 1 | H12: EUR/m3 | I12: =E12*G12 -> 6900
C13: A.2 | D13: Transport intern | E13: 6900 | F13: m3 | G13: 1 | H13: EUR/m3 | I13: =E13*G13 -> 6900
C14: A.3 | D14: Afvoer grond
C15: A.3.1 | D15: Afvoer NT | E15: =ROUNDUP(0.3*E13,-2) -> 2100 | F15: m3 | G15: 1 | H15: EUR/m3 | I15: =E15*G15 -> 2100
C16: A.3.2 | D16: Afvoer overig | E16: =ROUNDUP(0.7*E13,-2) -> 4900 | F16: m3 | G16: 1 | H16: EUR/m3 | I16: =E16*G16 -> 4900
C17: A.4 | D17: Aanbrengen grond | E17: 0 | F17: m3 | G17: 0 | H17: EUR/m3 | I17: =E17*G17 -> 0
C18: B | D18: Steenwerk
C19: B.1 | D19: Opnemen bestorting | E19: 1300 | F19: m3 | G19: 1 | H19: EUR/m3 | I19: =E19*G19 -> 1300
C20: B.2 | D20: Transport intern | E20: 1300 | F20: m3 | G20: 1 | H20: EUR/m3 | I20: =E20*G20 -> 1300
C21: B.3 | D21: Afvoer steen | E21: 1300 | F21: m3 | G21: 1 | H21: EUR/m3 | I21: =E21*G21 -> 1300
C22: B.4 | D22: Leveren & aanbrengen steen | E22: 800 | F22: m3 | G22: 1 | H22: EUR/m3 | I22: =E22*G22 -> 800
D24: KRW Maatregel 2: Trajact 2 Natuurvriendelijke oever
C25: A | D25: Grondwerk
C26: A.1 | D26: Ontgraven | E26: 10000 | F26: m3 | G26: 1 | H26: EUR/m3 | I26: =E26*G26 -> 10000
C27: A.2 | D27: Transport intern | E27: 10000 | F27: m3 | G27: 1 | H27: EUR/m3 | I27: =E27*G27 -> 10000
C28: A.3 | D28: Afvoer grond
C29: A.3.1 | D29: Afvoer NT | E29: =ROUNDUP(0.3*E27,-2) -> 3000 | F29: m3 | G29: 1 | H29: EUR/m3 | I29: =E29*G29 -> 3000
C30: A.3.2 | D30: Afvoer overig | E30: =ROUNDUP(0.7*E27,-2) -> 7000 | F30: m3 | G30: 1 | H30: EUR/m3 | I30: =E30*G30 -> 7000
C31: A.4 | D31: Aanbrengen grond | E31: 0 | F31: m3 | G31: 0 | H31: EUR/m3 | I31: =E31*G31 -> 0
C32: B | D32: Steenwerk
C33: B.1 | D33: Opnemen bestorting | E33: 3800 | F33: m3 | G33: 1 | H33: EUR/m3 | I33: =E33*G33 -> 3800
C34: B.2 | D34: Transport intern | E34: 3800 | F34: m3 | G34: 1 | H34: EUR/m3 | I34: =E34*G34 -> 3800
C35: B.3 | D35: Afvoer steen | E35: 3800 | F35: m3 | G35: 1 | H35: EUR/m3 | I35: =E35*G35 -> 3800
C36: B.4 | D36: Leveren & aanbrengen steen | E36: 1000 | F36: m3 | G36: 1 | H36: EUR/m3 | I36: =E36*G36 -> 1000
D38: KRW Maatregel 3: Trajact 3 Natuurvriendelijke oever
C39: A | D39: Grondwerk
C40: A.1 | D40: Ontgraven | E40: 0 | F40: m3 | G40: 0 | H40: EUR/m3 | I40: =E40*G40 -> 0
C41: A.2 | D41: Transport intern | E41: 0 | F41: m3 | G41: 0 | H41: EUR/m3 | I41: =E41*G41 -> 0
C42: A.3 | D42: Afvoer grond
C43: A.3.1 | D43: Afvoer NT | E43: 0 | F43: m3 | G43: 0 | H43: EUR/m3 | I43: =E43*G43 -> 0
C44: A.3.2 | D44: Afvoer overig | E44: 0 | F44: m3 | G44: 0 | H44: EUR/m3 | I44: =E44*G44 -> 0
C45: A.4 | D45: Aanbrengen grond | E45: 0 | F45: m3 | G45: 0 | H45: EUR/m3 | I45: =E45*G45 -> 0
C46: B | D46: Steenwerk
C47: B.1 | D47: Opnemen bestorting | E47: 7500 | F47: m3 | G47: 1 | H47: EUR/m3 | I47: =E47*G47 -> 7500
C48: B.2 | D48: Transport intern | E48: 7500 | F48: m3 | G48: 1 | H48: EUR/m3 | I48: =E48*G48 -> 7500
C49: B.3 | D49: Afvoer steen | E49: 7500 | F49: m3 | G49: 1 | H49: EUR/m3 | I49: =E49*G49 -> 7500
C50: B.4 | D50: Leveren & aanbrengen steen | E50: 2300 | F50: m3 | G50: 1 | H50: EUR/m3 | I50: =E50*G50 -> 2300
D52: KRW Maatregel 4: Aantakken kanongsgeul
C53: A | D53: Grondwerk
C54: A.1 | D54: Ontgraven | E54: 4200 | F54: m3 | G54: 1 | H54: EUR/m3 | I54: =E54*G54 -> 4200
C55: A.2 | D55: Transport intern | E55: 4200 | F55: m3 | G55: 1 | H55: EUR/m3 | I55: =E55*G55 -> 4200
C56: A.3 | D56: Afvoer grond
C57: A.3.1 | D57: Afvoer NT | E57: 3600 | F57: m3 | G57: 1 | H57: EUR/m3 | I57: =E57*G57 -> 3600
C58: A.3.2 | D58: Afvoer overig | E58: 600 | F58: m3 | G58: 1 | H58: EUR/m3 | I58: =E58*G58 -> 600
C59: A.4 | D59: Aanbrengen grond | E59: 600 | F59: m3 | G59: 1 | H59: EUR/m3 | I59: =E59*G59 -> 600
C60: B | D60: Steenwerk
C61: B.1 | D61: Opnemen bestorting | E61: 0 | F61: m3 | G61: 0 | H61: EUR/m3 | I61: =E61*G61 -> 0
C62: B.2 | D62: Transport intern | E62: 0 | F62: m3 | G62: 0 | H62: EUR/m3 | I62: =E62*G62 -> 0
C63: B.3 | D63: Afvoer steen | E63: 0 | F63: m3 | G63: 0 | H63: EUR/m3 | I63: =E63*G63 -> 0
C64: B.4 | D64: Leveren & aanbrengen steen | E64: 0 | F64: m3 | G64: 0 | H64: EUR/m3 | I64: =E64*G64 -> 0
H65: Subtotaal - Directe bouwkosten | I65: =SUM(I12:I64) -> 105900
D67: Engineeringskosten
C68: C.1 | D68: Opstellen DO | E68: 1 | F68: st | G68: 1 | H68: EUR/st | I68: =E68*G68 -> 1
C69: C.2 | D69: Opstellen UO | E69: 1 | F69: st | G69: 1 | H69: EUR/st | I69: =E69*G69 -> 1
C70: C.3 | D70: Overige Documenten Ontwerpfase | E70: 1 | F70: st | G70: 1 | H70: EUR/st | I70: =E70*G70 -> 1
C71: C.4 | D71: Overige Documenten Uitvoeringsfase | E71: 1 | F71: st | G71: 1 | H71: EUR/st | I71: =E71*G71 -> 1
H72: Subtotaal - Engineeringskosten | I72: =SUM(I68:I71) -> 4
D74: Indirecte kosten
C75: D.1 | D75: Eenmalige kosten | E75: 1 | F75: st | G75: 1 | H75: EUR/st | I75: =E75*G75 -> 1
C76: D.2 | D76: Algemene bouwplaatskosten | E76: 1 | F76: st | G76: 1 | H76: EUR/st | I76: =E76*G76 -> 1
C77: D.3 | D77: Uitvoeringskosten | E77: 1 | F77: st | G77: 1 | H77: EUR/st | I77: =E77*G77 -> 1
C78: D.4 | D78: Projectmanagementkosten | E78: 1 | F78: st | G78: 1 | H78: EUR/st | I78: =E78*G78 -> 1
C79: D.5 | D79: Algemene kosten | E79: 0.01 | F79: % | G79: =SUM(I72:I78)+I65 -> 105908 | I79: =E79*G79 -> 1059.08
C80: D.6 | D80: Winst | E80: 0.01 | F80: % | G80: =SUM(I72:I79)+I65 -> 106967.08 | I80: =E80*G80 -> 1069.6708
C81: D.7 | D81: Risico | E81: 0.01 | F81: % | G81: =SUM(I72:I79)+I65 -> 106967.08 | I81: =E81*G81 -> 1069.6708
H82: Subtotaal - Indirecte kosten | I82: =SUM(I75:I81) -> 3202.4216
D84: Verschil in kosten bij inzet ZE-materieel
C85: E.1 | D85: Verschil in kosten voor inzet ZE-materieel >0 & ≤30,00% | E85: 0.25 | F85: st | G85: 1 | H85: EUR/st | I85: =E85*G85 -> 0.25
C86: E.2 | D86: Verschil in kosten voor inzet ZE-materieel >30 & ≤50% | E86: 0.25 | F86: st | G86: 1 | H86: EUR/st | I86: =E86*G86 -> 0.25
C87: E.3 | D87: Verschil in kosten voor inzet ZE-materieel >50 & ≤70% | E87: 0.25 | F87: st | G87: 1 | H87: EUR/st | I87: =E87*G87 -> 0.25
C88: E.4 | D88: Verschil in kosten voor inzet ZE-materieel >70% | E88: 0.25 | F88: st | G88: 1 | H88: EUR/st | I88: =E88*G88 -> 0.25
H89: Subtotaal - Verschil in kosten inzet ZE-materieel | I89: =SUM(I85:I88) -> 1
D91: Waarde grond
C92: F.1.1 | D92: Waarde van aan de Opdrachtnemer te vervallen zand | E92: 6500 | F92: m3 | G92: 1 | H92: EUR/m3 | I92: =E92*G92 -> 6500
C93: F.1.2 | D93: Waarde van aan de Opdrachtnemer te vervallen klei | E93: 4600 | F93: m3 | G93: 1 | H93: EUR/m3 | I93: =E93*G93 -> 4600
H94: Subtotaal - Waarde grond | I94: =SUM(I92:I93) -> 11100
H96: Totaal stapper [Hoenwaard] | I96: =I65+I82+I72+I89-I94 -> 98007.422

Sheet Koppelerwaard
D3: Staat van prijzen per eenheid raamactiviteiten (Stapper)
D4: NOK: Koppelerwaard
C6: # | D6: Omschrijving | E6: Hoeveelheid | F6: Eenheid | G6: Eenheidsprijs | I6: Totaal
D7: Directe bouwkosten
D9: KRW-maatregel traject 1 "Ontstenen en verflauwen oevers"
C10: A | D10: Grondwerk
C11: A.1 | D11: Ontgraven | E11: 5300 | F11: m3 | G11: 1 | H11: EUR/m3 | I11: =E11*G11 -> 5300
C12: A.2 | D12: Transport intern | E12: 5300 | F12: m3 | G12: 1 | H12: EUR/m3 | I12: =E12*G12 -> 5300
C13: A.3 | D13: Afvoer grond
C14: A.3.1 | D14: Afvoer NT | E14: 2000 | F14: m3 | G14: 1 | H14: EUR/m3 | I14: =E14*G14 -> 2000
C15: A.3.2 | D15: Afvoer overig | E15: 3400 | F15: m3 | G15: 1 | H15: EUR/m3 | I15: =E15*G15 -> 3400
C16: A.4 | D16: Aanbrengen grond | E16: 500 | F16: m3 | G16: 1 | H16: EUR/m3 | I16: =E16*G16 -> 500
C17: B | D17: Steenwerk
C18: B.1 | D18: Opnemen bestorting | E18: 1800 | F18: m3 | G18: 1 | H18: EUR/m3 | I18: =E18*G18 -> 1800
C19: B.2 | D19: Transport intern | E19: 1800 | F19: m3 | G19: 1 | H19: EUR/m3 | I19: =E19*G19 -> 1800
C20: B.3 | D20: Afvoer steen | E20: 1800 | F20: m3 | G20: 1 | H20: EUR/m3 | I20: =E20*G20 -> 1800
C21: B.4 | D21: Leveren & aanbrengen steen | E21: 400 | F21: m3 | G21: 1 | H21: EUR/m3 | I21: =E21*G21 -> 400
H22: Subtotaal - Directe bouwkosten | I22: =SUM(I11:I21) -> 22300
D24: Engineeringskosten
C25: C.1 | D25: Opstellen DO | E25: 1 | F25: st | G25: 1 | H25: EUR/st | I25: =E25*G25 -> 1
C26: C.2 | D26: Opstellen UO | E26: 1 | F26: st | G26: 1 | H26: EUR/st | I26: =E26*G26 -> 1
C27: C.3 | D27: Overige Documenten Ontwerpfase | E27: 1 | F27: st | G27: 1 | H27: EUR/st | I27: =E27*G27 -> 1
C28: C.4 | D28: Overige Documenten Uitvoeringsfase | E28: 1 | F28: st | G28: 1 | H28: EUR/st | I28: =E28*G28 -> 1
H29: Subtotaal - Engineeringskosten | I29: =SUM(I25:I28) -> 4
D31: Indirecte kosten
C32: D.1 | D32: Eenmalige kosten | E32: 1 | F32: st | G32: 1 | H32: EUR/st | I32: =E32*G32 -> 1
C33: D.2 | D33: Algemene bouwplaatskosten | E33: 1 | F33: st | G33: 1 | H33: EUR/st | I33: =E33*G33 -> 1
C34: D.3 | D34: Uitvoeringskosten | E34: 1 | F34: st | G34: 1 | H34: EUR/st | I34: =E34*G34 -> 1
C35: D.4 | D35: Projectmanagementkosten | E35: 1 | F35: st | G35: 1 | H35: EUR/st | I35: =E35*G35 -> 1
C36: D.5 | D36: Algemene kosten | E36: 0.01 | F36: % | G36: =SUM(I29:I35)+I22 -> 22308 | I36: =E36*G36 -> 223.08
C37: D.6 | D37: Winst | E37: 0.01 | F37: % | G37: =SUM(I29:I36)+I22 -> 22531.08 | I37: =E37*G37 -> 225.3108
C38: D.7 | D38: Risico | E38: 0.01 | F38: % | G38: =SUM(I29:I36)+I22 -> 22531.08 | I38: =E38*G38 -> 225.3108
H39: Subtotaal - Indirecte kosten | I39: =SUM(I32:I38) -> 677.7016
D41: Verschil in kosten bij inzet ZE-materieel
C42: E.1 | D42: Verschil in kosten voor inzet ZE-materieel >0 & ≤30,00% | E42: 0.25 | F42: st | G42: 1 | H42: EUR/st | I42: =E42*G42 -> 0.25
C43: E.2 | D43: Verschil in kosten voor inzet ZE-materieel >30 & ≤50% | E43: 0.25 | F43: st | G43: 1 | H43: EUR/st | I43: =E43*G43 -> 0.25
C44: E.3 | D44: Verschil in kosten voor inzet ZE-materieel >50 & ≤70% | E44: 0.25 | F44: st | G44: 1 | H44: EUR/st | I44: =E44*G44 -> 0.25
C45: E.4 | D45: Verschil in kosten voor inzet ZE-materieel >70% | E45: 0.25 | F45: st | G45: 1 | H45: EUR/st | I45: =E45*G45 -> 0.25
H46: Subtotaal - Verschil in kosten inzet ZE-materieel | I46: =SUM(I42:I45) -> 1
D48: Waarde grond
C49: F.1.1 | D49: Waarde van aan de Opdrachtnemer te vervallen zand | E49: 1200 | F49: m3 | G49: 1 | H49: EUR/m3 | I49: =E49*G49 -> 1200
C50: F.1.2 | D50: Waarde van aan de Opdrachtnemer te vervallen klei | E50: 900 | F50: m3 | G50: 1 | H50: EUR/m3 | I50: =E50*G50 -> 900
H51: Subtotaal - Waarde grond | I51: =SUM(I49:I50) -> 2100
H53: Totaal stapper [Koppelerwaard] | I53: =I22+I39+I29+I46-I51 -> 20882.702

Sheet Marlerwaarden
D3: Staat van prijzen per eenheid raamactiviteiten (Stapper)
D4: NOK: Marlerwaarden
C6: # | D6: Omschrijving | E6: Hoeveelheid | F6: Eenheid | G6: Eenheidsprijs | I6: Totaal
D7: Directe bouwkosten
D9: KRW Maatregel 1: Geul
C10: A | D10: Grondwerk
C11: A.1 | D11: Ontgraven | E11: 45000 | F11: m3 | G11: 1 | H11: EUR/m3 | I11: =E11*G11 -> 45000
C12: A.2 | D12: Transport intern | E12: 45000 | F12: m3 | G12: 1 | H12: EUR/m3 | I12: =E12*G12 -> 45000
C13: A.3 | D13: Afvoer grond
C14: A.3.1 | D14: Afvoer NT | E14: =ROUNDUP(0.3*E12,-2) -> 13500 | F14: m3 | G14: 1 | H14: EUR/m3 | I14: =E14*G14 -> 13500
C15: A.3.2 | D15: Afvoer overig | E15: =ROUNDUP(0.7*E12,-2) -> 31500 | F15: m3 | G15: 1 | H15: EUR/m3 | I15: =E15*G15 -> 31500
C16: A.4 | D16: Aanbrengen grond | E16: 0 | F16: m3 | G16: 0 | H16: EUR/m3 | I16: =E16*G16 -> 0
C17: B | D17: Steenwerk
C18: B.1 | D18: Opnemen bestorting | E18: 0 | F18: m3 | G18: 0 | H18: EUR/m3 | I18: =E18*G18 -> 0
C19: B.2 | D19: Transport intern | E19: 0 | F19: m3 | G19: 0 | H19: EUR/m3 | I19: =E19*G19 -> 0
C20: B.3 | D20: Afvoer steen | E20: 0 | F20: m3 | G20: 0 | H20: EUR/m3 | I20: =E20*G20 -> 0
C21: B.4 | D21: Leveren & aanbrengen steen | E21: 2200 | F21: m3 | G21: 1 | H21: EUR/m3 | I21: =E21*G21 -> 2200
D23: KRW Maatregel 2: Kade West
C24: A | D24: Grondwerk
C25: A.1 | D25: Ontgraven | E25: 0 | F25: m3 | G25: 0 | H25: EUR/m3 | I25: =E25*G25 -> 0
C26: A.2 | D26: Transport intern | E26: 0 | F26: m3 | G26: 0 | H26: EUR/m3 | I26: =E26*G26 -> 0
C27: A.3 | D27: Afvoer grond
C28: A.3.1 | D28: Afvoer NT | E28: 0 | F28: m3 | G28: 0 | H28: EUR/m3 | I28: =E28*G28 -> 0
C29: A.3.2 | D29: Afvoer overig | E29: 0 | F29: m3 | G29: 0 | H29: EUR/m3 | I29: =E29*G29 -> 0
C30: A.4 | D30: Aanbrengen grond | E30: 2400 | F30: m3 | G30: 1 | H30: EUR/m3 | I30: =E30*G30 -> 2400
C31: B | D31: Steenwerk
C32: B.1 | D32: Opnemen bestorting | E32: 0 | F32: m3 | G32: 0 | H32: EUR/m3 | I32: =E32*G32 -> 0
C33: B.2 | D33: Transport intern | E33: 0 | F33: m3 | G33: 0 | H33: EUR/m3 | I33: =E33*G33 -> 0
C34: B.3 | D34: Afvoer steen | E34: 0 | F34: m3 | G34: 0 | H34: EUR/m3 | I34: =E34*G34 -> 0
C35: B.4 | D35: Leveren & aanbrengen steen | E35: 0 | F35: m3 | G35: 0 | H35: EUR/m3 | I35: =E35*G35 -> 0
D37: KRW Maatregel 3: Kade Zuid
C38: A | D38: Grondwerk
C39: A.1 | D39: Ontgraven | E39: 0 | F39: m3 | G39: 0 | H39: EUR/m3 | I39: =E39*G39 -> 0
C40: A.2 | D40: Transport intern | E40: 0 | F40: m3 | G40: 0 | H40: EUR/m3 | I40: =E40*G40 -> 0
C41: A.3 | D41: Afvoer grond
C42: A.3.1 | D42: Afvoer NT | E42: 0 | F42: m3 | G42: 0 | H42: EUR/m3 | I42: =E42*G42 -> 0
C43: A.3.2 | D43: Afvoer overig | E43: 0 | F43: m3 | G43: 0 | H43: EUR/m3 | I43: =E43*G43 -> 0
C44: A.4 | D44: Aanbrengen grond | E44: 3600 | F44: m3 | G44: 1 | H44: EUR/m3 | I44: =E44*G44 -> 3600
C45: B | D45: Steenwerk
C46: B.1 | D46: Opnemen bestorting | E46: 0 | F46: m3 | G46: 0 | H46: EUR/m3 | I46: =E46*G46 -> 0
C47: B.2 | D47: Transport intern | E47: 0 | F47: m3 | G47: 0 | H47: EUR/m3 | I47: =E47*G47 -> 0
C48: B.3 | D48: Afvoer steen | E48: 0 | F48: m3 | G48: 0 | H48: EUR/m3 | I48: =E48*G48 -> 0
C49: B.4 | D49: Leveren & aanbrengen steen | E49: 0 | F49: m3 | G49: 0 | H49: EUR/m3 | I49: =E49*G49 -> 0
D51: KRW Maatregel 4: Natuurvriendelijke oever
C52: A | D52: Grondwerk
C53: A.1 | D53: Ontgraven | E53: 20800 | F53: m3 | G53: 1 | H53: EUR/m3 | I53: =E53*G53 -> 20800
C54: A.2 | D54: Transport intern | E54: 20800 | F54: m3 | G54: 1 | H54: EUR/m3 | I54: =E54*G54 -> 20800
C55: A.3 | D55: Afvoer grond
C56: A.3.1 | D56: Afvoer NT | E56: =ROUNDUP(0.3*E54,-2) -> 6300 | F56: m3 | G56: 1 | H56: EUR/m3 | I56: =E56*G56 -> 6300
C57: A.3.2 | D57: Afvoer overig | E57: =ROUNDUP(0.7*E54,-2) -> 14600 | F57: m3 | G57: 1 | H57: EUR/m3 | I57: =E57*G57 -> 14600
C58: A.4 | D58: Aanbrengen grond | E58: 0 | F58: m3 | G58: 0 | H58: EUR/m3 | I58: =E58*G58 -> 0
C59: B | D59: Steenwerk
C60: B.1 | D60: Opnemen bestorting | E60: 6400 | F60: m3 | G60: 1 | H60: EUR/m3 | I60: =E60*G60 -> 6400
C61: B.2 | D61: Transport intern | E61: 6400 | F61: m3 | G61: 1 | H61: EUR/m3 | I61: =E61*G61 -> 6400
C62: B.3 | D62: Afvoer steen | E62: 6400 | F62: m3 | G62: 1 | H62: EUR/m3 | I62: =E62*G62 -> 6400
C63: B.4 | D63: Leveren & aanbrengen steen | E63: 0 | F63: m3 | G63: 0 | H63: EUR/m3 | I63: =E63*G63 -> 0
H64: Subtotaal - Directe bouwkosten | I64: =SUM(I11:I63) -> 224900
D66: Engineeringskosten
C67: C.1 | D67: Opstellen DO | E67: 1 | F67: st | G67: 1 | H67: EUR/st | I67: =E67*G67 -> 1
C68: C.2 | D68: Opstellen UO | E68: 1 | F68: st | G68: 1 | H68: EUR/st | I68: =E68*G68 -> 1
C69: C.3 | D69: Overige Documenten Ontwerpfase | E69: 1 | F69: st | G69: 1 | H69: EUR/st | I69: =E69*G69 -> 1
C70: C.4 | D70: Overige Documenten Uitvoeringsfase | E70: 1 | F70: st | G70: 1 | H70: EUR/st | I70: =E70*G70 -> 1
H71: Subtotaal - Engineeringskosten | I71: =SUM(I67:I70) -> 4
D73: Indirecte kosten
C74: D.1 | D74: Eenmalige kosten | E74: 1 | F74: st | G74: 1 | H74: EUR/st | I74: =E74*G74 -> 1
C75: D.2 | D75: Algemene bouwplaatskosten | E75: 1 | F75: st | G75: 1 | H75: EUR/st | I75: =E75*G75 -> 1
C76: D.3 | D76: Uitvoeringskosten | E76: 1 | F76: st | G76: 1 | H76: EUR/st | I76: =E76*G76 -> 1
C77: D.4 | D77: Projectmanagementkosten | E77: 1 | F77: st | G77: 1 | H77: EUR/st | I77: =E77*G77 -> 1
C78: D.5 | D78: Algemene kosten | E78: 0.01 | F78: % | G78: =SUM(I71:I77)+I64 -> 224908 | I78: =E78*G78 -> 2249.08
C79: D.6 | D79: Winst | E79: 0.01 | F79: % | G79: =SUM(I71:I78)+I64 -> 227157.08 | I79: =E79*G79 -> 2271.5708
C80: D.7 | D80: Risico | E80: 0.01 | F80: % | G80: =SUM(I71:I78)+I64 -> 227157.08 | I80: =E80*G80 -> 2271.5708
H81: Subtotaal - Indirecte kosten | I81: =SUM(I74:I80) -> 6796.2216
D83: Verschil in kosten bij inzet ZE-materieel
C84: E.1 | D84: Verschil in kosten voor inzet ZE-materieel >0 & ≤30,00% | E84: 0.25 | F84: st | G84: 1 | H84: EUR/st | I84: =E84*G84 -> 0.25
C85: E.2 | D85: Verschil in kosten voor inzet ZE-materieel >30 & ≤50% | E85: 0.25 | F85: st | G85: 1 | H85: EUR/st | I85: =E85*G85 -> 0.25
C86: E.3 | D86: Verschil in kosten voor inzet ZE-materieel >50 & ≤70% | E86: 0.25 | F86: st | G86: 1 | H86: EUR/st | I86: =E86*G86 -> 0.25
C87: E.4 | D87: Verschil in kosten voor inzet ZE-materieel >70% | E87: 0.25 | F87: st | G87: 1 | H87: EUR/st | I87: =E87*G87 -> 0.25
H88: Subtotaal - Verschil in kosten inzet ZE-materieel | I88: =SUM(I84:I87) -> 1
D90: Waarde grond
C91: F.1.1 | D91: Waarde van aan de Opdrachtnemer te vervallen zand | E91: 23400 | F91: m3 | G91: 1 | H91: EUR/m3 | I91: =E91*G91 -> 23400
C92: F.1.2 | D92: Waarde van aan de Opdrachtnemer te vervallen klei | E92: 24700 | F92: m3 | G92: 1 | H92: EUR/m3 | I92: =E92*G92 -> 24700
H93: Subtotaal - Waarde grond | I93: =SUM(I91:I92) -> 48100
H95: Totaal stapper [Marlerwaarden] | I95: =I64+I81+I71+I88-I93 -> 183601.22

Sheet Oenerdijkerwaarden en welsumerw
D3: Staat van prijzen per eenheid raamactiviteiten (Stapper)
D4: NOK: Oenerdijkerwaarden en welsumerwaarden
C6: # | D6: Omschrijving | E6: Hoeveelheid | F6: Eenheid | G6: Eenheidsprijs | I6: Totaal
D7: Directe bouwkosten
D9: KRW-maatregel 1 "Ontstenen en verflauwen oevers"
C10: A | D10: Grondwerk
C11: A.1 | D11: Ontgraven | E11: 4600 | F11: m3 | G11: 1 | H11: EUR/m3 | I11: =E11*G11 -> 4600
C12: A.2 | D12: Transport intern | E12: 4600 | F12: m3 | G12: 1 | H12: EUR/m3 | I12: =E12*G12 -> 4600
C13: A.3 | D13: Afvoer grond
C14: A.3.1 | D14: Afvoer NT | E14: 1100 | F14: m3 | G14: 1 | H14: EUR/m3 | I14: =E14*G14 -> 1100
C15: A.3.2 | D15: Afvoer overig | E15: 3400 | F15: m3 | G15: 1 | H15: EUR/m3 | I15: =E15*G15 -> 3400
C16: A.4 | D16: Aanbrengen grond | E16: 600 | F16: m3 | G16: 1 | H16: EUR/m3 | I16: =E16*G16 -> 600
C17: B | D17: Steenwerk
C18: B.1 | D18: Opnemen bestorting | E18: 1400 | F18: m3 | G18: 1 | H18: EUR/m3 | I18: =E18*G18 -> 1400
C19: B.2 | D19: Transport intern | E19: 1400 | F19: m3 | G19: 1 | H19: EUR/m3 | I19: =E19*G19 -> 1400
C20: B.3 | D20: Afvoer steen | E20: 1400 | F20: m3 | G20: 1 | H20: EUR/m3 | I20: =E20*G20 -> 1400
C21: B.4 | D21: Leveren & aanbrengen steen | E21: 600 | F21: m3 | G21: 1 | H21: EUR/m3 | I21: =E21*G21 -> 600
D23: KRW-maatregel 2 "Ontstenen en verflauwen oevers"
C24: A | D24: Grondwerk
C25: A.1 | D25: Ontgraven | E25: 11600 | F25: m3 | G25: 1 | H25: EUR/m3 | I25: =E25*G25 -> 11600
C26: A.2 | D26: Transport intern | E26: 11600 | F26: m3 | G26: 1 | H26: EUR/m3 | I26: =E26*G26 -> 11600
C27: A.3 | D27: Afvoer grond
C28: A.3.1 | D28: Afvoer NT | E28: 4700 | F28: m3 | G28: 1 | H28: EUR/m3 | I28: =E28*G28 -> 4700
C29: A.3.2 | D29: Afvoer overig | E29: 6900 | F29: m3 | G29: 1 | H29: EUR/m3 | I29: =E29*G29 -> 6900
C30: A.4 | D30: Aanbrengen grond | E30: 1500 | F30: m3 | G30: 1 | H30: EUR/m3 | I30: =E30*G30 -> 1500
C31: B | D31: Steenwerk
C32: B.1 | D32: Opnemen bestorting | E32: 3800 | F32: m3 | G32: 1 | H32: EUR/m3 | I32: =E32*G32 -> 3800
C33: B.2 | D33: Transport intern | E33: 3800 | F33: m3 | G33: 1 | H33: EUR/m3 | I33: =E33*G33 -> 3800
C34: B.3 | D34: Afvoer steen | E34: 3800 | F34: m3 | G34: 1 | H34: EUR/m3 | I34: =E34*G34 -> 3800
C35: B.4 | D35: Leveren & aanbrengen steen | E35: 1500 | F35: m3 | G35: 1 | H35: EUR/m3 | I35: =E35*G35 -> 1500
H36: Subtotaal - Directe bouwkosten | I36: =SUM(I11:I35) -> 68300
D38: Engineeringskosten
C39: C.1 | D39: Opstellen DO | E39: 1 | F39: st | G39: 1 | H39: EUR/st | I39: =E39*G39 -> 1
C40: C.2 | D40: Opstellen UO | E40: 1 | F40: st | G40: 1 | H40: EUR/st | I40: =E40*G40 -> 1
C41: C.3 | D41: Overige Documenten Ontwerpfase | E41: 1 | F41: st | G41: 1 | H41: EUR/st | I41: =E41*G41 -> 1
C42: C.4 | D42: Overige Documenten Uitvoeringsfase | E42: 1 | F42: st | G42: 1 | H42: EUR/st | I42: =E42*G42 -> 1
H43: Subtotaal - Engineeringskosten | I43: =SUM(I39:I42) -> 4
D45: Indirecte kosten
C46: D.1 | D46: Eenmalige kosten | E46: 1 | F46: st | G46: 1 | H46: EUR/st | I46: =E46*G46 -> 1
C47: D.2 | D47: Algemene bouwplaatskosten | E47: 1 | F47: st | G47: 1 | H47: EUR/st | I47: =E47*G47 -> 1
C48: D.3 | D48: Uitvoeringskosten | E48: 1 | F48: st | G48: 1 | H48: EUR/st | I48: =E48*G48 -> 1
C49: D.4 | D49: Projectmanagementkosten | E49: 1 | F49: st | G49: 1 | H49: EUR/st | I49: =E49*G49 -> 1
C50: D.5 | D50: Algemene kosten | E50: 0.01 | F50: % | G50: =SUM(I43:I49)+I36 -> 68308 | I50: =E50*G50 -> 683.08
C51: D.6 | D51: Winst | E51: 0.01 | F51: % | G51: =SUM(I43:I50)+I36 -> 68991.08 | I51: =E51*G51 -> 689.9108
C52: D.7 | D52: Risico | E52: 0.01 | F52: % | G52: =SUM(I43:I50)+I36 -> 68991.08 | I52: =E52*G52 -> 689.9108
H53: Subtotaal - Indirecte kosten | I53: =SUM(I46:I52) -> 2066.9016
D55: Verschil in kosten bij inzet ZE-materieel
C56: E.1 | D56: Verschil in kosten voor inzet ZE-materieel >0 & ≤30,00% | E56: 0.25 | F56: st | G56: 1 | H56: EUR/st | I56: =E56*G56 -> 0.25
C57: E.2 | D57: Verschil in kosten voor inzet ZE-materieel >30 & ≤50% | E57: 0.25 | F57: st | G57: 1 | H57: EUR/st | I57: =E57*G57 -> 0.25
C58: E.3 | D58: Verschil in kosten voor inzet ZE-materieel >50 & ≤70% | E58: 0.25 | F58: st | G58: 1 | H58: EUR/st | I58: =E58*G58 -> 0.25
C59: E.4 | D59: Verschil in kosten voor inzet ZE-materieel >70% | E59: 0.25 | F59: st | G59: 1 | H59: EUR/st | I59: =E59*G59 -> 0.25
H60: Subtotaal - Verschil in kosten inzet ZE-materieel | I60: =SUM(I56:I59) -> 1
D62: Waarde grond
C63: F.1.1 | D63: Waarde van aan de Opdrachtnemer te vervallen zand | E63: 4300 | F63: m3 | G63: 1 | H63: EUR/m3 | I63: =E63*G63 -> 4300
C64: F.1.2 | D64: Waarde van aan de Opdrachtnemer te vervallen klei | E64: 1400 | F64: m3 | G64: 1 | H64: EUR/m3 | I64: =E64*G64 -> 1400
H65: Subtotaal - Waarde grond | I65: =SUM(I63:I64) -> 5700
H67: Totaal stapper [Oenerdijkerwaarden en welsumerwaarden] | I67: =I36+I53+I43+I60-I65 -> 64671.902

Sheet Vorchterwaarden
D3: Staat van prijzen per eenheid raamactiviteiten (Stapper)
D4: NOK: Vorchterwaarden
C6: # | D6: Omschrijving | E6: Hoeveelheid | F6: Eenheid | G6: Eenheidsprijs | I6: Totaal
D7: Directe bouwkosten
D9: KRW-maatregel traject 1 "Ontstenen en verflauwen oevers"
C10: A | D10: Grondwerk
C11: A.1 | D11: Ontgraven | E11: 2800 | F11: m3 | G11: 1 | H11: EUR/m3 | I11: =E11*G11 -> 2800
C12: A.2 | D12: Transport intern | E12: 2800 | F12: m3 | G12: 1 | H12: EUR/m3 | I12: =E12*G12 -> 2800
C13: A.3 | D13: Afvoer grond
C14: A.3.1 | D14: Afvoer NT | E14: 1500 | F14: m3 | G14: 1 | H14: EUR/m3 | I14: =E14*G14 -> 1500
C15: A.3.2 | D15: Afvoer overig | E15: 1200 | F15: m3 | G15: 1 | H15: EUR/m3 | I15: =E15*G15 -> 1200
C16: A.4 | D16: Aanbrengen grond | E16: 500 | F16: m3 | G16: 1 | H16: EUR/m3 | I16: =E16*G16 -> 500
C17: B | D17: Steenwerk
C18: B.1 | D18: Opnemen bestorting | E18: 2700 | F18: m3 | G18: 1 | H18: EUR/m3 | I18: =E18*G18 -> 2700
C19: B.2 | D19: Transport intern | E19: 2700 | F19: m3 | G19: 1 | H19: EUR/m3 | I19: =E19*G19 -> 2700
C20: B.3 | D20: Afvoer steen | E20: 2700 | F20: m3 | G20: 1 | H20: EUR/m3 | I20: =E20*G20 -> 2700
C21: B.4 | D21: Leveren & aanbrengen steen | E21: 600 | F21: m3 | G21: 1 | H21: EUR/m3 | I21: =E21*G21 -> 600
D23: KRW-maatregel traject 2 "Ontstenen oevers"
C24: A | D24: Grondwerk
C25: A.1 | D25: Ontgraven | E25: 3000 | F25: m3 | G25: 1 | H25: EUR/m3 | I25: =E25*G25 -> 3000
C26: A.2 | D26: Transport intern | E26: 3000 | F26: m3 | G26: 1 | H26: EUR/m3 | I26: =E26*G26 -> 3000
C27: A.3 | D27: Afvoer grond
C28: A.3.1 | D28: Afvoer NT | E28: 1000 | F28: m3 | G28: 1 | H28: EUR/m3 | I28: =E28*G28 -> 1000
C29: A.3.2 | D29: Afvoer overig | E29: 1900 | F29: m3 | G29: 1 | H29: EUR/m3 | I29: =E29*G29 -> 1900
C30: A.4 | D30: Aanbrengen grond | E30: 1100 | F30: m3 | G30: 1 | H30: EUR/m3 | I30: =E30*G30 -> 1100
C31: B | D31: Steenwerk
C32: B.1 | D32: Opnemen bestorting | E32: 1600 | F32: m3 | G32: 1 | H32: EUR/m3 | I32: =E32*G32 -> 1600
C33: B.2 | D33: Transport intern | E33: 1600 | F33: m3 | G33: 1 | H33: EUR/m3 | I33: =E33*G33 -> 1600
C34: B.3 | D34: Afvoer steen | E34: 1600 | F34: m3 | G34: 1 | H34: EUR/m3 | I34: =E34*G34 -> 1600
C35: B.4 | D35: Leveren & aanbrengen steen | E35: 1000 | F35: m3 | G35: 1 | H35: EUR/m3 | I35: =E35*G35 -> 1000
H36: Subtotaal - Directe bouwkosten | I36: =SUM(I11:I35) -> 33300
D38: Engineeringskosten
C39: C.1 | D39: Opstellen DO | E39: 1 | F39: st | G39: 1 | H39: EUR/st | I39: =E39*G39 -> 1
C40: C.2 | D40: Opstellen UO | E40: 1 | F40: st | G40: 1 | H40: EUR/st | I40: =E40*G40 -> 1
C41: C.3 | D41: Overige Documenten Ontwerpfase | E41: 1 | F41: st | G41: 1 | H41: EUR/st | I41: =E41*G41 -> 1
C42: C.4 | D42: Overige Documenten Uitvoeringsfase | E42: 1 | F42: st | G42: 1 | H42: EUR/st | I42: =E42*G42 -> 1
H43: Subtotaal - Engineeringskosten | I43: =SUM(I39:I42) -> 4
D45: Indirecte kosten
C46: D.1 | D46: Eenmalige kosten | E46: 1 | F46: st | G46: 1 | H46: EUR/st | I46: =E46*G46 -> 1
C47: D.2 | D47: Algemene bouwplaatskosten | E47: 1 | F47: st | G47: 1 | H47: EUR/st | I47: =E47*G47 -> 1
C48: D.3 | D48: Uitvoeringskosten | E48: 1 | F48: st | G48: 1 | H48: EUR/st | I48: =E48*G48 -> 1
C49: D.4 | D49: Projectmanagementkosten | E49: 1 | F49: st | G49: 1 | H49: EUR/st | I49: =E49*G49 -> 1
C50: D.5 | D50: Algemene kosten | E50: 0.01 | F50: % | G50: =SUM(I43:I49)+I36 -> 33308 | I50: =E50*G50 -> 333.08
C51: D.6 | D51: Winst | E51: 0.01 | F51: % | G51: =SUM(I43:I50)+I36 -> 33641.08 | I51: =E51*G51 -> 336.4108
C52: D.7 | D52: Risico | E52: 0.01 | F52: % | G52: =SUM(I43:I50)+I36 -> 33641.08 | I52: =E52*G52 -> 336.4108
H53: Subtotaal - Indirecte kosten | I53: =SUM(I46:I52) -> 1009.9016
D55: Verschil in kosten bij inzet ZE-materieel
C56: E.1 | D56: Verschil in kosten voor inzet ZE-materieel >0 & ≤30,00% | E56: 0.25 | F56: st | G56: 1 | H56: EUR/st | I56: =E56*G56 -> 0.25
C57: E.2 | D57: Verschil in kosten voor inzet ZE-materieel >30 & ≤50% | E57: 0.25 | F57: st | G57: 1 | H57: EUR/st | I57: =E57*G57 -> 0.25
C58: E.3 | D58: Verschil in kosten voor inzet ZE-materieel >50 & ≤70% | E58: 0.25 | F58: st | G58: 1 | H58: EUR/st | I58: =E58*G58 -> 0.25
C59: E.4 | D59: Verschil in kosten voor inzet ZE-materieel >70% | E59: 0.25 | F59: st | G59: 1 | H59: EUR/st | I59: =E59*G59 -> 0.25
H60: Subtotaal - Verschil in kosten inzet ZE-materieel | I60: =SUM(I56:I59) -> 1
D62: Waarde grond
C63: F.1.1 | D63: Waarde van aan de Opdrachtnemer te vervallen zand | E63: 900 | F63: m3 | G63: 1 | H63: EUR/m3 | I63: =E63*G63 -> 900
C64: F.1.2 | D64: Waarde van aan de Opdrachtnemer te vervallen klei | E64: 600 | F64: m3 | G64: 1 | H64: EUR/m3 | I64: =E64*G64 -> 600
H65: Subtotaal - Waarde grond | I65: =SUM(I63:I64) -> 1500
H67: Totaal stapper [Vorchterwaarden] | I67: =I36+I53+I43+I60-I65 -> 32814.902

Sheet Zalkerbosch
D3: Staat van prijzen per eenheid raamactiviteiten (Stapper)
D4: NOK: Zalkerbosch
C6: # | D6: Omschrijving | E6: Hoeveelheid | F6: Eenheid | G6: Eenheidsprijs | I6: Totaal
D7: Directe bouwkosten
D9: KRW-maatregel 1 "Ontstenen en verflauwen oevers"
C10: A | D10: Grondwerk
C11: A.1 | D11: Ontgraven | E11: 5700 | F11: m3 | G11: 1 | H11: EUR/m3 | I11: =E11*G11 -> 5700
C12: A.2 | D12: Transport intern | E12: 5700 | F12: m3 | G12: 1 | H12: EUR/m3 | I12: =E12*G12 -> 5700
C13: A.3 | D13: Afvoer grond
C14: A.3.1 | D14: Afvoer NT | E14: 1200 | F14: m3 | G14: 1 | H14: EUR/m3 | I14: =E14*G14 -> 1200
C15: A.3.2 | D15: Afvoer overig | E15: 4500 | F15: m3 | G15: 1 | H15: EUR/m3 | I15: =E15*G15 -> 4500
C16: A.4 | D16: Aanbrengen grond | E16: 2200 | F16: m3 | G16: 1 | H16: EUR/m3 | I16: =E16*G16 -> 2200
C17: B | D17: Steenwerk
C18: B.1 | D18: Opnemen bestorting | E18: 1100 | F18: m3 | G18: 1 | H18: EUR/m3 | I18: =E18*G18 -> 1100
C19: B.2 | D19: Transport intern | E19: 1100 | F19: m3 | G19: 1 | H19: EUR/m3 | I19: =E19*G19 -> 1100
C20: B.3 | D20: Afvoer steen | E20: 1100 | F20: m3 | G20: 1 | H20: EUR/m3 | I20: =E20*G20 -> 1100
C21: B.4 | D21: Leveren & aanbrengen steen | E21: 300 | F21: m3 | G21: 1 | H21: EUR/m3 | I21: =E21*G21 -> 300
D23: KRW-maatregel 2 "Ontstenen en verflauwen oevers"
C24: A | D24: Grondwerk
C25: A.1 | D25: Ontgraven | E25: 11600 | F25: m3 | G25: 1 | H25: EUR/m3 | I25: =E25*G25 -> 11600
C26: A.2 | D26: Transport intern | E26: 11600 | F26: m3 | G26: 1 | H26: EUR/m3 | I26: =E26*G26 -> 11600
C27: A.3 | D27: Afvoer grond
C28: A.3.1 | D28: Afvoer NT | E28: 7300 | F28: m3 | G28: 1 | H28: EUR/m3 | I28: =E28*G28 -> 7300
C29: A.3.2 | D29: Afvoer overig | E29: 4300 | F29: m3 | G29: 1 | H29: EUR/m3 | I29: =E29*G29 -> 4300
C30: A.4 | D30: Aanbrengen grond | E30: 3000 | F30: m3 | G30: 1 | H30: EUR/m3 | I30: =E30*G30 -> 3000
C31: B | D31: Steenwerk
C32: B.1 | D32: Opnemen bestorting | E32: 3100 | F32: m3 | G32: 1 | H32: EUR/m3 | I32: =E32*G32 -> 3100
C33: B.2 | D33: Transport intern | E33: 3100 | F33: m3 | G33: 1 | H33: EUR/m3 | I33: =E33*G33 -> 3100
C34: B.3 | D34: Afvoer steen | E34: 3100 | F34: m3 | G34: 1 | H34: EUR/m3 | I34: =E34*G34 -> 3100
C35: B.4 | D35: Leveren & aanbrengen steen | E35: 1400 | F35: m3 | G35: 1 | H35: EUR/m3 | I35: =E35*G35 -> 1400
D37: KRW-maatregel 3 "Verflauwen oevers"
C38: A | D38: Grondwerk
C39: A.1 | D39: Ontgraven | E39: 400 | F39: m3 | G39: 1 | H39: EUR/m3 | I39: =E39*G39 -> 400
C40: A.2 | D40: Transport intern | E40: 400 | F40: m3 | G40: 1 | H40: EUR/m3 | I40: =E40*G40 -> 400
C41: A.3 | D41: Afvoer grond
C42: A.3.1 | D42: Afvoer NT | E42: 150 | F42: m3 | G42: 1 | H42: EUR/m3 | I42: =E42*G42 -> 150
C43: A.3.2 | D43: Afvoer overig | E43: 210 | F43: m3 | G43: 1 | H43: EUR/m3 | I43: =E43*G43 -> 210
C44: A.4 | D44: Aanbrengen grond | E44: 100 | F44: m3 | G44: 1 | H44: EUR/m3 | I44: =E44*G44 -> 100
C45: B | D45: Steenwerk
C46: B.1 | D46: Opnemen bestorting | E46: 400 | F46: m3 | G46: 1 | H46: EUR/m3 | I46: =E46*G46 -> 400
C47: B.2 | D47: Transport intern | E47: 400 | F47: m3 | G47: 1 | H47: EUR/m3 | I47: =E47*G47 -> 400
C48: B.3 | D48: Afvoer steen | E48: 400 | F48: m3 | G48: 1 | H48: EUR/m3 | I48: =E48*G48 -> 400
C49: B.4 | D49: Leveren & aanbrengen steen | E49: 100 | F49: m3 | G49: 1 | H49: EUR/m3 | I49: =E49*G49 -> 100
D51: KRW-maatregel 4 "Verflauwen oevers"
C52: A | D52: Grondwerk
C53: A.1 | D53: Ontgraven | E53: 3000 | F53: m3 | G53: 1 | H53: EUR/m3 | I53: =E53*G53 -> 3000
C54: A.2 | D54: Transport intern | E54: 3000 | F54: m3 | G54: 1 | H54: EUR/m3 | I54: =E54*G54 -> 3000
C55: A.3 | D55: Afvoer grond
C56: A.3.1 | D56: Afvoer NT | E56: 950 | F56: m3 | G56: 1 | H56: EUR/m3 | I56: =E56*G56 -> 950
C57: A.3.2 | D57: Afvoer overig | E57: 2100 | F57: m3 | G57: 1 | H57: EUR/m3 | I57: =E57*G57 -> 2100
C58: A.4 | D58: Aanbrengen grond | E58: 600 | F58: m3 | G58: 1 | H58: EUR/m3 | I58: =E58*G58 -> 600
C59: B | D59: Steenwerk
C60: B.1 | D60: Opnemen bestorting | E60: 1600 | F60: m3 | G60: 1 | H60: EUR/m3 | I60: =E60*G60 -> 1600
C61: B.2 | D61: Transport intern | E61: 1600 | F61: m3 | G61: 1 | H61: EUR/m3 | I61: =E61*G61 -> 1600
C62: B.3 | D62: Afvoer steen | E62: 1600 | F62: m3 | G62: 1 | H62: EUR/m3 | I62: =E62*G62 -> 1600
C63: B.4 | D63: Leveren & aanbrengen steen | E63: 700 | F63: m3 | G63: 1 | H63: EUR/m3 | I63: =E63*G63 -> 700
H64: Subtotaal - Directe bouwkosten | I64: =SUM(I11:I63) -> 89110
D66: Engineeringskosten
C67: C.1 | D67: Opstellen DO | E67: 1 | F67: st | G67: 1 | H67: EUR/st | I67: =E67*G67 -> 1
C68: C.2 | D68: Opstellen UO | E68: 1 | F68: st | G68: 1 | H68: EUR/st | I68: =E68*G68 -> 1
C69: C.3 | D69: Overige Documenten Ontwerpfase | E69: 1 | F69: st | G69: 1 | H69: EUR/st | I69: =E69*G69 -> 1
C70: C.4 | D70: Overige Documenten Uitvoeringsfase | E70: 1 | F70: st | G70: 1 | H70: EUR/st | I70: =E70*G70 -> 1
H71: Subtotaal - Engineeringskosten | I71: =SUM(I67:I70) -> 4
D73: Indirecte kosten
C74: D.1 | D74: Eenmalige kosten | E74: 1 | F74: st | G74: 1 | H74: EUR/st | I74: =E74*G74 -> 1
C75: D.2 | D75: Algemene bouwplaatskosten | E75: 1 | F75: st | G75: 1 | H75: EUR/st | I75: =E75*G75 -> 1
C76: D.3 | D76: Uitvoeringskosten | E76: 1 | F76: st | G76: 1 | H76: EUR/st | I76: =E76*G76 -> 1
C77: D.4 | D77: Projectmanagementkosten | E77: 1 | F77: st | G77: 1 | H77: EUR/st | I77: =E77*G77 -> 1
C78: D.5 | D78: Algemene kosten | E78: 0.01 | F78: % | G78: =SUM(I71:I77)+I64 -> 89118 | I78: =E78*G78 -> 891.18
C79: D.6 | D79: Winst | E79: 0.01 | F79: % | G79: =SUM(I71:I78)+I64 -> 90009.18 | I79: =E79*G79 -> 900.0918
C80: D.7 | D80: Risico | E80: 0.01 | F80: % | G80: =SUM(I71:I78)+I64 -> 90009.18 | I80: =E80*G80 -> 900.0918
H81: Subtotaal - Indirecte kosten | I81: =SUM(I74:I80) -> 2695.3636
D83: Verschil in kosten bij inzet ZE-materieel
C84: E.1 | D84: Verschil in kosten voor inzet ZE-materieel >0 & ≤30,00% | E84: 0.25 | F84: st | G84: 1 | H84: EUR/st | I84: =E84*G84 -> 0.25
C85: E.2 | D85: Verschil in kosten voor inzet ZE-materieel >30 & ≤50% | E85: 0.25 | F85: st | G85: 1 | H85: EUR/st | I85: =E85*G85 -> 0.25
C86: E.3 | D86: Verschil in kosten voor inzet ZE-materieel >50 & ≤70% | E86: 0.25 | F86: st | G86: 1 | H86: EUR/st | I86: =E86*G86 -> 0.25
C87: E.4 | D87: Verschil in kosten voor inzet ZE-materieel >70% | E87: 0.25 | F87: st | G87: 1 | H87: EUR/st | I87: =E87*G87 -> 0.25
H88: Subtotaal - Verschil in kosten inzet ZE-materieel | I88: =SUM(I84:I87) -> 1
D90: Waarde grond
C91: F.1.1 | D91: Waarde van aan de Opdrachtnemer te vervallen zand | E91: 5100 | F91: m3 | G91: 1 | H91: EUR/m3 | I91: =E91*G91 -> 5100
C92: F.1.2 | D92: Waarde van aan de Opdrachtnemer te vervallen klei | E92: 100 | F92: m3 | G92: 1 | H92: EUR/m3 | I92: =E92*G92 -> 100
H93: Subtotaal - Waarde grond | I93: =SUM(I91:I92) -> 5200
H95: Totaal stapper [Zalkerbosch] | I95: =I64+I81+I71+I88-I93 -> 86610.364

Sheet ORBA
D3: Hoeveelheid | E3: Eenheidsprijs | F3: Totaal
C4: Opstartfase | E4: 1 | F4: =E4 -> 1
C5: Kosten na de opstartfase, per periode van 4 weken | D5: 24 | E5: 1 | F5: =D5*E5 -> 24
E7: Subtotaal | F7: =F4+F5 -> 25
