Workbook

Sheet Overzicht raamactiviteiten
C3: Uiterwaarden | D3: Totaal
C4: Buitenwaarden Oldeneel | D4: =SUM('Buitenwaarden Oldeneel'!I137) -> 23709.202
C5: Buitenwaarden Welsum – Katerstede | D5: =SUM('Buitenwaarden Welsum – Katerste'!I95) -> 305328.54
C6: Buitenwaarden Wijhe | D6: =SUM('Buitenwaarden Wijhe'!I80) -> 265084.72
C7: Buitenwaarden Windesheim | D7: =SUM('Buitenwaarden Windesheim'!I123) -> 413601.92
C8: Dorperwaarden | D8: =SUM(Dorperwaarden!I67) -> 35916.34
C9: Fortmond/ Duursche waarden | D9: =SUM('Fortmond Duursche waarden'!I67) -> 50449.102
C10: Hoenwaard | D10: =SUM(Hoenwaard!I96) -> 98007.422
C11: Koppelerwaard | D11: =SUM(Koppelerwaard!I53) -> 20882.702
C12: Marlerwaarden | D12: =SUM(Marlerwaarden!I95) -> 183601.22
C13: Oenerdijkerwaarden en welsumerwaarden | D13: =SUM('Oenerdijkerwaarden en welsumerw'!I67) -> 64671.902
C14: Olsterwaarden/ Henforderwaarden | D14: =SUM('Olsterwaarden Henforderwaarden'!I67) -> 179699.56
C15: Vorchterwaarden | D15: =SUM(Vorchterwaarden!I67) -> 32814.902
C16: Zalkerbosch | D16: =SUM(Zalkerbosch!I95) -> 86610.364
C17: ORBA | D17: =SUM(ORBA!F7) -> 25 | E17: +
D19: =SUM(D4:D17) -> 1760402.9

Sheet Buitenwaarden Oldeneel
D3: Staat van prijzen per eenheid raamactiviteiten (Stapper)
D4: NOK: Buitenwaarden Oldeneel
C6: # | D6: Omschrijving | E6: Hoeveelheid | F6: Eenheid | G6: Eenheidsprijs | I6: Totaal
D7: Directe bouwkosten
D9: KRW Maatregel 1:
C10: A | D10: Grondwerk
C11: A.1 | D11: Ontgraven | E11: 2000 | F11: m3 | G11: 1 | H11: EUR/m3 | I11: =E11*G11 -> 2000
C12: A.2 | D12: Transport intern | E12: 2000 | F12: m3 | G12: 1 | H12: EUR/m3 | I12: =E12*G12 -> 2000
C13: A.3 | D13: Afvoer grond
C14: A.3.1 | D14: Afvoer NT | E14: =0.3*E12 -> 600 | F14: m3 | G14: 1 | H14: EUR/m3 | I14: =E14*G14 -> 600
C15: A.3.2 | D15: Afvoer overig | E15: =0.7*E12 -> 1400 | F15: m3 | G15: 1 | H15: EUR/m3 | I15: =E15*G15 -> 1400
C16: A.4 | D16: Aanbrengen grond | E16: 0 | F16: m3 | G16: 0 | H16: EUR/m3 | I16: =E16*G16 -> 0
C17: B | D17: Steenwerk
C18: B.1 | D18: Opnemen bestorting | E18: 0 | F18: m3 | G18: 0 | H18: EUR/m3 | I18: =E18*G18 -> 0
C19: B.2 | D19: Transport intern | E19: 0 | F19: m3 | G19: 0 | H19: EUR/m3 | I19: =E19*G19 -> 0
C20: B.3 | D20: Afvoer steen | E20: 0 | F20: m3 | G20: 0 | H20: EUR/m3 | I20: =E20*G20 -> 0
C21: B.4 | D21: Leveren & aanbrengen steen | E21: 0 | F21: m3 | G21: 0 | H21: EUR/m3 | I21: =E21*G21 -> 0
D23: KRW maatregel 2: Dijk
C24: A | D24: Grondwerk
C25: A.1 | D25: Ontgraven | E25: 700 | F25: m3 | G25: 1 | H25: EUR/m3 | I25: =E25*G25 -> 700
C26: A.2 | D26: Transport intern | E26: 700 | F26: m3 | G26: 1 | H26: EUR/m3 | I26: =E26*G26 -> 700
C27: A.3 | D27: Afvoer grond
C28: A.3.1 | D28: Afvoer NT | E28: =0.3*E26 -> 210 | F28: m3 | G28: 1 | H28: EUR/m3 | I28: =E28*G28 -> 210
C29: A.3.2 | D29: Afvoer overig | E29: =0.7*E26 -> 490 | F29: m3 | G29: 1 | H29: EUR/m3 | I29: =E29*G29 -> 490
C30: A.4 | D30: Aanbrengen grond | E30: 200 | F30: m3 | G30: 1 | H30: EUR/m3 | I30: =E30*G30 -> 200
C31: B | D31: Steenwerk
C32: B.1 | D32: Opnemen bestorting | E32: 0 | F32: m3 | G32: 0 | H32: EUR/m3 | I32: =E32*G32 -> 0
C33: B.2 | D33: Transport intern | E33: 0 | F33: m3 | G33: 0 | H33: EUR/m3 | I33: =E33*G33 -> 0
C34: B.3 | D34: Afvoer steen | E34: 0 | F34: m3 | G34: 0 | H34: EUR/m3 | I34: =E34*G34 -> 0
C35: B.4 | D35: Leveren & aanbrengen steen | E35: 0 | F35: m3 | G35: 0 | H35: EUR/m3 | I35: =E35*G35 -> 0
D37: KRW maatregel 3: Strang 1
C38: A | D38: Grondwerk
C39: A.1 | D39: Ontgraven | E39: 3700 | F39: m3 | G39: 1 | H39: EUR/m3 | I39: =E39*G39 -> 3700
C40: A.2 | D40: Transport intern | E40: 3700 | F40: m3 | G40: 1 | H40: EUR/m3 | I40: =E40*G40 -> 3700
C41: A.3 | D41: Afvoer grond
C42: A.3.1 | D42: Afvoer NT | E42: =ROUNDUP(0.3*E40,-2) -> 1200 | F42: m3 | G42: 1 | H42: EUR/m3 | I42: =E42*G42 -> 1200
C43: A.3.2 | D43: Afvoer overig | E43: =ROUNDUP(0.7*E40,-2) -> 2600 | F43: m3 | G43: 1 | H43: EUR/m3 | I43: =E43*G43 -> 2600
C44: A.4 | D44: Aanbrengen grond | E44: 0 | F44: m3 | G44: 0 | H44: EUR/m3 | I44: =E44*G44 -> 0
C45: B | D45: Steenwerk
C46: B.1 | D46: Opnemen bestorting | E46: 0 | F46: m3 | G46: 0 | H46: EUR/m3 | I46: =E46*G46 -> 0
...

Sheet Buitenwaarden Welsum – Katerste
D3: Staat van prijzen per eenheid raamactiviteiten (Stapper)
D4: NOK: Buitenwaarden Welsum – Katerste
C6: # | D6: Omschrijving | E6: Hoeveelheid | F6: Eenheid | G6: Eenheidsprijs | I6: Totaal
D7: Directe bouwkosten
D9: KRW Maatregel 1: Traject 1 Natuurvriendelijke oever
C10: A | D10: Grondwerk
C11: A.1 | D11: Ontgraven | E11: 10000 | F11: m3 | G11: 1 | H11: EUR/m3 | I11: =E11*G11 -> 10000
C12: A.2 | D12: Transport intern | E12: 10000 | F12: m3 | G12: 1 | H12: EUR/m3 | I12: =E12*G12 -> 10000
C13: A.3 | D13: Afvoer grond
C14: A.3.1 | D14: Afvoer NT | E14: =ROUNDUP(0.3*E12,-2) -> 3000 | F14: m3 | G14: 1 | H14: EUR/m3 | I14: =E14*G14 -> 3000
C15: A.3.2 | D15: Afvoer overig | E15: =ROUNDUP(0.7*E12,-2) -> 7000 | F15: m3 | G15: 1 | H15: EUR/m3 | I15: =E15*G15 -> 7000
C16: A.4 | D16: Aanbrengen grond | E16: 0 | F16: m3 | G16: 0 | H16: EUR/m3 | I16: =E16*G16 -> 0
C17: B | D17: Steenwerk
C18: B.1 | D18: Opnemen bestorting | E18: 8400 | F18: m3 | G18: 1 | H18: EUR/m3 | I18: =E18*G18 -> 8400
C19: B.2 | D19: Transport intern | E19: 8400 | F19: m3 | G19: 1 | H19: EUR/m3 | I19: =E19*G19 -> 8400
C20: B.3 | D20: Afvoer steen | E20: 8400 | F20: m3 | G20: 1 | H20: EUR/m3 | I20: =E20*G20 -> 8400
C21: B.4 | D21: Leveren & aanbrengen steen | E21: 0 | F21: m3 | G21: 0 | H21: EUR/m3 | I21: =E21*G21 -> 0
D23: KRW Maatregel 2: Traject 2 Natuurvriendelijke oever
C24: A | D24: Grondwerk
C25: A.1 | D25: Ontgraven | E25: 13000 | F25: m3 | G25: 1 | H25: EUR/m3 | I25: =E25*G25 -> 13000
C26: A.2 | D26: Transport intern | E26: 13000 | F26: m3 | G26: 1 | H26: EUR/m3 | I26: =E26*G26 -> 13000
C27: A.3 | D27: Afvoer grond
C28: A.3.1 | D28: Afvoer NT | E28: =ROUNDUP(0.3*E26,-2) -> 3900 | F28: m3 | G28: 1 | H28: EUR/m3 | I28: =E28*G28 -> 3900
C29: A.3.2 | D29: Afvoer overig | E29: =ROUNDUP(0.7*E26,-2) -> 9100 | F29: m3 | G29: 1 | H29: EUR/m3 | I29: =E29*G29 -> 9100
C30: A.4 | D30: Aanbrengen grond | E30: 0 | F30: m3 | G30: 0 | H30: EUR/m3 | I30: =E30*G30 -> 0
C31: B | D31: Steenwerk
C32: B.1 | D32: Opnemen bestorting | E32: 6200 | F32: m3 | G32: 1 | H32: EUR/m3 | I32: =E32*G32 -> 6200
C33: B.2 | D33: Transport intern | E33: 6200 | F33: m3 | G33: 1 | H33: EUR/m3 | I33: =E33*G33 -> 6200
C34: B.3 | D34: Afvoer steen | E34: 6200 | F34: m3 | G34: 1 | H34: EUR/m3 | I34: =E34*G34 -> 6200
C35: B.4 | D35: Leveren & aanbrengen steen | E35: 0 | F35: m3 | G35: 0 | H35: EUR/m3 | I35: =E35*G35 -> 0
D37: KRW Maatregel 3: Traject 3 Natuurvriendelijke oever
C38: A | D38: Grondwerk
C39: A.1 | D39: Ontgraven | E39: 16000 | F39: m3 | G39: 1 | H39: EUR/m3 | I39: =E39*G39 -> 16000
C40: A.2 | D40: Transport intern | E40: 16000 | F40: m3 | G40: 1 | H40: EUR/m3 | I40: =E40*G40 -> 16000
C41: A.3 | D41: Afvoer grond
C42: A.3.1 | D42: Afvoer NT | E42: =ROUNDUP(0.3*E40,-2) -> 4800 | F42: m3 | G42: 1 | H42: EUR/m3 | I42: =E42*G42 -> 4800
C43: A.3.2 | D43: Afvoer overig | E43: =ROUNDUP(0.7*E40,-2) -> 11200 | F43: m3 | G43: 1 | H43: EUR/m3 | I43: =E43*G43 -> 11200
C44: A.4 | D44: Aanbrengen grond | E44: 0 | F44: m3 | H44: EUR/m3 | I44: =E44*G44 -> 0
C45: B | D45: Steenwerk
C46: B.1 | D46: Opnemen bestorting | E46: 4100 | F46: m3 | G46: 1 | H46: EUR/m3 | I46: =E46*G46 -> 4100
...

Sheet Buitenwaarden Wijhe
D3: Staat van prijzen per eenheid raamactiviteiten (Stapper)
D4: NOK: Buitenwaarden Wijhe
C6: # | D6: Omschrijving | E6: Hoeveelheid | F6: Eenheid | G6: Eenheidsprijs | I6: Totaal
D7: Directe bouwkosten
D9: KRW-maatregel 1: Watergang
C10: A | D10: Grondwerk
C11: A.1 | D11: Ontgraven | E11: 55100 | F11: m3 | G11: 1 | H11: EUR/m3 | I11: =E11*G11 -> 55100
C12: A.2 | D12: Transport intern | E12: 55100 | F12: m3 | G12: 1 | H12: EUR/m3 | I12: =E12*G12 -> 55100
C13: A.3 | D13: Afvoer grond
C14: A.3.1 | D14: Afvoer NT | E14: =ROUNDUP(0.3*E12,-2) -> 16600 | F14: m3 | G14: 1 | H14: EUR/m3 | I14: =E14*G14 -> 16600
C15: A.3.2 | D15: Afvoer overig | E15: =ROUNDUP(0.7*E12,-2) -> 38600 | F15: m3 | G15: 1 | H15: EUR/m3 | I15: =E15*G15 -> 38600
C16: A.4 | D16: Aanbrengen grond | E16: 52700 | F16: m3 | G16: 1 | H16: EUR/m3 | I16: =E16*G16 -> 52700
C17: B | D17: Steenwerk
C18: B.1 | D18: Opnemen bestorting | E18: 0 | F18: m3 | G18: 0 | H18: EUR/m3 | I18: =E18*G18 -> 0
C19: B.2 | D19: Transport intern | E19: 0 | F19: m3 | G19: 0 | H19: EUR/m3 | I19: =E19*G19 -> 0
C20: B.3 | D20: Afvoer steen | E20: 0 | F20: m3 | G20: 0 | H20: EUR/m3 | I20: =E20*G20 -> 0
C21: B.4 | D21: Leveren & aanbrengen steen | E21: 1000 | F21: m3 | G21: 1 | H21: EUR/m3 | I21: =E21*G21 -> 1000
D23: KRW-Maatregel 2: "kolk"
C24: A | D24: Grondwerk
C25: A.1 | D25: Ontgraven | E25: 600 | F25: m3 | G25: 1 | H25: EUR/m3 | I25: =E25*G25 -> 600
C26: A.2 | D26: Transport intern | E26: 600 | F26: m3 | G26: 1 | H26: EUR/m3 | I26: =E26*G26 -> 600
C27: A.3 | D27: Afvoer grond
C28: A.3.1 | D28: Afvoer NT | E28: =0.3*E26 -> 180 | F28: m3 | G28: 1 | H28: EUR/m3 | I28: =E28*G28 -> 180
C29: A.3.2 | D29: Afvoer overig | E29: =0.7*E26 -> 420 | F29: m3 | G29: 1 | H29: EUR/m3 | I29: =E29*G29 -> 420
C30: A.4 | D30: Aanbrengen grond | E30: 0 | F30: m3 | G30: 0 | H30: EUR/m3 | I30: =E30*G30 -> 0
C31: B | D31: Steenwerk
C32: B.1 | D32: Opnemen bestorting | E32: 0 | F32: m3 | G32: 0 | H32: EUR/m3 | I32: =E32*G32 -> 0
C33: B.2 | D33: Transport intern | E33: 0 | F33: m3 | G33: 0 | H33: EUR/m3 | I33: =E33*G33 -> 0
C34: B.3 | D34: Afvoer steen | E34: 0 | F34: m3 | G34: 0 | H34: EUR/m3 | I34: =E34*G34 -> 0
C35: B.4 | D35: Leveren & aanbrengen steen | E35: 300 | F35: m3 | G35: 1 | H35: EUR/m3 | I35: =E35*G35 -> 300
D37: KRW- Maatregel 3: "natuurvriendelijke oever"
C38: A | D38: Grondwerk
C39: A.1 | D39: Ontgraven | E39: 7100 | F39: m3 | G39: 1 | H39: EUR/m3 | I39: =E39*G39 -> 7100
C40: A.2 | D40: Transport intern | E40: 7100 | F40: m3 | G40: 1 | H40: EUR/m3 | I40: =E40*G40 -> 7100
C41: A.3 | D41: Afvoer grond
C42: A.3.1 | D42: Afvoer NT | E42: =ROUNDUP(0.3*E40,-2) -> 2200 | F42: m3 | G42: 1 | H42: EUR/m3 | I42: =E42*G42 -> 2200
C43: A.3.2 | D43: Afvoer overig | E43: =ROUNDUP(0.7*E40,-2) -> 5000 | F43: m3 | G43: 1 | H43: EUR/m3 | I43: =E43*G43 -> 5000
C44: A.4 | D44: Aanbrengen grond | E44: 14300 | F44: m3 | G44: 1 | H44: EUR/m3 | I44: =E44*G44 -> 14300
C45: B | D45: Steenwerk
C46: B.1 | D46: Opnemen bestorting | E46: 3500 | F46: m3 | G46: 1 | H46: EUR/m3 | I46: =E46*G46 -> 3500
...

Sheet Dorperwaarden
D3: Staat van prijzen per eenheid raamactiviteiten (Stapper)
D4: NOK: Dorperwaarden
C6: # | D6: Omschrijving | E6: Hoeveelheid | F6: Eenheid | G6: Eenheidsprijs | I6: Totaal
D7: Directe bouwkosten
D9: KRW-maatregel 1 "Ontstenen oevers"
C10: A | D10: Grondwerk
C11: A.1 | D11: Ontgraven | E11: 2100 | F11: m3 | G11: 1 | H11: EUR/m3 | I11: =E11*G11 -> 2100
C12: A.2 | D12: Transport intern | E12: 2100 | F12: m3 | G12: 1 | H12: EUR/m3 | I12: =E12*G12 -> 2100
C13: A.3 | D13: Afvoer grond
C14: A.3.1 | D14: Afvoer NT | E14: 1200 | F14: m3 | G14: 1 | H14: EUR/m3 | I14: =E14*G14 -> 1200
C15: A.3.2 | D15: Afvoer overig | E15: 890 | F15: m3 | G15: 1 | H15: EUR/m3 | I15: =E15*G15 -> 890
C16: A.4 | D16: Aanbrengen grond | E16: 600 | F16: m3 | G16: 1 | H16: EUR/m3 | I16: =E16*G16 -> 600
C17: B | D17: Steenwerk
C18: B.1 | D18: Opnemen bestorting | E18: 2600 | F18: m3 | G18: 1 | H18: EUR/m3 | I18: =E18*G18 -> 2600
C19: B.2 | D19: Transport intern | E19: 2600 | F19: m3 | G19: 1 | H19: EUR/m3 | I19: =E19*G19 -> 2600
C20: B.3 | D20: Afvoer steen | E20: 2600 | F20: m3 | G20: 1 | H20: EUR/m3 | I20: =E20*G20 -> 2600
C21: B.4 | D21: Leveren & aanbrengen steen | E21: 600 | F21: m3 | G21: 1 | H21: EUR/m3 | I21: =E21*G21 -> 600
D23: KRW-maatregel 2 "Ontstenen en verflauwen oevers"
C24: A | D24: Grondwerk
C25: A.1 | D25: Ontgraven | E25: 4800 | F25: m3 | G25: 1 | H25: EUR/m3 | I25: =E25*G25 -> 4800
C26: A.2 | D26: Transport intern | E26: 4800 | F26: m3 | G26: 1 | H26: EUR/m3 | I26: =E26*G26 -> 4800
C27: A.3 | D27: Afvoer grond
C28: A.3.1 | D28: Afvoer NT | E28: 2400 | F28: m3 | G28: 1 | H28: EUR/m3 | I28: =E28*G28 -> 2400
C29: A.3.2 | D29: Afvoer overig | E29: 2400 | F29: m3 | G29: 1 | H29: EUR/m3 | I29: =E29*G29 -> 2400
C30: A.4 | D30: Aanbrengen grond | E30: 500 | F30: m3 | G30: 1 | H30: EUR/m3 | I30: =E30*G30 -> 500
C31: B | D31: Steenwerk
C32: B.1 | D32: Opnemen bestorting | E32: 2100 | F32: m3 | G32: 1 | H32: EUR/m3 | I32: =E32*G32 -> 2100
C33: B.2 | D33: Transport intern | E33: 2100 | F33: m3 | G33: 1 | H33: EUR/m3 | I33: =E33*G33 -> 2100
C34: B.3 | D34: Afvoer steen | E34: 2100 | F34: m3 | G34: 1 | H34: EUR/m3 | I34: =E34*G34 -> 2100
C35: B.4 | D35: Leveren & aanbrengen steen | E35: 500 | F35: m3 | G35: 1 | H35: EUR/m3 | I35: =E35*G35 -> 500
H36: Subtotaal - Directe bouwkosten | I36: =SUM(I11:I35) -> 36990
D38: Engineeringskosten
C39: C.1 | D39: Opstellen DO | E39: 1 | F39: st | G39: 1 | H39: EUR/st | I39: =E39*G39 -> 1
C40: C.2 | D40: Opstellen UO | E40: 1 | F40: st | G40: 1 | H40: EUR/st | I40: =E40*G40 -> 1
C41: C.3 | D41: Overige Documenten Ontwerpfase | E41: 1 | F41: st | G41: 1 | H41: EUR/st | I41: =E41*G41 -> 1
C42: C.4 | D42: Overige Documenten Uitvoeringsfase | E42: 1 | F42: st | G42: 1 | H42: EUR/st | I42: =E42*G42 -> 1
H43: Subtotaal - Engineeringskosten | I43: =SUM(I39:I42) -> 4
D45: Indirecte kosten
C46: D.1 | D46: Eenmalige kosten | E46: 1 | F46: st | G46: 1 | H46: EUR/st | I46: =E46*G46 -> 1
C47: D.2 | D47: Algemene bouwplaatskosten | E47: 1 | F47: st | G47: 1 | H47: EUR/st | I47: =E47*G47 -> 1
...

Sheet Buitenwaarden Windesheim
D3: Staat van prijzen per eenheid raamactiviteiten (Stapper)
D4: NOK: Buitenwaarden Windesheim
C6: # | D6: Omschrijving | E6: Hoeveelheid | F6: Eenheid | G6: Eenheidsprijs | I6: Totaal
D7: Directe bouwkosten
D9: KRW Maatregel 1: Traject 1 Natuurvriendelijke oever
C10: A | D10: Grondwerk
C11: A.1 | D11: Ontgraven | E11: 1800 | F11: m3 | G11: 1 | H11: EUR/m3 | I11: =E11*G11 -> 1800
C12: A.2 | D12: Transport intern | E12: 1800 | F12: m3 | G12: 1 | H12: EUR/m3 | I12: =E12*G12 -> 1800
C13: A.3 | D13: Afvoer grond
C14: A.3.1 | D14: Afvoer NT | E14: =ROUNDUP(0.3*E12,-2) -> 600 | F14: m3 | G14: 1 | H14: EUR/m3 | I14: =E14*G14 -> 600
C15: A.3.2 | D15: Afvoer overig | E15: =ROUNDUP(0.7*E12,-2) -> 1300 | F15: m3 | G15: 1 | H15: EUR/m3 | I15: =E15*G15 -> 1300
C16: A.4 | D16: Aanbrengen grond | E16: 0 | F16: m3 | G16: 0 | H16: EUR/m3 | I16: =E16*G16 -> 0
C17: B | D17: Steenwerk
C18: B.1 | D18: Opnemen bestorting | E18: 1800 | F18: m3 | G18: 1 | H18: EUR/m3 | I18: =E18*G18 -> 1800
C19: B.2 | D19: Transport intern | E19: 1800 | F19: m3 | G19: 1 | H19: EUR/m3 | I19: =E19*G19 -> 1800
C20: B.3 | D20: Afvoer steen | E20: 1800 | F20: m3 | G20: 1 | H20: EUR/m3 | I20: =E20*G20 -> 1800
C21: B.4 | D21: Leveren & aanbrengen steen | E21: 0 | F21: m3 | G21: 0 | H21: EUR/m3 | I21: =E21*G21 -> 0
D23: KRW Maatregel 2: Geul-Noord
C24: A | D24: Grondwerk
C25: A.1 | D25: Ontgraven | E25: 65900 | F25: m3 | G25: 1 | H25: EUR/m3 | I25: =E25*G25 -> 65900
C26: A.2 | D26: Transport intern | E26: 65900 | F26: m3 | G26: 1 | H26: EUR/m3 | I26: =E26*G26 -> 65900
C27: A.3 | D27: Afvoer grond
C28: A.3.1 | D28: Afvoer NT | E28: =ROUNDUP(0.3*E26,-2) -> 19800 | F28: m3 | G28: 1 | H28: EUR/m3 | I28: =E28*G28 -> 19800
C29: A.3.2 | D29: Afvoer overig | E29: =ROUNDUP(0.7*E26,-2) -> 46200 | F29: m3 | G29: 1 | H29: EUR/m3 | I29: =E29*G29 -> 46200
C30: A.4 | D30: Aanbrengen grond | E30: 0 | F30: m3 | G30: 0 | H30: EUR/m3 | I30: =E30*G30 -> 0
C31: B | D31: Steenwerk
C32: B.1 | D32: Opnemen bestorting | E32: 3100 | F32: m3 | G32: 1 | H32: EUR/m3 | I32: =E32*G32 -> 3100
C33: B.2 | D33: Transport intern | E33: 3100 | F33: m3 | G33: 1 | H33: EUR/m3 | I33: =E33*G33 -> 3100
C34: B.3 | D34: Afvoer steen | E34: 3100 | F34: m3 | G34: 1 | H34: EUR/m3 | I34: =E34*G34 -> 3100
C35: B.4 | D35: Leveren & aanbrengen steen | E35: 0 | F35: m3 | G35: 0 | H35: EUR/m3 | I35: =E35*G35 -> 0
D37: KRW Maatregel 3: Geul-Zuid
C38: A | D38: Grondwerk
C39: A.1 | D39: Ontgraven | E39: 62400 | F39: m3 | G39: 1 | H39: EUR/m3 | I39: =E39*G39 -> 62400
C40: A.2 | D40: Transport intern | E40: 62400 | F40: m3 | G40: 1 | H40: EUR/m3 | I40: =E40*G40 -> 62400
C41: A.3 | D41: Afvoer grond
C42: A.3.1 | D42: Afvoer NT | E42: =ROUNDUP(0.3*E40,-2) -> 18800 | F42: m3 | G42: 1 | H42: EUR/m3 | I42: =E42*G42 -> 18800
C43: A.3.2 | D43: Afvoer overig | E43: =ROUNDUP(0.7*E40,-2) -> 43700 | F43: m3 | G43: 1 | H43: EUR/m3 | I43: =E43*G43 -> 43700
C44: A.4 | D44: Aanbrengen grond | E44: 0 | F44: m3 | G44: 0 | H44: EUR/m3 | I44: =E44*G44 -> 0
C45: B | D45: Steenwerk
C46: B.1 | D46: Opnemen bestorting | E46: 6400 | F46: m3 | G46: 1 | H46: EUR/m3 | I46: =E46*G46 -> 6400
...

Sheet Olsterwaarden  Henforderwaarden
D3: Staat van prijzen per eenheid raamactiviteiten (Stapper)
D4: NOK: Olsterwaarden Henforderwaarden
C6: # | D6: Omschrijving | E6: Hoeveelheid | F6: Eenheid | G6: Eenheidsprijs | I6: Totaal
D7: Directe bouwkosten
D9: KRW Maatregel 1: Natuurvriendelijke oever
C10: A | D10: Grondwerk
C11: A.1 | D11: Ontgraven | E11: 52700 | F11: m3 | G11: 1 | H11: EUR/m3 | I11: =E11*G11 -> 52700
C12: A.2 | D12: Transport intern | E12: 52700 | F12: m3 | G12: 1 | H12: EUR/m3 | I12: =E12*G12 -> 52700
C13: A.3 | D13: Afvoer grond
C14: A.3.1 | D14: Afvoer NT | E14: =ROUNDUP(0.3*E12,-2) -> 15900 | F14: m3 | G14: 1 | H14: EUR/m3 | I14: =E14*G14 -> 15900
C15: A.3.2 | D15: Afvoer overig | E15: =ROUNDUP(0.7*E12,-2) -> 36900 | F15: m3 | G15: 1 | H15: EUR/m3 | I15: =E15*G15 -> 36900
C16: A.4 | D16: Aanbrengen grond | E16: 0 | F16: m3 | G16: 0 | H16: EUR/m3 | I16: =E16*G16 -> 0
C17: B | D17: Steenwerk
C18: B.1 | D18: Opnemen bestorting | E18: 15500 | F18: m3 | G18: 1 | H18: EUR/m3 | I18: =E18*G18 -> 15500
C19: B.2 | D19: Transport intern | E19: 15500 | F19: m3 | G19: 1 | H19: EUR/m3 | I19: =E19*G19 -> 15500
C20: B.3 | D20: Afvoer steen | E20: 15500 | F20: m3 | G20: 1 | H20: EUR/m3 | I20: =E20*G20 -> 15500
C21: B.4 | D21: Leveren & aanbrengen steen | E21: 0 | F21: m3 | G21: 0 | H21: EUR/m3 | I21: =E21*G21 -> 0
D23: KRW Maatregel 2: Poelen
C24: A | D24: Grondwerk
C25: A.1 | D25: Ontgraven | E25: 2300 | F25: m3 | G25: 1 | H25: EUR/m3 | I25: =E25*G25 -> 2300
C26: A.2 | D26: Transport intern | E26: 2300 | F26: m3 | G26: 1 | H26: EUR/m3 | I26: =E26*G26 -> 2300
C27: A.3 | D27: Afvoer grond
C28: A.3.1 | D28: Afvoer NT | E28: =0.3*E26 -> 690 | F28: m3 | G28: 1 | H28: EUR/m3 | I28: =E28*G28 -> 690
C29: A.3.2 | D29: Afvoer overig | E29: =0.7*E26 -> 1610 | F29: m3 | G29: 1 | H29: EUR/m3 | I29: =E29*G29 -> 1610
C30: A.4 | D30: Aanbrengen grond | E30: 0 | F30: m3 | G30: 0 | H30: EUR/m3 | I30: =E30*G30 -> 0
C31: B | D31: Steenwerk
C32: B.1 | D32: Opnemen bestorting | E32: 0 | F32: m3 | G32: 0 | H32: EUR/m3 | I32: =E32*G32 -> 0
C33: B.2 | D33: Transport intern | E33: 0 | F33: m3 | G33: 0 | H33: EUR/m3 | I33: =E33*G33 -> 0
C34: B.3 | D34: Afvoer steen | E34: 0 | F34: m3 | G34: 0 | H34: EUR/m3 | I34: =E34*G34 -> 0
C35: B.4 | D35: Leveren & aanbrengen steen | E35: 0 | F35: m3 | G35: 0 | H35: EUR/m3 | I35: =E35*G35 -> 0
H36: Subtotaal - Directe bouwkosten | I36: =SUM(I11:I35) -> 211600
D38: Engineeringskosten
C39: C.1 | D39: Opstellen DO | E39: 1 | F39: st | G39: 1 | H39: EUR/st | I39: =E39*G39 -> 1
C40: C.2 | D40: Opstellen UO | E40: 1 | F40: st | G40: 1 | H40: EUR/st | I40: =E40*G40 -> 1
C41: C.3 | D41: Overige Documenten Ontwerpfase | E41: 1 | F41: st | G41: 1 | H41: EUR/st | I41: =E41*G41 -> 1
C42: C.4 | D42: Overige Documenten Uitvoeringsfase | E42: 1 | F42: st | G42: 1 | H42: EUR/st | I42: =E42*G42 -> 1
H43: Subtotaal - Engineeringskosten | I43: =SUM(I39:I42) -> 4
D45: Indirecte kosten
C46: D.1 | D46: Eenmalige kosten | E46: 1 | F46: st | G46: 1 | H46: EUR/st | I46: =E46*G46 -> 1
C47: D.2 | D47: Algemene bouwplaatskosten | E47: 1 | F47: st | G47: 1 | H47: EUR/st | I47: =E47*G47 -> 1
...

Sheet Fortmond  Duursche waarden
D3: Staat van prijzen per eenheid raamactiviteiten (Stapper)
D4: NOK: Fortmond Duursche waarden
C6: # | D6: Omschrijving | E6: Hoeveelheid | F6: Eenheid | G6: Eenheidsprijs | I6: Totaal
D7: Directe bouwkosten
D9: KRW Maatregel 1: Natuurvriendelijke oever Zuid
C10: A | D10: Grondwerk
C11: A.1 | D11: Ontgraven | E11: 6200 | F11: m3 | G11: 1 | H11: EUR/m3 | I11: =E11*G11 -> 6200
C12: A.2 | D12: Transport intern | E12: 6200 | F12: m3 | G12: 1 | H12: EUR/m3 | I12: =E12*G12 -> 6200
C13: A.3 | D13: Afvoer grond
C14: A.3.1 | D14: Afvoer NT | E14: 4500 | F14: m3 | G14: 1 | H14: EUR/m3 | I14: =E14*G14 -> 4500
C15: A.3.2 | D15: Afvoer overig | E15: 1700 | F15: m3 | G15: 1 | H15: EUR/m3 | I15: =E15*G15 -> 1700
C16: A.4 | D16: Aanbrengen grond | E16: 200 | F16: m3 | G16: 1 | H16: EUR/m3 | I16: =E16*G16 -> 200
C17: B | D17: Steenwerk
C18: B.1 | D18: Opnemen bestorting | E18: 1900 | F18: m3 | G18: 1 | H18: EUR/m3 | I18: =E18*G18 -> 1900
C19: B.2 | D19: Transport intern | E19: 1900 | F19: m3 | G19: 1 | H19: EUR/m3 | I19: =E19*G19 -> 1900
C20: B.3 | D20: Afvoer steen | E20: 1900 | F20: m3 | G20: 1 | H20: EUR/m3 | I20: =E20*G20 -> 1900
C21: B.4 | D21: Leveren & aanbrengen steen | E21: 200 | F21: m3 | G21: 1 | H21: EUR/m3 | I21: =E21*G21 -> 200
D23: KRW Maatregel 2: Natuurvriendelijke oever Noord
C24: A | D24: Grondwerk
C25: A.1 | D25: Ontgraven | E25: 8700 | F25: m3 | G25: 1 | H25: EUR/m3 | I25: =E25*G25 -> 8700
C26: A.2 | D26: Transport intern | E26: 8700 | F26: m3 | G26: 1 | H26: EUR/m3 | I26: =E26*G26 -> 8700
C27: A.3 | D27: Afvoer grond
C28: A.3.1 | D28: Afvoer NT | E28: 4200 | F28: m3 | G28: 1 | H28: EUR/m3 | I28: =E28*G28 -> 4200
C29: A.3.2 | D29: Afvoer overig | E29: 4500 | F29: m3 | G29: 1 | H29: EUR/m3 | I29: =E29*G29 -> 4500
C30: A.4 | D30: Aanbrengen grond | E30: 500 | F30: m3 | G30: 1 | H30: EUR/m3 | I30: =E30*G30 -> 500
C31: B | D31: Steenwerk
C32: B.1 | D32: Opnemen bestorting | E32: 800 | F32: m3 | G32: 1 | H32: EUR/m3 | I32: =E32*G32 -> 800
C33: B.2 | D33: Transport intern | E33: 800 | F33: m3 | G33: 1 | H33: EUR/m3 | I33: =E33*G33 -> 800
C34: B.3 | D34: Afvoer steen | E34: 800 | F34: m3 | G34: 1 | H34: EUR/m3 | I34: =E34*G34 -> 800
C35: B.4 | D35: Leveren & aanbrengen steen | E35: 600 | F35: m3 | G35: 1 | H35: EUR/m3 | I35: =E35*G35 -> 600
H36: Subtotaal - Directe bouwkosten | I36: =SUM(I9:I35) -> 54300
D38: Engineeringskosten
C39: C.1 | D39: Opstellen DO | E39: 1 | F39: st | G39: 1 | H39: EUR/st | I39: =E39*G39 -> 1
C40: C.2 | D40: Opstellen UO | E40: 1 | F40: st | G40: 1 | H40: EUR/st | I40: =E40*G40 -> 1
C41: C.3 | D41: Overige Documenten Ontwerpfase | E41: 1 | F41: st | G41: 1 | H41: EUR/st | I41: =E41*G41 -> 1
C42: C.4 | D42: Overige Documenten Uitvoeringsfase | E42: 1 | F42: st | G42: 1 | H42: EUR/st | I42: =E42*G42 -> 1
H43: Subtotaal - Engineeringskosten | I43: =SUM(I39:I42) -> 4
D45: Indirecte kosten
C46: D.1 | D46: Eenmalige kosten | E46: 1 | F46: st | G46: 1 | H46: EUR/st | I46: =E46*G46 -> 1
C47: D.2 | D47: Algemene bouwplaatskosten | E47: 1 | F47: st | G47: 1 | H47: EUR/st | I47: =E47*G47 -> 1
...

Sheet Hoenwaard
D3: Staat van prijzen per eenheid raamactiviteiten (Stapper)
D4: NOK: Hoenwaard
C6: # | D6: Omschrijving | E6: Hoeveelheid | F6: Eenheid | G6: Eenheidsprijs | I6: Totaal
D7: Directe bouwkosten
D10: KRW Maatregel 1: Trajact 1 Natuurvriendelijke oever
C11: A | D11: Grondwerk
C12: A.1 | D12: Ontgraven | E12: 6900 | F12: m3 | G12: 1 | H12: EUR/m3 | I12: =E12*G12 -> 6900
C13: A.2 | D13: Transport intern | E13: 6900 | F13: m3 | G13: 1 | H13: EUR/m3 | I13: =E13*G13 -> 6900
C14: A.3 | D14: Afvoer grond
C15: A.3.1 | D15: Afvoer NT | E15: =ROUNDUP(0.3*E13,-2) -> 2100 | F15: m3 | G15: 1 | H15: EUR/m3 | I15: =E15*G15 -> 2100
C16: A.3.2 | D16: Afvoer overig | E16: =ROUNDUP(0.7*E13,-2) -> 4900 | F16: m3 | G16: 1 | H16: EUR/m3 | I16: =E16*G16 -> 4900
C17: A.4 | D17: Aanbrengen grond | E17: 0 | F17: m3 | G17: 0 | H17: EUR/m3 | I17: =E17*G17 -> 0
C18: B | D18: Steenwerk
C19: B.1 | D19: Opnemen bestorting | E19: 1300 | F19: m3 | G19: 1 | H19: EUR/m3 | I19: =E19*G19 -> 1300
C20: B.2 | D20: Transport intern | E20: 1300 | F20: m3 | G20: 1 | H20: EUR/m3 | I20: =E20*G20 -> 1300
C21: B.3 | D21: Afvoer steen | E21: 1300 | F21: m3 | G21: 1 | H21: EUR/m3 | I21: =E21*G21 -> 1300
C22: B.4 | D22: Leveren & aanbrengen steen | E22: 800 | F22: m3 | G22: 1 | H22: EUR/m3 | I22: =E22*G22 -> 800
D24: KRW Maatregel 2: Trajact 2 Natuurvriendelijke oever
C25: A | D25: Grondwerk
C26: A.1 | D26: Ontgraven | E26: 10000 | F26: m3 | G26: 1 | H26: EUR/m3 | I26: =E26*G26 -> 10000
C27: A.2 | D27: Transport intern | E27: 10000 | F27: m3 | G27: 1 | H27: EUR/m3 | I27: =E27*G27 -> 10000
C28: A.3 | D28: Afvoer grond
C29: A.3.1 | D29: Afvoer NT | E29: =ROUNDUP(0.3*E27,-2) -> 3000 | F29: m3 | G29: 1 | H29: EUR/m3 | I29: =E29*G29 -> 3000
C30: A.3.2 | D30: Afvoer overig | E30: =ROUNDUP(0.7*E27,-2) -> 7000 | F30: m3 | G30: 1 | H30: EUR/m3 | I30: =E30*G30 -> 7000
C31: A.4 | D31: Aanbrengen grond | E31: 0 | F31: m3 | G31: 0 | H31: EUR/m3 | I31: =E31*G31 -> 0
C32: B | D32: Steenwerk
C33: B.1 | D33: Opnemen bestorting | E33: 3800 | F33: m3 | G33: 1 | H33: EUR/m3 | I33: =E33*G33 -> 3800
C34: B.2 | D34: Transport intern | E34: 3800 | F34: m3 | G34: 1 | H34: EUR/m3 | I34: =E34*G34 -> 3800
C35: B.3 | D35: Afvoer steen | E35: 3800 | F35: m3 | G35: 1 | H35: EUR/m3 | I35: =E35*G35 -> 3800
C36: B.4 | D36: Leveren & aanbrengen steen | E36: 1000 | F36: m3 | G36: 1 | H36: EUR/m3 | I36: =E36*G36 -> 1000
D38: KRW Maatregel 3: Trajact 3 Natuurvriendelijke oever
C39: A | D39: Grondwerk
C40: A.1 | D40: Ontgraven | E40: 0 | F40: m3 | G40: 0 | H40: EUR/m3 | I40: =E40*G40 -> 0
C41: A.2 | D41: Transport intern | E41: 0 | F41: m3 | G41: 0 | H41: EUR/m3 | I41: =E41*G41 -> 0
C42: A.3 | D42: Afvoer grond
C43: A.3.1 | D43: Afvoer NT | E43: 0 | F43: m3 | G43: 0 | H43: EUR/m3 | I43: =E43*G43 -> 0
C44: A.3.2 | D44: Afvoer overig | E44: 0 | F44: m3 | G44: 0 | H44: EUR/m3 | I44: =E44*G44 -> 0
C45: A.4 | D45: Aanbrengen grond | E45: 0 | F45: m3 | G45: 0 | H45: EUR/m3 | I45: =E45*G45 -> 0
C46: B | D46: Steenwerk
C47: B.1 | D47: Opnemen bestorting | E47: 7500 | F47: m3 | G47: 1 | H47: EUR/m3 | I47: =E47*G47 -> 7500
...

Sheet Koppelerwaard
D3: Staat van prijzen per eenheid raamactiviteiten (Stapper)
D4: NOK: Koppelerwaard
C6: # | D6: Omschrijving | E6: Hoeveelheid | F6: Eenheid | G6: Eenheidsprijs | I6: Totaal
D7: Directe bouwkosten
D9: KRW-maatregel traject 1 "Ontstenen en verflauwen oevers"
C10: A | D10: Grondwerk
C11: A.1 | D11: Ontgraven | E11: 5300 | F11: m3 | G11: 1 | H11: EUR/m3 | I11: =E11*G11 -> 5300
C12: A.2 | D12: Transport intern | E12: 5300 | F12: m3 | G12: 1 | H12: EUR/m3 | I12: =E12*G12 -> 5300
C13: A.3 | D13: Afvoer grond
C14: A.3.1 | D14: Afvoer NT | E14: 2000 | F14: m3 | G14: 1 | H14: EUR/m3 | I14: =E14*G14 -> 2000
C15: A.3.2 | D15: Afvoer overig | E15: 3400 | F15: m3 | G15: 1 | H15: EUR/m3 | I15: =E15*G15 -> 3400
C16: A.4 | D16: Aanbrengen grond | E16: 500 | F16: m3 | G16: 1 | H16: EUR/m3 | I16: =E16*G16 -> 500
C17: B | D17: Steenwerk
C18: B.1 | D18: Opnemen bestorting | E18: 1800 | F18: m3 | G18: 1 | H18: EUR/m3 | I18: =E18*G18 -> 1800
C19: B.2 | D19: Transport intern | E19: 1800 | F19: m3 | G19: 1 | H19: EUR/m3 | I19: =E19*G19 -> 1800
C20: B.3 | D20: Afvoer steen | E20: 1800 | F20: m3 | G20: 1 | H20: EUR/m3 | I20: =E20*G20 -> 1800
C21: B.4 | D21: Leveren & aanbrengen steen | E21: 400 | F21: m3 | G21: 1 | H21: EUR/m3 | I21: =E21*G21 -> 400
H22: Subtotaal - Directe bouwkosten | I22: =SUM(I11:I21) -> 22300
D24: Engineeringskosten
C25: C.1 | D25: Opstellen DO | E25: 1 | F25: st | G25: 1 | H25: EUR/st | I25: =E25*G25 -> 1
C26: C.2 | D26: Opstellen UO | E26: 1 | F26: st | G26: 1 | H26: EUR/st | I26: =E26*G26 -> 1
C27: C.3 | D27: Overige Documenten Ontwerpfase | E27: 1 | F27: st | G27: 1 | H27: EUR/st | I27: =E27*G27 -> 1
C28: C.4 | D28: Overige Documenten Uitvoeringsfase | E28: 1 | F28: st | G28: 1 | H28: EUR/st | I28: =E28*G28 -> 1
H29: Subtotaal - Engineeringskosten | I29: =SUM(I25:I28) -> 4
D31: Indirecte kosten
C32: D.1 | D32: Eenmalige kosten | E32: 1 | F32: st | G32: 1 | H32: EUR/st | I32: =E32*G32 -> 1
C33: D.2 | D33: Algemene bouwplaatskosten | E33: 1 | F33: st | G33: 1 | H33: EUR/st | I33: =E33*G33 -> 1
C34: D.3 | D34: Uitvoeringskosten | E34: 1 | F34: st | G34: 1 | H34: EUR/st | I34: =E34*G34 -> 1
C35: D.4 | D35: Projectmanagementkosten | E35: 1 | F35: st | G35: 1 | H35: EUR/st | I35: =E35*G35 -> 1
C36: D.5 | D36: Algemene kosten | E36: 0.01 | F36: % | G36: =SUM(I29:I35)+I22 -> 22308 | I36: =E36*G36 -> 223.08
C37: D.6 | D37: Winst | E37: 0.01 | F37: % | G37: =SUM(I29:I36)+I22 -> 22531.08 | I37: =E37*G37 -> 225.3108
C38: D.7 | D38: Risico | E38: 0.01 | F38: % | G38: =SUM(I29:I36)+I22 -> 22531.08 | I38: =E38*G38 -> 225.3108
H39: Subtotaal - Indirecte kosten | I39: =SUM(I32:I38) -> 677.7016
D41: Verschil in kosten bij inzet ZE-materieel
C42: E.1 | D42: Verschil in kosten voor inzet ZE-materieel >0 & ≤30,00% | E42: 0.25 | F42: st | G42: 1 | H42: EUR/st | I42: =E42*G42 -> 0.25
C43: E.2 | D43: Verschil in kosten voor inzet ZE-materieel >30 & ≤50% | E43: 0.25 | F43: st | G43: 1 | H43: EUR/st | I43: =E43*G43 -> 0.25
C44: E.3 | D44: Verschil in kosten voor inzet ZE-materieel >50 & ≤70% | E44: 0.25 | F44: st | G44: 1 | H44: EUR/st | I44: =E44*G44 -> 0.25
C45: E.4 | D45: Verschil in kosten voor inzet ZE-materieel >70% | E45: 0.25 | F45: st | G45: 1 | H45: EUR/st | I45: =E45*G45 -> 0.25
H46: Subtotaal - Verschil in kosten inzet ZE-materieel | I46: =SUM(I42:I45) -> 1
D48: Waarde grond
...

Sheet Marlerwaarden
D3: Staat van prijzen per eenheid raamactiviteiten (Stapper)
D4: NOK: Marlerwaarden
C6: # | D6: Omschrijving | E6: Hoeveelheid | F6: Eenheid | G6: Eenheidsprijs | I6: Totaal
D7: Directe bouwkosten
D9: KRW Maatregel 1: Geul
C10: A | D10: Grondwerk
C11: A.1 | D11: Ontgraven | E11: 45000 | F11: m3 | G11: 1 | H11: EUR/m3 | I11: =E11*G11 -> 45000
C12: A.2 | D12: Transport intern | E12: 45000 | F12: m3 | G12: 1 | H12: EUR/m3 | I12: =E12*G12 -> 45000
C13: A.3 | D13: Afvoer grond
C14: A.3.1 | D14: Afvoer NT | E14: =ROUNDUP(0.3*E12,-2) -> 13500 | F14: m3 | G14: 1 | H14: EUR/m3 | I14: =E14*G14 -> 13500
C15: A.3.2 | D15: Afvoer overig | E15: =ROUNDUP(0.7*E12,-2) -> 31500 | F15: m3 | G15: 1 | H15: EUR/m3 | I15: =E15*G15 -> 31500
C16: A.4 | D16: Aanbrengen grond | E16: 0 | F16: m3 | G16: 0 | H16: EUR/m3 | I16: =E16*G16 -> 0
C17: B | D17: Steenwerk
C18: B.1 | D18: Opnemen bestorting | E18: 0 | F18: m3 | G18: 0 | H18: EUR/m3 | I18: =E18*G18 -> 0
C19: B.2 | D19: Transport intern | E19: 0 | F19: m3 | G19: 0 | H19: EUR/m3 | I19: =E19*G19 -> 0
C20: B.3 | D20: Afvoer steen | E20: 0 | F20: m3 | G20: 0 | H20: EUR/m3 | I20: =E20*G20 -> 0
C21: B.4 | D21: Leveren & aanbrengen steen | E21: 2200 | F21: m3 | G21: 1 | H21: EUR/m3 | I21: =E21*G21 -> 2200
D23: KRW Maatregel 2: Kade West
C24: A | D24: Grondwerk
C25: A.1 | D25: Ontgraven | E25: 0 | F25: m3 | G25: 0 | H25: EUR/m3 | I25: =E25*G25 -> 0
C26: A.2 | D26: Transport intern | E26: 0 | F26: m3 | G26: 0 | H26: EUR/m3 | I26: =E26*G26 -> 0
C27: A.3 | D27: Afvoer grond
C28: A.3.1 | D28: Afvoer NT | E28: 0 | F28: m3 | G28: 0 | H28: EUR/m3 | I28: =E28*G28 -> 0
C29: A.3.2 | D29: Afvoer overig | E29: 0 | F29: m3 | G29: 0 | H29: EUR/m3 | I29: =E29*G29 -> 0
C30: A.4 | D30: Aanbrengen grond | E30: 2400 | F30: m3 | G30: 1 | H30: EUR/m3 | I30: =E30*G30 -> 2400
C31: B | D31: Steenwerk
C32: B.1 | D32: Opnemen bestorting | E32: 0 | F32: m3 | G32: 0 | H32: EUR/m3 | I32: =E32*G32 -> 0
C33: B.2 | D33: Transport intern | E33: 0 | F33: m3 | G33: 0 | H33: EUR/m3 | I33: =E33*G33 -> 0
C34: B.3 | D34: Afvoer steen | E34: 0 | F34: m3 | G34: 0 | H34: EUR/m3 | I34: =E34*G34 -> 0
C35: B.4 | D35: Leveren & aanbrengen steen | E35: 0 | F35: m3 | G35: 0 | H35: EUR/m3 | I35: =E35*G35 -> 0
D37: KRW Maatregel 3: Kade Zuid
C38: A | D38: Grondwerk
C39: A.1 | D39: Ontgraven | E39: 0 | F39: m3 | G39: 0 | H39: EUR/m3 | I39: =E39*G39 -> 0
C40: A.2 | D40: Transport intern | E40: 0 | F40: m3 | G40: 0 | H40: EUR/m3 | I40: =E40*G40 -> 0
C41: A.3 | D41: Afvoer grond
C42: A.3.1 | D42: Afvoer NT | E42: 0 | F42: m3 | G42: 0 | H42: EUR/m3 | I42: =E42*G42 -> 0
C43: A.3.2 | D43: Afvoer overig | E43: 0 | F43: m3 | G43: 0 | H43: EUR/m3 | I43: =E43*G43 -> 0
C44: A.4 | D44: Aanbrengen grond | E44: 3600 | F44: m3 | G44: 1 | H44: EUR/m3 | I44: =E44*G44 -> 3600
C45: B | D45: Steenwerk
C46: B.1 | D46: Opnemen bestorting | E46: 0 | F46: m3 | G46: 0 | H46: EUR/m3 | I46: =E46*G46 -> 0
...

Sheet Oenerdijkerwaarden en welsumerw
D3: Staat van prijzen per eenheid raamactiviteiten (Stapper)
D4: NOK: Oenerdijkerwaarden en welsumerwaarden
C6: # | D6: Omschrijving | E6: Hoeveelheid | F6: Eenheid | G6: Eenheidsprijs | I6: Totaal
D7: Directe bouwkosten
D9: KRW-maatregel 1 "Ontstenen en verflauwen oevers"
C10: A | D10: Grondwerk
C11: A.1 | D11: Ontgraven | E11: 4600 | F11: m3 | G11: 1 | H11: EUR/m3 | I11: =E11*G11 -> 4600
C12: A.2 | D12: Transport intern | E12: 4600 | F12: m3 | G12: 1 | H12: EUR/m3 | I12: =E12*G12 -> 4600
C13: A.3 | D13: Afvoer grond
C14: A.3.1 | D14: Afvoer NT | E14: 1100 | F14: m3 | G14: 1 | H14: EUR/m3 | I14: =E14*G14 -> 1100
C15: A.3.2 | D15: Afvoer overig | E15: 3400 | F15: m3 | G15: 1 | H15: EUR/m3 | I15: =E15*G15 -> 3400
C16: A.4 | D16: Aanbrengen grond | E16: 600 | F16: m3 | G16: 1 | H16: EUR/m3 | I16: =E16*G16 -> 600
C17: B | D17: Steenwerk
C18: B.1 | D18: Opnemen bestorting | E18: 1400 | F18: m3 | G18: 1 | H18: EUR/m3 | I18: =E18*G18 -> 1400
C19: B.2 | D19: Transport intern | E19: 1400 | F19: m3 | G19: 1 | H19: EUR/m3 | I19: =E19*G19 -> 1400
C20: B.3 | D20: Afvoer steen | E20: 1400 | F20: m3 | G20: 1 | H20: EUR/m3 | I20: =E20*G20 -> 1400
C21: B.4 | D21: Leveren & aanbrengen steen | E21: 600 | F21: m3 | G21: 1 | H21: EUR/m3 | I21: =E21*G21 -> 600
D23: KRW-maatregel 2 "Ontstenen en verflauwen oevers"
C24: A | D24: Grondwerk
C25: A.1 | D25: Ontgraven | E25: 11600 | F25: m3 | G25: 1 | H25: EUR/m3 | I25: =E25*G25 -> 11600
C26: A.2 | D26: Transport intern | E26: 11600 | F26: m3 | G26: 1 | H26: EUR/m3 | I26: =E26*G26 -> 11600
C27: A.3 | D27: Afvoer grond
C28: A.3.1 | D28: Afvoer NT | E28: 4700 | F28: m3 | G28: 1 | H28: EUR/m3 | I28: =E28*G28 -> 4700
C29: A.3.2 | D29: Afvoer overig | E29: 6900 | F29: m3 | G29: 1 | H29: EUR/m3 | I29: =E29*G29 -> 6900
C30: A.4 | D30: Aanbrengen grond | E30: 1500 | F30: m3 | G30: 1 | H30: EUR/m3 | I30: =E30*G30 -> 1500
C31: B | D31: Steenwerk
C32: B.1 | D32: Opnemen bestorting | E32: 3800 | F32: m3 | G32: 1 | H32: EUR/m3 | I32: =E32*G32 -> 3800
C33: B.2 | D33: Transport intern | E33: 3800 | F33: m3 | G33: 1 | H33: EUR/m3 | I33: =E33*G33 -> 3800
C34: B.3 | D34: Afvoer steen | E34: 3800 | F34: m3 | G34: 1 | H34: EUR/m3 | I34: =E34*G34 -> 3800
C35: B.4 | D35: Leveren & aanbrengen steen | E35: 1500 | F35: m3 | G35: 1 | H35: EUR/m3 | I35: =E35*G35 -> 1500
H36: Subtotaal - Directe bouwkosten | I36: =SUM(I11:I35) -> 68300
D38: Engineeringskosten
C39: C.1 | D39: Opstellen DO | E39: 1 | F39: st | G39: 1 | H39: EUR/st | I39: =E39*G39 -> 1
C40: C.2 | D40: Opstellen UO | E40: 1 | F40: st | G40: 1 | H40: EUR/st | I40: =E40*G40 -> 1
C41: C.3 | D41: Overige Documenten Ontwerpfase | E41: 1 | F41: st | G41: 1 | H41: EUR/st | I41: =E41*G41 -> 1
C42: C.4 | D42: Overige Documenten Uitvoeringsfase | E42: 1 | F42: st | G42: 1 | H42: EUR/st | I42: =E42*G42 -> 1
H43: Subtotaal - Engineeringskosten | I43: =SUM(I39:I42) -> 4
D45: Indirecte kosten
C46: D.1 | D46: Eenmalige kosten | E46: 1 | F46: st | G46: 1 | H46: EUR/st | I46: =E46*G46 -> 1
C47: D.2 | D47: Algemene bouwplaatskosten | E47: 1 | F47: st | G47: 1 | H47: EUR/st | I47: =E47*G47 -> 1
...

Sheet Vorchterwaarden
D3: Staat van prijzen per eenheid raamactiviteiten (Stapper)
D4: NOK: Vorchterwaarden
C6: # | D6: Omschrijving | E6: Hoeveelheid | F6: Eenheid | G6: Eenheidsprijs | I6: Totaal
D7: Directe bouwkosten
D9: KRW-maatregel traject 1 "Ontstenen en verflauwen oevers"
C10: A | D10: Grondwerk
C11: A.1 | D11: Ontgraven | E11: 2800 | F11: m3 | G11: 1 | H11: EUR/m3 | I11: =E11*G11 -> 2800
C12: A.2 | D12: Transport intern | E12: 2800 | F12: m3 | G12: 1 | H12: EUR/m3 | I12: =E12*G12 -> 2800
C13: A.3 | D13: Afvoer grond
C14: A.3.1 | D14: Afvoer NT | E14: 1500 | F14: m3 | G14: 1 | H14: EUR/m3 | I14: =E14*G14 -> 1500
C15: A.3.2 | D15: Afvoer overig | E15: 1200 | F15: m3 | G15: 1 | H15: EUR/m3 | I15: =E15*G15 -> 1200
C16: A.4 | D16: Aanbrengen grond | E16: 500 | F16: m3 | G16: 1 | H16: EUR/m3 | I16: =E16*G16 -> 500
C17: B | D17: Steenwerk
C18: B.1 | D18: Opnemen bestorting | E18: 2700 | F18: m3 | G18: 1 | H18: EUR/m3 | I18: =E18*G18 -> 2700
C19: B.2 | D19: Transport intern | E19: 2700 | F19: m3 | G19: 1 | H19: EUR/m3 | I19: =E19*G19 -> 2700
C20: B.3 | D20: Afvoer steen | E20: 2700 | F20: m3 | G20: 1 | H20: EUR/m3 | I20: =E20*G20 -> 2700
C21: B.4 | D21: Leveren & aanbrengen steen | E21: 600 | F21: m3 | G21: 1 | H21: EUR/m3 | I21: =E21*G21 -> 600
D23: KRW-maatregel traject 2 "Ontstenen oevers"
C24: A | D24: Grondwerk
C25: A.1 | D25: Ontgraven | E25: 3000 | F25: m3 | G25: 1 | H25: EUR/m3 | I25: =E25*G25 -> 3000
C26: A.2 | D26: Transport intern | E26: 3000 | F26: m3 | G26: 1 | H26: EUR/m3 | I26: =E26*G26 -> 3000
C27: A.3 | D27: Afvoer grond
C28: A.3.1 | D28: Afvoer NT | E28: 1000 | F28: m3 | G28: 1 | H28: EUR/m3 | I28: =E28*G28 -> 1000
C29: A.3.2 | D29: Afvoer overig | E29: 1900 | F29: m3 | G29: 1 | H29: EUR/m3 | I29: =E29*G29 -> 1900
C30: A.4 | D30: Aanbrengen grond | E30: 1100 | F30: m3 | G30: 1 | H30: EUR/m3 | I30: =E30*G30 -> 1100
C31: B | D31: Steenwerk
C32: B.1 | D32: Opnemen bestorting | E32: 1600 | F32: m3 | G32: 1 | H32: EUR/m3 | I32: =E32*G32 -> 1600
C33: B.2 | D33: Transport intern | E33: 1600 | F33: m3 | G33: 1 | H33: EUR/m3 | I33: =E33*G33 -> 1600
C34: B.3 | D34: Afvoer steen | E34: 1600 | F34: m3 | G34: 1 | H34: EUR/m3 | I34: =E34*G34 -> 1600
C35: B.4 | D35: Leveren & aanbrengen steen | E35: 1000 | F35: m3 | G35: 1 | H35: EUR/m3 | I35: =E35*G35 -> 1000
H36: Subtotaal - Directe bouwkosten | I36: =SUM(I11:I35) -> 33300
D38: Engineeringskosten
C39: C.1 | D39: Opstellen DO | E39: 1 | F39: st | G39: 1 | H39: EUR/st | I39: =E39*G39 -> 1
C40: C.2 | D40: Opstellen UO | E40: 1 | F40: st | G40: 1 | H40: EUR/st | I40: =E40*G40 -> 1
C41: C.3 | D41: Overige Documenten Ontwerpfase | E41: 1 | F41: st | G41: 1 | H41: EUR/st | I41: =E41*G41 -> 1
C42: C.4 | D42: Overige Documenten Uitvoeringsfase | E42: 1 | F42: st | G42: 1 | H42: EUR/st | I42: =E42*G42 -> 1
H43: Subtotaal - Engineeringskosten | I43: =SUM(I39:I42) -> 4
D45: Indirecte kosten
C46: D.1 | D46: Eenmalige kosten | E46: 1 | F46: st | G46: 1 | H46: EUR/st | I46: =E46*G46 -> 1
C47: D.2 | D47: Algemene bouwplaatskosten | E47: 1 | F47: st | G47: 1 | H47: EUR/st | I47: =E47*G47 -> 1
...

Sheet Zalkerbosch
D3: Staat van prijzen per eenheid raamactiviteiten (Stapper)
D4: NOK: Zalkerbosch
C6: # | D6: Omschrijving | E6: Hoeveelheid | F6: Eenheid | G6: Eenheidsprijs | I6: Totaal
D7: Directe bouwkosten
D9: KRW-maatregel 1 "Ontstenen en verflauwen oevers"
C10: A | D10: Grondwerk
C11: A.1 | D11: Ontgraven | E11: 5700 | F11: m3 | G11: 1 | H11: EUR/m3 | I11: =E11*G11 -> 5700
C12: A.2 | D12: Transport intern | E12: 5700 | F12: m3 | G12: 1 | H12: EUR/m3 | I12: =E12*G12 -> 5700
C13: A.3 | D13: Afvoer grond
C14: A.3.1 | D14: Afvoer NT | E14: 1200 | F14: m3 | G14: 1 | H14: EUR/m3 | I14: =E14*G14 -> 1200
C15: A.3.2 | D15: Afvoer overig | E15: 4500 | F15: m3 | G15: 1 | H15: EUR/m3 | I15: =E15*G15 -> 4500
C16: A.4 | D16: Aanbrengen grond | E16: 2200 | F16: m3 | G16: 1 | H16: EUR/m3 | I16: =E16*G16 -> 2200
C17: B | D17: Steenwerk
C18: B.1 | D18: Opnemen bestorting | E18: 1100 | F18: m3 | G18: 1 | H18: EUR/m3 | I18: =E18*G18 -> 1100
C19: B.2 | D19: Transport intern | E19: 1100 | F19: m3 | G19: 1 | H19: EUR/m3 | I19: =E19*G19 -> 1100
C20: B.3 | D20: Afvoer steen | E20: 1100 | F20: m3 | G20: 1 | H20: EUR/m3 | I20: =E20*G20 -> 1100
C21: B.4 | D21: Leveren & aanbrengen steen | E21: 300 | F21: m3 | G21: 1 | H21: EUR/m3 | I21: =E21*G21 -> 300
D23: KRW-maatregel 2 "Ontstenen en verflauwen oevers"
C24: A | D24: Grondwerk
C25: A.1 | D25: Ontgraven | E25: 11600 | F25: m3 | G25: 1 | H25: EUR/m3 | I25: =E25*G25 -> 11600
C26: A.2 | D26: Transport intern | E26: 11600 | F26: m3 | G26: 1 | H26: EUR/m3 | I26: =E26*G26 -> 11600
C27: A.3 | D27: Afvoer grond
C28: A.3.1 | D28: Afvoer NT | E28: 7300 | F28: m3 | G28: 1 | H28: EUR/m3 | I28: =E28*G28 -> 7300
C29: A.3.2 | D29: Afvoer overig | E29: 4300 | F29: m3 | G29: 1 | H29: EUR/m3 | I29: =E29*G29 -> 4300
C30: A.4 | D30: Aanbrengen grond | E30: 3000 | F30: m3 | G30: 1 | H30: EUR/m3 | I30: =E30*G30 -> 3000
C31: B | D31: Steenwerk
C32: B.1 | D32: Opnemen bestorting | E32: 3100 | F32: m3 | G32: 1 | H32: EUR/m3 | I32: =E32*G32 -> 3100
C33: B.2 | D33: Transport intern | E33: 3100 | F33: m3 | G33: 1 | H33: EUR/m3 | I33: =E33*G33 -> 3100
C34: B.3 | D34: Afvoer steen | E34: 3100 | F34: m3 | G34: 1 | H34: EUR/m3 | I34: =E34*G34 -> 3100
C35: B.4 | D35: Leveren & aanbrengen steen | E35: 1400 | F35: m3 | G35: 1 | H35: EUR/m3 | I35: =E35*G35 -> 1400
D37: KRW-maatregel 3 "Verflauwen oevers"
C38: A | D38: Grondwerk
C39: A.1 | D39: Ontgraven | E39: 400 | F39: m3 | G39: 1 | H39: EUR/m3 | I39: =E39*G39 -> 400
C40: A.2 | D40: Transport intern | E40: 400 | F40: m3 | G40: 1 | H40: EUR/m3 | I40: =E40*G40 -> 400
C41: A.3 | D41: Afvoer grond
C42: A.3.1 | D42: Afvoer NT | E42: 150 | F42: m3 | G42: 1 | H42: EUR/m3 | I42: =E42*G42 -> 150
C43: A.3.2 | D43: Afvoer overig | E43: 210 | F43: m3 | G43: 1 | H43: EUR/m3 | I43: =E43*G43 -> 210
C44: A.4 | D44: Aanbrengen grond | E44: 100 | F44: m3 | G44: 1 | H44: EUR/m3 | I44: =E44*G44 -> 100
C45: B | D45: Steenwerk
C46: B.1 | D46: Opnemen bestorting | E46: 400 | F46: m3 | G46: 1 | H46: EUR/m3 | I46: =E46*G46 -> 400
...

Sheet ORBA
D3: Hoeveelheid | E3: Eenheidsprijs | F3: Totaal
C4: Opstartfase | E4: 1 | F4: =E4 -> 1
C5: Kosten na de opstartfase, per periode van 4 weken | D5: 24 | E5: 1 | F5: =D5*E5 -> 24
E7: Subtotaal | F7: =F4+F5 -> 25
