Workbook
Name Personnel_Codes: 'Annex 3 - CRepGT'!$B$11:$B$20
Name Personnel_Codes: #REF!
Name Personnel_Names: 'Annex 3 - CRepGT'!$C$11:$C$20
Name Personnel_Names: #REF!
Name Personnel_Scores: 'Annex 3 - CRepGT'!#REF!
Name Personnel_Scores: #REF!
Name Task: 'Annex 3 - CRepGT'!#REF!
Name Task: #REF!
Name Vessel_A: #REF!
Name Vessel_B: #REF!
Name Vessel_C: #REF!

Sheet Annex 3 - CRepGT
B2: Annex 3 - Qualifications key personnel
B4: Tender: | E4: Client Representatives Geophysical survey
B5: Tenderer: | E5: [Name Tenderer]
B7: INSTRUCTIONS: Tenderer shall propose 10 candidates for the position of Client Representative. Tenderer to provide for each candidate the name, education level, number of offshore Geophysical Survey projects executed as a Client Representative, details of the most recent experiences and the number of years worked as a Client Representative. The education, number of projects and number of years (columns E, G and J) shall be selected from the drop-down lists; the candidate's name and the details about the most recent experiences (columns C and H) shall be entered manually. Candidates in this Annex 3 will be evaluated based on the score that is automatically assigned. Each Client Representatives shall score a minimum percentage of 70% on average (last column). Reference is made to the Tender Document. Please ensure that all information provided in Annex 3 is supported by the information in the CVs. In case the information from the CVs does not align with the information provided in Annex 3, the tender will be excluded. The Tendering Authority (RVO) will check the information provided in Annex 3 and CVs for consistency. As such, please do not enhance the information presented here, to achieve a higher scoring for the offered Client Representative candidates. Examples on how to complete this Annex is provided in blue (in lines A.1 and A.2). You can delete and replace the provided information for the examples provided for A.1 and A.2. Tasks provided in black are fixed and need to be provided as minimal by the Tenderer.
C9: Name | D9: Qualification per Lot | E9: Relevant education | G9: Number of offshore geotechnical soil investigations executed as a client representative | J9: Number of years working as a client representative | L9: Score for individual OCR
E10: Score | F10: Highest attained degree (relevant education only) | G10: Score | H10: No. of projects | I10: Names of the last executed projects and period where offered personell was working in the role as client representative. | J10: Score | K10: No. of years
B11: A.1 | C11: =" Enter name "&B11 -> Enter name A.1 | D11: Please select from the list below | E11: =IF(ISBLANK(F11),"",INDEX(INFO!$A$2:$B$7,MATCH(F11,INFO!$A$2:$A$7,FALSE),2)) -> No score | F11: Please select from the list below | G11: =IF(ISBLANK(H11),"",INDEX(INFO!$A$11:$B$19,MATCH(H11,INFO!$A$11:$A$19,FALSE),2)) -> No score | H11: Please select from the list below | I11: (E.g. Geophysical Survey Client Representative, Client X/ Windfarm X, 2022-2023; Client Y/ Windfarm Y, 2020-2021; Client Z/ Windfarm Z, 2022-ongoing) | J11: =IF(ISBLANK(K11),"",INDEX(INFO!$A$22:$B$28,MATCH(K11,INFO!$A$22:$A$28,FALSE),2)) -> No score | K11: Please select from the list below | L11: =AVERAGE(E11,G11,J11) -> #DIV/0!
B12: A.2 | C12: =" Enter name "&B12 -> Enter name A.2 | D12: Please select from the list below | E12: =IF(ISBLANK(F12),"",INDEX(INFO!$A$2:$B$7,MATCH(F12,INFO!$A$2:$A$7,FALSE),2)) -> No score | F12: Please select from the list below | G12: =IF(ISBLANK(H12),"",INDEX(INFO!$A$11:$B$19,MATCH(H12,INFO!$A$11:$A$19,FALSE),2)) -> No score | H12: Please select from the list below | I12: (E.g. Geophysical Survey Client Representative, Client X/ Windfarm X, 2022-2023; Client Y/ Windfarm Y, 2020-2021; Client Z/ Windfarm Z, 2022-ongoing) | J12: =IF(ISBLANK(K12),"",INDEX(INFO!$A$22:$B$28,MATCH(K12,INFO!$A$22:$A$28,FALSE),2)) -> No score | K12: Please select from the list below | L12: =AVERAGE(E12,G12,J12) -> #DIV/0!
B13: A.3 | C13: =" Enter name "&B13 -> Enter name A.3 | D13: Please select from the list below | E13: =IF(ISBLANK(F13),"",INDEX(INFO!$A$2:$B$7,MATCH(F13,INFO!$A$2:$A$7,FALSE),2)) -> No score | F13: Please select from the list below | G13: =IF(ISBLANK(H13),"",INDEX(INFO!$A$11:$B$19,MATCH(H13,INFO!$A$11:$A$19,FALSE),2)) -> No score | H13: Please select from the list below | J13: =IF(ISBLANK(K13),"",INDEX(INFO!$A$22:$B$28,MATCH(K13,INFO!$A$22:$A$28,FALSE),2)) -> No score | K13: Please select from the list below | L13: =AVERAGE(E13,G13,J13) -> #DIV/0!
B14: A.4 | C14: =" Enter name "&B14 -> Enter name A.4 | D14: Please select from the list below | E14: =IF(ISBLANK(F14),"",INDEX(INFO!$A$2:$B$7,MATCH(F14,INFO!$A$2:$A$7,FALSE),2)) -> No score | F14: Please select from the list below | G14: =IF(ISBLANK(H14),"",INDEX(INFO!$A$11:$B$19,MATCH(H14,INFO!$A$11:$A$19,FALSE),2)) -> No score | H14: Please select from the list below | J14: =IF(ISBLANK(K14),"",INDEX(INFO!$A$22:$B$28,MATCH(K14,INFO!$A$22:$A$28,FALSE),2)) -> No score | K14: Please select from the list below | L14: =AVERAGE(E14,G14,J14) -> #DIV/0!
B15: A.5 | C15: =" Enter name "&B15 -> Enter name A.5 | D15: Please select from the list below | E15: =IF(ISBLANK(F15),"",INDEX(INFO!$A$2:$B$7,MATCH(F15,INFO!$A$2:$A$7,FALSE),2)) -> No score | F15: Please select from the list below | G15: =IF(ISBLANK(H15),"",INDEX(INFO!$A$11:$B$19,MATCH(H15,INFO!$A$11:$A$19,FALSE),2)) -> No score | H15: Please select from the list below | J15: =IF(ISBLANK(K15),"",INDEX(INFO!$A$22:$B$28,MATCH(K15,INFO!$A$22:$A$28,FALSE),2)) -> No score | K15: Please select from the list below | L15: =AVERAGE(E15,G15,J15) -> #DIV/0!
B16: A.6 | C16: =" Enter name "&B16 -> Enter name A.6 | D16: Please select from the list below | E16: =IF(ISBLANK(F16),"",INDEX(INFO!$A$2:$B$7,MATCH(F16,INFO!$A$2:$A$7,FALSE),2)) -> No score | F16: Please select from the list below | G16: =IF(ISBLANK(H16),"",INDEX(INFO!$A$11:$B$19,MATCH(H16,INFO!$A$11:$A$19,FALSE),2)) -> No score | H16: Please select from the list below | J16: =IF(ISBLANK(K16),"",INDEX(INFO!$A$22:$B$28,MATCH(K16,INFO!$A$22:$A$28,FALSE),2)) -> No score | K16: Please select from the list below | L16: =AVERAGE(E16,G16,J16) -> #DIV/0!
B17: A.7 | C17: =" Enter name "&B17 -> Enter name A.7 | D17: Please select from the list below | E17: =IF(ISBLANK(F17),"",INDEX(INFO!$A$2:$B$7,MATCH(F17,INFO!$A$2:$A$7,FALSE),2)) -> No score | F17: Please select from the list below | G17: =IF(ISBLANK(H17),"",INDEX(INFO!$A$11:$B$19,MATCH(H17,INFO!$A$11:$A$19,FALSE),2)) -> No score | H17: Please select from the list below | J17: =IF(ISBLANK(K17),"",INDEX(INFO!$A$22:$B$28,MATCH(K17,INFO!$A$22:$A$28,FALSE),2)) -> No score | K17: Please select from the list below | L17: =AVERAGE(E17,G17,J17) -> #DIV/0!
B18: A.8 | C18: =" Enter name "&B18 -> Enter name A.8 | D18: Please select from the list below | E18: =IF(ISBLANK(F18),"",INDEX(INFO!$A$2:$B$7,MATCH(F18,INFO!$A$2:$A$7,FALSE),2)) -> No score | F18: Please select from the list below | G18: =IF(ISBLANK(H18),"",INDEX(INFO!$A$11:$B$19,MATCH(H18,INFO!$A$11:$A$19,FALSE),2)) -> No score | H18: Please select from the list below | J18: =IF(ISBLANK(K18),"",INDEX(INFO!$A$22:$B$28,MATCH(K18,INFO!$A$22:$A$28,FALSE),2)) -> No score | K18: Please select from the list below | L18: =AVERAGE(E18,G18,J18) -> #DIV/0!
B19: A.9 | C19: =" Enter name "&B19 -> Enter name A.9 | D19: Please select from the list below | E19: =IF(ISBLANK(F19),"",INDEX(INFO!$A$2:$B$7,MATCH(F19,INFO!$A$2:$A$7,FALSE),2)) -> No score | F19: Please select from the list below | G19: =IF(ISBLANK(H19),"",INDEX(INFO!$A$11:$B$19,MATCH(H19,INFO!$A$11:$A$19,FALSE),2)) -> No score | H19: Please select from the list below | J19: =IF(ISBLANK(K19),"",INDEX(INFO!$A$22:$B$28,MATCH(K19,INFO!$A$22:$A$28,FALSE),2)) -> No score | K19: Please select from the list below | L19: =AVERAGE(E19,G19,J19) -> #DIV/0!
B20: A.10 | C20: =" Enter name "&B20 -> Enter name A.10 | D20: Please select from the list below | E20: =IF(ISBLANK(F20),"",INDEX(INFO!$A$2:$B$7,MATCH(F20,INFO!$A$2:$A$7,FALSE),2)) -> No score | F20: Please select from the list below | G20: =IF(ISBLANK(H20),"",INDEX(INFO!$A$11:$B$19,MATCH(H20,INFO!$A$11:$A$19,FALSE),2)) -> No score | H20: Please select from the list below | J20: =IF(ISBLANK(K20),"",INDEX(INFO!$A$22:$B$28,MATCH(K20,INFO!$A$22:$A$28,FALSE),2)) -> No score | K20: Please select from the list below | L20: =AVERAGE(E20,G20,J20) -> #DIV/0!

Sheet INFO
A1: Eduction level | B1: Score attributed to eduction level
A2: Please select from the list below | B2: No score
A3: Doctoral degree (PhD) | B3: 100
A4: Master degree (MSc) | B4: 90
A5: Bachelor degree (BSc) | B5: 80
A6: Associate degree (AS, AAS, AAT) | B6: 70
A7: Pre-university education (FDEng, HNC, CertHE) | B7: 60
A10: Number of relevant soil investigations executed | B10: Score attributed to experience with Geotechnical projects
A11: Please select from the list below | B11: No score
A12: >30 projects | B12: 100
A13: 26-30 projects | B13: 90
A14: 21-25 projects | B14: 80
A15: 16-20 projects | B15: 70
A16: 11-15 projects | B16: 60
A17: 6-10 projects | B17: 50
A18: 3-5 projects | B18: 35
A21: No. of years working in similair role as appointed in this project | B21: Score attributed to experience with role
A22: Please select from the list below | B22: No score
A23: >15 yrs | B23: 100
A24: 13-15 yrs | B24: 90
A25: 10-12 yrs | B25: 80
A26: 7-9 yrs | B26: 70
A27: 4-6 yrs | B27: 60
A28: 2-3 yrs | B28: 50
