Workbook
Name _Hlk39130726: '1-Uitgangspunten'!$A$16
Name _Toc106114456: '1-Uitgangspunten'!$A$2
Name _Toc106114457: '1-Uitgangspunten'!$A$5
Name _Toc106114458: '1-Uitgangspunten'!$A$9
Name _Toc106114459: '1-Uitgangspunten'!$A$13
Name _Toc518445846: '1-Uitgangspunten'!$A$17
Name berichtok: '2-Kosten per locatie'!berichtok
Name berichtok: '2-Kosten per locatie'!berichtok
Name berichtoke: '2-Kosten per locatie'!berichtoke
Name berichtoke: '2-Kosten per locatie'!berichtoke
Name berichtoke1: '2-Kosten per locatie'!berichtoke1
Name berichtoke1: '2-Kosten per locatie'!berichtoke1
Name Berkt: '2-Kosten per locatie'!Berkt
Name Berkt: '2-Kosten per locatie'!Berkt
Name einde: '2-Kosten per locatie'!einde
Name einde: '2-Kosten per locatie'!einde
Name Gan_R: '2-Kosten per locatie'!Gan_R
Name Gan_R: '2-Kosten per locatie'!Gan_R

Sheet 1-Uitgangspunten
A1: Naam opdrachtgever | B1: ='2-Kosten per locatie'!B3 -> VrZW en GGDZW
A2: Calculatie onderdeel | B2: =MID(CELL("bestandsnaam",$B$11),SEARCH("]",CELL("bestandsnaam",$B$11),1)+1,256) -> 1-Uitgangspunten
A3: Gebouw/plaats | B3: ='2-Kosten per locatie'!B5 -> Diverse
A4: Referentie nummer | B4: ='2-Kosten per locatie'!B6 -> VrZW/GGDZW-EA-2027

Sheet 2-Kosten per locatie
A1: Invoervelden | E1: Minimale taakgrootte | J1: EINDTOTAAL KOSTEN PER JAAR EXCLUSIEF BTW INSCHRIJVINGSBEDRAG | P1: =V67 -> 0
E2: 0 | F2: uur per dag
A3: Naam opdrachtgever | B3: VrZW en GGDZW
A4: Calculatie onderdeel | B4: =MID(CELL("bestandsnaam",$B$13),SEARCH("]",CELL("bestandsnaam",$B$13),1)+1,256) -> 2-Kosten per locatie | E4: Toezicht percentage
A5: Gebouw/plaats | B5: Diverse | E5: 0 | F5: per prod. Uur | J5: MAXIMALE BOVENGRENS PLAFONDBEDRAG INSCHRIJVINGSBEDRAG | P5: 550000
A6: Referentie nummer | B6: VrZW/GGDZW-EA-2027 | J6: MAXIMALE ONDERGRENS INSCHRIJVINGSBEDRAG | P6: 495000
A7: Naam dienstverlener
A8: Prijspeil | B8: 46388 | J8: SUPPLETIEKOSTEN OVERNAME PERSONEEL* | P8: 0
A9: Versie | B9: Definitief
F13: PRODUCTIE UREN PER JAAR | H13: UREN OPSLAG MIN. TAAK PER JAAR | J13: TOEZICHTUREN PER JAAR | L13: KOSTEN PRODUCTIEVE UREN PER JAAR | O13: KOSTEN TOEZICHT UREN PER JAAR | R13: OVERIGE KOSTEN PER JAAR
A14: Locatie | B14: Totaal m2 | C14: Locatie factor | D14: Hoogste frequentie ma t/m vr | E14: Hoogste frequentie ma t/m vr naloop | F14: ma t/m vr | G14: ma t/m vr naloop | H14: Uren minimale taakgrootte ma t/m vrij | I14: Uren minimale taakgrootte ma t/m vrij naloop | J14: Toezicht uren per jaar ma t/m vr | K14: Toezicht uren per jaar ma t/m vr naloop | L14: Kosten productie per jaar ma t/m vr incl minimale taakgrootte | M14: Kosten productie per jaar ma t/m vr naloop incl minimale taakgrootte | N14: Totale kosten productie per jaar | O14: Kosten toezicht per jaar ma t/m vr | P14: Kosten toezicht per jaar ma t/m vr naloop | Q14: Totale kosten toezicht per jaar | R14: Kosten vloeronderhoud per jaar | S14: Kosten Additioneel per jaar | T14: Kosten sanitaire voorzieningen per jaar | U14: Kosten glasbewassing per jaar | V14: Totaal kosten per jaar excl. btw | W14: Totaal kosten per maand excl. btw | Y14: Gemiddelde prestatie norm
A15: Assendelft - Dorpsstraat (VRZW) | B15: =SUMIF('4-Basis ruimtestaat'!B:B,'2-Kosten per locatie'!A15,'4-Basis ruimtestaat'!I:I) -> 194.35 | C15: 1 | D15: =_xlfn.MAXIFS('4-Basis ruimtestaat'!K:K,'4-Basis ruimtestaat'!B:B,'2-Kosten per locatie'!A15) -> 52 | E15: 52 | F15: =SUMIF('4-Basis ruimtestaat'!B:B,'2-Kosten per locatie'!A15,'4-Basis ruimtestaat'!Q:Q) -> 31.525248 | G15: =SUMIF('4-Basis ruimtestaat'!B:B,'2-Kosten per locatie'!A15,'4-Basis ruimtestaat'!R:R) -> 0 | H15: =IF(F15<(D15*$E$2),D15*$E$2-F15,0) -> 0 | I15: =IF(G15<(E15*$E$2),E15*$E$2-G15,0) -> 0 | J15: =F15*$E$5 -> 0 | K15: =G15*$E$5 -> 0 | L15: ='6-Opbouw uurtarief productie'!$E$47*('2-Kosten per locatie'!F15+'2-Kosten per locatie'!H15) -> 0 | M15: ='6-Opbouw uurtarief productie'!$E$47*('2-Kosten per locatie'!G15+'2-Kosten per locatie'!I15) -> 0 | N15: =L15+M15 -> 0 | O15: =J15*'7-Opbouw uurtarief toezicht'!$E$47 -> 0 | P15: =K15*'7-Opbouw uurtarief toezicht'!$E$47 -> 0 | Q15: =O15+P15 -> 0 | R15: =SUMIF('11-Vloeronderhoud'!A:A,'2-Kosten per locatie'!A15,'11-Vloeronderhoud'!H:H) -> 0 | S15: =SUMIF('8-Additionele kosten'!A:A,'2-Kosten per locatie'!A15,'8-Additionele kosten'!H:H) -> 0 | T15: =SUMIF('12-Sanitaire voorzieningen'!A:A,'2-Kosten per locatie'!A15,'12-Sanitaire voorzieningen'!R:R) -> 0 | U15: =SUMIF('10-Glasbewassing'!A:A,'2-Kosten per locatie'!A15,'10-Glasbewassing'!H:H) -> 0 | V15: =N15+Q15+R15+S15+U15+T15 -> 0 | W15: =V15/12 -> 0 | Y15: =SUMIF('4-Basis ruimtestaat'!B:B,'2-Kosten per locatie'!A15,'4-Basis ruimtestaat'!X:X) -> 10106.2 | Z15: =Y15/(F15+H15) -> 320.5748
A16: Broek in Waterland - Eilandweg (VRZW) | B16: =SUMIF('4-Basis ruimtestaat'!B:B,'2-Kosten per locatie'!A16,'4-Basis ruimtestaat'!I:I) -> 220 | C16: 1 | D16: =_xlfn.MAXIFS('4-Basis ruimtestaat'!K:K,'4-Basis ruimtestaat'!B:B,'2-Kosten per locatie'!A16) -> 52 | E16: 52 | F16: =SUMIF('4-Basis ruimtestaat'!B:B,'2-Kosten per locatie'!A16,'4-Basis ruimtestaat'!Q:Q) -> 37.265233 | G16: =SUMIF('4-Basis ruimtestaat'!B:B,'2-Kosten per locatie'!A16,'4-Basis ruimtestaat'!R:R) -> 0 | H16: =IF(F16<(D16*$E$2),D16*$E$2-F16,0) -> 0 | I16: =IF(G16<(E16*$E$2),E16*$E$2-G16,0) -> 0 | J16: =F16*$E$5 -> 0 | K16: =G16*$E$5 -> 0 | L16: ='6-Opbouw uurtarief productie'!$E$47*('2-Kosten per locatie'!F16+'2-Kosten per locatie'!H16) -> 0 | M16: ='6-Opbouw uurtarief productie'!$E$47*('2-Kosten per locatie'!G16+'2-Kosten per locatie'!I16) -> 0 | N16: =L16+M16 -> 0 | O16: =J16*'7-Opbouw uurtarief toezicht'!$E$47 -> 0 | P16: =K16*'7-Opbouw uurtarief toezicht'!$E$47 -> 0 | Q16: =O16+P16 -> 0 | R16: =SUMIF('11-Vloeronderhoud'!A:A,'2-Kosten per locatie'!A16,'11-Vloeronderhoud'!H:H) -> 0 | S16: =SUMIF('8-Additionele kosten'!A:A,'2-Kosten per locatie'!A16,'8-Additionele kosten'!H:H) -> 0 | T16: =SUMIF('12-Sanitaire voorzieningen'!A:A,'2-Kosten per locatie'!A16,'12-Sanitaire voorzieningen'!R:R) -> 0 | U16: =SUMIF('10-Glasbewassing'!A:A,'2-Kosten per locatie'!A16,'10-Glasbewassing'!H:H) -> 0 | V16: =N16+Q16+R16+S16+U16+T16 -> 0 | W16: =V16/12 -> 0 | Y16: =SUMIF('4-Basis ruimtestaat'!B:B,'2-Kosten per locatie'!A16,'4-Basis ruimtestaat'!X:X) -> 7800 | Z16: =Y16/(F16+H16) -> 209.31038
A17: Edam-Volendam - Dijkgraaf Poschlaan (VRZW) | B17: =SUMIF('4-Basis ruimtestaat'!B:B,'2-Kosten per locatie'!A17,'4-Basis ruimtestaat'!I:I) -> 103.8 | C17: 1 | D17: 52 | E17: 52 | F17: =SUMIF('4-Basis ruimtestaat'!B:B,'2-Kosten per locatie'!A17,'4-Basis ruimtestaat'!Q:Q) -> 40.196281 | G17: =SUMIF('4-Basis ruimtestaat'!B:B,'2-Kosten per locatie'!A17,'4-Basis ruimtestaat'!R:R) -> 0 | H17: =IF(F17<(D17*$E$2),D17*$E$2-F17,0) -> 0 | I17: =IF(G17<(E17*$E$2),E17*$E$2-G17,0) -> 0 | J17: =F17*$E$5 -> 0 | K17: =G17*$E$5 -> 0 | L17: ='6-Opbouw uurtarief productie'!$E$47*('2-Kosten per locatie'!F17+'2-Kosten per locatie'!H17) -> 0 | M17: ='6-Opbouw uurtarief productie'!$E$47*('2-Kosten per locatie'!G17+'2-Kosten per locatie'!I17) -> 0 | N17: =L17+M17 -> 0 | O17: =J17*'7-Opbouw uurtarief toezicht'!$E$47 -> 0 | P17: =K17*'7-Opbouw uurtarief toezicht'!$E$47 -> 0 | Q17: =O17+P17 -> 0 | R17: =SUMIF('11-Vloeronderhoud'!A:A,'2-Kosten per locatie'!A17,'11-Vloeronderhoud'!H:H) -> 0 | S17: =SUMIF('8-Additionele kosten'!A:A,'2-Kosten per locatie'!A17,'8-Additionele kosten'!H:H) -> 0 | T17: =SUMIF('12-Sanitaire voorzieningen'!A:A,'2-Kosten per locatie'!A17,'12-Sanitaire voorzieningen'!R:R) -> 0 | U17: =SUMIF('10-Glasbewassing'!A:A,'2-Kosten per locatie'!A17,'10-Glasbewassing'!H:H) -> 0 | V17: =N17+Q17+R17+S17+U17+T17 -> 0 | W17: =V17/12 -> 0 | Y17: =SUMIF('4-Basis ruimtestaat'!B:B,'2-Kosten per locatie'!A17,'4-Basis ruimtestaat'!X:X) -> 5073.6 | Z17: =Y17/(F17+H17) -> 126.22063
A18: Ilpendam - Nijverheidsweg (VRZW) | B18: =SUMIF('4-Basis ruimtestaat'!B:B,'2-Kosten per locatie'!A18,'4-Basis ruimtestaat'!I:I) -> 100 | C18: 1 | D18: =_xlfn.MAXIFS('4-Basis ruimtestaat'!K:K,'4-Basis ruimtestaat'!B:B,'2-Kosten per locatie'!A18) -> 52 | E18: 52 | F18: =SUMIF('4-Basis ruimtestaat'!B:B,'2-Kosten per locatie'!A18,'4-Basis ruimtestaat'!Q:Q) -> 32.412361 | G18: =SUMIF('4-Basis ruimtestaat'!B:B,'2-Kosten per locatie'!A18,'4-Basis ruimtestaat'!R:R) -> 0 | H18: =IF(F18<(D18*$E$2),D18*$E$2-F18,0) -> 0 | I18: =IF(G18<(E18*$E$2),E18*$E$2-G18,0) -> 0 | J18: =F18*$E$5 -> 0 | K18: =G18*$E$5 -> 0 | L18: ='6-Opbouw uurtarief productie'!$E$47*('2-Kosten per locatie'!F18+'2-Kosten per locatie'!H18) -> 0 | M18: ='6-Opbouw uurtarief productie'!$E$47*('2-Kosten per locatie'!G18+'2-Kosten per locatie'!I18) -> 0 | N18: =L18+M18 -> 0 | O18: =J18*'7-Opbouw uurtarief toezicht'!$E$47 -> 0 | P18: =K18*'7-Opbouw uurtarief toezicht'!$E$47 -> 0 | Q18: =O18+P18 -> 0 | R18: =SUMIF('11-Vloeronderhoud'!A:A,'2-Kosten per locatie'!A18,'11-Vloeronderhoud'!H:H) -> 0 | S18: =SUMIF('8-Additionele kosten'!A:A,'2-Kosten per locatie'!A18,'8-Additionele kosten'!H:H) -> 0 | T18: =SUMIF('12-Sanitaire voorzieningen'!A:A,'2-Kosten per locatie'!A18,'12-Sanitaire voorzieningen'!R:R) -> 0 | U18: =SUMIF('10-Glasbewassing'!A:A,'2-Kosten per locatie'!A18,'10-Glasbewassing'!H:H) -> 0 | V18: =N18+Q18+R18+S18+U18+T18 -> 0 | W18: =V18/12 -> 0 | Y18: =SUMIF('4-Basis ruimtestaat'!B:B,'2-Kosten per locatie'!A18,'4-Basis ruimtestaat'!X:X) -> 5080 | Z18: =Y18/(F18+H18) -> 156.73033
A19: Krommenie - Kervelstraat (VRZW) | B19: =SUMIF('4-Basis ruimtestaat'!B:B,'2-Kosten per locatie'!A19,'4-Basis ruimtestaat'!I:I) -> 233.78 | C19: 1 | D19: ='2-Kosten per locatie'!D18 -> 52 | E19: 52 | F19: =SUMIF('4-Basis ruimtestaat'!B:B,'2-Kosten per locatie'!A19,'4-Basis ruimtestaat'!Q:Q) -> 59.019133 | G19: =SUMIF('4-Basis ruimtestaat'!B:B,'2-Kosten per locatie'!A19,'4-Basis ruimtestaat'!R:R) -> 0 | H19: =IF(F19<(D19*$E$2),D19*$E$2-F19,0) -> 0 | I19: =IF(G19<(E19*$E$2),E19*$E$2-G19,0) -> 0 | J19: =F19*$E$5 -> 0 | K19: =G19*$E$5 -> 0 | L19: ='6-Opbouw uurtarief productie'!$E$47*('2-Kosten per locatie'!F19+'2-Kosten per locatie'!H19) -> 0 | M19: ='6-Opbouw uurtarief productie'!$E$47*('2-Kosten per locatie'!G19+'2-Kosten per locatie'!I19) -> 0 | N19: =L19+M19 -> 0 | O19: =J19*'7-Opbouw uurtarief toezicht'!$E$47 -> 0 | P19: =K19*'7-Opbouw uurtarief toezicht'!$E$47 -> 0 | Q19: =O19+P19 -> 0 | R19: =SUMIF('11-Vloeronderhoud'!A:A,'2-Kosten per locatie'!A19,'11-Vloeronderhoud'!H:H) -> 0 | S19: =SUMIF('8-Additionele kosten'!A:A,'2-Kosten per locatie'!A19,'8-Additionele kosten'!H:H) -> 0 | T19: =SUMIF('12-Sanitaire voorzieningen'!A:A,'2-Kosten per locatie'!A19,'12-Sanitaire voorzieningen'!R:R) -> 0 | U19: =SUMIF('10-Glasbewassing'!A:A,'2-Kosten per locatie'!A19,'10-Glasbewassing'!H:H) -> 0 | V19: =N19+Q19+R19+S19+U19+T19 -> 0 | W19: =V19/12 -> 0 | Y19: =SUMIF('4-Basis ruimtestaat'!B:B,'2-Kosten per locatie'!A19,'4-Basis ruimtestaat'!X:X) -> 12156.56 | Z19: =Y19/(F19+H19) -> 205.97659
A20: Edam- Volendam - Kwadijk (VRZW) | B20: =SUMIF('4-Basis ruimtestaat'!B:B,'2-Kosten per locatie'!A20,'4-Basis ruimtestaat'!I:I) -> 334.4 | C20: 1 | D20: 52 | E20: 52 | F20: =SUMIF('4-Basis ruimtestaat'!B:B,'2-Kosten per locatie'!A20,'4-Basis ruimtestaat'!Q:Q) -> 65.496499 | G20: =SUMIF('4-Basis ruimtestaat'!B:B,'2-Kosten per locatie'!A20,'4-Basis ruimtestaat'!R:R) -> 0 | H20: =IF(F20<(D20*$E$2),D20*$E$2-F20,0) -> 0 | I20: =IF(G20<(E20*$E$2),E20*$E$2-G20,0) -> 0 | J20: =F20*$E$5 -> 0 | K20: =G20*$E$5 -> 0 | L20: ='6-Opbouw uurtarief productie'!$E$47*('2-Kosten per locatie'!F20+'2-Kosten per locatie'!H20) -> 0 | M20: ='6-Opbouw uurtarief productie'!$E$47*('2-Kosten per locatie'!G20+'2-Kosten per locatie'!I20) -> 0 | N20: =L20+M20 -> 0 | O20: =J20*'7-Opbouw uurtarief toezicht'!$E$47 -> 0 | P20: =K20*'7-Opbouw uurtarief toezicht'!$E$47 -> 0 | Q20: =O20+P20 -> 0 | R20: =SUMIF('11-Vloeronderhoud'!A:A,'2-Kosten per locatie'!A20,'11-Vloeronderhoud'!H:H) -> 0 | S20: =SUMIF('8-Additionele kosten'!A:A,'2-Kosten per locatie'!A20,'8-Additionele kosten'!H:H) -> 0 | T20: =SUMIF('12-Sanitaire voorzieningen'!A:A,'2-Kosten per locatie'!A20,'12-Sanitaire voorzieningen'!R:R) -> 0 | U20: =SUMIF('10-Glasbewassing'!A:A,'2-Kosten per locatie'!A20,'10-Glasbewassing'!H:H) -> 0 | V20: =N20+Q20+R20+S20+U20+T20 -> 0 | W20: =V20/12 -> 0 | Y20: =SUMIF('4-Basis ruimtestaat'!B:B,'2-Kosten per locatie'!A20,'4-Basis ruimtestaat'!X:X) -> 13508.8 | Z20: =Y20/(F20+H20) -> 206.25224
A21: Landsmeer - Fuutstraat (VRZW) | B21: =SUMIF('4-Basis ruimtestaat'!B:B,'2-Kosten per locatie'!A21,'4-Basis ruimtestaat'!I:I) -> 99 | C21: 1 | D21: =_xlfn.MAXIFS('4-Basis ruimtestaat'!K:K,'4-Basis ruimtestaat'!B:B,'2-Kosten per locatie'!A21) -> 52 | E21: 52 | F21: =SUMIF('4-Basis ruimtestaat'!B:B,'2-Kosten per locatie'!A21,'4-Basis ruimtestaat'!Q:Q) -> 31.046476 | G21: =SUMIF('4-Basis ruimtestaat'!B:B,'2-Kosten per locatie'!A21,'4-Basis ruimtestaat'!R:R) -> 0 | H21: =IF(F21<(D21*$E$2),D21*$E$2-F21,0) -> 0 | I21: =IF(G21<(E21*$E$2),E21*$E$2-G21,0) -> 0 | J21: =F21*$E$5 -> 0 | K21: =G21*$E$5 -> 0 | L21: ='6-Opbouw uurtarief productie'!$E$47*('2-Kosten per locatie'!F21+'2-Kosten per locatie'!H21) -> 0 | M21: ='6-Opbouw uurtarief productie'!$E$47*('2-Kosten per locatie'!G21+'2-Kosten per locatie'!I21) -> 0 | N21: =L21+M21 -> 0 | O21: =J21*'7-Opbouw uurtarief toezicht'!$E$47 -> 0 | P21: =K21*'7-Opbouw uurtarief toezicht'!$E$47 -> 0 | Q21: =O21+P21 -> 0 | R21: =SUMIF('11-Vloeronderhoud'!A:A,'2-Kosten per locatie'!A21,'11-Vloeronderhoud'!H:H) -> 0 | S21: =SUMIF('8-Additionele kosten'!A:A,'2-Kosten per locatie'!A21,'8-Additionele kosten'!H:H) -> 0 | T21: =SUMIF('12-Sanitaire voorzieningen'!A:A,'2-Kosten per locatie'!A21,'12-Sanitaire voorzieningen'!R:R) -> 0 | U21: =SUMIF('10-Glasbewassing'!A:A,'2-Kosten per locatie'!A21,'10-Glasbewassing'!H:H) -> 0 | V21: =N21+Q21+R21+S21+U21+T21 -> 0 | W21: =V21/12 -> 0 | Y21: =SUMIF('4-Basis ruimtestaat'!B:B,'2-Kosten per locatie'!A21,'4-Basis ruimtestaat'!X:X) -> 5148 | Z21: =Y21/(F21+H21) -> 165.81592
A22: Marken - Buurterstraat (VRZW) | B22: =SUMIF('4-Basis ruimtestaat'!B:B,'2-Kosten per locatie'!A22,'4-Basis ruimtestaat'!I:I) -> 126 | C22: 1 | D22: =_xlfn.MAXIFS('4-Basis ruimtestaat'!K:K,'4-Basis ruimtestaat'!B:B,'2-Kosten per locatie'!A22) -> 52 | E22: 52 | F22: =SUMIF('4-Basis ruimtestaat'!B:B,'2-Kosten per locatie'!A22,'4-Basis ruimtestaat'!Q:Q) -> 58.174677 | G22: =SUMIF('4-Basis ruimtestaat'!B:B,'2-Kosten per locatie'!A22,'4-Basis ruimtestaat'!R:R) -> 0 | H22: =IF(F22<(D22*$E$2),D22*$E$2-F22,0) -> 0 | I22: =IF(G22<(E22*$E$2),E22*$E$2-G22,0) -> 0 | J22: =F22*$E$5 -> 0 | K22: =G22*$E$5 -> 0 | L22: ='6-Opbouw uurtarief productie'!$E$47*('2-Kosten per locatie'!F22+'2-Kosten per locatie'!H22) -> 0 | M22: ='6-Opbouw uurtarief productie'!$E$47*('2-Kosten per locatie'!G22+'2-Kosten per locatie'!I22) -> 0 | N22: =L22+M22 -> 0 | O22: =J22*'7-Opbouw uurtarief toezicht'!$E$47 -> 0 | P22: =K22*'7-Opbouw uurtarief toezicht'!$E$47 -> 0 | Q22: =O22+P22 -> 0 | R22: =SUMIF('11-Vloeronderhoud'!A:A,'2-Kosten per locatie'!A22,'11-Vloeronderhoud'!H:H) -> 0 | S22: =SUMIF('8-Additionele kosten'!A:A,'2-Kosten per locatie'!A22,'8-Additionele kosten'!H:H) -> 0 | T22: =SUMIF('12-Sanitaire voorzieningen'!A:A,'2-Kosten per locatie'!A22,'12-Sanitaire voorzieningen'!R:R) -> 0 | U22: =SUMIF('10-Glasbewassing'!A:A,'2-Kosten per locatie'!A22,'10-Glasbewassing'!H:H) -> 0 | V22: =N22+Q22+R22+S22+U22+T22 -> 0 | W22: =V22/12 -> 0 | Y22: =SUMIF('4-Basis ruimtestaat'!B:B,'2-Kosten per locatie'!A22,'4-Basis ruimtestaat'!X:X) -> 6232 | Z22: =Y22/(F22+H22) -> 107.12565
A23: Middenbeemster - Klaas Hogentoornlaan (VRZW) | B23: =SUMIF('4-Basis ruimtestaat'!B:B,'2-Kosten per locatie'!A23,'4-Basis ruimtestaat'!I:I) -> 449 | C23: 1 | D23: =_xlfn.MAXIFS('4-Basis ruimtestaat'!K:K,'4-Basis ruimtestaat'!B:B,'2-Kosten per locatie'!A23) -> 52 | E23: 52 | F23: =SUMIF('4-Basis ruimtestaat'!B:B,'2-Kosten per locatie'!A23,'4-Basis ruimtestaat'!Q:Q) -> 45.532491 | G23: =SUMIF('4-Basis ruimtestaat'!B:B,'2-Kosten per locatie'!A23,'4-Basis ruimtestaat'!R:R) -> 0 | H23: =IF(F23<(D23*$E$2),D23*$E$2-F23,0) -> 0 | I23: =IF(G23<(E23*$E$2),E23*$E$2-G23,0) -> 0 | J23: =F23*$E$5 -> 0 | K23: =G23*$E$5 -> 0 | L23: ='6-Opbouw uurtarief productie'!$E$47*('2-Kosten per locatie'!F23+'2-Kosten per locatie'!H23) -> 0 | M23: ='6-Opbouw uurtarief productie'!$E$47*('2-Kosten per locatie'!G23+'2-Kosten per locatie'!I23) -> 0 | N23: =L23+M23 -> 0 | O23: =J23*'7-Opbouw uurtarief toezicht'!$E$47 -> 0 | P23: =K23*'7-Opbouw uurtarief toezicht'!$E$47 -> 0 | Q23: =O23+P23 -> 0 | R23: =SUMIF('11-Vloeronderhoud'!A:A,'2-Kosten per locatie'!A23,'11-Vloeronderhoud'!H:H) -> 0 | S23: =SUMIF('8-Additionele kosten'!A:A,'2-Kosten per locatie'!A23,'8-Additionele kosten'!H:H) -> 0 | T23: =SUMIF('12-Sanitaire voorzieningen'!A:A,'2-Kosten per locatie'!A23,'12-Sanitaire voorzieningen'!R:R) -> 0 | U23: =SUMIF('10-Glasbewassing'!A:A,'2-Kosten per locatie'!A23,'10-Glasbewassing'!H:H) -> 0 | V23: =N23+Q23+R23+S23+U23+T23 -> 0 | W23: =V23/12 -> 0 | Y23: =SUMIF('4-Basis ruimtestaat'!B:B,'2-Kosten per locatie'!A23,'4-Basis ruimtestaat'!X:X) -> 8504 | Z23: =Y23/(F23+H23) -> 186.76773
A24: Monnickendam - De Werf (VRZW) | B24: =SUMIF('4-Basis ruimtestaat'!B:B,'2-Kosten per locatie'!A24,'4-Basis ruimtestaat'!I:I) -> 570 | C24: 1 | D24: =_xlfn.MAXIFS('4-Basis ruimtestaat'!K:K,'4-Basis ruimtestaat'!B:B,'2-Kosten per locatie'!A24) -> 52 | E24: 52 | F24: =SUMIF('4-Basis ruimtestaat'!B:B,'2-Kosten per locatie'!A24,'4-Basis ruimtestaat'!Q:Q) -> 115.6 | G24: =SUMIF('4-Basis ruimtestaat'!B:B,'2-Kosten per locatie'!A24,'4-Basis ruimtestaat'!R:R) -> 0 | H24: =IF(F24<(D24*$E$2),D24*$E$2-F24,0) -> 0 | I24: =IF(G24<(E24*$E$2),E24*$E$2-G24,0) -> 0 | J24: =F24*$E$5 -> 0 | K24: =G24*$E$5 -> 0 | L24: ='6-Opbouw uurtarief productie'!$E$47*('2-Kosten per locatie'!F24+'2-Kosten per locatie'!H24) -> 0 | M24: ='6-Opbouw uurtarief productie'!$E$47*('2-Kosten per locatie'!G24+'2-Kosten per locatie'!I24) -> 0 | N24: =L24+M24 -> 0 | O24: =J24*'7-Opbouw uurtarief toezicht'!$E$47 -> 0 | P24: =K24*'7-Opbouw uurtarief toezicht'!$E$47 -> 0 | Q24: =O24+P24 -> 0 | R24: =SUMIF('11-Vloeronderhoud'!A:A,'2-Kosten per locatie'!A24,'11-Vloeronderhoud'!H:H) -> 0 | S24: =SUMIF('8-Additionele kosten'!A:A,'2-Kosten per locatie'!A24,'8-Additionele kosten'!H:H) -> 0 | T24: =SUMIF('12-Sanitaire voorzieningen'!A:A,'2-Kosten per locatie'!A24,'12-Sanitaire voorzieningen'!R:R) -> 0 | U24: =SUMIF('10-Glasbewassing'!A:A,'2-Kosten per locatie'!A24,'10-Glasbewassing'!H:H) -> 0 | V24: =N24+Q24+R24+S24+U24+T24 -> 0 | W24: =V24/12 -> 0 | Y24: =SUMIF('4-Basis ruimtestaat'!B:B,'2-Kosten per locatie'!A24,'4-Basis ruimtestaat'!X:X) -> 17160 | Z24: =Y24/(F24+H24) -> 148.44291
A25: Oosthuizen - Hoornse Jaagweg (VRZW) | B25: =SUMIF('4-Basis ruimtestaat'!B:B,'2-Kosten per locatie'!A25,'4-Basis ruimtestaat'!I:I) -> 135 | C25: 1 | D25: =_xlfn.MAXIFS('4-Basis ruimtestaat'!K:K,'4-Basis ruimtestaat'!B:B,'2-Kosten per locatie'!A25) -> 52 | E25: 52 | F25: =SUMIF('4-Basis ruimtestaat'!B:B,'2-Kosten per locatie'!A25,'4-Basis ruimtestaat'!Q:Q) -> 49.560952 | G25: =SUMIF('4-Basis ruimtestaat'!B:B,'2-Kosten per locatie'!A25,'4-Basis ruimtestaat'!R:R) -> 0 | H25: =IF(F25<(D25*$E$2),D25*$E$2-F25,0) -> 0 | I25: =IF(G25<(E25*$E$2),E25*$E$2-G25,0) -> 0 | J25: =F25*$E$5 -> 0 | K25: =G25*$E$5 -> 0 | L25: ='6-Opbouw uurtarief productie'!$E$47*('2-Kosten per locatie'!F25+'2-Kosten per locatie'!H25) -> 0 | M25: ='6-Opbouw uurtarief productie'!$E$47*('2-Kosten per locatie'!G25+'2-Kosten per locatie'!I25) -> 0 | N25: =L25+M25 -> 0 | O25: =J25*'7-Opbouw uurtarief toezicht'!$E$47 -> 0 | P25: =K25*'7-Opbouw uurtarief toezicht'!$E$47 -> 0 | Q25: =O25+P25 -> 0 | R25: =SUMIF('11-Vloeronderhoud'!A:A,'2-Kosten per locatie'!A25,'11-Vloeronderhoud'!H:H) -> 0 | S25: =SUMIF('8-Additionele kosten'!A:A,'2-Kosten per locatie'!A25,'8-Additionele kosten'!H:H) -> 0 | T25: =SUMIF('12-Sanitaire voorzieningen'!A:A,'2-Kosten per locatie'!A25,'12-Sanitaire voorzieningen'!R:R) -> 0 | U25: =SUMIF('10-Glasbewassing'!A:A,'2-Kosten per locatie'!A25,'10-Glasbewassing'!H:H) -> 0 | V25: =N25+Q25+R25+S25+U25+T25 -> 0 | W25: =V25/12 -> 0 | Y25: =SUMIF('4-Basis ruimtestaat'!B:B,'2-Kosten per locatie'!A25,'4-Basis ruimtestaat'!X:X) -> 6968 | Z25: =Y25/(F25+H25) -> 140.59455
A26: Oostzaan - Kerkstraat (VRZW) | B26: =SUMIF('4-Basis ruimtestaat'!B:B,'2-Kosten per locatie'!A26,'4-Basis ruimtestaat'!I:I) -> 141.5 | C26: 1 | D26: =_xlfn.MAXIFS('4-Basis ruimtestaat'!K:K,'4-Basis ruimtestaat'!B:B,'2-Kosten per locatie'!A26) -> 52 | E26: 52 | F26: =SUMIF('4-Basis ruimtestaat'!B:B,'2-Kosten per locatie'!A26,'4-Basis ruimtestaat'!Q:Q) -> 54.803048 | G26: =SUMIF('4-Basis ruimtestaat'!B:B,'2-Kosten per locatie'!A26,'4-Basis ruimtestaat'!R:R) -> 0 | H26: =IF(F26<(D26*$E$2),D26*$E$2-F26,0) -> 0 | I26: =IF(G26<(E26*$E$2),E26*$E$2-G26,0) -> 0 | J26: =F26*$E$5 -> 0 | K26: =G26*$E$5 -> 0 | L26: ='6-Opbouw uurtarief productie'!$E$47*('2-Kosten per locatie'!F26+'2-Kosten per locatie'!H26) -> 0 | M26: ='6-Opbouw uurtarief productie'!$E$47*('2-Kosten per locatie'!G26+'2-Kosten per locatie'!I26) -> 0 | N26: =L26+M26 -> 0 | O26: =J26*'7-Opbouw uurtarief toezicht'!$E$47 -> 0 | P26: =K26*'7-Opbouw uurtarief toezicht'!$E$47 -> 0 | Q26: =O26+P26 -> 0 | R26: =SUMIF('11-Vloeronderhoud'!A:A,'2-Kosten per locatie'!A26,'11-Vloeronderhoud'!H:H) -> 0 | S26: =SUMIF('8-Additionele kosten'!A:A,'2-Kosten per locatie'!A26,'8-Additionele kosten'!H:H) -> 0 | T26: =SUMIF('12-Sanitaire voorzieningen'!A:A,'2-Kosten per locatie'!A26,'12-Sanitaire voorzieningen'!R:R) -> 0 | U26: =SUMIF('10-Glasbewassing'!A:A,'2-Kosten per locatie'!A26,'10-Glasbewassing'!H:H) -> 0 | V26: =N26+Q26+R26+S26+U26+T26 -> 0 | W26: =V26/12 -> 0 | Y26: =SUMIF('4-Basis ruimtestaat'!B:B,'2-Kosten per locatie'!A26,'4-Basis ruimtestaat'!X:X) -> 7254 | Z26: =Y26/(F26+H26) -> 132.3649
A27: Purmerend - Gorslaan (VRZW) | B27: =SUMIF('4-Basis ruimtestaat'!B:B,'2-Kosten per locatie'!A27,'4-Basis ruimtestaat'!I:I) -> 1886 | C27: 1 | D27: =_xlfn.MAXIFS('4-Basis ruimtestaat'!K:K,'4-Basis ruimtestaat'!B:B,'2-Kosten per locatie'!A27) -> 255 | E27: 255 | F27: =SUMIF('4-Basis ruimtestaat'!B:B,'2-Kosten per locatie'!A27,'4-Basis ruimtestaat'!Q:Q) -> 1125.0886 | G27: =SUMIF('4-Basis ruimtestaat'!B:B,'2-Kosten per locatie'!A27,'4-Basis ruimtestaat'!R:R) -> 0 | H27: =IF(F27<(D27*$E$2),D27*$E$2-F27,0) -> 0 | I27: =IF(G27<(E27*$E$2),E27*$E$2-G27,0) -> 0 | J27: =F27*$E$5 -> 0 | K27: =G27*$E$5 -> 0 | L27: ='6-Opbouw uurtarief productie'!$E$47*('2-Kosten per locatie'!F27+'2-Kosten per locatie'!H27) -> 0 | M27: ='6-Opbouw uurtarief productie'!$E$47*('2-Kosten per locatie'!G27+'2-Kosten per locatie'!I27) -> 0 | N27: =L27+M27 -> 0 | O27: =J27*'7-Opbouw uurtarief toezicht'!$E$47 -> 0 | P27: =K27*'7-Opbouw uurtarief toezicht'!$E$47 -> 0 | Q27: =O27+P27 -> 0 | R27: =SUMIF('11-Vloeronderhoud'!A:A,'2-Kosten per locatie'!A27,'11-Vloeronderhoud'!H:H) -> 0 | S27: =SUMIF('8-Additionele kosten'!A:A,'2-Kosten per locatie'!A27,'8-Additionele kosten'!H:H) -> 0 | T27: =SUMIF('12-Sanitaire voorzieningen'!A:A,'2-Kosten per locatie'!A27,'12-Sanitaire voorzieningen'!R:R) -> 0 | U27: =SUMIF('10-Glasbewassing'!A:A,'2-Kosten per locatie'!A27,'10-Glasbewassing'!H:H) -> 0 | V27: =N27+Q27+R27+S27+U27+T27 -> 0 | W27: =V27/12 -> 0 | Y27: =SUMIF('4-Basis ruimtestaat'!B:B,'2-Kosten per locatie'!A27,'4-Basis ruimtestaat'!X:X) -> 357810 | Z27: =Y27/(F27+H27) -> 318.02829
A28: Spijkerboor - Starnmeerdijk (VRZW) | B28: =SUMIF('4-Basis ruimtestaat'!B:B,'2-Kosten per locatie'!A28,'4-Basis ruimtestaat'!I:I) -> 104 | C28: 1 | D28: =_xlfn.MAXIFS('4-Basis ruimtestaat'!K:K,'4-Basis ruimtestaat'!B:B,'2-Kosten per locatie'!A28) -> 52 | E28: 52 | F28: =SUMIF('4-Basis ruimtestaat'!B:B,'2-Kosten per locatie'!A28,'4-Basis ruimtestaat'!Q:Q) -> 12.714887 | G28: =SUMIF('4-Basis ruimtestaat'!B:B,'2-Kosten per locatie'!A28,'4-Basis ruimtestaat'!R:R) -> 0 | H28: =IF(F28<(D28*$E$2),D28*$E$2-F28,0) -> 0 | I28: =IF(G28<(E28*$E$2),E28*$E$2-G28,0) -> 0 | J28: =F28*$E$5 -> 0 | K28: =G28*$E$5 -> 0 | L28: ='6-Opbouw uurtarief productie'!$E$47*('2-Kosten per locatie'!F28+'2-Kosten per locatie'!H28) -> 0 | M28: ='6-Opbouw uurtarief productie'!$E$47*('2-Kosten per locatie'!G28+'2-Kosten per locatie'!I28) -> 0 | N28: =L28+M28 -> 0 | O28: =J28*'7-Opbouw uurtarief toezicht'!$E$47 -> 0 | P28: =K28*'7-Opbouw uurtarief toezicht'!$E$47 -> 0 | Q28: =O28+P28 -> 0 | R28: =SUMIF('11-Vloeronderhoud'!A:A,'2-Kosten per locatie'!A28,'11-Vloeronderhoud'!H:H) -> 0 | S28: =SUMIF('8-Additionele kosten'!A:A,'2-Kosten per locatie'!A28,'8-Additionele kosten'!H:H) -> 0 | T28: =SUMIF('12-Sanitaire voorzieningen'!A:A,'2-Kosten per locatie'!A28,'12-Sanitaire voorzieningen'!R:R) -> 0 | U28: =SUMIF('10-Glasbewassing'!A:A,'2-Kosten per locatie'!A28,'10-Glasbewassing'!H:H) -> 0 | V28: =N28+Q28+R28+S28+U28+T28 -> 0 | W28: =V28/12 -> 0 | Y28: =SUMIF('4-Basis ruimtestaat'!B:B,'2-Kosten per locatie'!A28,'4-Basis ruimtestaat'!X:X) -> 1848 | Z28: =Y28/(F28+H28) -> 145.34144
A29: Volendam - Julianaweg (VRZW) | B29: =SUMIF('4-Basis ruimtestaat'!B:B,'2-Kosten per locatie'!A29,'4-Basis ruimtestaat'!I:I) -> 681 | C29: 1 | D29: =_xlfn.MAXIFS('4-Basis ruimtestaat'!K:K,'4-Basis ruimtestaat'!B:B,'2-Kosten per locatie'!A29) -> 255 | E29: 255 | F29: =SUMIF('4-Basis ruimtestaat'!B:B,'2-Kosten per locatie'!A29,'4-Basis ruimtestaat'!Q:Q) -> 684.51623 | G29: =SUMIF('4-Basis ruimtestaat'!B:B,'2-Kosten per locatie'!A29,'4-Basis ruimtestaat'!R:R) -> 0 | H29: =IF(F29<(D29*$E$2),D29*$E$2-F29,0) -> 0 | I29: =IF(G29<(E29*$E$2),E29*$E$2-G29,0) -> 0 | J29: =F29*$E$5 -> 0 | K29: =G29*$E$5 -> 0 | L29: ='6-Opbouw uurtarief productie'!$E$47*('2-Kosten per locatie'!F29+'2-Kosten per locatie'!H29) -> 0 | M29: ='6-Opbouw uurtarief productie'!$E$47*('2-Kosten per locatie'!G29+'2-Kosten per locatie'!I29) -> 0 | N29: =L29+M29 -> 0 | O29: =J29*'7-Opbouw uurtarief toezicht'!$E$47 -> 0 | P29: =K29*'7-Opbouw uurtarief toezicht'!$E$47 -> 0 | Q29: =O29+P29 -> 0 | R29: =SUMIF('11-Vloeronderhoud'!A:A,'2-Kosten per locatie'!A29,'11-Vloeronderhoud'!H:H) -> 0 | S29: =SUMIF('8-Additionele kosten'!A:A,'2-Kosten per locatie'!A29,'8-Additionele kosten'!H:H) -> 0 | T29: =SUMIF('12-Sanitaire voorzieningen'!A:A,'2-Kosten per locatie'!A29,'12-Sanitaire voorzieningen'!R:R) -> 0 | U29: =SUMIF('10-Glasbewassing'!A:A,'2-Kosten per locatie'!A29,'10-Glasbewassing'!H:H) -> 0 | V29: =N29+Q29+R29+S29+U29+T29 -> 0 | W29: =V29/12 -> 0 | Y29: =SUMIF('4-Basis ruimtestaat'!B:B,'2-Kosten per locatie'!A29,'4-Basis ruimtestaat'!X:X) -> 108289 | Z29: =Y29/(F29+H29) -> 158.19786
A30: Wormer - Koetserstraat (VRZW) | B30: =SUMIF('4-Basis ruimtestaat'!B:B,'2-Kosten per locatie'!A30,'4-Basis ruimtestaat'!I:I) -> 706.2 | C30: 1 | D30: =_xlfn.MAXIFS('4-Basis ruimtestaat'!K:K,'4-Basis ruimtestaat'!B:B,'2-Kosten per locatie'!A30) -> 52 | E30: 52 | F30: =SUMIF('4-Basis ruimtestaat'!B:B,'2-Kosten per locatie'!A30,'4-Basis ruimtestaat'!Q:Q) -> 187.69029 | G30: =SUMIF('4-Basis ruimtestaat'!B:B,'2-Kosten per locatie'!A30,'4-Basis ruimtestaat'!R:R) -> 0 | H30: =IF(F30<(D30*$E$2),D30*$E$2-F30,0) -> 0 | I30: =IF(G30<(E30*$E$2),E30*$E$2-G30,0) -> 0 | J30: =F30*$E$5 -> 0 | K30: =G30*$E$5 -> 0 | L30: ='6-Opbouw uurtarief productie'!$E$47*('2-Kosten per locatie'!F30+'2-Kosten per locatie'!H30) -> 0 | M30: ='6-Opbouw uurtarief productie'!$E$47*('2-Kosten per locatie'!G30+'2-Kosten per locatie'!I30) -> 0 | N30: =L30+M30 -> 0 | O30: =J30*'7-Opbouw uurtarief toezicht'!$E$47 -> 0 | P30: =K30*'7-Opbouw uurtarief toezicht'!$E$47 -> 0 | Q30: =O30+P30 -> 0 | R30: =SUMIF('11-Vloeronderhoud'!A:A,'2-Kosten per locatie'!A30,'11-Vloeronderhoud'!H:H) -> 0 | S30: =SUMIF('8-Additionele kosten'!A:A,'2-Kosten per locatie'!A30,'8-Additionele kosten'!H:H) -> 0 | T30: =SUMIF('12-Sanitaire voorzieningen'!A:A,'2-Kosten per locatie'!A30,'12-Sanitaire voorzieningen'!R:R) -> 0 | U30: =SUMIF('10-Glasbewassing'!A:A,'2-Kosten per locatie'!A30,'10-Glasbewassing'!H:H) -> 0 | V30: =N30+Q30+R30+S30+U30+T30 -> 0 | W30: =V30/12 -> 0 | Y30: =SUMIF('4-Basis ruimtestaat'!B:B,'2-Kosten per locatie'!A30,'4-Basis ruimtestaat'!X:X) -> 36722.4 | Z30: =Y30/(F30+H30) -> 195.65424
A31: Wormerveer - Industrieweg (VRZW) | B31: =SUMIF('4-Basis ruimtestaat'!B:B,'2-Kosten per locatie'!A31,'4-Basis ruimtestaat'!I:I) -> 759.5 | C31: 1 | D31: =_xlfn.MAXIFS('4-Basis ruimtestaat'!K:K,'4-Basis ruimtestaat'!B:B,'2-Kosten per locatie'!A31) -> 255 | E31: 255 | F31: =SUMIF('4-Basis ruimtestaat'!B:B,'2-Kosten per locatie'!A31,'4-Basis ruimtestaat'!Q:Q) -> 330.04636 | G31: =SUMIF('4-Basis ruimtestaat'!B:B,'2-Kosten per locatie'!A31,'4-Basis ruimtestaat'!R:R) -> 0 | H31: =IF(F31<(D31*$E$2),D31*$E$2-F31,0) -> 0 | I31: =IF(G31<(E31*$E$2),E31*$E$2-G31,0) -> 0 | J31: =F31*$E$5 -> 0 | K31: =G31*$E$5 -> 0 | L31: ='6-Opbouw uurtarief productie'!$E$47*('2-Kosten per locatie'!F31+'2-Kosten per locatie'!H31) -> 0 | M31: ='6-Opbouw uurtarief productie'!$E$47*('2-Kosten per locatie'!G31+'2-Kosten per locatie'!I31) -> 0 | N31: =L31+M31 -> 0 | O31: =J31*'7-Opbouw uurtarief toezicht'!$E$47 -> 0 | P31: =K31*'7-Opbouw uurtarief toezicht'!$E$47 -> 0 | Q31: =O31+P31 -> 0 | R31: =SUMIF('11-Vloeronderhoud'!A:A,'2-Kosten per locatie'!A31,'11-Vloeronderhoud'!H:H) -> 0 | S31: =SUMIF('8-Additionele kosten'!A:A,'2-Kosten per locatie'!A31,'8-Additionele kosten'!H:H) -> 0 | T31: =SUMIF('12-Sanitaire voorzieningen'!A:A,'2-Kosten per locatie'!A31,'12-Sanitaire voorzieningen'!R:R) -> 0 | U31: =SUMIF('10-Glasbewassing'!A:A,'2-Kosten per locatie'!A31,'10-Glasbewassing'!H:H) -> 0 | V31: =N31+Q31+R31+S31+U31+T31 -> 0 | W31: =V31/12 -> 0 | Y31: =SUMIF('4-Basis ruimtestaat'!B:B,'2-Kosten per locatie'!A31,'4-Basis ruimtestaat'!X:X) -> 76939.5 | Z31: =Y31/(F31+H31) -> 233.11725
A32: Zaandam - Jan Bonekampstraat (VRZW) | B32: =SUMIF('4-Basis ruimtestaat'!B:B,'2-Kosten per locatie'!A32,'4-Basis ruimtestaat'!I:I) -> 187.87 | C32: 1 | D32: =_xlfn.MAXIFS('4-Basis ruimtestaat'!K:K,'4-Basis ruimtestaat'!B:B,'2-Kosten per locatie'!A32) -> 52 | E32: 52 | F32: =SUMIF('4-Basis ruimtestaat'!B:B,'2-Kosten per locatie'!A32,'4-Basis ruimtestaat'!Q:Q) -> 48.384267 | G32: =SUMIF('4-Basis ruimtestaat'!B:B,'2-Kosten per locatie'!A32,'4-Basis ruimtestaat'!R:R) -> 0 | H32: =IF(F32<(D32*$E$2),D32*$E$2-F32,0) -> 0 | I32: =IF(G32<(E32*$E$2),E32*$E$2-G32,0) -> 0 | J32: =F32*$E$5 -> 0 | K32: =G32*$E$5 -> 0 | L32: ='6-Opbouw uurtarief productie'!$E$47*('2-Kosten per locatie'!F32+'2-Kosten per locatie'!H32) -> 0 | M32: ='6-Opbouw uurtarief productie'!$E$47*('2-Kosten per locatie'!G32+'2-Kosten per locatie'!I32) -> 0 | N32: =L32+M32 -> 0 | O32: =J32*'7-Opbouw uurtarief toezicht'!$E$47 -> 0 | P32: =K32*'7-Opbouw uurtarief toezicht'!$E$47 -> 0 | Q32: =O32+P32 -> 0 | R32: =SUMIF('11-Vloeronderhoud'!A:A,'2-Kosten per locatie'!A32,'11-Vloeronderhoud'!H:H) -> 0 | S32: =SUMIF('8-Additionele kosten'!A:A,'2-Kosten per locatie'!A32,'8-Additionele kosten'!H:H) -> 0 | T32: =SUMIF('12-Sanitaire voorzieningen'!A:A,'2-Kosten per locatie'!A32,'12-Sanitaire voorzieningen'!R:R) -> 0 | U32: =SUMIF('10-Glasbewassing'!A:A,'2-Kosten per locatie'!A32,'10-Glasbewassing'!H:H) -> 0 | V32: =N32+Q32+R32+S32+U32+T32 -> 0 | W32: =V32/12 -> 0 | Y32: =SUMIF('4-Basis ruimtestaat'!B:B,'2-Kosten per locatie'!A32,'4-Basis ruimtestaat'!X:X) -> 9769.24 | Z32: =Y32/(F32+H32) -> 201.90944
... A36: Zuid-oost Beemster - Zuiderweg (VRZW) | B36: =SUMIF('4-Basis ruimtestaat'!B:B,'2-Kosten per locatie'!A36,'4-Basis ruimtestaat'!I:I) -> 80 | C36: 1 | D36: =_xlfn.MAXIFS('4-Basis ruimtestaat'!K:K,'4-Basis ruimtestaat'!B:B,'2-Kosten per locatie'!A36) -> 52 | E36: 52 | F36: =SUMIF('4-Basis ruimtestaat'!B:B,'2-Kosten per locatie'!A36,'4-Basis ruimtestaat'!Q:Q) -> 2.1810526 | G36: =SUMIF('4-Basis ruimtestaat'!B:B,'2-Kosten per locatie'!A36,'4-Basis ruimtestaat'!R:R) -> 0 | H36: =IF(F36<(D36*$E$2),D36*$E$2-F36,0) -> 0 | I36: =IF(G36<(E36*$E$2),E36*$E$2-G36,0) -> 0 | J36: =F36*$E$5 -> 0 | K36: =G36*$E$5 -> 0 | L36: ='6-Opbouw uurtarief productie'!$E$47*('2-Kosten per locatie'!F36+'2-Kosten per locatie'!H36) -> 0 | M36: ='6-Opbouw uurtarief productie'!$E$47*('2-Kosten per locatie'!G36+'2-Kosten per locatie'!I36) -> 0 | N36: =L36+M36 -> 0 | O36: =J36*'7-Opbouw uurtarief toezicht'!$E$47 -> 0 | P36: =K36*'7-Opbouw uurtarief toezicht'!$E$47 -> 0 | Q36: =O36+P36 -> 0 | R36: =SUMIF('11-Vloeronderhoud'!A:A,'2-Kosten per locatie'!A36,'11-Vloeronderhoud'!H:H) -> 0 | S36: =SUMIF('8-Additionele kosten'!A:A,'2-Kosten per locatie'!A36,'8-Additionele kosten'!H:H) -> 0 | T36: =SUMIF('12-Sanitaire voorzieningen'!A:A,'2-Kosten per locatie'!A36,'12-Sanitaire voorzieningen'!R:R) -> 0 | U36: =SUMIF('10-Glasbewassing'!A:A,'2-Kosten per locatie'!A36,'10-Glasbewassing'!H:H) -> 0 | V36: =N36+Q36+R36+S36+U36+T36 -> 0 | W36: =V36/12 -> 0 | Y36: =SUMIF('4-Basis ruimtestaat'!B:B,'2-Kosten per locatie'!A36,'4-Basis ruimtestaat'!X:X) -> 152 | Z36: =Y36/(F36+H36) -> 69.69112
A37: Zaandam - Geuzenpad (GGDZW) | B37: =SUMIF('4-Basis ruimtestaat'!B:B,'2-Kosten per locatie'!A37,'4-Basis ruimtestaat'!I:I) -> 217 | C37: 1 | D37: =_xlfn.MAXIFS('4-Basis ruimtestaat'!K:K,'4-Basis ruimtestaat'!B:B,'2-Kosten per locatie'!A37) -> 255 | E37: 52 | F37: =SUMIF('4-Basis ruimtestaat'!B:B,'2-Kosten per locatie'!A37,'4-Basis ruimtestaat'!Q:Q) -> 142.83091 | G37: =SUMIF('4-Basis ruimtestaat'!B:B,'2-Kosten per locatie'!A37,'4-Basis ruimtestaat'!R:R) -> 0 | H37: =IF(F37<(D37*$E$2),D37*$E$2-F37,0) -> 0 | I37: =IF(G37<(E37*$E$2),E37*$E$2-G37,0) -> 0 | J37: =F37*$E$5 -> 0 | K37: =G37*$E$5 -> 0 | L37: ='6-Opbouw uurtarief productie'!$E$47*('2-Kosten per locatie'!F37+'2-Kosten per locatie'!H37) -> 0 | M37: ='6-Opbouw uurtarief productie'!$E$47*('2-Kosten per locatie'!G37+'2-Kosten per locatie'!I37) -> 0 | N37: =L37+M37 -> 0 | O37: =J37*'7-Opbouw uurtarief toezicht'!$E$47 -> 0 | P37: =K37*'7-Opbouw uurtarief toezicht'!$E$47 -> 0 | Q37: =O37+P37 -> 0 | R37: =SUMIF('11-Vloeronderhoud'!A:A,'2-Kosten per locatie'!A37,'11-Vloeronderhoud'!H:H) -> 0 | S37: =SUMIF('8-Additionele kosten'!A:A,'2-Kosten per locatie'!A37,'8-Additionele kosten'!H:H) -> 0 | T37: =SUMIF('12-Sanitaire voorzieningen'!A:A,'2-Kosten per locatie'!A37,'12-Sanitaire voorzieningen'!R:R) -> 0 | U37: =SUMIF('10-Glasbewassing'!A:A,'2-Kosten per locatie'!A37,'10-Glasbewassing'!H:H) -> 0 | V37: =N37+Q37+R37+S37+U37+T37 -> 0 | W37: =V37/12 -> 0
A38: Zaandijk - G. Gershwinstraat (GGDZW) | B38: =SUMIF('4-Basis ruimtestaat'!B:B,'2-Kosten per locatie'!A38,'4-Basis ruimtestaat'!I:I) -> 219.7 | C38: 1 | D38: =_xlfn.MAXIFS('4-Basis ruimtestaat'!K:K,'4-Basis ruimtestaat'!B:B,'2-Kosten per locatie'!A38) -> 255 | E38: 52 | F38: =SUMIF('4-Basis ruimtestaat'!B:B,'2-Kosten per locatie'!A38,'4-Basis ruimtestaat'!Q:Q) -> 144.53091 | G38: =SUMIF('4-Basis ruimtestaat'!B:B,'2-Kosten per locatie'!A38,'4-Basis ruimtestaat'!R:R) -> 0 | H38: =IF(F38<(D38*$E$2),D38*$E$2-F38,0) -> 0 | I38: =IF(G38<(E38*$E$2),E38*$E$2-G38,0) -> 0 | J38: =F38*$E$5 -> 0 | K38: =G38*$E$5 -> 0 | L38: ='6-Opbouw uurtarief productie'!$E$47*('2-Kosten per locatie'!F38+'2-Kosten per locatie'!H38) -> 0 | M38: ='6-Opbouw uurtarief productie'!$E$47*('2-Kosten per locatie'!G38+'2-Kosten per locatie'!I38) -> 0 | N38: =L38+M38 -> 0 | O38: =J38*'7-Opbouw uurtarief toezicht'!$E$47 -> 0 | P38: =K38*'7-Opbouw uurtarief toezicht'!$E$47 -> 0 | Q38: =O38+P38 -> 0 | R38: =SUMIF('11-Vloeronderhoud'!A:A,'2-Kosten per locatie'!A38,'11-Vloeronderhoud'!H:H) -> 0 | S38: =SUMIF('8-Additionele kosten'!A:A,'2-Kosten per locatie'!A38,'8-Additionele kosten'!H:H) -> 0 | T38: =SUMIF('12-Sanitaire voorzieningen'!A:A,'2-Kosten per locatie'!A38,'12-Sanitaire voorzieningen'!R:R) -> 0 | U38: =SUMIF('10-Glasbewassing'!A:A,'2-Kosten per locatie'!A38,'10-Glasbewassing'!H:H) -> 0 | V38: =N38+Q38+R38+S38+U38+T38 -> 0 | W38: =V38/12 -> 0
A39: Wormer - Dorpsstraat 127 (GGDZW) | B39: =SUMIF('4-Basis ruimtestaat'!B:B,'2-Kosten per locatie'!A39,'4-Basis ruimtestaat'!I:I) -> 293 | C39: 1 | D39: =_xlfn.MAXIFS('4-Basis ruimtestaat'!K:K,'4-Basis ruimtestaat'!B:B,'2-Kosten per locatie'!A39) -> 156 | E39: 52 | F39: =SUMIF('4-Basis ruimtestaat'!B:B,'2-Kosten per locatie'!A39,'4-Basis ruimtestaat'!Q:Q) -> 170.56743 | G39: =SUMIF('4-Basis ruimtestaat'!B:B,'2-Kosten per locatie'!A39,'4-Basis ruimtestaat'!R:R) -> 0 | H39: =IF(F39<(D39*$E$2),D39*$E$2-F39,0) -> 0 | I39: =IF(G39<(E39*$E$2),E39*$E$2-G39,0) -> 0 | J39: =F39*$E$5 -> 0 | K39: =G39*$E$5 -> 0 | L39: ='6-Opbouw uurtarief productie'!$E$47*('2-Kosten per locatie'!F39+'2-Kosten per locatie'!H39) -> 0 | M39: ='6-Opbouw uurtarief productie'!$E$47*('2-Kosten per locatie'!G39+'2-Kosten per locatie'!I39) -> 0 | N39: =L39+M39 -> 0 | O39: =J39*'7-Opbouw uurtarief toezicht'!$E$47 -> 0 | P39: =K39*'7-Opbouw uurtarief toezicht'!$E$47 -> 0 | Q39: =O39+P39 -> 0 | R39: =SUMIF('11-Vloeronderhoud'!A:A,'2-Kosten per locatie'!A39,'11-Vloeronderhoud'!H:H) -> 0 | S39: =SUMIF('8-Additionele kosten'!A:A,'2-Kosten per locatie'!A39,'8-Additionele kosten'!H:H) -> 0 | T39: =SUMIF('12-Sanitaire voorzieningen'!A:A,'2-Kosten per locatie'!A39,'12-Sanitaire voorzieningen'!R:R) -> 0 | U39: =SUMIF('10-Glasbewassing'!A:A,'2-Kosten per locatie'!A39,'10-Glasbewassing'!H:H) -> 0 | V39: =N39+Q39+R39+S39+U39+T39 -> 0 | W39: =V39/12 -> 0
A40: Krommenie - A.Schweitzerstraat (GGDZW) | B40: =SUMIF('4-Basis ruimtestaat'!B:B,'2-Kosten per locatie'!A40,'4-Basis ruimtestaat'!I:I) -> 445 | C40: 1 | D40: =_xlfn.MAXIFS('4-Basis ruimtestaat'!K:K,'4-Basis ruimtestaat'!B:B,'2-Kosten per locatie'!A40) -> 52 | E40: 52 | F40: =SUMIF('4-Basis ruimtestaat'!B:B,'2-Kosten per locatie'!A40,'4-Basis ruimtestaat'!Q:Q) -> 76.452381 | G40: =SUMIF('4-Basis ruimtestaat'!B:B,'2-Kosten per locatie'!A40,'4-Basis ruimtestaat'!R:R) -> 0 | H40: =IF(F40<(D40*$E$2),D40*$E$2-F40,0) -> 0 | I40: =IF(G40<(E40*$E$2),E40*$E$2-G40,0) -> 0 | J40: =F40*$E$5 -> 0 | K40: =G40*$E$5 -> 0 | L40: ='6-Opbouw uurtarief productie'!$E$47*('2-Kosten per locatie'!F40+'2-Kosten per locatie'!H40) -> 0 | M40: ='6-Opbouw uurtarief productie'!$E$47*('2-Kosten per locatie'!G40+'2-Kosten per locatie'!I40) -> 0 | N40: =L40+M40 -> 0 | O40: =J40*'7-Opbouw uurtarief toezicht'!$E$47 -> 0 | P40: =K40*'7-Opbouw uurtarief toezicht'!$E$47 -> 0 | Q40: =O40+P40 -> 0 | R40: =SUMIF('11-Vloeronderhoud'!A:A,'2-Kosten per locatie'!A40,'11-Vloeronderhoud'!H:H) -> 0 | S40: =SUMIF('8-Additionele kosten'!A:A,'2-Kosten per locatie'!A40,'8-Additionele kosten'!H:H) -> 0 | T40: =SUMIF('12-Sanitaire voorzieningen'!A:A,'2-Kosten per locatie'!A40,'12-Sanitaire voorzieningen'!R:R) -> 0 | U40: =SUMIF('10-Glasbewassing'!A:A,'2-Kosten per locatie'!A40,'10-Glasbewassing'!H:H) -> 0 | V40: =N40+Q40+R40+S40+U40+T40 -> 0 | W40: =V40/12 -> 0
A67: Totaal | B67: =SUM(B15:B40) -> 13756.36 | F67: =SUM(F15:F40) -> 7267.5541 | G67: =SUM(G15:G40) -> 0 | H67: =SUM(H15:H40) -> 0 | I67: =SUM(I15:I40) -> 0 | J67: =SUM(J15:J40) -> 0 | K67: =SUM(K15:K40) -> 0 | L67: =SUM(L15:L40) -> 0 | M67: =SUM(M15:M40) -> 0 | ... W67: =SUM(W15:W40) -> 0

Sheet 3-Productie normen
A3: ='2-Kosten per locatie'!A3 -> Naam opdrachtgever | B3: ='2-Kosten per locatie'!B3 -> VrZW en GGDZW
A4: ='2-Kosten per locatie'!A4 -> Calculatie onderdeel | B4: =MID(CELL("bestandsnaam",$B$7),SEARCH("]",CELL("bestandsnaam",$B$7),1)+1,256) -> 3-Productie normen
A5: ='2-Kosten per locatie'!A5 -> Gebouw/plaats | B5: ='2-Kosten per locatie'!B5 -> Diverse
A6: ='2-Kosten per locatie'!A6 -> Referentie nummer | B6: ='2-Kosten per locatie'!B6 -> VrZW/GGDZW-EA-2027 | F6: Gewogen prestatie | H6: =SUM('4-Basis ruimtestaat'!X:X)/SUM('4-Basis ruimtestaat'!Q:R) -> 292.28076 | I6: m2/uur
A8: Frequentie van uitvoering (per jaar): | B8: 12 | C8: 52 | D8: 156 | E8: 255 | I8: 1.25
A9: Ruimtecategorie | B9: Prestatienorm in aantal m2 per uur | G9: M2 Totaal | H9: VSR Code | I9: Naloop opslag ma-vr
A10: Administratieve ruimte | B10: 315 | C10: 250 | D10: 250 | E10: 375 | G10: =SUMIF('4-Basis ruimtestaat'!G:G,'3-Productie normen'!A10,'4-Basis ruimtestaat'!I:I) -> 3803.9 | H10: B
A11: Sanitaire ruimte | B11: 65 | C11: 50 | D11: 50 | E11: 75 | G11: =SUMIF('4-Basis ruimtestaat'!G:G,'3-Productie normen'!A11,'4-Basis ruimtestaat'!I:I) -> 806.37 | H11: S
A12: Verkeersruimten | B12: 675 | C12: 600 | D12: 600 | E12: 750 | G12: =SUMIF('4-Basis ruimtestaat'!G:G,'3-Productie normen'!A12,'4-Basis ruimtestaat'!I:I) -> 2296.17 | H12: V
A13: Keuken, pantry | B13: 225 | C13: 175 | D13: 175 | E13: 275 | G13: =SUMIF('4-Basis ruimtestaat'!G:G,'3-Productie normen'!A13,'4-Basis ruimtestaat'!I:I) -> 1111.75 | H13: V
A14: Kleed- wasruimten | B14: 165 | C14: 100 | D14: 100 | E14: 225 | G14: =SUMIF('4-Basis ruimtestaat'!G:G,'3-Productie normen'!A14,'4-Basis ruimtestaat'!I:I) -> 586.5 | H14: S
A15: Vergaderruimte | B15: 390 | C15: 300 | D15: 300 | E15: 475 | G15: =SUMIF('4-Basis ruimtestaat'!G:G,'3-Productie normen'!A15,'4-Basis ruimtestaat'!I:I) -> 606.37 | H15: B
A16: Opslagruimte | B16: 475 | C16: 400 | D16: 400 | E16: 550 | G16: =SUMIF('4-Basis ruimtestaat'!G:G,'3-Productie normen'!A16,'4-Basis ruimtestaat'!I:I) -> 669.2 | H16: V
A17: Multifunctionele ruimten | B17: 415 | C17: 325 | D17: 325 | E17: 500 | G17: =SUMIF('4-Basis ruimtestaat'!G:G,'3-Productie normen'!A17,'4-Basis ruimtestaat'!I:I) -> 473.8 | H17: V
A18: Entree | B18: 265 | C18: 200 | D18: 200 | E18: 325 | G18: =SUMIF('4-Basis ruimtestaat'!G:G,'3-Productie normen'!A18,'4-Basis ruimtestaat'!I:I) -> 293.5 | H18: V
A19: Trappenhuis / lift | B19: 290 | C19: 250 | D19: 250 | E19: 325 | G19: =SUMIF('4-Basis ruimtestaat'!G:G,'3-Productie normen'!A19,'4-Basis ruimtestaat'!I:I) -> 132.8 | H19: V
A20: Leslokaal | B20: 365 | C20: 300 | D20: 300 | E20: 425 | G20: =SUMIF('4-Basis ruimtestaat'!G:G,'3-Productie normen'!A20,'4-Basis ruimtestaat'!I:I) -> 1227.6 | H20: B
A21: Slaapkamer | B21: 250 | C21: 200 | D21: 200 | E21: 325 | G21: =SUMIF('4-Basis ruimtestaat'!G:G,'3-Productie normen'!A21,'4-Basis ruimtestaat'!I:I) -> 155.3 | H21: V
A22: Technische ruimte | B22: 425 | C22: 350 | D22: 350 | E22: 500 | G22: =SUMIF('4-Basis ruimtestaat'!G:G,'3-Productie normen'!A22,'4-Basis ruimtestaat'!I:I) -> 23 | H22: V
A23: Niet in onderhoud | G23: =SUMIF('4-Basis ruimtestaat'!G:G,'3-Productie normen'!A23,'4-Basis ruimtestaat'!I:I) -> 1570.1
A25: Totaal | G25: =SUM(G10:G24) -> 13756.36
A27: Kolom voor matrix | B27: 1 | C27: 2 | D27: 3 | E27: 4
A29: Frequentie verklaring | B29: Freq | C29: Kolom
A30: 1 x per maand (12 x per jaar) | B30: 12 | C30: 2
A31: 1 x per week (52 weken) | B31: 52 | C31: 3
A32: 3 x per week (52 weken) | B32: 156 | C32: 4
A33: 5 x per week (52 weken) | B33: 255 | C33: 5

Sheet 4-Basis ruimtestaat
A2: 2
A3: 3 | B3: ='2-Kosten per locatie'!A3 -> Naam opdrachtgever | C3: ='2-Kosten per locatie'!B3 -> VrZW en GGDZW
A4: 4 | B4: ='2-Kosten per locatie'!A4 -> Calculatie onderdeel | C4: =MID(CELL("bestandsnaam",$D$9),SEARCH("]",CELL("bestandsnaam",$D$9),1)+1,256) -> 4-Basis ruimtestaat
A5: 5 | B5: ='2-Kosten per locatie'!A5 -> Gebouw/plaats | C5: ='2-Kosten per locatie'!B5 -> Diverse
A6: 6 | B6: ='2-Kosten per locatie'!A6 -> Referentie nummer | C6: ='2-Kosten per locatie'!B6 -> VrZW/GGDZW-EA-2027 | T6: % van reguliere norm
A7: 7 | B7: ='2-Kosten per locatie'!A7 -> Naam dienstverlener
A8: 8 | T8: ='3-Productie normen'!I8 -> 1.25
A9: 9 | B9: Gebouw | C9: Adres | D9: Verdieping | E9: Ruimte nummer | F9: Ruimteomschrijving opdrachtgever | G9: Ruimte categorie | H9: Vloer soort | I9: M2 vloer | J9: Totaal frequentie | K9: Freq. ma-vr | L9: Freq. ma-vr naloop | M9: Freq zat - zon | N9: Freq. zat-zon naloop | O9: Freq feestdag | P9: Freq feestdag naloop | Q9: Uren p/j ma t/m vrij | R9: Uren p/j ma t/m vrij naloop | S9: Norm ma t/m vr | T9: Naloop opslag ma-vr | U9: VSR code | V9: Bijzonderheden / opmerkingen | X9: M2 per jaar
A10: 10 | B10: Zaandam - Westzanerdijk (VRZW) | C10: Westzanerdijk 74 - 76 (Houtveldweg) | D10: BG | E10: n.v.t. | F10: entree totaal | G10: Entree | H10: tegels | I10: 16 | J10: =SUM(K10:O10) -> 52 | K10: 52 | Q10: =IF(K10="nio",0,IF(K10>0,K10*I10/S10,0)) -> 4.16 | R10: =IF(L10>0,L10*I10/T10,0) -> 0 | S10: =IF(K10="nio",0,IF(K10>0,VLOOKUP(G10,'3-Productie normen'!A:K,VLOOKUP(K10,'3-Productie normen'!$B$30:$C$33,2,FALSE),FALSE)))*(VLOOKUP(B10,'2-Kosten per locatie'!$A$15:$C$36,3,FALSE)) -> 200 | T10: =IF(L10>0,S10*$T$8,0) -> 0 | U10: =VLOOKUP(G10,'3-Productie normen'!A:O,7,FALSE) -> 293.5 | X10: =J10*I10 -> 832
A11: 11 | B11: Zaandam - Westzanerdijk (VRZW) | C11: Westzanerdijk 74 - 76 (Houtveldweg) | D11: BG | E11: n.v.t. | F11: entree totaal | G11: Entree | H11: Linoleum | I11: 16 | J11: =SUM(K11:O11) -> 52 | K11: 52 | Q11: =IF(K11="nio",0,IF(K11>0,K11*I11/S11,0)) -> 4.16 | R11: =IF(L11>0,L11*I11/T11,0) -> 0 | S11: =IF(K11="nio",0,IF(K11>0,VLOOKUP(G11,'3-Productie normen'!A:K,VLOOKUP(K11,'3-Productie normen'!$B$30:$C$33,2,FALSE),FALSE)))*(VLOOKUP(B11,'2-Kosten per locatie'!$A$15:$C$36,3,FALSE)) -> 200 | T11: =IF(L11>0,S11*$T$8,0) -> 0 | U11: =VLOOKUP(G11,'3-Productie normen'!A:O,7,FALSE) -> 293.5 | X11: =J11*I11 -> 832
A12: =A11+1 -> 12 | B12: Zaandam - Westzanerdijk (VRZW) | C12: Westzanerdijk 74 - 76 (Houtveldweg) | D12: BG | E12: BG. 0.03 | F12: Toilet/Douche | G12: Sanitaire ruimte | H12: tegels | I12: 12 | J12: =SUM(K12:O12) -> 52 | K12: 52 | Q12: =IF(K12="nio",0,IF(K12>0,K12*I12/S12,0)) -> 12.48 | R12: =IF(L12>0,L12*I12/T12,0) -> 0 | S12: =IF(K12="nio",0,IF(K12>0,VLOOKUP(G12,'3-Productie normen'!A:K,VLOOKUP(K12,'3-Productie normen'!$B$30:$C$33,2,FALSE),FALSE)))*(VLOOKUP(B12,'2-Kosten per locatie'!$A$15:$C$36,3,FALSE)) -> 50 | T12: =IF(L12>0,S12*$T$8,0) -> 0 | U12: =VLOOKUP(G12,'3-Productie normen'!A:O,7,FALSE) -> 806.37 | X12: =J12*I12 -> 624
A13: =A12+1 -> 13 | B13: Zaandam - Westzanerdijk (VRZW) | C13: Westzanerdijk 74 - 76 (Houtveldweg) | D13: BG | E13: BG. 0,04 | F13: Toilet/Douche | G13: Sanitaire ruimte | H13: tegels | I13: 12 | J13: =SUM(K13:O13) -> 52 | K13: 52 | Q13: =IF(K13="nio",0,IF(K13>0,K13*I13/S13,0)) -> 12.48 | R13: =IF(L13>0,L13*I13/T13,0) -> 0 | S13: =IF(K13="nio",0,IF(K13>0,VLOOKUP(G13,'3-Productie normen'!A:K,VLOOKUP(K13,'3-Productie normen'!$B$30:$C$33,2,FALSE),FALSE)))*(VLOOKUP(B13,'2-Kosten per locatie'!$A$15:$C$36,3,FALSE)) -> 50 | T13: =IF(L13>0,S13*$T$8,0) -> 0 | U13: =VLOOKUP(G13,'3-Productie normen'!A:O,7,FALSE) -> 806.37 | X13: =J13*I13 -> 624
A14: =A13+1 -> 14 | B14: Zaandam - Westzanerdijk (VRZW) | C14: Westzanerdijk 74 - 76 (Houtveldweg) | D14: BG | E14: n.v.t. | F14: algemene ruimte 2 x deurmat | G14: Multifunctionele ruimten | H14: stof / tapijt | I14: 8 | J14: =SUM(K14:O14) -> 52 | K14: 52 | Q14: =IF(K14="nio",0,IF(K14>0,K14*I14/S14,0)) -> 1.28 | R14: =IF(L14>0,L14*I14/T14,0) -> 0 | S14: =IF(K14="nio",0,IF(K14>0,VLOOKUP(G14,'3-Productie normen'!A:K,VLOOKUP(K14,'3-Productie normen'!$B$30:$C$33,2,FALSE),FALSE)))*(VLOOKUP(B14,'2-Kosten per locatie'!$A$15:$C$36,3,FALSE)) -> 325 | T14: =IF(L14>0,S14*$T$8,0) -> 0 | U14: =VLOOKUP(G14,'3-Productie normen'!A:O,7,FALSE) -> 473.8 | X14: =J14*I14 -> 416
A15: =A14+1 -> 15 | B15: Zaandam - Westzanerdijk (VRZW) | C15: Westzanerdijk 74 - 76 (Houtveldweg) | D15: 1 | E15: B.1.01 | F15: kantine / leslokaal | G15: Leslokaal | H15: linoleum | I15: 99 | J15: =SUM(K15:O15) -> 52 | K15: 52 | Q15: =IF(K15="nio",0,IF(K15>0,K15*I15/S15,0)) -> 17.16 | R15: =IF(L15>0,L15*I15/T15,0) -> 0 | S15: =IF(K15="nio",0,IF(K15>0,VLOOKUP(G15,'3-Productie normen'!A:K,VLOOKUP(K15,'3-Productie normen'!$B$30:$C$33,2,FALSE),FALSE)))*(VLOOKUP(B15,'2-Kosten per locatie'!$A$15:$C$36,3,FALSE)) -> 300 | T15: =IF(L15>0,S15*$T$8,0) -> 0 | U15: =VLOOKUP(G15,'3-Productie normen'!A:O,7,FALSE) -> 1227.6 | X15: =J15*I15 -> 5148
A16: =A15+1 -> 16 | B16: Zaandam - Westzanerdijk (VRZW) | C16: Westzanerdijk 74 - 76 (Houtveldweg) | D16: 1 | E16: B. 1.02 | F16: keuken | G16: Keuken, pantry | H16: linoleum | I16: 20 | J16: =SUM(K16:O16) -> 52 | K16: 52 | Q16: =IF(K16="nio",0,IF(K16>0,K16*I16/S16,0)) -> 5.9428571 | R16: =IF(L16>0,L16*I16/T16,0) -> 0 | S16: =IF(K16="nio",0,IF(K16>0,VLOOKUP(G16,'3-Productie normen'!A:K,VLOOKUP(K16,'3-Productie normen'!$B$30:$C$33,2,FALSE),FALSE)))*(VLOOKUP(B16,'2-Kosten per locatie'!$A$15:$C$36,3,FALSE)) -> 175 | T16: =IF(L16>0,S16*$T$8,0) -> 0 | U16: =VLOOKUP(G16,'3-Productie normen'!A:O,7,FALSE) -> 1111.75 | X16: =J16*I16 -> 1040
A17: =A16+1 -> 17 | B17: Zaandam - Westzanerdijk (VRZW) | C17: Westzanerdijk 74 - 76 (Houtveldweg) | F17: Trap | G17: Trappenhuis / lift | H17: marmoleum | I17: 5 | J17: =SUM(K17:O17) -> 52 | K17: 52 | Q17: =IF(K17="nio",0,IF(K17>0,K17*I17/S17,0)) -> 1.04 | R17: =IF(L17>0,L17*I17/T17,0) -> 0 | S17: =IF(K17="nio",0,IF(K17>0,VLOOKUP(G17,'3-Productie normen'!A:K,VLOOKUP(K17,'3-Productie normen'!$B$30:$C$33,2,FALSE),FALSE)))*(VLOOKUP(B17,'2-Kosten per locatie'!$A$15:$C$36,3,FALSE)) -> 250 | T17: =IF(L17>0,S17*$T$8,0) -> 0 | U17: =VLOOKUP(G17,'3-Productie normen'!A:O,7,FALSE) -> 132.8 | X17: =J17*I17 -> 260
A18: =A17+1 -> 18 | B18: Zaandam - Prins Bernhardplein (VRZW) | C18: Prins Bernhardplein 112 | D18: -1 | E18: B-K-01 | F18: Lifthal | G18: Verkeersruimten | H18: Linoleum | I18: 39.5 | J18: =SUM(K18:O18) -> 255 | K18: 255 | Q18: =IF(K18="nio",0,IF(K18>0,K18*I18/S18,0)) -> 13.43 | R18: =IF(L18>0,L18*I18/T18,0) -> 0 | S18: =IF(K18="nio",0,IF(K18>0,VLOOKUP(G18,'3-Productie normen'!A:K,VLOOKUP(K18,'3-Productie normen'!$B$30:$C$33,2,FALSE),FALSE)))*(VLOOKUP(B18,'2-Kosten per locatie'!$A$15:$C$36,3,FALSE)) -> 750 | T18: =IF(L18>0,S18*$T$8,0) -> 0 | U18: =VLOOKUP(G18,'3-Productie normen'!A:O,7,FALSE) -> 2296.17 | X18: =J18*I18 -> 10072.5
A19: =A18+1 -> 19 | B19: Zaandam - Prins Bernhardplein (VRZW) | C19: Prins Bernhardplein 112 | D19: -1 | E19: B-K-02 | F19: Douche | G19: Sanitaire ruimte | H19: Tegels | I19: 16 | J19: =SUM(K19:O19) -> 255 | K19: 255 | Q19: =IF(K19="nio",0,IF(K19>0,K19*I19/S19,0)) -> 54.4 | R19: =IF(L19>0,L19*I19/T19,0) -> 0 | S19: =IF(K19="nio",0,IF(K19>0,VLOOKUP(G19,'3-Productie normen'!A:K,VLOOKUP(K19,'3-Productie normen'!$B$30:$C$33,2,FALSE),FALSE)))*(VLOOKUP(B19,'2-Kosten per locatie'!$A$15:$C$36,3,FALSE)) -> 75 | T19: =IF(L19>0,S19*$T$8,0) -> 0 | U19: =VLOOKUP(G19,'3-Productie normen'!A:O,7,FALSE) -> 806.37 | X19: =J19*I19 -> 4080
A20: =A19+1 -> 20 | B20: Zaandam - Prins Bernhardplein (VRZW) | C20: Prins Bernhardplein 112 | D20: -1 | E20: B-K-03 | F20: Traphal | G20: Verkeersruimten | H20: Linoleum | I20: 32.5 | J20: =SUM(K20:O20) -> 255 | K20: 255 | Q20: =IF(K20="nio",0,IF(K20>0,K20*I20/S20,0)) -> 11.05 | R20: =IF(L20>0,L20*I20/T20,0) -> 0 | S20: =IF(K20="nio",0,IF(K20>0,VLOOKUP(G20,'3-Productie normen'!A:K,VLOOKUP(K20,'3-Productie normen'!$B$30:$C$33,2,FALSE),FALSE)))*(VLOOKUP(B20,'2-Kosten per locatie'!$A$15:$C$36,3,FALSE)) -> 750 | T20: =IF(L20>0,S20*$T$8,0) -> 0 | U20: =VLOOKUP(G20,'3-Productie normen'!A:O,7,FALSE) -> 2296.17 | X20: =J20*I20 -> 8287.5
A21: =A20+1 -> 21 | B21: Zaandam - Prins Bernhardplein (VRZW) | C21: Prins Bernhardplein 112 | D21: -1 | E21: B-K-04 | F21: Douche | G21: Sanitaire ruimte | H21: Tegels | I21: 16 | J21: =SUM(K21:O21) -> 255 | K21: 255 | Q21: =IF(K21="nio",0,IF(K21>0,K21*I21/S21,0)) -> 54.4 | R21: =IF(L21>0,L21*I21/T21,0) -> 0 | S21: =IF(K21="nio",0,IF(K21>0,VLOOKUP(G21,'3-Productie normen'!A:K,VLOOKUP(K21,'3-Productie normen'!$B$30:$C$33,2,FALSE),FALSE)))*(VLOOKUP(B21,'2-Kosten per locatie'!$A$15:$C$36,3,FALSE)) -> 75 | T21: =IF(L21>0,S21*$T$8,0) -> 0 | U21: =VLOOKUP(G21,'3-Productie normen'!A:O,7,FALSE) -> 806.37 | X21: =J21*I21 -> 4080
A22: =A21+1 -> 22 | B22: Zaandam - Prins Bernhardplein (VRZW) | C22: Prins Bernhardplein 112 | D22: -1 | E22: B-K-05 | F22: Kleedkamer | G22: Kleed- wasruimten | H22: Tegels | I22: 31.7 | J22: =SUM(K22:O22) -> 255 | K22: 255 | Q22: =IF(K22="nio",0,IF(K22>0,K22*I22/S22,0)) -> 35.926667 | R22: =IF(L22>0,L22*I22/T22,0) -> 0 | S22: =IF(K22="nio",0,IF(K22>0,VLOOKUP(G22,'3-Productie normen'!A:K,VLOOKUP(K22,'3-Productie normen'!$B$30:$C$33,2,FALSE),FALSE)))*(VLOOKUP(B22,'2-Kosten per locatie'!$A$15:$C$36,3,FALSE)) -> 225 | T22: =IF(L22>0,S22*$T$8,0) -> 0 | U22: =VLOOKUP(G22,'3-Productie normen'!A:O,7,FALSE) -> 586.5 | X22: =J22*I22 -> 8083.5
A23: =A22+1 -> 23 | B23: Zaandam - Prins Bernhardplein (VRZW) | C23: Prins Bernhardplein 112 | D23: -1 | E23: B-K-06 | F23: Kleedkamer/kantoor | G23: Kleed- wasruimten | H23: Tegels | I23: 17.8 | J23: =SUM(K23:O23) -> 255 | K23: 255 | Q23: =IF(K23="nio",0,IF(K23>0,K23*I23/S23,0)) -> 20.173333 | R23: =IF(L23>0,L23*I23/T23,0) -> 0 | S23: =IF(K23="nio",0,IF(K23>0,VLOOKUP(G23,'3-Productie normen'!A:K,VLOOKUP(K23,'3-Productie normen'!$B$30:$C$33,2,FALSE),FALSE)))*(VLOOKUP(B23,'2-Kosten per locatie'!$A$15:$C$36,3,FALSE)) -> 225 | T23: =IF(L23>0,S23*$T$8,0) -> 0 | U23: =VLOOKUP(G23,'3-Productie normen'!A:O,7,FALSE) -> 586.5 | X23: =J23*I23 -> 4539
A24: =A23+1 -> 24 | B24: Zaandam - Prins Bernhardplein (VRZW) | C24: Prins Bernhardplein 112 | D24: -1 | E24: B-K-07 | F24: Kleedkamer | G24: Kleed- wasruimten | H24: Tegels | I24: 34.2 | J24: =SUM(K24:O24) -> 255 | K24: 255 | Q24: =IF(K24="nio",0,IF(K24>0,K24*I24/S24,0)) -> 38.76 | R24: =IF(L24>0,L24*I24/T24,0) -> 0 | S24: =IF(K24="nio",0,IF(K24>0,VLOOKUP(G24,'3-Productie normen'!A:K,VLOOKUP(K24,'3-Productie normen'!$B$30:$C$33,2,FALSE),FALSE)))*(VLOOKUP(B24,'2-Kosten per locatie'!$A$15:$C$36,3,FALSE)) -> 225 | T24: =IF(L24>0,S24*$T$8,0) -> 0 | U24: =VLOOKUP(G24,'3-Productie normen'!A:O,7,FALSE) -> 586.5 | X24: =J24*I24 -> 8721
A25: =A24+1 -> 25 | B25: Zaandam - Prins Bernhardplein (VRZW) | C25: Prins Bernhardplein 112 | D25: -1 | E25: B-K-08 | F25: Toilet | G25: Sanitaire ruimte | H25: Tegels | I25: 10.9 | J25: =SUM(K25:O25) -> 255 | K25: 255 | Q25: =IF(K25="nio",0,IF(K25>0,K25*I25/S25,0)) -> 37.06 | R25: =IF(L25>0,L25*I25/T25,0) -> 0 | S25: =IF(K25="nio",0,IF(K25>0,VLOOKUP(G25,'3-Productie normen'!A:K,VLOOKUP(K25,'3-Productie normen'!$B$30:$C$33,2,FALSE),FALSE)))*(VLOOKUP(B25,'2-Kosten per locatie'!$A$15:$C$36,3,FALSE)) -> 75 | T25: =IF(L25>0,S25*$T$8,0) -> 0 | U25: =VLOOKUP(G25,'3-Productie normen'!A:O,7,FALSE) -> 806.37 | X25: =J25*I25 -> 2779.5
A26: =A25+1 -> 26 | B26: Zaandam - Prins Bernhardplein (VRZW) | C26: Prins Bernhardplein 112 | D26: -1 | E26: B-K-09 | F26: Toilet | G26: Sanitaire ruimte | H26: Tegels | I26: 11.1 | J26: =SUM(K26:O26) -> 255 | K26: 255 | Q26: =IF(K26="nio",0,IF(K26>0,K26*I26/S26,0)) -> 37.74 | R26: =IF(L26>0,L26*I26/T26,0) -> 0 | S26: =IF(K26="nio",0,IF(K26>0,VLOOKUP(G26,'3-Productie normen'!A:K,VLOOKUP(K26,'3-Productie normen'!$B$30:$C$33,2,FALSE),FALSE)))*(VLOOKUP(B26,'2-Kosten per locatie'!$A$15:$C$36,3,FALSE)) -> 75 | T26: =IF(L26>0,S26*$T$8,0) -> 0 | U26: =VLOOKUP(G26,'3-Productie normen'!A:O,7,FALSE) -> 806.37 | X26: =J26*I26 -> 2830.5
A27: =A26+1 -> 27 | B27: Zaandam - Prins Bernhardplein (VRZW) | C27: Prins Bernhardplein 112 | D27: -1 | E27: B-K-10 | F27: Koude keuken incl. gang | G27: Verkeersruimten | H27: Tegels | I27: 17 | J27: =SUM(K27:O27) -> 255 | K27: 255 | Q27: =IF(K27="nio",0,IF(K27>0,K27*I27/S27,0)) -> 5.78 | R27: =IF(L27>0,L27*I27/T27,0) -> 0 | S27: =IF(K27="nio",0,IF(K27>0,VLOOKUP(G27,'3-Productie normen'!A:K,VLOOKUP(K27,'3-Productie normen'!$B$30:$C$33,2,FALSE),FALSE)))*(VLOOKUP(B27,'2-Kosten per locatie'!$A$15:$C$36,3,FALSE)) -> 750 | T27: =IF(L27>0,S27*$T$8,0) -> 0 | U27: =VLOOKUP(G27,'3-Productie normen'!A:O,7,FALSE) -> 2296.17 | X27: =J27*I27 -> 4335
A28: =A27+1 -> 28 | B28: Zaandam - Prins Bernhardplein (VRZW) | C28: Prins Bernhardplein 112 | D28: -1 | E28: B-K-11 | F28: Spoelkeuken | G28: Keuken, pantry | H28: Tegels | I28: 6.1 | J28: =SUM(K28:O28) -> 255 | K28: 255 | Q28: =IF(K28="nio",0,IF(K28>0,K28*I28/S28,0)) -> 5.6563636 | R28: =IF(L28>0,L28*I28/T28,0) -> 0 | S28: =IF(K28="nio",0,IF(K28>0,VLOOKUP(G28,'3-Productie normen'!A:K,VLOOKUP(K28,'3-Productie normen'!$B$30:$C$33,2,FALSE),FALSE)))*(VLOOKUP(B28,'2-Kosten per locatie'!$A$15:$C$36,3,FALSE)) -> 275 | T28: =IF(L28>0,S28*$T$8,0) -> 0 | U28: =VLOOKUP(G28,'3-Productie normen'!A:O,7,FALSE) -> 1111.75 | X28: =J28*I28 -> 1555.5
A29: =A28+1 -> 29 | B29: Zaandam - Prins Bernhardplein (VRZW) | C29: Prins Bernhardplein 112 | D29: -1 | E29: B-K-12 | F29: Opslagruimte | G29: Opslagruimte | H29: Tegels | I29: 6.9 | J29: =SUM(K29:O29) -> 12 | K29: 12 | Q29: =IF(K29="nio",0,IF(K29>0,K29*I29/S29,0)) -> 0.17431579 | R29: =IF(L29>0,L29*I29/T29,0) -> 0 | S29: =IF(K29="nio",0,IF(K29>0,VLOOKUP(G29,'3-Productie normen'!A:K,VLOOKUP(K29,'3-Productie normen'!$B$30:$C$33,2,FALSE),FALSE)))*(VLOOKUP(B29,'2-Kosten per locatie'!$A$15:$C$36,3,FALSE)) -> 475 | T29: =IF(L29>0,S29*$T$8,0) -> 0 | U29: =VLOOKUP(G29,'3-Productie normen'!A:O,7,FALSE) -> 669.2 | X29: =J29*I29 -> 82.8
... A34: =A33+1 -> 34 | B34: Zaandam - Prins Bernhardplein (VRZW) | C34: Prins Bernhardplein 112 | D34: -1 | E34: B-K-17 | F34: Kantoor | G34: Administratieve ruimte | H34: Linoleum | I34: 10.3 | J34: =SUM(K34:O34) -> 255 | K34: 255 | Q34: =IF(K34="nio",0,IF(K34>0,K34*I34/S34,0)) -> 7.004 | R34: =IF(L34>0,L34*I34/T34,0) -> 0 | S34: =IF(K34="nio",0,IF(K34>0,VLOOKUP(G34,'3-Productie normen'!A:K,VLOOKUP(K34,'3-Productie normen'!$B$30:$C$33,2,FALSE),FALSE)))*(VLOOKUP(B34,'2-Kosten per locatie'!$A$15:$C$36,3,FALSE)) -> 375 | T34: =IF(L34>0,S34*$T$8,0) -> 0 | U34: =VLOOKUP(G34,'3-Productie normen'!A:O,7,FALSE) -> 3803.9 | X34: =J34*I34 -> 2626.5
A35: =A34+1 -> 35 | B35: Zaandam - Prins Bernhardplein (VRZW) | C35: Prins Bernhardplein 112 | D35: -1 | E35: B-K-18 | F35: Slaapkamer | G35: Slaapkamer | H35: Linoleum | I35: 6 | J35: =SUM(K35:O35) -> 52 | K35: 52 | Q35: =IF(K35="nio",0,IF(K35>0,K35*I35/S35,0)) -> 1.56 | R35: =IF(L35>0,L35*I35/T35,0) -> 0 | S35: =IF(K35="nio",0,IF(K35>0,VLOOKUP(G35,'3-Productie normen'!A:K,VLOOKUP(K35,'3-Productie normen'!$B$30:$C$33,2,FALSE),FALSE)))*(VLOOKUP(B35,'2-Kosten per locatie'!$A$15:$C$36,3,FALSE)) -> 200 | T35: =IF(L35>0,S35*$T$8,0) -> 0 | U35: =VLOOKUP(G35,'3-Productie normen'!A:O,7,FALSE) -> 155.3 | V35: uitvoering op maandag | X35: =J35*I35 -> 312
A36: =A35+1 -> 36 | B36: Zaandam - Prins Bernhardplein (VRZW) | C36: Prins Bernhardplein 112 | D36: -1 | E36: B-K-19 | F36: Slaapkamer | G36: Slaapkamer | H36: Linoleum | I36: 6 | J36: =SUM(K36:O36) -> 52 | K36: 52 | Q36: =IF(K36="nio",0,IF(K36>0,K36*I36/S36,0)) -> 1.56 | R36: =IF(L36>0,L36*I36/T36,0) -> 0 | S36: =IF(K36="nio",0,IF(K36>0,VLOOKUP(G36,'3-Productie normen'!A:K,VLOOKUP(K36,'3-Productie normen'!$B$30:$C$33,2,FALSE),FALSE)))*(VLOOKUP(B36,'2-Kosten per locatie'!$A$15:$C$36,3,FALSE)) -> 200 | T36: =IF(L36>0,S36*$T$8,0) -> 0 | U36: =VLOOKUP(G36,'3-Productie normen'!A:O,7,FALSE) -> 155.3 | V36: uitvoering op maandag | X36: =J36*I36 -> 312
A37: =A36+1 -> 37 | B37: Zaandam - Prins Bernhardplein (VRZW) | C37: Prins Bernhardplein 112 | D37: -1 | E37: B-K-20 | F37: Slaapkamer | G37: Slaapkamer | H37: Linoleum | I37: 6 | J37: =SUM(K37:O37) -> 52 | K37: 52 | Q37: =IF(K37="nio",0,IF(K37>0,K37*I37/S37,0)) -> 1.56 | R37: =IF(L37>0,L37*I37/T37,0) -> 0 | S37: =IF(K37="nio",0,IF(K37>0,VLOOKUP(G37,'3-Productie normen'!A:K,VLOOKUP(K37,'3-Productie normen'!$B$30:$C$33,2,FALSE),FALSE)))*(VLOOKUP(B37,'2-Kosten per locatie'!$A$15:$C$36,3,FALSE)) -> 200 | T37: =IF(L37>0,S37*$T$8,0) -> 0 | U37: =VLOOKUP(G37,'3-Productie normen'!A:O,7,FALSE) -> 155.3 | V37: uitvoering op maandag | X37: =J37*I37 -> 312
A38: =A37+1 -> 38 | B38: Zaandam - Prins Bernhardplein (VRZW) | C38: Prins Bernhardplein 112 | D38: -1 | E38: B-K-21 | F38: Slaapkamer | G38: Slaapkamer | H38: Linoleum | I38: 6 | J38: =SUM(K38:O38) -> 52 | K38: 52 | Q38: =IF(K38="nio",0,IF(K38>0,K38*I38/S38,0)) -> 1.56 | R38: =IF(L38>0,L38*I38/T38,0) -> 0 | S38: =IF(K38="nio",0,IF(K38>0,VLOOKUP(G38,'3-Productie normen'!A:K,VLOOKUP(K38,'3-Productie normen'!$B$30:$C$33,2,FALSE),FALSE)))*(VLOOKUP(B38,'2-Kosten per locatie'!$A$15:$C$36,3,FALSE)) -> 200 | T38: =IF(L38>0,S38*$T$8,0) -> 0 | U38: =VLOOKUP(G38,'3-Productie normen'!A:O,7,FALSE) -> 155.3 | V38: uitvoering op maandag | X38: =J38*I38 -> 312
A39: =A38+1 -> 39 | B39: Zaandam - Prins Bernhardplein (VRZW) | C39: Prins Bernhardplein 112 | D39: -1 | F39: Toilet | G39: Sanitaire ruimte | H39: Tegels | I39: 1.5 | J39: =SUM(K39:O39) -> 255 | K39: 255 | Q39: =IF(K39="nio",0,IF(K39>0,K39*I39/S39,0)) -> 5.1 | R39: =IF(L39>0,L39*I39/T39,0) -> 0 | S39: =IF(K39="nio",0,IF(K39>0,VLOOKUP(G39,'3-Productie normen'!A:K,VLOOKUP(K39,'3-Productie normen'!$B$30:$C$33,2,FALSE),FALSE)))*(VLOOKUP(B39,'2-Kosten per locatie'!$A$15:$C$36,3,FALSE)) -> 75 | T39: =IF(L39>0,S39*$T$8,0) -> 0 | U39: =VLOOKUP(G39,'3-Productie normen'!A:O,7,FALSE) -> 806.37 | X39: =J39*I39 -> 382.5
