Workbook

Sheet Invulinstructie
A1: Invulinstructie Bijlage 3 Prijzenblad
A3: Inschrijver dient het Prijzenblad volledig (alle "gele" velden) in te vullen en rechtsgeldig te ondertekenen en toe te voegen aan zijn inschrijving (a.u.b. eenmaal ongetekend in Excel en eenmaal getekend in pdf). Indien er één, of meerdere, verschillen zijn tussen Excel en pdf versie is de pdf versie leidend. Let op dat u inschrijft met de meest recent beschikbaar gestelde versie van het prijzenblad. Inschrijven met een eerdere, of oudere, versie van het prijzenblad kan tot uitsluiting leiden.
A5: In het Prijzenblad zijn alle kosten inbegrepen die gepaard gaan met het voldoen aan de Lijst van Eisen (bijlage 4) en de overige eisen als beschreven in Deel A Beschrijvend document, alsmede de kosten die gepaard gaan met de dienstverlening als door de inschrijver beschreven in de beantwoording van de vragen met betrekking tot de gunningscriteria en de kosten die gepaard gaan met de beantwoording van de vragen, zoals gesteld in de Nota van inlichtingen. Inschrijver dient zich dan ook te realiseren dat de door inschrijver ingevulde bedragen en/of percentages ook als basis dienen voor de dienstverlening richting Openbaar Onderwijs Groningen na gunning.
A7: Alle vermelde prijzen en tarieven dienen gesteld te zijn in euro's, exclusief BTW (en inclusief overige belastingen en/of heffingen), inclusief verpakking en bij levering DDP (incoterms 2000).
A9: Het indienen van een irreële of manipulatieve inschrijving kan leiden tot uitlsuiting: - inschrijvers mogen (per item/eenheid) geen percentages/prijzen indienen die de gunningssystematiek manipuleren. - inschrijvers dienen een realistische totaalprijs aan te bieden.
A11: Ten aanzien van de volgende prijzen bestaat het vermoeden dat deze onrealistisch zijn: - negatieve prijzen; - abnormaal lage totaalprijs. Aanbestedende dienst sluit met de terminologie omtrent abnormaal lage prijzen aan bij hetgeen daarover is bepaald in artikel 2.116 Aanbestedingswet.
A13: Indien opdrachtgever het vermoeden heeft dat de aangeboden totaalprijs onrealistisch is dan zal opdrachtgever, voor eventuele (voorlopige)gunning, inschrijver in de gelegenheid stellen om dit, in een verificatiegesprek, toe te lichten. Indien Openbaar Onderwijs Groningen van mening is dat de totaalprijs onrealistisch is dan wordt de inschrijving als ongeldig aangemerkt.
A15: Wanneer u geen prijs of prijzen invult, noteren we € 0,00 en geldt dat u hiervoor geen kosten in rekening brengt (en deze kosten zijn inbegrepen in het aangeboden percentage).
A17: Alle genoemde aantallen zijn indicatief, aan genoemde gegevens kunnen geen rechten worden ontleend.
A19: Er is geen sprake van een afnameverplichting door Openbaar Onderwijs Groningen.
A21: Niet opgevoerde kosten in dit Prijzenblad komen achteraf niet voor facturatie in aanmerking en zullen ook niet worden voldaan.
A23: Inschrijver dient in de gele velden een positief getal en/of kortingspercentage in te vullen.
A26: Legenda:
B28: Deze velden zijn reeds ingevuld en beveiligd.
B29: Deze velden rekenen automatisch door en zijn beveiligd.
B30: Deze velden dienen door inschrijver ingevuld te worden.

Sheet Totaal overzicht
A1: Prijzenblad Afvalverwerking
A2: ten behoeve van
A3: Openbaar Onderwijs Groningen
A7: Dit betreft de vaste prijs per jaar per afvalstroom, geldend voor alle locaties van Openbaar Onderwijs Groningen.
A8: Soort afvalstromen | B8: Totaal per jaar ledigingen containers excl. BTW | C8: Totaal per jaar huur container excl. BTW.
A9: Restafval | B9: =Restafval!R48 -> 0 | C9: =Restafval!T48 -> 0
A10: Oud papier | B10: ='Oud papier'!R30 -> 0 | C10: ='Oud papier'!T30 -> 0
A11: Vertrouwelijk papier | B11: ='Vertrouwelijk papier'!R32 -> 0 | C11: ='Vertrouwelijk papier'!T32 -> 0
A12: Totaal bedrag per jaar | B12: =SUM(B9:B11) -> 0 | C12: =SUM(C9:C11) -> 0
A15: TOTAAL PRIJS EXCL. BTW | B15: =SUM(B12+C12) -> 0
A23: Ondertekening inschrijver
A24: Naam
A25: Functie
A26: Onderneming
A27: Plaats en Datum
A28: Handtekening

Sheet Restafval
A1: School | B1: Plaats | C1: Postcode | D1: Straat | E1: Afvalstroom | F1: Type container | G1: Aantal containers | H1: Inhoud | J1: Frequentie Aantal ledigingen per week | N1: Aantal ledigingen per jaar | O1: Aantal ledigingen per maand | P1: Bedrag per lediging excl. huur container, excl. BTW. | Q1: Totaalbedrag lediging per maand excl. huur container, excl. BTW. | R1: Totaalbedrag lediging per jaar excl. huur container, excl. BTW. | S1: Huur container per maand, excl. BTW. | T1: Totaalbedrag huur container per jaar, excl. BTW. | U1: Opmerkingen
A2: Praedinius Gymnasium | B2: Groningen | C2: 9711 TW | D2: Kruitlaan 11 | E2: restafval | F2: rolcontainer | G2: 2 | H2: 1100 | I2: liter | J2: 2 | K2: x | L2: 1 | M2: week | N2: =G2*J2*52/L2 -> 208 | O2: =N2/12 -> 17.333333 | P2: 0 | Q2: =SUM(O2*P2) -> 0 | R2: =SUM(Q2*12) -> 0 | S2: 0 | T2: =SUM(S2*12) -> 0 | U2: Kunststof container
A3: Praedinius Gymnasium | B3: Groningen | C3: 9711 VX | D3: Turfsingel 82 | E3: restafval | F3: rolcontainer | G3: 2 | H3: 1100 | I3: liter | J3: 2 | K3: x | L3: 1 | M3: week | N3: =G3*J3*52/L3 -> 208 | O3: =N3/12 -> 17.333333 | P3: 0 | Q3: =SUM(O3*P3) -> 0 | R3: =SUM(Q3*12) -> 0 | S3: 0 | T3: =SUM(S3*12) -> 0 | U3: Kunststof container
A4: Reitdiep College - Kamerlingh Onnes | B4: Groningen | C4: 9741 EW | D4: Eikenlaan 286 | E4: restafval | F4: rolcontainer | G4: 2 | H4: 1100 | I4: liter | J4: 3 | K4: x | L4: 1 | M4: week | N4: =G4*J4*52/L4 -> 312 | O4: =N4/12 -> 26 | P4: 0 | Q4: =SUM(O4*P4) -> 0 | R4: =SUM(Q4*12) -> 0 | S4: 0 | T4: =SUM(S4*12) -> 0 | U4: Kunststof container
A5: Reitdiep College - Leon van Gelder | B5: Groningen | C5: 9743 BA | D5: Diamantlaan 27 | E5: restafval | F5: rolcontainer | G5: 1 | H5: 1600 | I5: liter | J5: 3 | K5: x | L5: 1 | M5: week | N5: =G5*J5*52/L5 -> 156 | O5: =N5/12 -> 13 | P5: 0 | Q5: =SUM(O5*P5) -> 0 | R5: =SUM(Q5*12) -> 0 | S5: 0 | T5: =SUM(S5*12) -> 0 | U5: Kunststof container
A6: Reitdiep College - Simon van Hasselt | B6: Groningen | C6: 9743 SZ | D6: Travertijnstraat 2 | E6: restafval | F6: rolcontainer | G6: 1 | H6: 1100 | I6: liter | J6: 1 | K6: x | L6: 1 | M6: week | N6: =G6*J6*52/L6 -> 52 | O6: =N6/12 -> 4.3333333 | P6: 0 | Q6: =SUM(O6*P6) -> 0 | R6: =SUM(Q6*12) -> 0 | S6: 0 | T6: =SUM(S6*12) -> 0 | U6: Kunststof container
A7: Reitdiep Rebound | B7: Groningen | C7: 9714 JC | D7: J.C. Kapteynlaan 13-1 | E7: restafval | F7: rolcontainer | G7: 1 | H7: 1100 | I7: liter | J7: 1 | K7: x | L7: 1 | M7: week | N7: =G7*J7*52/L7 -> 52 | O7: =N7/12 -> 4.3333333 | P7: 0 | Q7: =SUM(O7*P7) -> 0 | R7: =SUM(Q7*12) -> 0 | S7: 0 | T7: =SUM(S7*12) -> 0 | U7: Kunststof container
A8: Werkman College - Stadslyceum | B8: Groningen | C8: 9711 VG | D8: Nieuwe Sint Jansstraat 11 | E8: restafval | F8: rolcontainer | G8: 2 | H8: 1100 | I8: liter | J8: 3 | K8: x | L8: 1 | M8: week | N8: =G8*J8*52/L8 -> 312 | O8: =N8/12 -> 26 | P8: 0 | Q8: =SUM(O8*P8) -> 0 | R8: =SUM(Q8*12) -> 0 | S8: 0 | T8: =SUM(S8*12) -> 0 | U8: Kunststof container
A9: Werkman College - Stadslyceum | B9: Groningen | C9: 9711 TP | D9: Agricolastraat 33 | E9: restafval | F9: rolcontainer | G9: 1 | H9: 1100 | I9: liter | J9: 1 | K9: x | L9: 1 | M9: week | N9: =G9*J9*52/L9 -> 52 | O9: =N9/12 -> 4.3333333 | P9: 0 | Q9: =SUM(O9*P9) -> 0 | R9: =SUM(Q9*12) -> 0 | S9: 0 | T9: =SUM(S9*12) -> 0 | U9: Kunststof container
A10: Werkman College - Topsporttalentschool | B10: Groningen | C10: 9731 BX | D10: Melisseweg 2 | E10: restafval | F10: rolcontainer | G10: 2 | H10: 1100 | I10: liter | J10: 2 | K10: x | L10: 1 | M10: week | N10: =G10*J10*52/L10 -> 208 | O10: =N10/12 -> 17.333333 | P10: 0 | Q10: =SUM(O10*P10) -> 0 | R10: =SUM(Q10*12) -> 0 | S10: 0 | T10: =SUM(S10*12) -> 0 | U10: Kunststof container
A11: Zernike College - Montessori Lyceum Groningen | B11: Groningen | C11: 9722 EP | D11: Helper Brink 30 | E11: restafval | F11: rolcontainer | G11: 3 | H11: 1100 | I11: liter | J11: 2 | K11: x | L11: 1 | M11: week | N11: =G11*J11*52/L11 -> 312 | O11: =N11/12 -> 26 | P11: 0 | Q11: =SUM(O11*P11) -> 0 | R11: =SUM(Q11*12) -> 0 | S11: 0 | T11: =SUM(S11*12) -> 0 | U11: Kunststof container
A12: Zernike College - Montessori Vaklyceum Groningen | B12: Groningen | C12: 9721 CL | D12: Van Iddekingeweg 140 | E12: restafval | F12: rolcontainer | G12: 3 | H12: 1100 | I12: liter | J12: 1 | K12: x | L12: 1 | M12: week | N12: =G12*J12*52/L12 -> 156 | O12: =N12/12 -> 13 | P12: 0 | Q12: =SUM(O12*P12) -> 0 | R12: =SUM(Q12*12) -> 0 | S12: 0 | T12: =SUM(S12*12) -> 0 | U12: Kunststof container
A13: Zernike College - Montessori Vaklyceum Groningen | B13: Groningen | C13: 9721 LD | D13: Vondellaan 83 | E13: restafval | F13: rolcontainer | G13: 2 | H13: 1100 | I13: liter | J13: 1 | K13: x | L13: 1 | M13: week | N13: =G13*J13*52/L13 -> 104 | O13: =N13/12 -> 8.6666667 | P13: 0 | Q13: =SUM(O13*P13) -> 0 | R13: =SUM(Q13*12) -> 0 | S13: 0 | T13: =SUM(S13*12) -> 0 | U13: Kunststof container
... A47: Ondersteunings Bureau | B47: Groningen | C47: 9727 KB | D47: Leonard Springerlaan 39 | E47: restafval | F47: rolcontainer | G47: 1 | H47: 360 | I47: liter | J47: 2 | K47: x | L47: 1 | M47: week | N47: =G47*J47*52/L47 -> 104 | O47: =N47/12 -> 8.6666667 | P47: 0 | Q47: =SUM(O47*P47) -> 0 | R47: =SUM(Q47*12) -> 0 | S47: 0 | T47: =SUM(S47*12) -> 0 | U47: Kunststof container
R48: =SUM(R2:R47) -> 0 | T48: =SUM(T2:T47) -> 0

Sheet Oud papier
A1: School | B1: Plaats | C1: Postcode | D1: Straat | E1: Afvalstroom | F1: Type container | G1: Aantal containers | H1: Inhoud | J1: Frequentie* Aantal ledigingen per week | N1: Aantal ledigingen per jaar | O1: Aantal ledigingen per maand | P1: Bedrag per lediging excl. huur container, excl. BTW | Q1: Totaalbedrag lediging per maand excl. huur container, excl. BTW | R1: Totaalbedrag lediging per jaar excl. huur container, excl. BTW | S1: Huur container per maand, excl. BTW | T1: Totaalbedrag huur container per jaar, excl. BTW | U1: Opmerkingen
A2: Praedinius Gymnasium | B2: Groningen | C2: 9711 VX | D2: Turfsingel 82 | E2: oud papier/karton | F2: rolcontainer | G2: 1 | H2: 1100 | I2: liter | J2: 1 | K2: x | L2: 1 | M2: week | N2: =G2*J2*52/L2 -> 52 | O2: =N2/12 -> 4.3333333 | P2: 0 | Q2: =SUM(O2*P2) -> 0 | R2: =SUM(Q2*12) -> 0 | S2: 0 | T2: =SUM(S2*12) -> 0 | U2: Kunststof container
A3: Praedinius Gymnasium | B3: Groningen | C3: 9711 TW | D3: Kruitlaan 11 | E3: oud papier/karton | F3: rolcontainer | G3: 1 | H3: 1100 | I3: liter | J3: 1 | K3: x | L3: 1 | M3: week | N3: =G3*J3*52/L3 -> 52 | O3: =N3/12 -> 4.3333333 | P3: 0 | Q3: =SUM(O3*P3) -> 0 | R3: =SUM(Q3*12) -> 0 | S3: 0 | T3: =SUM(S3*12) -> 0 | U3: Kunststof container
A4: Reitdiep College - Leon van Gelder | B4: Groningen | C4: 9743 BA | D4: Diamantlaan 27 | E4: oud papier /karton | F4: rolcontainer | G4: 1 | H4: 1600 | I4: liter | J4: 1 | K4: x | L4: 1 | M4: week | N4: =G4*J4*52/L4 -> 52 | O4: =N4/12 -> 4.3333333 | P4: 0 | Q4: =SUM(O4*P4) -> 0 | R4: =SUM(Q4*12) -> 0 | S4: 0 | T4: =SUM(S4*12) -> 0 | U4: Kunststof container
A5: Reitdiep College - Kamerlingh Onnes | B5: Groningen | C5: 9741 EW | D5: Eikenlaan 286 | E5: oud papier /karton | F5: rolcontainer | G5: 2 | H5: 1100 | I5: liter | J5: 1 | K5: x | L5: 1 | M5: week | N5: =G5*J5*52/L5 -> 104 | O5: =N5/12 -> 8.6666667 | P5: 0 | Q5: =SUM(O5*P5) -> 0 | R5: =SUM(Q5*12) -> 0 | S5: 0 | T5: =SUM(S5*12) -> 0 | U5: Kunststof container
A6: Reitdiep College - OPDC (Rebound/TTVO) | B6: Groningen | C6: 9714 JC | D6: J.C. Kapteynlaan 13-1 | E6: oud papier/karton | F6: rolcontainer | G6: 1 | H6: 1100 | I6: liter | J6: 1 | K6: x | L6: 4 | M6: week | N6: =G6*J6*52/L6 -> 13 | O6: =N6/12 -> 1.0833333 | P6: 0 | Q6: =SUM(O6*P6) -> 0 | R6: =SUM(Q6*12) -> 0 | S6: 0 | T6: =SUM(S6*12) -> 0 | U6: Kunststof container, legen op afroep
A7: Werkman College - Stadslyceum | B7: Groningen | C7: 9711 VG | D7: Nieuwe Sint Jansstraat 11 | E7: oud papier/karton | F7: rolcontainer | G7: 2 | H7: 1100 | I7: liter | J7: 3 | K7: x | L7: 1 | M7: week | N7: =G7*J7*52/L7 -> 312 | O7: =N7/12 -> 26 | P7: 0 | Q7: =SUM(O7*P7) -> 0 | R7: =SUM(Q7*12) -> 0 | S7: 0 | T7: =SUM(S7*12) -> 0 | U7: Kunststof container
A8: Zernike College - Montessori Lyceum Groningen | B8: Groningen | C8: 9722 EP | D8: Helper Brink 30 | E8: oud papier /karton | F8: rolcontainer | G8: 2 | H8: 1100 | I8: liter | J8: 1 | K8: x | L8: 1 | M8: week | N8: =G8*J8*52/L8 -> 104 | O8: =N8/12 -> 8.6666667 | P8: 0 | Q8: =SUM(O8*P8) -> 0 | R8: =SUM(Q8*12) -> 0 | S8: 0 | T8: =SUM(S8*12) -> 0 | U8: Kunststof container
A9: Zernike College - Montessori Vaklyceum Groningen | B9: Groningen | C9: 9721 CL | D9: Van Iddekingeweg 140 | E9: oud papier /karton | F9: rolcontainer | G9: 1 | H9: 1100 | I9: liter | J9: 1 | K9: x | L9: 1 | M9: week | N9: =G9*J9*52/L9 -> 52 | O9: =N9/12 -> 4.3333333 | P9: 0 | Q9: =SUM(O9*P9) -> 0 | R9: =SUM(Q9*12) -> 0 | S9: 0 | T9: =SUM(S9*12) -> 0 | U9: Kunststof container
A10: Zernike College - Montessori Vaklyceum Groningen | B10: Groningen | C10: 9721 LD | D10: Vondellaan 83 | E10: oud papier /karton | F10: rolcontainer | G10: 1 | H10: 1100 | I10: liter | J10: 1 | K10: x | L10: 4 | M10: week | N10: =G10*J10*52/L10 -> 13 | O10: =N10/12 -> 1.0833333 | P10: 0 | Q10: =SUM(O10*P10) -> 0 | R10: =SUM(Q10*12) -> 0 | S10: 0 | T10: =SUM(S10*12) -> 0 | U10: Kunststof container, legen op afroep
A11: Internationale Schakelklas | B11: Groningen | C11: 9713 TA | D11: Vinkenstraat 1 | E11: oud papier /karton | F11: rolcontainer | G11: 1 | H11: 1100 | I11: liter | J11: 1 | K11: x | L11: 1 | M11: week | N11: =G11*J11*52/L11 -> 52 | O11: =N11/12 -> 4.3333333 | P11: 0 | Q11: =SUM(O11*P11) -> 0 | R11: =SUM(Q11*12) -> 0 | S11: 0 | T11: =SUM(S11*12) -> 0 | U11: Kunststof container
A12: Internationale Schakelklas | B12: Groningen | C12: 9733 EB | D12: Kiel 5 | E12: oud papier /karton | F12: rolcontainer | G12: 1 | H12: 1100 | I12: liter | J12: 1 | K12: x | L12: 1 | M12: week | N12: =G12*J12*52/L12 -> 52 | O12: =N12/12 -> 4.3333333 | P12: 0 | Q12: =SUM(O12*P12) -> 0 | R12: =SUM(Q12*12) -> 0 | S12: 0 | T12: =SUM(S12*12) -> 0 | U12: Kunststof container
A13: Brederoschool | B13: Groningen | C13: 9721 SW | D13: Van Ketwich Verschuurlaan 90 | E13: oud papier/karton | F13: rolcontainer | G13: 1 | H13: 770 | I13: liter | J13: 1 | K13: x | L13: 1 | M13: week | N13: =G13*J13*52/L13 -> 52 | O13: =N13/12 -> 4.3333333 | P13: 0 | Q13: =SUM(O13*P13) -> 0 | R13: =SUM(Q13*12) -> 0 | S13: 0 | T13: =SUM(S13*12) -> 0 | U13: Kunststof container
... A29: Ondersteuningsbureau | B29: Groningen | C29: 9727 KB | D29: Leonard Springerlaan 39 | E29: oud papier/karton | F29: rolcontainer | G29: 1 | H29: 660 | I29: liter | J29: 1 | K29: x | L29: 1 | M29: week | N29: =G29*J29*52/L29 -> 52 | O29: =N29/12 -> 4.3333333 | P29: 0 | Q29: =SUM(O29*P29) -> 0 | R29: =SUM(Q29*12) -> 0 | S29: 0 | T29: =SUM(S29*12) -> 0 | U29: Kunststof container
R30: =SUM(R2:R29) -> 0 | T30: =SUM(T2:T29) -> 0

Sheet Vertrouwelijk papier
A1: School | B1: Plaats | C1: Postcode | D1: Straat | E1: Afvalstroom | F1: Type container | G1: Aantal containers | H1: Inhoud* | J1: Frequentie* Aantal ledigingen per week | N1: Aantal ledigingen per jaar | O1: Aantal ledigingen per maand | P1: Bedrag per lediging excl. huur container, excl. BTW. | Q1: Totaalbedrag per maand excl. huur container, excl. BTW. | R1: Totaalbedrag per jaar excl. huur container, excl. BTW. | S1: Huur container per maand, excl. BTW | T1: Totaalbedrag huur container per jaar, excl. BTW | U1: Opmerkingen
A2: Heyerdahl College | B2: Groningen | C2: 9732 KZ | D2: Kluiverboom 1 B | E2: vertrouwelijk papier | F2: rolcontainer | G2: 1 | H2: 240 | I2: liter | J2: 1 | K2: x | L2: 8 | M2: week | N2: =G2*J2*52/L2 -> 6.5 | O2: =N2/12 -> 0.54166667 | P2: 0 | Q2: =SUM(O2*P2) -> 0 | R2: =SUM(P2*N2) -> 0 | S2: 0 | T2: =SUM(S2*12) -> 0 | U2: Kunststof container, legen op afroep
A3: Praedinius Gymnasium | B3: Groningen | C3: 9711 TW | D3: Kruitlaan 11 | E3: vertrouwelijk papier | F3: rolcontainer | G3: 1 | H3: 240 | I3: liter | J3: 1 | K3: x | L3: 8 | M3: week | N3: =G3*J3*52/L3 -> 6.5 | O3: =N3/12 -> 0.54166667 | P3: 0 | Q3: =SUM(O3*P3) -> 0 | R3: =SUM(P3*N3) -> 0 | S3: 0 | T3: =SUM(S3*12) -> 0 | U3: Kunststof container, legen op afroep
A4: Praedinius Gymnasium | B4: Groningen | C4: 9711 VX | D4: Turfsingel 82 | E4: vertrouwelijk papier | F4: rolcontainer | G4: 1 | H4: 240 | I4: liter | J4: 1 | K4: x | L4: 8 | M4: week | N4: =G4*J4*52/L4 -> 6.5 | O4: 0.54166667 | P4: 0 | Q4: =SUM(O4*P4) -> 0 | R4: =SUM(P4*N4) -> 0 | S4: 0 | T4: =SUM(S4*12) -> 0 | U4: Kunststof container, legen op afroep
A5: Reitdiep College - Leon van Gelder | B5: Groningen | C5: 9743 BA | D5: Diamantlaan 27 | E5: vertrouwelijk papier | F5: rolcontainer | G5: 1 | H5: 240 | I5: liter | J5: 1 | K5: x | L5: 8 | M5: week | N5: =G5*J5*52/L5 -> 6.5 | O5: =N5/12 -> 0.54166667 | P5: 0 | Q5: =SUM(O5*P5) -> 0 | R5: =SUM(P5*N5) -> 0 | S5: 0 | T5: =SUM(S5*12) -> 0 | U5: Kunststof container, legen op afroep
A6: Reitdiep College - Leon van Gelder | B6: Groningen | C6: 9743 BA | D6: Diamantlaan 27 | E6: vertrouwelijk papier | F6: rolcontainer | G6: 1 | H6: 500 | I6: liter | J6: 1 | K6: x | L6: 8 | M6: week | N6: =G6*J6*52/L6 -> 6.5 | O6: =N6/12 -> 0.54166667 | P6: 0 | Q6: =SUM(O6*P6) -> 0 | R6: =SUM(P6*N6) -> 0 | S6: 0 | T6: =SUM(S6*12) -> 0 | U6: Kunststof container, legen op afroep
A7: Reitdiep College - Kamerlingh Onnes | B7: Groningen | C7: 9741 EW | D7: Eikenlaan 286 | E7: vertrouwelijk papier | F7: rolcontainer | G7: 1 | H7: 240 | I7: liter | J7: 1 | K7: x | L7: 8 | M7: week | N7: =G7*J7*52/L7 -> 6.5 | O7: =N7/12 -> 0.54166667 | P7: 0 | Q7: =SUM(O7*P7) -> 0 | R7: =SUM(P7*N7) -> 0 | S7: 0 | T7: =SUM(S7*12) -> 0 | U7: Kunststof container, legen op afroep
A8: Reitdiep College - Simon van Hasselt | B8: Groningen | C8: 9743 SZ | D8: Travertijnstraat 2 | E8: vertrouwelijk papier | F8: rolcontainer | G8: 1 | H8: 240 | I8: liter | J8: 1 | K8: x | L8: 8 | M8: week | N8: =G8*J8*52/L8 -> 6.5 | O8: =N8/12 -> 0.54166667 | P8: 0 | Q8: =SUM(O8*P8) -> 0 | R8: =SUM(P8*N8) -> 0 | S8: 0 | T8: =SUM(S8*12) -> 0 | U8: Kunststof container, legen op afroep
A9: Werkman College - Stadslyceum | B9: Groningen | C9: 9711 VG | D9: Nieuwe Sint Jansstraat 11 | E9: vertrouwelijk papier | F9: rolcontainer | G9: 2 | H9: 240 | I9: liter | J9: 1 | K9: x | L9: 8 | M9: week | N9: =G9*J9*52/L9 -> 13 | O9: =N9/12 -> 1.0833333 | P9: 0 | Q9: =SUM(O9*P9) -> 0 | R9: =SUM(P9*N9) -> 0 | S9: 0 | T9: =SUM(S9*12) -> 0 | U9: Kunststof container, legen op afroep
A10: Werkman College - Topsporttalentschool | B10: Groningen | C10: 9731 BX | D10: Melisseweg 2 | E10: vertrouwelijk papier | F10: rolcontainer | G10: 2 | H10: 240 | I10: liter | J10: 1 | K10: x | L10: 8 | M10: week | N10: =G10*J10*52/L10 -> 13 | O10: =N10/12 -> 1.0833333 | P10: 0 | Q10: =SUM(O10*P10) -> 0 | R10: =SUM(P10*N10) -> 0 | S10: 0 | T10: =SUM(S10*12) -> 0 | U10: Kunststof container, legen op afroep
A11: Zernike College - Montessori Lyceum Groningen | B11: Groningen | C11: 9722 EP | D11: Helperbrink 30 | E11: vertrouwelijk papier | F11: rolcontainer | G11: 2 | H11: 240 | I11: liter | J11: 1 | K11: x | L11: 8 | M11: week | N11: =G11*J11*52/L11 -> 13 | O11: =N11/12 -> 1.0833333 | P11: 0 | Q11: =SUM(O11*P11) -> 0 | R11: =SUM(P11*N11) -> 0 | S11: 0 | T11: =SUM(S11*12) -> 0 | U11: Kunststof container, legen op afroep
A12: Zernike College - Montessori Vaklyceum Groningen | B12: Groningen | C12: 9721 CL | D12: Van Iddekingeweg 140 | E12: vertrouwelijk papier | F12: rolcontainer | G12: 1 | H12: 240 | I12: liter | J12: 1 | K12: x | L12: 8 | M12: week | N12: =G12*J12*52/L12 -> 6.5 | O12: =N12/12 -> 0.54166667 | P12: 0 | Q12: =SUM(O12*P12) -> 0 | R12: =SUM(P12*N12) -> 0 | S12: 0 | T12: =SUM(S12*12) -> 0 | U12: Kunststof container, legen op afroep
A13: Zernike College - Montessori Vaklyceum Groningen | B13: Groningen | C13: 9721 LD | D13: Vondellaan 83 | E13: vertrouwelijk papier | F13: rolcontainer | G13: 1 | H13: 240 | I13: liter | J13: 1 | K13: x | L13: 8 | M13: week | N13: =G13*J13*52/L13 -> 6.5 | O13: =N13/12 -> 0.54166667 | P13: 0 | Q13: =SUM(O13*P13) -> 0 | R13: =SUM(P13*N13) -> 0 | S13: 0 | T13: =SUM(S13*12) -> 0 | U13: Kunststof container, legen op afroep
A14: Zernike College - Harens Lyceum | B14: Groningen | C14: 9751 NL | D14: Kerklaan 39 | E14: vertrouwelijk papier | F14: rolcontainer | G14: 1 | H14: 500 | I14: liter | J14: 1 | K14: x | L14: 8 | M14: week | N14: =G14*J14*52/L14 -> 6.5 | O14: =N14/12 -> 0.54166667 | P14: 0 | Q14: =SUM(O14*P14) -> 0 | R14: =SUM(P14*N14) -> 0 | S14: 0 | T14: =SUM(S14*12) -> 0 | U14: Kunststof container, legen op afroep
A15: De Feniks | B15: Groningen | C15: 9746 BJ | D15: Maresiusstraat 22 | E15: vertrouwelijk papier | F15: rolcontainer | G15: 1 | H15: 240 | I15: liter | J15: 1 | K15: x | L15: 8 | M15: week | N15: =G15*J15*52/L15 -> 6.5 | O15: =N15/12 -> 0.54166667 | P15: 0 | Q15: =SUM(O15*P15) -> 0 | R15: =SUM(P15*N15) -> 0 | S15: 0 | T15: =SUM(S15*12) -> 0 | U15: Kunststof container, legen op afroep
A16: De Pendinghe | B16: Groningen | C16: 9741 EW | D16: Eikenlaan 288-7 | E16: vertrouwelijk papier | F16: rolcontainer | G16: 1 | H16: 240 | I16: liter | J16: 1 | K16: x | L16: 8 | M16: week | N16: =G16*J16*52/L16 -> 6.5 | O16: =N16/12 -> 0.54166667 | P16: 0 | Q16: =SUM(O16*P16) -> 0 | R16: =SUM(P16*N16) -> 0 | S16: 0 | T16: =SUM(S16*12) -> 0 | U16: Kunststof container, legen op afroep
... A31: Ondersteuningsbureau | B31: Groningen | C31: 9727 KB | D31: Leonard Springerlaan 39 | E31: vertrouwelijk papier | F31: rolcontainer | G31: 3 | H31: 240 | I31: liter | J31: 1 | K31: x | L31: 8 | M31: week | N31: =G31*J31*52/L31 -> 19.5 | O31: =N31/12 -> 1.625 | P31: 0 | Q31: =SUM(O31*P31) -> 0 | R31: =SUM(P31*N31) -> 0 | S31: 0 | T31: =SUM(S31*12) -> 0 | U31: Kunststof container, legen op afroep
R32: =SUM(R2:R31) -> 0 | T32: =SUM(T2:T31) -> 0

Sheet Buiten scope
A1: School | B1: Plaats | C1: Postcode | D1: Straat | E1: Afvalstroom | F1: Type container | G1: Aantal containers | H1: Inhoud | J1: Frequentie Aantal ledigingen per week | N1: Aantal ledigingen per jaar | O1: Aantal ledigingen per maand | P1: Bedrag per lediging excl. huur container, excl. BTW. | Q1: Totaalbedrag lediging per maand excl. huur container, excl. BTW. | R1: Totaalbedrag lediging per jaar excl. huur container, excl. BTW. | S1: Huur container per maand, excl. BTW. | T1: Totaalbedrag huur container per jaar, excl. BTW. | U1: Opmerkingen
A2: Heyerdahl College | B2: Groningen | C2: 9732 KZ | D2: Kluiverboom 1 B | E2: restafval | F2: ondergrondse container | G2: 1 | H2: 5000 | J2: 1 | K2: x | L2: 1 | M2: week | N2: =G2*J2*52/L2 -> 52 | O2: =N2/12 -> 4.3333333 | P2: 0 | Q2: 0 | R2: 0 | S2: 0 | T2: 0 | U2: Stalen container
A3: Werkman College - Werkman VMBO | B3: Groningen | C3: 9732 KZ | D3: Kluiverboom 1 A | E3: restafval | F3: ondergrondse container | G3: 1 | H3: 5000 | I3: liter | J3: 1 | K3: x | L3: 1 | M3: week | N3: =G3*J3*52/L3 -> 52 | O3: =N3/12 -> 4.3333333 | P3: 0 | Q3: 0 | R3: 0 | S3: 0 | T3: 0 | U3: Stalen container
A4: Zernike College - Harens Lyceum | B4: Haren | C4: 9751 NL | D4: Kerklaan 39 | E4: restafval | F4: ondergrondse container | G4: 1 | H4: 5000 | I4: liter | J4: 1 | K4: x | L4: 1 | M4: week | N4: =G4*J4*52/L4 -> 52 | O4: =N4/12 -> 4.3333333 | P4: 0 | Q4: =SUM(O4*P4) -> 0 | R4: =SUM(Q4*12) -> 0 | S4: 0 | T4: =SUM(S4*12) -> 0 | U4: Stalen container
A5: Internationale Schakelklas | B5: Groningen | C5: 9731 BX | D5: Melisseweg 2 A | E5: restafval | F5: ondergrondse container | G5: 1 | H5: 5000 | I5: liter | J5: 1 | K5: x | L5: 1 | M5: week | N5: =G5*J5*52/L5 -> 52 | O5: =N5/12 -> 4.3333333 | P5: 0 | Q5: 0 | R5: 0 | S5: 0 | T5: 0 | U5: Stalen container
A6: De Feniks | B6: Groningen | C6: 9746 BJ | D6: Maresiusstraat 22 | E6: restafval | F6: ondergrondse container | G6: 1 | H6: 5000 | I6: liter | J6: 1 | K6: x | L6: 1 | M6: week | N6: =G6*J6*52/L6 -> 52 | O6: =N6/12 -> 4.3333333 | P6: 0 | Q6: 0 | R6: 0 | S6: 0 | T6: 0 | U6: Stalen container
A7: De Pendinghe | B7: Groningen | C7: 9741 EW | D7: Eikenlaan 288-7 | E7: restafval | F7: ondergrondse container | G7: 1 | H7: 5000 | I7: liter | J7: 1 | K7: x | L7: 1 | M7: week | N7: =G7*J7*52/L7 -> 52 | O7: =N7/12 -> 4.3333333 | P7: 0 | Q7: 0 | R7: 0 | S7: 0 | T7: 0 | U7: Stalen container
A8: De Ploeg | B8: Groningen | C8: 9744 AP | D8: Zuiderweg 70-3 | E8: restafval | F8: ondergrondse container | G8: 1 | H8: 5000 | I8: liter | J8: 1 | K8: x | L8: 1 | M8: week | N8: =G8*J8*52/L8 -> 52 | O8: =N8/12 -> 4.3333333 | P8: 0 | Q8: 0 | R8: 0 | S8: 0 | T8: 0 | U8: Stalen container
A9: De Sterrensteen | B9: Groningen | C9: 9743 EZ | D9: Siersteenstraat 480 | E9: restafval | F9: ondergrondse container | G9: 1 | H9: 5000 | I9: liter | J9: 1 | K9: x | L9: 1 | M9: week | N9: =G9*J9*52/L9 -> 52 | O9: =N9/12 -> 4.3333333 | P9: 0 | Q9: =SUM(O9*P9) -> 0 | R9: =SUM(Q9*12) -> 0 | S9: 0 | T9: =SUM(S9*12) -> 0 | U9: Stalen container
A10: IKC Borgman Ebbinge | B10: Groningen | C10: 9712 LT | D10: Langestraat 10 | E10: restafval | F10: ondergrondse container | G10: 1 | H10: 5000 | I10: liter | J10: 1 | K10: x | L10: 1 | M10: week | N10: =G10*J10*52/L10 -> 52 | O10: =N10/12 -> 4.3333333 | P10: 0 | Q10: =SUM(O10*P10) -> 0 | R10: =SUM(Q10*12) -> 0 | S10: 0 | T10: =SUM(S10*12) -> 0 | U10: Stalen container
A11: IKC Bloemenwei | B11: Groningen | C11: 9723 NA | D11: Dagpauwoog 1 | E11: restafval | F11: ondergrondse container | G11: 1 | H11: 5000 | I11: liter | J11: 1 | K11: x | L11: 1 | M11: week | N11: =G11*J11*52/L11 -> 52 | O11: =N11/12 -> 4.3333333 | P11: 0 | Q11: 0 | R11: 0 | S11: 0 | T11: 0 | U11: Stalen container
A12: Meander | B12: Groningen | C12: 9746 RS | D12: Slenk 2 | E12: restafval | F12: ondergrondse container | G12: 1 | H12: 5000 | I12: liter | J12: 1 | K12: x | L12: 1 | M12: week | N12: =G12*J12*52/L12 -> 52 | O12: =N12/12 -> 4.3333333 | P12: 0 | Q12: =SUM(O12*P12) -> 0 | R12: =SUM(Q12*12) -> 0 | S12: 0 | T12: =SUM(S12*12) -> 0 | U12: Stalen container
A16: Ondergrondse containers zijn buiten scope.
