Workbook

Sheet Tonnages per afvalstroom
B2: Afvalstroom | C2: Ton per jaar | D2: Aantal transporten | E2: Ton per transport
B3: GHRA- ter sortering | C3: 4926 | D3: =C3/E3 -> 1589.0323 | E3: 3.1
B4: GHRA- ter shreddering | C4: 626 | D4: =C4/E4 -> 347.77778 | E4: 1.8
B5: GROENMIX | C5: 11801 | D5: =C5/E5 -> 2950.25 | E5: 4
B6: BLAD | C6: 756 | D6: =C6/E6 -> 189 | E6: 4
B7: A+B HOUT gemengd | C7: 3983 | D7: =C7/E7 -> 1106.3889 | E7: 3.6
B8: C-HOUT | C8: 260 | D8: =C8/E8 -> 96.296296 | E8: 2.7
B9: BITUMEN | C9: 88 | D9: =C9/E9 -> 8.8 | E9: 10
B10: PE/PP | C10: 36 | D10: =C10/E10 -> 18 | E10: 2
B11: SCHOON PUIN | C11: 1489 | D11: =C11/E11 -> 148.9 | E11: 10
B12: LAMINAAT (nieuwe stroom) | C12: 350 | D12: =C12/E12 -> 35 | E12: 10
B13: GIPS (nieuwe stroom) | C13: 120 | D13: =C13/E13 -> 12 | E13: 10
B14: SCHOFFELGROEN | C14: 25 | D14: =C14/E14 -> 5 | E14: 5

Sheet Transportkosten totaal
B2: In dit werkblad zijn per afvalstroom de kosten per transport zoals u die heeft ingevuld in werkblad 'Invullen-Transportkosten' per locatie gekoppeld aan het aantal transporten per locatie. Het aantal transporten per afvalstroom per locatie is berekend op basis van de tonnages zoals u die heeft ingevuld in het werkblad ' Invullen O&O-kosten' en een gemiddeld gewicht per transport (zie werkblad 'Tonnages per afvalstroom). Voorbeeld: GHRA-SORT totaal 4.926 ton. Op locatie 1 neemt u 1.925 ton in (39%) en op locatie 2 neemt u 3.000 ton in (61%). Deze verhouding berekenen we door voor elke herkomstlocatie. Voorbeeld Milieupark Sittard GHRA-SORT totaal 1.465 ton . voor locatie 1 wordt dit dan 39% x 1.465 ton = 572,8 ton. Het gemiddeld gewicht van een transport GHRA is 3,1 ton. Dit betekent voor locatie 1 een aantal van 184,8 transporten. We rekenen verder met een cijfer achter de komma omdat zo eenduidig is hoe de rekensom wordt gemaakt. Het betreft immers een berekening van de fictieve jaarlijkse transportkosten.
D4: Totaal | F4: Locatie 1 | J4: Locatie 2 | N4: Totaal
B5: TOTAAL PER AFVALSTROOM EN TOTAAL OVER ALLE AFVALSTROMEN | D5: Tonnage | E5: Aantal transporten | F5: Tonnage | G5: Aantal transporten | H5: Kosten per transport (€) | I5: Transport-kosten (€/jaar) | J5: Tonnage | K5: Aantal transporten | L5: Kosten per transport (€) | M5: Transport-kosten (€/jaar) | N5: Tonnage | O5: Aantal transporten | P5: Transport-kosten (€/jaar)
B6: GHRA-SORT | D6: =D33 -> 4926 | E6: =E33 -> 1589.0323 | F6: =F33 -> 0 | G6: =G33 -> 0 | I6: =I33 -> 0 | J6: =J33 -> 4926 | K6: =K33 -> 1589.0323 | M6: =M33 -> 0 | N6: =N33 -> 4926 | O6: =O33 -> 1589.0323 | P6: =P33 -> 0
B7: GHRA-SHRED | D7: =D46 -> 626 | E7: =E46 -> 347.77778 | F7: =F46 -> 0 | G7: =G46 -> 0 | I7: =I46 -> 0 | J7: =J46 -> 626 | K7: =K46 -> 347.77778 | M7: =M46 -> 0 | N7: =N46 -> 626 | O7: =O46 -> 347.77778 | P7: =P46 -> 0
B8: GROENMIX | D8: =D59 -> 11801 | E8: =E59 -> 2950.25 | F8: =F59 -> 0 | G8: =G59 -> 0 | I8: =I59 -> 0 | J8: =J59 -> 11801 | K8: =K59 -> 2950.25 | M8: =M59 -> 0 | N8: =N59 -> 11801 | O8: =O59 -> 2950.25 | P8: =P59 -> 0
B9: BLAD | D9: =D72 -> 756 | E9: =E72 -> 189 | F9: =F72 -> 0 | G9: =G72 -> 0 | I9: =I72 -> 0 | J9: =J72 -> 756 | K9: =K72 -> 189 | M9: =M72 -> 0 | N9: =N72 -> 756 | O9: =O72 -> 189 | P9: =P72 -> 0
B10: A-B HOUT GEMENGD | D10: =D85 -> 3983 | E10: =E85 -> 1106.3889 | F10: =F85 -> 0 | G10: =G85 -> 0 | I10: =I85 -> 0 | J10: =J85 -> 3983 | K10: =K85 -> 1106.3889 | M10: =M85 -> 0 | N10: =N85 -> 3983 | O10: =O85 -> 1106.3889 | P10: =P85 -> 0
B11: C-HOUT | D11: =D98 -> 260 | E11: =E98 -> 96.296296 | F11: =F98 -> 0 | G11: =G98 -> 0 | I11: =I98 -> 0 | J11: =J98 -> 260 | K11: =K98 -> 96.296296 | M11: =M98 -> 0 | N11: =N98 -> 260 | O11: =O98 -> 96.296296 | P11: =P98 -> 0
B12: BITUMEN | D12: =D111 -> 88 | E12: =E111 -> 8.8 | F12: =F111 -> 0 | G12: =G111 -> 0 | I12: =I111 -> 0 | J12: =J111 -> 88 | K12: =K111 -> 8.8 | M12: =M111 -> 0 | N12: =N111 -> 88 | O12: =O111 -> 8.8 | P12: =P111 -> 0
B13: PE/PP | D13: =D124 -> 36 | E13: =E124 -> 18 | F13: =F124 -> 0 | G13: =G124 -> 0 | I13: =I124 -> 0 | J13: =J124 -> 36 | K13: =K124 -> 18 | M13: =M124 -> 0 | N13: =N124 -> 36 | O13: =O124 -> 18 | P13: =P124 -> 0
B14: PUIN | D14: =D137 -> 1489 | E14: =E137 -> 148.9 | F14: =F137 -> 0 | G14: =G137 -> 0 | I14: =I137 -> 0 | J14: =J137 -> 1489 | K14: =K137 -> 148.9 | M14: =M137 -> 0 | N14: =N137 -> 1489 | O14: =O137 -> 148.9 | P14: =P137 -> 0
B15: LAMINAAT | D15: =D150 -> 350 | E15: =E150 -> 35 | F15: =F150 -> 0 | G15: =G150 -> 0 | I15: =I150 -> 0 | J15: =J150 -> 350 | K15: =K150 -> 35 | M15: =M150 -> 0 | N15: =N150 -> 350 | O15: =O150 -> 35 | P15: =P150 -> 0
B16: GIPS | D16: =D163 -> 120 | E16: =E163 -> 12 | F16: =F163 -> 0 | G16: =G163 -> 0 | I16: =I163 -> 0 | J16: =J163 -> 120 | K16: =K163 -> 12 | M16: =M163 -> 0 | N16: =N163 -> 120 | O16: =O163 -> 12 | P16: =P163 -> 0
B17: SCHOFFELGROEN | D17: =D176 -> 25 | E17: =E176 -> 5 | F17: =F176 -> 0 | G17: =G176 -> 0 | I17: =I176 -> 0 | J17: =J176 -> 25 | K17: =K176 -> 5 | M17: =M176 -> 0 | N17: =N176 -> 25 | O17: =O176 -> 5 | P17: =P176 -> 0
B18: TOTAAL | D18: =SUM(D6:D17) -> 24460 | E18: =SUM(E6:E17) -> 6506.4452 | F18: =SUM(F6:F17) -> 0 | G18: =SUM(G6:G17) -> 0 | I18: =SUM(I6:I17) -> 0 | J18: =SUM(J6:J17) -> 24460 | K18: =SUM(K6:K17) -> 6506.4452 | M18: =SUM(M6:M17) -> 0 | N18: =SUM(N6:N17) -> 24460 | O18: =SUM(O6:O17) -> 6506.4452 | P18: =SUM(P6:P17) -> 0 | Q18: Fictieve jaarlijkse transportkosten
B20: Hieronder staan de resultaten per afvalstroom en per herkomstlocatie.
D22: Totaal | F22: Locatie 1 | J22: Locatie 2 | N22: Totaal
B23: GHRA-SORT | D23: Tonnage | E23: Aantal transporten | F23: Tonnage | G23: Aantal transporten | H23: Kosten per transport (€) | I23: Transport-kosten (€/jaar) | J23: Tonnage | K23: Aantal transporten | L23: Kosten per transport (€) | M23: Transport-kosten (€/jaar) | N23: Tonnage | O23: Aantal transporten | P23: Transport-kosten (€/jaar)
B24: MP Sittard | C24: Milieuparkweg 11, Sittard | D24: 1465 | E24: =D24/'Tonnages per afvalstroom'!$E$3 -> 472.58065 | F24: =('Invullen O&O-kosten'!$D$7/'Invullen O&O-kosten'!$C$7)*D24 -> 0 | G24: =F24/'Tonnages per afvalstroom'!$E$3 -> 0 | H24: ='Invullen-Transportkosten'!I7 -> 0 | I24: =G24*H24 -> 0 | J24: =('Invullen O&O-kosten'!$H$7/'Invullen O&O-kosten'!$C$7)*D24 -> 1465 | K24: =J24/'Tonnages per afvalstroom'!$E$3 -> 472.58065 | L24: ='Invullen-Transportkosten'!O7 -> 0 | M24: =K24*L24 -> 0 | N24: =F24+J24 -> 1465 | O24: =G24+K24 -> 472.58065 | P24: =I24+M24 -> 0
B25: MP Geleen | C25: Nijverheidsweg 10, Geleen | D25: 1514 | E25: =D25/'Tonnages per afvalstroom'!$E$3 -> 488.3871 | F25: =('Invullen O&O-kosten'!$D$7/'Invullen O&O-kosten'!$C$7)*D25 -> 0 | G25: =F25/'Tonnages per afvalstroom'!$E$3 -> 0 | H25: ='Invullen-Transportkosten'!I8 -> 0 | I25: =G25*H25 -> 0 | J25: =('Invullen O&O-kosten'!$H$7/'Invullen O&O-kosten'!$C$7)*D25 -> 1514 | K25: =J25/'Tonnages per afvalstroom'!$E$3 -> 488.3871 | L25: ='Invullen-Transportkosten'!O8 -> 0 | M25: =K25*L25 -> 0 | N25: =F25+J25 -> 1514 | O25: =G25+K25 -> 488.3871 | P25: =I25+M25 -> 0
B26: MP Born | C26: Florianstraat 5, Born | D26: 899 | E26: =D26/'Tonnages per afvalstroom'!$E$3 -> 290 | F26: =('Invullen O&O-kosten'!$D$7/'Invullen O&O-kosten'!$C$7)*D26 -> 0 | G26: =F26/'Tonnages per afvalstroom'!$E$3 -> 0 | H26: ='Invullen-Transportkosten'!I9 -> 0 | I26: =G26*H26 -> 0 | J26: =('Invullen O&O-kosten'!$H$7/'Invullen O&O-kosten'!$C$7)*D26 -> 899 | K26: =J26/'Tonnages per afvalstroom'!$E$3 -> 290 | L26: ='Invullen-Transportkosten'!O9 -> 0 | M26: =K26*L26 -> 0 | N26: =F26+J26 -> 899 | O26: =G26+K26 -> 290 | P26: =I26+M26 -> 0
B27: MP Beek | C27: De Haamen 3, Beek
B28: MP Stein | C28: Stadhouderslaan 245, Stein | D28: 579 | E28: =D28/'Tonnages per afvalstroom'!$E$3 -> 186.77419 | F28: =('Invullen O&O-kosten'!$D$7/'Invullen O&O-kosten'!$C$7)*D28 -> 0 | G28: =F28/'Tonnages per afvalstroom'!$E$3 -> 0 | H28: ='Invullen-Transportkosten'!I11 -> 0 | I28: =G28*H28 -> 0 | J28: =('Invullen O&O-kosten'!$H$7/'Invullen O&O-kosten'!$C$7)*D28 -> 579 | K28: =J28/'Tonnages per afvalstroom'!$E$3 -> 186.77419 | L28: ='Invullen-Transportkosten'!O11 -> 0 | M28: =K28*L28 -> 0 | N28: =F28+J28 -> 579 | O28: =G28+K28 -> 186.77419 | P28: =I28+M28 -> 0
B29: Gemeentewerf Beek | C29: De Haamen 3, Beek | D29: 14 | E29: =D29/'Tonnages per afvalstroom'!$E$3 -> 4.516129 | F29: =('Invullen O&O-kosten'!$D$7/'Invullen O&O-kosten'!$C$7)*D29 -> 0 | G29: =F29/'Tonnages per afvalstroom'!$E$3 -> 0 | H29: ='Invullen-Transportkosten'!I12 -> 0 | I29: =G29*H29 -> 0 | J29: =('Invullen O&O-kosten'!$H$7/'Invullen O&O-kosten'!$C$7)*D29 -> 14 | K29: =J29/'Tonnages per afvalstroom'!$E$3 -> 4.516129 | L29: ='Invullen-Transportkosten'!O12 -> 0 | M29: =K29*L29 -> 0 | N29: =F29+J29 -> 14 | O29: =G29+K29 -> 4.516129 | P29: =I29+M29 -> 0
B30: Gemeentewerf Geleen | C30: Jubileumplein 11, Geleen | D30: 183 | E30: =D30/'Tonnages per afvalstroom'!$E$3 -> 59.032258 | F30: =('Invullen O&O-kosten'!$D$7/'Invullen O&O-kosten'!$C$7)*D30 -> 0 | G30: =F30/'Tonnages per afvalstroom'!$E$3 -> 0 | H30: ='Invullen-Transportkosten'!I13 -> 0 | I30: =G30*H30 -> 0 | J30: =('Invullen O&O-kosten'!$H$7/'Invullen O&O-kosten'!$C$7)*D30 -> 183 | K30: =J30/'Tonnages per afvalstroom'!$E$3 -> 59.032258 | L30: ='Invullen-Transportkosten'!O13 -> 0 | M30: =K30*L30 -> 0 | N30: =F30+J30 -> 183 | O30: =G30+K30 -> 59.032258 | P30: =I30+M30 -> 0
B31: Gemeentewerf Stein | C31: Stadhouderslaan 245, Stein
B32: Kringloopwarenhuis het Goed | C32: Rijksweg 208, Sittard | D32: =15+241+13+3 -> 272 | E32: =D32/'Tonnages per afvalstroom'!$E$3 -> 87.741935 | F32: =('Invullen O&O-kosten'!$D$7/'Invullen O&O-kosten'!$C$7)*D32 -> 0 | G32: =F32/'Tonnages per afvalstroom'!$E$3 -> 0 | H32: ='Invullen-Transportkosten'!I15 -> 0 | I32: =G32*H32 -> 0 | J32: =('Invullen O&O-kosten'!$H$7/'Invullen O&O-kosten'!$C$7)*D32 -> 272 | K32: =J32/'Tonnages per afvalstroom'!$E$3 -> 87.741935 | L32: ='Invullen-Transportkosten'!O15 -> 0 | M32: =K32*L32 -> 0 | N32: =F32+J32 -> 272 | O32: =G32+K32 -> 87.741935 | P32: =I32+M32 -> 0
B33: TOTAAL | D33: =SUM(D24:D32) -> 4926 | E33: =SUM(E24:E32) -> 1589.0323 | F33: =SUM(F24:F32) -> 0 | G33: =SUM(G24:G32) -> 0 | I33: =SUM(I24:I32) -> 0 | J33: =SUM(J24:J32) -> 4926 | K33: =SUM(K24:K32) -> 1589.0323 | M33: =SUM(M24:M32) -> 0 | N33: =SUM(N24:N32) -> 4926 | O33: =SUM(O24:O32) -> 1589.0323 | P33: =SUM(P24:P32) -> 0
D35: Totaal | F35: Locatie 1 | J35: Locatie 2 | N35: Totaal
B36: GHRA-SHRED | D36: Tonnage | E36: Aantal transporten | F36: Tonnage | G36: Aantal transporten | H36: Kosten per transport (€) | I36: Transport-kosten (€/jaar) | J36: Tonnage | K36: Aantal transporten | L36: Kosten per transport (€) | M36: Transport-kosten (€/jaar) | N36: Tonnage | O36: Aantal transporten | P36: Transport-kosten (€/jaar)
B37: MP Sittard | C37: Milieuparkweg 11, Sittard | D37: 114 | E37: =D37/'Tonnages per afvalstroom'!$E$4 -> 63.333333 | F37: =('Invullen O&O-kosten'!$D$8/'Invullen O&O-kosten'!$C$8)*D37 -> 0 | G37: =F37/'Tonnages per afvalstroom'!$E$4 -> 0 | H37: ='Invullen-Transportkosten'!I7 -> 0 | I37: =G37*H37 -> 0 | J37: =('Invullen O&O-kosten'!$H$8/'Invullen O&O-kosten'!$C$8)*D37 -> 114 | K37: =J37/'Tonnages per afvalstroom'!$E$4 -> 63.333333 | L37: ='Invullen-Transportkosten'!O7 -> 0 | M37: =K37*L37 -> 0 | N37: =F37+J37 -> 114 | O37: =G37+K37 -> 63.333333 | P37: =I37+M37 -> 0
B38: MP Geleen | C38: Nijverheidsweg 10, Geleen | D38: 185 | E38: =D38/'Tonnages per afvalstroom'!$E$4 -> 102.77778 | F38: =('Invullen O&O-kosten'!$D$8/'Invullen O&O-kosten'!$C$8)*D38 -> 0 | G38: =F38/'Tonnages per afvalstroom'!$E$4 -> 0 | H38: ='Invullen-Transportkosten'!I8 -> 0 | I38: =G38*H38 -> 0 | J38: =('Invullen O&O-kosten'!$H$8/'Invullen O&O-kosten'!$C$8)*D38 -> 185 | K38: =J38/'Tonnages per afvalstroom'!$E$4 -> 102.77778 | L38: ='Invullen-Transportkosten'!O8 -> 0 | M38: =K38*L38 -> 0 | N38: =F38+J38 -> 185 | O38: =G38+K38 -> 102.77778 | P38: =I38+M38 -> 0
B39: MP Born | C39: Florianstraat 5, Born | D39: 144 | E39: =D39/'Tonnages per afvalstroom'!$E$4 -> 80 | F39: =('Invullen O&O-kosten'!$D$8/'Invullen O&O-kosten'!$C$8)*D39 -> 0 | G39: =F39/'Tonnages per afvalstroom'!$E$4 -> 0 | H39: ='Invullen-Transportkosten'!I9 -> 0 | I39: =G39*H39 -> 0 | J39: =('Invullen O&O-kosten'!$H$8/'Invullen O&O-kosten'!$C$8)*D39 -> 144 | K39: =J39/'Tonnages per afvalstroom'!$E$4 -> 80 | L39: ='Invullen-Transportkosten'!O9 -> 0 | M39: =K39*L39 -> 0 | N39: =F39+J39 -> 144 | O39: =G39+K39 -> 80 | P39: =I39+M39 -> 0
B40: MP Beek | C40: De Haamen 3, Beek | D40: 3 | E40: =D40/'Tonnages per afvalstroom'!$E$4 -> 1.6666667 | F40: =('Invullen O&O-kosten'!$D$8/'Invullen O&O-kosten'!$C$8)*D40 -> 0 | G40: =F40/'Tonnages per afvalstroom'!$E$4 -> 0 | H40: ='Invullen-Transportkosten'!I10 -> 0 | I40: =G40*H40 -> 0 | J40: =('Invullen O&O-kosten'!$H$8/'Invullen O&O-kosten'!$C$8)*D40 -> 3 | K40: =J40/'Tonnages per afvalstroom'!$E$4 -> 1.6666667 | L40: ='Invullen-Transportkosten'!O10 -> 0 | M40: =K40*L40 -> 0 | N40: =F40+J40 -> 3 | O40: =G40+K40 -> 1.6666667 | P40: =I40+M40 -> 0
B41: MP Stein | C41: Stadhouderslaan 245, Stein | D41: 106 | E41: =D41/'Tonnages per afvalstroom'!$E$4 -> 58.888889 | F41: =('Invullen O&O-kosten'!$D$8/'Invullen O&O-kosten'!$C$8)*D41 -> 0 | G41: =F41/'Tonnages per afvalstroom'!$E$4 -> 0 | H41: ='Invullen-Transportkosten'!I11 -> 0 | I41: =G41*H41 -> 0 | J41: =('Invullen O&O-kosten'!$H$8/'Invullen O&O-kosten'!$C$8)*D41 -> 106 | K41: =J41/'Tonnages per afvalstroom'!$E$4 -> 58.888889 | L41: ='Invullen-Transportkosten'!O11 -> 0 | M41: =K41*L41 -> 0 | N41: =F41+J41 -> 106 | O41: =G41+K41 -> 58.888889 | P41: =I41+M41 -> 0
B42: Gemeentewerf Beek | C42: De Haamen 3, Beek | D42: 4 | E42: =D42/'Tonnages per afvalstroom'!$E$4 -> 2.2222222 | F42: =('Invullen O&O-kosten'!$D$8/'Invullen O&O-kosten'!$C$8)*D42 -> 0 | G42: =F42/'Tonnages per afvalstroom'!$E$4 -> 0 | H42: ='Invullen-Transportkosten'!I12 -> 0 | I42: =G42*H42 -> 0 | J42: =('Invullen O&O-kosten'!$H$8/'Invullen O&O-kosten'!$C$8)*D42 -> 4 | K42: =J42/'Tonnages per afvalstroom'!$E$4 -> 2.2222222 | L42: ='Invullen-Transportkosten'!O12 -> 0 | M42: =K42*L42 -> 0 | N42: =F42+J42 -> 4 | O42: =G42+K42 -> 2.2222222 | P42: =I42+M42 -> 0
B43: Gemeentewerf Geleen | C43: Jubileumplein 11, Geleen
B44: Gemeentewerf Stein | C44: Stadhouderslaan 245, Stein
B45: Kringloopwarenhuis het Goed | C45: Rijksweg 208, Sittard | D45: =4+66 -> 70 | E45: =D45/'Tonnages per afvalstroom'!$E$4 -> 38.888889 | F45: =('Invullen O&O-kosten'!$D$8/'Invullen O&O-kosten'!$C$8)*D45 -> 0 | G45: =F45/'Tonnages per afvalstroom'!$E$4 -> 0 | H45: ='Invullen-Transportkosten'!I15 -> 0 | I45: =G45*H45 -> 0 | J45: =('Invullen O&O-kosten'!$H$8/'Invullen O&O-kosten'!$C$8)*D45 -> 70 | K45: =J45/'Tonnages per afvalstroom'!$E$4 -> 38.888889 | L45: ='Invullen-Transportkosten'!O15 -> 0 | M45: =K45*L45 -> 0 | N45: =F45+J45 -> 70 | O45: =G45+K45 -> 38.888889 | P45: =I45+M45 -> 0
B46: TOTAAL | D46: =SUM(D37:D45) -> 626 | E46: =SUM(E37:E45) -> 347.77778 | F46: =SUM(F37:F45) -> 0 | G46: =SUM(G37:G45) -> 0 | I46: =SUM(I37:I45) -> 0 | J46: =SUM(J37:J45) -> 626 | K46: =SUM(K37:K45) -> 347.77778 | M46: =SUM(M37:M45) -> 0 | N46: =SUM(N37:N45) -> 626 | O46: =SUM(O37:O45) -> 347.77778 | P46: =SUM(P37:P45) -> 0
D48: Totaal | F48: Locatie 1 | J48: Locatie 2 | N48: Totaal
B49: GROENMIX | D49: Tonnage | E49: Aantal transporten | F49: Tonnage | G49: Aantal transporten | H49: Kosten per transport (€) | I49: Transport-kosten (€/jaar) | J49: Tonnage | K49: Aantal transporten | L49: Kosten per transport (€) | M49: Transport-kosten (€/jaar) | N49: Tonnage | O49: Aantal transporten | P49: Transport-kosten (€/jaar)
B50: MP Sittard | C50: Milieuparkweg 11, Sittard | D50: 1050 | E50: =D50/'Tonnages per afvalstroom'!$E$5 -> 262.5 | F50: =('Invullen O&O-kosten'!$D$9/'Invullen O&O-kosten'!$C$9)*D50 -> 0 | G50: =F50/'Tonnages per afvalstroom'!$E$5 -> 0 | H50: ='Invullen-Transportkosten'!I7 -> 0 | I50: =G50*H50 -> 0 | J50: =('Invullen O&O-kosten'!$H$9/'Invullen O&O-kosten'!$C$9)*D50 -> 1050 | K50: =J50/'Tonnages per afvalstroom'!$E$5 -> 262.5 | L50: ='Invullen-Transportkosten'!O7 -> 0 | M50: =K50*L50 -> 0 | N50: =F50+J50 -> 1050 | O50: =G50+K50 -> 262.5 | P50: =I50+M50 -> 0
B51: MP Geleen | C51: Nijverheidsweg 10, Geleen | D51: 2102 | E51: =D51/'Tonnages per afvalstroom'!$E$5 -> 525.5 | F51: =('Invullen O&O-kosten'!$D$9/'Invullen O&O-kosten'!$C$9)*D51 -> 0 | G51: =F51/'Tonnages per afvalstroom'!$E$5 -> 0 | H51: ='Invullen-Transportkosten'!I8 -> 0 | I51: =G51*H51 -> 0 | J51: =('Invullen O&O-kosten'!$H$9/'Invullen O&O-kosten'!$C$9)*D51 -> 2102 | K51: =J51/'Tonnages per afvalstroom'!$E$5 -> 525.5 | L51: ='Invullen-Transportkosten'!O8 -> 0 | M51: =K51*L51 -> 0 | N51: =F51+J51 -> 2102 | O51: =G51+K51 -> 525.5 | P51: =I51+M51 -> 0
B52: MP Born | C52: Florianstraat 5, Born | D52: 2003 | E52: =D52/'Tonnages per afvalstroom'!$E$5 -> 500.75 | F52: =('Invullen O&O-kosten'!$D$9/'Invullen O&O-kosten'!$C$9)*D52 -> 0 | G52: =F52/'Tonnages per afvalstroom'!$E$5 -> 0 | H52: ='Invullen-Transportkosten'!I9 -> 0 | I52: =G52*H52 -> 0 | J52: =('Invullen O&O-kosten'!$H$9/'Invullen O&O-kosten'!$C$9)*D52 -> 2003 | K52: =J52/'Tonnages per afvalstroom'!$E$5 -> 500.75 | L52: ='Invullen-Transportkosten'!O9 -> 0 | M52: =K52*L52 -> 0 | N52: =F52+J52 -> 2003 | O52: =G52+K52 -> 500.75 | P52: =I52+M52 -> 0
B53: MP Beek | C53: De Haamen 3, Beek | D53: 410 | E53: =D53/'Tonnages per afvalstroom'!$E$5 -> 102.5 | F53: =('Invullen O&O-kosten'!$D$9/'Invullen O&O-kosten'!$C$9)*D53 -> 0 | G53: =F53/'Tonnages per afvalstroom'!$E$5 -> 0 | H53: ='Invullen-Transportkosten'!I10 -> 0 | I53: =G53*H53 -> 0 | J53: =('Invullen O&O-kosten'!$H$9/'Invullen O&O-kosten'!$C$9)*D53 -> 410 | K53: =J53/'Tonnages per afvalstroom'!$E$5 -> 102.5 | L53: ='Invullen-Transportkosten'!O10 -> 0 | M53: =K53*L53 -> 0 | N53: =F53+J53 -> 410 | O53: =G53+K53 -> 102.5 | P53: =I53+M53 -> 0
B54: MP Stein | C54: Stadhouderslaan 245, Stein | D54: =2010+32 -> 2042 | E54: =D54/'Tonnages per afvalstroom'!$E$5 -> 510.5 | F54: =('Invullen O&O-kosten'!$D$9/'Invullen O&O-kosten'!$C$9)*D54 -> 0 | G54: =F54/'Tonnages per afvalstroom'!$E$5 -> 0 | H54: ='Invullen-Transportkosten'!I11 -> 0 | I54: =G54*H54 -> 0 | J54: =('Invullen O&O-kosten'!$H$9/'Invullen O&O-kosten'!$C$9)*D54 -> 2042 | K54: =J54/'Tonnages per afvalstroom'!$E$5 -> 510.5 | L54: ='Invullen-Transportkosten'!O11 -> 0 | M54: =K54*L54 -> 0 | N54: =F54+J54 -> 2042 | O54: =G54+K54 -> 510.5 | P54: =I54+M54 -> 0
B55: Gemeentewerf Beek | C55: De Haamen 3, Beek | D55: =22+159 -> 181 | E55: =D55/'Tonnages per afvalstroom'!$E$5 -> 45.25 | F55: =('Invullen O&O-kosten'!$D$9/'Invullen O&O-kosten'!$C$9)*D55 -> 0 | G55: =F55/'Tonnages per afvalstroom'!$E$5 -> 0 | H55: ='Invullen-Transportkosten'!I12 -> 0 | I55: =G55*H55 -> 0 | J55: =('Invullen O&O-kosten'!$H$9/'Invullen O&O-kosten'!$C$9)*D55 -> 181 | K55: =J55/'Tonnages per afvalstroom'!$E$5 -> 45.25 | L55: ='Invullen-Transportkosten'!O12 -> 0 | M55: =K55*L55 -> 0 | N55: =F55+J55 -> 181 | O55: =G55+K55 -> 45.25 | P55: =I55+M55 -> 0
B56: Gemeentewerf Geleen | C56: Jubileumplein 11, Geleen | D56: =334+499+99+2876+90+8 -> 3906 | E56: =D56/'Tonnages per afvalstroom'!$E$5 -> 976.5 | F56: =('Invullen O&O-kosten'!$D$9/'Invullen O&O-kosten'!$C$9)*D56 -> 0 | G56: =F56/'Tonnages per afvalstroom'!$E$5 -> 0 | H56: ='Invullen-Transportkosten'!I13 -> 0 | I56: =G56*H56 -> 0 | J56: =('Invullen O&O-kosten'!$H$9/'Invullen O&O-kosten'!$C$9)*D56 -> 3906 | K56: =J56/'Tonnages per afvalstroom'!$E$5 -> 976.5 | L56: ='Invullen-Transportkosten'!O13 -> 0 | M56: =K56*L56 -> 0 | N56: =F56+J56 -> 3906 | O56: =G56+K56 -> 976.5 | P56: =I56+M56 -> 0
B57: Gemeentewerf Stein | C57: Stadhouderslaan 245, Stein | D57: 107 | E57: =D57/'Tonnages per afvalstroom'!$E$5 -> 26.75 | F57: =('Invullen O&O-kosten'!$D$9/'Invullen O&O-kosten'!$C$9)*D57 -> 0 | G57: =F57/'Tonnages per afvalstroom'!$E$5 -> 0 | H57: ='Invullen-Transportkosten'!I14 -> 0 | I57: =G57*H57 -> 0 | J57: =('Invullen O&O-kosten'!$H$9/'Invullen O&O-kosten'!$C$9)*D57 -> 107 | K57: =J57/'Tonnages per afvalstroom'!$E$5 -> 26.75 | L57: ='Invullen-Transportkosten'!O14 -> 0 | M57: =K57*L57 -> 0 | N57: =F57+J57 -> 107 | O57: =G57+K57 -> 26.75 | P57: =I57+M57 -> 0
B58: Kringloopwarenhuis het Goed | C58: Rijksweg 208, Sittard
B59: TOTAAL | D59: =SUM(D50:D58) -> 11801 | E59: =SUM(E50:E58) -> 2950.25 | F59: =SUM(F50:F58) -> 0 | G59: =SUM(G50:G58) -> 0 | I59: =SUM(I50:I58) -> 0 | J59: =SUM(J50:J58) -> 11801 | K59: =SUM(K50:K58) -> 2950.25 | M59: =SUM(M50:M58) -> 0 | N59: =SUM(N50:N58) -> 11801 | O59: =SUM(O50:O58) -> 2950.25 | P59: =SUM(P50:P58) -> 0
D61: Totaal | F61: Locatie 1 | J61: Locatie 2 | N61: Totaal
B62: BLAD | D62: Tonnage | E62: Aantal transporten | F62: Tonnage | G62: Aantal transporten | H62: Kosten per transport (€) | I62: Transport-kosten (€/jaar) | J62: Tonnage | K62: Aantal transporten | L62: Kosten per transport (€) | M62: Transport-kosten (€/jaar) | N62: Tonnage | O62: Aantal transporten | P62: Transport-kosten (€/jaar)
B63: MP Sittard | C63: Milieuparkweg 11, Sittard | D63: 9 | E63: =D63/'Tonnages per afvalstroom'!$E$6 -> 2.25 | F63: =('Invullen O&O-kosten'!$D$10/'Invullen O&O-kosten'!$C$10)*D63 -> 0 | G63: =F63/'Tonnages per afvalstroom'!$E$6 -> 0 | H63: ='Invullen-Transportkosten'!I7 -> 0 | I63: =G63*H63 -> 0 | J63: =('Invullen O&O-kosten'!$H$10/'Invullen O&O-kosten'!$C$10)*D63 -> 9 | K63: =J63/'Tonnages per afvalstroom'!$E$6 -> 2.25 | L63: ='Invullen-Transportkosten'!O7 -> 0 | M63: =K63*L63 -> 0 | N63: =F63+J63 -> 9 | O63: =G63+K63 -> 2.25 | P63: =I63+M63 -> 0
B64: MP Geleen | C64: Nijverheidsweg 10, Geleen | D64: 9 | E64: =D64/'Tonnages per afvalstroom'!$E$6 -> 2.25 | F64: =('Invullen O&O-kosten'!$D$10/'Invullen O&O-kosten'!$C$10)*D64 -> 0 | G64: =F64/'Tonnages per afvalstroom'!$E$6 -> 0 | H64: ='Invullen-Transportkosten'!I8 -> 0 | I64: =G64*H64 -> 0 | J64: =('Invullen O&O-kosten'!$H$10/'Invullen O&O-kosten'!$C$10)*D64 -> 9 | K64: =J64/'Tonnages per afvalstroom'!$E$6 -> 2.25 | L64: ='Invullen-Transportkosten'!O8 -> 0 | M64: =K64*L64 -> 0 | N64: =F64+J64 -> 9 | O64: =G64+K64 -> 2.25 | P64: =I64+M64 -> 0
B65: MP Born | C65: Florianstraat 5, Born | D65: 10 | E65: =D65/'Tonnages per afvalstroom'!$E$6 -> 2.5 | F65: =('Invullen O&O-kosten'!$D$10/'Invullen O&O-kosten'!$C$10)*D65 -> 0 | G65: =F65/'Tonnages per afvalstroom'!$E$6 -> 0 | H65: ='Invullen-Transportkosten'!I9 -> 0 | I65: =G65*H65 -> 0 | J65: =('Invullen O&O-kosten'!$H$10/'Invullen O&O-kosten'!$C$10)*D65 -> 10 | K65: =J65/'Tonnages per afvalstroom'!$E$6 -> 2.5 | L65: ='Invullen-Transportkosten'!O9 -> 0 | M65: =K65*L65 -> 0 | N65: =F65+J65 -> 10 | O65: =G65+K65 -> 2.5 | P65: =I65+M65 -> 0
B66: MP Beek | C66: De Haamen 3, Beek
B67: MP Stein | C67: Stadhouderslaan 245, Stein | D67: 3 | E67: =D67/'Tonnages per afvalstroom'!$E$6 -> 0.75 | F67: =('Invullen O&O-kosten'!$D$10/'Invullen O&O-kosten'!$C$10)*D67 -> 0 | G67: =F67/'Tonnages per afvalstroom'!$E$6 -> 0 | H67: ='Invullen-Transportkosten'!I11 -> 0 | I67: =G67*H67 -> 0 | J67: =('Invullen O&O-kosten'!$H$10/'Invullen O&O-kosten'!$C$10)*D67 -> 3 | K67: =J67/'Tonnages per afvalstroom'!$E$6 -> 0.75 | L67: ='Invullen-Transportkosten'!O11 -> 0 | M67: =K67*L67 -> 0 | N67: =F67+J67 -> 3 | O67: =G67+K67 -> 0.75 | P67: =I67+M67 -> 0
B68: Gemeentewerf Beek | C68: De Haamen 3, Beek | D68: 359 | E68: =D68/'Tonnages per afvalstroom'!$E$6 -> 89.75 | F68: =('Invullen O&O-kosten'!$D$10/'Invullen O&O-kosten'!$C$10)*D68 -> 0 | G68: =F68/'Tonnages per afvalstroom'!$E$6 -> 0 | H68: ='Invullen-Transportkosten'!I12 -> 0 | I68: =G68*H68 -> 0 | J68: =('Invullen O&O-kosten'!$H$10/'Invullen O&O-kosten'!$C$10)*D68 -> 359 | K68: =J68/'Tonnages per afvalstroom'!$E$6 -> 89.75 | L68: ='Invullen-Transportkosten'!O12 -> 0 | M68: =K68*L68 -> 0 | N68: =F68+J68 -> 359 | O68: =G68+K68 -> 89.75 | P68: =I68+M68 -> 0
B69: Gemeentewerf Geleen | C69: Jubileumplein 11, Geleen | D69: 16 | E69: =D69/'Tonnages per afvalstroom'!$E$6 -> 4 | F69: =('Invullen O&O-kosten'!$D$10/'Invullen O&O-kosten'!$C$10)*D69 -> 0 | G69: =F69/'Tonnages per afvalstroom'!$E$6 -> 0 | H69: ='Invullen-Transportkosten'!I13 -> 0 | I69: =G69*H69 -> 0 | J69: =('Invullen O&O-kosten'!$H$10/'Invullen O&O-kosten'!$C$10)*D69 -> 16 | K69: =J69/'Tonnages per afvalstroom'!$E$6 -> 4 | L69: ='Invullen-Transportkosten'!O13 -> 0 | M69: =K69*L69 -> 0 | N69: =F69+J69 -> 16 | O69: =G69+K69 -> 4 | P69: =I69+M69 -> 0
B70: Gemeentewerf Stein | C70: Stadhouderslaan 245, Stein | D70: 350 | E70: =D70/'Tonnages per afvalstroom'!$E$6 -> 87.5 | F70: =('Invullen O&O-kosten'!$D$10/'Invullen O&O-kosten'!$C$10)*D70 -> 0 | G70: =F70/'Tonnages per afvalstroom'!$E$6 -> 0 | H70: ='Invullen-Transportkosten'!I14 -> 0 | I70: =G70*H70 -> 0 | J70: =('Invullen O&O-kosten'!$H$10/'Invullen O&O-kosten'!$C$10)*D70 -> 350 | K70: =J70/'Tonnages per afvalstroom'!$E$6 -> 87.5 | L70: ='Invullen-Transportkosten'!O14 -> 0 | M70: =K70*L70 -> 0 | N70: =F70+J70 -> 350 | O70: =G70+K70 -> 87.5 | P70: =I70+M70 -> 0
B71: Kringloopwarenhuis het Goed | C71: Rijksweg 208, Sittard
B72: TOTAAL | D72: =SUM(D63:D71) -> 756 | E72: =SUM(E63:E71) -> 189 | F72: =SUM(F63:F71) -> 0 | G72: =SUM(G63:G71) -> 0 | I72: =SUM(I63:I71) -> 0 | J72: =SUM(J63:J71) -> 756 | K72: =SUM(K63:K71) -> 189 | M72: =SUM(M63:M71) -> 0 | N72: =SUM(N63:N71) -> 756 | O72: =SUM(O63:O71) -> 189 | P72: =SUM(P63:P71) -> 0
D74: Totaal | F74: Locatie 1 | J74: Locatie 2 | N74: Totaal
B75: A-B HOUT GEMENGD | D75: Tonnage | E75: Aantal transporten | F75: Tonnage | G75: Aantal transporten | H75: Kosten per transport (€) | I75: Transport-kosten (€/jaar) | J75: Tonnage | K75: Aantal transporten | L75: Kosten per transport (€) | M75: Transport-kosten (€/jaar) | N75: Tonnage | O75: Aantal transporten | P75: Transport-kosten (€/jaar)
B76: MP Sittard | C76: Milieuparkweg 11, Sittard | D76: 956 | E76: =D76/'Tonnages per afvalstroom'!$E$7 -> 265.55556 | F76: =('Invullen O&O-kosten'!$D$11/'Invullen O&O-kosten'!$C$11)*D76 -> 0 | G76: =F76/'Tonnages per afvalstroom'!$E$7 -> 0 | H76: ='Invullen-Transportkosten'!I7 -> 0 | I76: =G76*H76 -> 0 | J76: =('Invullen O&O-kosten'!$H$11/'Invullen O&O-kosten'!$C$11)*D76 -> 956 | K76: =J76/'Tonnages per afvalstroom'!$E$7 -> 265.55556 | L76: ='Invullen-Transportkosten'!O7 -> 0 | M76: =K76*L76 -> 0 | N76: =F76+J76 -> 956 | O76: =G76+K76 -> 265.55556 | P76: =I76+M76 -> 0
B77: MP Geleen | C77: Nijverheidsweg 10, Geleen | D77: 1350 | E77: =D77/'Tonnages per afvalstroom'!$E$7 -> 375 | F77: =('Invullen O&O-kosten'!$D$11/'Invullen O&O-kosten'!$C$11)*D77 -> 0 | G77: =F77/'Tonnages per afvalstroom'!$E$7 -> 0 | H77: ='Invullen-Transportkosten'!I8 -> 0 | I77: =G77*H77 -> 0 | J77: =('Invullen O&O-kosten'!$H$11/'Invullen O&O-kosten'!$C$11)*D77 -> 1350 | K77: =J77/'Tonnages per afvalstroom'!$E$7 -> 375 | L77: ='Invullen-Transportkosten'!O8 -> 0 | M77: =K77*L77 -> 0 | N77: =F77+J77 -> 1350 | O77: =G77+K77 -> 375 | P77: =I77+M77 -> 0
B78: MP Born | C78: Florianstraat 5, Born | D78: 820 | E78: =D78/'Tonnages per afvalstroom'!$E$7 -> 227.77778 | F78: =('Invullen O&O-kosten'!$D$11/'Invullen O&O-kosten'!$C$11)*D78 -> 0 | G78: =F78/'Tonnages per afvalstroom'!$E$7 -> 0 | H78: ='Invullen-Transportkosten'!I9 -> 0 | I78: =G78*H78 -> 0 | J78: =('Invullen O&O-kosten'!$H$11/'Invullen O&O-kosten'!$C$11)*D78 -> 820 | K78: =J78/'Tonnages per afvalstroom'!$E$7 -> 227.77778 | L78: ='Invullen-Transportkosten'!O9 -> 0 | M78: =K78*L78 -> 0 | N78: =F78+J78 -> 820 | O78: =G78+K78 -> 227.77778 | P78: =I78+M78 -> 0
B79: MP Beek | C79: De Haamen 3, Beek
B80: MP Stein | C80: Stadhouderslaan 245, Stein | D80: 679 | E80: =D80/'Tonnages per afvalstroom'!$E$7 -> 188.61111 | F80: =('Invullen O&O-kosten'!$D$11/'Invullen O&O-kosten'!$C$11)*D80 -> 0 | G80: =F80/'Tonnages per afvalstroom'!$E$7 -> 0 | H80: ='Invullen-Transportkosten'!I11 -> 0 | I80: =G80*H80 -> 0 | J80: =('Invullen O&O-kosten'!$H$11/'Invullen O&O-kosten'!$C$11)*D80 -> 679 | K80: =J80/'Tonnages per afvalstroom'!$E$7 -> 188.61111 | L80: ='Invullen-Transportkosten'!O11 -> 0 | M80: =K80*L80 -> 0 | N80: =F80+J80 -> 679 | O80: =G80+K80 -> 188.61111 | P80: =I80+M80 -> 0
B81: Gemeentewerf Beek | C81: De Haamen 3, Beek | D81: 1 | E81: =D81/'Tonnages per afvalstroom'!$E$7 -> 0.27777778 | F81: =('Invullen O&O-kosten'!$D$11/'Invullen O&O-kosten'!$C$11)*D81 -> 0 | G81: =F81/'Tonnages per afvalstroom'!$E$7 -> 0 | H81: ='Invullen-Transportkosten'!I12 -> 0 | I81: =G81*H81 -> 0 | J81: =('Invullen O&O-kosten'!$H$11/'Invullen O&O-kosten'!$C$11)*D81 -> 1 | K81: =J81/'Tonnages per afvalstroom'!$E$7 -> 0.27777778 | L81: ='Invullen-Transportkosten'!O12 -> 0 | M81: =K81*L81 -> 0 | N81: =F81+J81 -> 1 | O81: =G81+K81 -> 0.27777778 | P81: =I81+M81 -> 0
B82: Gemeentewerf Geleen | C82: Jubileumplein 11, Geleen | D82: 21 | E82: =D82/'Tonnages per afvalstroom'!$E$7 -> 5.8333333 | F82: =('Invullen O&O-kosten'!$D$11/'Invullen O&O-kosten'!$C$11)*D82 -> 0 | G82: =F82/'Tonnages per afvalstroom'!$E$7 -> 0 | H82: ='Invullen-Transportkosten'!I13 -> 0 | I82: =G82*H82 -> 0 | J82: =('Invullen O&O-kosten'!$H$11/'Invullen O&O-kosten'!$C$11)*D82 -> 21 | K82: =J82/'Tonnages per afvalstroom'!$E$7 -> 5.8333333 | L82: ='Invullen-Transportkosten'!O13 -> 0 | M82: =K82*L82 -> 0 | N82: =F82+J82 -> 21 | O82: =G82+K82 -> 5.8333333 | P82: =I82+M82 -> 0
B83: Gemeentewerf Stein | C83: Stadhouderslaan 245, Stein
B84: Kringloopwarenhuis het Goed | C84: Rijksweg 208, Sittard | D84: =8+141+7 -> 156 | E84: =D84/'Tonnages per afvalstroom'!$E$7 -> 43.333333 | F84: =('Invullen O&O-kosten'!$D$11/'Invullen O&O-kosten'!$C$11)*D84 -> 0 | G84: =F84/'Tonnages per afvalstroom'!$E$7 -> 0 | H84: ='Invullen-Transportkosten'!I15 -> 0 | I84: =G84*H84 -> 0 | J84: =('Invullen O&O-kosten'!$H$11/'Invullen O&O-kosten'!$C$11)*D84 -> 156 | K84: =J84/'Tonnages per afvalstroom'!$E$7 -> 43.333333 | L84: ='Invullen-Transportkosten'!O15 -> 0 | M84: =K84*L84 -> 0 | N84: =F84+J84 -> 156 | O84: =G84+K84 -> 43.333333 | P84: =I84+M84 -> 0
B85: TOTAAL | D85: =SUM(D76:D84) -> 3983 | E85: =SUM(E76:E84) -> 1106.3889 | F85: =SUM(F76:F84) -> 0 | G85: =SUM(G76:G84) -> 0 | I85: =SUM(I76:I84) -> 0 | J85: =SUM(J76:J84) -> 3983 | K85: =SUM(K76:K84) -> 1106.3889 | M85: =SUM(M76:M84) -> 0 | N85: =SUM(N76:N84) -> 3983 | O85: =SUM(O76:O84) -> 1106.3889 | P85: =SUM(P76:P84) -> 0
D87: Totaal | F87: Locatie 1 | J87: Locatie 2 | N87: Totaal
B88: C-HOUT | D88: Tonnage | E88: Aantal transporten | F88: Tonnage | G88: Aantal transporten | H88: Kosten per transport (€) | I88: Transport-kosten (€/jaar) | J88: Tonnage | K88: Aantal transporten | L88: Kosten per transport (€) | M88: Transport-kosten (€/jaar) | N88: Tonnage | O88: Aantal transporten | P88: Transport-kosten (€/jaar)
B89: MP Sittard | C89: Milieuparkweg 11, Sittard | D89: 36 | E89: =D89/'Tonnages per afvalstroom'!$E$8 -> 13.333333 | F89: =('Invullen O&O-kosten'!$D$12/'Invullen O&O-kosten'!$C$12)*D89 -> 0 | G89: =F89/'Tonnages per afvalstroom'!$E$8 -> 0 | H89: ='Invullen-Transportkosten'!I7 -> 0 | I89: =G89*H89 -> 0 | J89: =('Invullen O&O-kosten'!$H$12/'Invullen O&O-kosten'!$C$12)*D89 -> 36 | K89: =J89/'Tonnages per afvalstroom'!$E$8 -> 13.333333 | L89: ='Invullen-Transportkosten'!O7 -> 0 | M89: =K89*L89 -> 0 | N89: =F89+J89 -> 36 | O89: =G89+K89 -> 13.333333 | P89: =I89+M89 -> 0
B90: MP Geleen | C90: Nijverheidsweg 10, Geleen | D90: 93 | E90: =D90/'Tonnages per afvalstroom'!$E$8 -> 34.444444 | F90: =('Invullen O&O-kosten'!$D$12/'Invullen O&O-kosten'!$C$12)*D90 -> 0 | G90: =F90/'Tonnages per afvalstroom'!$E$8 -> 0 | H90: ='Invullen-Transportkosten'!I8 -> 0 | I90: =G90*H90 -> 0 | J90: =('Invullen O&O-kosten'!$H$12/'Invullen O&O-kosten'!$C$12)*D90 -> 93 | K90: =J90/'Tonnages per afvalstroom'!$E$8 -> 34.444444 | L90: ='Invullen-Transportkosten'!O8 -> 0 | M90: =K90*L90 -> 0 | N90: =F90+J90 -> 93 | O90: =G90+K90 -> 34.444444 | P90: =I90+M90 -> 0
B91: MP Born | C91: Florianstraat 5, Born | D91: 92 | E91: =D91/'Tonnages per afvalstroom'!$E$8 -> 34.074074 | F91: =('Invullen O&O-kosten'!$D$12/'Invullen O&O-kosten'!$C$12)*D91 -> 0 | G91: =F91/'Tonnages per afvalstroom'!$E$8 -> 0 | H91: ='Invullen-Transportkosten'!I9 -> 0 | I91: =G91*H91 -> 0 | J91: =('Invullen O&O-kosten'!$H$12/'Invullen O&O-kosten'!$C$12)*D91 -> 92 | K91: =J91/'Tonnages per afvalstroom'!$E$8 -> 34.074074 | L91: ='Invullen-Transportkosten'!O9 -> 0 | M91: =K91*L91 -> 0 | N91: =F91+J91 -> 92 | O91: =G91+K91 -> 34.074074 | P91: =I91+M91 -> 0
B92: MP Beek | C92: De Haamen 3, Beek
B93: MP Stein | C93: Stadhouderslaan 245, Stein | D93: 39 | E93: =D93/'Tonnages per afvalstroom'!$E$8 -> 14.444444 | F93: =('Invullen O&O-kosten'!$D$12/'Invullen O&O-kosten'!$C$12)*D93 -> 0 | G93: =F93/'Tonnages per afvalstroom'!$E$8 -> 0 | H93: ='Invullen-Transportkosten'!I11 -> 0 | I93: =G93*H93 -> 0 | J93: =('Invullen O&O-kosten'!$H$12/'Invullen O&O-kosten'!$C$12)*D93 -> 39 | K93: =J93/'Tonnages per afvalstroom'!$E$8 -> 14.444444 | L93: ='Invullen-Transportkosten'!O11 -> 0 | M93: =K93*L93 -> 0 | N93: =F93+J93 -> 39 | O93: =G93+K93 -> 14.444444 | P93: =I93+M93 -> 0
B94: Gemeentewerf Beek | C94: De Haamen 3, Beek
B95: Gemeentewerf Geleen | C95: Jubileumplein 11, Geleen
B96: Gemeentewerf Stein | C96: Stadhouderslaan 245, Stein
B97: Kringloopwarenhuis het Goed | C97: Rijksweg 208, Sittard
B98: TOTAAL | D98: =SUM(D89:D97) -> 260 | E98: =SUM(E89:E97) -> 96.296296 | F98: =SUM(F89:F97) -> 0 | G98: =SUM(G89:G97) -> 0 | I98: =SUM(I89:I97) -> 0 | J98: =SUM(J89:J97) -> 260 | K98: =SUM(K89:K97) -> 96.296296 | M98: =SUM(M89:M97) -> 0 | N98: =SUM(N89:N97) -> 260 | O98: =SUM(O89:O97) -> 96.296296 | P98: =SUM(P89:P97) -> 0
D100: Totaal | F100: Locatie 1 | J100: Locatie 2 | N100: Totaal
B101: BITUMEN | D101: Tonnage | E101: Aantal transporten | F101: Tonnage | G101: Aantal transporten | H101: Kosten per transport (€) | I101: Transport-kosten (€/jaar) | J101: Tonnage | K101: Aantal transporten | L101: Kosten per transport (€) | M101: Transport-kosten (€/jaar) | N101: Tonnage | O101: Aantal transporten | P101: Transport-kosten (€/jaar)
B102: MP Sittard | C102: Milieuparkweg 11, Sittard
B103: MP Geleen | C103: Nijverheidsweg 10, Geleen | D103: 88 | E103: =D103/'Tonnages per afvalstroom'!$E$9 -> 8.8 | F103: =('Invullen O&O-kosten'!$D$13/'Invullen O&O-kosten'!$C$13)*D103 -> 0 | G103: =F103/'Tonnages per afvalstroom'!$E$9 -> 0 | H103: ='Invullen-Transportkosten'!I8 -> 0 | I103: =G103*H103 -> 0 | J103: =('Invullen O&O-kosten'!$H$13/'Invullen O&O-kosten'!$C$13)*D103 -> 88 | K103: =J103/'Tonnages per afvalstroom'!$E$9 -> 8.8 | L103: ='Invullen-Transportkosten'!O8 -> 0 | M103: =K103*L103 -> 0 | N103: =F103+J103 -> 88 | O103: =G103+K103 -> 8.8 | P103: =I103+M103 -> 0
B104: MP Born | C104: Florianstraat 5, Born
B105: MP Beek | C105: De Haamen 3, Beek
B106: MP Stein | C106: Stadhouderslaan 245, Stein
B107: Gemeentewerf Beek | C107: De Haamen 3, Beek
B108: Gemeentewerf Geleen | C108: Jubileumplein 11, Geleen
B109: Gemeentewerf Stein | C109: Stadhouderslaan 245, Stein
B110: Kringloopwarenhuis het Goed | C110: Rijksweg 208, Sittard
...

Sheet Invullen-Transportkosten
BE1: TOTALE TRANSPORTKOSTEN
B2: Adres O&O-locatie 1
B3: Adres O&O-locatie 2
B5: Kruistabel transport | D5: O&O-locatie 1 | J5: O&O-locatie 2
D6: Afstand vv. (km) | E6: Waarvan onder km-heffing vv. (km) | F6: Transport-tijd vv. (min.) | G6: Transport- kosten vv. (€) | H6: Kilometer-heffing vv. (€) | I6: Totale kosten per transport vv. (€) | J6: Afstand vv. (km) | K6: Waarvan onder km-heffing vv. (km) | L6: Transport-tijd vv. (min.) | M6: Transport- kosten vv. (€) | N6: Kilometer-heffing vv. (€) | O6: Totale kosten per transport vv. (€)
B7: MP Sittard | C7: Milieuparkweg 11, Sittard | G7: =F7/60*125 -> 0 | H7: =E7*0.201 -> 0 | I7: =G7+H7 -> 0 | M7: =L7/60*125 -> 0 | N7: =K7*0.201 -> 0 | O7: =M7+N7 -> 0
B8: MP Geleen | C8: Nijverheidsweg 10, Geleen | G8: =F8/60*125 -> 0 | H8: =E8*0.201 -> 0 | I8: =G8+H8 -> 0 | M8: =L8/60*125 -> 0 | N8: =K8*0.201 -> 0 | O8: =M8+N8 -> 0
B9: MP Born | C9: Florianstraat 5, Born | G9: =F9/60*125 -> 0 | H9: =E9*0.201 -> 0 | I9: =G9+H9 -> 0 | M9: =L9/60*125 -> 0 | N9: =K9*0.201 -> 0 | O9: =M9+N9 -> 0
B10: MP Beek | C10: De Haamen 3, Beek | G10: =F10/60*125 -> 0 | H10: =E10*0.201 -> 0 | I10: =G10+H10 -> 0 | M10: =L10/60*125 -> 0 | N10: =K10*0.201 -> 0 | O10: =M10+N10 -> 0
B11: MP Stein | C11: Stadhouderslaan 245, Stein | G11: =F11/60*125 -> 0 | H11: =E11*0.201 -> 0 | I11: =G11+H11 -> 0 | M11: =L11/60*125 -> 0 | N11: =K11*0.201 -> 0 | O11: =M11+N11 -> 0
B12: Gemeentewerf Beek | C12: De Haamen 3, Beek | G12: =F12/60*125 -> 0 | H12: =E12*0.201 -> 0 | I12: =G12+H12 -> 0 | M12: =L12/60*125 -> 0 | N12: =K12*0.201 -> 0 | O12: =M12+N12 -> 0
B13: Gemeentewerf Geleen | C13: Jubileumplein 11, Geleen | G13: =F13/60*125 -> 0 | H13: =E13*0.201 -> 0 | I13: =G13+H13 -> 0 | M13: =L13/60*125 -> 0 | N13: =K13*0.201 -> 0 | O13: =M13+N13 -> 0
B14: Gemeentewerf Stein | C14: Stadhouderslaan 245, Stein | G14: =F14/60*125 -> 0 | H14: =E14*0.201 -> 0 | I14: =G14+H14 -> 0 | M14: =L14/60*125 -> 0 | N14: =K14*0.201 -> 0 | O14: =M14+N14 -> 0
B15: Kringloop het Goed | C15: Rijksweg-Zuid 208,Sittard | G15: =F15/60*125 -> 0 | H15: =E15*0.201 -> 0 | I15: =G15+H15 -> 0 | M15: =L15/60*125 -> 0 | N15: =K15*0.201 -> 0 | O15: =M15+N15 -> 0
B17: Geel gearceerde cellen zijn in te vullen cellen.
B18: Vul altijd een getal in zonder toevoeging van 'km' of 'min'. Dit vult Excel zelf aan.
B19: De afstand vice versa mag maximaal 50 km bedragen.
B20: Bij inschrijving met 2 op- en overslaglocaties, vul dan per locatie de gegevens in.

Sheet Invullen O&O-kosten
B2: Adres O&O-locatie 1
B3: Adres O&O-locatie 2
D5: O&O locatie 1 | H5: O&O locatie 2 | L5: Totaal locatie 1 en 2
B6: Afvalstroom | C6: Totaal tonnage /jaar | D6: Tonnage/ jaar | E6: Bovengrens O&O-kosten (€//ton) | F6: Inschrijving O&O kosten (€/ton) | G6: Inschrijving totale O&O-kosten per jaar (€) | H6: Tonnage/ jaar | I6: Bovengrens O&O-kosten (€//ton) | J6: Inschrijving O&O kosten (€/ton) | K6: Inschrijving totale O&O-kosten per jaar (€) | L6: Tonnage/ jaar | M6: Inschrijving totale O&O-kosten per jaar (€)
B7: GHRA- ter sortering | C7: 4926 | E7: 11.35 | G7: =D7*F7 -> 0 | H7: =C7-D7 -> 4926 | I7: 11.35 | K7: =H7*J7 -> 0 | L7: =D7+H7 -> 4926 | M7: =G7+K7 -> 0
B8: GHRA- ter shreddering | C8: 626 | E8: 11.35 | G8: =D8*F8 -> 0 | H8: =C8-D8 -> 626 | I8: 11.35 | K8: =H8*J8 -> 0 | L8: =D8+H8 -> 626 | M8: =G8+K8 -> 0
B9: GROENMIX | C9: 11801 | E9: 7.6 | G9: =D9*F9 -> 0 | H9: =C9-D9 -> 11801 | I9: 7.6 | K9: =H9*J9 -> 0 | L9: =D9+H9 -> 11801 | M9: =G9+K9 -> 0
B10: BLAD | C10: 756 | E10: 4.8 | G10: =D10*F10 -> 0 | H10: =C10-D10 -> 756 | I10: 4.8 | K10: =H10*J10 -> 0 | L10: =D10+H10 -> 756 | M10: =G10+K10 -> 0
B11: A+B HOUT gemengd | C11: 3983 | E11: 7.6 | G11: =D11*F11 -> 0 | H11: =C11-D11 -> 3983 | I11: 7.6 | K11: =H11*J11 -> 0 | L11: =D11+H11 -> 3983 | M11: =G11+K11 -> 0
B12: C-HOUT | C12: 260 | E12: 7.6 | G12: =D12*F12 -> 0 | H12: =C12-D12 -> 260 | I12: 7.6 | K12: =H12*J12 -> 0 | L12: =D12+H12 -> 260 | M12: =G12+K12 -> 0
B13: BITUMEN | C13: 88 | E13: 6.05 | G13: =D13*F13 -> 0 | H13: =C13-D13 -> 88 | I13: 6.05 | K13: =H13*J13 -> 0 | L13: =D13+H13 -> 88 | M13: =G13+K13 -> 0
B14: PE/PP | C14: 36 | E14: 11.35 | G14: =D14*F14 -> 0 | H14: =C14-D14 -> 36 | I14: 11.35 | K14: =H14*J14 -> 0 | L14: =D14+H14 -> 36 | M14: =G14+K14 -> 0
B15: SCHOON PUIN | C15: 1489 | E15: 2.3 | G15: =D15*F15 -> 0 | H15: =C15-D15 -> 1489 | I15: 2.3 | K15: =H15*J15 -> 0 | L15: =D15+H15 -> 1489 | M15: =G15+K15 -> 0
B16: LAMINAAT (nieuwe stroom) | C16: 350 | E16: 7 | G16: =D16*F16 -> 0 | H16: =C16-D16 -> 350 | I16: 7 | K16: =H16*J16 -> 0 | L16: =D16+H16 -> 350 | M16: =G16+K16 -> 0
B17: GIPS (nieuwe stroom) | C17: 120 | E17: 3.25 | G17: =D17*F17 -> 0 | H17: =C17-D17 -> 120 | I17: 3.25 | K17: =H17*J17 -> 0 | L17: =D17+H17 -> 120 | M17: =G17+K17 -> 0
B18: SCHOFFELGROEN | C18: 25 | E18: 4.5 | G18: =D18*F18 -> 0 | H18: =C18-D18 -> 25 | I18: 4.5 | K18: =H18*J18 -> 0 | L18: =D18+H18 -> 25 | M18: =G18+K18 -> 0
B19: TOTAAL | C19: =SUM(C7:C18) -> 24460 | D19: =SUM(D7:D18) -> 0 | G19: =SUM(G7:G18) -> 0 | H19: =SUM(H7:H18) -> 24460 | K19: =SUM(K7:K18) -> 0 | L19: =SUM(L7:L18) -> 24460 | M19: =SUM(M7:M18) -> 0 | N19: Jaarlijkse kosten voor op- en overslag
B21: Geel gearceerde cellen zijn in te vullen cellen.
B22: Vul altijd een getal in zonder toevoeging van 'ton' of '€'. Dit vult Excel zelf aan. In kolom D kun je aleen hele getallen invullen.
B23: Bij locatie 1 (kolom D) vul je het tonnage in dat je op deze locatie op- en overslaat. Is dit het totaal tonnage zoals vermeld in kolom C, dan verschijnt bij locatie 2 (kolom H) 0 ton. Vul je bij locatie 1 een deel van het totaal tonnage uit kolom C in, dan verschijnt voor locatie 2 automatisch de resterende hoeveelheid, zodat het totaal van locatie 1 en 2 gelijk is aan het totaal tonnage (kolom C).
