Workbook

Sheet Instructie & Voorwaarden
A1: Prijsformulier Aanbesteding Vaste & losse inrichting en verhuisdiensten
A2: Naam inschrijver:
A4: Instructie
A6: Velden met de kleur | D6: dienen door Inschrijver ingevuld te worden.
A7: Veld met de kleur | D7: wordt automatisch ingevuld.
A8: Prijsonderbouwing: Inschrijvers moeten in Prijzenblad projectmanagement een onderbouwing toevoegen waaruit duidelijk kan worden afgeleid op basis van welke tarieven en prijzen de totaalprijs (de onderdelen op prijzenblad 4) is berekend. Het tabblad is op dat onderdeel blanco gelaten; het is aan Inschrijver om hier zelf invulling aan te geven. Deze onderbouwing zal als basis dienen voor de Verificatie- en Concretiseringsfase waarin de beoogd Opdrachtnemer desgevraagd verdere inzage moet geven. Deze tarieven en eenheidsprijzen dienen ook als basis voor de berekening van onvoorziene situaties en eventuele extra wensen/wijzigingen van Opdrachtgever.
A10: Voorwaarden
A11: 1. De aangeboden inschrijfprijs dekt alle vereisten en specificaties die zijn vermeld in de vereisten en specificaties in de Aanbestedingssleidraad, inclusief alle bijgevoegde documenten voor zover ze betrekking hebben op de Opdracht.
A12: 2. Alle bedragen dienen te worden afgegeven in Euro exclusief btw. De geoffreerde prijzen zijn in ieder geval, voor zover van toepassing, inclusief kosten voor licenties, hosting, domeinnamen, bestelkosten, verwijderingsbijdrage, vervoerskosten, salariskosten, overheadkosten, kosten voor ondersteunend werk, kosten voor gebruik van apparatuur, kosten voor afvoer van verpakkingsmateriaal, reis en verblijfskosten, parkeerkosten, voorrijkosten, installatiekosten, verzekeringen, winst en alle verdere bijkomende kosten.
A13: 3. De Inschrijfprijs betreft de uitvoering van de Opdracht. De Inschrijfprijs mag niet boven het plafondbedrag liggen, dat is vastgesteld voor deze aanbesteding (zie Aanbestedingsleidraad).
A14: 4. Het is niet toegestaan om strategisch, manipulatief of irreëel in te schrijven. Inschrijver die als beoogd Opdrachtnemer de Verificatiefase in gaat dient die fase aan te kunnen tonen dat de door hem gehanteerde bedragen en de aannames waarop het aanbod is gebaseerd, marktconform en realistisch zijn.
A15: 5. Inschrijver wordt verzocht alle in het prijzenblad opgenomen onderdelen afzonderlijk te prijzen en hierbij de gevraagde eenheden en aantallen aan te houden. De prijzen moeten worden opgenomen exclusief BTW.
A16: 6. De omschrijvingen van de maatwerkonderdelen zijn opgenomen in de bijlage 2 Eisen en randvoorwaarden los meubilair en maatwerk. Deze bijlage maakt integraal onderdeel uit van de uitvraag.
A17: 7. De belboxen worden als onderdeel van de bouwblokken uitgevraagd, maar zullen reeds tijdens de periode van tijdelijke huisvesting worden ingezet. Voor de vergaderboxen wordt zowel een koop- als huurprijs uitgevraagd. Inschrijver dient voor beide varianten een prijs per box per jaar op te geven. Bij de koopvariant wordt uitgegaan van een gebruiksperiode van 12 maanden, waarna de mogelijkheid bestaat om de boxen via een terugkooplevering aan de leverancier retour te leveren. Inschrijver dient in de prijsopgave aan te geven onder welke voorwaarden en tegen welke waarde de terugkoop na 12 maanden kan plaatsvinden.
A18: 8. De gemeente behoudt zich het recht voor om gedurende het project af te wijken van de uitvraag en/of de opgenomen aantallen. De daadwerkelijk af te nemen aantallen en onderdelen kunnen derhalve afwijken van het prijzenblad. Eventuele meer- of minderleveringen worden afgerekend op basis van de in het prijzenblad opgenomen eenheidsprijzen, tenzij anders overeengekomen. Aan de opgenomen aantallen kan geen afnamegarantie worden ontleend.
A19: 9. De kosten voor de concretiseringsfase behoren tot de Inschrijfprijs, omdat dit voorbereidende werkzaamheden zijn voor de uitvoering van de Opdracht (zijnde werkzaamheden die bij een reguliere aanbesteding zonder Concretiseringsfase direct na gunning uitgevoerd zouden worden).

Sheet Totaalprijs
A2: 1. Totaal Prijzenblad meubilair bouwblok | B2: ='Prijzenblad meubilair bouwblok'!G48 -> 579
A3: 2. Totaal Prijzenblad tijdelijke huisvest | B3: ='Prijzenblad tijdelijke huisvest'!G25 -> 130
A4: 2a. Totaal Prijzenblad tijdelijke huisvest huur terugkoop | B4: ='Prijzenblad tijdelijke huisvest'!I25 -> -17
A5: 3. Totaal Prijzenblad maatwerk | B5: ='Prijzenblad maatwerk'!G18 -> 18
A6: 4. Totaal Prijzenblad projectmanagement | B6: ='Prijzenblad projectmanagement'!F37 -> 59
A7: Totaal | B7: =SUM(B2:B6) -> 769
A9: Optionele keuze Opdrachtgever huurvariant:
A10: 2b. Totaal Prijzenblad tijdelijke huisvest huur | B10: ='Prijzenblad tijdelijke huisvest'!K25 -> 17
A13: Ondertekening:
A15: Naam inschrijver:
A16: Naam ondertekenaar:
A17: Functie ondertekenaar:
A18: Handtekening:

Sheet Prijzenblad meubilair bouwblok
A1: 1. Prijzenblad meubilair bouwblokken
A3: Bouwblok werkcafé
A4: Product | B4: Omschrijving | C4: Afmeting (in mm) | D4: Extra | E4: Aantal | F4: Prijs per stuk | G4: Prijs totaal | H4: Toelichting inschrijver
A5: Hoge kolomtafel | B5: stalen poot en blad in houtstructuur PEFC melamine met LaserTec randafwerking | C5: 700x700 mm blad | E5: 6 | F5: 1 | G5: =E5*F5 -> 6
A6: Barkruk | B6: 4-poots onderstel en een kuip voorzien van een zitting in kunstleder | E6: 12 | F6: 1 | G6: =E6*F6 -> 12
A8: Bouwblok aanlandwerkplekken
A9: Product | B9: Omschrijving | C9: Afmeting (in mm) | D9: Extra | E9: Aantal | F9: Prijs per stuk | G9: Prijs totaal | H9: Toelichting inschrijver
A10: Aanlandtafel | B10: stalen frame, vast blad in houtstructuur PEFC melamine met LaserTec randafwerking, geintegreerde elektrificatie in het werkblad | C10: 4000x1600 mm | E10: 5 | F10: 1 | G10: =E10*F10 -> 5
A11: Instelbare stoel | B11: voorzien van zelfinstellend mechaniek, eenvoudige instelmogelijkheden, vervaardigd voor minimaal 75% uit gerecyclede materialen (aantoonbaar) | E11: 40 | F11: 1 | G11: =E11*F11 -> 40
A12: Akoestische workplace divider | B12: bevestiging aan/op het werkblad (klemconstructie), eenvoudig verplaatsbaar | E12: 5 | F12: 1 | G12: =E12*F12 -> 5
A14: Bouwblok open samenwerkingsruimte
A15: Product | B15: Omschrijving | C15: Afmeting (in mm) | D15: Extra | E15: Aantal | F15: Prijs per stuk | G15: Prijs totaal | H15: Toelichting inschrijver
A16: Zitnis 4 personen | B16: volledig gestoffeerde zitnis voor 4 personen, zitting en rug in kunstleder, wanden uitgevoerd in stof | C16: 1300x2170x2100 mm | D16: integratie van minimaal 2 stopcontacten in de wand boven het tafelblad, verlichting bestaande uit inbouwspots en aanvullend een hangend armatuur, eenvoudig aan te sluiten op bestaande installaties | E16: 7 | F16: 1 | G16: =E16*F16 -> 7
A17: Kolomtafel | B17: stalen poot en blad in houtstructuur PEFC melamine met LaserTec randafwerking | C17: passend in zitnis | E17: 7 | F17: 1 | G17: =E17*F17 -> 7
A19: Bouwblok ankerpunt
A20: Product | B20: Omschrijving | C20: Afmeting (in mm) | D20: Extra | E20: Aantal | F20: Prijs per stuk | G20: Prijs totaal | H20: Toelichting inschrijver
A21: Barkruk | B21: 4-poots onderstel en een kuip voorzien van een zitting in kunstleder | E21: 25 | F21: 1 | G21: =E21*F21 -> 25
A23: Bouwblok reguliere werkplekken
A24: Product | B24: Omschrijving | C24: Afmeting (in mm) | D24: Extra | E24: Aantal | F24: Prijs per stuk | G24: Prijs totaal | H24: Toelichting inschrijver
A25: Enkele zit-sta werkplek | B25: voorzien van T-poot onderstel, blad in houtstructuur PEFC melamine met LaserTec randafwerking, elektrisch in hoogte verstelbaar 65-130 cm, voorzien van kabelgoot en voorzieningen voor nette en veilige bekabeling | C25: 1600x800 mm | D25: hoog/laag bediening met display, hoogteverstelling conform NPR 1813 en EN 527-1 en 527-2 | E25: 12 | F25: 1 | G25: =E25*F25 -> 12
A26: Duo zit-sta werkplek | B26: voorzien van H-poot onderstel, blad in houtstructuur PEFC melamine met LaserTec randafwerking, elektrisch in hoogte verstelbaar 65-130 cm, voorzien van kabelgoot en voorzieningen voor nette en veilige bekabeling | C26: 1600x800 mm | D26: hoog/laag bediening met display, hoogteverstelling conform NPR 1813 en EN 527-1 en 527-2 | E26: 50 | F26: 1 | G26: =E26*F26 -> 50
A27: Inbetween wand voor duo werkplek | B27: minimale akoestische waarde Klasse B, stabiliteit en eenvoudige montage is vereist, uitgevoerd in duurzame en bij voorkeur circulaire materialen | C27: 1600 mm breed, max. hoogte vanaf vloer 1200 mm | E27: 50 | F27: 1 | G27: =E27*F27 -> 50
A28: Vrijstaande inbetween wand | B28: minimale akoestische waarde Klasse B, stabiliteit en eenvoudige montage is vereist, uitgevoerd in duurzame en bij voorkeur circulaire materialen | C28: 1600 mm breed, max. hoogte vanaf vloer 1200 mm | E28: 10 | F28: 1 | G28: =E28*F28 -> 10
A29: Opzet elektrificatieblok | B29: te plaatsen op of geintegreerd in het werkblad, voorzien van ten minste 1 stopcontact en USB-C aansluiting | D29: geschikt voor flexibel gebruik en eenvoudig toegankelijk voor gebruiker | E29: 62 | F29: 1 | G29: =E29*F29 -> 62
A30: Vrijstaande plantenbak | B30: stabiel uitgevoerd, PEFC melamine met LaserTec randafwerking, voorzien van watervaste binnenbak, geschikt voor integratie van beplanting door derden | C30: 1680x350 mm, max. hoogte vanaf vloer 1200 mm | E30: 20 | F30: 1 | G30: =E30*F30 -> 20
A31: Akoestische schuifdeurkast | B31: schuifdeuren voorzien van akoestische eigenschappen, 2OH met daarop een geintegreerde plantenbak, voorzien van watervaste binnenbak, geschikt voor integratie van beplanting door derden | C31: 1600 mm breed, max. hoogte vanaf vloer 1200 mm | E31: 30 | F31: 1 | G31: =E31*F31 -> 30
A32: Monitor arm | B32: geschikt voor 2 monitoren, onafhankelijk verstelbaar per scherm, in hooge verstelbaar, naar voren en achteren verstelbaar, mogelijkheid tot kantelen en draaien van de schermen, geschikt voor verschillende schermformaten en VESA-bevestigingen, voorzien van geintegreerd kabelmanagement, eenvoudig te monteren aan het werkblad, stabiele en duurzame constructie, geschikt voor intensief dagelijks gebruik | E32: 112 | F32: 1 | G32: =E32*F32 -> 112
A34: Bouwblok bel/ms teams plek
A35: Product | B35: Omschrijving | C35: Afmeting (in mm) | D35: Extra | E35: Aantal | F35: Prijs per stuk | G35: Prijs totaal | H35: Toelichting inschrijver
A36: Enkele zit-sta werkplek | B36: voorzien van T-poot onderstel, blad in houtstructuur PEFC melamine met LaserTec randafwerking, elektrisch in hoogte verstelbaar 65-130 cm, voorzien van kabelgoot en voorzieningen voor nette en veilige bekabeling | C36: 1600x800 mm | D36: hoog/laag bediening met display, hoogteverstelling conform NPR 1813 en EN 527-1 en 527-2 | E36: 12 | F36: 1 | G36: =E36*F36 -> 12
A37: Akoestische belcel | B37: modulair op te bouwen box. Geschikt voor 1 persoon, voorzien van werkblad geschikt voor laptop, voorzien van elektrificatie waaronder 1 stopcontact en usb-c aansluiting, plug-and-play systeem, eenvoudig aan te sluiten op bestaande elektra- en eventueel datavoorzieningen, hoogwaardige isolatie geschikt voor het voeren van vertrouwelijke gesprekken, voorzien van akoestisch glas en akoestisch materiaal gemaakt van gereycled en te recyclen hoogwaardige akoeistsche steenwol, voorzien van geintegreerde ventilatie en verlichting, comfortabel en ergnomisch ingericht voor kortdurend gebruik, verplaatsbaar zonder ingrijpende demontage, compacte footprint passend binnen een flexibele werkomgeving. Box staat direct op de bestaande vloer en is rolstoel vriendelijk. Statiegeld principe waarbij elementen terugkunnen naar leverancier. | D37: voldoet aan geldende normen en richtlijnen voor spraakprivacy, voldoet aan relevantie (ARBO-)normen en veiligheideisen, duurzaam en bij voorkeur circulair geproduceerd, onderhoudsvriendelijk en robuust voor intensief gebruik, visueel aansluitend bij de overige inrichting en uitstraling van de werkomgeving | E37: 8 | F37: 1 | G37: =E37*F37 -> 8
A39: Bouwblok multifunctionele ruimte
A40: Product | B40: Omschrijving | C40: Afmeting (in mm) | D40: Extra | E40: Aantal | F40: Prijs per stuk | G40: Prijs totaal | H40: Toelichting inschrijver
A41: Vergadertafel rechthoekig | B41: stalen poot met rondom volledige beenvrijheid en blad in houtstructuur PEFC melamine met LaserTec randafwerking, geintegreerde elektrificatie in het blad | C41: 2800x1200 mm. Hoogte 750 mm | E41: 6 | F41: 1 | G41: =E41*F41 -> 6
A42: Vergadertafel trapeziumvormig | B42: stalen poot en blad in houtstructuur PEFC melamine met LaserTec randafwerking, geintegreerde elektrificatie in het blad | C42: 2400x1400/900 mm. Hoogte 740 mm | E42: 4 | F42: 1 | G42: =E42*F42 -> 4
A43: Hoge vergadertafel rechthoekig | B43: stalen poot met rondom volledige beenvrijheid en blad in houtstructuur PEFC melamine met LaserTec randafwerking, geintegreerde elektrificatie in het blad | C43: 2000x1000 mm. Hoogte 1100 mm | E43: 4 | F43: 1 | G43: =E43*F43 -> 4
A44: Vergaderstoel | B44: draadframe van staal, kuip vervaardigd uit gerecyclede materialen, gestoffeerd zitkussen, eenvoudig demonteerbaar | E44: 60 | F44: 1 | G44: =E44*F44 -> 60
A45: Kruk | B45: 4-poots onderstel en een kuip vervaardigd uit gerecyclede materialen, gestoffeerd zitkussen, eenvoudig demonteerbaar | E45: 24 | F45: 1 | G45: =E45*F45 -> 24
A46: Fauteuil | B46: 4-teens kruisvoet, draaibaar en voorzien van autoreturn, kuip vervaardigd uit gerecyclede materialen, gestoffeerd zit- en rugkussen, eenvoudig demonteerbaar | E46: 8 | F46: 1 | G46: =E46*F46 -> 8
A48: TOTAAL | G48: =G5+G6+G10+G11+G12+G16+G17+G21+G25+G26+G27+G28+G29+G30+G31+G32+G36+G37+G41+G42+G43+G44+G45+G46 -> 579

Sheet Prijzenblad tijdelijke huisvest
A1: 2. Prijzenblad tijdelijke huisvesting
A3: Het meubilair voor de tijldelijke huisvesting wordt bij voorkeur circulair ingezet, bijvoorbeeld door middel van huur of koop met terugkoopconstructies, zodat na afloop van de tijdelijke huisvestingsperiode geen onnodige reststromen ontstaan.
A5: Aanlandwerkplekken
A6: Product | B6: Omschrijving | C6: Afmeting (in mm) | D6: Extra | E6: Aantal | F6: Prijs per stuk | G6: Prijs totaal | L6: Toelichting inschrijver
A7: Aanlandtafel | B7: stalen frame, vast blad in houtstructuur PEFC melamine met LaserTec randafwerking, geintegreerde elektrificatie in het werkblad | C7: 4000x1600 mm | E7: 4 | F7: 1 | G7: =E7*F7 -> 4
A8: Instelbare stoel | B8: voorzien van zelfinstellend mechaniek, eenvoudige instelmogelijkheden, vervaardigd voor minimaal 75% uit gerecyclede materialen (aantoonbaar) | E8: 32 | F8: 1 | G8: =E8*F8 -> 32
A9: Akoestische workplace divider | B9: bevestiging aan/op het werkblad (klemconstructie), eenvoudig verplaatsbaar | E9: 4 | F9: 1 | G9: =E9*F9 -> 4
A11: Multifunctionele ruimte
A12: Product | B12: Omschrijving | C12: Afmeting (in mm) | D12: Extra | E12: Aantal | F12: Prijs per stuk | G12: Prijs totaal | L12: Toelichting inschrijver
A13: Vergadertafel rechthoekig | B13: stalen poot met rondom volledige beenvrijheid en blad in houtstructuur PEFC melamine met LaserTec randafwerking, geintegreerde elektrificatie in het blad | C13: 2800x1200 mm. Hoogte 750 mm | E13: 5 | F13: 1 | G13: =E13*F13 -> 5
A14: Vergadertafel trapeziumvormig | B14: stalen poot en blad in houtstructuur PEFC melamine met LaserTec randafwerking, geintegreerde elektrificatie in het blad | C14: 2400x1400/900 mm. Hoogte 740 mm | E14: 2 | F14: 1 | G14: =E14*F14 -> 2
A15: Hoge vergadertafel rechthoekig | B15: stalen poot met rondom volledige beenvrijheid en blad in houtstructuur PEFC melamine met LaserTec randafwerking, geintegreerde elektrificatie in het blad | C15: 2000x1000 mm. Hoogte 1100 mm | E15: 2 | F15: 1 | G15: =E15*F15 -> 2
A16: Vergaderstoel | B16: draadframe van staal, kuip vervaardigd uit gerecyclede materialen, gestoffeerd zitkussen, eenvoudig demonteerbaar | E16: 52 | F16: 1 | G16: =E16*F16 -> 52
A17: Kruk | B17: 4-poots onderstel en een kuip vervaardigd uit gerecyclede materialen, gestoffeerd zitkussen, eenvoudig demonteerbaar | E17: 12 | F17: 1 | G17: =E17*F17 -> 12
A19: Vergaderboxen en belboxen
A20: Product | B20: Omschrijving | C20: Afmeting (in mm) | D20: Extra | E20: Aantal | G20: Prijs totaal (investering) | H20: Koop-terugkoop (investering) | I20: Koop-Terugkoop per jaar | J20: Huur per stuk per jaar | K20: Totaal huurprijs per jaar | L20: Toelichting inschrijver
A21: Vergaderbox 2 persoons | B21: modulair op te bouwen box. Geschikt voor 2 personen, voor overleg, hybride meetings en samenwerking, hoogwaardige akoestische prestaties ten behoeve van privacy en beperking geluidsoverdracht, voorzien van akoestisch glas en akoestisch materiaal gemaakt van gereycled en te recyclen hoogwaardige akoeistsche steenwol. Voorzien van geintegreerde ventilatie en verlichting, voorzien van elektrificatie waaronder 1 stopcontact en usb-c aansluiting, mogelijkheid tot integratie van schermen en videoconferencing voorzieningen, inrichting met tafel en zitmeubilair passend bij de capaciteit van de box, verplaatsbaar en modulair opgebouwd. Box staat direct op de bestaande vloer en is rolstoel vriendelijk. Statiegeld principe waarbij elementen terugkunnen naar leverancier. | D21: modulair en eenvoudig uitbreidbaar en aanpasbaar, geschikt voor herplaatsing binnen toekomstige kantoorindelingen, voldoet aan relevantie ARBO-, veiligheids- en ventilatienormen, duurzaam en bij voorkeur circuliar geproduceerd, uitgevoerd in hoogwaardige en onderhoudsvriendelijke materialen | E21: 8 | F21: 1 | G21: =E21*F21 -> 8 | H21: 1 | I21: =E21*-H21 -> -8 | J21: 1 | K21: =E21*J21 -> 8
A22: Vergaderbox 4 persoons | B22: modulair op te bouwen box. Geschikt voor 4 personen, voor overleg, hybride meetings en samenwerking, hoogwaardige akoestische prestaties ten behoeve van privacy en beperking geluidsoverdracht, voorzien van akoestisch glas en akoestisch materiaal gemaakt van gereycled en te recyclen hoogwaardige akoeistsche steenwol. Voorzien van geintegreerde ventilatie en verlichting, voorzien van elektrificatie waaronder 1 stopcontact en usb-c aansluiting, mogelijkheid tot integratie van schermen en videoconferencing voorzieningen, inrichting met tafel en zitmeubilair passend bij de capaciteit van de box, verplaatsbaar en modulair opgebouwd. Box staat direct op de bestaande vloer en is rolstoel vriendelijk. Statiegeld principe waarbij elementen terugkunnen naar leverancier. | D22: modulair en eenvoudig uitbreidbaar en aanpasbaar, geschikt voor herplaatsing binnen toekomstige kantoorindelingen, voldoet aan relevantie ARBO-, veiligheids- en ventilatienormen, duurzaam en bij voorkeur circuliar geproduceerd, uitgevoerd in hoogwaardige en onderhoudsvriendelijke materialen | E22: 6 | F22: 1 | G22: =E22*F22 -> 6 | H22: 1 | I22: =E22*-H22 -> -6 | J22: 1 | K22: =E22*J22 -> 6
A23: Vergaderbox 6 persoons | B23: modulair op te bouwen box. Geschikt voor 6 personen, voor overleg, hybride meetings en samenwerking, hoogwaardige akoestische prestaties ten behoeve van privacy en beperking geluidsoverdracht, voorzien van akoestisch glas en akoestisch materiaal gemaakt van gereycled en te recyclen hoogwaardige akoeistsche steenwol. Voorzien van geintegreerde ventilatie en verlichting, voorzien van elektrificatie waaronder 1 stopcontact en usb-c aansluiting, mogelijkheid tot integratie van schermen en videoconferencing voorzieningen, inrichting met tafel en zitmeubilair passend bij de capaciteit van de box, verplaatsbaar en modulair opgebouwd. Box staat direct op de bestaande vloer en is rolstoel vriendelijk. Statiegeld principe waarbij elementen terugkunnen naar leverancier. | D23: modulair en eenvoudig uitbreidbaar en aanpasbaar, geschikt voor herplaatsing binnen toekomstige kantoorindelingen, voldoet aan relevantie ARBO-, veiligheids- en ventilatienormen, duurzaam en bij voorkeur circuliar geproduceerd, uitgevoerd in hoogwaardige en onderhoudsvriendelijke materialen | E23: 3 | F23: 1 | G23: =E23*F23 -> 3 | H23: 1 | I23: =E23*-H23 -> -3 | J23: 1 | K23: =E23*J23 -> 3
A25: TOTAAL | G25: =G7+G8+G9+G13+G14+G15+G16+G17+G21+G22+G23 -> 130 | I25: =I7+I8+I9+I13+I14+I15+I16+I17+I21+I22+I23 -> -17 | K25: =K7+K8+K9+K13+K14+K15+K16+K17+K21+K22+K23 -> 17
H26: Totaal per maand | I26: =I25/12 -> -1.4166667 | K26: =K25/12 -> 1.4166667

Sheet Prijzenblad maatwerk
A1: 3. Prijzenblad maatwerkonderdelen
A3: Bouwblok werkcafe
A4: Product | B4: Omschrijving | C4: Uitvoering | D4: Extra | E4: Aantal | F4: Prijs per stuk | G4: Prijs totaal | H4: Toelichting inschrijver
A5: Wandbank | B5: Wandbank ca. 4,7 m, opgebouwd uit gestoffeerde elementen, inclusief kunstlederen zitting en rug, stoffen kussens boven de rug doorlopend tot plafond en integratie van minimaal 4 stopcontacten in de plint. | C5: Maatwerkonderdelen conform omschrijving en uitgangspunten in bijlage Omschrijving bouwblokken. Inclusief engineering, productie, levering en montage. Materialisering en afwerking conform bijlage, met o.a. houtdecor vergelijkbaar met Egger Vicenza Oak, witte corpussen, composiet werkblad pantry, kunstleder bekleding en waterdichte binnenbakken voor plantenbakken. Materialen dienen geschikt te zijn voor intensief dagelijks gebruik, slijtvast, onderhoudsvriendelijk en passend binnen het interieurconcept. Eventuele afwijkingen/alternatieven dienen vooraf expliciet te worden gemotiveerd en aantoonbaar gelijkwaardig te zijn. Inclusief afstemming en detaillering met overige disciplines en rekening houden met eventuele toekomstige aanpassingen. | E5: 1 | F5: 1 | G5: =E5*F5 -> 1
A7: Bouwblok ankerpunt
A8: Product | B8: Omschrijving | C8: Uitvoering | D8: Extra | E8: Aantal | F8: Prijs per stuk | G8: Prijs totaal | H8: Toelichting inschrijver
A9: Pantry | B9: conform bijgevoegde tekening, inclusief benodigde apparatuur (vaatwasser, onderbouw koelkast, spoelbak voorzien van kraan met warm/koud water, aansluiting voor bestaande koffiemachine), werkblad en opbergruimte | C9: Maatwerkonderdelen conform omschrijving en uitgangspunten in bijlage Omschrijving bouwblokken. Inclusief engineering, productie, levering en montage. Materialisering en afwerking conform bijlage, met o.a. houtdecor vergelijkbaar met Egger Vicenza Oak, witte corpussen, composiet werkblad pantry, kunstleder bekleding en waterdichte binnenbakken voor plantenbakken. Materialen dienen geschikt te zijn voor intensief dagelijks gebruik, slijtvast, onderhoudsvriendelijk en passend binnen het interieurconcept. Eventuele afwijkingen/alternatieven dienen vooraf expliciet te worden gemotiveerd en aantoonbaar gelijkwaardig te zijn. Inclusief afstemming en detaillering met overige disciplines en rekening houden met eventuele toekomstige aanpassingen. | E9: 5 | F9: 1 | G9: =E9*F9 -> 5 | H9: toelichitng
A10: Wandopstelling | B10: Wandopstelling conform bijgevoegde tekening, bestaande uit lockers, garderobe en geïntegreerde printervoorziening. Garderobe inclusief voldoende ophangmogelijkheden. Printervoorziening inclusief ruimte voor apparatuur, opslag van verbruiksmaterialen en geïntegreerd kabelmanagement. | C10: Maatwerkonderdelen conform omschrijving en uitgangspunten in bijlage Omschrijving bouwblokken. Inclusief engineering, productie, levering en montage. Materialisering en afwerking conform bijlage, met o.a. houtdecor vergelijkbaar met Egger Vicenza Oak, witte corpussen, composiet werkblad pantry, kunstleder bekleding en waterdichte binnenbakken voor plantenbakken. Materialen dienen geschikt te zijn voor intensief dagelijks gebruik, slijtvast, onderhoudsvriendelijk en passend binnen het interieurconcept. Eventuele afwijkingen/alternatieven dienen vooraf expliciet te worden gemotiveerd en aantoonbaar gelijkwaardig te zijn. Inclusief afstemming en detaillering met overige disciplines en rekening houden met eventuele toekomstige aanpassingen. | E10: 5 | F10: 1 | G10: =E10*F10 -> 5
A11: Lockers | B11: Lockers geschikt voor flexibel, niet-persoonsgebonden gebruik, bij voorkeur voorzien van elektronisch sluitingssysteem met centraal beheer en autorisatie. | C11: Maatwerkonderdelen conform omschrijving en uitgangspunten in bijlage Omschrijving bouwblokken. Inclusief engineering, productie, levering en montage. Materialisering en afwerking conform bijlage, met o.a. houtdecor vergelijkbaar met Egger Vicenza Oak, witte corpussen, composiet werkblad pantry, kunstleder bekleding en waterdichte binnenbakken voor plantenbakken. Materialen dienen geschikt te zijn voor intensief dagelijks gebruik, slijtvast, onderhoudsvriendelijk en passend binnen het interieurconcept. Eventuele afwijkingen/alternatieven dienen vooraf expliciet te worden gemotiveerd en aantoonbaar gelijkwaardig te zijn. Inclusief afstemming en detaillering met overige disciplines en rekening houden met eventuele toekomstige aanpassingen. | E11: 5 | F11: 1 | G11: =E11*F11 -> 5
A13: Maatwerkonderdelen buiten bouwblokken
A14: Product | B14: Omschrijving | C14: Uitvoering | D14: Extra | E14: Aantal | F14: Prijs per stuk | G14: Prijs totaal | H14: Toelichting inschrijver
A15: Balie meubel | B15: Baliemeubel conform maatwerktekening bijlage, inclusief in hoogte instelbaar en robuust werkblad, doorlopend schaamschot tot vloer, voorbereiding voor latere integratie van een scherm conform tekening, benodigde elektra- en datavoorzieningen en representatieve afwerking/materialisatie geschikt voor intensief gebruik. | C15: Maatwerkonderdelen conform omschrijving en uitgangspunten in bijlage Omschrijving bouwblokken. Inclusief engineering, productie, levering en montage. Materialisering en afwerking conform bijlage, met o.a. houtdecor vergelijkbaar met Egger Vicenza Oak, witte corpussen, composiet werkblad pantry, kunstleder bekleding en waterdichte binnenbakken voor plantenbakken. Materialen dienen geschikt te zijn voor intensief dagelijks gebruik, slijtvast, onderhoudsvriendelijk en passend binnen het interieurconcept. Eventuele afwijkingen/alternatieven dienen vooraf expliciet te worden gemotiveerd en aantoonbaar gelijkwaardig te zijn. Inclusief afstemming en detaillering met overige disciplines en rekening houden met eventuele toekomstige aanpassingen. | E15: 1 | F15: 1 | G15: =E15*F15 -> 1
A16: Zitmeubel centrale hal | B16: Zitmeubel centrale hal conform maatwerktekening bijlage, met comfortabele, duurzame en robuuste uitvoering geschikt voor intensief gebruik. Inclusief slijtvaste, onderhoudsvriendelijke materialen en vormgeving passend bij de architectuur en uitstraling van de hal; waar mogelijk toepassing van circulaire en duurzame materialen. | C16: Maatwerkonderdelen conform omschrijving en uitgangspunten in bijlage Omschrijving bouwblokken. Inclusief engineering, productie, levering en montage. Materialisering en afwerking conform bijlage, met o.a. houtdecor vergelijkbaar met Egger Vicenza Oak, witte corpussen, composiet werkblad pantry, kunstleder bekleding en waterdichte binnenbakken voor plantenbakken. Materialen dienen geschikt te zijn voor intensief dagelijks gebruik, slijtvast, onderhoudsvriendelijk en passend binnen het interieurconcept. Eventuele afwijkingen/alternatieven dienen vooraf expliciet te worden gemotiveerd en aantoonbaar gelijkwaardig te zijn. Inclusief afstemming en detaillering met overige disciplines en rekening houden met eventuele toekomstige aanpassingen. | E16: 1 | F16: 1 | G16: =E16*F16 -> 1
A18: TOTAAL | G18: =G5+G9+G10+G11+G15+G16 -> 18

Sheet Prijzenblad projectmanagement
A1: 4. Prijzenblad Projectmanagement
A3: Projectmanagement
A4: Onderdeel | B4: Wat omvat dit | C4: Eenheid | D4: Aantal | E4: Prijs per eenheid | F4: Totaal
A5: A. PROJECTMANAGEMENT EN ENGINEERING
A6: Projectmanagement / werkvoorbereiding | B6: Coördinatie, planning, bouwteamoverleg, afstemming met opdrachtgever, derden en gebruikers. | C6: uur | D6: 1 | E6: 1 | F6: =D6*E6 -> 1
A7: Engineering maatwerk | B7: Productietekeningen, details, maatvoering, technische uitwerking en afstemming met interieurontwerper. | C7: uur | D7: 1 | E7: 1 | F7: =D7*E7 -> 1
A8: Productiebegeleiding | B8: Kwaliteitscontrole tijdens productie, materiaal- en kleurafstemming, controle op overeengekomen specificaties. | C8: uur | D8: 1 | E8: 1 | F8: =D8*E8 -> 1
A9: Inmeten op locatie | B9: Controleren bestaande situatie en definitieve maatvoering voorafgaand aan productie. | C9: totaal | D9: 1 | E9: 1 | F9: =D9*E9 -> 1
A10: Verhuisplan | B10: Fasering, planning, logistieke routes, liften, laad-/losplaatsen, labeling en continuïteit/veiligheid. | C10: totaal | D10: 1 | E10: 1 | F10: =D10*E10 -> 1
A11: Bouwteamoverleg | B11: O.a. afstemming planning(en), aansluiting(en) maatwerkmeubilair, optimalisatievoorstellen DO, etc. | C11: uur | D11: 40 | E11: 1 | F11: =D11*E11 -> 40
A13: B. PERSONELE INZET OP LOCATIE
A14: Voorman / uitvoeringscoördinator | B14: Dagelijkse aansturing, veiligheid, logistieke afstemming en coördinatie op locatie. | C14: uur | D14: 1 | E14: 1 | F14: =D14*E14 -> 1
A15: Verhuizer – aanvullende inzet | B15: Aanvullende verhuiswerkzaamheden op afroep buiten vast omschreven verhuisprestaties. | C15: uur | D15: 1 | E15: 1 | F15: =D15*E15 -> 1
A17: C. TRANSPORT, LOGISTIEK EN OPSLAG
A18: Transport tijdelijke huisvesting | B18: Transport van onderdelen naar projectlocatie tijdelijke huisvesting, inclusief benodigde hulpmiddelen | C18: totaal | D18: 1 | E18: 1 | F18: =D18*E18 -> 1
A19: Transport gemeentehuis na renovatie | B19: Transport van onderdelen naar projectlocatie gemeentehuis na renovatie, inclusief benodigde hulpmiddelen
A20: Transport Huus van de Toal | B20: Transport van onderdelen naar projectlocatie gemeentehuis na renovatie, inclusief benodigde hulpmiddelen | C20: totaal | D20: 1 | E20: 1 | F20: =D20*E20 -> 1
A21: Inhuizen tijdelijke huisvesting | B21: Naar binnen brengen, verdelen en positioneren van meubels/onderdelen tijdelijke huisvesting | C21: totaal | D21: 1 | E21: 1 | F21: =D21*E21 -> 1
A22: Inhuizen gemeentehuis na renovatie | B22: Naar binnen brengen, verdelen en positioneren van meubels/onderdelen gemeentehuis na renovatie
A23: Inhuizen Huus van de Toal | B23: Naar binnen brengen, verdelen en positioneren van meubels/onderdelen gemeentehuis na renovatie | C23: totaal | D23: 1 | E23: 1 | F23: =D23*E23 -> 1
A24: Tijdelijke opslag | B24: Opslag van tijdelijke goederen inclusief verzekering en beheer. | C24: m³/maand | D24: 1 | E24: 1 | F24: =D24*E24 -> 1
A26: D. MONTAGE EN INSTALLATIE
A27: Montage / installatie | B27: Montage en plaatsing van maatwerk, vaste inrichting, meubilair en overige onderdelen op beide locaties. | C27: totaal | D27: 1 | E27: 1 | F27: =D27*E27 -> 1
A28: Kabelmanagement tijdelijke huisvesting | B28: Ordelijk en veilig wegwerken van de bekabeling voor de tijdelijke huisvesting | C28: totaal | D28: 1 | E28: 1 | F28: =D28*E28 -> 1
A29: Kabelmanagement gemeentehuis na renovatie | B29: Leveren en aanbrengen van kabeldoorvoeren, goten en overige voorzieningen voor veilige kabelgeleiding. | C29: totaal | D29: 1 | E29: 1 | F29: =D29*E29 -> 1
A31: E. INVENTARISATIE EN AFVOER
A32: 0-meting en digitale inventarisregistratie | B32: Inventariseren bestaande meubel- en inventarisitems per ruimte (type, aantal, staat, locatie), QR/NFC-tagging en online dashboard met status en bestemming. | C32: totaal | D32: 1 | E32: 1 | F32: =D32*E32 -> 1
A33: Demontage, inpakken en hermontage bestaand meubilair | B33: Loskoppelen, demonteren, verpakken, hermonteren en functioneel controleren van abestaand meubilair. | C33: totaal | D33: 1 | E33: 1 | F33: =D33*E33 -> 1
A34: Demontage, inpakken en hermontage AV-middelen | B34: Loskoppelen, demonteren, verpakken, hermonteren en functioneel controleren van audiovisuele apparatuur en monitorarmen. | C34: totaal | D34: 1 | E34: 1 | F34: =D34*E34 -> 1
A35: Afvoer categorie D-meubilair | B35: Afvoer en verantwoorde verwerking van af te stoten categorie D-meubilair. | C35: m³ | D35: 1 | E35: 1 | F35: =D35*E35 -> 1
B37: TOTAAL | F37: =SUM(F5:F35) -> 59
A39: Onderbouwing van de opgegeven totaalprijzen: | B39: Inschrijver dient hieronder een onderbouwing in te dienen van alle bovenstaande onderdelen (A tot en met E). Hieruit moet de aanbestedende dienst kunnen afleiden op basis van welke uurtarieven/eenheidsprijzen en het aantal uren Inschrijver de totaalprijs heeft berekend.
A40: Invulveld
