Workbook

Sheet Voorblad
A1: Bijlage 5 - Prijzenblad - Offerteaanvraag inzake Afvalstoffenmanagement ten behoeve van Veiligheidsregio Fryslân | H1: Invulinstructie: > Inschrijver vult de oranje vakken in; > Alle prijzen zijn excl. Btw; > 'Prijzen opties' vallen buiten de inschrijprijs, deze worden optioneel uitgevraagd. > Het prijzenblad wordt zowel in PDF als Excel ingediend.
B6: Versie 1.0 | D6: In te vullen door Inschrijver
B7: 46316
B8: TN-Kenmerk 616515
B9: Afvalstoffenmanagement
B11: Naam Inschrijver:
B12: Datum:
B13: Naam en rechtsgeldige ondertekening:
A19: Alle door Inschrijver verstrekte tarieven en prijzen zijn marktconform en realistisch. Indien blijkt dat er niet marktconform of realistisch wordt aangeboden, is Opdrachtgever gerechtigd de Inschrijving ongeldig te verklaren.
B23: Totale inschrijfprijs Periode ledigingsfrequentie | D23: ='Periodieke ledigingsfrequentie'!E86 -> 0
B24: Totale inschrijfprijs Lediging op afroep | D24: ='Lediging op afroep'!E83 -> 0
A26: Totale inschrijfprijs (excl. Btw) | D26: =SUM(D23:F24) -> 0

Sheet Periodieke ledigingsfrequentie
D2: Bijlage 5 - Prijzenblad - Offerteaanvraag inzake Afvalstoffenmanagement ten behoeve van Veiligheidsregio Fryslân
B6: =Voorblad!B6 -> Versie 1.0
B7: =Voorblad!B7 -> 46316 | H7: Invulinstructie: De oranje gekleurde vakken dienen te worden ingevuld door Inschrijver.
B8: =Voorblad!B8 -> TN-Kenmerk 616515
C9: Naam Inschrijver:
C10: Datum:
C11: Naam en rechtsgeldige ondertekening:
B17: GGD locaties | E17: Adres | F17: Afvalstroom | G17: Inzamelmiddel | H17: Inhoud of liter in kubieke meter | I17: Indicatief aantal te huren inzamelmiddelen (loopt het hele jaar door) | J17: Ledigingsfrequentie per inzamelmiddel | K17: Aantal ledigingen per jaar per inzamelmiddel | L17: Huurprijs (excl. Btw) per inzamelmiddel per maand | M17: Prijs per lediging inclusief transport, verwerking, alle heffingen en belastingen (excl. Btw) (all-in prijs) | N17: Totaalprijs (excl. Btw) per jaar (inclusief huur, transport, lediging en verwerking, alle heffingen en belastingen)
B18: GGD kantoor en consultatiebureau | E18: B Jacobus Schurerweg 2, Surhuisterveen | F18: Spuiten/naalden | G18: Naaldencontainers | H18: 7 liter | I18: 3 | J18: 1x per 8 weken | K18: 6.5 | L18: 0 | M18: 0 | N18: =I18*K18*M18+L18*I18*12 -> 0
B19: GGD consultatiebureau | E19: Badhúswei 31, Damwâld | F19: Bedrijfsafval | G19: Bedrijfsafvalcontainer | H19: 1100 liter | I19: 1 | J19: 1x per 2 weken | K19: 26 | L19: 0 | M19: 0 | N19: =I19*K19*M19+L19*I19*12 -> 0
B20: GGD consultatiebureau | E20: Birdaarderstraatweg 72 C, Dokkum | F20: Archief | G20: Archiefcontainer | H20: 240 liter | I20: 1 | J20: 1x per 8 weken | K20: 6.5 | L20: 0 | M20: 0 | N20: =I20*K20*M20+L20*I20*12 -> 0
F21: Spuiten/naalden | G21: Naaldencontainers | H21: 4 liter | I21: 3 | J21: 1x per 8 weken | K21: 6.5 | L21: 0 | M21: 0 | N21: =I21*K21*M21+L21*I21*12 -> 0
F22: Spuiten/naalden | G22: Naaldencontainers | H22: 7 liter | I22: 3 | J22: 1x per 8 weken | K22: 6.5 | L22: 0 | M22: 0 | N22: =I22*K22*M22+L22*I22*12 -> 0
B23: GGD consultatiebureau | E23: Brink 1-102, Oosterwolde | F23: Spuiten/naalden | G23: Naaldencontainers | H23: 7 liter | I23: 4 | J23: 1x per 8 weken | K23: 6.5 | L23: 0 | M23: 0 | N23: =I23*K23*M23+L23*I23*12 -> 0
B24: GGD consultatiebureau | E24: Burgemeester Praamsmalaan 33, Bolsward | F24: Archief | G24: Archiefcontainer | H24: 240 liter | I24: 1 | J24: 1x per 8 weken | K24: 6.5 | L24: 0 | M24: 0 | N24: =I24*K24*M24+L24*I24*12 -> 0
F25: Bedrijfsafval | G25: Bedrijfsafvalcontainer | H25: 240 liter | I25: 1 | J25: 1x per 4 weken | K25: 13 | L25: 0 | M25: 0 | N25: =I25*K25*M25+L25*I25*12 -> 0
B26: GGD kantoor en consultatiebureau | E26: De Lanen 1, Drachten | F26: Archief | G26: Archiefcontainer | H26: 240 liter | I26: 1 | J26: 1x per 4 weken | K26: 13 | L26: 0 | M26: 0 | N26: =I26*K26*M26+L26*I26*12 -> 0
F27: Papier/karton | G27: Papiercontainer | H27: 240 liter | I27: 1 | J27: 1x per 2 weken | K27: 26 | L27: 0 | M27: 0 | N27: =I27*K27*M27+L27*I27*12 -> 0
F28: Spuiten/naalden | G28: Naaldencontainers | H28: 7 liter | I28: 15 | J28: 1x per 8 weken | K28: 7 | L28: 0 | M28: 0 | N28: =I28*K28*M28+L28*I28*12 -> 0
B29: Logistiek Centrum | E29: De Steven 2, Drachten | F29: Bedrijfsafval | G29: Bedrijfsafvalcontainer | H29: 1100 liter | I29: 1 | J29: 1x per 3 weken | K29: 17.33 | L29: 0 | M29: 0 | N29: =I29*K29*M29+L29*I29*12 -> 0
F30: Papier/karton | G30: Papiercontainer | H30: 1100 liter | I30: 1 | J30: 1x per 3 weken | K30: 17.33 | L30: 0 | M30: 0 | N30: =I30*K30*M30+L30*I30*12 -> 0
F31: Folie gemengd/bont | G31: Houder voor zakken | H31: 400 liter | I31: 1 | J31: 1x per 3 weken | K31: 17.33 | L31: 0 | M31: 0 | N31: =I31*K31*M31+L31*I31*12 -> 0
F32: Spuiten/naalden | G32: Naaldencontainers | H32: 0,45 liter | I32: 20 | J32: 1x per jaar | K32: 1 | L32: 0 | M32: 0 | N32: =I32*K32*M32+L32*I32*12 -> 0
B33: Hoofdkantoor Veiligheidsregio Fryslân | E33: Harlingertrekweg 58, Leeuwarden | F33: Archief | G33: Archiefcontainer | H33: 70 liter | I33: 2 | J33: 1x per 2 weken | K33: 26 | L33: 0 | M33: 0 | N33: =I33*K33*M33+L33*I33*12 -> 0
F34: Papier/karton | G34: Papiercontainer | H34: 1100 liter | I34: 1 | J34: 1x per week | K34: 52 | L34: 0 | M34: 0 | N34: =I34*K34*M34+L34*I34*12 -> 0
F35: Bedrijfsafval | G35: Ondergrondse bedrijfsafvalcontainer | H35: 5000 liter | I35: 1 | J35: 1x per week | K35: 52 | L35: 0 | M35: 0 | N35: =I35*K35*M35+L35*I35*12 -> 0
F36: GFE / Groenafval | G36: GFT container | H36: 120 liter | I36: 1 | J36: 1x per 2 weken | K36: 26 | L36: 0 | M36: 0 | N36: =I36*K36*M36+L36*I36*12 -> 0
F37: Folie gemengd/bont | G37: Houder voor zakken | H37: 400 liter | I37: 1 | J37: 1x per week | K37: 52 | L37: 0 | M37: 0 | N37: =I37*K37*M37+L37*I37*12 -> 0
F38: Spuiten/naalden | G38: Naaldencontainers | H38: 4 liter | I38: 8 | J38: 1x per 4 weken | K38: 13 | L38: 0 | M38: 0 | N38: =I38*K38*M38+L38*I38*12 -> 0
F39: Spuiten/naalden | G39: Naaldencontainers | H39: 7 liter | I39: 12 | J39: 1x per 4 weken | K39: 13 | L39: 0 | M39: 0 | N39: =I39*K39*M39+L39*I39*12 -> 0
B40: GGD kantoor | E40: Hegedyk 9, Sneek | F40: Spuiten/naalden | G40: Naaldencontainers | H40: 4 liter | I40: 16 | J40: 1x per 4 weken | K40: 13 | L40: 0 | M40: 0 | N40: =I40*K40*M40+L40*I40*12 -> 0
F41: Spuiten/naalden | G41: Naaldencontainers | H41: 7 liter | I41: 8 | J41: 1x per 4 weken | K41: 13 | L41: 0 | M41: 0 | N41: =I41*K41*M41+L41*I41*12 -> 0
B42: GGD kantoor en consultatiebureau | E42: Hertog Saxenlaan 26 B, Franeker | F42: Spuiten/naalden | G42: Naaldencontainers | H42: 4 liter | I42: 22 | J42: 1x per 8 weken | K42: 6.5 | L42: 0 | M42: 0 | N42: =I42*K42*M42+L42*I42*12 -> 0
B43: GGD kantoor en consultatiebureau | E43: Markt 11, Wolvega | F43: Spuiten/naalden | G43: Naaldencontainers | H43: 7 liter | I43: 1 | J43: 1x per 8 weken | K43: 6.5 | L43: 0 | M43: 0 | N43: =I43*K43*M43+L43*I43*12 -> 0
F44: Spuiten/naalden | G44: Naaldencontainers | H44: 30 liter | I44: 1 | J44: 1x per 8 weken | K44: 6.5 | L44: 0 | M44: 0 | N44: =I44*K44*M44+L44*I44*12 -> 0
B45: GGD consultatiebureau | E45: Nieuwburen 34, Lemmer | F45: Bedrijfsafval | G45: Bedrijfsafvalcontainer | H45: 240 liter | I45: 1 | J45: 1x per 4 weken | K45: 13 | L45: 0 | M45: 0 | N45: =I45*K45*M45+L45*I45*12 -> 0
B46: GGD kantoor en consultatiebureau | E46: Oostergoostraat 56 A, Grou | F46: Spuiten/naalden | G46: Naaldencontainers | H46: 4 liter | I46: 4 | J46: 1x per 8 weken | K46: 6.5 | L46: 0 | M46: 0 | N46: =I46*K46*M46+L46*I46*12 -> 0
B47: GGD kantoor en consultatiebureau | E47: Prins Bernhardstraat 1 A, Burgum | F47: Spuiten/naalden | G47: Naaldencontainers | H47: 4 liter | I47: 2 | J47: 1x per 8 weken | K47: 6.5 | L47: 0 | M47: 0 | N47: =I47*K47*M47+L47*I47*12 -> 0
F48: Spuiten/naalden | G48: Naaldencontainers | H48: 7 liter | I48: 2 | J48: 1x per 8 weken | K48: 6.5 | L48: 0 | M48: 0 | N48: =I48*K48*M48+L48*I48*12 -> 0
B49: GGD consultatiebureau | E49: Sixmastraat 36-3, Leeuwarden | F49: Spuiten/naalden | G49: Naaldencontainers | H49: 7 liter | I49: 4 | J49: 1x per 8 weken | K49: 6.5 | L49: 0 | M49: 0 | N49: =I49*K49*M49+L49*I49*12 -> 0
...

Sheet Lediging op afroep
D2: Bijlage 5 - Prijzenblad - Offerteaanvraag inzake Afvalstoffenmanagement ten behoeve van Veiligheidsregio Fryslân
B6: =Voorblad!B6 -> Versie 1.0
B7: =Voorblad!B7 -> 46316 | H7: Invulinstructie: De oranje gekleurde vakken dienen te worden ingevuld door Inschrijver.
B8: =Voorblad!B8 -> TN-Kenmerk 616515
C9: Naam Inschrijver:
C10: Datum:
C11: Naam en rechtsgeldige ondertekening:
B17: GGD locaties | E17: Adres | F17: Afvalstroom | G17: Inzamelmiddel | H17: Inhoud of liter in kubieke meter | I17: Indicatief aantal te huren inzamelmiddelen (loopt het hele jaar door) | J17: Ledigingsfrequentie per inzamelmiddel | K17: Indicatief aantal ledigingen per jaar per inzamelmiddel | L17: Huurprijs (excl. Btw) per inzamelmiddel per maand | M17: Prijs per lediging inclusief transport, verwerking, alle heffingen en belastingen (excl. Btw) (all-in prijs) | N17: Totaalprijs (excl. Btw) per jaar (inclusief huur, transport, lediging en verwerking)
B18: Hoofdkantoor Veiligheidsregio Fryslân | E18: Harlingertrekweg 58, Leeuwarden | F18: Archief | G18: Archiefcontainer | H18: 140 liter | I18: 5 | J18: op afroep | K18: 1 | L18: 0 | M18: 0 | N18: =I18*M18*12 -> 0
F19: Gasontladingslampen | G19: Dekselvat kunststof klembanddeksel | H19: 60 liter | I19: 2 | J19: op afroep | K19: 1 | L19: 0 | M19: 0 | N19: =I19*M19*12 -> 0
F20: Batterijen < 3kg | G20: Dekselvat kunststof klembanddeksel | H20: 60 liter | I20: 1 | J20: op afroep | K20: 1 | L20: 0 | M20: 0 | N20: =I20*M20*12 -> 0
B21: GGD consultatiebureau | E21: Hoofdstraat Oost 20, Noordwolde | F21: Bedrijfsafval | G21: Bedrijfsafvalcontainer | H21: 240 liter | I21: 1 | J21: op afroep | K21: 2 | L21: 0 | M21: 0 | N21: =I21*M21*12 -> 0
B22: GGD kantoor en consultatiebureau | E22: It Beaken 2, Joure | F22: Archief | G22: Archiefcontainer | H22: 240 liter | I22: 1 | J22: op afroep | K22: 1 | L22: 0 | M22: 0 | N22: =I22*M22*12 -> 0
F23: Papier/karton | G23: Papiercontainer | H23: 240 liter | I23: 1 | J23: op afroep | K23: 1 | L23: 0 | M23: 0 | N23: =I23*M23*12 -> 0
B24: GGD consultatiebureau | E24: It Hoekstee 1, Balk | F24: Bedrijfsafval | G24: Bedrijfsafvalcontainer | H24: 240 liter | I24: 1 | J24: op afroep | K24: 4 | L24: 0 | M24: 0 | N24: =I24*M24*12 -> 0
B25: GGD consultatiebureau | E25: Nieuwburen 34, Lemmer | F25: Papier/karton | G25: Papiercontainer | H25: 240 liter | I25: 1 | J25: op afroep | K25: 1 | L25: 0 | M25: 0 | N25: =I25*M25*12 -> 0
B26: Inschrijfprijs Totaalprijs Lediging op afroep GGD | N26: =SUM(N18:N25) -> 0
B27: Brandweer kazernes | E27: Adres | F27: Afvalstroom | G27: Inzamelmiddel | H27: Inhoud of liter in kubieke meter | I27: Indicatief aantal te huren inzamelmiddelen (loopt het hele jaar door) | J27: Ledigingsfrequentie per inzamelmiddel | K27: Indicatief aantal ledigingen per jaar per inzamelmiddel | L27: Huurprijs (excl. Btw) per inzamelmiddel per maand | M27: Prijs per lediging inclusief transport, verwerking, alle heffingen en belastingen (excl. Btw) (all-in prijs) | N27: Totaalprijs (excl. Btw) per jaar (inclusief huur, transport, lediging en verwerking)
B28: Brandweer Anjum | E28: Buorfinne 11, Anjum | F28: Bedrijfsafval | G28: Bedrijfsafvalcontainer | H28: 240 liter | I28: 1 | J28: op afroep | K28: 5 | L28: 0 | M28: 0 | N28: =I28*M28*12 -> 0
B29: Brandweer Appelscha | E29: Industrieweg 8 C | F29: Bedrijfsafval | G29: Bedrijfsafvalcontainer | H29: 240 liter | I29: 1 | J29: op afroep | K29: 3 | L29: 0 | M29: 0 | N29: =I29*M29*12 -> 0
B30: Brandweer De Westereen | E30: Roazeloane 70, De Westereen | F30: Bedrijfsafval | G30: Bedrijfsafvalcontainer | H30: 240 liter | I30: 1 | J30: op afroep | K30: 5 | L30: 0 | M30: 0 | N30: =I30*M30*12 -> 0
B31: Brandweer Drachten | E31: Loswal 1, Drachten | F31: Archief | G31: Archiefcontainer | H31: 240 liter | I31: 1 | J31: op afroep | K31: 1 | L31: 0 | M31: 0 | N31: =I31*M31*12 -> 0
B32: Brandweer Dokkum | E32: Rondweg-Noord 28, Dokkum | F32: Archief | G32: Archiefcontainer | H32: 240 liter | I32: 1 | J32: op afroep | K32: 1 | L32: 0 | M32: 0 | N32: =I32*M32*12 -> 0
B33: Brandweer Drogeham | E33: De Droegehamster Feart 6, Drogeham | F33: Bedrijfsafval | G33: Bedrijfsafvalcontainer | H33: 240 liter | I33: 1 | J33: op afroep | K33: 3 | L33: 0 | M33: 0 | N33: =I33*M33*12 -> 0
B34: Brandweer Ferwerd | E34: Prof. Heymansstraat 2, Ferwert | F34: Bedrijfsafval | G34: Bedrijfsafvalcontainer | H34: 240 liter | I34: 1 | J34: op afroep | K34: 1 | L34: 0 | M34: 0 | N34: =I34*M34*12 -> 0
B35: Brandweer Franeker | E35: Burgemeester J. Dijkstraweg 13, Franeker | F35: Papier/karton | G35: Papiercontainer | H35: 240 liter | I35: 1 | J35: op afroep | K35: 2 | L35: 0 | M35: 0 | N35: =I35*M35*12 -> 0
F36: Archief | G36: Archiefcontainer | H36: 240 liter | I36: 1 | J36: op afroep | K36: 1 | L36: 0 | M36: 0 | N36: =I36*M36*12 -> 0
B37: Brandweer Gorredijk | E37: Leitswei 3, Gorredijk | F37: Bedrijfsafval | G37: Bedrijfsafvalcontainer | H37: 1100 liter | I37: 1 | J37: op afroep | K37: 3 | L37: 0 | M37: 0 | N37: =I37*M37*12 -> 0
B38: Brandweer Hallum | E38: It Blikkelân 15, Hallum | F38: Bedrijfsafval | G38: Bedrijfsafvalcontainer | H38: 240 liter | I38: 1 | J38: op afroep | K38: 4 | L38: 0 | M38: 0 | N38: =I38*M38*12 -> 0
B39: Brandweer Haulerwijk | E39: Eikensingel 18, Haulerwijk | F39: Bedrijfsafval | G39: Bedrijfsafvalcontainer | H39: 240 liter | I39: 1 | J39: op afroep | K39: 4 | L39: 0 | M39: 0 | N39: =I39*M39*12 -> 0
B40: Brandweer Heerenveen | E40: It Hege Stik 8, Heerenveen | F40: Archief | G40: Archiefcontainer | H40: 240 liter | I40: 1 | J40: op afroep | K40: 1 | L40: 0 | M40: 0 | N40: =I40*M40*12 -> 0
B41: Brandweer Joure | E41: Tolhûswei 6, Joure | F41: Papier/karton | G41: Papiercontainer | H41: 1100 liter | I41: 1 | J41: op afroep | K41: 1 | L41: 0 | M41: 0 | N41: =I41*M41*12 -> 0
F42: Archief | G42: Archiefcontainer | H42: 240 liter | I42: 1 | J42: op afroep | K42: 1 | L42: 0 | M42: 0 | N42: =I42*M42*12 -> 0
B43: Brandweer Hoofdpost Leeuwarden | E43: Aldlânsdyk 11, Leeuwarden | F43: Archief | G43: Archiefcontainer | H43: 240 liter | I43: 1 | J43: op afroep | K43: 1 | L43: 0 | M43: 0 | N43: =I43*M43*12 -> 0
B44: Brandweer Lemmer | E44: Albert Koopmanstraat 1, Lemmer | F44: Bedrijfsafval | G44: Bedrijfsafvalcontainer | H44: 240 liter | I44: 1 | J44: op afroep | K44: 11 | L44: 0 | M44: 0 | N44: =I44*M44*12 -> 0
B45: Brandweer Makkum | E45: Suderseewei 1 A, Makkum | F45: Bedrijfsafval | G45: Bedrijfsafvalcontainer | H45: 240 liter | I45: 1 | J45: op afroep | K45: 5 | L45: 0 | M45: 0 | N45: =I45*M45*12 -> 0
B46: Brandweer Mantgum | E46: Skillaerderdyk 15, Mantgum | F46: Bedrijfsafval | G46: Bedrijfsafvalcontainer | H46: 240 liter | I46: 1 | J46: op afroep | K46: 4 | L46: 0 | M46: 0 | N46: =I46*M46*12 -> 0
B47: Brandweer Marssum | E47: Sasker van Heringawei 41, Marsum | F47: Bedrijfsafval | G47: Bedrijfsafvalcontainer | H47: 240 liter | I47: 1 | J47: op afroep | K47: 9 | L47: 0 | M47: 0 | N47: =I47*M47*12 -> 0
B48: Brandweer Menaldum | E48: Bitgumerdyk 17, Menaam | F48: Bedrijfsafval | G48: Bedrijfsafvalcontainer | H48: 660 liter | I48: 1 | J48: op afroep | K48: 4 | L48: 0 | M48: 0 | N48: =I48*M48*12 -> 0
B49: Brandweer Noordwolde | E49: Hellingstraat 2, Noordwolde | F49: Bedrijfsafval | G49: Bedrijfsafvalcontainer | H49: 240 liter | I49: 1 | J49: op afroep | K49: 6 | L49: 0 | M49: 0 | N49: =I49*M49*12 -> 0
...
