Workbook
Name Allelocaties: '1. 3A-Mutaties'!$A:$T
Name Allelocaties: '1.3-Basis ruimtestaat'!$A:$R
Name BasisTarief: '1.4-Opbouw uurtarieven'!$N$16:$XFD$65
Name basistarieftoez: '1.4-Opbouw uurtarieven'!$S$16:$V$65
Name basistariefuit: '1.4-Opbouw uurtarieven'!$M$16:$P$65
Name CatMedewschoonmaak: '1.4-Opbouw uurtarieven'!$I$16:$V$16
Name Dataase3: '1. 3A-Mutaties'!$B$12:$Z$13
Name Dataase3: '1.3-Basis ruimtestaat'!$B$12:$W$13
Name database2: '1. 3A-Mutaties'!$C$12:$Z$13
Name database2: '1.3-Basis ruimtestaat'!$C$12:$W$13
Name Kengetal: '[4]1.2-Kengetal'!$C$10:$P$33
Name Kengetal: '1.2-Kengetal'!$C$13:$Q$75
Name LOCATIE: '1. 3A-Mutaties'!$E:$R
Name LOCATIE: '1.3-Basis ruimtestaat'!$E:$Q
Name Loongroepen: '[4]1.5 Opbouw uurtarieven'!$A$12:$A$46
Name Loongroepen: '1.4-Opbouw uurtarieven'!$B$16:$B$31
Name Meters: '1. 3A-Mutaties'!$K:$K
Name Meters: '[4]1.3-Basis ruimtestaat'!$K:$K
Name Meters: '1.3-Basis ruimtestaat'!$K:$K
Name Perceel: '1. 3A-Mutaties'!$F:$U
Name Perceel: '1.3-Basis ruimtestaat'!$F:$S
Name PERCEEL2: '1. 3A-Mutaties'!$A:$U
Name PERCEEL2: '1.3-Basis ruimtestaat'!$A:$S
Name Tabel: '1.4-Opbouw uurtarieven'!$O$5:$P$7
Name TariefGLAS: '1.4-Opbouw uurtarieven'!$Z$17:$Z$17
Name tariefschoonmaak: '1.4-Opbouw uurtarieven'!$M$16:$Z$16
Name tariefSMO: '1.4-Opbouw uurtarieven'!$M$16:$P$16
Name tarieftoez: #REF!
Name tariefTZ: '1.4-Opbouw uurtarieven'!$S$16:$V$16
Name tariefuit: #REF!
Name tarievenglas: '1.4-Opbouw uurtarieven'!$Z$17:$Z$65
Name Totaal: '1. 3A-Mutaties'!$A$12:$T$13
Name Totaal: '1.3-Basis ruimtestaat'!$A$12:$R$13
Name Totaal2: '1. 3A-Mutaties'!$E$12:$T$13
Name Totaal2: '[4]1.3-Basis ruimtestaat'!$E$10:$T$226
Name Totaal2: '1.3-Basis ruimtestaat'!$E$12:$R$13
Name UREMAVR: '1. 3A-Mutaties'!$R$12:$R$13
Name UREMAVR: '[4]1.3-Basis ruimtestaat'!$R$10:$R$226
Name UREMAVR: '1.3-Basis ruimtestaat'!$Q$12:$Q$13
Name URENEWEEKEND: '1. 3A-Mutaties'!$T$12:$T$13
Name URENEWEEKEND: '1.3-Basis ruimtestaat'!#REF!
Name URENNALOOP: '1. 3A-Mutaties'!$S$12:$S$13
Name URENNALOOP: '[4]1.3-Basis ruimtestaat'!$S$10:$S$226
Name URENNALOOP: '1.3-Basis ruimtestaat'!$R$12:$R$13

Sheet Toelichting Calculatiemodel
F3: Tabblad: Voorblad | J3: Tabblad: 1.2-Kengetal | N3: Tabblad: 1.3-Basis ruimtestaat
F5: Vul de naam van uw organisatie in bij: "Naam Inschrijver" | J5: STAP 1: Voer in de gekleurde cellen de gevraagde kengetallen in | N5: STAP 2: De ingevoerde kengetallen worden automatisch geplaatst in het tabblad 1.3-Basisruimtestaat. Het aantal productie-uren per jaar wordt op ruimteniveau weergegeven.
B19: Volg de stappen 1 t/m 8 om de calcualtie | F19: Tabblad: 1.4-Opbouw uurtarieven | J19: Tabblad: 1.6-Machine-investeringskosten | N19: Tabblad: 1.7-Afroep prijzen
B20: in te voeren.
F21: STAP 3: Selecteer een loongroep medewerker in de cellen "Selecteer categorie medewerker". Voer in de gekleurde cellen de gevraagde informatie in. Let op: in de rood gekleurde cellen zijn formules of koppelingen aanwezig, deze mogen niet worden verwijderd of aangepast. | J21: STAP 4: Voer in de gekleurde cellen de gevraagde informatie in. Let op: in de rood gekleurde cellen zijn formules of koppelingen aanwezig, deze mogen niet worden verwijderd of aangepast. | N21: STAP 5: Voer in de gekleurde cellen de gevraagde informatie in. Let op: in de rood gekleurde cellen zijn formules of koppelingen aanwezig, deze mogen niet worden verwijderd of aangepast.
B22: Op ieder tabblad is een kortetoelichting
B23: aanwezig. Selecteer de cel "Toelichting"
B24: om de informatie te lezen.
C26: = invulvelden
C27: = keuze velden *
C28: = formule velden 'niet wijzigen'
C29: = vaste waarde 'niet wijzigen'
F34: Tabblad: 1.8-Glasbewassing | J34: Tabblad: 1.9-Sanitaire supples | N34: Tabblad: 1.0-Contractblad
F36: STAP 6: Voer in de gekleurde cellen de gevraagde informatie in. Let op: in de rood gekleurde cellen zijn formules of koppelingen aanwezig, deze mogen niet worden verwijderd of aangepast. | J36: STAP 7: Voer in de gekleurde cellen de gevraagde informatie in. Let op: in de rood gekleurde cellen zijn formules of koppelingen aanwezig, deze mogen niet worden verwijderd of aangepast. | N36: STAP 8: Selecteer "Selecteer tarief medewerker en/of toezicht" om een loongroep medewerker te selecteren. Het uurtarief wordt automatisch geplaats. Vul het percentage in van het aantal in te zetten uren en het jaarbedrag wordt gecalculeerd.
B39: Overal waar in het Calculatiemodel de invoervelden aanwezig zijn, dient een getal (niet zijnde nul (0)) te worden ingevuld.
F50: Tabblad: 1.1a-Jaarprijzen | I50: Opmerking:
I51: In het contractblad wordt automatisch het aantal m2 glas weergegeven (indien van toepassing).
F52: In dit tabblad wordt een recapitulatie van alle calcuatiegegevens weeergegeven
I53: Het tabblad 1.3a-Mutaties is niet van toepassing (indien aanwezig)

Sheet Voorblad
E5: = invulvelden
E10: Calculatiemodule
E12: Schoonmaakonderhoud
E13: &
E14: Glasbewassing
E16: Stichting Opspoor
E19: Naam organisatie
D22: Prijspeil | E22: 46388
D24: Besteknummer | E24: 1501-102-2026
D26: Versie | E26: =REPLACE(LEFT(CELL("bestandsnaam",A1),SEARCH("]",CELL("bestandsnaam",A1))-6),1,SEARCH("[",CELL("bestandsnaam",A1)),"") -> Calculatiemodule Opspoor Perceel 2 V1.1 | 01-jan-27 Wijziging bijgehouden
C32: Ingevoerde wijziging: | E32: 2027 V1
H33: Verwerkt in ruimtestaat

Sheet 1.0-Contractblad
A5: Toelichting | D5: Omschrijving blad : | E5: Contractblad jaarprijs schoonmaak & Glasbewassing
B6: = invulvelden | D6: Naam opdrachtgever : | E6: Stichting opspoor - SKOP
B7: = keuze velden * | D7: Adres/plaats : | E7: Purmerend e.o.
B8: = formule velden 'niet wijzigen' | D8: Besteknummer : | E8: =Voorblad!$E$24 -> 1501-102-2026
B9: = vaste waarde 'niet wijzigen' | D9: Versie : | E9: =Voorblad!$E$26 -> Calculatiemodule Opspoor Perceel 2 V1.1 | 01-jan-27 Wijziging bijgehouden
D10: Naam leverancier : | E10: =Voorblad!$E$19 -> Naam organisatie
D11: Prijspeil : | E11: =Voorblad!E22 -> 46388
D13: JAARPRIJS SCHOONMAAK
A14: * Vul alleen de invulvelden in als er een keuzeveld is gekozen.
D15: CATEGORIE MEDEWERKER | E15: PERCENTAGE INZET MEDEWERKER | F15: AANTAL UREN PER DAG (GEMIDDELD) | G15: AANTAL DAGEN PER JAAR | H15: AANTAL UREN PER JAAR | I15: TARIEF | J15: PRIJS PER JAAR
D18: PRODUCTIE-UREN MAANDAG-VRIJDAG 06:00-21:30 uur
D20: Selecteer tarief uitvoerend | F20: =H20/G20 -> 0 | G20: 200 | H20: =$H$25*E20 -> 0 | I20: =HLOOKUP(D20,'1.4-Opbouw uurtarieven'!$M$16:$R$65,44,FALSE) -> 0 | J20: =I20*H20 -> 0 | W20: =R20/I20-1 -> #DIV/0!
B22: Toelichting | D22: Selecteer tarief uitvoerend | F22: =H22/G22 -> 0 | G22: 200 | H22: =$H$25*E22 -> 0 | I22: =HLOOKUP(D22,'1.4-Opbouw uurtarieven'!$M$16:$R$65,44,FALSE) -> 0 | J22: =I22*H22 -> 0
D24: Selecteer tarief uitvoerend | F24: =H24/G24 -> 0 | G24: 200 | H24: =$H$25*E24 -> 0 | I24: =HLOOKUP(D24,'1.4-Opbouw uurtarieven'!$M$16:$R$65,44,FALSE) -> 0 | J24: =I24*H24 -> 0
D25: =IF(E25>100%,"Mag niet hoger zijn dan 100%","") | E25: =SUM(E20:E24) -> 0 | F25: =SUM(F20:F24) -> 0 | H25: =SUM('1.3-Basis ruimtestaat'!Q:R) -> 0 | I25: [A] | J25: =SUM(J20:J24) -> 0 | L25: =IF(H25=0,0,J25/H25) -> 0 | N25: =IF(E25>100,"Is hoger dan 100%",0) -> 0
D28: TOEZICHT-UREN MAANDAG-VRIJDAG 06:00-21:30 uur
D30: Selecteer tarief toezicht | F30: =H30/G30 -> 0 | G30: 200 | H30: =$H$25*E30 -> 0 | I30: =HLOOKUP(D30,'1.4-Opbouw uurtarieven'!$S$16:$V$65,44,FALSE) -> 0 | J30: =I30*H30 -> 0 | W30: =R30/I30-1 -> #DIV/0!
B32: Toelichting | D32: Selecteer tarief toezicht | E32: 0 | F32: =H32/G32 -> 0 | G32: 200 | H32: =$H$25*E32 -> 0 | I32: =HLOOKUP(D32,'1.4-Opbouw uurtarieven'!$S$16:$V$65,44,FALSE) -> 0 | J32: =I32*H32 -> 0
D34: Selecteer tarief toezicht | F34: =H34/G34 -> 0 | G34: 200 | H34: =$H$25*E34 -> 0 | I34: =HLOOKUP(D34,'1.4-Opbouw uurtarieven'!$S$16:$V$65,44,FALSE) -> 0 | J34: =I34*H34 -> 0
E35: =SUM(E30:E34) -> 0 | F35: =SUM(F30:F34) -> 0 | H35: =SUM(H30:H34) -> 0 | I35: [B] | J35: =SUM(J28:J34) -> 0 | L35: =IF(H35=0,0,J35/H35) -> 0 | N35: =J35+J25 -> 0
L37: =IF(H25=0,0,N35/H25) -> 0
I39: SUBTOTAAL [A+B] | J39: =J35+J25 -> 0
D42: NA GOEDKEURING INVESTERING MACHINEKOSTEN (BLAD 1.6-MACHINE-INVESTERINGSKOSTEN)
D46: ADDITIONELE PROJECTGEBONDEN SCHOONMAAKWERKZAAMHEDEN
G48: Aantal | H48: Frequentie | I48: Prijs p/stuk
J49: =I49*H49*G49 -> 0
J50: =I50*H50*G50 -> 0
J51: =I51*H51*G51 -> 0
J52: =I52*H52*G52 -> 0 | L52: =IF(H25=0,0,J44/H25) -> 0
G56: TOTAAL KOSTEN PER JAAR EXCLUSIEF BTW | J56: =SUM(J39:J55) -> 0
G57: B.T.W. | I57: 0.21 | J57: =I57*J56 -> 0
G58: Totale kosten per jaar inclusief B.T.W. | J58: =J57+J56 -> 0
D63: Gemiddeld uurtarief excl. machinekosten excl. BTW | F63: =IF(J39=0,0,J39/H25) -> 0 | G63: < Cel F63
D66: JAARPRIJS GLASBEWASSING
F68: M2 BUITEGLAS | G68: M2 BINNENGLAS | H68: M2 SEPARATIEGLAS * | J68: PRIJS PER JAAR
F71: =SUM('1.8-Glasbewassing'!F15:F212) -> 4288.4 | J71: =SUM('1.8-Glasbewassing'!Y:Y) -> 0
G72: =SUM('1.8-Glasbewassing'!G15:G213) -> 4309.9 | J72: =SUM('1.8-Glasbewassing'!Z:Z) -> 0
H73: =SUM('1.8-Glasbewassing'!H15:H214) -> 2315.33 | J73: =SUM('1.8-Glasbewassing'!AA:AA) -> 0
G75: INZET ARBEIDSMIDDELEN | J75: =SUM('1.8-Glasbewassing'!S:S) -> 0
G79: TOTAAL KOSTEN PER JAAR EXCLUSIEF BTW | J79: =SUM(J71:J78) -> 0
G80: B.T.W. | I80: 0.21 | J80: =I80*J79 -> 0
G81: Totale kosten per jaar inclusief B.T.W. | J81: =J80+J79 -> 0

Sheet 1.1a-Jaarprijzen
B3: Omschrijving blad | C3: Jaarkosten per locatie
B4: Naam opdrachtgever | C4: =Voorblad!$E$16 -> Stichting Opspoor
B5: Adres/plaats | C5: ='1.0-Contractblad'!$E$7 -> Purmerend e.o.
B6: Besteknummer | C6: =Voorblad!$E$24 -> 1501-102-2026 | F6: Toelichting
B7: Versie | C7: =Voorblad!$E$26 -> Calculatiemodule Opspoor Perceel 2 V1.1 | 01-jan-27 Wijziging bijgehouden
B8: Naam leverancier | C8: =Voorblad!$E$19 -> Naam organisatie
B9: Prijspeil | C9: =Voorblad!$E$22 -> 46388
B11: GEBOUW | C11: ADRES | D11: PLAATS | E11: VLOEROPPERVLAK IN ONDERHOUD | F11: VLOEROPPERVLAK NIET IN ONDERHOUD | G11: PERCEEL (I.V.T.) | H11: PRODUCTIE UREN REGULIER MA-VR | I11: PRODUCTIE UREN PERIODIEK | J11: AFRONDING TAAK UREN | K11: TOEZICHT UREN MA-VR | L11: TOTAAL M2 GLAS | M11: GEWOGEN GEMIDDELDE O.B.V. VLOEROPPERVLAK IN ONDERHOUD
A13: =G13 -> 2 | B13: OBS Willem Eggert | C13: Jan van Egmondstraat 14 | D13: Purmerend | E13: =SUMIF('1.3-Basis ruimtestaat'!E:K,'1.1a-Jaarprijzen'!B13,'1.3-Basis ruimtestaat'!K:K) -> 1725.1412 | F13: =SUMIF('1.3-Basis ruimtestaat'!E:L,'1.1a-Jaarprijzen'!B13,'1.3-Basis ruimtestaat'!L:L) -> 37.766 | G13: 2 | H13: =SUMIF('1.3-Basis ruimtestaat'!E:E,'1.1a-Jaarprijzen'!B13,'1.3-Basis ruimtestaat'!Q:Q) -> 0 | I13: =SUMIF('1.3-Basis ruimtestaat'!E:E,'1.1a-Jaarprijzen'!B13,'1.3-Basis ruimtestaat'!R:R) -> 0 | K13: =(H13+I13)*'1.0-Contractblad'!$E$35 -> 0 | L13: =SUMIF('1.8-Glasbewassing'!D:D,'1.1a-Jaarprijzen'!B13,'1.8-Glasbewassing'!I:I) -> 1363.25 | M13: =IF(H13=0,0,SUMIF('1.3-Basis ruimtestaat'!E:E,'1.1a-Jaarprijzen'!B13,'1.3-Basis ruimtestaat'!Z:Z)/SUM(H13+I13)) -> 0
A14: =G14 -> 2 | B14: SBO Het Tangram | C14: Slenkstraat 50 | D14: Purmerend | E14: =SUMIF('1.3-Basis ruimtestaat'!E:K,'1.1a-Jaarprijzen'!B14,'1.3-Basis ruimtestaat'!K:K) -> 1965.9775 | F14: =SUMIF('1.3-Basis ruimtestaat'!E:L,'1.1a-Jaarprijzen'!B14,'1.3-Basis ruimtestaat'!L:L) -> 169.0125 | G14: 2 | H14: =SUMIF('1.3-Basis ruimtestaat'!E:E,'1.1a-Jaarprijzen'!B14,'1.3-Basis ruimtestaat'!Q:Q) -> 0 | I14: =SUMIF('1.3-Basis ruimtestaat'!E:E,'1.1a-Jaarprijzen'!B14,'1.3-Basis ruimtestaat'!R:R) -> 0 | K14: =(H14+I14)*'1.0-Contractblad'!$E$35 -> 0 | L14: =SUMIF('1.8-Glasbewassing'!D:D,'1.1a-Jaarprijzen'!B14,'1.8-Glasbewassing'!I:I) -> 1169.18 | M14: =IF(H14=0,0,SUMIF('1.3-Basis ruimtestaat'!E:E,'1.1a-Jaarprijzen'!B14,'1.3-Basis ruimtestaat'!Z:Z)/SUM(H14+I14)) -> 0
A15: =G15 -> 2 | B15: OBS De Fuut | C15: Agevaar 86 | D15: Monnickendam | E15: =SUMIF('1.3-Basis ruimtestaat'!E:K,'1.1a-Jaarprijzen'!B15,'1.3-Basis ruimtestaat'!K:K) -> 821.1 | F15: =SUMIF('1.3-Basis ruimtestaat'!E:L,'1.1a-Jaarprijzen'!B15,'1.3-Basis ruimtestaat'!L:L) -> 189.2 | G15: 2 | H15: =SUMIF('1.3-Basis ruimtestaat'!E:E,'1.1a-Jaarprijzen'!B15,'1.3-Basis ruimtestaat'!Q:Q) -> 0 | I15: =SUMIF('1.3-Basis ruimtestaat'!E:E,'1.1a-Jaarprijzen'!B15,'1.3-Basis ruimtestaat'!R:R) -> 0 | K15: =(H15+I15)*'1.0-Contractblad'!$E$35 -> 0 | L15: =SUMIF('1.8-Glasbewassing'!D:D,'1.1a-Jaarprijzen'!B15,'1.8-Glasbewassing'!I:I) -> 721 | M15: =IF(H15=0,0,SUMIF('1.3-Basis ruimtestaat'!E:E,'1.1a-Jaarprijzen'!B15,'1.3-Basis ruimtestaat'!Z:Z)/SUM(H15+I15)) -> 0
A16: =G16 -> 2 | B16: OCBS De Fuut | C16: Agevaar 86 | D16: Monnickendam | E16: =SUMIF('1.3-Basis ruimtestaat'!E:K,'1.1a-Jaarprijzen'!B16,'1.3-Basis ruimtestaat'!K:K) -> 210.7 | F16: =SUMIF('1.3-Basis ruimtestaat'!E:L,'1.1a-Jaarprijzen'!B16,'1.3-Basis ruimtestaat'!L:L) -> 0 | G16: 2 | H16: =SUMIF('1.3-Basis ruimtestaat'!E:E,'1.1a-Jaarprijzen'!B16,'1.3-Basis ruimtestaat'!Q:Q) -> 0 | I16: =SUMIF('1.3-Basis ruimtestaat'!E:E,'1.1a-Jaarprijzen'!B16,'1.3-Basis ruimtestaat'!R:R) -> 0 | K16: =(H16+I16)*'1.0-Contractblad'!$E$35 -> 0 | L16: =SUMIF('1.8-Glasbewassing'!D:D,'1.1a-Jaarprijzen'!B16,'1.8-Glasbewassing'!I:I) -> 0 | M16: =IF(H16=0,0,SUMIF('1.3-Basis ruimtestaat'!E:E,'1.1a-Jaarprijzen'!B16,'1.3-Basis ruimtestaat'!Z:Z)/SUM(H16+I16)) -> 0
A17: =G17 -> 2 | B17: OBS De Havenrakkers | C17: Nieuwland 32 | D17: Broek in Waterland | E17: =SUMIF('1.3-Basis ruimtestaat'!E:K,'1.1a-Jaarprijzen'!B17,'1.3-Basis ruimtestaat'!K:K) -> 1487 | F17: =SUMIF('1.3-Basis ruimtestaat'!E:L,'1.1a-Jaarprijzen'!B17,'1.3-Basis ruimtestaat'!L:L) -> 325 | G17: 2 | H17: =SUMIF('1.3-Basis ruimtestaat'!E:E,'1.1a-Jaarprijzen'!B17,'1.3-Basis ruimtestaat'!Q:Q) -> 0 | I17: =SUMIF('1.3-Basis ruimtestaat'!E:E,'1.1a-Jaarprijzen'!B17,'1.3-Basis ruimtestaat'!R:R) -> 0 | K17: =(H17+I17)*'1.0-Contractblad'!$E$35 -> 0 | L17: =SUMIF('1.8-Glasbewassing'!D:D,'1.1a-Jaarprijzen'!B17,'1.8-Glasbewassing'!I:I) -> 1178 | M17: =IF(H17=0,0,SUMIF('1.3-Basis ruimtestaat'!E:E,'1.1a-Jaarprijzen'!B17,'1.3-Basis ruimtestaat'!Z:Z)/SUM(H17+I17)) -> 0
A18: =G18 -> 2 | B18: OBS De Overhaal | C18: Zuiderwouder Dorpsstraat 41 | D18: Zuiderwoude | E18: =SUMIF('1.3-Basis ruimtestaat'!E:K,'1.1a-Jaarprijzen'!B18,'1.3-Basis ruimtestaat'!K:K) -> 390.1 | F18: =SUMIF('1.3-Basis ruimtestaat'!E:L,'1.1a-Jaarprijzen'!B18,'1.3-Basis ruimtestaat'!L:L) -> 0 | G18: 2 | H18: =SUMIF('1.3-Basis ruimtestaat'!E:E,'1.1a-Jaarprijzen'!B18,'1.3-Basis ruimtestaat'!Q:Q) -> 0 | I18: =SUMIF('1.3-Basis ruimtestaat'!E:E,'1.1a-Jaarprijzen'!B18,'1.3-Basis ruimtestaat'!R:R) -> 0 | K18: =(H18+I18)*'1.0-Contractblad'!$E$35 -> 0 | L18: =SUMIF('1.8-Glasbewassing'!D:D,'1.1a-Jaarprijzen'!B18,'1.8-Glasbewassing'!I:I) -> 258 | M18: =IF(H18=0,0,SUMIF('1.3-Basis ruimtestaat'!E:E,'1.1a-Jaarprijzen'!B18,'1.3-Basis ruimtestaat'!Z:Z)/SUM(H18+I18)) -> 0
A19: =G19 -> 2 | B19: OBS De Gouwzee | C19: Wilhelminalaan 58 | D19: Monnickendam | E19: =SUMIF('1.3-Basis ruimtestaat'!E:K,'1.1a-Jaarprijzen'!B19,'1.3-Basis ruimtestaat'!K:K) -> 1195 | F19: =SUMIF('1.3-Basis ruimtestaat'!E:L,'1.1a-Jaarprijzen'!B19,'1.3-Basis ruimtestaat'!L:L) -> 0 | G19: 2 | H19: =SUMIF('1.3-Basis ruimtestaat'!E:E,'1.1a-Jaarprijzen'!B19,'1.3-Basis ruimtestaat'!Q:Q) -> 0 | I19: =SUMIF('1.3-Basis ruimtestaat'!E:E,'1.1a-Jaarprijzen'!B19,'1.3-Basis ruimtestaat'!R:R) -> 0 | K19: =(H19+I19)*'1.0-Contractblad'!$E$35 -> 0 | L19: =SUMIF('1.8-Glasbewassing'!D:D,'1.1a-Jaarprijzen'!B19,'1.8-Glasbewassing'!I:I) -> 674 | M19: =IF(H19=0,0,SUMIF('1.3-Basis ruimtestaat'!E:E,'1.1a-Jaarprijzen'!B19,'1.3-Basis ruimtestaat'!Z:Z)/SUM(H19+I19)) -> 0
A20: =G20 -> 2 | B20: OBS Het Parelhof | C20: Zichthof 9 - 11 | D20: Purmerend | E20: =SUMIF('1.3-Basis ruimtestaat'!E:K,'1.1a-Jaarprijzen'!B20,'1.3-Basis ruimtestaat'!K:K) -> 2117.4 | F20: =SUMIF('1.3-Basis ruimtestaat'!E:L,'1.1a-Jaarprijzen'!B20,'1.3-Basis ruimtestaat'!L:L) -> 44 | G20: 2 | H20: =SUMIF('1.3-Basis ruimtestaat'!E:E,'1.1a-Jaarprijzen'!B20,'1.3-Basis ruimtestaat'!Q:Q) -> 0 | I20: =SUMIF('1.3-Basis ruimtestaat'!E:E,'1.1a-Jaarprijzen'!B20,'1.3-Basis ruimtestaat'!R:R) -> 0 | K20: =(H20+I20)*'1.0-Contractblad'!$E$35 -> 0 | L20: =SUMIF('1.8-Glasbewassing'!D:D,'1.1a-Jaarprijzen'!B20,'1.8-Glasbewassing'!I:I) -> 1138.8 | M20: =IF(H20=0,0,SUMIF('1.3-Basis ruimtestaat'!E:E,'1.1a-Jaarprijzen'!B20,'1.3-Basis ruimtestaat'!Z:Z)/SUM(H20+I20)) -> 0
A21: =G21 -> 2 | B21: OBS Delta Beethoven | C21: Beethovenstraat 62-64 | D21: Purmerend | E21: =SUMIF('1.3-Basis ruimtestaat'!E:K,'1.1a-Jaarprijzen'!B21,'1.3-Basis ruimtestaat'!K:K) -> 1437.8006 | F21: =SUMIF('1.3-Basis ruimtestaat'!E:L,'1.1a-Jaarprijzen'!B21,'1.3-Basis ruimtestaat'!L:L) -> 73.14 | G21: 2 | H21: =SUMIF('1.3-Basis ruimtestaat'!E:E,'1.1a-Jaarprijzen'!B21,'1.3-Basis ruimtestaat'!Q:Q) -> 0 | I21: =SUMIF('1.3-Basis ruimtestaat'!E:E,'1.1a-Jaarprijzen'!B21,'1.3-Basis ruimtestaat'!R:R) -> 0 | K21: =(H21+I21)*'1.0-Contractblad'!$E$35 -> 0 | L21: =SUMIF('1.8-Glasbewassing'!D:D,'1.1a-Jaarprijzen'!B21,'1.8-Glasbewassing'!I:I) -> 618.7 | M21: =IF(H21=0,0,SUMIF('1.3-Basis ruimtestaat'!E:E,'1.1a-Jaarprijzen'!B21,'1.3-Basis ruimtestaat'!Z:Z)/SUM(H21+I21)) -> 0
A22: =G22 -> 2 | B22: OBS Noorderlicht | C22: Jachtwagenstraat 64 | D22: Purmerend | E22: =SUMIF('1.3-Basis ruimtestaat'!E:K,'1.1a-Jaarprijzen'!B22,'1.3-Basis ruimtestaat'!K:K) -> 970 | F22: =SUMIF('1.3-Basis ruimtestaat'!E:L,'1.1a-Jaarprijzen'!B22,'1.3-Basis ruimtestaat'!L:L) -> 15 | G22: 2 | H22: =SUMIF('1.3-Basis ruimtestaat'!E:E,'1.1a-Jaarprijzen'!B22,'1.3-Basis ruimtestaat'!Q:Q) -> 0 | I22: =SUMIF('1.3-Basis ruimtestaat'!E:E,'1.1a-Jaarprijzen'!B22,'1.3-Basis ruimtestaat'!R:R) -> 0 | K22: =(H22+I22)*'1.0-Contractblad'!$E$35 -> 0 | L22: =SUMIF('1.8-Glasbewassing'!D:D,'1.1a-Jaarprijzen'!B22,'1.8-Glasbewassing'!I:I) -> 553.3 | M22: =IF(H22=0,0,SUMIF('1.3-Basis ruimtestaat'!E:E,'1.1a-Jaarprijzen'!B22,'1.3-Basis ruimtestaat'!Z:Z)/SUM(H22+I22)) -> 0
A23: =G23 -> 2 | B23: OBS De Delta | C23: Delfland 2 | D23: Purmerend | E23: =SUMIF('1.3-Basis ruimtestaat'!E:K,'1.1a-Jaarprijzen'!B23,'1.3-Basis ruimtestaat'!K:K) -> 1187.2481 | F23: =SUMIF('1.3-Basis ruimtestaat'!E:L,'1.1a-Jaarprijzen'!B23,'1.3-Basis ruimtestaat'!L:L) -> 36.76 | G23: 2 | H23: =SUMIF('1.3-Basis ruimtestaat'!E:E,'1.1a-Jaarprijzen'!B23,'1.3-Basis ruimtestaat'!Q:Q) -> 0 | I23: =SUMIF('1.3-Basis ruimtestaat'!E:E,'1.1a-Jaarprijzen'!B23,'1.3-Basis ruimtestaat'!R:R) -> 0 | K23: =(H23+I23)*'1.0-Contractblad'!$E$35 -> 0 | L23: =SUMIF('1.8-Glasbewassing'!D:D,'1.1a-Jaarprijzen'!B23,'1.8-Glasbewassing'!I:I) -> 440.5 | M23: =IF(H23=0,0,SUMIF('1.3-Basis ruimtestaat'!E:E,'1.1a-Jaarprijzen'!B23,'1.3-Basis ruimtestaat'!Z:Z)/SUM(H23+I23)) -> 0
A24: =G24 -> 2 | B24: Kindcentrum Wheermolen | C24: Luitstraat 4 | D24: Purmerend | E24: =SUMIF('1.3-Basis ruimtestaat'!E:K,'1.1a-Jaarprijzen'!B24,'1.3-Basis ruimtestaat'!K:K) -> 1647.56 | F24: =SUMIF('1.3-Basis ruimtestaat'!E:L,'1.1a-Jaarprijzen'!B24,'1.3-Basis ruimtestaat'!L:L) -> 60.97 | G24: 2 | H24: =SUMIF('1.3-Basis ruimtestaat'!E:E,'1.1a-Jaarprijzen'!B24,'1.3-Basis ruimtestaat'!Q:Q) -> 0 | I24: =SUMIF('1.3-Basis ruimtestaat'!E:E,'1.1a-Jaarprijzen'!B24,'1.3-Basis ruimtestaat'!R:R) -> 0 | K24: =(H24+I24)*'1.0-Contractblad'!$E$35 -> 0 | L24: =SUMIF('1.8-Glasbewassing'!D:D,'1.1a-Jaarprijzen'!B24,'1.8-Glasbewassing'!I:I) -> 999.1 | M24: =IF(H24=0,0,SUMIF('1.3-Basis ruimtestaat'!E:E,'1.1a-Jaarprijzen'!B24,'1.3-Basis ruimtestaat'!Z:Z)/SUM(H24+I24)) -> 0
... A30: =G30 -> 2 | B30: Kinderdagverblijf Anansi | C30: Zambezielaan 278 | D30: Purmerend | E30: =SUMIF('1.3-Basis ruimtestaat'!E:K,'1.1a-Jaarprijzen'!B30,'1.3-Basis ruimtestaat'!K:K) -> 429.15708 | F30: =SUMIF('1.3-Basis ruimtestaat'!E:L,'1.1a-Jaarprijzen'!B30,'1.3-Basis ruimtestaat'!L:L) -> 43.74 | G30: 2 | H30: =SUMIF('1.3-Basis ruimtestaat'!E:E,'1.1a-Jaarprijzen'!B30,'1.3-Basis ruimtestaat'!Q:Q) -> 0 | I30: =SUMIF('1.3-Basis ruimtestaat'!E:E,'1.1a-Jaarprijzen'!B30,'1.3-Basis ruimtestaat'!R:R) -> 0 | K30: =(H30+I30)*'1.0-Contractblad'!$E$35 -> 0 | L30: =SUMIF('1.8-Glasbewassing'!D:D,'1.1a-Jaarprijzen'!B30,'1.8-Glasbewassing'!I:I) -> 206.7 | M30: =IF(H30=0,0,SUMIF('1.3-Basis ruimtestaat'!E:E,'1.1a-Jaarprijzen'!B30,'1.3-Basis ruimtestaat'!Z:Z)/SUM(H30+I30)) -> 0
A31: =G31 -> 0 | M31: =IF(H31=0,0,SUMIF('1.3-Basis ruimtestaat'!E:E,'1.1a-Jaarprijzen'!B31,'1.3-Basis ruimtestaat'!Z:Z)/SUM(H31+I31)) -> 0
H33: ='1.0-Contractblad'!$L$25 -> 0 | I33: =H33 -> 0 | L33: ='1.0-Contractblad'!$L$35 -> 0
A34: t
A35: t | B35: GEBOUW | C35: ADRES | D35: ADDITIONLE KOSTEN | E35: INVESTERING MACHINEKOSTEN | F35: PRODUCTIEKOSTEN MA-VR | G35: TOEZICHTKOSTEN | H35: KOSTEN AFRONDING TAAK UREN | I35: TOTAAL SCHOONMAAK | J35: MUTATIE VOLGENS 1.3A | K35: VERREKJEND JA/NEE | L35: GLASBEWASSING | M35: KOSTEN TOTAAL PER JAAR
A37: =A13 -> 2 | B37: =B13 -> OBS Willem Eggert | C37: =C13 -> Jan van Egmondstraat 14 | D37: =SUMIF('1.0-Contractblad'!$A$48:$A$52,'1.1a-Jaarprijzen'!B37,'1.0-Contractblad'!$J$48:$J$52) -> 0 | E37: =VLOOKUP($B37,'1.6-Machine-investeringskosten'!$E$99:$H$158,4,FALSE) -> 0 | F37: =$H$33*H13+$I$33*I13 -> 0 | G37: =$L$33*K13 -> 0 | H37: =$H$33*J13 -> 0 | I37: =E37+F37+G37+D37+H37 -> 0 | J37: =SUMIF('1. 3A-Mutaties'!E:E,'1.1a-Jaarprijzen'!B37,'1. 3A-Mutaties'!Z:Z) -> 0 | L37: =SUMIF('1.8-Glasbewassing'!D:D,'1.1a-Jaarprijzen'!B37,'1.8-Glasbewassing'!W:W) -> 0 | M37: =IF(K37="ja",I37,J37+I37)+L37 -> 0 | Q37: =L37/(E13) -> 0 | T37: =I37/E13 -> 0
A38: =A14 -> 2 | B38: =B14 -> SBO Het Tangram | C38: =C14 -> Slenkstraat 50 | D38: =SUMIF('1.0-Contractblad'!$A$48:$A$52,'1.1a-Jaarprijzen'!B38,'1.0-Contractblad'!$J$48:$J$52) -> 0 | E38: =VLOOKUP($B38,'1.6-Machine-investeringskosten'!$E$99:$H$158,4,FALSE) -> 0 | F38: =$H$33*H14+$I$33*I14 -> 0 | G38: =$L$33*K14 -> 0 | H38: =$H$33*J14 -> 0 | I38: =E38+F38+G38+D38+H38 -> 0 | J38: =SUMIF('1. 3A-Mutaties'!E:E,'1.1a-Jaarprijzen'!B38,'1. 3A-Mutaties'!Z:Z) -> 0 | L38: =SUMIF('1.8-Glasbewassing'!D:D,'1.1a-Jaarprijzen'!B38,'1.8-Glasbewassing'!W:W) -> 0 | M38: =IF(K38="ja",I38,J38+I38)+L38 -> 0 | Q38: =L38/(E14) -> 0 | T38: =I38/E14 -> 0
A39: =A15 -> 2 | B39: =B15 -> OBS De Fuut | C39: =C15 -> Agevaar 86 | D39: =SUMIF('1.0-Contractblad'!$A$48:$A$52,'1.1a-Jaarprijzen'!B39,'1.0-Contractblad'!$J$48:$J$52) -> 0 | E39: =VLOOKUP($B39,'1.6-Machine-investeringskosten'!$E$99:$H$158,4,FALSE) -> 0 | F39: =$H$33*H15+$I$33*I15 -> 0 | G39: =$L$33*K15 -> 0 | H39: =$H$33*J15 -> 0 | I39: =E39+F39+G39+D39+H39 -> 0 | J39: =SUMIF('1. 3A-Mutaties'!E:E,'1.1a-Jaarprijzen'!B39,'1. 3A-Mutaties'!Z:Z) -> 0 | L39: =SUMIF('1.8-Glasbewassing'!D:D,'1.1a-Jaarprijzen'!B39,'1.8-Glasbewassing'!W:W) -> 0 | M39: =IF(K39="ja",I39,J39+I39)+L39 -> 0 | Q39: =L39/(E15) -> 0 | T39: =I39/E15 -> 0
A40: =A16 -> 2 | B40: =B16 -> OCBS De Fuut | C40: =C16 -> Agevaar 86 | D40: =SUMIF('1.0-Contractblad'!$A$48:$A$52,'1.1a-Jaarprijzen'!B40,'1.0-Contractblad'!$J$48:$J$52) -> 0 | E40: =VLOOKUP($B40,'1.6-Machine-investeringskosten'!$E$99:$H$158,4,FALSE) -> 0 | F40: =$H$33*H16+$I$33*I16 -> 0 | G40: =$L$33*K16 -> 0 | H40: =$H$33*J16 -> 0 | I40: =E40+F40+G40+D40+H40 -> 0 | J40: =SUMIF('1. 3A-Mutaties'!E:E,'1.1a-Jaarprijzen'!B40,'1. 3A-Mutaties'!Z:Z) -> 0 | L40: =SUMIF('1.8-Glasbewassing'!D:D,'1.1a-Jaarprijzen'!B40,'1.8-Glasbewassing'!W:W) -> 0 | M40: =IF(K40="ja",I40,J40+I40)+L40 -> 0 | Q40: =L40/(E16) -> 0 | T40: =I40/E16 -> 0
A41: =A17 -> 2 | B41: =B17 -> OBS De Havenrakkers | C41: =C17 -> Nieuwland 32 | D41: =SUMIF('1.0-Contractblad'!$A$48:$A$52,'1.1a-Jaarprijzen'!B41,'1.0-Contractblad'!$J$48:$J$52) -> 0 | E41: =VLOOKUP($B41,'1.6-Machine-investeringskosten'!$E$99:$H$158,4,FALSE) -> 0 | F41: =$H$33*H17+$I$33*I17 -> 0 | G41: =$L$33*K17 -> 0 | H41: =$H$33*J17 -> 0 | I41: =E41+F41+G41+D41+H41 -> 0 | J41: =SUMIF('1. 3A-Mutaties'!E:E,'1.1a-Jaarprijzen'!B41,'1. 3A-Mutaties'!Z:Z) -> 0 | L41: =SUMIF('1.8-Glasbewassing'!D:D,'1.1a-Jaarprijzen'!B41,'1.8-Glasbewassing'!W:W) -> 0 | M41: =IF(K41="ja",I41,J41+I41)+L41 -> 0 | Q41: =L41/(E17) -> 0 | T41: =I41/E17 -> 0
A42: =A18 -> 2 | B42: =B18 -> OBS De Overhaal | C42: =C18 -> Zuiderwouder Dorpsstraat 41 | D42: =SUMIF('1.0-Contractblad'!$A$48:$A$52,'1.1a-Jaarprijzen'!B42,'1.0-Contractblad'!$J$48:$J$52) -> 0 | E42: =VLOOKUP($B42,'1.6-Machine-investeringskosten'!$E$99:$H$158,4,FALSE) -> 0 | F42: =$H$33*H18+$I$33*I18 -> 0 | G42: =$L$33*K18 -> 0 | H42: =$H$33*J18 -> 0 | I42: =E42+F42+G42+D42+H42 -> 0 | J42: =SUMIF('1. 3A-Mutaties'!E:E,'1.1a-Jaarprijzen'!B42,'1. 3A-Mutaties'!Z:Z) -> 0 | L42: =SUMIF('1.8-Glasbewassing'!D:D,'1.1a-Jaarprijzen'!B42,'1.8-Glasbewassing'!W:W) -> 0 | M42: =IF(K42="ja",I42,J42+I42)+L42 -> 0 | Q42: =L42/(E18) -> 0 | T42: =I42/E18 -> 0
A43: =A19 -> 2 | B43: =B19 -> OBS De Gouwzee | C43: =C19 -> Wilhelminalaan 58 | D43: =SUMIF('1.0-Contractblad'!$A$48:$A$52,'1.1a-Jaarprijzen'!B43,'1.0-Contractblad'!$J$48:$J$52) -> 0 | E43: =VLOOKUP($B43,'1.6-Machine-investeringskosten'!$E$99:$H$158,4,FALSE) -> 0 | F43: =$H$33*H19+$I$33*I19 -> 0 | G43: =$L$33*K19 -> 0 | H43: =$H$33*J19 -> 0 | I43: =E43+F43+G43+D43+H43 -> 0 | J43: =SUMIF('1. 3A-Mutaties'!E:E,'1.1a-Jaarprijzen'!B43,'1. 3A-Mutaties'!Z:Z) -> 0 | L43: =SUMIF('1.8-Glasbewassing'!D:D,'1.1a-Jaarprijzen'!B43,'1.8-Glasbewassing'!W:W) -> 0 | M43: =IF(K43="ja",I43,J43+I43)+L43 -> 0 | Q43: =L43/(E19) -> 0 | T43: =I43/E19 -> 0
A44: =A20 -> 2 | B44: =B20 -> OBS Het Parelhof | C44: =C20 -> Zichthof 9 - 11 | D44: =SUMIF('1.0-Contractblad'!$A$48:$A$52,'1.1a-Jaarprijzen'!B44,'1.0-Contractblad'!$J$48:$J$52) -> 0 | E44: =VLOOKUP($B44,'1.6-Machine-investeringskosten'!$E$99:$H$158,4,FALSE) -> 0 | F44: =$H$33*H20+$I$33*I20 -> 0 | G44: =$L$33*K20 -> 0 | H44: =$H$33*J20 -> 0 | I44: =E44+F44+G44+D44+H44 -> 0 | J44: =SUMIF('1. 3A-Mutaties'!E:E,'1.1a-Jaarprijzen'!B44,'1. 3A-Mutaties'!Z:Z) -> 0 | L44: =SUMIF('1.8-Glasbewassing'!D:D,'1.1a-Jaarprijzen'!B44,'1.8-Glasbewassing'!W:W) -> 0 | M44: =IF(K44="ja",I44,J44+I44)+L44 -> 0 | Q44: =L44/(E20) -> 0 | T44: =I44/E20 -> 0
A45: =A21 -> 2 | B45: =B21 -> OBS Delta Beethoven | C45: =C21 -> Beethovenstraat 62-64 | D45: =SUMIF('1.0-Contractblad'!$A$48:$A$52,'1.1a-Jaarprijzen'!B45,'1.0-Contractblad'!$J$48:$J$52) -> 0 | E45: =VLOOKUP($B45,'1.6-Machine-investeringskosten'!$E$99:$H$158,4,FALSE) -> 0 | F45: =$H$33*H21+$I$33*I21 -> 0 | G45: =$L$33*K21 -> 0 | H45: =$H$33*J21 -> 0 | I45: =E45+F45+G45+D45+H45 -> 0 | J45: =SUMIF('1. 3A-Mutaties'!E:E,'1.1a-Jaarprijzen'!B45,'1. 3A-Mutaties'!Z:Z) -> 0 | L45: =SUMIF('1.8-Glasbewassing'!D:D,'1.1a-Jaarprijzen'!B45,'1.8-Glasbewassing'!W:W) -> 0 | M45: =IF(K45="ja",I45,J45+I45)+L45 -> 0 | Q45: =L45/(E21) -> 0 | T45: =I45/E21 -> 0
A46: =A22 -> 2 | B46: =B22 -> OBS Noorderlicht | C46: =C22 -> Jachtwagenstraat 64 | D46: =SUMIF('1.0-Contractblad'!$A$48:$A$52,'1.1a-Jaarprijzen'!B46,'1.0-Contractblad'!$J$48:$J$52) -> 0 | E46: =VLOOKUP($B46,'1.6-Machine-investeringskosten'!$E$99:$H$158,4,FALSE) -> 0 | F46: =$H$33*H22+$I$33*I22 -> 0 | G46: =$L$33*K22 -> 0 | H46: =$H$33*J22 -> 0 | I46: =E46+F46+G46+D46+H46 -> 0 | J46: =SUMIF('1. 3A-Mutaties'!E:E,'1.1a-Jaarprijzen'!B46,'1. 3A-Mutaties'!Z:Z) -> 0 | L46: =SUMIF('1.8-Glasbewassing'!D:D,'1.1a-Jaarprijzen'!B46,'1.8-Glasbewassing'!W:W) -> 0 | M46: =IF(K46="ja",I46,J46+I46)+L46 -> 0 | Q46: =L46/(E22) -> 0 | T46: =I46/E22 -> 0
A47: =A23 -> 2 | B47: =B23 -> OBS De Delta | C47: =C23 -> Delfland 2 | D47: =SUMIF('1.0-Contractblad'!$A$48:$A$52,'1.1a-Jaarprijzen'!B47,'1.0-Contractblad'!$J$48:$J$52) -> 0 | E47: =VLOOKUP($B47,'1.6-Machine-investeringskosten'!$E$99:$H$158,4,FALSE) -> 0 | F47: =$H$33*H23+$I$33*I23 -> 0 | G47: =$L$33*K23 -> 0 | H47: =$H$33*J23 -> 0 | I47: =E47+F47+G47+D47+H47 -> 0 | J47: =SUMIF('1. 3A-Mutaties'!E:E,'1.1a-Jaarprijzen'!B47,'1. 3A-Mutaties'!Z:Z) -> 0 | L47: =SUMIF('1.8-Glasbewassing'!D:D,'1.1a-Jaarprijzen'!B47,'1.8-Glasbewassing'!W:W) -> 0 | M47: =IF(K47="ja",I47,J47+I47)+L47 -> 0 | Q47: =L47/(E23) -> 0 | T47: =I47/E23 -> 0
A48: =A24 -> 2 | B48: =B24 -> Kindcentrum Wheermolen | C48: =C24 -> Luitstraat 4 | D48: =SUMIF('1.0-Contractblad'!$A$48:$A$52,'1.1a-Jaarprijzen'!B48,'1.0-Contractblad'!$J$48:$J$52) -> 0 | E48: =VLOOKUP($B48,'1.6-Machine-investeringskosten'!$E$99:$H$158,4,FALSE) -> 0 | F48: =$H$33*H24+$I$33*I24 -> 0 | G48: =$L$33*K24 -> 0 | H48: =$H$33*J24 -> 0 | I48: =E48+F48+G48+D48+H48 -> 0 | J48: =SUMIF('1. 3A-Mutaties'!E:E,'1.1a-Jaarprijzen'!B48,'1. 3A-Mutaties'!Z:Z) -> 0 | L48: =SUMIF('1.8-Glasbewassing'!D:D,'1.1a-Jaarprijzen'!B48,'1.8-Glasbewassing'!W:W) -> 0 | M48: =IF(K48="ja",I48,J48+I48)+L48 -> 0 | Q48: =L48/(E24) -> 0 | T48: =I48/E24 -> 0
... A54: =A30 -> 2 | B54: =B30 -> Kinderdagverblijf Anansi | C54: =C30 -> Zambezielaan 278 | D54: =SUMIF('1.0-Contractblad'!$A$48:$A$52,'1.1a-Jaarprijzen'!B54,'1.0-Contractblad'!$J$48:$J$52) -> 0 | E54: =VLOOKUP($B54,'1.6-Machine-investeringskosten'!$E$99:$H$158,4,FALSE) -> 0 | F54: =$H$33*H30+$I$33*I30 -> 0 | G54: =$L$33*K30 -> 0 | H54: =$H$33*J30 -> 0 | I54: =E54+F54+G54+D54+H54 -> 0 | J54: =SUMIF('1. 3A-Mutaties'!E:E,'1.1a-Jaarprijzen'!B54,'1. 3A-Mutaties'!Z:Z) -> 0 | L54: =SUMIF('1.8-Glasbewassing'!D:D,'1.1a-Jaarprijzen'!B54,'1.8-Glasbewassing'!W:W) -> 0 | M54: =IF(K54="ja",I54,J54+I54)+L54 -> 0 | Q54: =L54/(E30) -> 0 | T54: =I54/E30 -> 0
A55: =#REF! -> #REF! | B55: =B31 -> 0 | C55: =C31 -> 0 | D55: =SUMIF('1.0-Contractblad'!$A$48:$A$52,'1.1a-Jaarprijzen'!B55,'1.0-Contractblad'!$J$48:$J$52) -> 0 | E55: =VLOOKUP($B55,'1.6-Machine-investeringskosten'!$E$99:$H$158,4,FALSE) -> 0 | F55: =$H$33*H31+$I$33*I31 -> 0 | G55: =$L$33*K31 -> 0 | H55: =$H$33*J31 -> 0 | I55: =E55+F55+G55+D55+H55 -> 0 | J55: =SUMIF('1. 3A-Mutaties'!E:E,'1.1a-Jaarprijzen'!B55,'1. 3A-Mutaties'!Z:Z) -> 0 | L55: =SUMIF('1.8-Glasbewassing'!D:D,'1.1a-Jaarprijzen'!B55,'1.8-Glasbewassing'!W:W) -> 0 | M55: =IF(K55="ja",I55,J55+I55) -> 0 | Q55: =L55/(#REF!) -> #REF! | T55: =I55/#REF! -> #REF!
A56: =A31 -> 0 | B56: =B32 -> 0 | C56: =C32 -> 0 | D56: =SUMIF('1.0-Contractblad'!$A$48:$A$52,'1.1a-Jaarprijzen'!B56,'1.0-Contractblad'!$J$48:$J$52) -> 0 | E56: =VLOOKUP($B56,'1.6-Machine-investeringskosten'!$E$99:$H$158,4,FALSE) -> 0 | F56: =$H$33*H32+$I$33*I32 -> 0 | G56: =$L$33*K32 -> 0 | H56: =$H$33*J32 -> 0 | I56: =E56+F56+G56+D56+H56 -> 0 | J56: =SUMIF('1. 3A-Mutaties'!E:E,'1.1a-Jaarprijzen'!B56,'1. 3A-Mutaties'!Z:Z) -> 0 | L56: =SUMIF('1.8-Glasbewassing'!D:D,'1.1a-Jaarprijzen'!B56,'1.8-Glasbewassing'!W:W) -> 0 | M56: =IF(K56="ja",I56,J56+I56) -> 0 | Q56: =L56/(E31) -> #DIV/0! | T56: =I56/E31 -> #DIV/0!
A57: =A32 -> 0
A60: 1
A61: 2 | C61: Perceel 2 totalen | D61: =SUMIF($A$37:$M$55,$A61,$D$37:$D$55) -> 0 | E61: =SUMIF($A$37:$M$55,$A61,$E$37:$E$55) -> 0 | F61: =SUMIF($A$37:$M$55,$A61,$F$37:$F$55) -> 0 | G61: =SUMIF($A$37:$M$55,$A61,$G$37:$G$55) -> 0 | H61: =SUMIF($A$37:$M$55,$A61,$H$37:$H$55) -> 0 | I61: =SUMIF($A$37:$M$55,$A61,$I$37:$I$55) -> 0 | J61: =SUMIF($A$37:$M$55,$A61,$J$37:$J$55) -> 0 | L61: =SUMIF($A$37:$M$55,$A61,$L$37:$L$55) -> 0 | M61: =SUMIF($A$37:$M$55,$A61,$M$37:$M$55) -> 0
A62: 3
C67: Indexering | D67: Indexering | E67: Indexering | F67: Indexering | G67: Indexering | H67: Indexering | I67: Indexering | J67: Indexering | K67: Indexering | L67: Indexering
C68: 2027 | D68: =C68+1 -> 2028 | E68: =D68+1 -> 2029 | F68: =E68+1 -> 2030 | G68: =F68+1 -> 2031 | H68: =G68+1 -> 2032 | I68: =H68+1 -> 2033 | J68: =I68+1 -> 2034 | K68: =J68+1 -> 2035
B69: invoerings datum
B70: percentage
B71: 1 | C71: =B71*C70+B71 -> 1 | D71: =C71*D70+C71 -> 1 | E71: =D71*E70+D71 -> 1 | F71: =E71*F70+E71 -> 1 | G71: =F71*G70+F71 -> 1 | H71: =G71*H70+G71 -> 1 | I71: =H71*I70+H71 -> 1 | J71: =I71*J70+I71 -> 1 | ... L71: =K71*L70+K71 -> 1
C72: =MAX(C71:L71)-1 -> 0

Sheet 1.2-Kengetal
A4: Toelichting | C4: Omschrijving blad | F4: Kengetallenoverzicht schoonmaakonderhoud
B5: = invulvelden | C5: Naam opdrachtgever | F5: =Voorblad!$E$16 -> Stichting Opspoor
B6: = keuze velden * | C6: Adres/plaats | F6: ='1.0-Contractblad'!$E$7 -> Purmerend e.o.
B7: = formule velden 'niet wijzigen' | C7: Besteknummer | F7: =Voorblad!$E$24 -> 1501-102-2026
B8: = vaste waarde 'niet wijzigen' | C8: Versie | F8: =Voorblad!$E$26 -> Calculatiemodule Opspoor Perceel 2 V1.1 | 01-jan-27 Wijziging bijgehouden
C9: Naam leverancier | F9: =Voorblad!$E$19 -> Naam organisatie
C10: Prijspeil | F10: =Voorblad!$E$22 -> 46388
C12: CALCULATIE-CODE MA-VR | E12: FREQ. NOTATIE | F12: RUIMTECATEGORIE | G12: FREQ. OMSCHRIJVING | H12: KENGETAL MA-VR | I12: KENGETAL PERIODIEK | J12: PRESTATIE NORM | K12: M2 VLOER IO | M12: M2 VLOER NIO | N12: VERHOUDING VLOEROPP. | O12: BIJZONDERHEDEN | P12: VSR CODE
C13: 0 | D13: 0 | E13: 0
C14: 1040 | E14: 40 | F14: administratieve -, vergaderruimte | G14: 1 x per week - 40 weken | J14: =IF(H14=0,0,E14/SUM(H14+I14)) -> 0 | K14: =SUMIF('1.3-Basis ruimtestaat'!M:M,'1.2-Kengetal'!C14,Meters) -> 823.28624 | M14: =SUMIF('1.3-Basis ruimtestaat'!M:M,'1.2-Kengetal'!C14,'1.3-Basis ruimtestaat'!L:L) -> 0 | N14: =IF(K14=0,"",K14/$M$74) -> 0.040710164 | P14: V
C15: 1200 | E15: 200 | F15: administratieve -, vergaderruimte | G15: 5 x per week - 40 weken | J15: =IF(H15=0,0,E15/SUM(H15+I15)) -> 0 | K15: =SUMIF('1.3-Basis ruimtestaat'!M:M,'1.2-Kengetal'!C15,Meters) -> 335.1007 | M15: =SUMIF('1.3-Basis ruimtestaat'!M:M,'1.2-Kengetal'!C15,'1.3-Basis ruimtestaat'!L:L) -> 0 | N15: =IF(K15=0,"",K15/$M$74) -> 0.016570184 | P15: V
C16: 1210 | E16: 210 | F16: administratieve -, vergaderruimte | G16: 210 keer per jaar | J16: =IF(H16=0,0,E16/SUM(H16+I16)) -> 0 | K16: =SUMIF('1.3-Basis ruimtestaat'!M:M,'1.2-Kengetal'!C16,Meters) -> 0 | M16: =SUMIF('1.3-Basis ruimtestaat'!M:M,'1.2-Kengetal'!C16,'1.3-Basis ruimtestaat'!L:L) -> 0 | N16: =IF(K16=0,"",K16/$M$74) | O16: 210 keer per jaar + 5 dagen Herfst en 5 dagen voorjaarvakantie | P16: V
C17: 1260 | E17: 260 | F17: administratieve -, vergaderruimte | G17: 5 x per week - 52 weken | J17: =IF(H17=0,0,E17/SUM(H17+I17)) -> 0 | K17: =SUMIF('1.3-Basis ruimtestaat'!M:M,'1.2-Kengetal'!C17,Meters) -> 166.16399 | M17: =SUMIF('1.3-Basis ruimtestaat'!M:M,'1.2-Kengetal'!C17,'1.3-Basis ruimtestaat'!L:L) -> 0 | N17: =IF(K17=0,"",K17/$M$74) -> 0.0082165387 | P17: V
C18: 2040 | E18: 40 | F18: aula, gemeenschappelijke ruimte, bibliotheek | G18: 1 x per week - 40 weken | J18: =IF(H18=0,0,E18/SUM(H18+I18)) -> 0 | K18: =SUMIF('1.3-Basis ruimtestaat'!M:M,'1.2-Kengetal'!C18,Meters) -> 35.337012 | M18: =SUMIF('1.3-Basis ruimtestaat'!M:M,'1.2-Kengetal'!C18,'1.3-Basis ruimtestaat'!L:L) -> 0 | N18: =IF(K18=0,"",K18/$M$74) -> 0.0017473577 | P18: V
C19: 2200 | E19: 200 | F19: aula, gemeenschappelijke ruimte, bibliotheek | G19: 5 x per week - 40 weken | J19: =IF(H19=0,0,E19/SUM(H19+I19)) -> 0 | K19: =SUMIF('1.3-Basis ruimtestaat'!M:M,'1.2-Kengetal'!C19,Meters) -> 1932.3706 | M19: =SUMIF('1.3-Basis ruimtestaat'!M:M,'1.2-Kengetal'!C19,'1.3-Basis ruimtestaat'!L:L) -> 0 | N19: =IF(K19=0,"",K19/$M$74) -> 0.09555258 | P19: V
C20: 2210 | E20: 210 | F20: aula, gemeenschappelijke ruimte, bibliotheek | G20: 210 keer per jaar | J20: =IF(H20=0,0,E20/SUM(H20+I20)) -> 0 | K20: =SUMIF('1.3-Basis ruimtestaat'!M:M,'1.2-Kengetal'!C20,Meters) -> 0 | M20: =SUMIF('1.3-Basis ruimtestaat'!M:M,'1.2-Kengetal'!C20,'1.3-Basis ruimtestaat'!L:L) -> 0 | N20: =IF(K20=0,"",K20/$M$74) | O20: 210 keer per jaar + 5 dagen Herfst en 5 dagen voorjaarvakantie | P20: V
C21: 2260 | E21: 260 | F21: aula, gemeenschappelijke ruimte, bibliotheek | G21: 5 x per week - 52 weken | J21: =IF(H21=0,0,E21/SUM(H21+I21)) -> 0 | K21: =SUMIF('1.3-Basis ruimtestaat'!M:M,'1.2-Kengetal'!C21,Meters) -> 84.298225 | M21: =SUMIF('1.3-Basis ruimtestaat'!M:M,'1.2-Kengetal'!C21,'1.3-Basis ruimtestaat'!L:L) -> 0 | N21: =IF(K21=0,"",K21/$M$74) -> 0.0041684099 | P21: V
C22: 3040 | E22: 40 | F22: entree, gang, hal, repro | G22: 1 x per week - 40 weken | J22: =IF(H22=0,0,E22/SUM(H22+I22)) -> 0 | K22: =SUMIF('1.3-Basis ruimtestaat'!M:M,'1.2-Kengetal'!C22,Meters) -> 8.0233795 | M22: =SUMIF('1.3-Basis ruimtestaat'!M:M,'1.2-Kengetal'!C22,'1.3-Basis ruimtestaat'!L:L) -> 0 | N22: =IF(K22=0,"",K22/$M$74) -> 0.00039674305 | P22: V
C23: 3200 | E23: 200 | F23: entree, gang, hal, repro | G23: 5 x per week - 40 weken | J23: =IF(H23=0,0,E23/SUM(H23+I23)) -> 0 | K23: =SUMIF('1.3-Basis ruimtestaat'!M:M,'1.2-Kengetal'!C23,Meters) -> 2872.6419 | M23: =SUMIF('1.3-Basis ruimtestaat'!M:M,'1.2-Kengetal'!C23,'1.3-Basis ruimtestaat'!L:L) -> 0 | N23: =IF(K23=0,"",K23/$M$74) -> 0.14204747 | P23: V
C24: 3210 | E24: 210 | F24: entree, gang, hal, repro | G24: 210 keer per jaar | J24: =IF(H24=0,0,E24/SUM(H24+I24)) -> 0 | K24: =SUMIF('1.3-Basis ruimtestaat'!M:M,'1.2-Kengetal'!C24,Meters) -> 0 | M24: =SUMIF('1.3-Basis ruimtestaat'!M:M,'1.2-Kengetal'!C24,'1.3-Basis ruimtestaat'!L:L) -> 0 | N24: =IF(K24=0,"",K24/$M$74) | O24: 210 keer per jaar + 5 dagen Herfst en 5 dagen voorjaarvakantie | P24: V
C25: 3260 | E25: 260 | F25: entree, gang, hal, repro | G25: 5 x per week - 52 weken | J25: =IF(H25=0,0,E25/SUM(H25+I25)) -> 0 | K25: =SUMIF('1.3-Basis ruimtestaat'!M:M,'1.2-Kengetal'!C25,Meters) -> 191.34344 | M25: =SUMIF('1.3-Basis ruimtestaat'!M:M,'1.2-Kengetal'!C25,'1.3-Basis ruimtestaat'!L:L) -> 0 | N25: =IF(K25=0,"",K25/$M$74) -> 0.0094616216 | P25: V
C26: 4080 | E26: 80 | F26: sanitaire ruimte (toilet-/doucheruimte) | G26: 2 x per week - 40 weken | J26: =IF(H26=0,0,E26/SUM(H26+I26)) -> 0 | K26: =SUMIF('1.3-Basis ruimtestaat'!M:M,'1.2-Kengetal'!C26,Meters) -> 0 | M26: =SUMIF('1.3-Basis ruimtestaat'!M:M,'1.2-Kengetal'!C26,'1.3-Basis ruimtestaat'!L:L) -> 0 | N26: =IF(K26=0,"",K26/$M$74) | P26: S
C27: 4200 | E27: 200 | F27: sanitaire ruimte (toilet-/doucheruimte) | G27: 5 x per week - 40 weken | J27: =IF(H27=0,0,E27/SUM(H27+I27)) -> 0 | K27: =SUMIF('1.3-Basis ruimtestaat'!M:M,'1.2-Kengetal'!C27,Meters) -> 675.41609 | M27: =SUMIF('1.3-Basis ruimtestaat'!M:M,'1.2-Kengetal'!C27,'1.3-Basis ruimtestaat'!L:L) -> 0 | N27: =IF(K27=0,"",K27/$M$74) -> 0.033398226 | P27: S
C28: 4208 | E28: 208 | F28: sanitaire ruimte (toilet-/doucheruimte) | G28: 4 x per week - 52 weken | J28: =IF(H28=0,0,E28/SUM(H28+I28)) -> 0 | K28: =SUMIF('1.3-Basis ruimtestaat'!M:M,'1.2-Kengetal'!C28,Meters) -> 0 | M28: =SUMIF('1.3-Basis ruimtestaat'!M:M,'1.2-Kengetal'!C28,'1.3-Basis ruimtestaat'!L:L) -> 0 | N28: =IF(K28=0,"",K28/$M$74) | P28: S
C29: 4210 | E29: 210 | F29: sanitaire ruimte (toilet-/doucheruimte) | G29: 210 keer per jaar | J29: =IF(H29=0,0,E29/SUM(H29+I29)) -> 0 | K29: =SUMIF('1.3-Basis ruimtestaat'!M:M,'1.2-Kengetal'!C29,Meters) -> 0 | M29: =SUMIF('1.3-Basis ruimtestaat'!M:M,'1.2-Kengetal'!C29,'1.3-Basis ruimtestaat'!L:L) -> 0 | N29: =IF(K29=0,"",K29/$M$74) | O29: 210 keer per jaar + 5 dagen Herfst en 5 dagen voorjaarvakantie | P29: S
C30: 4260 | E30: 260 | F30: sanitaire ruimte (toilet-/doucheruimte) | G30: 5 x per week - 52 weken | J30: =IF(H30=0,0,E30/SUM(H30+I30)) -> 0 | K30: =SUMIF('1.3-Basis ruimtestaat'!M:M,'1.2-Kengetal'!C30,Meters) -> 88.995562 | M30: =SUMIF('1.3-Basis ruimtestaat'!M:M,'1.2-Kengetal'!C30,'1.3-Basis ruimtestaat'!L:L) -> 0 | N30: =IF(K30=0,"",K30/$M$74) -> 0.0044006856 | P30: S
C31: 5040 | E31: 40 | F31: pantry/keuken | G31: 1 x per week - 40 weken | J31: =IF(H31=0,0,E31/SUM(H31+I31)) -> 0 | K31: =SUMIF('1.3-Basis ruimtestaat'!M:M,'1.2-Kengetal'!C31,Meters) -> 125.125 | M31: =SUMIF('1.3-Basis ruimtestaat'!M:M,'1.2-Kengetal'!C31,'1.3-Basis ruimtestaat'!L:L) -> 0 | N31: =IF(K31=0,"",K31/$M$74) -> 0.0061872275 | P31: V
C32: 5200 | E32: 200 | F32: pantry/keuken | G32: 5 x per week - 40 weken | J32: =IF(H32=0,0,E32/SUM(H32+I32)) -> 0 | K32: =SUMIF('1.3-Basis ruimtestaat'!M:M,'1.2-Kengetal'!C32,Meters) -> 41.122378 | M32: =SUMIF('1.3-Basis ruimtestaat'!M:M,'1.2-Kengetal'!C32,'1.3-Basis ruimtestaat'!L:L) -> 0 | N32: =IF(K32=0,"",K32/$M$74) -> 0.0020334346 | P32: V
C33: 5208 | E33: 208 | F33: pantry/keuken | G33: 4 x per week - 52 weken | J33: =IF(H33=0,0,E33/SUM(H33+I33)) -> 0 | K33: =SUMIF('1.3-Basis ruimtestaat'!M:M,'1.2-Kengetal'!C33,Meters) -> 0 | M33: =SUMIF('1.3-Basis ruimtestaat'!M:M,'1.2-Kengetal'!C33,'1.3-Basis ruimtestaat'!L:L) -> 0 | N33: =IF(K33=0,"",K33/$M$74) | P33: V
C34: 5260 | E34: 260 | F34: pantry/keuken | G34: 5 x per week - 52 weken | J34: =IF(H34=0,0,E34/SUM(H34+I34)) -> 0 | K34: =SUMIF('1.3-Basis ruimtestaat'!M:M,'1.2-Kengetal'!C34,Meters) -> 86.984856 | M34: =SUMIF('1.3-Basis ruimtestaat'!M:M,'1.2-Kengetal'!C34,'1.3-Basis ruimtestaat'!L:L) -> 0 | N34: =IF(K34=0,"",K34/$M$74) -> 0.0043012595 | P34: V
C35: 6200 | E35: 200 | F35: praktijklokaal | G35: 5 x per week - 40 weken | J35: =IF(H35=0,0,E35/SUM(H35+I35)) -> 0 | K35: =SUMIF('1.3-Basis ruimtestaat'!M:M,'1.2-Kengetal'!C35,Meters) -> 103.68 | M35: =SUMIF('1.3-Basis ruimtestaat'!M:M,'1.2-Kengetal'!C35,'1.3-Basis ruimtestaat'!L:L) -> 0 | N35: =IF(K35=0,"",K35/$M$74) -> 0.0051268071 | P35: L
C36: 7040 | E36: 40 | F36: leslokaal/bevo/handvaardigheid | G36: 1 x per week - 40 weken | J36: =IF(H36=0,0,E36/SUM(H36+I36)) -> 0 | K36: =SUMIF('1.3-Basis ruimtestaat'!M:M,'1.2-Kengetal'!C36,Meters) -> 419.41409 | M36: =SUMIF('1.3-Basis ruimtestaat'!M:M,'1.2-Kengetal'!C36,'1.3-Basis ruimtestaat'!L:L) -> 0 | N36: =IF(K36=0,"",K36/$M$74) -> 0.020739344 | P36: L
C37: 7052 | E37: 52 | F37: leslokaal groep 1 t/m 3 + kinderopvang | G37: 1 x per week 52 weken | J37: =IF(H37=0,0,E37/SUM(H37+I37)) -> 0 | K37: =SUMIF('1.3-Basis ruimtestaat'!M:M,'1.2-Kengetal'!C37,Meters) -> 0 | M37: =SUMIF('1.3-Basis ruimtestaat'!M:M,'1.2-Kengetal'!C37,'1.3-Basis ruimtestaat'!L:L) -> 0 | N37: =IF(K37=0,"",K37/$M$74) | P37: L
C38: 7120 | E38: 120 | F38: leslokaal/bevo/handvaardigheid | G38: 3 x per week - 40 weken | J38: =IF(H38=0,0,E38/SUM(H38+I38)) -> 0 | K38: =SUMIF('1.3-Basis ruimtestaat'!M:M,'1.2-Kengetal'!C38,Meters) -> 0 | M38: =SUMIF('1.3-Basis ruimtestaat'!M:M,'1.2-Kengetal'!C38,'1.3-Basis ruimtestaat'!L:L) -> 0 | N38: =IF(K38=0,"",K38/$M$74) | P38: L
C39: 7200 | E39: 200 | F39: leslokaal groep 1 t/m 3 | G39: 5 x per week - 40 weken | J39: =IF(H39=0,0,E39/SUM(H39+I39)) -> 0 | K39: =SUMIF('1.3-Basis ruimtestaat'!M:M,'1.2-Kengetal'!C39,Meters) -> 4139.3642 | M39: =SUMIF('1.3-Basis ruimtestaat'!M:M,'1.2-Kengetal'!C39,'1.3-Basis ruimtestaat'!L:L) -> 0 | N39: =IF(K39=0,"",K39/$M$74) -> 0.20468482 | P39: L
C40: 7210 | E40: 210 | F40: leslokaal groep 1 t/m 3 | G40: 210 keer per jaar | J40: =IF(H40=0,0,E40/SUM(H40+I40)) -> 0 | K40: =SUMIF('1.3-Basis ruimtestaat'!M:M,'1.2-Kengetal'!C40,Meters) -> 0 | M40: =SUMIF('1.3-Basis ruimtestaat'!M:M,'1.2-Kengetal'!C40,'1.3-Basis ruimtestaat'!L:L) -> 0 | N40: =IF(K40=0,"",K40/$M$74) | O40: 210 keer per jaar + 5 dagen Herfst en 5 dagen voorjaarvakantie | P40: L
C41: 8040 | E41: 40 | F41: speellokaal (berging) | G41: 1 x per week - 40 weken | J41: =IF(H41=0,0,E41/SUM(H41+I41)) -> 0 | K41: =SUMIF('1.3-Basis ruimtestaat'!M:M,'1.2-Kengetal'!C41,Meters) -> 6.3 | M41: =SUMIF('1.3-Basis ruimtestaat'!M:M,'1.2-Kengetal'!C41,'1.3-Basis ruimtestaat'!L:L) -> 0 | N41: =IF(K41=0,"",K41/$M$74) -> 0.00031152474 | P41: L
C42: 8200 | E42: 200 | F42: speellokaal | G42: 5 x per week - 40 weken | J42: =IF(H42=0,0,E42/SUM(H42+I42)) -> 0 | K42: =SUMIF('1.3-Basis ruimtestaat'!M:M,'1.2-Kengetal'!C42,Meters) -> 1464.4437 | M42: =SUMIF('1.3-Basis ruimtestaat'!M:M,'1.2-Kengetal'!C42,'1.3-Basis ruimtestaat'!L:L) -> 0 | N42: =IF(K42=0,"",K42/$M$74) -> 0.072414355 | P42: L
C43: 8210 | E43: 210 | F43: speellokaal | G43: 210 keer per jaar | J43: =IF(H43=0,0,E43/SUM(H43+I43)) -> 0 | K43: =SUMIF('1.3-Basis ruimtestaat'!M:M,'1.2-Kengetal'!C43,Meters) -> 0 | M43: =SUMIF('1.3-Basis ruimtestaat'!M:M,'1.2-Kengetal'!C43,'1.3-Basis ruimtestaat'!L:L) -> 0 | N43: =IF(K43=0,"",K43/$M$74) | O43: 210 keer per jaar + 5 dagen Herfst en 5 dagen voorjaarvakantie | P43: L
C44: 8260 | E44: 260 | F44: speellokaal | G44: 5 x per week - 52 weken | J44: =IF(H44=0,0,E44/SUM(H44+I44)) -> 0 | K44: =SUMIF('1.3-Basis ruimtestaat'!M:M,'1.2-Kengetal'!C44,Meters) -> 135.67305 | M44: =SUMIF('1.3-Basis ruimtestaat'!M:M,'1.2-Kengetal'!C44,'1.3-Basis ruimtestaat'!L:L) -> 0 | N44: =IF(K44=0,"",K44/$M$74) -> 0.0067088111 | P44: L
C45: 9012 | E45: 12 | F45: trappenhuis (nood) | G45: 1 x per maand | J45: =IF(H45=0,0,E45/SUM(H45+I45)) -> 0 | K45: =SUMIF('1.3-Basis ruimtestaat'!M:M,'1.2-Kengetal'!C45,Meters) -> 0 | M45: =SUMIF('1.3-Basis ruimtestaat'!M:M,'1.2-Kengetal'!C45,'1.3-Basis ruimtestaat'!L:L) -> 0 | N45: =IF(K45=0,"",K45/$M$74) | P45: V
C46: 9040 | E46: 40 | F46: trappenhuis | G46: 1 x per week - 40 weken | J46: =IF(H46=0,0,E46/SUM(H46+I46)) -> 0 | K46: =SUMIF('1.3-Basis ruimtestaat'!M:M,'1.2-Kengetal'!C46,Meters) -> 2.3132731 | M46: =SUMIF('1.3-Basis ruimtestaat'!M:M,'1.2-Kengetal'!C46,'1.3-Basis ruimtestaat'!L:L) -> 0 | N46: =IF(K46=0,"",K46/$M$74) -> 0.00011438759 | P46: V
C47: 9200 | E47: 200 | F47: trappenhuis | G47: 5 x per week - 40 weken | J47: =IF(H47=0,0,E47/SUM(H47+I47)) -> 0 | K47: =SUMIF('1.3-Basis ruimtestaat'!M:M,'1.2-Kengetal'!C47,Meters) -> 158.67069 | M47: =SUMIF('1.3-Basis ruimtestaat'!M:M,'1.2-Kengetal'!C47,'1.3-Basis ruimtestaat'!L:L) -> 0 | N47: =IF(K47=0,"",K47/$M$74) -> 0.0078460071 | P47: V
C48: 9260 | E48: 260 | F48: trappenhuis | G48: 5 x per week - 52 weken | J48: =IF(H48=0,0,E48/SUM(H48+I48)) -> 0 | K48: =SUMIF('1.3-Basis ruimtestaat'!M:M,'1.2-Kengetal'!C48,Meters) -> 4.7704712 | M48: =SUMIF('1.3-Basis ruimtestaat'!M:M,'1.2-Kengetal'!C48,'1.3-Basis ruimtestaat'!L:L) -> 0 | N48: =IF(K48=0,"",K48/$M$74) -> 0.00023589203 | P48: V
C49: 10040 | E49: 40 | F49: lift | G49: 1 x per week - 40 weken | J49: =IF(H49=0,0,E49/SUM(H49+I49)) -> 0 | K49: =SUMIF('1.3-Basis ruimtestaat'!M:M,'1.2-Kengetal'!C49,Meters) -> 18.12 | M49: =SUMIF('1.3-Basis ruimtestaat'!M:M,'1.2-Kengetal'!C49,'1.3-Basis ruimtestaat'!L:L) -> 0 | N49: =IF(K49=0,"",K49/$M$74) -> 0.00089600449 | P49: V
C50: 12200 | E50: 200 | F50: kinderverblijf ruimte | G50: 5 x per week - 40 weken | J50: =IF(H50=0,0,E50/SUM(H50+I50)) -> 0 | K50: =SUMIF('1.3-Basis ruimtestaat'!M:M,'1.2-Kengetal'!C50,Meters) -> 0 | M50: =SUMIF('1.3-Basis ruimtestaat'!M:M,'1.2-Kengetal'!C50,'1.3-Basis ruimtestaat'!L:L) -> 0 | N50: =IF(K50=0,"",K50/$M$74) | P50: V
C51: 12260 | E51: 260 | F51: kinderverblijf ruimte | G51: 5 x per week - 52 weken | J51: =IF(H51=0,0,E51/SUM(H51+I51)) -> 0 | K51: =SUMIF('1.3-Basis ruimtestaat'!M:M,'1.2-Kengetal'!C51,Meters) -> 401.71 | M51: =SUMIF('1.3-Basis ruimtestaat'!M:M,'1.2-Kengetal'!C51,'1.3-Basis ruimtestaat'!L:L) -> 0 | N51: =IF(K51=0,"",K51/$M$74) -> 0.019863905 | P51: V
C52: 13200 | E52: 200 | F52: kleedruimten | G52: 5 x per week - 40 weken | J52: =IF(H52=0,0,E52/SUM(H52+I52)) -> 0 | K52: =SUMIF('1.3-Basis ruimtestaat'!M:M,'1.2-Kengetal'!C52,Meters) -> 32.12 | M52: =SUMIF('1.3-Basis ruimtestaat'!M:M,'1.2-Kengetal'!C52,'1.3-Basis ruimtestaat'!L:L) -> 0 | N52: =IF(K52=0,"",K52/$M$74) -> 0.0015882817 | P52: V
C53: 13260 | E53: 260 | F53: kleedruimten | G53: 5 x per week - 52 weken | J53: =IF(H53=0,0,E53/SUM(H53+I53)) -> 0 | K53: =SUMIF('1.3-Basis ruimtestaat'!M:M,'1.2-Kengetal'!C53,Meters) -> 0 | M53: =SUMIF('1.3-Basis ruimtestaat'!M:M,'1.2-Kengetal'!C53,'1.3-Basis ruimtestaat'!L:L) -> 0 | N53: =IF(K53=0,"",K53/$M$74) | P53: V
C54: 14040 | E54: 40 | F54: gymzaal (berging) | G54: 1 x per week - 40 weken | J54: =IF(H54=0,0,E54/SUM(H54+I54)) -> 0 | K54: =SUMIF('1.3-Basis ruimtestaat'!M:M,'1.2-Kengetal'!C54,Meters) -> 41.3225 | M54: =SUMIF('1.3-Basis ruimtestaat'!M:M,'1.2-Kengetal'!C54,'1.3-Basis ruimtestaat'!L:L) -> 0 | N54: =IF(K54=0,"",K54/$M$74) -> 0.0020433303 | P54: Sp
C55: 14200 | E55: 200 | F55: gymzaal | G55: 5 x per week - 40 weken | J55: =IF(H55=0,0,E55/SUM(H55+I55)) -> 0 | K55: =SUMIF('1.3-Basis ruimtestaat'!M:M,'1.2-Kengetal'!C55,Meters) -> 0 | M55: =SUMIF('1.3-Basis ruimtestaat'!M:M,'1.2-Kengetal'!C55,'1.3-Basis ruimtestaat'!L:L) -> 0 | N55: =IF(K55=0,"",K55/$M$74) | P55: Sp
... C59: 22208 | E59: 208 | F59: Kinderopvang | G59: 4 x per week - 52 weken | J59: =IF(H59=0,0,E59/SUM(H59+I59)) -> 0 | K59: =SUMIF('1.3-Basis ruimtestaat'!M:M,'1.2-Kengetal'!C59,Meters) -> 0 | M59: =SUMIF('1.3-Basis ruimtestaat'!M:M,'1.2-Kengetal'!C59,'1.3-Basis ruimtestaat'!L:L) -> 0 | N59: =IF(K59=0,"",K59/$M$74) | P59: L
C60: 22210 | E60: 210 | F60: Kinderopvang | G60: 210 keer per jaar | J60: =IF(H60=0,0,E60/SUM(H60+I60)) -> 0 | K60: =SUMIF('1.3-Basis ruimtestaat'!M:M,'1.2-Kengetal'!C60,Meters) -> 0 | M60: =SUMIF('1.3-Basis ruimtestaat'!M:M,'1.2-Kengetal'!C60,'1.3-Basis ruimtestaat'!L:L) -> 0 | N60: =IF(K60=0,"",K60/$M$74) | O60: 210 keer per jaar + 5 dagen Herfst en 5 dagen voorjaarvakantie | P60: L
C61: 22260 | E61: 260 | F61: Kinderopvang | G61: 5 x per week - 52 weken | J61: =IF(H61=0,0,E61/SUM(H61+I61)) -> 0 | K61: =SUMIF('1.3-Basis ruimtestaat'!M:M,'1.2-Kengetal'!C61,Meters) -> 576.54223 | M61: =SUMIF('1.3-Basis ruimtestaat'!M:M,'1.2-Kengetal'!C61,'1.3-Basis ruimtestaat'!L:L) -> 0 | N61: =IF(K61=0,"",K61/$M$74) -> 0.028509074 | P61: L
C62: Periodiek | E62: 1 | F62: Periodiek | G62: =CONCATENATE(E62," keer per jaar") -> 1 keer per jaar | J62: =IF(H62=0,0,E62/SUM(H62+I62)) -> 0 | K62: =SUMIF('1.3-Basis ruimtestaat'!M:M,'1.2-Kengetal'!C62,Meters) -> 0 | M62: =SUMIF('1.3-Basis ruimtestaat'!M:M,'1.2-Kengetal'!C62,'1.3-Basis ruimtestaat'!L:L) -> 0 | N62: =IF(K62=0,"",K62/$M$74)
C63: op afroep | F63: op afroep | J63: =IF(H63=0,0,E63/SUM(H63+I63)) -> 0 | K63: =SUMIF('1.3-Basis ruimtestaat'!M:M,'1.2-Kengetal'!C63,Meters) -> 0 | M63: =SUMIF('1.3-Basis ruimtestaat'!M:M,'1.2-Kengetal'!C63,'1.3-Basis ruimtestaat'!L:L) -> 0 | N63: =IF(M63=0,"",M63/$M$74)
C64: nvt | F64: niet van toepassing | J64: =IF(H64=0,0,E64/SUM(H64+I64)) -> 0 | M64: =SUMIF('1.3-Basis ruimtestaat'!M:M,'1.2-Kengetal'!C64,'1.3-Basis ruimtestaat'!L:L) -> 1208.6485 | N64: =IF(M64=0,"",M64/$M$74) -> 0.0597657
C65: tijdlk nvt | F65: tijdelijk niet van toepassing | J65: =IF(H65=0,0,E65/SUM(H65+I65)) -> 0 | K65: =SUMIF('1.3-Basis ruimtestaat'!M:M,'1.2-Kengetal'!C65,Meters) -> 0 | M65: =SUMIF('1.3-Basis ruimtestaat'!M:M,'1.2-Kengetal'!C65,'1.3-Basis ruimtestaat'!L:L) -> 0 | N65: =IF(M65=0,"",M65/$M$74)
C66: vervallen | F66: vervallen (mutatie) | K66: =SUMIF('1.3-Basis ruimtestaat'!M:M,'1.2-Kengetal'!C66,Meters) -> 0 | M66: =SUMIF('1.3-Basis ruimtestaat'!M:M,'1.2-Kengetal'!C66,'1.3-Basis ruimtestaat'!L:L) -> 0 | N66: =IF(M66=0,"",M66/$M$74)
K73: =SUM(K14:K72) -> 19014.464 | M73: =SUM(M14:M72) -> 1208.6485 | N73: =SUM(N13:N72) -> 1
K74: Totaal | M74: =M73+K73 -> 20223.113
C78: Toelichting kengetallenoverzicht:
C79: Programmacode | E79: : unieke code die is gekoppeld aan een schoonmaakprogramma voor een bepaalde ruimtecategorie
C80: Frequentienotatie | E80: : cijfermatige notatie van het aantal keren dat een ruimte per jaar wordt schoongemaakt (zie onderstaande opgave)
C81: Ruimtecategorie | E81: : onderverdeling van de aanwezige ruimten in een object in een aantal categorieën
C82: Frequentie-omschr. | E82: : omschrijving van het aantal keren dat een ruimte per jaar wordt schoongemaakt (zie onderstaande opgave)
C83: Kengetal | E83: : uren per vierkante meter per jaar
C84: Prestatienorm | E84: : aantal schoon te maken m2 per uur
C85: m2 Vloer IO | E85: : aantal m2 in onderhoud
C86: m2 Vloer NIO | E86: : aantal m2 niet in onderhoud
C87: Verhouding vloeropp. | E87: : percentage vloeroppervlakte per ruimtecategorie t.o.v. totale vloeroppervlakte
C88: Bijzonde3rheden | E88: : eventuele opmerkingen
C89: VSR-code | E89: : afkortingen voor ruimtecategorieën bij toepassing van VSR-kwaliteitsmetingen V=verkeersruimten, S=Sanitaire ruimten, B=Bureaukamer, L=Leslokalen en Sp=Gym- sportzaal

Sheet 1.3-Basis ruimtestaat
N3: Verklaring :
E4: ='1.2-Kengetal'!C4 -> Omschrijving blad | G4: Ruimte/-CAlCulAtiestAAt | N4: BSO = Buitenschoolse opvang
E5: Naam opdrachtgever | G5: =Voorblad!$E$16 -> Stichting Opspoor | N5: VSO = Voorschoolse Opvang
E6: Adres/plaats | G6: ='1.0-Contractblad'!$E$7 -> Purmerend e.o. | J6: Toelichting | N6: NSO = Naschoolse Opvang
E7: Besteknummer | G7: =Voorblad!$E$24 -> 1501-102-2026 | K7: = invulvelden | N7: VVE = Voor- en Vroegschoolse Educatie
E8: Versie | G8: =Voorblad!$E$26 -> Calculatiemodule Opspoor Perceel 2 V1.1 | 01-jan-27 Wijziging bijgehouden | N8: VKO = Voorschoolse Kinder opvang
E9: Naam leverancier | G9: =Voorblad!$E$19 -> Naam organisatie | K9: = Ruimte Kinderopvang | N9: PSZ = Peuterspeelzaal
E10: Prijspeil | G10: =Voorblad!$E$22 -> 46388 | N10: KDV = Kinderdagverblijf
B12: MUTATIE NUMMER | C12: MUTATIE DATUM | D12: PERCEEL | E12: LOCATTIE | F12: VERD. | G12: RUIMTENR | H12: RUIMTE OMSCHRIJVING (OPDRACHTGEVER) | I12: RUIMTE CATEGORIE | J12: VLOER SOORT | K12: M2 VLOER IO | L12: M2 VLOER NIO | M12: PROGR. CODE REGULIER | N12: FREQ. NOTATIE | O12: FACTOR REGULIER | P12: FACTOR PERIODIEK | Q12: UREN P/JR REGULIER | R12: UREN P/JR PERIODIEK | S12: KENGETAL REGULIER | T12: KENGETAL PERIODIEK | U12: VSR CODE | V12: BIJZONDERHEDEN | W12: € SCHOONMAAK | X12: € GLASBEWASSING
B13: -
D14: =VLOOKUP(E14,'1.1a-Jaarprijzen'!$B$13:$G$32,6,FALSE) -> 2 | E14: OBS Willem Eggert | F14: bgg | G14: A.001 | H14: leerplein vso-nso | I14: =IF($M14="",0,VLOOKUP($M14,Kengetal,4,FALSE)) -> Kinderopvang | J14: Lino | K14: 196.41945 | L14: 0 | M14: 22260 | N14: =VLOOKUP(M14,Kengetal,3,FALSE) -> 260 | O14: 1 | P14: 1 | Q14: =S14*K14*O14 -> 0 | R14: =T14*K14*P14 -> 0 | S14: =IF($M14=0,0,VLOOKUP($M14,Kengetal,6,FALSE)) -> 0 | T14: =IF($M14=0,0,VLOOKUP($M14,Kengetal,7,FALSE)) -> 0 | U14: =IF(M14="","",VLOOKUP(M14,Kengetal,14,FALSE)) -> L | V14: VSO-NSO 't Boemeltje | W14: =(Q14+R14)*'1.0-Contractblad'!$L$37 -> 0 | X14: =VLOOKUP(E14,'1.1a-Jaarprijzen'!$B$35:$Q$57,16,FALSE)*K14 -> 0 | Z14: =K14*N14 -> 51069.057 | AA14: =CONCATENATE(M14,"-",N14) -> 22260-260
D15: =VLOOKUP(E15,'1.1a-Jaarprijzen'!$B$13:$G$32,6,FALSE) -> 2 | E15: OBS Willem Eggert | F15: bgg | G15: E.001 | H15: entrée | I15: =IF($M15="",0,VLOOKUP($M15,Kengetal,4,FALSE)) -> entree, gang, hal, repro | J15: inloop/coral | K15: 4.2845829 | L15: 0 | M15: 3200 | N15: =VLOOKUP(M15,Kengetal,3,FALSE) -> 200 | O15: 1 | P15: 1 | Q15: =S15*K15*O15 -> 0 | R15: =T15*K15*P15 -> 0 | S15: =IF($M15=0,0,VLOOKUP($M15,Kengetal,6,FALSE)) -> 0 | T15: =IF($M15=0,0,VLOOKUP($M15,Kengetal,7,FALSE)) -> 0 | U15: =IF(M15="","",VLOOKUP(M15,Kengetal,14,FALSE)) -> V | W15: =(Q15+R15)*'1.0-Contractblad'!$L$37 -> 0 | X15: =VLOOKUP(E15,'1.1a-Jaarprijzen'!$B$35:$Q$57,16,FALSE)*K15 -> 0 | Z15: =K15*N15 -> 856.91658 | AA15: =CONCATENATE(M15,"-",N15) -> 3200-200
D16: =VLOOKUP(E16,'1.1a-Jaarprijzen'!$B$13:$G$32,6,FALSE) -> 2 | E16: OBS Willem Eggert | F16: bgg | G16: E.002 | H16: entrée | I16: =IF($M16="",0,VLOOKUP($M16,Kengetal,4,FALSE)) -> entree, gang, hal, repro | J16: inloop/coral | K16: 7.2267794 | L16: 0 | M16: 3200 | N16: =VLOOKUP(M16,Kengetal,3,FALSE) -> 200 | O16: 1 | P16: 1 | Q16: =S16*K16*O16 -> 0 | R16: =T16*K16*P16 -> 0 | S16: =IF($M16=0,0,VLOOKUP($M16,Kengetal,6,FALSE)) -> 0 | T16: =IF($M16=0,0,VLOOKUP($M16,Kengetal,7,FALSE)) -> 0 | U16: =IF(M16="","",VLOOKUP(M16,Kengetal,14,FALSE)) -> V | W16: =(Q16+R16)*'1.0-Contractblad'!$L$37 -> 0 | X16: =VLOOKUP(E16,'1.1a-Jaarprijzen'!$B$35:$Q$57,16,FALSE)*K16 -> 0 | Z16: =K16*N16 -> 1445.3559 | AA16: =CONCATENATE(M16,"-",N16) -> 3200-200
D17: =VLOOKUP(E17,'1.1a-Jaarprijzen'!$B$13:$G$32,6,FALSE) -> 2 | E17: OBS Willem Eggert | F17: bgg | G17: E.003 | H17: entrée vso-nso | I17: =IF($M17="",0,VLOOKUP($M17,Kengetal,4,FALSE)) -> entree, gang, hal, repro | J17: inloop/coral | K17: 8.1859011 | L17: 0 | M17: 3260 | N17: =VLOOKUP(M17,Kengetal,3,FALSE) -> 260 | O17: 1 | P17: 1 | Q17: =S17*K17*O17 -> 0 | R17: =T17*K17*P17 -> 0 | S17: =IF($M17=0,0,VLOOKUP($M17,Kengetal,6,FALSE)) -> 0 | T17: =IF($M17=0,0,VLOOKUP($M17,Kengetal,7,FALSE)) -> 0 | U17: =IF(M17="","",VLOOKUP(M17,Kengetal,14,FALSE)) -> V | V17: VSO-NSO 't Boemeltje | W17: =(Q17+R17)*'1.0-Contractblad'!$L$37 -> 0 | X17: =VLOOKUP(E17,'1.1a-Jaarprijzen'!$B$35:$Q$57,16,FALSE)*K17 -> 0 | Z17: =K17*N17 -> 2128.3343 | AA17: =CONCATENATE(M17,"-",N17) -> 3260-260
D18: =VLOOKUP(E18,'1.1a-Jaarprijzen'!$B$13:$G$32,6,FALSE) -> 2 | E18: OBS Willem Eggert | F18: bgg | G18: G.001 | H18: leerplein | I18: =IF($M18="",0,VLOOKUP($M18,Kengetal,4,FALSE)) -> leslokaal/leerplein groep 4 t/m 8 | J18: Tapijt | K18: 132.39338 | L18: 0 | M18: 18200 | N18: =VLOOKUP(M18,Kengetal,3,FALSE) -> 200 | O18: 1 | P18: 1 | Q18: =S18*K18*O18 -> 0 | R18: =T18*K18*P18 -> 0 | S18: =IF($M18=0,0,VLOOKUP($M18,Kengetal,6,FALSE)) -> 0 | T18: =IF($M18=0,0,VLOOKUP($M18,Kengetal,7,FALSE)) -> 0 | U18: =IF(M18="","",VLOOKUP(M18,Kengetal,14,FALSE)) -> L | W18: =(Q18+R18)*'1.0-Contractblad'!$L$37 -> 0 | X18: =VLOOKUP(E18,'1.1a-Jaarprijzen'!$B$35:$Q$57,16,FALSE)*K18 -> 0 | Z18: =K18*N18 -> 26478.676 | AA18: =CONCATENATE(M18,"-",N18) -> 18200-200
D19: =VLOOKUP(E19,'1.1a-Jaarprijzen'!$B$13:$G$32,6,FALSE) -> 2 | E19: OBS Willem Eggert | F19: bgg | G19: G.002 | H19: gang vso-nso | I19: =IF($M19="",0,VLOOKUP($M19,Kengetal,4,FALSE)) -> entree, gang, hal, repro | J19: Tapijt | K19: 8.6152534 | L19: 0 | M19: 3260 | N19: =VLOOKUP(M19,Kengetal,3,FALSE) -> 260 | O19: 1 | P19: 1 | Q19: =S19*K19*O19 -> 0 | R19: =T19*K19*P19 -> 0 | S19: =IF($M19=0,0,VLOOKUP($M19,Kengetal,6,FALSE)) -> 0 | T19: =IF($M19=0,0,VLOOKUP($M19,Kengetal,7,FALSE)) -> 0 | U19: =IF(M19="","",VLOOKUP(M19,Kengetal,14,FALSE)) -> V | V19: VSO-NSO 't Boemeltje | W19: =(Q19+R19)*'1.0-Contractblad'!$L$37 -> 0 | X19: =VLOOKUP(E19,'1.1a-Jaarprijzen'!$B$35:$Q$57,16,FALSE)*K19 -> 0 | Z19: =K19*N19 -> 2239.9659 | AA19: =CONCATENATE(M19,"-",N19) -> 3260-260
D20: =VLOOKUP(E20,'1.1a-Jaarprijzen'!$B$13:$G$32,6,FALSE) -> 2 | E20: OBS Willem Eggert | F20: bgg | G20: G.003 | H20: gang vso-nso | I20: =IF($M20="",0,VLOOKUP($M20,Kengetal,4,FALSE)) -> entree, gang, hal, repro | J20: Tapijt | K20: 5.1528372 | L20: 0 | M20: 3260 | N20: =VLOOKUP(M20,Kengetal,3,FALSE) -> 260 | O20: 1 | P20: 1 | Q20: =S20*K20*O20 -> 0 | R20: =T20*K20*P20 -> 0 | S20: =IF($M20=0,0,VLOOKUP($M20,Kengetal,6,FALSE)) -> 0 | T20: =IF($M20=0,0,VLOOKUP($M20,Kengetal,7,FALSE)) -> 0 | U20: =IF(M20="","",VLOOKUP(M20,Kengetal,14,FALSE)) -> V | V20: VSO-NSO 't Boemeltje | W20: =(Q20+R20)*'1.0-Contractblad'!$L$37 -> 0 | X20: =VLOOKUP(E20,'1.1a-Jaarprijzen'!$B$35:$Q$57,16,FALSE)*K20 -> 0 | Z20: =K20*N20 -> 1339.7377 | AA20: =CONCATENATE(M20,"-",N20) -> 3260-260
D21: =VLOOKUP(E21,'1.1a-Jaarprijzen'!$B$13:$G$32,6,FALSE) -> 2 | E21: OBS Willem Eggert | F21: bgg | G21: G.004 | H21: gang vso-nso | I21: =IF($M21="",0,VLOOKUP($M21,Kengetal,4,FALSE)) -> entree, gang, hal, repro | J21: Tapijt | K21: 28.418091 | L21: 0 | M21: 3260 | N21: =VLOOKUP(M21,Kengetal,3,FALSE) -> 260 | O21: 1 | P21: 1 | Q21: =S21*K21*O21 -> 0 | R21: =T21*K21*P21 -> 0 | S21: =IF($M21=0,0,VLOOKUP($M21,Kengetal,6,FALSE)) -> 0 | T21: =IF($M21=0,0,VLOOKUP($M21,Kengetal,7,FALSE)) -> 0 | U21: =IF(M21="","",VLOOKUP(M21,Kengetal,14,FALSE)) -> V | V21: VSO-NSO 't Boemeltje | W21: =(Q21+R21)*'1.0-Contractblad'!$L$37 -> 0 | X21: =VLOOKUP(E21,'1.1a-Jaarprijzen'!$B$35:$Q$57,16,FALSE)*K21 -> 0 | Z21: =K21*N21 -> 7388.7038 | AA21: =CONCATENATE(M21,"-",N21) -> 3260-260
D22: =VLOOKUP(E22,'1.1a-Jaarprijzen'!$B$13:$G$32,6,FALSE) -> 2 | E22: OBS Willem Eggert | F22: bgg | G22: H.001 | H22: keuken vso-nso | I22: =IF($M22="",0,VLOOKUP($M22,Kengetal,4,FALSE)) -> pantry/keuken | J22: Sure step | K22: 40.358958 | L22: 0 | M22: 5260 | N22: =VLOOKUP(M22,Kengetal,3,FALSE) -> 260 | O22: 1 | P22: 1 | Q22: =S22*K22*O22 -> 0 | R22: =T22*K22*P22 -> 0 | S22: =IF($M22=0,0,VLOOKUP($M22,Kengetal,6,FALSE)) -> 0 | T22: =IF($M22=0,0,VLOOKUP($M22,Kengetal,7,FALSE)) -> 0 | U22: =IF(M22="","",VLOOKUP(M22,Kengetal,14,FALSE)) -> V | V22: VSO-NSO 't Boemeltje | W22: =(Q22+R22)*'1.0-Contractblad'!$L$37 -> 0 | X22: =VLOOKUP(E22,'1.1a-Jaarprijzen'!$B$35:$Q$57,16,FALSE)*K22 -> 0 | Z22: =K22*N22 -> 10493.329 | AA22: =CONCATENATE(M22,"-",N22) -> 5260-260
D23: =VLOOKUP(E23,'1.1a-Jaarprijzen'!$B$13:$G$32,6,FALSE) -> 2 | E23: OBS Willem Eggert | F23: bgg | G23: L.001 | H23: leslokaal | I23: =IF($M23="",0,VLOOKUP($M23,Kengetal,4,FALSE)) -> leslokaal/leerplein groep 4 t/m 8 | J23: Lino | K23: 56.338647 | L23: 0 | M23: 18200 | N23: =VLOOKUP(M23,Kengetal,3,FALSE) -> 200 | O23: 1 | P23: 1 | Q23: =S23*K23*O23 -> 0 | R23: =T23*K23*P23 -> 0 | S23: =IF($M23=0,0,VLOOKUP($M23,Kengetal,6,FALSE)) -> 0 | T23: =IF($M23=0,0,VLOOKUP($M23,Kengetal,7,FALSE)) -> 0 | U23: =IF(M23="","",VLOOKUP(M23,Kengetal,14,FALSE)) -> L | W23: =(Q23+R23)*'1.0-Contractblad'!$L$37 -> 0 | X23: =VLOOKUP(E23,'1.1a-Jaarprijzen'!$B$35:$Q$57,16,FALSE)*K23 -> 0 | Z23: =K23*N23 -> 11267.729 | AA23: =CONCATENATE(M23,"-",N23) -> 18200-200
D24: =VLOOKUP(E24,'1.1a-Jaarprijzen'!$B$13:$G$32,6,FALSE) -> 2 | E24: OBS Willem Eggert | F24: bgg | G24: L.002 | H24: leslokaal | I24: =IF($M24="",0,VLOOKUP($M24,Kengetal,4,FALSE)) -> leslokaal/leerplein groep 4 t/m 8 | J24: Lino | K24: 55.977689 | L24: 0 | M24: 18200 | N24: =VLOOKUP(M24,Kengetal,3,FALSE) -> 200 | O24: 1 | P24: 1 | Q24: =S24*K24*O24 -> 0 | R24: =T24*K24*P24 -> 0 | S24: =IF($M24=0,0,VLOOKUP($M24,Kengetal,6,FALSE)) -> 0 | T24: =IF($M24=0,0,VLOOKUP($M24,Kengetal,7,FALSE)) -> 0 | U24: =IF(M24="","",VLOOKUP(M24,Kengetal,14,FALSE)) -> L | W24: =(Q24+R24)*'1.0-Contractblad'!$L$37 -> 0 | X24: =VLOOKUP(E24,'1.1a-Jaarprijzen'!$B$35:$Q$57,16,FALSE)*K24 -> 0 | Z24: =K24*N24 -> 11195.538 | AA24: =CONCATENATE(M24,"-",N24) -> 18200-200
D25: =VLOOKUP(E25,'1.1a-Jaarprijzen'!$B$13:$G$32,6,FALSE) -> 2 | E25: OBS Willem Eggert | F25: bgg | G25: L.003 | H25: leslokaal | I25: =IF($M25="",0,VLOOKUP($M25,Kengetal,4,FALSE)) -> leslokaal/leerplein groep 4 t/m 8 | J25: Lino | K25: 56.026467 | L25: 0 | M25: 18200 | N25: =VLOOKUP(M25,Kengetal,3,FALSE) -> 200 | O25: 1 | P25: 1 | Q25: =S25*K25*O25 -> 0 | R25: =T25*K25*P25 -> 0 | S25: =IF($M25=0,0,VLOOKUP($M25,Kengetal,6,FALSE)) -> 0 | T25: =IF($M25=0,0,VLOOKUP($M25,Kengetal,7,FALSE)) -> 0 | U25: =IF(M25="","",VLOOKUP(M25,Kengetal,14,FALSE)) -> L | W25: =(Q25+R25)*'1.0-Contractblad'!$L$37 -> 0 | X25: =VLOOKUP(E25,'1.1a-Jaarprijzen'!$B$35:$Q$57,16,FALSE)*K25 -> 0 | Z25: =K25*N25 -> 11205.293 | AA25: =CONCATENATE(M25,"-",N25) -> 18200-200
D26: =VLOOKUP(E26,'1.1a-Jaarprijzen'!$B$13:$G$32,6,FALSE) -> 2 | E26: OBS Willem Eggert | F26: bgg | G26: L.004 | H26: leslokaal | I26: =IF($M26="",0,VLOOKUP($M26,Kengetal,4,FALSE)) -> leslokaal/leerplein groep 4 t/m 8 | J26: Lino | K26: 55.919156 | L26: 0 | M26: 18200 | N26: =VLOOKUP(M26,Kengetal,3,FALSE) -> 200 | O26: 1 | P26: 1 | Q26: =S26*K26*O26 -> 0 | R26: =T26*K26*P26 -> 0 | S26: =IF($M26=0,0,VLOOKUP($M26,Kengetal,6,FALSE)) -> 0 | T26: =IF($M26=0,0,VLOOKUP($M26,Kengetal,7,FALSE)) -> 0 | U26: =IF(M26="","",VLOOKUP(M26,Kengetal,14,FALSE)) -> L | W26: =(Q26+R26)*'1.0-Contractblad'!$L$37 -> 0 | X26: =VLOOKUP(E26,'1.1a-Jaarprijzen'!$B$35:$Q$57,16,FALSE)*K26 -> 0 | Z26: =K26*N26 -> 11183.831 | AA26: =CONCATENATE(M26,"-",N26) -> 18200-200
D27: =VLOOKUP(E27,'1.1a-Jaarprijzen'!$B$13:$G$32,6,FALSE) -> 2 | E27: OBS Willem Eggert | F27: bgg | G27: L.005 | H27: peuterspeelzaal vso-nso | I27: =IF($M27="",0,VLOOKUP($M27,Kengetal,4,FALSE)) -> speellokaal | J27: Lino | K27: 56.163046 | L27: 0 | M27: 8260 | N27: =VLOOKUP(M27,Kengetal,3,FALSE) -> 260 | O27: 1 | P27: 1 | Q27: =S27*K27*O27 -> 0 | R27: =T27*K27*P27 -> 0 | S27: =IF($M27=0,0,VLOOKUP($M27,Kengetal,6,FALSE)) -> 0 | T27: =IF($M27=0,0,VLOOKUP($M27,Kengetal,7,FALSE)) -> 0 | U27: =IF(M27="","",VLOOKUP(M27,Kengetal,14,FALSE)) -> L | V27: VSO-NSO 't Boemeltje | W27: =(Q27+R27)*'1.0-Contractblad'!$L$37 -> 0 | X27: =VLOOKUP(E27,'1.1a-Jaarprijzen'!$B$35:$Q$57,16,FALSE)*K27 -> 0 | Z27: =K27*N27 -> 14602.392 | AA27: =CONCATENATE(M27,"-",N27) -> 8260-260
D28: =VLOOKUP(E28,'1.1a-Jaarprijzen'!$B$13:$G$32,6,FALSE) -> 2 | E28: OBS Willem Eggert | F28: bgg | G28: L.006 | H28: leslokaal | I28: =IF($M28="",0,VLOOKUP($M28,Kengetal,4,FALSE)) -> leslokaal groep 1 t/m 3 | J28: Lino | K28: 54.55337 | L28: 0 | M28: 7200 | N28: =VLOOKUP(M28,Kengetal,3,FALSE) -> 200 | O28: 1 | P28: 1 | Q28: =S28*K28*O28 -> 0 | R28: =T28*K28*P28 -> 0 | S28: =IF($M28=0,0,VLOOKUP($M28,Kengetal,6,FALSE)) -> 0 | T28: =IF($M28=0,0,VLOOKUP($M28,Kengetal,7,FALSE)) -> 0 | U28: =IF(M28="","",VLOOKUP(M28,Kengetal,14,FALSE)) -> L | W28: =(Q28+R28)*'1.0-Contractblad'!$L$37 -> 0 | X28: =VLOOKUP(E28,'1.1a-Jaarprijzen'!$B$35:$Q$57,16,FALSE)*K28 -> 0 | Z28: =K28*N28 -> 10910.674 | AA28: =CONCATENATE(M28,"-",N28) -> 7200-200
D29: =VLOOKUP(E29,'1.1a-Jaarprijzen'!$B$13:$G$32,6,FALSE) -> 2 | E29: OBS Willem Eggert | F29: bgg | G29: L.007 | H29: leslokaal | I29: =IF($M29="",0,VLOOKUP($M29,Kengetal,4,FALSE)) -> leslokaal groep 1 t/m 3 | J29: Lino | K29: 64.699204 | L29: 0 | M29: 7200 | N29: =VLOOKUP(M29,Kengetal,3,FALSE) -> 200 | O29: 1 | P29: 1 | Q29: =S29*K29*O29 -> 0 | R29: =T29*K29*P29 -> 0 | S29: =IF($M29=0,0,VLOOKUP($M29,Kengetal,6,FALSE)) -> 0 | T29: =IF($M29=0,0,VLOOKUP($M29,Kengetal,7,FALSE)) -> 0 | U29: =IF(M29="","",VLOOKUP(M29,Kengetal,14,FALSE)) -> L | W29: =(Q29+R29)*'1.0-Contractblad'!$L$37 -> 0 | X29: =VLOOKUP(E29,'1.1a-Jaarprijzen'!$B$35:$Q$57,16,FALSE)*K29 -> 0 | Z29: =K29*N29 -> 12939.841 | AA29: =CONCATENATE(M29,"-",N29) -> 7200-200
D30: =VLOOKUP(E30,'1.1a-Jaarprijzen'!$B$13:$G$32,6,FALSE) -> 2 | E30: OBS Willem Eggert | F30: bgg | G30: L.008 | H30: leslokaal | I30: =IF($M30="",0,VLOOKUP($M30,Kengetal,4,FALSE)) -> Kinderopvang | J30: Lino | K30: 62.328591 | L30: 0 | M30: 22260 | N30: =VLOOKUP(M30,Kengetal,3,FALSE) -> 260 | O30: 1 | P30: 1 | Q30: =S30*K30*O30 -> 0 | R30: =T30*K30*P30 -> 0 | S30: =IF($M30=0,0,VLOOKUP($M30,Kengetal,6,FALSE)) -> 0 | T30: =IF($M30=0,0,VLOOKUP($M30,Kengetal,7,FALSE)) -> 0 | U30: =IF(M30="","",VLOOKUP(M30,Kengetal,14,FALSE)) -> L | W30: =(Q30+R30)*'1.0-Contractblad'!$L$37 -> 0 | X30: =VLOOKUP(E30,'1.1a-Jaarprijzen'!$B$35:$Q$57,16,FALSE)*K30 -> 0 | Z30: =K30*N30 -> 16205.434 | AA30: =CONCATENATE(M30,"-",N30) -> 22260-260
D31: =VLOOKUP(E31,'1.1a-Jaarprijzen'!$B$13:$G$32,6,FALSE) -> 2 | E31: OBS Willem Eggert | F31: bgg | G31: L.009 | H31: leslokaal | I31: =IF($M31="",0,VLOOKUP($M31,Kengetal,4,FALSE)) -> Kinderopvang | J31: Lino | K31: 55.792333 | L31: 0 | M31: 22260 | N31: =VLOOKUP(M31,Kengetal,3,FALSE) -> 260 | O31: 1 | P31: 1 | Q31: =S31*K31*O31 -> 0 | R31: =T31*K31*P31 -> 0 | S31: =IF($M31=0,0,VLOOKUP($M31,Kengetal,6,FALSE)) -> 0 | T31: =IF($M31=0,0,VLOOKUP($M31,Kengetal,7,FALSE)) -> 0 | U31: =IF(M31="","",VLOOKUP(M31,Kengetal,14,FALSE)) -> L | W31: =(Q31+R31)*'1.0-Contractblad'!$L$37 -> 0 | X31: =VLOOKUP(E31,'1.1a-Jaarprijzen'!$B$35:$Q$57,16,FALSE)*K31 -> 0 | Z31: =K31*N31 -> 14506.006 | AA31: =CONCATENATE(M31,"-",N31) -> 22260-260
D32: =VLOOKUP(E32,'1.1a-Jaarprijzen'!$B$13:$G$32,6,FALSE) -> 2 | E32: OBS Willem Eggert | F32: bgg | G32: L.010 | H32: leslokaal | I32: =IF($M32="",0,VLOOKUP($M32,Kengetal,4,FALSE)) -> leslokaal groep 1 t/m 3 | J32: Lino | K32: 56.15329 | L32: 0 | M32: 7200 | N32: =VLOOKUP(M32,Kengetal,3,FALSE) -> 200 | O32: 1 | P32: 1 | Q32: =S32*K32*O32 -> 0 | R32: =T32*K32*P32 -> 0 | S32: =IF($M32=0,0,VLOOKUP($M32,Kengetal,6,FALSE)) -> 0 | T32: =IF($M32=0,0,VLOOKUP($M32,Kengetal,7,FALSE)) -> 0 | U32: =IF(M32="","",VLOOKUP(M32,Kengetal,14,FALSE)) -> L | W32: =(Q32+R32)*'1.0-Contractblad'!$L$37 -> 0 | X32: =VLOOKUP(E32,'1.1a-Jaarprijzen'!$B$35:$Q$57,16,FALSE)*K32 -> 0 | Z32: =K32*N32 -> 11230.658 | AA32: =CONCATENATE(M32,"-",N32) -> 7200-200
D33: =VLOOKUP(E33,'1.1a-Jaarprijzen'!$B$13:$G$32,6,FALSE) -> 2 | E33: OBS Willem Eggert | F33: bgg | G33: L.011 | H33: leslokaal | I33: =IF($M33="",0,VLOOKUP($M33,Kengetal,4,FALSE)) -> leslokaal/leerplein groep 4 t/m 8 | J33: Lino | K33: 55.9094 | L33: 0 | M33: 18200 | N33: =VLOOKUP(M33,Kengetal,3,FALSE) -> 200 | O33: 1 | P33: 1 | Q33: =S33*K33*O33 -> 0 | R33: =T33*K33*P33 -> 0 | S33: =IF($M33=0,0,VLOOKUP($M33,Kengetal,6,FALSE)) -> 0 | T33: =IF($M33=0,0,VLOOKUP($M33,Kengetal,7,FALSE)) -> 0 | U33: =IF(M33="","",VLOOKUP(M33,Kengetal,14,FALSE)) -> L | W33: =(Q33+R33)*'1.0-Contractblad'!$L$37 -> 0 | X33: =VLOOKUP(E33,'1.1a-Jaarprijzen'!$B$35:$Q$57,16,FALSE)*K33 -> 0 | Z33: =K33*N33 -> 11181.88 | AA33: =CONCATENATE(M33,"-",N33) -> 18200-200
D34: =VLOOKUP(E34,'1.1a-Jaarprijzen'!$B$13:$G$32,6,FALSE) -> 2 | E34: OBS Willem Eggert | F34: bgg | G34: L.012 | H34: leslokaal | I34: =IF($M34="",0,VLOOKUP($M34,Kengetal,4,FALSE)) -> leslokaal/leerplein groep 4 t/m 8 | J34: Lino | K34: 55.655754 | L34: 0 | M34: 18200 | N34: =VLOOKUP(M34,Kengetal,3,FALSE) -> 200 | O34: 1 | P34: 1 | Q34: =S34*K34*O34 -> 0 | R34: =T34*K34*P34 -> 0 | S34: =IF($M34=0,0,VLOOKUP($M34,Kengetal,6,FALSE)) -> 0 | T34: =IF($M34=0,0,VLOOKUP($M34,Kengetal,7,FALSE)) -> 0 | U34: =IF(M34="","",VLOOKUP(M34,Kengetal,14,FALSE)) -> L | W34: =(Q34+R34)*'1.0-Contractblad'!$L$37 -> 0 | X34: =VLOOKUP(E34,'1.1a-Jaarprijzen'!$B$35:$Q$57,16,FALSE)*K34 -> 0 | Z34: =K34*N34 -> 11131.151 | AA34: =CONCATENATE(M34,"-",N34) -> 18200-200
D35: =VLOOKUP(E35,'1.1a-Jaarprijzen'!$B$13:$G$32,6,FALSE) -> 2 | E35: OBS Willem Eggert | F35: bgg | G35: O.001 | H35: werkkast | I35: =IF($M35="",0,VLOOKUP($M35,Kengetal,4,FALSE)) -> niet van toepassing | J35: nvt | K35: 0 | L35: 2.17 | M35: nvt | N35: =VLOOKUP(M35,Kengetal,3,FALSE) -> 0 | O35: 1 | P35: 1 | Q35: =S35*K35*O35 -> 0 | R35: =T35*K35*P35 -> 0 | S35: =IF($M35=0,0,VLOOKUP($M35,Kengetal,6,FALSE)) -> 0 | T35: =IF($M35=0,0,VLOOKUP($M35,Kengetal,7,FALSE)) -> 0 | U35: =IF(M35="","",VLOOKUP(M35,Kengetal,14,FALSE)) -> 0 | W35: =(Q35+R35)*'1.0-Contractblad'!$L$37 -> 0 | X35: =VLOOKUP(E35,'1.1a-Jaarprijzen'!$B$35:$Q$57,16,FALSE)*K35 -> 0 | Z35: =K35*N35 -> 0 | AA35: =CONCATENATE(M35,"-",N35) -> nvt-0
D36: =VLOOKUP(E36,'1.1a-Jaarprijzen'!$B$13:$G$32,6,FALSE) -> 2 | E36: OBS Willem Eggert | F36: bgg | G36: O.002 | H36: berging | I36: =IF($M36="",0,VLOOKUP($M36,Kengetal,4,FALSE)) -> niet van toepassing | J36: nvt | K36: 0 | L36: 4.02 | M36: nvt | N36: =VLOOKUP(M36,Kengetal,3,FALSE) -> 0 | O36: 1 | P36: 1 | Q36: =S36*K36*O36 -> 0 | R36: =T36*K36*P36 -> 0 | S36: =IF($M36=0,0,VLOOKUP($M36,Kengetal,6,FALSE)) -> 0 | T36: =IF($M36=0,0,VLOOKUP($M36,Kengetal,7,FALSE)) -> 0 | U36: =IF(M36="","",VLOOKUP(M36,Kengetal,14,FALSE)) -> 0 | W36: =(Q36+R36)*'1.0-Contractblad'!$L$37 -> 0 | X36: =VLOOKUP(E36,'1.1a-Jaarprijzen'!$B$35:$Q$57,16,FALSE)*K36 -> 0 | Z36: =K36*N36 -> 0 | AA36: =CONCATENATE(M36,"-",N36) -> nvt-0
D37: =VLOOKUP(E37,'1.1a-Jaarprijzen'!$B$13:$G$32,6,FALSE) -> 2 | E37: OBS Willem Eggert | F37: bgg | G37: O.003 | H37: berging | I37: =IF($M37="",0,VLOOKUP($M37,Kengetal,4,FALSE)) -> niet van toepassing | J37: nvt | K37: 0 | L37: 3.77 | M37: nvt | N37: =VLOOKUP(M37,Kengetal,3,FALSE) -> 0 | O37: 1 | P37: 1 | Q37: =S37*K37*O37 -> 0 | R37: =T37*K37*P37 -> 0 | S37: =IF($M37=0,0,VLOOKUP($M37,Kengetal,6,FALSE)) -> 0 | T37: =IF($M37=0,0,VLOOKUP($M37,Kengetal,7,FALSE)) -> 0 | U37: =IF(M37="","",VLOOKUP(M37,Kengetal,14,FALSE)) -> 0 | W37: =(Q37+R37)*'1.0-Contractblad'!$L$37 -> 0 | X37: =VLOOKUP(E37,'1.1a-Jaarprijzen'!$B$35:$Q$57,16,FALSE)*K37 -> 0 | Z37: =K37*N37 -> 0 | AA37: =CONCATENATE(M37,"-",N37) -> nvt-0
D38: =VLOOKUP(E38,'1.1a-Jaarprijzen'!$B$13:$G$32,6,FALSE) -> 2 | E38: OBS Willem Eggert | F38: bgg | G38: O.004 | H38: docentenruimte vso-nso | I38: =IF($M38="",0,VLOOKUP($M38,Kengetal,4,FALSE)) -> administratieve -, vergaderruimte | J38: Sure step | K38: 11.64 | M38: 1260 | N38: =VLOOKUP(M38,Kengetal,3,FALSE) -> 260 | O38: 1 | P38: 1 | Q38: =S38*K38*O38 -> 0 | R38: =T38*K38*P38 -> 0 | S38: =IF($M38=0,0,VLOOKUP($M38,Kengetal,6,FALSE)) -> 0 | T38: =IF($M38=0,0,VLOOKUP($M38,Kengetal,7,FALSE)) -> 0 | U38: =IF(M38="","",VLOOKUP(M38,Kengetal,14,FALSE)) -> V | V38: VSO-NSO 't Boemeltje | W38: =(Q38+R38)*'1.0-Contractblad'!$L$37 -> 0 | X38: =VLOOKUP(E38,'1.1a-Jaarprijzen'!$B$35:$Q$57,16,FALSE)*K38 -> 0 | Z38: =K38*N38 -> 3026.4 | AA38: =CONCATENATE(M38,"-",N38) -> 1260-260
D39: =VLOOKUP(E39,'1.1a-Jaarprijzen'!$B$13:$G$32,6,FALSE) -> 2 | E39: OBS Willem Eggert | F39: bgg | G39: O.005 | H39: telt niet mee | I39: =IF($M39="",0,VLOOKUP($M39,Kengetal,4,FALSE)) -> niet van toepassing | J39: nvt | K39: 0 | L39: 0 | M39: nvt | N39: =VLOOKUP(M39,Kengetal,3,FALSE) -> 0 | O39: 1 | P39: 1 | Q39: =S39*K39*O39 -> 0 | R39: =T39*K39*P39 -> 0 | S39: =IF($M39=0,0,VLOOKUP($M39,Kengetal,6,FALSE)) -> 0 | T39: =IF($M39=0,0,VLOOKUP($M39,Kengetal,7,FALSE)) -> 0 | U39: =IF(M39="","",VLOOKUP(M39,Kengetal,14,FALSE)) -> 0 | W39: =(Q39+R39)*'1.0-Contractblad'!$L$37 -> 0 | X39: =VLOOKUP(E39,'1.1a-Jaarprijzen'!$B$35:$Q$57,16,FALSE)*K39 -> 0 | Z39: =K39*N39 -> 0 | AA39: =CONCATENATE(M39,"-",N39) -> nvt-0
D40: =VLOOKUP(E40,'1.1a-Jaarprijzen'!$B$13:$G$32,6,FALSE) -> 2 | E40: OBS Willem Eggert | F40: bgg | G40: O.006 | H40: telt niet mee | I40: =IF($M40="",0,VLOOKUP($M40,Kengetal,4,FALSE)) -> niet van toepassing | J40: nvt | K40: 0 | L40: 0 | M40: nvt | N40: =VLOOKUP(M40,Kengetal,3,FALSE) -> 0 | O40: 1 | P40: 1 | Q40: =S40*K40*O40 -> 0 | R40: =T40*K40*P40 -> 0 | S40: =IF($M40=0,0,VLOOKUP($M40,Kengetal,6,FALSE)) -> 0 | T40: =IF($M40=0,0,VLOOKUP($M40,Kengetal,7,FALSE)) -> 0 | U40: =IF(M40="","",VLOOKUP(M40,Kengetal,14,FALSE)) -> 0 | W40: =(Q40+R40)*'1.0-Contractblad'!$L$37 -> 0 | X40: =VLOOKUP(E40,'1.1a-Jaarprijzen'!$B$35:$Q$57,16,FALSE)*K40 -> 0 | Z40: =K40*N40 -> 0 | AA40: =CONCATENATE(M40,"-",N40) -> nvt-0
D41: =VLOOKUP(E41,'1.1a-Jaarprijzen'!$B$13:$G$32,6,FALSE) -> 2 | E41: OBS Willem Eggert | F41: bgg | G41: O.007 | H41: telt niet mee | I41: =IF($M41="",0,VLOOKUP($M41,Kengetal,4,FALSE)) -> niet van toepassing | J41: nvt | K41: 0 | L41: 0 | M41: nvt | N41: =VLOOKUP(M41,Kengetal,3,FALSE) -> 0 | O41: 1 | P41: 1 | Q41: =S41*K41*O41 -> 0 | R41: =T41*K41*P41 -> 0 | S41: =IF($M41=0,0,VLOOKUP($M41,Kengetal,6,FALSE)) -> 0 | T41: =IF($M41=0,0,VLOOKUP($M41,Kengetal,7,FALSE)) -> 0 | U41: =IF(M41="","",VLOOKUP(M41,Kengetal,14,FALSE)) -> 0 | W41: =(Q41+R41)*'1.0-Contractblad'!$L$37 -> 0 | X41: =VLOOKUP(E41,'1.1a-Jaarprijzen'!$B$35:$Q$57,16,FALSE)*K41 -> 0 | Z41: =K41*N41 -> 0 | AA41: =CONCATENATE(M41,"-",N41) -> nvt-0
D42: =VLOOKUP(E42,'1.1a-Jaarprijzen'!$B$13:$G$32,6,FALSE) -> 2 | E42: OBS Willem Eggert | F42: bgg | G42: O.008 | H42: telt niet mee | I42: =IF($M42="",0,VLOOKUP($M42,Kengetal,4,FALSE)) -> niet van toepassing | J42: nvt | K42: 0 | L42: 0 | M42: nvt | N42: =VLOOKUP(M42,Kengetal,3,FALSE) -> 0 | O42: 1 | P42: 1 | Q42: =S42*K42*O42 -> 0 | R42: =T42*K42*P42 -> 0 | S42: =IF($M42=0,0,VLOOKUP($M42,Kengetal,6,FALSE)) -> 0 | T42: =IF($M42=0,0,VLOOKUP($M42,Kengetal,7,FALSE)) -> 0 | U42: =IF(M42="","",VLOOKUP(M42,Kengetal,14,FALSE)) -> 0 | W42: =(Q42+R42)*'1.0-Contractblad'!$L$37 -> 0 | X42: =VLOOKUP(E42,'1.1a-Jaarprijzen'!$B$35:$Q$57,16,FALSE)*K42 -> 0 | Z42: =K42*N42 -> 0 | AA42: =CONCATENATE(M42,"-",N42) -> nvt-0
D43: =VLOOKUP(E43,'1.1a-Jaarprijzen'!$B$13:$G$32,6,FALSE) -> 2 | E43: OBS Willem Eggert | F43: bgg | G43: O.010 | H43: telt niet mee | I43: =IF($M43="",0,VLOOKUP($M43,Kengetal,4,FALSE)) -> niet van toepassing | J43: nvt | K43: 0 | L43: 0 | M43: nvt | N43: =VLOOKUP(M43,Kengetal,3,FALSE) -> 0 | O43: 1 | P43: 1 | Q43: =S43*K43*O43 -> 0 | R43: =T43*K43*P43 -> 0 | S43: =IF($M43=0,0,VLOOKUP($M43,Kengetal,6,FALSE)) -> 0 | T43: =IF($M43=0,0,VLOOKUP($M43,Kengetal,7,FALSE)) -> 0 | U43: =IF(M43="","",VLOOKUP(M43,Kengetal,14,FALSE)) -> 0 | W43: =(Q43+R43)*'1.0-Contractblad'!$L$37 -> 0 | X43: =VLOOKUP(E43,'1.1a-Jaarprijzen'!$B$35:$Q$57,16,FALSE)*K43 -> 0 | Z43: =K43*N43 -> 0 | AA43: =CONCATENATE(M43,"-",N43) -> nvt-0
D44: =VLOOKUP(E44,'1.1a-Jaarprijzen'!$B$13:$G$32,6,FALSE) -> 2 | E44: OBS Willem Eggert | F44: bgg | G44: O.011 | H44: telt niet mee | I44: =IF($M44="",0,VLOOKUP($M44,Kengetal,4,FALSE)) -> niet van toepassing | J44: nvt | K44: 0 | L44: 0 | M44: nvt | N44: =VLOOKUP(M44,Kengetal,3,FALSE) -> 0 | O44: 1 | P44: 1 | Q44: =S44*K44*O44 -> 0 | R44: =T44*K44*P44 -> 0 | S44: =IF($M44=0,0,VLOOKUP($M44,Kengetal,6,FALSE)) -> 0 | T44: =IF($M44=0,0,VLOOKUP($M44,Kengetal,7,FALSE)) -> 0 | U44: =IF(M44="","",VLOOKUP(M44,Kengetal,14,FALSE)) -> 0 | W44: =(Q44+R44)*'1.0-Contractblad'!$L$37 -> 0 | X44: =VLOOKUP(E44,'1.1a-Jaarprijzen'!$B$35:$Q$57,16,FALSE)*K44 -> 0 | Z44: =K44*N44 -> 0 | AA44: =CONCATENATE(M44,"-",N44) -> nvt-0
D45: =VLOOKUP(E45,'1.1a-Jaarprijzen'!$B$13:$G$32,6,FALSE) -> 2 | E45: OBS Willem Eggert | F45: bgg | G45: P.001 | H45: directie vso-nso | I45: =IF($M45="",0,VLOOKUP($M45,Kengetal,4,FALSE)) -> administratieve -, vergaderruimte | J45: Lino | K45: 30.164346 | L45: 0 | M45: 1260 | N45: =VLOOKUP(M45,Kengetal,3,FALSE) -> 260 | O45: 1 | P45: 1 | Q45: =S45*K45*O45 -> 0 | R45: =T45*K45*P45 -> 0 | S45: =IF($M45=0,0,VLOOKUP($M45,Kengetal,6,FALSE)) -> 0 | T45: =IF($M45=0,0,VLOOKUP($M45,Kengetal,7,FALSE)) -> 0 | U45: =IF(M45="","",VLOOKUP(M45,Kengetal,14,FALSE)) -> V | V45: VSO-NSO 't Boemeltje | W45: =(Q45+R45)*'1.0-Contractblad'!$L$37 -> 0 | X45: =VLOOKUP(E45,'1.1a-Jaarprijzen'!$B$35:$Q$57,16,FALSE)*K45 -> 0 | Z45: =K45*N45 -> 7842.7299 | AA45: =CONCATENATE(M45,"-",N45) -> 1260-260
D46: =VLOOKUP(E46,'1.1a-Jaarprijzen'!$B$13:$G$32,6,FALSE) -> 2 | E46: OBS Willem Eggert | F46: bgg | G46: P.002 | H46: pantry | I46: =IF($M46="",0,VLOOKUP($M46,Kengetal,4,FALSE)) -> pantry/keuken | J46: Lino | K46: 9.3558985 | L46: 0 | M46: 5260 | N46: =VLOOKUP(M46,Kengetal,3,FALSE) -> 260 | O46: 1 | P46: 1 | Q46: =S46*K46*O46 -> 0 | R46: =T46*K46*P46 -> 0 | S46: =IF($M46=0,0,VLOOKUP($M46,Kengetal,6,FALSE)) -> 0 | T46: =IF($M46=0,0,VLOOKUP($M46,Kengetal,7,FALSE)) -> 0 | U46: =IF(M46="","",VLOOKUP(M46,Kengetal,14,FALSE)) -> V | V46: VSO-NSO 't Boemeltje | W46: =(Q46+R46)*'1.0-Contractblad'!$L$37 -> 0 | X46: =VLOOKUP(E46,'1.1a-Jaarprijzen'!$B$35:$Q$57,16,FALSE)*K46 -> 0 | Z46: =K46*N46 -> 2432.5336 | AA46: =CONCATENATE(M46,"-",N46) -> 5260-260
D47: =VLOOKUP(E47,'1.1a-Jaarprijzen'!$B$13:$G$32,6,FALSE) -> 2 | E47: OBS Willem Eggert | F47: bgg | G47: P.003 | H47: kantoor | I47: =IF($M47="",0,VLOOKUP($M47,Kengetal,4,FALSE)) -> administratieve -, vergaderruimte | J47: Lino | K47: 18.270697 | L47: 0 | M47: 1200 | N47: =VLOOKUP(M47,Kengetal,3,FALSE) -> 200 | O47: 1 | P47: 1 | Q47: =S47*K47*O47 -> 0 | R47: =T47*K47*P47 -> 0 | S47: =IF($M47=0,0,VLOOKUP($M47,Kengetal,6,FALSE)) -> 0 | T47: =IF($M47=0,0,VLOOKUP($M47,Kengetal,7,FALSE)) -> 0 | U47: =IF(M47="","",VLOOKUP(M47,Kengetal,14,FALSE)) -> V | W47: =(Q47+R47)*'1.0-Contractblad'!$L$37 -> 0 | X47: =VLOOKUP(E47,'1.1a-Jaarprijzen'!$B$35:$Q$57,16,FALSE)*K47 -> 0 | Z47: =K47*N47 -> 3654.1393 | AA47: =CONCATENATE(M47,"-",N47) -> 1200-200
D48: =VLOOKUP(E48,'1.1a-Jaarprijzen'!$B$13:$G$32,6,FALSE) -> 2 | E48: OBS Willem Eggert | F48: bgg | G48: P.004 | H48: copy | I48: =IF($M48="",0,VLOOKUP($M48,Kengetal,4,FALSE)) -> entree, gang, hal, repro | J48: Lino | K48: 6.4 | M48: 3040 | N48: =VLOOKUP(M48,Kengetal,3,FALSE) -> 40 | O48: 1 | P48: 1 | Q48: =S48*K48*O48 -> 0 | R48: =T48*K48*P48 -> 0 | S48: =IF($M48=0,0,VLOOKUP($M48,Kengetal,6,FALSE)) -> 0 | T48: =IF($M48=0,0,VLOOKUP($M48,Kengetal,7,FALSE)) -> 0 | U48: =IF(M48="","",VLOOKUP(M48,Kengetal,14,FALSE)) -> V | W48: =(Q48+R48)*'1.0-Contractblad'!$L$37 -> 0 | X48: =VLOOKUP(E48,'1.1a-Jaarprijzen'!$B$35:$Q$57,16,FALSE)*K48 -> 0 | Z48: =K48*N48 -> 256 | AA48: =CONCATENATE(M48,"-",N48) -> 3040-40
D49: =VLOOKUP(E49,'1.1a-Jaarprijzen'!$B$13:$G$32,6,FALSE) -> 2 | E49: OBS Willem Eggert | F49: bgg | G49: S.001 | H49: leslokaal | I49: =IF($M49="",0,VLOOKUP($M49,Kengetal,4,FALSE)) -> leslokaal/leerplein groep 4 t/m 8 | J49: tapijt | K49: 102.85339 | L49: 0 | M49: 18200 | N49: =VLOOKUP(M49,Kengetal,3,FALSE) -> 200 | O49: 1 | P49: 1 | Q49: =S49*K49*O49 -> 0 | R49: =T49*K49*P49 -> 0 | S49: =IF($M49=0,0,VLOOKUP($M49,Kengetal,6,FALSE)) -> 0 | T49: =IF($M49=0,0,VLOOKUP($M49,Kengetal,7,FALSE)) -> 0 | U49: =IF(M49="","",VLOOKUP(M49,Kengetal,14,FALSE)) -> L | W49: =(Q49+R49)*'1.0-Contractblad'!$L$37 -> 0 | X49: =VLOOKUP(E49,'1.1a-Jaarprijzen'!$B$35:$Q$57,16,FALSE)*K49 -> 0 | Z49: =K49*N49 -> 20570.679 | AA49: =CONCATENATE(M49,"-",N49) -> 18200-200
D50: =VLOOKUP(E50,'1.1a-Jaarprijzen'!$B$13:$G$32,6,FALSE) -> 2 | E50: OBS Willem Eggert | F50: bgg | G50: T.001 | H50: toiletten | I50: =IF($M50="",0,VLOOKUP($M50,Kengetal,4,FALSE)) -> sanitaire ruimte (toilet-/doucheruimte) | J50: Steen | K50: 6.6107563 | L50: 0 | M50: 4200 | N50: =VLOOKUP(M50,Kengetal,3,FALSE) -> 200 | O50: 1 | P50: 1 | Q50: =S50*K50*O50 -> 0 | R50: =T50*K50*P50 -> 0 | S50: =IF($M50=0,0,VLOOKUP($M50,Kengetal,6,FALSE)) -> 0 | T50: =IF($M50=0,0,VLOOKUP($M50,Kengetal,7,FALSE)) -> 0 | U50: =IF(M50="","",VLOOKUP(M50,Kengetal,14,FALSE)) -> S | W50: =(Q50+R50)*'1.0-Contractblad'!$L$37 -> 0 | X50: =VLOOKUP(E50,'1.1a-Jaarprijzen'!$B$35:$Q$57,16,FALSE)*K50 -> 0 | Z50: =K50*N50 -> 1322.1513 | AA50: =CONCATENATE(M50,"-",N50) -> 4200-200
D51: =VLOOKUP(E51,'1.1a-Jaarprijzen'!$B$13:$G$32,6,FALSE) -> 2 | E51: OBS Willem Eggert | F51: bgg | G51: T.002 | H51: toiletten | I51: =IF($M51="",0,VLOOKUP($M51,Kengetal,4,FALSE)) -> sanitaire ruimte (toilet-/doucheruimte) | J51: Steen | K51: 6.5739788 | L51: 0 | M51: 4200 | N51: =VLOOKUP(M51,Kengetal,3,FALSE) -> 200 | O51: 1 | P51: 1 | Q51: =S51*K51*O51 -> 0 | R51: =T51*K51*P51 -> 0 | S51: =IF($M51=0,0,VLOOKUP($M51,Kengetal,6,FALSE)) -> 0 | T51: =IF($M51=0,0,VLOOKUP($M51,Kengetal,7,FALSE)) -> 0 | U51: =IF(M51="","",VLOOKUP(M51,Kengetal,14,FALSE)) -> S | W51: =(Q51+R51)*'1.0-Contractblad'!$L$37 -> 0 | X51: =VLOOKUP(E51,'1.1a-Jaarprijzen'!$B$35:$Q$57,16,FALSE)*K51 -> 0 | Z51: =K51*N51 -> 1314.7958 | AA51: =CONCATENATE(M51,"-",N51) -> 4200-200
D52: =VLOOKUP(E52,'1.1a-Jaarprijzen'!$B$13:$G$32,6,FALSE) -> 2 | E52: OBS Willem Eggert | F52: bgg | G52: T.003 | H52: miva toilet vso-nso | I52: =IF($M52="",0,VLOOKUP($M52,Kengetal,4,FALSE)) -> sanitaire ruimte (toilet-/doucheruimte) | J52: Steen | K52: 3.8044922 | L52: 0 | M52: 4260 | N52: =VLOOKUP(M52,Kengetal,3,FALSE) -> 260 | O52: 1 | P52: 1 | Q52: =S52*K52*O52 -> 0 | R52: =T52*K52*P52 -> 0 | S52: =IF($M52=0,0,VLOOKUP($M52,Kengetal,6,FALSE)) -> 0 | T52: =IF($M52=0,0,VLOOKUP($M52,Kengetal,7,FALSE)) -> 0 | U52: =IF(M52="","",VLOOKUP(M52,Kengetal,14,FALSE)) -> S | V52: VSO-NSO 't Boemeltje | W52: =(Q52+R52)*'1.0-Contractblad'!$L$37 -> 0 | X52: =VLOOKUP(E52,'1.1a-Jaarprijzen'!$B$35:$Q$57,16,FALSE)*K52 -> 0 | Z52: =K52*N52 -> 989.16798 | AA52: =CONCATENATE(M52,"-",N52) -> 4260-260
D53: =VLOOKUP(E53,'1.1a-Jaarprijzen'!$B$13:$G$32,6,FALSE) -> 2 | E53: OBS Willem Eggert | F53: bgg | G53: T.004 | H53: toiletten | I53: =IF($M53="",0,VLOOKUP($M53,Kengetal,4,FALSE)) -> sanitaire ruimte (toilet-/doucheruimte) | J53: Steen | K53: 6.8865875 | L53: 0 | M53: 4200 | N53: =VLOOKUP(M53,Kengetal,3,FALSE) -> 200 | O53: 1 | P53: 1 | Q53: =S53*K53*O53 -> 0 | R53: =T53*K53*P53 -> 0 | S53: =IF($M53=0,0,VLOOKUP($M53,Kengetal,6,FALSE)) -> 0 | T53: =IF($M53=0,0,VLOOKUP($M53,Kengetal,7,FALSE)) -> 0 | U53: =IF(M53="","",VLOOKUP(M53,Kengetal,14,FALSE)) -> S | W53: =(Q53+R53)*'1.0-Contractblad'!$L$37 -> 0 | X53: =VLOOKUP(E53,'1.1a-Jaarprijzen'!$B$35:$Q$57,16,FALSE)*K53 -> 0 | Z53: =K53*N53 -> 1377.3175 | AA53: =CONCATENATE(M53,"-",N53) -> 4200-200
D54: =VLOOKUP(E54,'1.1a-Jaarprijzen'!$B$13:$G$32,6,FALSE) -> 2 | E54: OBS Willem Eggert | F54: bgg | G54: T.005 | H54: toilet | I54: =IF($M54="",0,VLOOKUP($M54,Kengetal,4,FALSE)) -> sanitaire ruimte (toilet-/doucheruimte) | J54: Steen | K54: 1.3111911 | L54: 0 | M54: 4200 | N54: =VLOOKUP(M54,Kengetal,3,FALSE) -> 200 | O54: 1 | P54: 1 | Q54: =S54*K54*O54 -> 0 | R54: =T54*K54*P54 -> 0 | S54: =IF($M54=0,0,VLOOKUP($M54,Kengetal,6,FALSE)) -> 0 | T54: =IF($M54=0,0,VLOOKUP($M54,Kengetal,7,FALSE)) -> 0 | U54: =IF(M54="","",VLOOKUP(M54,Kengetal,14,FALSE)) -> S | W54: =(Q54+R54)*'1.0-Contractblad'!$L$37 -> 0 | X54: =VLOOKUP(E54,'1.1a-Jaarprijzen'!$B$35:$Q$57,16,FALSE)*K54 -> 0 | Z54: =K54*N54 -> 262.23823 | AA54: =CONCATENATE(M54,"-",N54) -> 4200-200
D55: =VLOOKUP(E55,'1.1a-Jaarprijzen'!$B$13:$G$32,6,FALSE) -> 2 | E55: OBS Willem Eggert | F55: bgg | G55: T.006 | H55: toilet | I55: =IF($M55="",0,VLOOKUP($M55,Kengetal,4,FALSE)) -> sanitaire ruimte (toilet-/doucheruimte) | J55: Steen | K55: 1.2844321 | L55: 0 | M55: 4200 | N55: =VLOOKUP(M55,Kengetal,3,FALSE) -> 200 | O55: 1 | P55: 1 | Q55: =S55*K55*O55 -> 0 | R55: =T55*K55*P55 -> 0 | S55: =IF($M55=0,0,VLOOKUP($M55,Kengetal,6,FALSE)) -> 0 | T55: =IF($M55=0,0,VLOOKUP($M55,Kengetal,7,FALSE)) -> 0 | U55: =IF(M55="","",VLOOKUP(M55,Kengetal,14,FALSE)) -> S | W55: =(Q55+R55)*'1.0-Contractblad'!$L$37 -> 0 | X55: =VLOOKUP(E55,'1.1a-Jaarprijzen'!$B$35:$Q$57,16,FALSE)*K55 -> 0 | Z55: =K55*N55 -> 256.88643 | AA55: =CONCATENATE(M55,"-",N55) -> 4200-200
D56: =VLOOKUP(E56,'1.1a-Jaarprijzen'!$B$13:$G$32,6,FALSE) -> 2 | E56: OBS Willem Eggert | F56: bgg | G56: T.007 | H56: toilet | I56: =IF($M56="",0,VLOOKUP($M56,Kengetal,4,FALSE)) -> sanitaire ruimte (toilet-/doucheruimte) | J56: Steen | K56: 1.2576731 | L56: 0 | M56: 4200 | N56: =VLOOKUP(M56,Kengetal,3,FALSE) -> 200 | O56: 1 | P56: 1 | Q56: =S56*K56*O56 -> 0 | R56: =T56*K56*P56 -> 0 | S56: =IF($M56=0,0,VLOOKUP($M56,Kengetal,6,FALSE)) -> 0 | T56: =IF($M56=0,0,VLOOKUP($M56,Kengetal,7,FALSE)) -> 0 | U56: =IF(M56="","",VLOOKUP(M56,Kengetal,14,FALSE)) -> S | W56: =(Q56+R56)*'1.0-Contractblad'!$L$37 -> 0 | X56: =VLOOKUP(E56,'1.1a-Jaarprijzen'!$B$35:$Q$57,16,FALSE)*K56 -> 0 | Z56: =K56*N56 -> 251.53463 | AA56: =CONCATENATE(M56,"-",N56) -> 4200-200
D57: =VLOOKUP(E57,'1.1a-Jaarprijzen'!$B$13:$G$32,6,FALSE) -> 2 | E57: OBS Willem Eggert | F57: bgg | G57: T.008 | H57: toiletten vso-nso | I57: =IF($M57="",0,VLOOKUP($M57,Kengetal,4,FALSE)) -> sanitaire ruimte (toilet-/doucheruimte) | J57: Steen | K57: 6.5923675 | L57: 0 | M57: 4260 | N57: =VLOOKUP(M57,Kengetal,3,FALSE) -> 260 | O57: 1 | P57: 1 | Q57: =S57*K57*O57 -> 0 | R57: =T57*K57*P57 -> 0 | S57: =IF($M57=0,0,VLOOKUP($M57,Kengetal,6,FALSE)) -> 0 | T57: =IF($M57=0,0,VLOOKUP($M57,Kengetal,7,FALSE)) -> 0 | U57: =IF(M57="","",VLOOKUP(M57,Kengetal,14,FALSE)) -> S | V57: VSO-NSO 't Boemeltje | W57: =(Q57+R57)*'1.0-Contractblad'!$L$37 -> 0 | X57: =VLOOKUP(E57,'1.1a-Jaarprijzen'!$B$35:$Q$57,16,FALSE)*K57 -> 0 | Z57: =K57*N57 -> 1714.0156 | AA57: =CONCATENATE(M57,"-",N57) -> 4260-260
D58: =VLOOKUP(E58,'1.1a-Jaarprijzen'!$B$13:$G$32,6,FALSE) -> 2 | E58: OBS Willem Eggert | F58: bgg | G58: T.009 | H58: toiletten vso-nso | I58: =IF($M58="",0,VLOOKUP($M58,Kengetal,4,FALSE)) -> sanitaire ruimte (toilet-/doucheruimte) | J58: Steen | K58: 4.7067435 | L58: 0 | M58: 4260 | N58: =VLOOKUP(M58,Kengetal,3,FALSE) -> 260 | O58: 1 | P58: 1 | Q58: =S58*K58*O58 -> 0 | R58: =T58*K58*P58 -> 0 | S58: =IF($M58=0,0,VLOOKUP($M58,Kengetal,6,FALSE)) -> 0 | T58: =IF($M58=0,0,VLOOKUP($M58,Kengetal,7,FALSE)) -> 0 | U58: =IF(M58="","",VLOOKUP(M58,Kengetal,14,FALSE)) -> S | V58: VSO-NSO 't Boemeltje | W58: =(Q58+R58)*'1.0-Contractblad'!$L$37 -> 0 | X58: =VLOOKUP(E58,'1.1a-Jaarprijzen'!$B$35:$Q$57,16,FALSE)*K58 -> 0 | Z58: =K58*N58 -> 1223.7533 | AA58: =CONCATENATE(M58,"-",N58) -> 4260-260
D59: =VLOOKUP(E59,'1.1a-Jaarprijzen'!$B$13:$G$32,6,FALSE) -> 2 | E59: OBS Willem Eggert | F59: bgg | G59: Tr.001 | H59: trap | I59: =IF($M59="",0,VLOOKUP($M59,Kengetal,4,FALSE)) -> trappenhuis | J59: Tapijt | K59: 2.3132731 | L59: 0 | M59: 9040 | N59: =VLOOKUP(M59,Kengetal,3,FALSE) -> 40 | O59: 1 | P59: 1 | Q59: =S59*K59*O59 -> 0 | R59: =T59*K59*P59 -> 0 | S59: =IF($M59=0,0,VLOOKUP($M59,Kengetal,6,FALSE)) -> 0 | T59: =IF($M59=0,0,VLOOKUP($M59,Kengetal,7,FALSE)) -> 0 | U59: =IF(M59="","",VLOOKUP(M59,Kengetal,14,FALSE)) -> V | W59: =(Q59+R59)*'1.0-Contractblad'!$L$37 -> 0 | X59: =VLOOKUP(E59,'1.1a-Jaarprijzen'!$B$35:$Q$57,16,FALSE)*K59 -> 0 | Z59: =K59*N59 -> 92.530923 | AA59: =CONCATENATE(M59,"-",N59) -> 9040-40
D60: =VLOOKUP(E60,'1.1a-Jaarprijzen'!$B$13:$G$32,6,FALSE) -> 2 | E60: OBS Willem Eggert | F60: bgg | G60: Tr.002 | H60: trap vso-nso | I60: =IF($M60="",0,VLOOKUP($M60,Kengetal,4,FALSE)) -> trappenhuis | J60: Hout | K60: 4.7704712 | L60: 0 | M60: 9260 | N60: =VLOOKUP(M60,Kengetal,3,FALSE) -> 260 | O60: 1 | P60: 1 | Q60: =S60*K60*O60 -> 0 | R60: =T60*K60*P60 -> 0 | S60: =IF($M60=0,0,VLOOKUP($M60,Kengetal,6,FALSE)) -> 0 | T60: =IF($M60=0,0,VLOOKUP($M60,Kengetal,7,FALSE)) -> 0 | U60: =IF(M60="","",VLOOKUP(M60,Kengetal,14,FALSE)) -> V | V60: VSO-NSO 't Boemeltje | W60: =(Q60+R60)*'1.0-Contractblad'!$L$37 -> 0 | X60: =VLOOKUP(E60,'1.1a-Jaarprijzen'!$B$35:$Q$57,16,FALSE)*K60 -> 0 | Z60: =K60*N60 -> 1240.3225 | AA60: =CONCATENATE(M60,"-",N60) -> 9260-260
D61: =VLOOKUP(E61,'1.1a-Jaarprijzen'!$B$13:$G$32,6,FALSE) -> 2 | E61: OBS Willem Eggert | F61: 1e | G61: G.005 | H61: gang vso-nso | I61: =IF($M61="",0,VLOOKUP($M61,Kengetal,4,FALSE)) -> entree, gang, hal, repro | J61: Tapijt | K61: 4.8979265 | L61: 0 | M61: 3260 | N61: =VLOOKUP(M61,Kengetal,3,FALSE) -> 260 | O61: 1 | P61: 1 | Q61: =S61*K61*O61 -> 0 | R61: =T61*K61*P61 -> 0 | S61: =IF($M61=0,0,VLOOKUP($M61,Kengetal,6,FALSE)) -> 0 | T61: =IF($M61=0,0,VLOOKUP($M61,Kengetal,7,FALSE)) -> 0 | U61: =IF(M61="","",VLOOKUP(M61,Kengetal,14,FALSE)) -> V | V61: VSO-NSO 't Boemeltje | W61: =(Q61+R61)*'1.0-Contractblad'!$L$37 -> 0 | X61: =VLOOKUP(E61,'1.1a-Jaarprijzen'!$B$35:$Q$57,16,FALSE)*K61 -> 0 | Z61: =K61*N61 -> 1273.4609 | AA61: =CONCATENATE(M61,"-",N61) -> 3260-260
D62: =VLOOKUP(E62,'1.1a-Jaarprijzen'!$B$13:$G$32,6,FALSE) -> 2 | E62: OBS Willem Eggert | F62: 1e | G62: G.006 | H62: gang | I62: =IF($M62="",0,VLOOKUP($M62,Kengetal,4,FALSE)) -> entree, gang, hal, repro | J62: Tapijt | K62: 1.6233795 | L62: 0 | M62: 3040 | N62: =VLOOKUP(M62,Kengetal,3,FALSE) -> 40 | O62: 1 | P62: 1 | Q62: =S62*K62*O62 -> 0 | R62: =T62*K62*P62 -> 0 | S62: =IF($M62=0,0,VLOOKUP($M62,Kengetal,6,FALSE)) -> 0 | T62: =IF($M62=0,0,VLOOKUP($M62,Kengetal,7,FALSE)) -> 0 | U62: =IF(M62="","",VLOOKUP(M62,Kengetal,14,FALSE)) -> V | W62: =(Q62+R62)*'1.0-Contractblad'!$L$37 -> 0 | X62: =VLOOKUP(E62,'1.1a-Jaarprijzen'!$B$35:$Q$57,16,FALSE)*K62 -> 0 | Z62: =K62*N62 -> 64.93518 | AA62: =CONCATENATE(M62,"-",N62) -> 3040-40
D63: =VLOOKUP(E63,'1.1a-Jaarprijzen'!$B$13:$G$32,6,FALSE) -> 2 | E63: OBS Willem Eggert | F63: 1e | G63: O.009 | H63: berging | I63: =IF($M63="",0,VLOOKUP($M63,Kengetal,4,FALSE)) -> niet van toepassing | J63: nvt | K63: 0 | L63: 7.4 | M63: nvt | N63: =VLOOKUP(M63,Kengetal,3,FALSE) -> 0 | O63: 1 | P63: 1 | Q63: =S63*K63*O63 -> 0 | R63: =T63*K63*P63 -> 0 | S63: =IF($M63=0,0,VLOOKUP($M63,Kengetal,6,FALSE)) -> 0 | T63: =IF($M63=0,0,VLOOKUP($M63,Kengetal,7,FALSE)) -> 0 | U63: =IF(M63="","",VLOOKUP(M63,Kengetal,14,FALSE)) -> 0 | W63: =(Q63+R63)*'1.0-Contractblad'!$L$37 -> 0 | X63: =VLOOKUP(E63,'1.1a-Jaarprijzen'!$B$35:$Q$57,16,FALSE)*K63 -> 0 | Z63: =K63*N63 -> 0 | AA63: =CONCATENATE(M63,"-",N63) -> nvt-0
D64: =VLOOKUP(E64,'1.1a-Jaarprijzen'!$B$13:$G$32,6,FALSE) -> 2 | E64: OBS Willem Eggert | F64: 1e | G64: O.012 | H64: berging | I64: =IF($M64="",0,VLOOKUP($M64,Kengetal,4,FALSE)) -> niet van toepassing | J64: nvt | K64: 0 | L64: 3.63 | M64: nvt | N64: =VLOOKUP(M64,Kengetal,3,FALSE) -> 0 | O64: 1 | P64: 1 | Q64: =S64*K64*O64 -> 0 | R64: =T64*K64*P64 -> 0 | S64: =IF($M64=0,0,VLOOKUP($M64,Kengetal,6,FALSE)) -> 0 | T64: =IF($M64=0,0,VLOOKUP($M64,Kengetal,7,FALSE)) -> 0 | U64: =IF(M64="","",VLOOKUP(M64,Kengetal,14,FALSE)) -> 0 | W64: =(Q64+R64)*'1.0-Contractblad'!$L$37 -> 0 | X64: =VLOOKUP(E64,'1.1a-Jaarprijzen'!$B$35:$Q$57,16,FALSE)*K64 -> 0 | Z64: =K64*N64 -> 0 | AA64: =CONCATENATE(M64,"-",N64) -> nvt-0
D65: =VLOOKUP(E65,'1.1a-Jaarprijzen'!$B$13:$G$32,6,FALSE) -> 2 | E65: OBS Willem Eggert | F65: 1e | G65: O.013 | H65: berging | I65: =IF($M65="",0,VLOOKUP($M65,Kengetal,4,FALSE)) -> niet van toepassing | J65: nvt | K65: 0 | L65: 14.49 | M65: nvt | N65: =VLOOKUP(M65,Kengetal,3,FALSE) -> 0 | O65: 1 | P65: 1 | Q65: =S65*K65*O65 -> 0 | R65: =T65*K65*P65 -> 0 | S65: =IF($M65=0,0,VLOOKUP($M65,Kengetal,6,FALSE)) -> 0 | T65: =IF($M65=0,0,VLOOKUP($M65,Kengetal,7,FALSE)) -> 0 | U65: =IF(M65="","",VLOOKUP(M65,Kengetal,14,FALSE)) -> 0 | W65: =(Q65+R65)*'1.0-Contractblad'!$L$37 -> 0 | X65: =VLOOKUP(E65,'1.1a-Jaarprijzen'!$B$35:$Q$57,16,FALSE)*K65 -> 0 | Z65: =K65*N65 -> 0 | AA65: =CONCATENATE(M65,"-",N65) -> nvt-0
D66: =VLOOKUP(E66,'1.1a-Jaarprijzen'!$B$13:$G$32,6,FALSE) -> 2 | E66: OBS Willem Eggert | F66: 1e | G66: P.005 | H66: docentenkamer vso-nso | I66: =IF($M66="",0,VLOOKUP($M66,Kengetal,4,FALSE)) -> administratieve -, vergaderruimte | J66: Lino | K66: 55.899644 | L66: 0 | M66: 1260 | N66: =VLOOKUP(M66,Kengetal,3,FALSE) -> 260 | O66: 1 | P66: 1 | Q66: =S66*K66*O66 -> 0 | R66: =T66*K66*P66 -> 0 | S66: =IF($M66=0,0,VLOOKUP($M66,Kengetal,6,FALSE)) -> 0 | T66: =IF($M66=0,0,VLOOKUP($M66,Kengetal,7,FALSE)) -> 0 | U66: =IF(M66="","",VLOOKUP(M66,Kengetal,14,FALSE)) -> V | V66: VSO-NSO 't Boemeltje | W66: =(Q66+R66)*'1.0-Contractblad'!$L$37 -> 0 | X66: =VLOOKUP(E66,'1.1a-Jaarprijzen'!$B$35:$Q$57,16,FALSE)*K66 -> 0 | Z66: =K66*N66 -> 14533.908 | AA66: =CONCATENATE(M66,"-",N66) -> 1260-260
D67: =VLOOKUP(E67,'1.1a-Jaarprijzen'!$B$13:$G$32,6,FALSE) -> 2 | E67: OBS Willem Eggert | F67: 1e | G67: P.006 | H67: kantoor | I67: =IF($M67="",0,VLOOKUP($M67,Kengetal,4,FALSE)) -> administratieve -, vergaderruimte | J67: Lino | K67: 12.949362 | L67: 0 | M67: 1040 | N67: =VLOOKUP(M67,Kengetal,3,FALSE) -> 40 | O67: 1 | P67: 1 | Q67: =S67*K67*O67 -> 0 | R67: =T67*K67*P67 -> 0 | S67: =IF($M67=0,0,VLOOKUP($M67,Kengetal,6,FALSE)) -> 0 | T67: =IF($M67=0,0,VLOOKUP($M67,Kengetal,7,FALSE)) -> 0 | U67: =IF(M67="","",VLOOKUP(M67,Kengetal,14,FALSE)) -> V | W67: =(Q67+R67)*'1.0-Contractblad'!$L$37 -> 0 | X67: =VLOOKUP(E67,'1.1a-Jaarprijzen'!$B$35:$Q$57,16,FALSE)*K67 -> 0 | Z67: =K67*N67 -> 517.97448 | AA67: =CONCATENATE(M67,"-",N67) -> 1040-40
D68: =VLOOKUP(E68,'1.1a-Jaarprijzen'!$B$13:$G$32,6,FALSE) -> 2 | E68: OBS Willem Eggert | F68: 1e | G68: T.010 | H68: toilet | I68: =IF($M68="",0,VLOOKUP($M68,Kengetal,4,FALSE)) -> sanitaire ruimte (toilet-/doucheruimte) | J68: Steen | K68: 1.6412188 | L68: 0 | M68: 4260 | N68: =VLOOKUP(M68,Kengetal,3,FALSE) -> 260 | O68: 1 | P68: 1 | Q68: =S68*K68*O68 -> 0 | R68: =T68*K68*P68 -> 0 | S68: =IF($M68=0,0,VLOOKUP($M68,Kengetal,6,FALSE)) -> 0 | T68: =IF($M68=0,0,VLOOKUP($M68,Kengetal,7,FALSE)) -> 0 | U68: =IF(M68="","",VLOOKUP(M68,Kengetal,14,FALSE)) -> S | V68: VSO-NSO 't Boemeltje | W68: =(Q68+R68)*'1.0-Contractblad'!$L$37 -> 0 | X68: =VLOOKUP(E68,'1.1a-Jaarprijzen'!$B$35:$Q$57,16,FALSE)*K68 -> 0 | Z68: =K68*N68 -> 426.7169 | AA68: =CONCATENATE(M68,"-",N68) -> 4260-260
D69: =VLOOKUP(E69,'1.1a-Jaarprijzen'!$B$13:$G$32,6,FALSE) -> 2 | E69: OBS Willem Eggert | F69: 1e | G69: T.011 | H69: toilet | I69: =IF($M69="",0,VLOOKUP($M69,Kengetal,4,FALSE)) -> sanitaire ruimte (toilet-/doucheruimte) | J69: Steen | K69: 1.3111911 | L69: 0 | M69: 4260 | N69: =VLOOKUP(M69,Kengetal,3,FALSE) -> 260 | O69: 1 | P69: 1 | Q69: =S69*K69*O69 -> 0 | R69: =T69*K69*P69 -> 0 | S69: =IF($M69=0,0,VLOOKUP($M69,Kengetal,6,FALSE)) -> 0 | T69: =IF($M69=0,0,VLOOKUP($M69,Kengetal,7,FALSE)) -> 0 | U69: =IF(M69="","",VLOOKUP(M69,Kengetal,14,FALSE)) -> S | V69: VSO-NSO 't Boemeltje | W69: =(Q69+R69)*'1.0-Contractblad'!$L$37 -> 0 | X69: =VLOOKUP(E69,'1.1a-Jaarprijzen'!$B$35:$Q$57,16,FALSE)*K69 -> 0 | Z69: =K69*N69 -> 340.9097 | AA69: =CONCATENATE(M69,"-",N69) -> 4260-260
D70: =VLOOKUP(E70,'1.1a-Jaarprijzen'!$B$13:$G$32,6,FALSE) -> 2 | E70: OBS Willem Eggert | F70: bgg | G70: 0.01t | H70: trap naar 1e verd | I70: =IF($M70="",0,VLOOKUP($M70,Kengetal,4,FALSE)) -> trappenhuis | J70: pvc | K70: 4.8 | M70: 9200 | N70: =VLOOKUP(M70,Kengetal,3,FALSE) -> 200 | O70: 1 | P70: 1 | Q70: =S70*K70*O70 -> 0 | R70: =T70*K70*P70 -> 0 | S70: =IF($M70=0,0,VLOOKUP($M70,Kengetal,6,FALSE)) -> 0 | T70: =IF($M70=0,0,VLOOKUP($M70,Kengetal,7,FALSE)) -> 0 | U70: =IF(M70="","",VLOOKUP(M70,Kengetal,14,FALSE)) -> V | W70: =(Q70+R70)*'1.0-Contractblad'!$L$37 -> 0 | X70: =VLOOKUP(E70,'1.1a-Jaarprijzen'!$B$35:$Q$57,16,FALSE)*K70 -> 0 | Z70: =K70*N70 -> 960 | AA70: =CONCATENATE(M70,"-",N70) -> 9200-200
D71: =VLOOKUP(E71,'1.1a-Jaarprijzen'!$B$13:$G$32,6,FALSE) -> 2 | E71: OBS Willem Eggert | F71: bgg | G71: 0.02t | H71: gang | I71: =IF($M71="",0,VLOOKUP($M71,Kengetal,4,FALSE)) -> entree, gang, hal, repro | J71: pvc | K71: 38.25 | M71: 3200 | N71: =VLOOKUP(M71,Kengetal,3,FALSE) -> 200 | O71: 1 | P71: 1 | Q71: =S71*K71*O71 -> 0 | R71: =T71*K71*P71 -> 0 | S71: =IF($M71=0,0,VLOOKUP($M71,Kengetal,6,FALSE)) -> 0 | T71: =IF($M71=0,0,VLOOKUP($M71,Kengetal,7,FALSE)) -> 0 | U71: =IF(M71="","",VLOOKUP(M71,Kengetal,14,FALSE)) -> V | W71: =(Q71+R71)*'1.0-Contractblad'!$L$37 -> 0 | X71: =VLOOKUP(E71,'1.1a-Jaarprijzen'!$B$35:$Q$57,16,FALSE)*K71 -> 0 | Z71: =K71*N71 -> 7650 | AA71: =CONCATENATE(M71,"-",N71) -> 3200-200
D72: =VLOOKUP(E72,'1.1a-Jaarprijzen'!$B$13:$G$32,6,FALSE) -> 2 | E72: OBS Willem Eggert | F72: bgg | G72: 0.03t | H72: toilet | I72: =IF($M72="",0,VLOOKUP($M72,Kengetal,4,FALSE)) -> sanitaire ruimte (toilet-/doucheruimte) | J72: pvc | K72: 2.286 | M72: 4200 | N72: =VLOOKUP(M72,Kengetal,3,FALSE) -> 200 | O72: 1 | P72: 1 | Q72: =S72*K72*O72 -> 0 | R72: =T72*K72*P72 -> 0 | S72: =IF($M72=0,0,VLOOKUP($M72,Kengetal,6,FALSE)) -> 0 | T72: =IF($M72=0,0,VLOOKUP($M72,Kengetal,7,FALSE)) -> 0 | U72: =IF(M72="","",VLOOKUP(M72,Kengetal,14,FALSE)) -> S | W72: =(Q72+R72)*'1.0-Contractblad'!$L$37 -> 0 | X72: =VLOOKUP(E72,'1.1a-Jaarprijzen'!$B$35:$Q$57,16,FALSE)*K72 -> 0 | Z72: =K72*N72 -> 457.2 | AA72: =CONCATENATE(M72,"-",N72) -> 4200-200
D73: =VLOOKUP(E73,'1.1a-Jaarprijzen'!$B$13:$G$32,6,FALSE) -> 2 | E73: OBS Willem Eggert | F73: bgg | G73: 0.04t | H73: leslokaal | I73: =IF($M73="",0,VLOOKUP($M73,Kengetal,4,FALSE)) -> leslokaal/leerplein groep 4 t/m 8 | J73: pvc | K73: 51.68 | M73: 18200 | N73: =VLOOKUP(M73,Kengetal,3,FALSE) -> 200 | O73: 1 | P73: 1 | Q73: =S73*K73*O73 -> 0 | R73: =T73*K73*P73 -> 0 | S73: =IF($M73=0,0,VLOOKUP($M73,Kengetal,6,FALSE)) -> 0 | T73: =IF($M73=0,0,VLOOKUP($M73,Kengetal,7,FALSE)) -> 0 | U73: =IF(M73="","",VLOOKUP(M73,Kengetal,14,FALSE)) -> L | W73: =(Q73+R73)*'1.0-Contractblad'!$L$37 -> 0 | X73: =VLOOKUP(E73,'1.1a-Jaarprijzen'!$B$35:$Q$57,16,FALSE)*K73 -> 0 | Z73: =K73*N73 -> 10336 | AA73: =CONCATENATE(M73,"-",N73) -> 18200-200
D74: =VLOOKUP(E74,'1.1a-Jaarprijzen'!$B$13:$G$32,6,FALSE) -> 2 | E74: OBS Willem Eggert | F74: bgg | G74: 0.05t | H74: toilet | I74: =IF($M74="",0,VLOOKUP($M74,Kengetal,4,FALSE)) -> sanitaire ruimte (toilet-/doucheruimte) | J74: pvc | K74: 2.286 | M74: 4200 | N74: =VLOOKUP(M74,Kengetal,3,FALSE) -> 200 | O74: 1 | P74: 1 | Q74: =S74*K74*O74 -> 0 | R74: =T74*K74*P74 -> 0 | S74: =IF($M74=0,0,VLOOKUP($M74,Kengetal,6,FALSE)) -> 0 | T74: =IF($M74=0,0,VLOOKUP($M74,Kengetal,7,FALSE)) -> 0 | U74: =IF(M74="","",VLOOKUP(M74,Kengetal,14,FALSE)) -> S | W74: =(Q74+R74)*'1.0-Contractblad'!$L$37 -> 0 | X74: =VLOOKUP(E74,'1.1a-Jaarprijzen'!$B$35:$Q$57,16,FALSE)*K74 -> 0 | Z74: =K74*N74 -> 457.2 | AA74: =CONCATENATE(M74,"-",N74) -> 4200-200
D75: =VLOOKUP(E75,'1.1a-Jaarprijzen'!$B$13:$G$32,6,FALSE) -> 2 | E75: OBS Willem Eggert | F75: bgg | G75: 0.06t | H75: leslokaal | I75: =IF($M75="",0,VLOOKUP($M75,Kengetal,4,FALSE)) -> leslokaal/leerplein groep 4 t/m 8 | J75: pvc | K75: 51.68 | M75: 18200 | N75: =VLOOKUP(M75,Kengetal,3,FALSE) -> 200 | O75: 1 | P75: 1 | Q75: =S75*K75*O75 -> 0 | R75: =T75*K75*P75 -> 0 | S75: =IF($M75=0,0,VLOOKUP($M75,Kengetal,6,FALSE)) -> 0 | T75: =IF($M75=0,0,VLOOKUP($M75,Kengetal,7,FALSE)) -> 0 | U75: =IF(M75="","",VLOOKUP(M75,Kengetal,14,FALSE)) -> L | W75: =(Q75+R75)*'1.0-Contractblad'!$L$37 -> 0 | X75: =VLOOKUP(E75,'1.1a-Jaarprijzen'!$B$35:$Q$57,16,FALSE)*K75 -> 0 | Z75: =K75*N75 -> 10336 | AA75: =CONCATENATE(M75,"-",N75) -> 18200-200
D76: =VLOOKUP(E76,'1.1a-Jaarprijzen'!$B$13:$G$32,6,FALSE) -> 2 | E76: OBS Willem Eggert | F76: bgg | G76: 0.07t | H76: toilet | I76: =IF($M76="",0,VLOOKUP($M76,Kengetal,4,FALSE)) -> sanitaire ruimte (toilet-/doucheruimte) | J76: pvc | K76: 2.286 | M76: 4200 | N76: =VLOOKUP(M76,Kengetal,3,FALSE) -> 200 | O76: 1 | P76: 1 | Q76: =S76*K76*O76 -> 0 | R76: =T76*K76*P76 -> 0 | S76: =IF($M76=0,0,VLOOKUP($M76,Kengetal,6,FALSE)) -> 0 | T76: =IF($M76=0,0,VLOOKUP($M76,Kengetal,7,FALSE)) -> 0 | U76: =IF(M76="","",VLOOKUP(M76,Kengetal,14,FALSE)) -> S | W76: =(Q76+R76)*'1.0-Contractblad'!$L$37 -> 0 | X76: =VLOOKUP(E76,'1.1a-Jaarprijzen'!$B$35:$Q$57,16,FALSE)*K76 -> 0 | Z76: =K76*N76 -> 457.2 | AA76: =CONCATENATE(M76,"-",N76) -> 4200-200
D77: =VLOOKUP(E77,'1.1a-Jaarprijzen'!$B$13:$G$32,6,FALSE) -> 2 | E77: OBS Willem Eggert | F77: bgg | G77: 1.01t | H77: gang | I77: =IF($M77="",0,VLOOKUP($M77,Kengetal,4,FALSE)) -> entree, gang, hal, repro | J77: pvc | K77: 44.25 | M77: 3200 | N77: =VLOOKUP(M77,Kengetal,3,FALSE) -> 200 | O77: 1 | P77: 1 | Q77: =S77*K77*O77 -> 0 | R77: =T77*K77*P77 -> 0 | S77: =IF($M77=0,0,VLOOKUP($M77,Kengetal,6,FALSE)) -> 0 | T77: =IF($M77=0,0,VLOOKUP($M77,Kengetal,7,FALSE)) -> 0 | U77: =IF(M77="","",VLOOKUP(M77,Kengetal,14,FALSE)) -> V | W77: =(Q77+R77)*'1.0-Contractblad'!$L$37 -> 0 | X77: =VLOOKUP(E77,'1.1a-Jaarprijzen'!$B$35:$Q$57,16,FALSE)*K77 -> 0 | Z77: =K77*N77 -> 8850 | AA77: =CONCATENATE(M77,"-",N77) -> 3200-200
D78: =VLOOKUP(E78,'1.1a-Jaarprijzen'!$B$13:$G$32,6,FALSE) -> 2 | E78: OBS Willem Eggert | F78: bgg | G78: 1.02t | H78: werkast | I78: =IF($M78="",0,VLOOKUP($M78,Kengetal,4,FALSE)) -> niet van toepassing | J78: pvc | L78: 2.286 | M78: nvt | N78: =VLOOKUP(M78,Kengetal,3,FALSE) -> 0 | O78: 1 | P78: 1 | Q78: =S78*K78*O78 -> 0 | R78: =T78*K78*P78 -> 0 | S78: =IF($M78=0,0,VLOOKUP($M78,Kengetal,6,FALSE)) -> 0 | T78: =IF($M78=0,0,VLOOKUP($M78,Kengetal,7,FALSE)) -> 0 | U78: =IF(M78="","",VLOOKUP(M78,Kengetal,14,FALSE)) -> 0 | W78: =(Q78+R78)*'1.0-Contractblad'!$L$37 -> 0 | X78: =VLOOKUP(E78,'1.1a-Jaarprijzen'!$B$35:$Q$57,16,FALSE)*K78 -> 0 | Z78: =K78*N78 -> 0 | AA78: =CONCATENATE(M78,"-",N78) -> nvt-0
D79: =VLOOKUP(E79,'1.1a-Jaarprijzen'!$B$13:$G$32,6,FALSE) -> 2 | E79: OBS Willem Eggert | F79: bgg | G79: 1.03t | H79: leslokaal | I79: =IF($M79="",0,VLOOKUP($M79,Kengetal,4,FALSE)) -> leslokaal/leerplein groep 4 t/m 8 | J79: pvc | K79: 51.68 | M79: 18200 | N79: =VLOOKUP(M79,Kengetal,3,FALSE) -> 200 | O79: 1 | P79: 1 | Q79: =S79*K79*O79 -> 0 | R79: =T79*K79*P79 -> 0 | S79: =IF($M79=0,0,VLOOKUP($M79,Kengetal,6,FALSE)) -> 0 | T79: =IF($M79=0,0,VLOOKUP($M79,Kengetal,7,FALSE)) -> 0 | U79: =IF(M79="","",VLOOKUP(M79,Kengetal,14,FALSE)) -> L | W79: =(Q79+R79)*'1.0-Contractblad'!$L$37 -> 0 | X79: =VLOOKUP(E79,'1.1a-Jaarprijzen'!$B$35:$Q$57,16,FALSE)*K79 -> 0 | Z79: =K79*N79 -> 10336 | AA79: =CONCATENATE(M79,"-",N79) -> 18200-200
D80: =VLOOKUP(E80,'1.1a-Jaarprijzen'!$B$13:$G$32,6,FALSE) -> 2 | E80: OBS Willem Eggert | F80: bgg | G80: 1.04t | H80: toilet | I80: =IF($M80="",0,VLOOKUP($M80,Kengetal,4,FALSE)) -> sanitaire ruimte (toilet-/doucheruimte) | J80: pvc | K80: 2.286 | M80: 4200 | N80: =VLOOKUP(M80,Kengetal,3,FALSE) -> 200 | O80: 1 | P80: 1 | Q80: =S80*K80*O80 -> 0 | R80: =T80*K80*P80 -> 0 | S80: =IF($M80=0,0,VLOOKUP($M80,Kengetal,6,FALSE)) -> 0 | T80: =IF($M80=0,0,VLOOKUP($M80,Kengetal,7,FALSE)) -> 0 | U80: =IF(M80="","",VLOOKUP(M80,Kengetal,14,FALSE)) -> S | W80: =(Q80+R80)*'1.0-Contractblad'!$L$37 -> 0 | X80: =VLOOKUP(E80,'1.1a-Jaarprijzen'!$B$35:$Q$57,16,FALSE)*K80 -> 0 | Z80: =K80*N80 -> 457.2 | AA80: =CONCATENATE(M80,"-",N80) -> 4200-200
D81: =VLOOKUP(E81,'1.1a-Jaarprijzen'!$B$13:$G$32,6,FALSE) -> 2 | E81: OBS Willem Eggert | F81: bgg | G81: 1.05t | H81: leslokaal | I81: =IF($M81="",0,VLOOKUP($M81,Kengetal,4,FALSE)) -> leslokaal/leerplein groep 4 t/m 8 | J81: pvc | K81: 51.68 | M81: 18200 | N81: =VLOOKUP(M81,Kengetal,3,FALSE) -> 200 | O81: 1 | P81: 1 | Q81: =S81*K81*O81 -> 0 | R81: =T81*K81*P81 -> 0 | S81: =IF($M81=0,0,VLOOKUP($M81,Kengetal,6,FALSE)) -> 0 | T81: =IF($M81=0,0,VLOOKUP($M81,Kengetal,7,FALSE)) -> 0 | U81: =IF(M81="","",VLOOKUP(M81,Kengetal,14,FALSE)) -> L | W81: =(Q81+R81)*'1.0-Contractblad'!$L$37 -> 0 | X81: =VLOOKUP(E81,'1.1a-Jaarprijzen'!$B$35:$Q$57,16,FALSE)*K81 -> 0 | Z81: =K81*N81 -> 10336 | AA81: =CONCATENATE(M81,"-",N81) -> 18200-200
D82: =VLOOKUP(E82,'1.1a-Jaarprijzen'!$B$13:$G$32,6,FALSE) -> 2 | E82: OBS Willem Eggert | F82: bgg | G82: 1.06t | H82: toilet | I82: =IF($M82="",0,VLOOKUP($M82,Kengetal,4,FALSE)) -> sanitaire ruimte (toilet-/doucheruimte) | J82: pvc | K82: 2.286 | M82: 4200 | N82: =VLOOKUP(M82,Kengetal,3,FALSE) -> 200 | O82: 1 | P82: 1 | Q82: =S82*K82*O82 -> 0 | R82: =T82*K82*P82 -> 0 | S82: =IF($M82=0,0,VLOOKUP($M82,Kengetal,6,FALSE)) -> 0 | T82: =IF($M82=0,0,VLOOKUP($M82,Kengetal,7,FALSE)) -> 0 | U82: =IF(M82="","",VLOOKUP(M82,Kengetal,14,FALSE)) -> S | W82: =(Q82+R82)*'1.0-Contractblad'!$L$37 -> 0 | X82: =VLOOKUP(E82,'1.1a-Jaarprijzen'!$B$35:$Q$57,16,FALSE)*K82 -> 0 | Z82: =K82*N82 -> 457.2 | AA82: =CONCATENATE(M82,"-",N82) -> 4200-200
D83: =VLOOKUP(E83,'1.1a-Jaarprijzen'!$B$13:$G$32,6,FALSE) -> 2 | E83: SBO Het Tangram | F83: bgg | G83: -101 | H83: kelder | I83: =IF($M83="",0,VLOOKUP($M83,Kengetal,4,FALSE)) -> niet van toepassing | J83: nvt | L83: 40.59 | M83: nvt | N83: =VLOOKUP(M83,Kengetal,3,FALSE) -> 0 | O83: 1 | P83: 1 | Q83: =S83*K83*O83 -> 0 | R83: =T83*K83*P83 -> 0 | S83: =IF($M83=0,0,VLOOKUP($M83,Kengetal,6,FALSE)) -> 0 | T83: =IF($M83=0,0,VLOOKUP($M83,Kengetal,7,FALSE)) -> 0 | U83: =IF(M83="","",VLOOKUP(M83,Kengetal,14,FALSE)) -> 0 | W83: =(Q83+R83)*'1.0-Contractblad'!$L$37 -> 0 | X83: =VLOOKUP(E83,'1.1a-Jaarprijzen'!$B$35:$Q$57,16,FALSE)*K83 -> 0 | Z83: =K83*N83 -> 0 | AA83: =CONCATENATE(M83,"-",N83) -> nvt-0
D84: =VLOOKUP(E84,'1.1a-Jaarprijzen'!$B$13:$G$32,6,FALSE) -> 2 | E84: SBO Het Tangram | F84: bgg | G84: 0.01 | H84: entree | I84: =IF($M84="",0,VLOOKUP($M84,Kengetal,4,FALSE)) -> entree, gang, hal, repro | J84: tapijt | K84: 11.625 | M84: 3200 | N84: =VLOOKUP(M84,Kengetal,3,FALSE) -> 200 | O84: 1 | P84: 1 | Q84: =S84*K84*O84 -> 0 | R84: =T84*K84*P84 -> 0 | S84: =IF($M84=0,0,VLOOKUP($M84,Kengetal,6,FALSE)) -> 0 | T84: =IF($M84=0,0,VLOOKUP($M84,Kengetal,7,FALSE)) -> 0 | U84: =IF(M84="","",VLOOKUP(M84,Kengetal,14,FALSE)) -> V | W84: =(Q84+R84)*'1.0-Contractblad'!$L$37 -> 0 | X84: =VLOOKUP(E84,'1.1a-Jaarprijzen'!$B$35:$Q$57,16,FALSE)*K84 -> 0 | Z84: =K84*N84 -> 2325 | AA84: =CONCATENATE(M84,"-",N84) -> 3200-200
D85: =VLOOKUP(E85,'1.1a-Jaarprijzen'!$B$13:$G$32,6,FALSE) -> 2 | E85: SBO Het Tangram | F85: bgg | G85: 0.02 | H85: centrale hal | I85: =IF($M85="",0,VLOOKUP($M85,Kengetal,4,FALSE)) -> entree, gang, hal, repro | J85: lino | K85: 109.7 | M85: 3200 | N85: =VLOOKUP(M85,Kengetal,3,FALSE) -> 200 | O85: 1 | P85: 1 | Q85: =S85*K85*O85 -> 0 | R85: =T85*K85*P85 -> 0 | S85: =IF($M85=0,0,VLOOKUP($M85,Kengetal,6,FALSE)) -> 0 | T85: =IF($M85=0,0,VLOOKUP($M85,Kengetal,7,FALSE)) -> 0 | U85: =IF(M85="","",VLOOKUP(M85,Kengetal,14,FALSE)) -> V | W85: =(Q85+R85)*'1.0-Contractblad'!$L$37 -> 0 | X85: =VLOOKUP(E85,'1.1a-Jaarprijzen'!$B$35:$Q$57,16,FALSE)*K85 -> 0 | Z85: =K85*N85 -> 21940 | AA85: =CONCATENATE(M85,"-",N85) -> 3200-200
D86: =VLOOKUP(E86,'1.1a-Jaarprijzen'!$B$13:$G$32,6,FALSE) -> 2 | E86: SBO Het Tangram | F86: bgg | G86: 0.03 | H86: administratie | I86: =IF($M86="",0,VLOOKUP($M86,Kengetal,4,FALSE)) -> administratieve -, vergaderruimte | J86: lino | K86: 47.95 | M86: 1040 | N86: =VLOOKUP(M86,Kengetal,3,FALSE) -> 40 | O86: 1 | P86: 1 | Q86: =S86*K86*O86 -> 0 | R86: =T86*K86*P86 -> 0 | S86: =IF($M86=0,0,VLOOKUP($M86,Kengetal,6,FALSE)) -> 0 | T86: =IF($M86=0,0,VLOOKUP($M86,Kengetal,7,FALSE)) -> 0 | U86: =IF(M86="","",VLOOKUP(M86,Kengetal,14,FALSE)) -> V | W86: =(Q86+R86)*'1.0-Contractblad'!$L$37 -> 0 | X86: =VLOOKUP(E86,'1.1a-Jaarprijzen'!$B$35:$Q$57,16,FALSE)*K86 -> 0 | Z86: =K86*N86 -> 1918 | AA86: =CONCATENATE(M86,"-",N86) -> 1040-40
D87: =VLOOKUP(E87,'1.1a-Jaarprijzen'!$B$13:$G$32,6,FALSE) -> 2 | E87: SBO Het Tangram | F87: bgg | G87: 0.04 | H87: meterkast | I87: =IF($M87="",0,VLOOKUP($M87,Kengetal,4,FALSE)) -> niet van toepassing | J87: lino | L87: 3.15 | M87: nvt | N87: =VLOOKUP(M87,Kengetal,3,FALSE) -> 0 | O87: 1 | P87: 1 | Q87: =S87*K87*O87 -> 0 | R87: =T87*K87*P87 -> 0 | S87: =IF($M87=0,0,VLOOKUP($M87,Kengetal,6,FALSE)) -> 0 | T87: =IF($M87=0,0,VLOOKUP($M87,Kengetal,7,FALSE)) -> 0 | U87: =IF(M87="","",VLOOKUP(M87,Kengetal,14,FALSE)) -> 0 | W87: =(Q87+R87)*'1.0-Contractblad'!$L$37 -> 0 | X87: =VLOOKUP(E87,'1.1a-Jaarprijzen'!$B$35:$Q$57,16,FALSE)*K87 -> 0 | Z87: =K87*N87 -> 0 | AA87: =CONCATENATE(M87,"-",N87) -> nvt-0
D88: =VLOOKUP(E88,'1.1a-Jaarprijzen'!$B$13:$G$32,6,FALSE) -> 2 | E88: SBO Het Tangram | F88: bgg | G88: 0.05 | H88: opslag | I88: =IF($M88="",0,VLOOKUP($M88,Kengetal,4,FALSE)) -> niet van toepassing | J88: lino | L88: 1.44 | M88: nvt | N88: =VLOOKUP(M88,Kengetal,3,FALSE) -> 0 | O88: 1 | P88: 1 | Q88: =S88*K88*O88 -> 0 | R88: =T88*K88*P88 -> 0 | S88: =IF($M88=0,0,VLOOKUP($M88,Kengetal,6,FALSE)) -> 0 | T88: =IF($M88=0,0,VLOOKUP($M88,Kengetal,7,FALSE)) -> 0 | U88: =IF(M88="","",VLOOKUP(M88,Kengetal,14,FALSE)) -> 0 | W88: =(Q88+R88)*'1.0-Contractblad'!$L$37 -> 0 | X88: =VLOOKUP(E88,'1.1a-Jaarprijzen'!$B$35:$Q$57,16,FALSE)*K88 -> 0 | Z88: =K88*N88 -> 0 | AA88: =CONCATENATE(M88,"-",N88) -> nvt-0
D89: =VLOOKUP(E89,'1.1a-Jaarprijzen'!$B$13:$G$32,6,FALSE) -> 2 | E89: SBO Het Tangram | F89: bgg | G89: 0.07 | H89: aula | I89: =IF($M89="",0,VLOOKUP($M89,Kengetal,4,FALSE)) -> aula, gemeenschappelijke ruimte, bibliotheek | J89: lino | K89: 88.35 | M89: 2200 | N89: =VLOOKUP(M89,Kengetal,3,FALSE) -> 200 | O89: 1 | P89: 1 | Q89: =S89*K89*O89 -> 0 | R89: =T89*K89*P89 -> 0 | S89: =IF($M89=0,0,VLOOKUP($M89,Kengetal,6,FALSE)) -> 0 | T89: =IF($M89=0,0,VLOOKUP($M89,Kengetal,7,FALSE)) -> 0 | U89: =IF(M89="","",VLOOKUP(M89,Kengetal,14,FALSE)) -> V | W89: =(Q89+R89)*'1.0-Contractblad'!$L$37 -> 0 | X89: =VLOOKUP(E89,'1.1a-Jaarprijzen'!$B$35:$Q$57,16,FALSE)*K89 -> 0 | Z89: =K89*N89 -> 17670 | AA89: =CONCATENATE(M89,"-",N89) -> 2200-200
D90: =VLOOKUP(E90,'1.1a-Jaarprijzen'!$B$13:$G$32,6,FALSE) -> 2 | E90: SBO Het Tangram | F90: bgg | G90: 0.08 | H90: gang | I90: =IF($M90="",0,VLOOKUP($M90,Kengetal,4,FALSE)) -> entree, gang, hal, repro | J90: hout | K90: 17.6 | M90: 3200 | N90: =VLOOKUP(M90,Kengetal,3,FALSE) -> 200 | O90: 1 | P90: 1 | Q90: =S90*K90*O90 -> 0 | R90: =T90*K90*P90 -> 0 | S90: =IF($M90=0,0,VLOOKUP($M90,Kengetal,6,FALSE)) -> 0 | T90: =IF($M90=0,0,VLOOKUP($M90,Kengetal,7,FALSE)) -> 0 | U90: =IF(M90="","",VLOOKUP(M90,Kengetal,14,FALSE)) -> V | W90: =(Q90+R90)*'1.0-Contractblad'!$L$37 -> 0 | X90: =VLOOKUP(E90,'1.1a-Jaarprijzen'!$B$35:$Q$57,16,FALSE)*K90 -> 0 | Z90: =K90*N90 -> 3520 | AA90: =CONCATENATE(M90,"-",N90) -> 3200-200
D91: =VLOOKUP(E91,'1.1a-Jaarprijzen'!$B$13:$G$32,6,FALSE) -> 2 | E91: SBO Het Tangram | F91: bgg | G91: 0.09 | H91: podium aula | I91: =IF($M91="",0,VLOOKUP($M91,Kengetal,4,FALSE)) -> aula, gemeenschappelijke ruimte, bibliotheek | J91: lino | K91: 31 | M91: 2200 | N91: =VLOOKUP(M91,Kengetal,3,FALSE) -> 200 | O91: 1 | P91: 1 | Q91: =S91*K91*O91 -> 0 | R91: =T91*K91*P91 -> 0 | S91: =IF($M91=0,0,VLOOKUP($M91,Kengetal,6,FALSE)) -> 0 | T91: =IF($M91=0,0,VLOOKUP($M91,Kengetal,7,FALSE)) -> 0 | U91: =IF(M91="","",VLOOKUP(M91,Kengetal,14,FALSE)) -> V | W91: =(Q91+R91)*'1.0-Contractblad'!$L$37 -> 0 | X91: =VLOOKUP(E91,'1.1a-Jaarprijzen'!$B$35:$Q$57,16,FALSE)*K91 -> 0 | Z91: =K91*N91 -> 6200 | AA91: =CONCATENATE(M91,"-",N91) -> 2200-200
D92: =VLOOKUP(E92,'1.1a-Jaarprijzen'!$B$13:$G$32,6,FALSE) -> 2 | E92: SBO Het Tangram | F92: bgg | G92: 0.10 | H92: entree | I92: =IF($M92="",0,VLOOKUP($M92,Kengetal,4,FALSE)) -> entree, gang, hal, repro | J92: tapijt | K92: 3.25 | M92: 3200 | N92: =VLOOKUP(M92,Kengetal,3,FALSE) -> 200 | O92: 1 | P92: 1 | Q92: =S92*K92*O92 -> 0 | R92: =T92*K92*P92 -> 0 | S92: =IF($M92=0,0,VLOOKUP($M92,Kengetal,6,FALSE)) -> 0 | T92: =IF($M92=0,0,VLOOKUP($M92,Kengetal,7,FALSE)) -> 0 | U92: =IF(M92="","",VLOOKUP(M92,Kengetal,14,FALSE)) -> V | W92: =(Q92+R92)*'1.0-Contractblad'!$L$37 -> 0 | X92: =VLOOKUP(E92,'1.1a-Jaarprijzen'!$B$35:$Q$57,16,FALSE)*K92 -> 0 | Z92: =K92*N92 -> 650 | AA92: =CONCATENATE(M92,"-",N92) -> 3200-200
D93: =VLOOKUP(E93,'1.1a-Jaarprijzen'!$B$13:$G$32,6,FALSE) -> 2 | E93: SBO Het Tangram | F93: bgg | G93: 0.11 | H93: trap naar kelder | I93: =IF($M93="",0,VLOOKUP($M93,Kengetal,4,FALSE)) -> niet van toepassing | J93: steen | L93: 2.64 | M93: nvt | N93: =VLOOKUP(M93,Kengetal,3,FALSE) -> 0 | O93: 1 | P93: 1 | Q93: =S93*K93*O93 -> 0 | R93: =T93*K93*P93 -> 0 | S93: =IF($M93=0,0,VLOOKUP($M93,Kengetal,6,FALSE)) -> 0 | T93: =IF($M93=0,0,VLOOKUP($M93,Kengetal,7,FALSE)) -> 0 | U93: =IF(M93="","",VLOOKUP(M93,Kengetal,14,FALSE)) -> 0 | W93: =(Q93+R93)*'1.0-Contractblad'!$L$37 -> 0 | X93: =VLOOKUP(E93,'1.1a-Jaarprijzen'!$B$35:$Q$57,16,FALSE)*K93 -> 0 | Z93: =K93*N93 -> 0 | AA93: =CONCATENATE(M93,"-",N93) -> nvt-0
D94: =VLOOKUP(E94,'1.1a-Jaarprijzen'!$B$13:$G$32,6,FALSE) -> 2 | E94: SBO Het Tangram | F94: bgg | G94: 0.12 | H94: toilet | I94: =IF($M94="",0,VLOOKUP($M94,Kengetal,4,FALSE)) -> sanitaire ruimte (toilet-/doucheruimte) | J94: steen | K94: 3.75 | M94: 4200 | N94: =VLOOKUP(M94,Kengetal,3,FALSE) -> 200 | O94: 1 | P94: 1 | Q94: =S94*K94*O94 -> 0 | R94: =T94*K94*P94 -> 0 | S94: =IF($M94=0,0,VLOOKUP($M94,Kengetal,6,FALSE)) -> 0 | T94: =IF($M94=0,0,VLOOKUP($M94,Kengetal,7,FALSE)) -> 0 | U94: =IF(M94="","",VLOOKUP(M94,Kengetal,14,FALSE)) -> S | W94: =(Q94+R94)*'1.0-Contractblad'!$L$37 -> 0 | X94: =VLOOKUP(E94,'1.1a-Jaarprijzen'!$B$35:$Q$57,16,FALSE)*K94 -> 0 | Z94: =K94*N94 -> 750 | AA94: =CONCATENATE(M94,"-",N94) -> 4200-200
D95: =VLOOKUP(E95,'1.1a-Jaarprijzen'!$B$13:$G$32,6,FALSE) -> 2 | E95: SBO Het Tangram | F95: bgg | G95: 0.13 | H95: gang | I95: =IF($M95="",0,VLOOKUP($M95,Kengetal,4,FALSE)) -> entree, gang, hal, repro | J95: hout | K95: 12.17 | M95: 3200 | N95: =VLOOKUP(M95,Kengetal,3,FALSE) -> 200 | O95: 1 | P95: 1 | Q95: =S95*K95*O95 -> 0 | R95: =T95*K95*P95 -> 0 | S95: =IF($M95=0,0,VLOOKUP($M95,Kengetal,6,FALSE)) -> 0 | T95: =IF($M95=0,0,VLOOKUP($M95,Kengetal,7,FALSE)) -> 0 | U95: =IF(M95="","",VLOOKUP(M95,Kengetal,14,FALSE)) -> V | W95: =(Q95+R95)*'1.0-Contractblad'!$L$37 -> 0 | X95: =VLOOKUP(E95,'1.1a-Jaarprijzen'!$B$35:$Q$57,16,FALSE)*K95 -> 0 | Z95: =K95*N95 -> 2434 | AA95: =CONCATENATE(M95,"-",N95) -> 3200-200
D96: =VLOOKUP(E96,'1.1a-Jaarprijzen'!$B$13:$G$32,6,FALSE) -> 2 | E96: SBO Het Tangram | F96: bgg | G96: 0.15 | H96: techniek lokaal | I96: =IF($M96="",0,VLOOKUP($M96,Kengetal,4,FALSE)) -> niet van toepassing | J96: lino | L96: 39.1 | M96: nvt | N96: =VLOOKUP(M96,Kengetal,3,FALSE) -> 0 | O96: 1 | P96: 1 | Q96: =S96*K96*O96 -> 0 | R96: =T96*K96*P96 -> 0 | S96: =IF($M96=0,0,VLOOKUP($M96,Kengetal,6,FALSE)) -> 0 | T96: =IF($M96=0,0,VLOOKUP($M96,Kengetal,7,FALSE)) -> 0 | U96: =IF(M96="","",VLOOKUP(M96,Kengetal,14,FALSE)) -> 0 | W96: =(Q96+R96)*'1.0-Contractblad'!$L$37 -> 0 | X96: =VLOOKUP(E96,'1.1a-Jaarprijzen'!$B$35:$Q$57,16,FALSE)*K96 -> 0 | Z96: =K96*N96 -> 0 | AA96: =CONCATENATE(M96,"-",N96) -> nvt-0
D97: =VLOOKUP(E97,'1.1a-Jaarprijzen'!$B$13:$G$32,6,FALSE) -> 2 | E97: SBO Het Tangram | F97: bgg | G97: 0.16 | H97: opslag | I97: =IF($M97="",0,VLOOKUP($M97,Kengetal,4,FALSE)) -> niet van toepassing | J97: lino | L97: 6 | M97: nvt | N97: =VLOOKUP(M97,Kengetal,3,FALSE) -> 0 | O97: 1 | P97: 1 | Q97: =S97*K97*O97 -> 0 | R97: =T97*K97*P97 -> 0 | S97: =IF($M97=0,0,VLOOKUP($M97,Kengetal,6,FALSE)) -> 0 | T97: =IF($M97=0,0,VLOOKUP($M97,Kengetal,7,FALSE)) -> 0 | U97: =IF(M97="","",VLOOKUP(M97,Kengetal,14,FALSE)) -> 0 | W97: =(Q97+R97)*'1.0-Contractblad'!$L$37 -> 0 | X97: =VLOOKUP(E97,'1.1a-Jaarprijzen'!$B$35:$Q$57,16,FALSE)*K97 -> 0 | Z97: =K97*N97 -> 0 | AA97: =CONCATENATE(M97,"-",N97) -> nvt-0
D98: =VLOOKUP(E98,'1.1a-Jaarprijzen'!$B$13:$G$32,6,FALSE) -> 2 | E98: SBO Het Tangram | F98: bgg | G98: 0.17 | H98: opslag | I98: =IF($M98="",0,VLOOKUP($M98,Kengetal,4,FALSE)) -> niet van toepassing | J98: lino | L98: 6 | M98: nvt | N98: =VLOOKUP(M98,Kengetal,3,FALSE) -> 0 | O98: 1 | P98: 1 | Q98: =S98*K98*O98 -> 0 | R98: =T98*K98*P98 -> 0 | S98: =IF($M98=0,0,VLOOKUP($M98,Kengetal,6,FALSE)) -> 0 | T98: =IF($M98=0,0,VLOOKUP($M98,Kengetal,7,FALSE)) -> 0 | U98: =IF(M98="","",VLOOKUP(M98,Kengetal,14,FALSE)) -> 0 | W98: =(Q98+R98)*'1.0-Contractblad'!$L$37 -> 0 | X98: =VLOOKUP(E98,'1.1a-Jaarprijzen'!$B$35:$Q$57,16,FALSE)*K98 -> 0 | Z98: =K98*N98 -> 0 | AA98: =CONCATENATE(M98,"-",N98) -> nvt-0
D99: =VLOOKUP(E99,'1.1a-Jaarprijzen'!$B$13:$G$32,6,FALSE) -> 2 | E99: SBO Het Tangram | F99: bgg | G99: 0.18 | H99: kooklokaal | I99: =IF($M99="",0,VLOOKUP($M99,Kengetal,4,FALSE)) -> pantry/keuken | J99: lino | K99: 38.5 | M99: 5040 | N99: =VLOOKUP(M99,Kengetal,3,FALSE) -> 40 | O99: 1 | P99: 1 | Q99: =S99*K99*O99 -> 0 | R99: =T99*K99*P99 -> 0 | S99: =IF($M99=0,0,VLOOKUP($M99,Kengetal,6,FALSE)) -> 0 | T99: =IF($M99=0,0,VLOOKUP($M99,Kengetal,7,FALSE)) -> 0 | U99: =IF(M99="","",VLOOKUP(M99,Kengetal,14,FALSE)) -> V | W99: =(Q99+R99)*'1.0-Contractblad'!$L$37 -> 0 | X99: =VLOOKUP(E99,'1.1a-Jaarprijzen'!$B$35:$Q$57,16,FALSE)*K99 -> 0 | Z99: =K99*N99 -> 1540 | AA99: =CONCATENATE(M99,"-",N99) -> 5040-40
D100: =VLOOKUP(E100,'1.1a-Jaarprijzen'!$B$13:$G$32,6,FALSE) -> 2 | E100: SBO Het Tangram | F100: bgg | G100: 0.19 | H100: opslag | I100: =IF($M100="",0,VLOOKUP($M100,Kengetal,4,FALSE)) -> niet van toepassing | J100: lino | L100: 17.5 | M100: nvt | N100: =VLOOKUP(M100,Kengetal,3,FALSE) -> 0 | O100: 1 | P100: 1 | Q100: =S100*K100*O100 -> 0 | R100: =T100*K100*P100 -> 0 | S100: =IF($M100=0,0,VLOOKUP($M100,Kengetal,6,FALSE)) -> 0 | T100: =IF($M100=0,0,VLOOKUP($M100,Kengetal,7,FALSE)) -> 0 | U100: =IF(M100="","",VLOOKUP(M100,Kengetal,14,FALSE)) -> 0 | W100: =(Q100+R100)*'1.0-Contractblad'!$L$37 -> 0 | X100: =VLOOKUP(E100,'1.1a-Jaarprijzen'!$B$35:$Q$57,16,FALSE)*K100 -> 0 | Z100: =K100*N100 -> 0 | AA100: =CONCATENATE(M100,"-",N100) -> nvt-0
D101: =VLOOKUP(E101,'1.1a-Jaarprijzen'!$B$13:$G$32,6,FALSE) -> 2 | E101: SBO Het Tangram | F101: bgg | G101: 0.20 | H101: toilet | I101: =IF($M101="",0,VLOOKUP($M101,Kengetal,4,FALSE)) -> sanitaire ruimte (toilet-/doucheruimte) | J101: steen | K101: 3.85 | M101: 4200 | N101: =VLOOKUP(M101,Kengetal,3,FALSE) -> 200 | O101: 1 | P101: 1 | Q101: =S101*K101*O101 -> 0 | R101: =T101*K101*P101 -> 0 | S101: =IF($M101=0,0,VLOOKUP($M101,Kengetal,6,FALSE)) -> 0 | T101: =IF($M101=0,0,VLOOKUP($M101,Kengetal,7,FALSE)) -> 0 | U101: =IF(M101="","",VLOOKUP(M101,Kengetal,14,FALSE)) -> S | W101: =(Q101+R101)*'1.0-Contractblad'!$L$37 -> 0 | X101: =VLOOKUP(E101,'1.1a-Jaarprijzen'!$B$35:$Q$57,16,FALSE)*K101 -> 0 | Z101: =K101*N101 -> 770 | AA101: =CONCATENATE(M101,"-",N101) -> 4200-200
D102: =VLOOKUP(E102,'1.1a-Jaarprijzen'!$B$13:$G$32,6,FALSE) -> 2 | E102: SBO Het Tangram | F102: bgg | G102: 0.21 | H102: spreekkamer | I102: =IF($M102="",0,VLOOKUP($M102,Kengetal,4,FALSE)) -> administratieve -, vergaderruimte | J102: lino | K102: 11.625 | M102: 1040 | N102: =VLOOKUP(M102,Kengetal,3,FALSE) -> 40 | O102: 1 | P102: 1 | Q102: =S102*K102*O102 -> 0 | R102: =T102*K102*P102 -> 0 | S102: =IF($M102=0,0,VLOOKUP($M102,Kengetal,6,FALSE)) -> 0 | T102: =IF($M102=0,0,VLOOKUP($M102,Kengetal,7,FALSE)) -> 0 | U102: =IF(M102="","",VLOOKUP(M102,Kengetal,14,FALSE)) -> V | W102: =(Q102+R102)*'1.0-Contractblad'!$L$37 -> 0 | X102: =VLOOKUP(E102,'1.1a-Jaarprijzen'!$B$35:$Q$57,16,FALSE)*K102 -> 0 | Z102: =K102*N102 -> 465 | AA102: =CONCATENATE(M102,"-",N102) -> 1040-40
D103: =VLOOKUP(E103,'1.1a-Jaarprijzen'!$B$13:$G$32,6,FALSE) -> 2 | E103: SBO Het Tangram | F103: bgg | G103: 0.22 | H103: hal | I103: =IF($M103="",0,VLOOKUP($M103,Kengetal,4,FALSE)) -> entree, gang, hal, repro | J103: lino | K103: 61.92 | M103: 3200 | N103: =VLOOKUP(M103,Kengetal,3,FALSE) -> 200 | O103: 1 | P103: 1 | Q103: =S103*K103*O103 -> 0 | R103: =T103*K103*P103 -> 0 | S103: =IF($M103=0,0,VLOOKUP($M103,Kengetal,6,FALSE)) -> 0 | T103: =IF($M103=0,0,VLOOKUP($M103,Kengetal,7,FALSE)) -> 0 | U103: =IF(M103="","",VLOOKUP(M103,Kengetal,14,FALSE)) -> V | W103: =(Q103+R103)*'1.0-Contractblad'!$L$37 -> 0 | X103: =VLOOKUP(E103,'1.1a-Jaarprijzen'!$B$35:$Q$57,16,FALSE)*K103 -> 0 | Z103: =K103*N103 -> 12384 | AA103: =CONCATENATE(M103,"-",N103) -> 3200-200
...

Sheet 1.3b Verrekening mutaties
C7: Mutatie nummer | D7: Mutatie datum | E7: PER-CEEL | F7: GEBOUW | G7: Eind datum berekening | H7: Te verekenen dagen | I7: Mutatiebedrag per jaar | J7: Verrekenbedrag
H8: =D8-G8 -> 0
H9: =G9-D9 -> 0
H10: =G10-D10 -> 0

Sheet 1. 3A-Mutaties
E4: ='1.2-Kengetal'!C4 -> Omschrijving blad | G4: Ruimte/-CAlCulAtiestAAt
E5: Naam opdrachtgever | G5: =Voorblad!$E$16 -> Stichting Opspoor
E6: Adres/plaats | G6: ='1.0-Contractblad'!$E$7 -> Purmerend e.o. | J6: Toelichting
E7: Besteknummer | G7: =Voorblad!$E$24 -> 1501-102-2026 | K7: = invulvelden
E8: Versie | G8: =Voorblad!$E$26 -> Calculatiemodule Opspoor Perceel 2 V1.1 | 01-jan-27 Wijziging bijgehouden
E9: Naam leverancier | G9: =Voorblad!$E$19 -> Naam organisatie
E10: Prijspeil | G10: =Voorblad!$E$22 -> 46388
B12: MUTATIE NUMMER | C12: MUTATIE DATUM | D12: PERCEEL | E12: LOCATTIE | F12: VERD. | G12: RUIMTENR | H12: RUIMTE OMSCHRIJVING (OPDRACHTGEVER) | I12: RUIMTE CATEGORIE | J12: VLOER SOORT | K12: M2 VLOER IO | L12: M2 VLOER NIO | M12: PROGR. CODE REGULIER | N12: PROGR. CODE NALOOP | O12: FREQ. NOTATIE | P12: FACTOR REGULIER | Q12: FACTOR PERIODIEK | R12: UREN P/JR REGULIER | S12: UREN P/JR PERIODIEK | T12: UREN P/JR NALOOP | U12: KENGETAL REGULIER | V12: KENGETAL PERIODIEK | W12: KENGETAL NALOOP | X12: VSR CODE | Y12: BIJZONDERHEDEN | Z12: € SCHOONMAAK | AA12: € GLASBEWASSING
B13: -
I14: =IF($M14="",0,VLOOKUP($M14,Kengetal,4,FALSE)) -> 0 | O14: =VLOOKUP(M14,Kengetal,3,FALSE)+VLOOKUP(N14,Kengetal,3,FALSE) -> 0 | P14: 1 | Q14: 1 | R14: =U14*K14*P14 -> 0 | S14: =V14*K14*Q14 -> 0 | T14: =W14*K14*P14 -> 0 | U14: =IF($M14=0,0,VLOOKUP($M14,Kengetal,6,FALSE)) -> 0 | V14: =IF($M14=0,0,VLOOKUP($M14,Kengetal,7,FALSE)) -> 0 | W14: =IF($N14=0,0,VLOOKUP($N14,Kengetal,6,FALSE)) -> 0 | X14: =IF(M14="","",VLOOKUP(M14,Kengetal,13,FALSE)) | AD14: =K14*P14 -> 0 | AE14: =CONCATENATE(M14,"-",P14) -> -1
I15: =IF($M15="",0,VLOOKUP($M15,Kengetal,4,FALSE)) -> 0 | O15: =VLOOKUP(M15,Kengetal,3,FALSE)+VLOOKUP(N15,Kengetal,3,FALSE) -> 0 | P15: 1 | Q15: 1 | R15: =U15*K15*P15 -> 0 | S15: =V15*K15*Q15 -> 0 | T15: =W15*K15*P15 -> 0 | U15: =IF($M15=0,0,VLOOKUP($M15,Kengetal,6,FALSE)) -> 0 | V15: =IF($M15=0,0,VLOOKUP($M15,Kengetal,7,FALSE)) -> 0 | W15: =IF($N15=0,0,VLOOKUP($N15,Kengetal,6,FALSE)) -> 0 | X15: =IF(M15="","",VLOOKUP(M15,Kengetal,13,FALSE))
I16: =IF($M16="",0,VLOOKUP($M16,Kengetal,4,FALSE)) -> 0 | O16: =VLOOKUP(M16,Kengetal,3,FALSE)+VLOOKUP(N16,Kengetal,3,FALSE) -> 0 | P16: 1 | Q16: 1 | R16: =U16*K16*P16 -> 0 | S16: =V16*K16*Q16 -> 0 | T16: =W16*K16*P16 -> 0 | U16: =IF($M16=0,0,VLOOKUP($M16,Kengetal,6,FALSE)) -> 0 | V16: =IF($M16=0,0,VLOOKUP($M16,Kengetal,7,FALSE)) -> 0 | W16: =IF($N16=0,0,VLOOKUP($N16,Kengetal,6,FALSE)) -> 0 | X16: =IF(M16="","",VLOOKUP(M16,Kengetal,13,FALSE))
I17: =IF($M17="",0,VLOOKUP($M17,Kengetal,4,FALSE)) -> 0 | O17: =VLOOKUP(M17,Kengetal,3,FALSE)+VLOOKUP(N17,Kengetal,3,FALSE) -> 0 | P17: 1 | Q17: 1 | R17: =U17*K17*P17 -> 0 | S17: =V17*K17*Q17 -> 0 | T17: =W17*K17*P17 -> 0 | U17: =IF($M17=0,0,VLOOKUP($M17,Kengetal,6,FALSE)) -> 0 | V17: =IF($M17=0,0,VLOOKUP($M17,Kengetal,7,FALSE)) -> 0 | W17: =IF($N17=0,0,VLOOKUP($N17,Kengetal,6,FALSE)) -> 0 | X17: =IF(M17="","",VLOOKUP(M17,Kengetal,13,FALSE))
I18: =IF($M18="",0,VLOOKUP($M18,Kengetal,4,FALSE)) -> 0 | O18: =VLOOKUP(M18,Kengetal,3,FALSE)+VLOOKUP(N18,Kengetal,3,FALSE) -> 0 | P18: 1 | Q18: 1 | R18: =U18*K18*P18 -> 0 | S18: =V18*K18*Q18 -> 0 | T18: =W18*K18*P18 -> 0 | U18: =IF($M18=0,0,VLOOKUP($M18,Kengetal,6,FALSE)) -> 0 | V18: =IF($M18=0,0,VLOOKUP($M18,Kengetal,7,FALSE)) -> 0 | W18: =IF($N18=0,0,VLOOKUP($N18,Kengetal,6,FALSE)) -> 0 | X18: =IF(M18="","",VLOOKUP(M18,Kengetal,13,FALSE))
I19: =IF($M19="",0,VLOOKUP($M19,Kengetal,4,FALSE)) -> 0 | O19: =VLOOKUP(M19,Kengetal,3,FALSE)+VLOOKUP(N19,Kengetal,3,FALSE) -> 0 | P19: 1 | Q19: 1 | R19: =U19*K19*P19 -> 0 | S19: =V19*K19*Q19 -> 0 | T19: =W19*K19*P19 -> 0 | U19: =IF($M19=0,0,VLOOKUP($M19,Kengetal,6,FALSE)) -> 0 | V19: =IF($M19=0,0,VLOOKUP($M19,Kengetal,7,FALSE)) -> 0 | W19: =IF($N19=0,0,VLOOKUP($N19,Kengetal,6,FALSE)) -> 0 | X19: =IF(M19="","",VLOOKUP(M19,Kengetal,13,FALSE))
I20: =IF($M20="",0,VLOOKUP($M20,Kengetal,4,FALSE)) -> 0 | O20: =VLOOKUP(M20,Kengetal,3,FALSE)+VLOOKUP(N20,Kengetal,3,FALSE) -> 0 | P20: 1 | Q20: 1 | R20: =U20*K20*P20 -> 0 | S20: =V20*K20*Q20 -> 0 | T20: =W20*K20*P20 -> 0 | U20: =IF($M20=0,0,VLOOKUP($M20,Kengetal,6,FALSE)) -> 0 | V20: =IF($M20=0,0,VLOOKUP($M20,Kengetal,7,FALSE)) -> 0 | W20: =IF($N20=0,0,VLOOKUP($N20,Kengetal,6,FALSE)) -> 0 | X20: =IF(M20="","",VLOOKUP(M20,Kengetal,13,FALSE))
I21: =IF($M21="",0,VLOOKUP($M21,Kengetal,4,FALSE)) -> 0 | O21: =VLOOKUP(M21,Kengetal,3,FALSE)+VLOOKUP(N21,Kengetal,3,FALSE) -> 0 | P21: 1 | Q21: 1 | R21: =U21*K21*P21 -> 0 | S21: =V21*K21*Q21 -> 0 | T21: =W21*K21*P21 -> 0 | U21: =IF($M21=0,0,VLOOKUP($M21,Kengetal,6,FALSE)) -> 0 | V21: =IF($M21=0,0,VLOOKUP($M21,Kengetal,7,FALSE)) -> 0 | W21: =IF($N21=0,0,VLOOKUP($N21,Kengetal,6,FALSE)) -> 0 | X21: =IF(M21="","",VLOOKUP(M21,Kengetal,13,FALSE))
I22: =IF($M22="",0,VLOOKUP($M22,Kengetal,4,FALSE)) -> 0 | O22: =VLOOKUP(M22,Kengetal,3,FALSE)+VLOOKUP(N22,Kengetal,3,FALSE) -> 0 | P22: 1 | Q22: 1 | R22: =U22*K22*P22 -> 0 | S22: =V22*K22*Q22 -> 0 | T22: =W22*K22*P22 -> 0 | U22: =IF($M22=0,0,VLOOKUP($M22,Kengetal,6,FALSE)) -> 0 | V22: =IF($M22=0,0,VLOOKUP($M22,Kengetal,7,FALSE)) -> 0 | W22: =IF($N22=0,0,VLOOKUP($N22,Kengetal,6,FALSE)) -> 0 | X22: =IF(M22="","",VLOOKUP(M22,Kengetal,13,FALSE))
I23: =IF($M23="",0,VLOOKUP($M23,Kengetal,4,FALSE)) -> 0 | O23: =VLOOKUP(M23,Kengetal,3,FALSE)+VLOOKUP(N23,Kengetal,3,FALSE) -> 0 | P23: 1 | Q23: 1 | R23: =U23*K23*P23 -> 0 | S23: =V23*K23*Q23 -> 0 | T23: =W23*K23*P23 -> 0 | U23: =IF($M23=0,0,VLOOKUP($M23,Kengetal,6,FALSE)) -> 0 | V23: =IF($M23=0,0,VLOOKUP($M23,Kengetal,7,FALSE)) -> 0 | W23: =IF($N23=0,0,VLOOKUP($N23,Kengetal,6,FALSE)) -> 0 | X23: =IF(M23="","",VLOOKUP(M23,Kengetal,13,FALSE))
I24: =IF($M24="",0,VLOOKUP($M24,Kengetal,4,FALSE)) -> 0 | O24: =VLOOKUP(M24,Kengetal,3,FALSE)+VLOOKUP(N24,Kengetal,3,FALSE) -> 0 | P24: 1 | Q24: 1 | R24: =U24*K24*P24 -> 0 | S24: =V24*K24*Q24 -> 0 | T24: =W24*K24*P24 -> 0 | U24: =IF($M24=0,0,VLOOKUP($M24,Kengetal,6,FALSE)) -> 0 | V24: =IF($M24=0,0,VLOOKUP($M24,Kengetal,7,FALSE)) -> 0 | W24: =IF($N24=0,0,VLOOKUP($N24,Kengetal,6,FALSE)) -> 0 | X24: =IF(M24="","",VLOOKUP(M24,Kengetal,13,FALSE))
I25: =IF($M25="",0,VLOOKUP($M25,Kengetal,4,FALSE)) -> 0 | O25: =VLOOKUP(M25,Kengetal,3,FALSE)+VLOOKUP(N25,Kengetal,3,FALSE) -> 0 | P25: 1 | Q25: 1 | R25: =U25*K25*P25 -> 0 | S25: =V25*K25*Q25 -> 0 | T25: =W25*K25*P25 -> 0 | U25: =IF($M25=0,0,VLOOKUP($M25,Kengetal,6,FALSE)) -> 0 | V25: =IF($M25=0,0,VLOOKUP($M25,Kengetal,7,FALSE)) -> 0 | W25: =IF($N25=0,0,VLOOKUP($N25,Kengetal,6,FALSE)) -> 0 | X25: =IF(M25="","",VLOOKUP(M25,Kengetal,13,FALSE)) | AC25: =K25*P25 -> 0 | AD25: =CONCATENATE(M25,"-",P25) -> -1
I26: =IF($M26="",0,VLOOKUP($M26,Kengetal,4,FALSE)) -> 0 | O26: =VLOOKUP(M26,Kengetal,3,FALSE)+VLOOKUP(N26,Kengetal,3,FALSE) -> 0 | P26: 1 | Q26: 1 | R26: =U26*K26*P26 -> 0 | S26: =V26*K26*Q26 -> 0 | T26: =W26*K26*P26 -> 0 | U26: =IF($M26=0,0,VLOOKUP($M26,Kengetal,6,FALSE)) -> 0 | V26: =IF($M26=0,0,VLOOKUP($M26,Kengetal,7,FALSE)) -> 0 | W26: =IF($N26=0,0,VLOOKUP($N26,Kengetal,6,FALSE)) -> 0 | X26: =IF(M26="","",VLOOKUP(M26,Kengetal,13,FALSE))
I27: =IF($M27="",0,VLOOKUP($M27,Kengetal,4,FALSE)) -> 0 | O27: =VLOOKUP(M27,Kengetal,3,FALSE)+VLOOKUP(N27,Kengetal,3,FALSE) -> 0 | P27: 1 | Q27: 1 | R27: =U27*K27*P27 -> 0 | S27: =V27*K27*Q27 -> 0 | T27: =W27*K27*P27 -> 0 | U27: =IF($M27=0,0,VLOOKUP($M27,Kengetal,6,FALSE)) -> 0 | V27: =IF($M27=0,0,VLOOKUP($M27,Kengetal,7,FALSE)) -> 0 | W27: =IF($N27=0,0,VLOOKUP($N27,Kengetal,6,FALSE)) -> 0 | X27: =IF(M27="","",VLOOKUP(M27,Kengetal,13,FALSE)) | AC27: =K27*O27 -> 0 | AD27: =CONCATENATE(M27,"-",O27) -> -0
I28: =IF($M28="",0,VLOOKUP($M28,Kengetal,4,FALSE)) -> 0 | O28: =VLOOKUP(M28,Kengetal,3,FALSE)+VLOOKUP(N28,Kengetal,3,FALSE) -> 0 | P28: 1 | Q28: 1 | R28: =U28*K28*P28 -> 0 | S28: =V28*K28*Q28 -> 0 | T28: =W28*K28*P28 -> 0 | U28: =IF($M28=0,0,VLOOKUP($M28,Kengetal,6,FALSE)) -> 0 | V28: =IF($M28=0,0,VLOOKUP($M28,Kengetal,7,FALSE)) -> 0 | W28: =IF($N28=0,0,VLOOKUP($N28,Kengetal,6,FALSE)) -> 0 | X28: =IF(M28="","",VLOOKUP(M28,Kengetal,13,FALSE)) | AC28: =K28*O28 -> 0 | AD28: =CONCATENATE(M28,"-",O28) -> -0
I29: =IF($M29="",0,VLOOKUP($M29,Kengetal,4,FALSE)) -> 0 | O29: =VLOOKUP(M29,Kengetal,3,FALSE)+VLOOKUP(N29,Kengetal,3,FALSE) -> 0 | P29: 1 | Q29: 1 | R29: =U29*K29*P29 -> 0 | S29: =V29*K29*Q29 -> 0 | T29: =W29*K29*P29 -> 0 | U29: =IF($M29=0,0,VLOOKUP($M29,Kengetal,6,FALSE)) -> 0 | V29: =IF($M29=0,0,VLOOKUP($M29,Kengetal,7,FALSE)) -> 0 | W29: =IF($N29=0,0,VLOOKUP($N29,Kengetal,6,FALSE)) -> 0 | X29: =IF(M29="","",VLOOKUP(M29,Kengetal,13,FALSE)) | AC29: =K29*O29 -> 0 | AD29: =CONCATENATE(M29,"-",O29) -> -0
I30: =IF($M30="",0,VLOOKUP($M30,Kengetal,4,FALSE)) -> 0 | O30: =VLOOKUP(M30,Kengetal,3,FALSE)+VLOOKUP(N30,Kengetal,3,FALSE) -> 0 | P30: 1 | Q30: 1 | R30: =U30*K30*P30 -> 0 | S30: =V30*K30*Q30 -> 0 | T30: =W30*K30*P30 -> 0 | U30: =IF($M30=0,0,VLOOKUP($M30,Kengetal,6,FALSE)) -> 0 | V30: =IF($M30=0,0,VLOOKUP($M30,Kengetal,7,FALSE)) -> 0 | W30: =IF($N30=0,0,VLOOKUP($N30,Kengetal,6,FALSE)) -> 0 | X30: =IF(M30="","",VLOOKUP(M30,Kengetal,13,FALSE)) | AC30: =K30*P30 -> 0 | AD30: =CONCATENATE(M30,"-",P30) -> -1
I31: =IF($M31="",0,VLOOKUP($M31,Kengetal,4,FALSE)) -> 0 | O31: =VLOOKUP(M31,Kengetal,3,FALSE)+VLOOKUP(N31,Kengetal,3,FALSE) -> 0 | P31: 1 | Q31: 1 | R31: =U31*K31*P31 -> 0 | S31: =V31*K31*Q31 -> 0 | T31: =W31*K31*P31 -> 0 | U31: =IF($M31=0,0,VLOOKUP($M31,Kengetal,6,FALSE)) -> 0 | V31: =IF($M31=0,0,VLOOKUP($M31,Kengetal,7,FALSE)) -> 0 | W31: =IF($N31=0,0,VLOOKUP($N31,Kengetal,6,FALSE)) -> 0 | X31: =IF(M31="","",VLOOKUP(M31,Kengetal,13,FALSE))
I32: =IF($M32="",0,VLOOKUP($M32,Kengetal,4,FALSE)) -> 0 | O32: =VLOOKUP(M32,Kengetal,3,FALSE)+VLOOKUP(N32,Kengetal,3,FALSE) -> 0 | P32: 1 | Q32: 1 | R32: =U32*K32*P32 -> 0 | S32: =V32*K32*Q32 -> 0 | T32: =W32*K32*P32 -> 0 | U32: =IF($M32=0,0,VLOOKUP($M32,Kengetal,6,FALSE)) -> 0 | V32: =IF($M32=0,0,VLOOKUP($M32,Kengetal,7,FALSE)) -> 0 | W32: =IF($N32=0,0,VLOOKUP($N32,Kengetal,6,FALSE)) -> 0 | X32: =IF(M32="","",VLOOKUP(M32,Kengetal,13,FALSE)) | AC32: =K32*O32 -> 0 | AD32: =CONCATENATE(M32,"-",O32) -> -0
I33: =IF($M33="",0,VLOOKUP($M33,Kengetal,4,FALSE)) -> 0 | O33: =VLOOKUP(M33,Kengetal,3,FALSE)+VLOOKUP(N33,Kengetal,3,FALSE) -> 0 | P33: 1 | Q33: 1 | R33: =U33*K33*P33 -> 0 | S33: =V33*K33*Q33 -> 0 | T33: =W33*K33*P33 -> 0 | U33: =IF($M33=0,0,VLOOKUP($M33,Kengetal,6,FALSE)) -> 0 | V33: =IF($M33=0,0,VLOOKUP($M33,Kengetal,7,FALSE)) -> 0 | W33: =IF($N33=0,0,VLOOKUP($N33,Kengetal,6,FALSE)) -> 0 | X33: =IF(M33="","",VLOOKUP(M33,Kengetal,13,FALSE)) | AC33: =K33*O33 -> 0 | AD33: =CONCATENATE(M33,"-",O33) -> -0
I34: =IF($M34="",0,VLOOKUP($M34,Kengetal,4,FALSE)) -> 0 | O34: =VLOOKUP(M34,Kengetal,3,FALSE)+VLOOKUP(N34,Kengetal,3,FALSE) -> 0 | P34: 1 | Q34: 1 | R34: =U34*K34*P34 -> 0 | S34: =V34*K34*Q34 -> 0 | T34: =W34*K34*P34 -> 0 | U34: =IF($M34=0,0,VLOOKUP($M34,Kengetal,6,FALSE)) -> 0 | V34: =IF($M34=0,0,VLOOKUP($M34,Kengetal,7,FALSE)) -> 0 | W34: =IF($N34=0,0,VLOOKUP($N34,Kengetal,6,FALSE)) -> 0 | X34: =IF(M34="","",VLOOKUP(M34,Kengetal,13,FALSE)) | AC34: =K34*O34 -> 0 | AD34: =CONCATENATE(M34,"-",O34) -> -0
I35: =IF($M35="",0,VLOOKUP($M35,Kengetal,4,FALSE)) -> 0 | O35: =VLOOKUP(M35,Kengetal,3,FALSE)+VLOOKUP(N35,Kengetal,3,FALSE) -> 0 | P35: 1 | Q35: 1 | R35: =U35*K35*P35 -> 0 | S35: =V35*K35*Q35 -> 0 | T35: =W35*K35*P35 -> 0 | U35: =IF($M35=0,0,VLOOKUP($M35,Kengetal,6,FALSE)) -> 0 | V35: =IF($M35=0,0,VLOOKUP($M35,Kengetal,7,FALSE)) -> 0 | W35: =IF($N35=0,0,VLOOKUP($N35,Kengetal,6,FALSE)) -> 0 | X35: =IF(M35="","",VLOOKUP(M35,Kengetal,13,FALSE)) | AC35: =K35*O35 -> 0 | AD35: =CONCATENATE(M35,"-",O35) -> -0
I36: =IF($M36="",0,VLOOKUP($M36,Kengetal,4,FALSE)) -> 0 | O36: =VLOOKUP(M36,Kengetal,3,FALSE)+VLOOKUP(N36,Kengetal,3,FALSE) -> 0 | P36: 1 | Q36: 1 | R36: =U36*K36*P36 -> 0 | S36: =V36*K36*Q36 -> 0 | T36: =W36*K36*P36 -> 0 | U36: =IF($M36=0,0,VLOOKUP($M36,Kengetal,6,FALSE)) -> 0 | V36: =IF($M36=0,0,VLOOKUP($M36,Kengetal,7,FALSE)) -> 0 | W36: =IF($N36=0,0,VLOOKUP($N36,Kengetal,6,FALSE)) -> 0 | X36: =IF(M36="","",VLOOKUP(M36,Kengetal,13,FALSE)) | AC36: =K36*O36 -> 0 | AD36: =CONCATENATE(M36,"-",O36) -> -0
AC37: =K37*O37 -> 0 | AD37: =CONCATENATE(M37,"-",O37) -> -

Sheet 1.4-Opbouw uurtarieven
E4: Omschrijving blad | F4: Premies en opslagen & tarieven voor schoonmaakonderhoud
E5: Naam opdrachtgever | F5: =Voorblad!$E$16 -> Stichting Opspoor
B6: = invulvelden | E6: Adres/plaats | F6: ='1.0-Contractblad'!$E$7 -> Purmerend e.o.
B7: = keuze velden * | E7: Besteknummer | F7: =Voorblad!$E$24 -> 1501-102-2026 | N7: * Vul alleen de invulvelden in als er een keuzeveld is gekozen. | T7: * Vul alleen de invulvelden in als er een keuzeveld is gekozen.
B8: = formule velden 'niet wijzigen' | E8: Versie | F8: =Voorblad!$E$26 -> Calculatiemodule Opspoor Perceel 2 V1.1 | 01-jan-27 Wijziging bijgehouden
B9: = vaste waarde 'niet wijzigen' | E9: Naam leverancier | F9: =Voorblad!$E$19 -> Naam organisatie
E10: Prijspeil | F10: =Voorblad!$E$22 -> 46388
N11: SCHOONMAAKMEDEWERKER | T11: TOEZICHTMEDEWERKER | X11: GLAZENWASSER
N13: Selecteer categorie medewerker | O13: Selecteer categorie medewerker | P13: Selecteer categorie medewerker | R13: Selecteer categorie medewerker | T13: Selecteer categorie medewerker | U13: Selecteer categorie medewerker | V13: Selecteer categorie medewerker | X13: Selecteer categorie medewerker | Y13: Selecteer categorie medewerker
N15: Selecteer het aantal dienstjaren | O15: Selecteer het aantal dienstjaren | P15: Selecteer het aantal dienstjaren | R15: Selecteer het aantal dienstjaren | T15: Selecteer het aantal dienstjaren | U15: Selecteer het aantal dienstjaren | V15: Selecteer het aantal dienstjaren | X15: Selecteer het aantal dienstjaren | Y15: Selecteer het aantal dienstjaren
M16: Selecteer tarief uitvoerend | N16: =IF(N17=0,"Selecteer cel",CONCATENATE(N13," Dienstjaar ",N15)) -> Selecteer cel | O16: =IF(O17=0,"Selecteer cel",CONCATENATE(O13," Dienstjaar ",O15)) -> Selecteer cel | P16: =IF(P17=0,"Selecteer cel",CONCATENATE(P13," Dienstjaar ",P15)) -> Selecteer cel | R16: =IF(R17=0,"Selecteer cel",CONCATENATE(R13," Dienstjaar ",R15)) -> Selecteer cel | S16: Selecteer tarief toezicht | T16: =IF(T17=0,"Selecteer cel",CONCATENATE(T13," Dienstjaar ",T15)) -> Selecteer cel | U16: =IF(U17=0,"Selecteer cel",CONCATENATE(U13," Dienstjaar ",U15)) -> Selecteer cel | V16: =IF(V17=0,"Selecteer cel",CONCATENATE(V13," Dienstjaar ",V15)) -> Selecteer cel | W16: Selecteer tarief glazenwasser | X16: =IF(X17=0,"Selecteer cel",CONCATENATE(X13," Dienstjaar ",X15)) -> Selecteer cel | Y16: =IF(Y17=0,"Selecteer cel",CONCATENATE(Y13," Dienstjaar ",Y15)) -> Selecteer cel
E17: SOCIALE VERZEKERINGEN | G17: Project gemiddelde
G18: =IF(F18="x",F82,0) -> 0 | N18: 0
E19: WIA Basispremie
E20: WGA sectorpremie | M20: Percentages
E21: ZW-flex | H21: + | L21: Specialisten toeslag (indien van toepassing) | R21: 0 | X21: 0 | Y21: 0
F22: Totaal premie Whk | G22: =SUM(G19:G21) -> 0 | L22: BHV toeslag (indien van toepassing) | R22: 0 | X22: 0 | Y22: 0
L23: Overname kosten volgens Bijlage overname personeel | R23: 0 | X23: 0 | Y23: 0
L24: Eénmalige uitkering | M24: 0.05 | N24: =N17*$M$24 -> 0 | O24: =O17*$M$24 -> 0 | P24: =P17*$M$24 -> 0 | R24: =R17*$M$24 -> 0 | T24: =T17*$M$24 -> 0 | U24: =U17*$M$24 -> 0 | V24: =V17*$M$24 -> 0 | X24: =X17*$M$24 -> 0 | Y24: =Y17*$M$24 -> 0
E25: Werkeloosheidswqet Awf
E26: Zorgverzekeringswet (Zvw)
E27: Transitiekosten | L27: Bruto uurloon | N27: =SUM(N17:N25) -> 0 | O27: =SUM(O17:O25) -> 0 | P27: =SUM(P17:P25) -> 0 | R27: =SUM(R17:R25) -> 0 | T27: =SUM(T17:T25) -> 0 | U27: =SUM(U17:U25) -> 0 | V27: =SUM(V17:V25) -> 0 | X27: =SUM(X17:X25) -> 0 | Y27: =SUM(Y17:Y25) -> 0
E28: OP/NP pensioen | G28: =G43 -> 0
E29: Kinderopvang | L29: Vakantietoeslag | M29: 0.08 | N29: =N27*$M$29 -> 0 | O29: =O27*$M$29 -> 0 | P29: =P27*$M$29 -> 0 | R29: =R27*$M$29 -> 0 | T29: =T27*$M$29 -> 0 | U29: =U27*$M$29 -> 0 | V29: =V27*$M$29 -> 0 | X29: =X27*$M$29 -> 0 | Y29: =Y27*$M$29 -> 0
E30: RAS-heffing
L31: Bruto uurloon inclusief toeslagen | N31: =SUM(N27:N29) -> 0 | O31: =SUM(O27:O29) -> 0 | P31: =SUM(P27:P29) -> 0 | R31: =SUM(R27:R29) -> 0 | T31: =SUM(T27:T29) -> 0 | U31: =SUM(U27:U29) -> 0 | V31: =SUM(V27:V29) -> 0 | X31: =SUM(X27:X29) -> 0 | Y31: =SUM(Y27:Y29) -> 0
H32: +
F33: Totaal premies sociale verzekeringen | G33: =SUM(G22:G32) -> 0 | L33: SV-loon grondslag voor berekening sociale verzekeringen | N33: =N31*0.995 -> 0 | O33: =O31*0.995 -> 0 | P33: =P31*0.995 -> 0 | R33: =R31*0.995 -> 0 | T33: =T31*0.995 -> 0 | U33: =U31*0.995 -> 0 | V33: =V31*0.995 -> 0 | X33: =X31*0.995 -> 0 | Y33: =Y31*0.995 -> 0
L34: Premies Sociale Verzekeringen | M34: =G33 -> 0 | N34: =IF(N33=0,0,N33*'1.4-Opbouw uurtarieven'!$G$33) -> 0 | O34: =IF(O33=0,0,O33*'1.4-Opbouw uurtarieven'!$G$33) -> 0 | P34: =IF(P33=0,0,P33*'1.4-Opbouw uurtarieven'!$G$33) -> 0 | R34: =IF(R33=0,0,R33*'1.4-Opbouw uurtarieven'!$G$33) -> 0 | T34: =IF(T33=0,0,T33*'1.4-Opbouw uurtarieven'!$G$33) -> 0 | U34: =IF(U33=0,0,U33*'1.4-Opbouw uurtarieven'!$G$33) -> 0 | V34: =IF(V33=0,0,V33*'1.4-Opbouw uurtarieven'!$G$33) -> 0 | X34: =IF(X33=0,0,X33*'1.4-Opbouw uurtarieven'!$G$33) -> 0 | Y34: =IF(Y33=0,0,Y33*'1.4-Opbouw uurtarieven'!$G$33) -> 0
E35: SOCIALE VERZEKERINGEN - OUDERDOMS PENSIOEN
L36: Subtotaal loonkosten per uur inclusief sociale verzekeringen | N36: =N34+N31 -> 0 | O36: =O34+O31 -> 0 | P36: =P34+P31 -> 0 | R36: =R34+R31 -> 0 | T36: =T34+T31 -> 0 | U36: =U34+U31 -> 0 | V36: =V34+V31 -> 0 | X36: =X34+X31 -> 0 | Y36: =Y34+Y31 -> 0
G37: werkgeversdeel
E38: SV uurloon inclusief toeslagen | G38: =O78 -> 0 | L38: Opslag niet werkbare dagen | M38: =$G$63 -> 0 | N38: =N36*'1.4-Opbouw uurtarieven'!$G$63 -> 0 | O38: =O36*'1.4-Opbouw uurtarieven'!$G$63 -> 0 | P38: =P36*'1.4-Opbouw uurtarieven'!$G$63 -> 0 | R38: =R36*'1.4-Opbouw uurtarieven'!$G$63 -> 0 | T38: =T36*'1.4-Opbouw uurtarieven'!$G$63 -> 0 | U38: =U36*'1.4-Opbouw uurtarieven'!$G$63 -> 0 | V38: =V36*'1.4-Opbouw uurtarieven'!$G$63 -> 0 | X38: =X36*'1.4-Opbouw uurtarieven'!$G$63 -> 0 | Y38: =Y36*'1.4-Opbouw uurtarieven'!$G$63 -> 0
E39: Franchise OP-premie per uur | H39: - | L39: Totaal loonkosten per uur | N39: =SUM(N36:N38) -> 0 | O39: =SUM(O36:O38) -> 0 | P39: =SUM(P36:P38) -> 0 | R39: =SUM(R36:R38) -> 0 | T39: =SUM(T36:T38) -> 0 | U39: =SUM(U36:U38) -> 0 | V39: =SUM(V36:V38) -> 0 | X39: =SUM(X36:X38) -> 0 | Y39: =SUM(Y36:Y38) -> 0
E40: Grondslag loon voor berekening OP premie | G40: =G38-G39 -> 0
E41: Premie Ouderdomspensioen (OP) | L41: Materiaal/- en middelen
L42: Werkkleding en uitrusting
F43: Effectieve OP premie | G43: =IF(G38=0,0,(G40/G38)*G41) -> 0 | I43: =IF(I38=0,0,(I40/I38)*I41) -> 0
L44: Totaal directe kosten | N44: =SUM(N39:N42) -> 0 | O44: =SUM(O39:O42) -> 0 | P44: =SUM(P39:P42) -> 0 | R44: =SUM(R39:R42) -> 0 | T44: =SUM(T39:T42) -> 0 | U44: =SUM(U39:U42) -> 0 | V44: =SUM(V39:V42) -> 0 | X44: =SUM(X39:X42) -> 0 | Y44: =SUM(Y39:Y42) -> 0
L46: Indirect toezicht
E47: BEREKENING WERKBARE DAGEN | L47: Managementkosten
F48: Aantallen | L48: P.Z. kosten
E49: Aantal kalenderdagen | L49: Opleiding
E50: Weekenddagen | L50: Administratiekosten
E51: Werkdagen per jaar | G51: =F49-F50 -> 0 | L51: Huisvestingskosten
L52: Reiskosten
E53: Nat. feestdagen, kort verzuim, bijz. CAO | L53: Autokosten
E54: Vakantiedagen
E55: Ziektedagen | L55: Totaal indirecte kosten | N55: =SUM(N44:N54) -> 0 | O55: =SUM(O44:O54) -> 0 | P55: =SUM(P44:P54) -> 0 | R55: =SUM(R44:R54) -> 0 | T55: =SUM(T44:T54) -> 0 | U55: =SUM(U44:U54) -> 0 | V55: =SUM(V44:V54) -> 0 | X55: =SUM(X44:X54) -> 0 | Y55: =SUM(Y44:Y54) -> 0
E56: Vorstverlet
E57: Werkbare dagen per jaar | G57: =G51-F53-F54-F55 -> 0 | L57: Risico en winst | N57: =N55*$M$57 -> 0 | O57: =O55*$M$57 -> 0 | P57: =P55*$M$57 -> 0 | R57: =R55*$M$57 -> 0 | T57: =T55*$M$57 -> 0 | U57: =U55*$M$57 -> 0 | V57: =V55*$M$57 -> 0 | X57: =X55*$M$57 -> 0 | Y57: =Y55*$M$57 -> 0
E59: Nat. feestdagen, kort verzuim, bijz CAO | F59: =IF(F53=0,0,F53/$G$57) -> 0 | L59: Totaal eindtarief normale werktijden [06.00-21.30 uur] | N59: =N57+N55 -> 0 | O59: =O57+O55 -> 0 | P59: =P57+P55 -> 0 | R59: =R57+R55 -> 0 | T59: =T57+T55 -> 0 | U59: =U57+U55 -> 0 | V59: =V57+V55 -> 0 | X59: =X57+X55 -> 0 | Y59: =Y57+Y55 -> 0
E60: Vakantiedagen | F60: =IF(F54=0,0,F54/$G$57) -> 0
E61: Kosten ziektedagen | F61: =IF(F55=0,0,F55/$G$57) -> 0 | L61: Totaal eindtarief weekenden [incl. 30% toeslag] | N61: =N$39*30%+N59 -> 0 | O61: =O$39*30%+O59 -> 0 | P61: =P$39*30%+P59 -> 0 | R61: =R$39*30%+R59 -> 0 | T61: =T$39*30%+T59 -> 0 | U61: =U$39*30%+U59 -> 0 | V61: =V$39*30%+V59 -> 0 | X61: =X$39*30%+X59 -> 0 | Y61: =Y$39*30%+Y59 -> 0
E62: Vorstverlet | F62: =IF(F56=0,0,F56/$G$57) -> 0
F63: Opslag niet werkbare dagen in procenten | G63: =SUM(F59:F61) -> 0 | L63: Totaal eindtarief weekenden [incl. 50% toeslag] | N63: =N$39*50%+N59 -> 0 | O63: =O$39*50%+O59 -> 0 | P63: =P$39*50%+P59 -> 0 | R63: =R$39*50%+R59 -> 0 | T63: =T$39*50%+T59 -> 0 | U63: =U$39*50%+U59 -> 0 | V63: =V$39*50%+V59 -> 0 | X63: =X$39*50%+X59 -> 0 | Y63: =Y$39*50%+Y59 -> 0
L65: Totaal eindtarief feestdagen [incl. 150% toeslag] | N65: =N$39*150%+N59 -> 0 | O65: =O$39*150%+O59 -> 0 | P65: =P$39*150%+P59 -> 0 | R65: =R$39*150%+R59 -> 0 | T65: =T$39*150%+T59 -> 0 | U65: =U$39*150%+U59 -> 0 | V65: =V$39*150%+V59 -> 0 | X65: =X$39*150%+X59 -> 0 | Y65: =Y$39*150%+Y59 -> 0
L68: CATEGORIE MEDEWERKER | N68: UREN PER JAAR | O68: SV GRONDSLAG | P68: TOTAAL SV GRONDSLAG
L69: ='1.0-Contractblad'!D20 -> Selecteer tarief uitvoerend | N69: ='1.0-Contractblad'!H20 -> 0 | O69: =N33 -> 0 | P69: =N69*O69 -> 0
L70: ='1.0-Contractblad'!D22 -> Selecteer tarief uitvoerend | N70: ='1.0-Contractblad'!H22 -> 0 | O70: =O33 -> 0 | P70: =N70*O70 -> 0
L71: ='1.0-Contractblad'!D24 -> Selecteer tarief uitvoerend | N71: ='1.0-Contractblad'!H24 -> 0 | O71: =P33 -> 0 | P71: =N71*O71 -> 0
L72: ='1.0-Contractblad'!D23 -> 0
L73: ='1.0-Contractblad'!D30 -> Selecteer tarief toezicht | N73: ='1.0-Contractblad'!H30 -> 0 | O73: =T33 -> 0 | P73: =N73*O73 -> 0
L74: ='1.0-Contractblad'!D32 -> Selecteer tarief toezicht | N74: ='1.0-Contractblad'!H32 -> 0 | O74: =U33 -> 0 | P74: =N74*O74 -> 0
L75: ='1.0-Contractblad'!D34 -> Selecteer tarief toezicht | N75: ='1.0-Contractblad'!H34 -> 0 | O75: =V33 -> 0 | P75: =N75*O75 -> 0
N76: =SUM(N69:N75) -> 0 | P76: =SUM(P69:P75) -> 0
N78: GEMIDDELD SV-GRONDSLAG | O78: =IF(P76=0,0,P76/N76) -> 0
K81: Selecteer categorie medewerker
E83: Selecteer omvang van uw organisatie | K83: Lngr 1 : Vakvolwassen
E84: Aof-kleine werkgever | F84: 1 | G84: 0.0618 | K84: Lngr 2 : Vakvolwassen
E85: Aof-grotere werkgever | F85: 2 | G85: 0.0749 | K85: Lngr 3 : Vakvolwassen
K86: Lngr 4 : Vakvolwassen
K87: Lngr 5 : Vakvolwassen
K88: Lngr 6 : Vakvolwassen
K89: Lngr 1 : 17 jaar en jonger
K90: Lngr 2 : 17 jaar en jonger
K91: Lngr 3 : 17 jaar en jonger
K92: Lngr 4 : 17 jaar en jonger
K93: Lngr 5 : 17 jaar en jonger
K94: Lngr 6 : 17 jaar en jonger
K95: Lngr 1 : 18 jaar
K96: Lngr 2 : 18 jaar
K97: Lngr 3 : 18 jaar
... K120: Selecteer het aantal dienstjaren
K121: 1
K122: 2
K123: 3
K124: 4

Sheet 1.6-Machine-investeringskosten
B3: Toelichting
C4: = invulvelden | E4: Omschrijving blad | F4: Machine investeringkosten
C5: = keuze velden * | E5: Naam opdrachtgever | F5: =Voorblad!$E$16 -> Stichting Opspoor
C6: = formule velden 'niet wijzigen' | E6: Adres/plaats | F6: ='1.0-Contractblad'!$E$7 -> Purmerend e.o.
C7: = vaste waarde 'niet wijzigen' | E7: Besteknummer | F7: =Voorblad!$E$24 -> 1501-102-2026
E8: Versie | F8: =Voorblad!$E$26 -> Calculatiemodule Opspoor Perceel 2 V1.1 | 01-jan-27 Wijziging bijgehouden
E9: Naam leverancier | F9: =Voorblad!$E$19 -> Naam organisatie
E10: Prijspeil | F10: =Voorblad!$E$22 -> 46388
E13: Machine
E14: Omschrijving
E16: Kosten bij koop (excl. btw) | H16: Kostprijs
E17: Catalogusprijs
E18: Korting
E19: Netto aanschafprijs | H19: =H17-H18 -> 0
E20: Afschrijvingstermijn in jaren | J20: =IF(H20>4,"Afschrijving maximaal 4 jaar!",0) -> 0
E21: Restwaarde
E23: Kosten bij koop per jaar
E24: Afschrijvingskosten per jaar | H24: =IF(H20=0,0,(H19-H21)/H20) -> 0
E25: Onderhoudskosten per jaar*
E26: Renteverlies per jaar | F26: % | H26: =G26*H19 -> 0
E27: Verzekeringskosten per jaar | F27: % | H27: =G27*H19 -> 0
E29: Totaal kosten bij koop per jaar per machine | H29: =SUM(H24:H28) -> 0
F31: Inzet van het aantal machines [stuks] | H31: =G31*H29 -> 0
E33: Machine
E34: Omschrijving
E36: Kosten bij koop (excl. btw) | H36: Kostprijs
E37: Catalogusprijs
E38: Korting | H38: 0
E39: Netto aanschafprijs | H39: =H37-H38 -> 0
E40: Afschrijvingstermijn in jaren | J40: =IF(H40>4,"Afschrijving maximaal 4 jaar!",0) -> 0
E41: Restwaarde | H41: 0
E43: Kosten bij koop per jaar
E44: Afschrijvingskosten per jaar | H44: =IF(H40=0,0,(H39-H41)/H40) -> 0
E45: Onderhoudskosten per jaar*
E46: Renteverlies per jaar | F46: % | H46: =G46*H39 -> 0
E47: Verzekeringskosten per jaar | F47: % | H47: =G47*H39 -> 0
E49: Totaal kosten bij koop per jaar per machine | H49: =SUM(H44:H48) -> 0
F51: Inzet van het aantal machines [stuks] | H51: =G51*H49 -> 0
E53: Machine
E54: Omschrijving
E56: Kosten bij koop (excl. btw) | H56: Kostprijs
E57: Catalogusprijs
E58: Korting | H58: 0
E59: Netto aanschafprijs | H59: =H57-H58 -> 0
E60: Afschrijvingstermijn in jaren | J60: =IF(H60>4,"Afschrijving maximaal 4 jaar!",0) -> 0
E61: Restwaarde | H61: 0
E63: Kosten bij koop per jaar
E64: Afschrijvingskosten per jaar | H64: =IF(H60=0,0,(H59-H61)/H60) -> 0
E65: Onderhoudskosten per jaar*
E66: Renteverlies per jaar | F66: % | H66: =G66*H59 -> 0
E67: Verzekeringskosten per jaar | F67: % | H67: =G67*H59 -> 0
E69: Totaal kosten bij koop per jaar per machine | H69: =SUM(H64:H68) -> 0
F71: Inzet van het aantal machines [stuks] | H71: =G71*H69 -> 0
E73: Machine
E74: Omschrijving
E76: Kosten bij koop (excl. btw) | H76: Kostprijs
E77: Catalogusprijs
E78: Korting | H78: 0
E79: Netto aanschafprijs | H79: =H77-H78 -> 0
E80: Afschrijvingstermijn in jaren | J80: =IF(H80>4,"Afschrijving maximaal 4 jaar!",0) -> 0
E81: Restwaarde | H81: 0
E83: Kosten bij koop per jaar
E84: Afschrijvingskosten per jaar | H84: =IF(H80=0,0,(H79-H81)/H80) -> 0
E85: Onderhoudskosten per jaar* | H85: 0
E86: Renteverlies per jaar | F86: % | G86: 0 | H86: =G86*H79 -> 0
E87: Verzekeringskosten per jaar | F87: % | G87: 0 | H87: =G87*H79 -> 0
E89: Totaal kosten bij koop per jaar per machine | H89: =SUM(H84:H88) -> 0
F91: Inzet van het aantal machines [stuks] | H91: =G91*H89 -> 0
E94: Totale kosten investering machines | H94: =(H91+H71+H51+H31) -> 0
E97: Locatie | F97: Perentage inzet per locatieo.b.v. verhouding inzewt productie-uren | H97: Bedrag reservering per jaar/locatie
E99: ='1.1a-Jaarprijzen'!#REF! -> #REF! | H99: =F99*$H$94 -> 0
E100: ='1.1a-Jaarprijzen'!#REF! -> #REF! | H100: =F100*$H$94 -> 0
E101: ='1.1a-Jaarprijzen'!#REF! -> #REF! | H101: =F101*$H$94 -> 0
E102: ='1.1a-Jaarprijzen'!#REF! -> #REF! | H102: =F102*$H$94 -> 0
E103: ='1.1a-Jaarprijzen'!#REF! -> #REF! | H103: =F103*$H$94 -> 0
E104: ='1.1a-Jaarprijzen'!#REF! -> #REF! | H104: =F104*$H$94 -> 0
E105: ='1.1a-Jaarprijzen'!#REF! -> #REF! | H105: =F105*$H$94 -> 0
E106: ='1.1a-Jaarprijzen'!#REF! -> #REF! | H106: =F106*$H$94 -> 0
E107: ='1.1a-Jaarprijzen'!#REF! -> #REF! | H107: =F107*$H$94 -> 0
E108: ='1.1a-Jaarprijzen'!#REF! -> #REF! | H108: =F108*$H$94 -> 0
E109: ='1.1a-Jaarprijzen'!#REF! -> #REF! | H109: =F109*$H$94 -> 0
E110: ='1.1a-Jaarprijzen'!#REF! -> #REF! | H110: =F110*$H$94 -> 0
... E114: ='1.1a-Jaarprijzen'!#REF! -> #REF! | H114: =F114*$H$94 -> 0
E115: ='1.1a-Jaarprijzen'!B13 -> OBS Willem Eggert | H115: =F115*$H$94 -> 0
E116: ='1.1a-Jaarprijzen'!B14 -> SBO Het Tangram | H116: =F116*$H$94 -> 0
E117: ='1.1a-Jaarprijzen'!B15 -> OBS De Fuut | H117: =F117*$H$94 -> 0
E118: ='1.1a-Jaarprijzen'!B16 -> OCBS De Fuut | H118: =F118*$H$94 -> 0
E119: ='1.1a-Jaarprijzen'!B17 -> OBS De Havenrakkers | H119: =F119*$H$94 -> 0
E120: ='1.1a-Jaarprijzen'!B18 -> OBS De Overhaal | H120: =F120*$H$94 -> 0
E121: ='1.1a-Jaarprijzen'!B19 -> OBS De Gouwzee | H121: =F121*$H$94 -> 0
E122: ='1.1a-Jaarprijzen'!B20 -> OBS Het Parelhof | H122: =F122*$H$94 -> 0
E123: ='1.1a-Jaarprijzen'!B21 -> OBS Delta Beethoven | H123: =F123*$H$94 -> 0
E124: ='1.1a-Jaarprijzen'!B22 -> OBS Noorderlicht | H124: =F124*$H$94 -> 0
E125: ='1.1a-Jaarprijzen'!B23 -> OBS De Delta | H125: =F125*$H$94 -> 0
E126: ='1.1a-Jaarprijzen'!B24 -> Kindcentrum Wheermolen | H126: =F126*$H$94 -> 0
... E132: ='1.1a-Jaarprijzen'!B30 -> Kinderdagverblijf Anansi | H132: =F132*$H$94 -> 0
E133: ='1.1a-Jaarprijzen'!#REF! -> #REF! | H133: =F133*$H$94 -> 0
E134: ='1.1a-Jaarprijzen'!#REF! -> #REF! | H134: =F134*$H$94 -> 0
E135: ='1.1a-Jaarprijzen'!#REF! -> #REF! | H135: =F135*$H$94 -> 0
E136: ='1.1a-Jaarprijzen'!#REF! -> #REF! | H136: =F136*$H$94 -> 0
...

Sheet 1.7-Afroepprijs
B4: Toelichting | F4: Omschrijving blad | G4: Afroepprijzen
C5: = invulvelden | F5: Naam opdrachtgever | G5: =Voorblad!$E$16 -> Stichting Opspoor
C6: = keuze velden * | F6: Adres/plaats | G6: ='1.0-Contractblad'!$E$7 -> Purmerend e.o.
C7: = formule velden 'niet wijzigen' | F7: Besteknummer | G7: =Voorblad!$E$24 -> 1501-102-2026
C8: = vaste waarde 'niet wijzigen' | F8: Versie | G8: =Voorblad!$E$26 -> Calculatiemodule Opspoor Perceel 2 V1.1 | 01-jan-27 Wijziging bijgehouden
F9: Naam leverancier | G9: =Voorblad!$E$19 -> Naam organisatie
F10: Prijspeil | G10: =Voorblad!$E$22 -> 46388
F11: Opmerking | G11: Uitvoering normale werktijden: maandag t/m vrijdag [06.00 en 21.30 uur]
F16: Prijsvorming Extra Vloerenonderhoud (inclusief middelen/materialen en uit-/inruimen van het meubilair)
I18: Prijs in € per m2 in staffelvorm
I19: 1 - 250 | J19: 251 - 500 | K19: 501 - 1.000 | L19: < 1.000 | N19: < 100 m2 | O19: 101-250 m2 | P19: 251-500 m2 | Q19: 501-1.000 m2 | R19: > 1.000 m2
F21: Topcoating
F22: Zie voor handeling 'Bijlage D, tabblad aanwiijzingen'
F24: Recoating
F25: Zie voor handeling 'Bijlage D, tabblad aanwiijzingen'
F27: Linoleum/Marmoleum
F28: Strippen en conserveren
F30: Linoleum/Marmoleum
F31: Sprayen en opwrijven (full-sprayen)
F33: Linoleum/Marmoleum
F34: Spotsprayen en opwrijven
F36: Linoleum/PVC/steen/gietvloer
F37: Schrobben (handmatig)
... F61: Prijsvorming extra werkzaamheden (inclusief middelen/materialen)
I64: Prijs in € per stuk in staffelvorm
F65: Computer- en randapparatuur | I65: 1 t/m 25 | J65: 26 t/m 50 | K65: 51 t/m 100 | L65: > 100
F66: Monitor
F67: Stof en vlekvrij maken, vochtig reinigen
F69: Toestenbord + muis (in- en uitwendig)
F70: Stof en vlekvrij maken, vochtig reinigen
I74: Prijs in € per stuk in staffelvorm | N74: Prijs in € per stuk in staffelvorm
F75: Reiging meubilair | I75: 1 t/m 25 | J75: 26 t/m 50 | K75: 51 t/m 100 | L75: > 100 | N75: 1 t/m 25 | O75: 26 t/m 50 | P75: 51 t/m 100 | Q75: > 100
F76: Gestoffeerde stoelen
F77: Koolzuurreiniging
K79: Prijs in € | L79: Prijs in € | P79: Prijs in € | Q79: Prijs in €
F80: Zonwering | G80: Handeling | K80: per meter | L80: per m2 | P80: per meter | Q80: per m2
F81: Vertikale lamellen (textiel) | G81: Stofzuigen
F82: Vertikale lamellen (kunststof/ aluminium) | G82: Afsponzen
F83: Gordijnen | G83: Reinigen, inclusief afhalen en ophangen
F84: Vitrage | G84: Reinigen, inclusief afhalen en ophangen
F87: Reiging meubilair | I87: Aantal stuks | J87: Freq | K87: Prijs per stuk | L87: > 100 | N87: Aantal stuks | O87: Freq | P87: Prijs per stuk | Q87: > 100
F88: Reinigen bureaustoelen
F89: Burostoel gestoffeerd injectie-extractie | I89: 400 | J89: 1 | L89: =K89*J89*I89 -> 0 | N89: 400 | O89: 1
F92: Reinigen koelkasten | I92: Aantal stuks | J92: Freq | K92: Prijs per stuk | L92: Totaal kosten | N92: Aantal stuks | O92: Freq | P92: Prijs per stuk | Q92: Totaal kosten
F93: Eenmaal per kwartaal reinigen van de binnen-/ en buitenzijde koelkasten (excl. vriesruimten) en verwijderen van artikelen over houdbaarheidsdatum | I93: 4 | J93: 4 | L93: =K93*J93*I93 -> 0
F97: Reinigen magnetron | I97: Aantal stuks | J97: Freq | K97: Prijs per stuk | L97: Totaal kosten | N97: Aantal stuks | O97: Freq | P97: Prijs per stuk | Q97: Totaal kosten
F98: Het in-/ en uitwendig reinigen | I98: 1 | J98: 12 | L98: =K98*J98*I98 -> 0
F103: Reinigen vaatwasser | I103: Aantal stuks | J103: Freq | K103: Prijs per stuk | L103: Totaal kosten | N103: Aantal stuks | O103: Freq | P103: Prijs per stuk | Q103: Totaal kosten
F104: Het in-/ en uitwendig reinigen | I104: 1 | J104: 12 | L104: =K104*J104*I104 -> 0
F107: Prijsvorming Reinigen buitenterrein (inclusief middelen/materialen)
I109: Prijs in € per m2 in staffelvorm
I110: 1 - 250 | J110: 251 - 500 | K110: 501 - 1.000 | L110: < 1.000
F111: Buitenterrein (speelplein, fietsenstalling, etc.)
F112: Machinaal vegen
F114: Buitenterrein (speelplein, fietsenstalling, etc.)
F115: Handmatig vegen
F117: Buitenterrein (speelplein, fietsenstalling, etc.)
F118: Hogedruk reinigen
F120: Buitenterrein (speelplein, fietsenstalling, etc.)
F121: Kauwgum verwijderen
F124: Regie- uurtarieven (volgens matrix CAO)
F128: Indien buiten genoemde dagen en uren regiewerkzaamheden verricht dienen te worden is aannemer gerechtigd de toeslagpercentages, zoals vastgelegd in artikel 18 van de CAO voor Schoonmaak- en Glazenwassersbedrijf, te berekenen. De toeslag dient steeds over het basis CAO-uurloon, zoals vermeld in invuldocument 5-Opbouw uurtarieven te worden berekend.
F132: Tariefgroep | H132: Werktijden
F133: Medewerk(st)er algemeen schoonmaak onderhoud | H133: Ma/ vrij tussen 06.00 en 21.30 uur
F134: Specialist - algemeen | H134: Ma/ vrij tussen 06.00 en 21.30 uur
F135: Medewerk(st)er algemeen schoonmaak onderhoud | H135: Za/zo tussen 06.00 en 21.30 uur
F136: Specialist - algemeen | H136: Za/zo tussen 06.00 en 21.30 uur
F137: Medewerk(st)er algemeen schoonmaak onderhoud | H137: Feestdag tussen 06.00 en 21.30 uur
F138: Specialist - algemeen | H138: Feestdag tussen 06.00 en 21.30 uur
F140: Opmerking:
F141: Alle prijzen inclusief materialen en middelen, toezicht, voorrijkosten en overige bijkomende kosten.
F142: Alle prijzen exclusief btw

Sheet 1.8-Glasbewassing
D5: Omschrijving blad | E5: Glasbewassing
D6: Naam opdrachtgever | E6: =Voorblad!$E$16 -> Stichting Opspoor
D7: Adres/plaats | E7: ='1.0-Contractblad'!$E$7 -> Purmerend e.o.
D8: Besteknummer | E8: =Voorblad!$E$24 -> 1501-102-2026
D9: Versie | E9: =Voorblad!$E$26 -> Calculatiemodule Opspoor Perceel 2 V1.1 | 01-jan-27 Wijziging bijgehouden
B10: Toelichting | D10: Naam leverancier | E10: =Voorblad!$E$19 -> Naam organisatie
C11: = invulvelden | D11: Prijspeil | E11: =Voorblad!$E$22 -> 46388
C12: = keuze velden * | D12: Opmerking | E12: Uitvoering normale werktijden: maandag t/m vrijdag [06.00 en 21.30 uur]
C13: = formule velden 'niet wijzigen'
C14: = vaste waarde 'niet wijzigen'
D18: LOCATTIE | E18: BIJZONDERHEDEN | F18: M2 BINNENGLAS | G18: M2 BUITENGLAS | H18: M2 SEPARATIE-GLAS (tweezijdig gemeten) | J18: FREQ BINNEN | K18: FREQ BUITEN | L18: FREQ SEPGLAS | N18: M2 € BINNEN | O18: M2 € BUITEN | P18: M2 € SEPGLAS | R18: TOTAAL PER JAAR € | S18: INZET HOOGWERKER | T18: FREQUENTIE | U18: TYPE (omschrijving)
Y19: bi | Z19: bu | AA19: s
D20: ='1.1a-Jaarprijzen'!B13 -> OBS Willem Eggert | F20: 610.4 | G20: 610.4 | H20: 142.45 | I20: =F20+G20+H20 -> 1363.25 | J20: 1 | K20: 2 | L20: 1 | R20: =(F20*J20*N20)+(H20*L20*P20)+(G20*K20*O20) -> 0 | W20: =IF(R20="NVT",0,R20+T20*S20) -> 0 | X20: =S20*K20 -> 0 | Y20: =F20*J20*N20 -> 0 | Z20: =G20*K20*O20 -> 0 | AA20: =H20*L20*P20 -> 0 | AD20: =AC20-W20 -> 0 | AN20: =SUMIF('1.8-Glasbewassing'!AF:AF,'1.1a-Jaarprijzen'!#REF!,'1.8-Glasbewassing'!AY:AY) -> 0
D21: ='1.1a-Jaarprijzen'!B14 -> SBO Het Tangram | F21: 476.8 | G21: 476.8 | H21: 215.58 | I21: =F21+G21+H21 -> 1169.18 | J21: 1 | K21: 2 | L21: 1 | R21: =(F21*J21*N21)+(H21*L21*P21)+(G21*K21*O21) -> 0 | W21: =IF(R21="NVT",0,R21+T21*S21) -> 0 | X21: =S21*K21 -> 0 | Y21: =F21*J21*N21 -> 0 | Z21: =G21*K21*O21 -> 0 | AA21: =H21*L21*P21 -> 0 | AD21: =AC21-W21 -> 0 | AN21: =SUMIF('1.8-Glasbewassing'!AF:AF,'1.1a-Jaarprijzen'!#REF!,'1.8-Glasbewassing'!AY:AY) -> 0
D22: ='1.1a-Jaarprijzen'!B15 -> OBS De Fuut | F22: 316 | G22: 316 | H22: 89 | I22: =F22+G22+H22 -> 721 | J22: 1 | K22: 2 | L22: 1 | R22: =(F22*J22*N22)+(H22*L22*P22)+(G22*K22*O22) -> 0 | W22: =IF(R22="NVT",0,R22+T22*S22) -> 0 | X22: =S22*K22 -> 0 | Y22: =F22*J22*N22 -> 0 | Z22: =G22*K22*O22 -> 0 | AA22: =H22*L22*P22 -> 0 | AD22: =AC22-W22 -> 0 | AN22: =SUMIF('1.8-Glasbewassing'!AF:AF,'1.1a-Jaarprijzen'!#REF!,'1.8-Glasbewassing'!AY:AY) -> 0
D23: ='1.1a-Jaarprijzen'!B17 -> OBS De Havenrakkers | F23: 380 | G23: 400 | H23: 398 | I23: =F23+G23+H23 -> 1178 | J23: 1 | K23: 2 | L23: 1 | R23: =(F23*J23*N23)+(H23*L23*P23)+(G23*K23*O23) -> 0 | W23: =IF(R23="NVT",0,R23+T23*S23) -> 0 | X23: =S23*K23 -> 0 | Y23: =F23*J23*N23 -> 0 | Z23: =G23*K23*O23 -> 0 | AA23: =H23*L23*P23 -> 0 | AD23: =AC23-W23 -> 0 | AN23: =SUMIF('1.8-Glasbewassing'!AF:AF,'1.1a-Jaarprijzen'!#REF!,'1.8-Glasbewassing'!AY:AY) -> 0
D24: ='1.1a-Jaarprijzen'!B18 -> OBS De Overhaal | F24: 115 | G24: 115 | H24: 28 | I24: =F24+G24+H24 -> 258 | J24: 1 | K24: 2 | L24: 1 | R24: =(F24*J24*N24)+(H24*L24*P24)+(G24*K24*O24) -> 0 | W24: =IF(R24="NVT",0,R24+T24*S24) -> 0 | X24: =S24*K24 -> 0 | Y24: =F24*J24*N24 -> 0 | Z24: =G24*K24*O24 -> 0 | AA24: =H24*L24*P24 -> 0 | AD24: =AC24-W24 -> 0 | AN24: =SUMIF('1.8-Glasbewassing'!AF:AF,'1.1a-Jaarprijzen'!#REF!,'1.8-Glasbewassing'!AY:AY) -> 0
D25: ='1.1a-Jaarprijzen'!B19 -> OBS De Gouwzee | F25: 267 | G25: 267 | H25: 140 | I25: =F25+G25+H25 -> 674 | J25: 1 | K25: 2 | L25: 1 | R25: =(F25*J25*N25)+(H25*L25*P25)+(G25*K25*O25) -> 0 | W25: =IF(R25="NVT",0,R25+T25*S25) -> 0 | X25: =S25*K25 -> 0 | Y25: =F25*J25*N25 -> 0 | Z25: =G25*K25*O25 -> 0 | AA25: =H25*L25*P25 -> 0 | AD25: =AC25-W25 -> 0 | AN25: =SUMIF('1.8-Glasbewassing'!AF:AF,'1.1a-Jaarprijzen'!#REF!,'1.8-Glasbewassing'!AY:AY) -> 0
D26: ='1.1a-Jaarprijzen'!B20 -> OBS Het Parelhof | F26: 389.8 | G26: 389.8 | H26: 359.2 | I26: =F26+G26+H26 -> 1138.8 | J26: 1 | K26: 2 | L26: 1 | R26: =(F26*J26*N26)+(H26*L26*P26)+(G26*K26*O26) -> 0 | W26: =IF(R26="NVT",0,R26+T26*S26) -> 0 | X26: =S26*K26 -> 0 | Y26: =F26*J26*N26 -> 0 | Z26: =G26*K26*O26 -> 0 | AA26: =H26*L26*P26 -> 0 | AD26: =AC26-W26 -> 0
D27: ='1.1a-Jaarprijzen'!B21 -> OBS Delta Beethoven | F27: 259.6 | G27: 259.6 | H27: 99.5 | I27: =F27+G27+H27 -> 618.7 | J27: 1 | K27: 2 | L27: 1 | R27: =(F27*J27*N27)+(H27*L27*P27)+(G27*K27*O27) -> 0 | W27: =IF(R27="NVT",0,R27+T27*S27) -> 0 | X27: =S27*K27 -> 0 | Y27: =F27*J27*N27 -> 0 | Z27: =G27*K27*O27 -> 0 | AA27: =H27*L27*P27 -> 0 | AD27: =AC27-W27 -> 0
D28: ='1.1a-Jaarprijzen'!B22 -> OBS Noorderlicht | F28: 221.5 | G28: 221.5 | H28: 110.3 | I28: =F28+G28+H28 -> 553.3 | J28: 1 | K28: 2 | L28: 1 | R28: =(F28*J28*N28)+(H28*L28*P28)+(G28*K28*O28) -> 0 | W28: =IF(R28="NVT",0,R28+T28*S28) -> 0 | X28: =S28*K28 -> 0 | Y28: =F28*J28*N28 -> 0 | Z28: =G28*K28*O28 -> 0 | AA28: =H28*L28*P28 -> 0 | AD28: =AC28-W28 -> 0
D29: ='1.1a-Jaarprijzen'!B23 -> OBS De Delta | F29: 187.3 | G29: 187.3 | H29: 65.9 | I29: =F29+G29+H29 -> 440.5 | J29: 1 | K29: 2 | L29: 1 | R29: =(F29*J29*N29)+(H29*L29*P29)+(G29*K29*O29) -> 0 | W29: =IF(R29="NVT",0,R29+T29*S29) -> 0 | X29: =S29*K29 -> 0 | Y29: =F29*J29*N29 -> 0 | Z29: =G29*K29*O29 -> 0 | AA29: =H29*L29*P29 -> 0 | AD29: =AC29-W29 -> 0
D30: ='1.1a-Jaarprijzen'!B24 -> Kindcentrum Wheermolen | F30: 399.6 | G30: 400.4 | H30: 199.1 | I30: =F30+G30+H30 -> 999.1 | J30: 1 | K30: 2 | L30: 1 | R30: =(F30*J30*N30)+(H30*L30*P30)+(G30*K30*O30) -> 0 | W30: =IF(R30="NVT",0,R30+T30*S30) -> 0 | X30: =S30*K30 -> 0 | Y30: =F30*J30*N30 -> 0 | Z30: =G30*K30*O30 -> 0 | AA30: =H30*L30*P30 -> 0 | AD30: =AC30-W30 -> 0
D31: ='1.1a-Jaarprijzen'!B25 -> OBS Wheermolen KO | F31: 152.2 | G31: 152.9 | H31: 76.2 | I31: =F31+G31+H31 -> 381.3 | J31: 1 | K31: 2 | L31: 1 | R31: =(F31*J31*N31)+(H31*L31*P31)+(G31*K31*O31) -> 0 | W31: =IF(R31="NVT",0,R31+T31*S31) -> 0 | X31: =S31*K31 -> 0 | Y31: =F31*J31*N31 -> 0 | Z31: =G31*K31*O31 -> 0 | AA31: =H31*L31*P31 -> 0 | AD31: =AC31-W31 -> 0
D32: ='1.1a-Jaarprijzen'!B26 -> OCBS Kawama | F32: 215.7 | G32: 215.7 | H32: 134 | I32: =F32+G32+H32 -> 565.4 | J32: 1 | K32: 2 | L32: 1 | R32: =(F32*J32*N32)+(H32*L32*P32)+(G32*K32*O32) -> 0 | W32: =IF(R32="NVT",0,R32+T32*S32) -> 0 | X32: =S32*K32 -> 0 | Y32: =F32*J32*N32 -> 0 | Z32: =G32*K32*O32 -> 0 | AA32: =H32*L32*P32 -> 0 | AD32: =AC32-W32 -> 0
D33: ='1.1a-Jaarprijzen'!B27 -> OBS Oeboentoe | F33: 114.4 | G33: 114.4 | H33: 91.8 | I33: =F33+G33+H33 -> 320.6 | J33: 1 | K33: 2 | L33: 1 | R33: =(F33*J33*N33)+(H33*L33*P33)+(G33*K33*O33) -> 0 | W33: =IF(R33="NVT",0,R33+T33*S33) -> 0 | X33: =S33*K33 -> 0 | Y33: =F33*J33*N33 -> 0 | Z33: =G33*K33*O33 -> 0 | AA33: =H33*L33*P33 -> 0 | AD33: =AC33-W33 -> 0
D34: ='1.1a-Jaarprijzen'!B28 -> Kawama-Oeboentoe | F34: 103.2 | G34: 103.2 | H34: 119.4 | I34: =F34+G34+H34 -> 325.8 | J34: 1 | K34: 2 | L34: 1 | R34: =(F34*J34*N34)+(H34*L34*P34)+(G34*K34*O34) -> 0 | W34: =IF(R34="NVT",0,R34+T34*S34) -> 0 | X34: =S34*K34 -> 0 | Y34: =F34*J34*N34 -> 0 | Z34: =G34*K34*O34 -> 0 | AA34: =H34*L34*P34 -> 0 | AD34: =AC34-W34 -> 0
D35: ='1.1a-Jaarprijzen'!B29 -> Gezamenlijk | F35: 0 | G35: 0 | H35: 0 | I35: =F35+G35+H35 -> 0 | J35: 1 | K35: 2 | L35: 1 | R35: =(F35*J35*N35)+(H35*L35*P35)+(G35*K35*O35) -> 0 | W35: =IF(R35="NVT",0,R35+T35*S35) -> 0 | X35: =S35*K35 -> 0 | Y35: =F35*J35*N35 -> 0 | Z35: =G35*K35*O35 -> 0 | AA35: =H35*L35*P35 -> 0 | AD35: =AC35-W35 -> 0 | AN35: =SUMIF('1.8-Glasbewassing'!AF:AF,'1.1a-Jaarprijzen'!#REF!,'1.8-Glasbewassing'!AY:AY) -> 0
D36: ='1.1a-Jaarprijzen'!B30 -> Kinderdagverblijf Anansi | F36: 79.9 | G36: 79.9 | H36: 46.9 | I36: =F36+G36+H36 -> 206.7 | J36: 1 | K36: 2 | L36: 1 | R36: =(F36*J36*N36)+(H36*L36*P36)+(G36*K36*O36) -> 0 | W36: =IF(R36="NVT",0,R36+T36*S36) -> 0 | X36: =S36*K36 -> 0 | Y36: =F36*J36*N36 -> 0 | Z36: =G36*K36*O36 -> 0 | AA36: =H36*L36*P36 -> 0 | AD36: =AC36-W36 -> 0 | AN36: =SUMIF('1.8-Glasbewassing'!AF:AF,'1.1a-Jaarprijzen'!#REF!,'1.8-Glasbewassing'!AY:AY) -> 0
D43: * Prijzen p/m2 (separatieglas dubbelvoudig gemeten) | R43: Automatisch gekoppeld aan tabblad 1.0-Contractblad
D48: Opmerking:
D49: Alle prijzen inclusief materialen en middelen, voorrijkosten en overige bijkomende kosten.
D50: Alle prijzen exclusief btw
D53: Het separatieglas is dubelzijdig gemeten, prijs dient voor enkelzijdig wassen te worden ingevoerd
D55: Opmerking
D56: Productkeuze: | E56: Neutraal reinigingsmiddel, pH-7, het product mag niet schadelijk zijn voor het afwerkmateriaal, geen corroderende werking hebben en mag geen schuurmiddel of etsende stoffen bevatten.
E58: Het product is vrij van zure en alkalische bestanddelen, waardoor er geen enkel gevaar is voor aantasting van metaal, lak, rubber enz.
D60: Handeling: | E60: Inzetten van de beglazing met water en een reinigingsmiddel met behulp van schapenvacht en/of spons
E61: Omlijstingen en raam- en kozijnprofielen met spons afnemen.
E62: Droogtrekken van het glas en kozijnen zodat er geen resten van het reinigingsmiddel met de opgenomen vervuiling achterblijven.
