Workbook
Name Allelocaties: '1. 3A-Mutaties'!$A:$T
Name Allelocaties: '1.3-Basis ruimtestaat'!$A:$R
Name BasisTarief: '1.4-Opbouw uurtarieven'!$N$16:$XFD$65
Name basistarieftoez: '1.4-Opbouw uurtarieven'!$S$16:$V$65
Name basistariefuit: '1.4-Opbouw uurtarieven'!$M$16:$P$65
Name CatMedewschoonmaak: '1.4-Opbouw uurtarieven'!$I$16:$V$16
Name Dataase3: '1. 3A-Mutaties'!$B$12:$Z$13
Name Dataase3: '1.3-Basis ruimtestaat'!$B$12:$W$13
Name database2: '1. 3A-Mutaties'!$C$12:$Z$13
Name database2: '1.3-Basis ruimtestaat'!$C$12:$W$13
Name Kengetal: '[4]1.2-Kengetal'!$C$10:$P$33
Name Kengetal: '1.2-Kengetal'!$C$13:$Q$75
Name LOCATIE: '1. 3A-Mutaties'!$E:$R
Name LOCATIE: '1.3-Basis ruimtestaat'!$E:$Q
Name Loongroepen: '[4]1.5 Opbouw uurtarieven'!$A$12:$A$46
Name Loongroepen: '1.4-Opbouw uurtarieven'!$B$16:$B$31
Name Meters: '1. 3A-Mutaties'!$K:$K
Name Meters: '[4]1.3-Basis ruimtestaat'!$K:$K
Name Meters: '1.3-Basis ruimtestaat'!$K:$K
Name Perceel: '1. 3A-Mutaties'!$F:$U
Name Perceel: '1.3-Basis ruimtestaat'!$F:$S
Name PERCEEL2: '1. 3A-Mutaties'!$A:$U
Name PERCEEL2: '1.3-Basis ruimtestaat'!$A:$S
Name Tabel: '1.4-Opbouw uurtarieven'!$O$5:$P$7
Name TariefGLAS: '1.4-Opbouw uurtarieven'!$Z$17:$Z$17
Name tariefschoonmaak: '1.4-Opbouw uurtarieven'!$M$16:$Z$16
Name tariefSMO: '1.4-Opbouw uurtarieven'!$M$16:$P$16
Name tarieftoez: #REF!
Name tariefTZ: '1.4-Opbouw uurtarieven'!$S$16:$V$16
Name tariefuit: #REF!
Name tarievenglas: '1.4-Opbouw uurtarieven'!$Z$17:$Z$65
Name Totaal: '1. 3A-Mutaties'!$A$12:$T$13
Name Totaal: '1.3-Basis ruimtestaat'!$A$12:$R$13
Name Totaal2: '1. 3A-Mutaties'!$E$12:$T$13
Name Totaal2: '[4]1.3-Basis ruimtestaat'!$E$10:$T$226
Name Totaal2: '1.3-Basis ruimtestaat'!$E$12:$R$13
Name UREMAVR: '1. 3A-Mutaties'!$R$12:$R$13
Name UREMAVR: '[4]1.3-Basis ruimtestaat'!$R$10:$R$226
Name UREMAVR: '1.3-Basis ruimtestaat'!$Q$12:$Q$13
Name URENEWEEKEND: '1. 3A-Mutaties'!$T$12:$T$13
Name URENEWEEKEND: '1.3-Basis ruimtestaat'!#REF!
Name URENNALOOP: '1. 3A-Mutaties'!$S$12:$S$13
Name URENNALOOP: '[4]1.3-Basis ruimtestaat'!$S$10:$S$226
Name URENNALOOP: '1.3-Basis ruimtestaat'!$R$12:$R$13

Sheet Toelichting Calculatiemodel
F3: Tabblad: Voorblad | J3: Tabblad: 1.2-Kengetal | N3: Tabblad: 1.3-Basis ruimtestaat
F5: Vul de naam van uw organisatie in bij: "Naam Inschrijver" | J5: STAP 1: Voer in de gekleurde cellen de gevraagde kengetallen in | N5: STAP 2: De ingevoerde kengetallen worden automatisch geplaatst in het tabblad 1.3-Basisruimtestaat. Het aantal productie-uren per jaar wordt op ruimteniveau weergegeven.
B19: Volg de stappen 1 t/m 8 om de calcualtie | F19: Tabblad: 1.4-Opbouw uurtarieven | J19: Tabblad: 1.6-Machine-investeringskosten | N19: Tabblad: 1.7-Afroep prijzen
B20: in te voeren.
F21: STAP 3: Selecteer een loongroep medewerker in de cellen "Selecteer categorie medewerker". Voer in de gekleurde cellen de gevraagde informatie in. Let op: in de rood gekleurde cellen zijn formules of koppelingen aanwezig, deze mogen niet worden verwijderd of aangepast. | J21: STAP 4: Voer in de gekleurde cellen de gevraagde informatie in. Let op: in de rood gekleurde cellen zijn formules of koppelingen aanwezig, deze mogen niet worden verwijderd of aangepast. | N21: STAP 5: Voer in de gekleurde cellen de gevraagde informatie in. Let op: in de rood gekleurde cellen zijn formules of koppelingen aanwezig, deze mogen niet worden verwijderd of aangepast.
B22: Op ieder tabblad is een kortetoelichting
B23: aanwezig. Selecteer de cel "Toelichting"
B24: om de informatie te lezen.
C26: = invulvelden
C27: = keuze velden *
C28: = formule velden 'niet wijzigen'
C29: = vaste waarde 'niet wijzigen'
F34: Tabblad: 1.8-Glasbewassing | J34: Tabblad: 1.9-Sanitaire supples | N34: Tabblad: 1.0-Contractblad
F36: STAP 6: Voer in de gekleurde cellen de gevraagde informatie in. Let op: in de rood gekleurde cellen zijn formules of koppelingen aanwezig, deze mogen niet worden verwijderd of aangepast. | J36: STAP 7: Voer in de gekleurde cellen de gevraagde informatie in. Let op: in de rood gekleurde cellen zijn formules of koppelingen aanwezig, deze mogen niet worden verwijderd of aangepast. | N36: STAP 8: Selecteer "Selecteer tarief medewerker en/of toezicht" om een loongroep medewerker te selecteren. Het uurtarief wordt automatisch geplaats. Vul het percentage in van het aantal in te zetten uren en het jaarbedrag wordt gecalculeerd.
B39: Overal waar in het Calculatiemodel de invoervelden aanwezig zijn, dient een getal (niet zijnde nul (0)) te worden ingevuld.
F50: Tabblad: 1.1a-Jaarprijzen | I50: Opmerking:
I51: In het contractblad wordt automatisch het aantal m2 glas weergegeven (indien van toepassing).
F52: In dit tabblad wordt een recapitulatie van alle calcuatiegegevens weeergegeven
I53: Het tabblad 1.3a-Mutaties is niet van toepassing (indien aanwezig)

Sheet Voorblad
E5: = invulvelden
E10: Calculatiemodule
E12: Schoonmaakonderhoud
E13: &
E14: Glasbewassing
E16: Stichting Opspoor
E19: Naam organisatie
D22: Prijspeil | E22: 46388
D24: Besteknummer | E24: 1501-102-2026
D26: Versie | E26: =REPLACE(LEFT(CELL("bestandsnaam",A1),SEARCH("]",CELL("bestandsnaam",A1))-6),1,SEARCH("[",CELL("bestandsnaam",A1)),"") -> Calculatiemodule Opspoor Perceel 2 V1.1 | 01-jan-27 Wijziging bijgehouden
C32: Ingevoerde wijziging: | E32: 2027 V1
H33: Verwerkt in ruimtestaat

Sheet 1.0-Contractblad
A5: Toelichting | D5: Omschrijving blad : | E5: Contractblad jaarprijs schoonmaak & Glasbewassing
B6: = invulvelden | D6: Naam opdrachtgever : | E6: Stichting opspoor - SKOP
B7: = keuze velden * | D7: Adres/plaats : | E7: Purmerend e.o.
B8: = formule velden 'niet wijzigen' | D8: Besteknummer : | E8: =Voorblad!$E$24 -> 1501-102-2026
B9: = vaste waarde 'niet wijzigen' | D9: Versie : | E9: =Voorblad!$E$26 -> Calculatiemodule Opspoor Perceel 2 V1.1 | 01-jan-27 Wijziging bijgehouden
D10: Naam leverancier : | E10: =Voorblad!$E$19 -> Naam organisatie
D11: Prijspeil : | E11: =Voorblad!E22 -> 46388
D13: JAARPRIJS SCHOONMAAK
A14: * Vul alleen de invulvelden in als er een keuzeveld is gekozen.
D15: CATEGORIE MEDEWERKER | E15: PERCENTAGE INZET MEDEWERKER | F15: AANTAL UREN PER DAG (GEMIDDELD) | G15: AANTAL DAGEN PER JAAR | H15: AANTAL UREN PER JAAR | I15: TARIEF | J15: PRIJS PER JAAR
D18: PRODUCTIE-UREN MAANDAG-VRIJDAG 06:00-21:30 uur
D20: Selecteer tarief uitvoerend | F20: =H20/G20 -> 0 | G20: 200 | H20: =$H$25*E20 -> 0 | I20: =HLOOKUP(D20,'1.4-Opbouw uurtarieven'!$M$16:$R$65,44,FALSE) -> 0 | J20: =I20*H20 -> 0 | W20: =R20/I20-1 -> #DIV/0!
B22: Toelichting | D22: Selecteer tarief uitvoerend | F22: =H22/G22 -> 0 | G22: 200 | H22: =$H$25*E22 -> 0 | I22: =HLOOKUP(D22,'1.4-Opbouw uurtarieven'!$M$16:$R$65,44,FALSE) -> 0 | J22: =I22*H22 -> 0
D24: Selecteer tarief uitvoerend | F24: =H24/G24 -> 0 | G24: 200 | H24: =$H$25*E24 -> 0 | I24: =HLOOKUP(D24,'1.4-Opbouw uurtarieven'!$M$16:$R$65,44,FALSE) -> 0 | J24: =I24*H24 -> 0
D25: =IF(E25>100%,"Mag niet hoger zijn dan 100%","") | E25: =SUM(E20:E24) -> 0 | F25: =SUM(F20:F24) -> 0 | H25: =SUM('1.3-Basis ruimtestaat'!Q:R) -> 0 | I25: [A] | J25: =SUM(J20:J24) -> 0 | L25: =IF(H25=0,0,J25/H25) -> 0 | N25: =IF(E25>100,"Is hoger dan 100%",0) -> 0
D28: TOEZICHT-UREN MAANDAG-VRIJDAG 06:00-21:30 uur
D30: Selecteer tarief toezicht | F30: =H30/G30 -> 0 | G30: 200 | H30: =$H$25*E30 -> 0 | I30: =HLOOKUP(D30,'1.4-Opbouw uurtarieven'!$S$16:$V$65,44,FALSE) -> 0 | J30: =I30*H30 -> 0 | W30: =R30/I30-1 -> #DIV/0!
B32: Toelichting | D32: Selecteer tarief toezicht | E32: 0 | F32: =H32/G32 -> 0 | G32: 200 | H32: =$H$25*E32 -> 0 | I32: =HLOOKUP(D32,'1.4-Opbouw uurtarieven'!$S$16:$V$65,44,FALSE) -> 0 | J32: =I32*H32 -> 0
D34: Selecteer tarief toezicht | F34: =H34/G34 -> 0 | G34: 200 | H34: =$H$25*E34 -> 0 | I34: =HLOOKUP(D34,'1.4-Opbouw uurtarieven'!$S$16:$V$65,44,FALSE) -> 0 | J34: =I34*H34 -> 0
E35: =SUM(E30:E34) -> 0 | F35: =SUM(F30:F34) -> 0 | H35: =SUM(H30:H34) -> 0 | I35: [B] | J35: =SUM(J28:J34) -> 0 | L35: =IF(H35=0,0,J35/H35) -> 0 | N35: =J35+J25 -> 0
L37: =IF(H25=0,0,N35/H25) -> 0
I39: SUBTOTAAL [A+B] | J39: =J35+J25 -> 0
D42: NA GOEDKEURING INVESTERING MACHINEKOSTEN (BLAD 1.6-MACHINE-INVESTERINGSKOSTEN)
D46: ADDITIONELE PROJECTGEBONDEN SCHOONMAAKWERKZAAMHEDEN
G48: Aantal | H48: Frequentie | I48: Prijs p/stuk
J49: =I49*H49*G49 -> 0
J50: =I50*H50*G50 -> 0
J51: =I51*H51*G51 -> 0
J52: =I52*H52*G52 -> 0 | L52: =IF(H25=0,0,J44/H25) -> 0
G56: TOTAAL KOSTEN PER JAAR EXCLUSIEF BTW | J56: =SUM(J39:J55) -> 0
G57: B.T.W. | I57: 0.21 | J57: =I57*J56 -> 0
G58: Totale kosten per jaar inclusief B.T.W. | J58: =J57+J56 -> 0
D63: Gemiddeld uurtarief excl. machinekosten excl. BTW | F63: =IF(J39=0,0,J39/H25) -> 0 | G63: < Cel F63
D66: JAARPRIJS GLASBEWASSING
F68: M2 BUITEGLAS | G68: M2 BINNENGLAS | H68: M2 SEPARATIEGLAS * | J68: PRIJS PER JAAR
F71: =SUM('1.8-Glasbewassing'!F15:F212) -> 4288.4 | J71: =SUM('1.8-Glasbewassing'!Y:Y) -> 0
G72: =SUM('1.8-Glasbewassing'!G15:G213) -> 4309.9 | J72: =SUM('1.8-Glasbewassing'!Z:Z) -> 0
H73: =SUM('1.8-Glasbewassing'!H15:H214) -> 2315.33 | J73: =SUM('1.8-Glasbewassing'!AA:AA) -> 0
G75: INZET ARBEIDSMIDDELEN | J75: =SUM('1.8-Glasbewassing'!S:S) -> 0
G79: TOTAAL KOSTEN PER JAAR EXCLUSIEF BTW | J79: =SUM(J71:J78) -> 0
...

Sheet 1.1a-Jaarprijzen
B3: Omschrijving blad | C3: Jaarkosten per locatie
B4: Naam opdrachtgever | C4: =Voorblad!$E$16 -> Stichting Opspoor
B5: Adres/plaats | C5: ='1.0-Contractblad'!$E$7 -> Purmerend e.o.
B6: Besteknummer | C6: =Voorblad!$E$24 -> 1501-102-2026 | F6: Toelichting
B7: Versie | C7: =Voorblad!$E$26 -> Calculatiemodule Opspoor Perceel 2 V1.1 | 01-jan-27 Wijziging bijgehouden
B8: Naam leverancier | C8: =Voorblad!$E$19 -> Naam organisatie
B9: Prijspeil | C9: =Voorblad!$E$22 -> 46388
B11: GEBOUW | C11: ADRES | D11: PLAATS | E11: VLOEROPPERVLAK IN ONDERHOUD | F11: VLOEROPPERVLAK NIET IN ONDERHOUD | G11: PERCEEL (I.V.T.) | H11: PRODUCTIE UREN REGULIER MA-VR | I11: PRODUCTIE UREN PERIODIEK | J11: AFRONDING TAAK UREN | K11: TOEZICHT UREN MA-VR | L11: TOTAAL M2 GLAS | M11: GEWOGEN GEMIDDELDE O.B.V. VLOEROPPERVLAK IN ONDERHOUD
A13: =G13 -> 2 | B13: OBS Willem Eggert | C13: Jan van Egmondstraat 14 | D13: Purmerend | E13: =SUMIF('1.3-Basis ruimtestaat'!E:K,'1.1a-Jaarprijzen'!B13,'1.3-Basis ruimtestaat'!K:K) -> 1725.1412 | F13: =SUMIF('1.3-Basis ruimtestaat'!E:L,'1.1a-Jaarprijzen'!B13,'1.3-Basis ruimtestaat'!L:L) -> 37.766 | G13: 2 | H13: =SUMIF('1.3-Basis ruimtestaat'!E:E,'1.1a-Jaarprijzen'!B13,'1.3-Basis ruimtestaat'!Q:Q) -> 0 | I13: =SUMIF('1.3-Basis ruimtestaat'!E:E,'1.1a-Jaarprijzen'!B13,'1.3-Basis ruimtestaat'!R:R) -> 0 | K13: =(H13+I13)*'1.0-Contractblad'!$E$35 -> 0 | L13: =SUMIF('1.8-Glasbewassing'!D:D,'1.1a-Jaarprijzen'!B13,'1.8-Glasbewassing'!I:I) -> 1363.25 | M13: =IF(H13=0,0,SUMIF('1.3-Basis ruimtestaat'!E:E,'1.1a-Jaarprijzen'!B13,'1.3-Basis ruimtestaat'!Z:Z)/SUM(H13+I13)) -> 0
A14: =G14 -> 2 | B14: SBO Het Tangram | C14: Slenkstraat 50 | D14: Purmerend | E14: =SUMIF('1.3-Basis ruimtestaat'!E:K,'1.1a-Jaarprijzen'!B14,'1.3-Basis ruimtestaat'!K:K) -> 1965.9775 | F14: =SUMIF('1.3-Basis ruimtestaat'!E:L,'1.1a-Jaarprijzen'!B14,'1.3-Basis ruimtestaat'!L:L) -> 169.0125 | G14: 2 | H14: =SUMIF('1.3-Basis ruimtestaat'!E:E,'1.1a-Jaarprijzen'!B14,'1.3-Basis ruimtestaat'!Q:Q) -> 0 | I14: =SUMIF('1.3-Basis ruimtestaat'!E:E,'1.1a-Jaarprijzen'!B14,'1.3-Basis ruimtestaat'!R:R) -> 0 | K14: =(H14+I14)*'1.0-Contractblad'!$E$35 -> 0 | L14: =SUMIF('1.8-Glasbewassing'!D:D,'1.1a-Jaarprijzen'!B14,'1.8-Glasbewassing'!I:I) -> 1169.18 | M14: =IF(H14=0,0,SUMIF('1.3-Basis ruimtestaat'!E:E,'1.1a-Jaarprijzen'!B14,'1.3-Basis ruimtestaat'!Z:Z)/SUM(H14+I14)) -> 0
A15: =G15 -> 2 | B15: OBS De Fuut | C15: Agevaar 86 | D15: Monnickendam | E15: =SUMIF('1.3-Basis ruimtestaat'!E:K,'1.1a-Jaarprijzen'!B15,'1.3-Basis ruimtestaat'!K:K) -> 821.1 | F15: =SUMIF('1.3-Basis ruimtestaat'!E:L,'1.1a-Jaarprijzen'!B15,'1.3-Basis ruimtestaat'!L:L) -> 189.2 | G15: 2 | H15: =SUMIF('1.3-Basis ruimtestaat'!E:E,'1.1a-Jaarprijzen'!B15,'1.3-Basis ruimtestaat'!Q:Q) -> 0 | I15: =SUMIF('1.3-Basis ruimtestaat'!E:E,'1.1a-Jaarprijzen'!B15,'1.3-Basis ruimtestaat'!R:R) -> 0 | K15: =(H15+I15)*'1.0-Contractblad'!$E$35 -> 0 | L15: =SUMIF('1.8-Glasbewassing'!D:D,'1.1a-Jaarprijzen'!B15,'1.8-Glasbewassing'!I:I) -> 721 | M15: =IF(H15=0,0,SUMIF('1.3-Basis ruimtestaat'!E:E,'1.1a-Jaarprijzen'!B15,'1.3-Basis ruimtestaat'!Z:Z)/SUM(H15+I15)) -> 0
A16: =G16 -> 2 | B16: OCBS De Fuut | C16: Agevaar 86 | D16: Monnickendam | E16: =SUMIF('1.3-Basis ruimtestaat'!E:K,'1.1a-Jaarprijzen'!B16,'1.3-Basis ruimtestaat'!K:K) -> 210.7 | F16: =SUMIF('1.3-Basis ruimtestaat'!E:L,'1.1a-Jaarprijzen'!B16,'1.3-Basis ruimtestaat'!L:L) -> 0 | G16: 2 | H16: =SUMIF('1.3-Basis ruimtestaat'!E:E,'1.1a-Jaarprijzen'!B16,'1.3-Basis ruimtestaat'!Q:Q) -> 0 | I16: =SUMIF('1.3-Basis ruimtestaat'!E:E,'1.1a-Jaarprijzen'!B16,'1.3-Basis ruimtestaat'!R:R) -> 0 | K16: =(H16+I16)*'1.0-Contractblad'!$E$35 -> 0 | L16: =SUMIF('1.8-Glasbewassing'!D:D,'1.1a-Jaarprijzen'!B16,'1.8-Glasbewassing'!I:I) -> 0 | M16: =IF(H16=0,0,SUMIF('1.3-Basis ruimtestaat'!E:E,'1.1a-Jaarprijzen'!B16,'1.3-Basis ruimtestaat'!Z:Z)/SUM(H16+I16)) -> 0
A17: =G17 -> 2 | B17: OBS De Havenrakkers | C17: Nieuwland 32 | D17: Broek in Waterland | E17: =SUMIF('1.3-Basis ruimtestaat'!E:K,'1.1a-Jaarprijzen'!B17,'1.3-Basis ruimtestaat'!K:K) -> 1487 | F17: =SUMIF('1.3-Basis ruimtestaat'!E:L,'1.1a-Jaarprijzen'!B17,'1.3-Basis ruimtestaat'!L:L) -> 325 | G17: 2 | H17: =SUMIF('1.3-Basis ruimtestaat'!E:E,'1.1a-Jaarprijzen'!B17,'1.3-Basis ruimtestaat'!Q:Q) -> 0 | I17: =SUMIF('1.3-Basis ruimtestaat'!E:E,'1.1a-Jaarprijzen'!B17,'1.3-Basis ruimtestaat'!R:R) -> 0 | K17: =(H17+I17)*'1.0-Contractblad'!$E$35 -> 0 | L17: =SUMIF('1.8-Glasbewassing'!D:D,'1.1a-Jaarprijzen'!B17,'1.8-Glasbewassing'!I:I) -> 1178 | M17: =IF(H17=0,0,SUMIF('1.3-Basis ruimtestaat'!E:E,'1.1a-Jaarprijzen'!B17,'1.3-Basis ruimtestaat'!Z:Z)/SUM(H17+I17)) -> 0
A18: =G18 -> 2 | B18: OBS De Overhaal | C18: Zuiderwouder Dorpsstraat 41 | D18: Zuiderwoude | E18: =SUMIF('1.3-Basis ruimtestaat'!E:K,'1.1a-Jaarprijzen'!B18,'1.3-Basis ruimtestaat'!K:K) -> 390.1 | F18: =SUMIF('1.3-Basis ruimtestaat'!E:L,'1.1a-Jaarprijzen'!B18,'1.3-Basis ruimtestaat'!L:L) -> 0 | G18: 2 | H18: =SUMIF('1.3-Basis ruimtestaat'!E:E,'1.1a-Jaarprijzen'!B18,'1.3-Basis ruimtestaat'!Q:Q) -> 0 | I18: =SUMIF('1.3-Basis ruimtestaat'!E:E,'1.1a-Jaarprijzen'!B18,'1.3-Basis ruimtestaat'!R:R) -> 0 | K18: =(H18+I18)*'1.0-Contractblad'!$E$35 -> 0 | L18: =SUMIF('1.8-Glasbewassing'!D:D,'1.1a-Jaarprijzen'!B18,'1.8-Glasbewassing'!I:I) -> 258 | M18: =IF(H18=0,0,SUMIF('1.3-Basis ruimtestaat'!E:E,'1.1a-Jaarprijzen'!B18,'1.3-Basis ruimtestaat'!Z:Z)/SUM(H18+I18)) -> 0
A19: =G19 -> 2 | B19: OBS De Gouwzee | C19: Wilhelminalaan 58 | D19: Monnickendam | E19: =SUMIF('1.3-Basis ruimtestaat'!E:K,'1.1a-Jaarprijzen'!B19,'1.3-Basis ruimtestaat'!K:K) -> 1195 | F19: =SUMIF('1.3-Basis ruimtestaat'!E:L,'1.1a-Jaarprijzen'!B19,'1.3-Basis ruimtestaat'!L:L) -> 0 | G19: 2 | H19: =SUMIF('1.3-Basis ruimtestaat'!E:E,'1.1a-Jaarprijzen'!B19,'1.3-Basis ruimtestaat'!Q:Q) -> 0 | I19: =SUMIF('1.3-Basis ruimtestaat'!E:E,'1.1a-Jaarprijzen'!B19,'1.3-Basis ruimtestaat'!R:R) -> 0 | K19: =(H19+I19)*'1.0-Contractblad'!$E$35 -> 0 | L19: =SUMIF('1.8-Glasbewassing'!D:D,'1.1a-Jaarprijzen'!B19,'1.8-Glasbewassing'!I:I) -> 674 | M19: =IF(H19=0,0,SUMIF('1.3-Basis ruimtestaat'!E:E,'1.1a-Jaarprijzen'!B19,'1.3-Basis ruimtestaat'!Z:Z)/SUM(H19+I19)) -> 0
A20: =G20 -> 2 | B20: OBS Het Parelhof | C20: Zichthof 9 - 11 | D20: Purmerend | E20: =SUMIF('1.3-Basis ruimtestaat'!E:K,'1.1a-Jaarprijzen'!B20,'1.3-Basis ruimtestaat'!K:K) -> 2117.4 | F20: =SUMIF('1.3-Basis ruimtestaat'!E:L,'1.1a-Jaarprijzen'!B20,'1.3-Basis ruimtestaat'!L:L) -> 44 | G20: 2 | H20: =SUMIF('1.3-Basis ruimtestaat'!E:E,'1.1a-Jaarprijzen'!B20,'1.3-Basis ruimtestaat'!Q:Q) -> 0 | I20: =SUMIF('1.3-Basis ruimtestaat'!E:E,'1.1a-Jaarprijzen'!B20,'1.3-Basis ruimtestaat'!R:R) -> 0 | K20: =(H20+I20)*'1.0-Contractblad'!$E$35 -> 0 | L20: =SUMIF('1.8-Glasbewassing'!D:D,'1.1a-Jaarprijzen'!B20,'1.8-Glasbewassing'!I:I) -> 1138.8 | M20: =IF(H20=0,0,SUMIF('1.3-Basis ruimtestaat'!E:E,'1.1a-Jaarprijzen'!B20,'1.3-Basis ruimtestaat'!Z:Z)/SUM(H20+I20)) -> 0
A21: =G21 -> 2 | B21: OBS Delta Beethoven | C21: Beethovenstraat 62-64 | D21: Purmerend | E21: =SUMIF('1.3-Basis ruimtestaat'!E:K,'1.1a-Jaarprijzen'!B21,'1.3-Basis ruimtestaat'!K:K) -> 1437.8006 | F21: =SUMIF('1.3-Basis ruimtestaat'!E:L,'1.1a-Jaarprijzen'!B21,'1.3-Basis ruimtestaat'!L:L) -> 73.14 | G21: 2 | H21: =SUMIF('1.3-Basis ruimtestaat'!E:E,'1.1a-Jaarprijzen'!B21,'1.3-Basis ruimtestaat'!Q:Q) -> 0 | I21: =SUMIF('1.3-Basis ruimtestaat'!E:E,'1.1a-Jaarprijzen'!B21,'1.3-Basis ruimtestaat'!R:R) -> 0 | K21: =(H21+I21)*'1.0-Contractblad'!$E$35 -> 0 | L21: =SUMIF('1.8-Glasbewassing'!D:D,'1.1a-Jaarprijzen'!B21,'1.8-Glasbewassing'!I:I) -> 618.7 | M21: =IF(H21=0,0,SUMIF('1.3-Basis ruimtestaat'!E:E,'1.1a-Jaarprijzen'!B21,'1.3-Basis ruimtestaat'!Z:Z)/SUM(H21+I21)) -> 0
A22: =G22 -> 2 | B22: OBS Noorderlicht | C22: Jachtwagenstraat 64 | D22: Purmerend | E22: =SUMIF('1.3-Basis ruimtestaat'!E:K,'1.1a-Jaarprijzen'!B22,'1.3-Basis ruimtestaat'!K:K) -> 970 | F22: =SUMIF('1.3-Basis ruimtestaat'!E:L,'1.1a-Jaarprijzen'!B22,'1.3-Basis ruimtestaat'!L:L) -> 15 | G22: 2 | H22: =SUMIF('1.3-Basis ruimtestaat'!E:E,'1.1a-Jaarprijzen'!B22,'1.3-Basis ruimtestaat'!Q:Q) -> 0 | I22: =SUMIF('1.3-Basis ruimtestaat'!E:E,'1.1a-Jaarprijzen'!B22,'1.3-Basis ruimtestaat'!R:R) -> 0 | K22: =(H22+I22)*'1.0-Contractblad'!$E$35 -> 0 | L22: =SUMIF('1.8-Glasbewassing'!D:D,'1.1a-Jaarprijzen'!B22,'1.8-Glasbewassing'!I:I) -> 553.3 | M22: =IF(H22=0,0,SUMIF('1.3-Basis ruimtestaat'!E:E,'1.1a-Jaarprijzen'!B22,'1.3-Basis ruimtestaat'!Z:Z)/SUM(H22+I22)) -> 0
A23: =G23 -> 2 | B23: OBS De Delta | C23: Delfland 2 | D23: Purmerend | E23: =SUMIF('1.3-Basis ruimtestaat'!E:K,'1.1a-Jaarprijzen'!B23,'1.3-Basis ruimtestaat'!K:K) -> 1187.2481 | F23: =SUMIF('1.3-Basis ruimtestaat'!E:L,'1.1a-Jaarprijzen'!B23,'1.3-Basis ruimtestaat'!L:L) -> 36.76 | G23: 2 | H23: =SUMIF('1.3-Basis ruimtestaat'!E:E,'1.1a-Jaarprijzen'!B23,'1.3-Basis ruimtestaat'!Q:Q) -> 0 | I23: =SUMIF('1.3-Basis ruimtestaat'!E:E,'1.1a-Jaarprijzen'!B23,'1.3-Basis ruimtestaat'!R:R) -> 0 | K23: =(H23+I23)*'1.0-Contractblad'!$E$35 -> 0 | L23: =SUMIF('1.8-Glasbewassing'!D:D,'1.1a-Jaarprijzen'!B23,'1.8-Glasbewassing'!I:I) -> 440.5 | M23: =IF(H23=0,0,SUMIF('1.3-Basis ruimtestaat'!E:E,'1.1a-Jaarprijzen'!B23,'1.3-Basis ruimtestaat'!Z:Z)/SUM(H23+I23)) -> 0
A24: =G24 -> 2 | B24: Kindcentrum Wheermolen | C24: Luitstraat 4 | D24: Purmerend | E24: =SUMIF('1.3-Basis ruimtestaat'!E:K,'1.1a-Jaarprijzen'!B24,'1.3-Basis ruimtestaat'!K:K) -> 1647.56 | F24: =SUMIF('1.3-Basis ruimtestaat'!E:L,'1.1a-Jaarprijzen'!B24,'1.3-Basis ruimtestaat'!L:L) -> 60.97 | G24: 2 | H24: =SUMIF('1.3-Basis ruimtestaat'!E:E,'1.1a-Jaarprijzen'!B24,'1.3-Basis ruimtestaat'!Q:Q) -> 0 | I24: =SUMIF('1.3-Basis ruimtestaat'!E:E,'1.1a-Jaarprijzen'!B24,'1.3-Basis ruimtestaat'!R:R) -> 0 | K24: =(H24+I24)*'1.0-Contractblad'!$E$35 -> 0 | L24: =SUMIF('1.8-Glasbewassing'!D:D,'1.1a-Jaarprijzen'!B24,'1.8-Glasbewassing'!I:I) -> 999.1 | M24: =IF(H24=0,0,SUMIF('1.3-Basis ruimtestaat'!E:E,'1.1a-Jaarprijzen'!B24,'1.3-Basis ruimtestaat'!Z:Z)/SUM(H24+I24)) -> 0
... A30: =G30 -> 2 | B30: Kinderdagverblijf Anansi | C30: Zambezielaan 278 | D30: Purmerend | E30: =SUMIF('1.3-Basis ruimtestaat'!E:K,'1.1a-Jaarprijzen'!B30,'1.3-Basis ruimtestaat'!K:K) -> 429.15708 | F30: =SUMIF('1.3-Basis ruimtestaat'!E:L,'1.1a-Jaarprijzen'!B30,'1.3-Basis ruimtestaat'!L:L) -> 43.74 | G30: 2 | H30: =SUMIF('1.3-Basis ruimtestaat'!E:E,'1.1a-Jaarprijzen'!B30,'1.3-Basis ruimtestaat'!Q:Q) -> 0 | I30: =SUMIF('1.3-Basis ruimtestaat'!E:E,'1.1a-Jaarprijzen'!B30,'1.3-Basis ruimtestaat'!R:R) -> 0 | K30: =(H30+I30)*'1.0-Contractblad'!$E$35 -> 0 | L30: =SUMIF('1.8-Glasbewassing'!D:D,'1.1a-Jaarprijzen'!B30,'1.8-Glasbewassing'!I:I) -> 206.7 | M30: =IF(H30=0,0,SUMIF('1.3-Basis ruimtestaat'!E:E,'1.1a-Jaarprijzen'!B30,'1.3-Basis ruimtestaat'!Z:Z)/SUM(H30+I30)) -> 0
A31: =G31 -> 0 | M31: =IF(H31=0,0,SUMIF('1.3-Basis ruimtestaat'!E:E,'1.1a-Jaarprijzen'!B31,'1.3-Basis ruimtestaat'!Z:Z)/SUM(H31+I31)) -> 0
H33: ='1.0-Contractblad'!$L$25 -> 0 | I33: =H33 -> 0 | L33: ='1.0-Contractblad'!$L$35 -> 0
A34: t
A35: t | B35: GEBOUW | C35: ADRES | D35: ADDITIONLE KOSTEN | E35: INVESTERING MACHINEKOSTEN | F35: PRODUCTIEKOSTEN MA-VR | G35: TOEZICHTKOSTEN | H35: KOSTEN AFRONDING TAAK UREN | I35: TOTAAL SCHOONMAAK | J35: MUTATIE VOLGENS 1.3A | K35: VERREKJEND JA/NEE | L35: GLASBEWASSING | M35: KOSTEN TOTAAL PER JAAR
A37: =A13 -> 2 | B37: =B13 -> OBS Willem Eggert | C37: =C13 -> Jan van Egmondstraat 14 | D37: =SUMIF('1.0-Contractblad'!$A$48:$A$52,'1.1a-Jaarprijzen'!B37,'1.0-Contractblad'!$J$48:$J$52) -> 0 | E37: =VLOOKUP($B37,'1.6-Machine-investeringskosten'!$E$99:$H$158,4,FALSE) -> 0 | F37: =$H$33*H13+$I$33*I13 -> 0 | G37: =$L$33*K13 -> 0 | H37: =$H$33*J13 -> 0 | I37: =E37+F37+G37+D37+H37 -> 0 | J37: =SUMIF('1. 3A-Mutaties'!E:E,'1.1a-Jaarprijzen'!B37,'1. 3A-Mutaties'!Z:Z) -> 0 | L37: =SUMIF('1.8-Glasbewassing'!D:D,'1.1a-Jaarprijzen'!B37,'1.8-Glasbewassing'!W:W) -> 0 | M37: =IF(K37="ja",I37,J37+I37)+L37 -> 0 | Q37: =L37/(E13) -> 0 | T37: =I37/E13 -> 0
A38: =A14 -> 2 | B38: =B14 -> SBO Het Tangram | C38: =C14 -> Slenkstraat 50 | D38: =SUMIF('1.0-Contractblad'!$A$48:$A$52,'1.1a-Jaarprijzen'!B38,'1.0-Contractblad'!$J$48:$J$52) -> 0 | E38: =VLOOKUP($B38,'1.6-Machine-investeringskosten'!$E$99:$H$158,4,FALSE) -> 0 | F38: =$H$33*H14+$I$33*I14 -> 0 | G38: =$L$33*K14 -> 0 | H38: =$H$33*J14 -> 0 | I38: =E38+F38+G38+D38+H38 -> 0 | J38: =SUMIF('1. 3A-Mutaties'!E:E,'1.1a-Jaarprijzen'!B38,'1. 3A-Mutaties'!Z:Z) -> 0 | L38: =SUMIF('1.8-Glasbewassing'!D:D,'1.1a-Jaarprijzen'!B38,'1.8-Glasbewassing'!W:W) -> 0 | M38: =IF(K38="ja",I38,J38+I38)+L38 -> 0 | Q38: =L38/(E14) -> 0 | T38: =I38/E14 -> 0
A39: =A15 -> 2 | B39: =B15 -> OBS De Fuut | C39: =C15 -> Agevaar 86 | D39: =SUMIF('1.0-Contractblad'!$A$48:$A$52,'1.1a-Jaarprijzen'!B39,'1.0-Contractblad'!$J$48:$J$52) -> 0 | E39: =VLOOKUP($B39,'1.6-Machine-investeringskosten'!$E$99:$H$158,4,FALSE) -> 0 | F39: =$H$33*H15+$I$33*I15 -> 0 | G39: =$L$33*K15 -> 0 | H39: =$H$33*J15 -> 0 | I39: =E39+F39+G39+D39+H39 -> 0 | J39: =SUMIF('1. 3A-Mutaties'!E:E,'1.1a-Jaarprijzen'!B39,'1. 3A-Mutaties'!Z:Z) -> 0 | L39: =SUMIF('1.8-Glasbewassing'!D:D,'1.1a-Jaarprijzen'!B39,'1.8-Glasbewassing'!W:W) -> 0 | M39: =IF(K39="ja",I39,J39+I39)+L39 -> 0 | Q39: =L39/(E15) -> 0 | T39: =I39/E15 -> 0
A40: =A16 -> 2 | B40: =B16 -> OCBS De Fuut | C40: =C16 -> Agevaar 86 | D40: =SUMIF('1.0-Contractblad'!$A$48:$A$52,'1.1a-Jaarprijzen'!B40,'1.0-Contractblad'!$J$48:$J$52) -> 0 | E40: =VLOOKUP($B40,'1.6-Machine-investeringskosten'!$E$99:$H$158,4,FALSE) -> 0 | F40: =$H$33*H16+$I$33*I16 -> 0 | G40: =$L$33*K16 -> 0 | H40: =$H$33*J16 -> 0 | I40: =E40+F40+G40+D40+H40 -> 0 | J40: =SUMIF('1. 3A-Mutaties'!E:E,'1.1a-Jaarprijzen'!B40,'1. 3A-Mutaties'!Z:Z) -> 0 | L40: =SUMIF('1.8-Glasbewassing'!D:D,'1.1a-Jaarprijzen'!B40,'1.8-Glasbewassing'!W:W) -> 0 | M40: =IF(K40="ja",I40,J40+I40)+L40 -> 0 | Q40: =L40/(E16) -> 0 | T40: =I40/E16 -> 0
A41: =A17 -> 2 | B41: =B17 -> OBS De Havenrakkers | C41: =C17 -> Nieuwland 32 | D41: =SUMIF('1.0-Contractblad'!$A$48:$A$52,'1.1a-Jaarprijzen'!B41,'1.0-Contractblad'!$J$48:$J$52) -> 0 | E41: =VLOOKUP($B41,'1.6-Machine-investeringskosten'!$E$99:$H$158,4,FALSE) -> 0 | F41: =$H$33*H17+$I$33*I17 -> 0 | G41: =$L$33*K17 -> 0 | H41: =$H$33*J17 -> 0 | I41: =E41+F41+G41+D41+H41 -> 0 | J41: =SUMIF('1. 3A-Mutaties'!E:E,'1.1a-Jaarprijzen'!B41,'1. 3A-Mutaties'!Z:Z) -> 0 | L41: =SUMIF('1.8-Glasbewassing'!D:D,'1.1a-Jaarprijzen'!B41,'1.8-Glasbewassing'!W:W) -> 0 | M41: =IF(K41="ja",I41,J41+I41)+L41 -> 0 | Q41: =L41/(E17) -> 0 | T41: =I41/E17 -> 0
A42: =A18 -> 2 | B42: =B18 -> OBS De Overhaal | C42: =C18 -> Zuiderwouder Dorpsstraat 41 | D42: =SUMIF('1.0-Contractblad'!$A$48:$A$52,'1.1a-Jaarprijzen'!B42,'1.0-Contractblad'!$J$48:$J$52) -> 0 | E42: =VLOOKUP($B42,'1.6-Machine-investeringskosten'!$E$99:$H$158,4,FALSE) -> 0 | F42: =$H$33*H18+$I$33*I18 -> 0 | G42: =$L$33*K18 -> 0 | H42: =$H$33*J18 -> 0 | I42: =E42+F42+G42+D42+H42 -> 0 | J42: =SUMIF('1. 3A-Mutaties'!E:E,'1.1a-Jaarprijzen'!B42,'1. 3A-Mutaties'!Z:Z) -> 0 | L42: =SUMIF('1.8-Glasbewassing'!D:D,'1.1a-Jaarprijzen'!B42,'1.8-Glasbewassing'!W:W) -> 0 | M42: =IF(K42="ja",I42,J42+I42)+L42 -> 0 | Q42: =L42/(E18) -> 0 | T42: =I42/E18 -> 0
A43: =A19 -> 2 | B43: =B19 -> OBS De Gouwzee | C43: =C19 -> Wilhelminalaan 58 | D43: =SUMIF('1.0-Contractblad'!$A$48:$A$52,'1.1a-Jaarprijzen'!B43,'1.0-Contractblad'!$J$48:$J$52) -> 0 | E43: =VLOOKUP($B43,'1.6-Machine-investeringskosten'!$E$99:$H$158,4,FALSE) -> 0 | F43: =$H$33*H19+$I$33*I19 -> 0 | G43: =$L$33*K19 -> 0 | H43: =$H$33*J19 -> 0 | I43: =E43+F43+G43+D43+H43 -> 0 | J43: =SUMIF('1. 3A-Mutaties'!E:E,'1.1a-Jaarprijzen'!B43,'1. 3A-Mutaties'!Z:Z) -> 0 | L43: =SUMIF('1.8-Glasbewassing'!D:D,'1.1a-Jaarprijzen'!B43,'1.8-Glasbewassing'!W:W) -> 0 | M43: =IF(K43="ja",I43,J43+I43)+L43 -> 0 | Q43: =L43/(E19) -> 0 | T43: =I43/E19 -> 0
A44: =A20 -> 2 | B44: =B20 -> OBS Het Parelhof | C44: =C20 -> Zichthof 9 - 11 | D44: =SUMIF('1.0-Contractblad'!$A$48:$A$52,'1.1a-Jaarprijzen'!B44,'1.0-Contractblad'!$J$48:$J$52) -> 0 | E44: =VLOOKUP($B44,'1.6-Machine-investeringskosten'!$E$99:$H$158,4,FALSE) -> 0 | F44: =$H$33*H20+$I$33*I20 -> 0 | G44: =$L$33*K20 -> 0 | H44: =$H$33*J20 -> 0 | I44: =E44+F44+G44+D44+H44 -> 0 | J44: =SUMIF('1. 3A-Mutaties'!E:E,'1.1a-Jaarprijzen'!B44,'1. 3A-Mutaties'!Z:Z) -> 0 | L44: =SUMIF('1.8-Glasbewassing'!D:D,'1.1a-Jaarprijzen'!B44,'1.8-Glasbewassing'!W:W) -> 0 | M44: =IF(K44="ja",I44,J44+I44)+L44 -> 0 | Q44: =L44/(E20) -> 0 | T44: =I44/E20 -> 0
A45: =A21 -> 2 | B45: =B21 -> OBS Delta Beethoven | C45: =C21 -> Beethovenstraat 62-64 | D45: =SUMIF('1.0-Contractblad'!$A$48:$A$52,'1.1a-Jaarprijzen'!B45,'1.0-Contractblad'!$J$48:$J$52) -> 0 | E45: =VLOOKUP($B45,'1.6-Machine-investeringskosten'!$E$99:$H$158,4,FALSE) -> 0 | F45: =$H$33*H21+$I$33*I21 -> 0 | G45: =$L$33*K21 -> 0 | H45: =$H$33*J21 -> 0 | I45: =E45+F45+G45+D45+H45 -> 0 | J45: =SUMIF('1. 3A-Mutaties'!E:E,'1.1a-Jaarprijzen'!B45,'1. 3A-Mutaties'!Z:Z) -> 0 | L45: =SUMIF('1.8-Glasbewassing'!D:D,'1.1a-Jaarprijzen'!B45,'1.8-Glasbewassing'!W:W) -> 0 | M45: =IF(K45="ja",I45,J45+I45)+L45 -> 0 | Q45: =L45/(E21) -> 0 | T45: =I45/E21 -> 0
A46: =A22 -> 2 | B46: =B22 -> OBS Noorderlicht | C46: =C22 -> Jachtwagenstraat 64 | D46: =SUMIF('1.0-Contractblad'!$A$48:$A$52,'1.1a-Jaarprijzen'!B46,'1.0-Contractblad'!$J$48:$J$52) -> 0 | E46: =VLOOKUP($B46,'1.6-Machine-investeringskosten'!$E$99:$H$158,4,FALSE) -> 0 | F46: =$H$33*H22+$I$33*I22 -> 0 | G46: =$L$33*K22 -> 0 | H46: =$H$33*J22 -> 0 | I46: =E46+F46+G46+D46+H46 -> 0 | J46: =SUMIF('1. 3A-Mutaties'!E:E,'1.1a-Jaarprijzen'!B46,'1. 3A-Mutaties'!Z:Z) -> 0 | L46: =SUMIF('1.8-Glasbewassing'!D:D,'1.1a-Jaarprijzen'!B46,'1.8-Glasbewassing'!W:W) -> 0 | M46: =IF(K46="ja",I46,J46+I46)+L46 -> 0 | Q46: =L46/(E22) -> 0 | T46: =I46/E22 -> 0
A47: =A23 -> 2 | B47: =B23 -> OBS De Delta | C47: =C23 -> Delfland 2 | D47: =SUMIF('1.0-Contractblad'!$A$48:$A$52,'1.1a-Jaarprijzen'!B47,'1.0-Contractblad'!$J$48:$J$52) -> 0 | E47: =VLOOKUP($B47,'1.6-Machine-investeringskosten'!$E$99:$H$158,4,FALSE) -> 0 | F47: =$H$33*H23+$I$33*I23 -> 0 | G47: =$L$33*K23 -> 0 | H47: =$H$33*J23 -> 0 | I47: =E47+F47+G47+D47+H47 -> 0 | J47: =SUMIF('1. 3A-Mutaties'!E:E,'1.1a-Jaarprijzen'!B47,'1. 3A-Mutaties'!Z:Z) -> 0 | L47: =SUMIF('1.8-Glasbewassing'!D:D,'1.1a-Jaarprijzen'!B47,'1.8-Glasbewassing'!W:W) -> 0 | M47: =IF(K47="ja",I47,J47+I47)+L47 -> 0 | Q47: =L47/(E23) -> 0 | T47: =I47/E23 -> 0
A48: =A24 -> 2 | B48: =B24 -> Kindcentrum Wheermolen | C48: =C24 -> Luitstraat 4 | D48: =SUMIF('1.0-Contractblad'!$A$48:$A$52,'1.1a-Jaarprijzen'!B48,'1.0-Contractblad'!$J$48:$J$52) -> 0 | E48: =VLOOKUP($B48,'1.6-Machine-investeringskosten'!$E$99:$H$158,4,FALSE) -> 0 | F48: =$H$33*H24+$I$33*I24 -> 0 | G48: =$L$33*K24 -> 0 | H48: =$H$33*J24 -> 0 | I48: =E48+F48+G48+D48+H48 -> 0 | J48: =SUMIF('1. 3A-Mutaties'!E:E,'1.1a-Jaarprijzen'!B48,'1. 3A-Mutaties'!Z:Z) -> 0 | L48: =SUMIF('1.8-Glasbewassing'!D:D,'1.1a-Jaarprijzen'!B48,'1.8-Glasbewassing'!W:W) -> 0 | M48: =IF(K48="ja",I48,J48+I48)+L48 -> 0 | Q48: =L48/(E24) -> 0 | T48: =I48/E24 -> 0
... A54: =A30 -> 2 | B54: =B30 -> Kinderdagverblijf Anansi | C54: =C30 -> Zambezielaan 278 | D54: =SUMIF('1.0-Contractblad'!$A$48:$A$52,'1.1a-Jaarprijzen'!B54,'1.0-Contractblad'!$J$48:$J$52) -> 0 | E54: =VLOOKUP($B54,'1.6-Machine-investeringskosten'!$E$99:$H$158,4,FALSE) -> 0 | F54: =$H$33*H30+$I$33*I30 -> 0 | G54: =$L$33*K30 -> 0 | H54: =$H$33*J30 -> 0 | I54: =E54+F54+G54+D54+H54 -> 0 | J54: =SUMIF('1. 3A-Mutaties'!E:E,'1.1a-Jaarprijzen'!B54,'1. 3A-Mutaties'!Z:Z) -> 0 | L54: =SUMIF('1.8-Glasbewassing'!D:D,'1.1a-Jaarprijzen'!B54,'1.8-Glasbewassing'!W:W) -> 0 | M54: =IF(K54="ja",I54,J54+I54)+L54 -> 0 | Q54: =L54/(E30) -> 0 | T54: =I54/E30 -> 0
A55: =#REF! -> #REF! | B55: =B31 -> 0 | C55: =C31 -> 0 | D55: =SUMIF('1.0-Contractblad'!$A$48:$A$52,'1.1a-Jaarprijzen'!B55,'1.0-Contractblad'!$J$48:$J$52) -> 0 | E55: =VLOOKUP($B55,'1.6-Machine-investeringskosten'!$E$99:$H$158,4,FALSE) -> 0 | F55: =$H$33*H31+$I$33*I31 -> 0 | G55: =$L$33*K31 -> 0 | H55: =$H$33*J31 -> 0 | I55: =E55+F55+G55+D55+H55 -> 0 | J55: =SUMIF('1. 3A-Mutaties'!E:E,'1.1a-Jaarprijzen'!B55,'1. 3A-Mutaties'!Z:Z) -> 0 | L55: =SUMIF('1.8-Glasbewassing'!D:D,'1.1a-Jaarprijzen'!B55,'1.8-Glasbewassing'!W:W) -> 0 | M55: =IF(K55="ja",I55,J55+I55) -> 0 | Q55: =L55/(#REF!) -> #REF! | T55: =I55/#REF! -> #REF!
A56: =A31 -> 0 | B56: =B32 -> 0 | C56: =C32 -> 0 | D56: =SUMIF('1.0-Contractblad'!$A$48:$A$52,'1.1a-Jaarprijzen'!B56,'1.0-Contractblad'!$J$48:$J$52) -> 0 | E56: =VLOOKUP($B56,'1.6-Machine-investeringskosten'!$E$99:$H$158,4,FALSE) -> 0 | F56: =$H$33*H32+$I$33*I32 -> 0 | G56: =$L$33*K32 -> 0 | H56: =$H$33*J32 -> 0 | I56: =E56+F56+G56+D56+H56 -> 0 | J56: =SUMIF('1. 3A-Mutaties'!E:E,'1.1a-Jaarprijzen'!B56,'1. 3A-Mutaties'!Z:Z) -> 0 | L56: =SUMIF('1.8-Glasbewassing'!D:D,'1.1a-Jaarprijzen'!B56,'1.8-Glasbewassing'!W:W) -> 0 | M56: =IF(K56="ja",I56,J56+I56) -> 0 | Q56: =L56/(E31) -> #DIV/0! | T56: =I56/E31 -> #DIV/0!
...

Sheet 1.2-Kengetal
A4: Toelichting | C4: Omschrijving blad | F4: Kengetallenoverzicht schoonmaakonderhoud
B5: = invulvelden | C5: Naam opdrachtgever | F5: =Voorblad!$E$16 -> Stichting Opspoor
B6: = keuze velden * | C6: Adres/plaats | F6: ='1.0-Contractblad'!$E$7 -> Purmerend e.o.
B7: = formule velden 'niet wijzigen' | C7: Besteknummer | F7: =Voorblad!$E$24 -> 1501-102-2026
B8: = vaste waarde 'niet wijzigen' | C8: Versie | F8: =Voorblad!$E$26 -> Calculatiemodule Opspoor Perceel 2 V1.1 | 01-jan-27 Wijziging bijgehouden
C9: Naam leverancier | F9: =Voorblad!$E$19 -> Naam organisatie
C10: Prijspeil | F10: =Voorblad!$E$22 -> 46388
C12: CALCULATIE-CODE MA-VR | E12: FREQ. NOTATIE | F12: RUIMTECATEGORIE | G12: FREQ. OMSCHRIJVING | H12: KENGETAL MA-VR | I12: KENGETAL PERIODIEK | J12: PRESTATIE NORM | K12: M2 VLOER IO | M12: M2 VLOER NIO | N12: VERHOUDING VLOEROPP. | O12: BIJZONDERHEDEN | P12: VSR CODE
C13: 0 | D13: 0 | E13: 0
C14: 1040 | E14: 40 | F14: administratieve -, vergaderruimte | G14: 1 x per week - 40 weken | J14: =IF(H14=0,0,E14/SUM(H14+I14)) -> 0 | K14: =SUMIF('1.3-Basis ruimtestaat'!M:M,'1.2-Kengetal'!C14,Meters) -> 823.28624 | M14: =SUMIF('1.3-Basis ruimtestaat'!M:M,'1.2-Kengetal'!C14,'1.3-Basis ruimtestaat'!L:L) -> 0 | N14: =IF(K14=0,"",K14/$M$74) -> 0.040710164 | P14: V
C15: 1200 | E15: 200 | F15: administratieve -, vergaderruimte | G15: 5 x per week - 40 weken | J15: =IF(H15=0,0,E15/SUM(H15+I15)) -> 0 | K15: =SUMIF('1.3-Basis ruimtestaat'!M:M,'1.2-Kengetal'!C15,Meters) -> 335.1007 | M15: =SUMIF('1.3-Basis ruimtestaat'!M:M,'1.2-Kengetal'!C15,'1.3-Basis ruimtestaat'!L:L) -> 0 | N15: =IF(K15=0,"",K15/$M$74) -> 0.016570184 | P15: V
C16: 1210 | E16: 210 | F16: administratieve -, vergaderruimte | G16: 210 keer per jaar | J16: =IF(H16=0,0,E16/SUM(H16+I16)) -> 0 | K16: =SUMIF('1.3-Basis ruimtestaat'!M:M,'1.2-Kengetal'!C16,Meters) -> 0 | M16: =SUMIF('1.3-Basis ruimtestaat'!M:M,'1.2-Kengetal'!C16,'1.3-Basis ruimtestaat'!L:L) -> 0 | N16: =IF(K16=0,"",K16/$M$74) | O16: 210 keer per jaar + 5 dagen Herfst en 5 dagen voorjaarvakantie | P16: V
C17: 1260 | E17: 260 | F17: administratieve -, vergaderruimte | G17: 5 x per week - 52 weken | J17: =IF(H17=0,0,E17/SUM(H17+I17)) -> 0 | K17: =SUMIF('1.3-Basis ruimtestaat'!M:M,'1.2-Kengetal'!C17,Meters) -> 166.16399 | M17: =SUMIF('1.3-Basis ruimtestaat'!M:M,'1.2-Kengetal'!C17,'1.3-Basis ruimtestaat'!L:L) -> 0 | N17: =IF(K17=0,"",K17/$M$74) -> 0.0082165387 | P17: V
C18: 2040 | E18: 40 | F18: aula, gemeenschappelijke ruimte, bibliotheek | G18: 1 x per week - 40 weken | J18: =IF(H18=0,0,E18/SUM(H18+I18)) -> 0 | K18: =SUMIF('1.3-Basis ruimtestaat'!M:M,'1.2-Kengetal'!C18,Meters) -> 35.337012 | M18: =SUMIF('1.3-Basis ruimtestaat'!M:M,'1.2-Kengetal'!C18,'1.3-Basis ruimtestaat'!L:L) -> 0 | N18: =IF(K18=0,"",K18/$M$74) -> 0.0017473577 | P18: V
C19: 2200 | E19: 200 | F19: aula, gemeenschappelijke ruimte, bibliotheek | G19: 5 x per week - 40 weken | J19: =IF(H19=0,0,E19/SUM(H19+I19)) -> 0 | K19: =SUMIF('1.3-Basis ruimtestaat'!M:M,'1.2-Kengetal'!C19,Meters) -> 1932.3706 | M19: =SUMIF('1.3-Basis ruimtestaat'!M:M,'1.2-Kengetal'!C19,'1.3-Basis ruimtestaat'!L:L) -> 0 | N19: =IF(K19=0,"",K19/$M$74) -> 0.09555258 | P19: V
C20: 2210 | E20: 210 | F20: aula, gemeenschappelijke ruimte, bibliotheek | G20: 210 keer per jaar | J20: =IF(H20=0,0,E20/SUM(H20+I20)) -> 0 | K20: =SUMIF('1.3-Basis ruimtestaat'!M:M,'1.2-Kengetal'!C20,Meters) -> 0 | M20: =SUMIF('1.3-Basis ruimtestaat'!M:M,'1.2-Kengetal'!C20,'1.3-Basis ruimtestaat'!L:L) -> 0 | N20: =IF(K20=0,"",K20/$M$74) | O20: 210 keer per jaar + 5 dagen Herfst en 5 dagen voorjaarvakantie | P20: V
C21: 2260 | E21: 260 | F21: aula, gemeenschappelijke ruimte, bibliotheek | G21: 5 x per week - 52 weken | J21: =IF(H21=0,0,E21/SUM(H21+I21)) -> 0 | K21: =SUMIF('1.3-Basis ruimtestaat'!M:M,'1.2-Kengetal'!C21,Meters) -> 84.298225 | M21: =SUMIF('1.3-Basis ruimtestaat'!M:M,'1.2-Kengetal'!C21,'1.3-Basis ruimtestaat'!L:L) -> 0 | N21: =IF(K21=0,"",K21/$M$74) -> 0.0041684099 | P21: V
C22: 3040 | E22: 40 | F22: entree, gang, hal, repro | G22: 1 x per week - 40 weken | J22: =IF(H22=0,0,E22/SUM(H22+I22)) -> 0 | K22: =SUMIF('1.3-Basis ruimtestaat'!M:M,'1.2-Kengetal'!C22,Meters) -> 8.0233795 | M22: =SUMIF('1.3-Basis ruimtestaat'!M:M,'1.2-Kengetal'!C22,'1.3-Basis ruimtestaat'!L:L) -> 0 | N22: =IF(K22=0,"",K22/$M$74) -> 0.00039674305 | P22: V
C23: 3200 | E23: 200 | F23: entree, gang, hal, repro | G23: 5 x per week - 40 weken | J23: =IF(H23=0,0,E23/SUM(H23+I23)) -> 0 | K23: =SUMIF('1.3-Basis ruimtestaat'!M:M,'1.2-Kengetal'!C23,Meters) -> 2872.6419 | M23: =SUMIF('1.3-Basis ruimtestaat'!M:M,'1.2-Kengetal'!C23,'1.3-Basis ruimtestaat'!L:L) -> 0 | N23: =IF(K23=0,"",K23/$M$74) -> 0.14204747 | P23: V
C24: 3210 | E24: 210 | F24: entree, gang, hal, repro | G24: 210 keer per jaar | J24: =IF(H24=0,0,E24/SUM(H24+I24)) -> 0 | K24: =SUMIF('1.3-Basis ruimtestaat'!M:M,'1.2-Kengetal'!C24,Meters) -> 0 | M24: =SUMIF('1.3-Basis ruimtestaat'!M:M,'1.2-Kengetal'!C24,'1.3-Basis ruimtestaat'!L:L) -> 0 | N24: =IF(K24=0,"",K24/$M$74) | O24: 210 keer per jaar + 5 dagen Herfst en 5 dagen voorjaarvakantie | P24: V
C25: 3260 | E25: 260 | F25: entree, gang, hal, repro | G25: 5 x per week - 52 weken | J25: =IF(H25=0,0,E25/SUM(H25+I25)) -> 0 | K25: =SUMIF('1.3-Basis ruimtestaat'!M:M,'1.2-Kengetal'!C25,Meters) -> 191.34344 | M25: =SUMIF('1.3-Basis ruimtestaat'!M:M,'1.2-Kengetal'!C25,'1.3-Basis ruimtestaat'!L:L) -> 0 | N25: =IF(K25=0,"",K25/$M$74) -> 0.0094616216 | P25: V
C26: 4080 | E26: 80 | F26: sanitaire ruimte (toilet-/doucheruimte) | G26: 2 x per week - 40 weken | J26: =IF(H26=0,0,E26/SUM(H26+I26)) -> 0 | K26: =SUMIF('1.3-Basis ruimtestaat'!M:M,'1.2-Kengetal'!C26,Meters) -> 0 | M26: =SUMIF('1.3-Basis ruimtestaat'!M:M,'1.2-Kengetal'!C26,'1.3-Basis ruimtestaat'!L:L) -> 0 | N26: =IF(K26=0,"",K26/$M$74) | P26: S
C27: 4200 | E27: 200 | F27: sanitaire ruimte (toilet-/doucheruimte) | G27: 5 x per week - 40 weken | J27: =IF(H27=0,0,E27/SUM(H27+I27)) -> 0 | K27: =SUMIF('1.3-Basis ruimtestaat'!M:M,'1.2-Kengetal'!C27,Meters) -> 675.41609 | M27: =SUMIF('1.3-Basis ruimtestaat'!M:M,'1.2-Kengetal'!C27,'1.3-Basis ruimtestaat'!L:L) -> 0 | N27: =IF(K27=0,"",K27/$M$74) -> 0.033398226 | P27: S
C28: 4208 | E28: 208 | F28: sanitaire ruimte (toilet-/doucheruimte) | G28: 4 x per week - 52 weken | J28: =IF(H28=0,0,E28/SUM(H28+I28)) -> 0 | K28: =SUMIF('1.3-Basis ruimtestaat'!M:M,'1.2-Kengetal'!C28,Meters) -> 0 | M28: =SUMIF('1.3-Basis ruimtestaat'!M:M,'1.2-Kengetal'!C28,'1.3-Basis ruimtestaat'!L:L) -> 0 | N28: =IF(K28=0,"",K28/$M$74) | P28: S
C29: 4210 | E29: 210 | F29: sanitaire ruimte (toilet-/doucheruimte) | G29: 210 keer per jaar | J29: =IF(H29=0,0,E29/SUM(H29+I29)) -> 0 | K29: =SUMIF('1.3-Basis ruimtestaat'!M:M,'1.2-Kengetal'!C29,Meters) -> 0 | M29: =SUMIF('1.3-Basis ruimtestaat'!M:M,'1.2-Kengetal'!C29,'1.3-Basis ruimtestaat'!L:L) -> 0 | N29: =IF(K29=0,"",K29/$M$74) | O29: 210 keer per jaar + 5 dagen Herfst en 5 dagen voorjaarvakantie | P29: S
C30: 4260 | E30: 260 | F30: sanitaire ruimte (toilet-/doucheruimte) | G30: 5 x per week - 52 weken | J30: =IF(H30=0,0,E30/SUM(H30+I30)) -> 0 | K30: =SUMIF('1.3-Basis ruimtestaat'!M:M,'1.2-Kengetal'!C30,Meters) -> 88.995562 | M30: =SUMIF('1.3-Basis ruimtestaat'!M:M,'1.2-Kengetal'!C30,'1.3-Basis ruimtestaat'!L:L) -> 0 | N30: =IF(K30=0,"",K30/$M$74) -> 0.0044006856 | P30: S
C31: 5040 | E31: 40 | F31: pantry/keuken | G31: 1 x per week - 40 weken | J31: =IF(H31=0,0,E31/SUM(H31+I31)) -> 0 | K31: =SUMIF('1.3-Basis ruimtestaat'!M:M,'1.2-Kengetal'!C31,Meters) -> 125.125 | M31: =SUMIF('1.3-Basis ruimtestaat'!M:M,'1.2-Kengetal'!C31,'1.3-Basis ruimtestaat'!L:L) -> 0 | N31: =IF(K31=0,"",K31/$M$74) -> 0.0061872275 | P31: V
C32: 5200 | E32: 200 | F32: pantry/keuken | G32: 5 x per week - 40 weken | J32: =IF(H32=0,0,E32/SUM(H32+I32)) -> 0 | K32: =SUMIF('1.3-Basis ruimtestaat'!M:M,'1.2-Kengetal'!C32,Meters) -> 41.122378 | M32: =SUMIF('1.3-Basis ruimtestaat'!M:M,'1.2-Kengetal'!C32,'1.3-Basis ruimtestaat'!L:L) -> 0 | N32: =IF(K32=0,"",K32/$M$74) -> 0.0020334346 | P32: V
C33: 5208 | E33: 208 | F33: pantry/keuken | G33: 4 x per week - 52 weken | J33: =IF(H33=0,0,E33/SUM(H33+I33)) -> 0 | K33: =SUMIF('1.3-Basis ruimtestaat'!M:M,'1.2-Kengetal'!C33,Meters) -> 0 | M33: =SUMIF('1.3-Basis ruimtestaat'!M:M,'1.2-Kengetal'!C33,'1.3-Basis ruimtestaat'!L:L) -> 0 | N33: =IF(K33=0,"",K33/$M$74) | P33: V
C34: 5260 | E34: 260 | F34: pantry/keuken | G34: 5 x per week - 52 weken | J34: =IF(H34=0,0,E34/SUM(H34+I34)) -> 0 | K34: =SUMIF('1.3-Basis ruimtestaat'!M:M,'1.2-Kengetal'!C34,Meters) -> 86.984856 | M34: =SUMIF('1.3-Basis ruimtestaat'!M:M,'1.2-Kengetal'!C34,'1.3-Basis ruimtestaat'!L:L) -> 0 | N34: =IF(K34=0,"",K34/$M$74) -> 0.0043012595 | P34: V
C35: 6200 | E35: 200 | F35: praktijklokaal | G35: 5 x per week - 40 weken | J35: =IF(H35=0,0,E35/SUM(H35+I35)) -> 0 | K35: =SUMIF('1.3-Basis ruimtestaat'!M:M,'1.2-Kengetal'!C35,Meters) -> 103.68 | M35: =SUMIF('1.3-Basis ruimtestaat'!M:M,'1.2-Kengetal'!C35,'1.3-Basis ruimtestaat'!L:L) -> 0 | N35: =IF(K35=0,"",K35/$M$74) -> 0.0051268071 | P35: L
C36: 7040 | E36: 40 | F36: leslokaal/bevo/handvaardigheid | G36: 1 x per week - 40 weken | J36: =IF(H36=0,0,E36/SUM(H36+I36)) -> 0 | K36: =SUMIF('1.3-Basis ruimtestaat'!M:M,'1.2-Kengetal'!C36,Meters) -> 419.41409 | M36: =SUMIF('1.3-Basis ruimtestaat'!M:M,'1.2-Kengetal'!C36,'1.3-Basis ruimtestaat'!L:L) -> 0 | N36: =IF(K36=0,"",K36/$M$74) -> 0.020739344 | P36: L
C37: 7052 | E37: 52 | F37: leslokaal groep 1 t/m 3 + kinderopvang | G37: 1 x per week 52 weken | J37: =IF(H37=0,0,E37/SUM(H37+I37)) -> 0 | K37: =SUMIF('1.3-Basis ruimtestaat'!M:M,'1.2-Kengetal'!C37,Meters) -> 0 | M37: =SUMIF('1.3-Basis ruimtestaat'!M:M,'1.2-Kengetal'!C37,'1.3-Basis ruimtestaat'!L:L) -> 0 | N37: =IF(K37=0,"",K37/$M$74) | P37: L
C38: 7120 | E38: 120 | F38: leslokaal/bevo/handvaardigheid | G38: 3 x per week - 40 weken | J38: =IF(H38=0,0,E38/SUM(H38+I38)) -> 0 | K38: =SUMIF('1.3-Basis ruimtestaat'!M:M,'1.2-Kengetal'!C38,Meters) -> 0 | M38: =SUMIF('1.3-Basis ruimtestaat'!M:M,'1.2-Kengetal'!C38,'1.3-Basis ruimtestaat'!L:L) -> 0 | N38: =IF(K38=0,"",K38/$M$74) | P38: L
C39: 7200 | E39: 200 | F39: leslokaal groep 1 t/m 3 | G39: 5 x per week - 40 weken | J39: =IF(H39=0,0,E39/SUM(H39+I39)) -> 0 | K39: =SUMIF('1.3-Basis ruimtestaat'!M:M,'1.2-Kengetal'!C39,Meters) -> 4139.3642 | M39: =SUMIF('1.3-Basis ruimtestaat'!M:M,'1.2-Kengetal'!C39,'1.3-Basis ruimtestaat'!L:L) -> 0 | N39: =IF(K39=0,"",K39/$M$74) -> 0.20468482 | P39: L
C40: 7210 | E40: 210 | F40: leslokaal groep 1 t/m 3 | G40: 210 keer per jaar | J40: =IF(H40=0,0,E40/SUM(H40+I40)) -> 0 | K40: =SUMIF('1.3-Basis ruimtestaat'!M:M,'1.2-Kengetal'!C40,Meters) -> 0 | M40: =SUMIF('1.3-Basis ruimtestaat'!M:M,'1.2-Kengetal'!C40,'1.3-Basis ruimtestaat'!L:L) -> 0 | N40: =IF(K40=0,"",K40/$M$74) | O40: 210 keer per jaar + 5 dagen Herfst en 5 dagen voorjaarvakantie | P40: L
C41: 8040 | E41: 40 | F41: speellokaal (berging) | G41: 1 x per week - 40 weken | J41: =IF(H41=0,0,E41/SUM(H41+I41)) -> 0 | K41: =SUMIF('1.3-Basis ruimtestaat'!M:M,'1.2-Kengetal'!C41,Meters) -> 6.3 | M41: =SUMIF('1.3-Basis ruimtestaat'!M:M,'1.2-Kengetal'!C41,'1.3-Basis ruimtestaat'!L:L) -> 0 | N41: =IF(K41=0,"",K41/$M$74) -> 0.00031152474 | P41: L
C42: 8200 | E42: 200 | F42: speellokaal | G42: 5 x per week - 40 weken | J42: =IF(H42=0,0,E42/SUM(H42+I42)) -> 0 | K42: =SUMIF('1.3-Basis ruimtestaat'!M:M,'1.2-Kengetal'!C42,Meters) -> 1464.4437 | M42: =SUMIF('1.3-Basis ruimtestaat'!M:M,'1.2-Kengetal'!C42,'1.3-Basis ruimtestaat'!L:L) -> 0 | N42: =IF(K42=0,"",K42/$M$74) -> 0.072414355 | P42: L
C43: 8210 | E43: 210 | F43: speellokaal | G43: 210 keer per jaar | J43: =IF(H43=0,0,E43/SUM(H43+I43)) -> 0 | K43: =SUMIF('1.3-Basis ruimtestaat'!M:M,'1.2-Kengetal'!C43,Meters) -> 0 | M43: =SUMIF('1.3-Basis ruimtestaat'!M:M,'1.2-Kengetal'!C43,'1.3-Basis ruimtestaat'!L:L) -> 0 | N43: =IF(K43=0,"",K43/$M$74) | O43: 210 keer per jaar + 5 dagen Herfst en 5 dagen voorjaarvakantie | P43: L
C44: 8260 | E44: 260 | F44: speellokaal | G44: 5 x per week - 52 weken | J44: =IF(H44=0,0,E44/SUM(H44+I44)) -> 0 | K44: =SUMIF('1.3-Basis ruimtestaat'!M:M,'1.2-Kengetal'!C44,Meters) -> 135.67305 | M44: =SUMIF('1.3-Basis ruimtestaat'!M:M,'1.2-Kengetal'!C44,'1.3-Basis ruimtestaat'!L:L) -> 0 | N44: =IF(K44=0,"",K44/$M$74) -> 0.0067088111 | P44: L
...

Sheet 1.3-Basis ruimtestaat
N3: Verklaring :
E4: ='1.2-Kengetal'!C4 -> Omschrijving blad | G4: Ruimte/-CAlCulAtiestAAt | N4: BSO = Buitenschoolse opvang
E5: Naam opdrachtgever | G5: =Voorblad!$E$16 -> Stichting Opspoor | N5: VSO = Voorschoolse Opvang
E6: Adres/plaats | G6: ='1.0-Contractblad'!$E$7 -> Purmerend e.o. | J6: Toelichting | N6: NSO = Naschoolse Opvang
E7: Besteknummer | G7: =Voorblad!$E$24 -> 1501-102-2026 | K7: = invulvelden | N7: VVE = Voor- en Vroegschoolse Educatie
E8: Versie | G8: =Voorblad!$E$26 -> Calculatiemodule Opspoor Perceel 2 V1.1 | 01-jan-27 Wijziging bijgehouden | N8: VKO = Voorschoolse Kinder opvang
E9: Naam leverancier | G9: =Voorblad!$E$19 -> Naam organisatie | K9: = Ruimte Kinderopvang | N9: PSZ = Peuterspeelzaal
E10: Prijspeil | G10: =Voorblad!$E$22 -> 46388 | N10: KDV = Kinderdagverblijf
B12: MUTATIE NUMMER | C12: MUTATIE DATUM | D12: PERCEEL | E12: LOCATTIE | F12: VERD. | G12: RUIMTENR | H12: RUIMTE OMSCHRIJVING (OPDRACHTGEVER) | I12: RUIMTE CATEGORIE | J12: VLOER SOORT | K12: M2 VLOER IO | L12: M2 VLOER NIO | M12: PROGR. CODE REGULIER | N12: FREQ. NOTATIE | O12: FACTOR REGULIER | P12: FACTOR PERIODIEK | Q12: UREN P/JR REGULIER | R12: UREN P/JR PERIODIEK | S12: KENGETAL REGULIER | T12: KENGETAL PERIODIEK | U12: VSR CODE | V12: BIJZONDERHEDEN | W12: € SCHOONMAAK | X12: € GLASBEWASSING
B13: -
D14: =VLOOKUP(E14,'1.1a-Jaarprijzen'!$B$13:$G$32,6,FALSE) -> 2 | E14: OBS Willem Eggert | F14: bgg | G14: A.001 | H14: leerplein vso-nso | I14: =IF($M14="",0,VLOOKUP($M14,Kengetal,4,FALSE)) -> Kinderopvang | J14: Lino | K14: 196.41945 | L14: 0 | M14: 22260 | N14: =VLOOKUP(M14,Kengetal,3,FALSE) -> 260 | O14: 1 | P14: 1 | Q14: =S14*K14*O14 -> 0 | R14: =T14*K14*P14 -> 0 | S14: =IF($M14=0,0,VLOOKUP($M14,Kengetal,6,FALSE)) -> 0 | T14: =IF($M14=0,0,VLOOKUP($M14,Kengetal,7,FALSE)) -> 0 | U14: =IF(M14="","",VLOOKUP(M14,Kengetal,14,FALSE)) -> L | V14: VSO-NSO 't Boemeltje | W14: =(Q14+R14)*'1.0-Contractblad'!$L$37 -> 0 | X14: =VLOOKUP(E14,'1.1a-Jaarprijzen'!$B$35:$Q$57,16,FALSE)*K14 -> 0 | Z14: =K14*N14 -> 51069.057 | AA14: =CONCATENATE(M14,"-",N14) -> 22260-260
D15: =VLOOKUP(E15,'1.1a-Jaarprijzen'!$B$13:$G$32,6,FALSE) -> 2 | E15: OBS Willem Eggert | F15: bgg | G15: E.001 | H15: entrée | I15: =IF($M15="",0,VLOOKUP($M15,Kengetal,4,FALSE)) -> entree, gang, hal, repro | J15: inloop/coral | K15: 4.2845829 | L15: 0 | M15: 3200 | N15: =VLOOKUP(M15,Kengetal,3,FALSE) -> 200 | O15: 1 | P15: 1 | Q15: =S15*K15*O15 -> 0 | R15: =T15*K15*P15 -> 0 | S15: =IF($M15=0,0,VLOOKUP($M15,Kengetal,6,FALSE)) -> 0 | T15: =IF($M15=0,0,VLOOKUP($M15,Kengetal,7,FALSE)) -> 0 | U15: =IF(M15="","",VLOOKUP(M15,Kengetal,14,FALSE)) -> V | W15: =(Q15+R15)*'1.0-Contractblad'!$L$37 -> 0 | X15: =VLOOKUP(E15,'1.1a-Jaarprijzen'!$B$35:$Q$57,16,FALSE)*K15 -> 0 | Z15: =K15*N15 -> 856.91658 | AA15: =CONCATENATE(M15,"-",N15) -> 3200-200
D16: =VLOOKUP(E16,'1.1a-Jaarprijzen'!$B$13:$G$32,6,FALSE) -> 2 | E16: OBS Willem Eggert | F16: bgg | G16: E.002 | H16: entrée | I16: =IF($M16="",0,VLOOKUP($M16,Kengetal,4,FALSE)) -> entree, gang, hal, repro | J16: inloop/coral | K16: 7.2267794 | L16: 0 | M16: 3200 | N16: =VLOOKUP(M16,Kengetal,3,FALSE) -> 200 | O16: 1 | P16: 1 | Q16: =S16*K16*O16 -> 0 | R16: =T16*K16*P16 -> 0 | S16: =IF($M16=0,0,VLOOKUP($M16,Kengetal,6,FALSE)) -> 0 | T16: =IF($M16=0,0,VLOOKUP($M16,Kengetal,7,FALSE)) -> 0 | U16: =IF(M16="","",VLOOKUP(M16,Kengetal,14,FALSE)) -> V | W16: =(Q16+R16)*'1.0-Contractblad'!$L$37 -> 0 | X16: =VLOOKUP(E16,'1.1a-Jaarprijzen'!$B$35:$Q$57,16,FALSE)*K16 -> 0 | Z16: =K16*N16 -> 1445.3559 | AA16: =CONCATENATE(M16,"-",N16) -> 3200-200
D17: =VLOOKUP(E17,'1.1a-Jaarprijzen'!$B$13:$G$32,6,FALSE) -> 2 | E17: OBS Willem Eggert | F17: bgg | G17: E.003 | H17: entrée vso-nso | I17: =IF($M17="",0,VLOOKUP($M17,Kengetal,4,FALSE)) -> entree, gang, hal, repro | J17: inloop/coral | K17: 8.1859011 | L17: 0 | M17: 3260 | N17: =VLOOKUP(M17,Kengetal,3,FALSE) -> 260 | O17: 1 | P17: 1 | Q17: =S17*K17*O17 -> 0 | R17: =T17*K17*P17 -> 0 | S17: =IF($M17=0,0,VLOOKUP($M17,Kengetal,6,FALSE)) -> 0 | T17: =IF($M17=0,0,VLOOKUP($M17,Kengetal,7,FALSE)) -> 0 | U17: =IF(M17="","",VLOOKUP(M17,Kengetal,14,FALSE)) -> V | V17: VSO-NSO 't Boemeltje | W17: =(Q17+R17)*'1.0-Contractblad'!$L$37 -> 0 | X17: =VLOOKUP(E17,'1.1a-Jaarprijzen'!$B$35:$Q$57,16,FALSE)*K17 -> 0 | Z17: =K17*N17 -> 2128.3343 | AA17: =CONCATENATE(M17,"-",N17) -> 3260-260
D18: =VLOOKUP(E18,'1.1a-Jaarprijzen'!$B$13:$G$32,6,FALSE) -> 2 | E18: OBS Willem Eggert | F18: bgg | G18: G.001 | H18: leerplein | I18: =IF($M18="",0,VLOOKUP($M18,Kengetal,4,FALSE)) -> leslokaal/leerplein groep 4 t/m 8 | J18: Tapijt | K18: 132.39338 | L18: 0 | M18: 18200 | N18: =VLOOKUP(M18,Kengetal,3,FALSE) -> 200 | O18: 1 | P18: 1 | Q18: =S18*K18*O18 -> 0 | R18: =T18*K18*P18 -> 0 | S18: =IF($M18=0,0,VLOOKUP($M18,Kengetal,6,FALSE)) -> 0 | T18: =IF($M18=0,0,VLOOKUP($M18,Kengetal,7,FALSE)) -> 0 | U18: =IF(M18="","",VLOOKUP(M18,Kengetal,14,FALSE)) -> L | W18: =(Q18+R18)*'1.0-Contractblad'!$L$37 -> 0 | X18: =VLOOKUP(E18,'1.1a-Jaarprijzen'!$B$35:$Q$57,16,FALSE)*K18 -> 0 | Z18: =K18*N18 -> 26478.676 | AA18: =CONCATENATE(M18,"-",N18) -> 18200-200
D19: =VLOOKUP(E19,'1.1a-Jaarprijzen'!$B$13:$G$32,6,FALSE) -> 2 | E19: OBS Willem Eggert | F19: bgg | G19: G.002 | H19: gang vso-nso | I19: =IF($M19="",0,VLOOKUP($M19,Kengetal,4,FALSE)) -> entree, gang, hal, repro | J19: Tapijt | K19: 8.6152534 | L19: 0 | M19: 3260 | N19: =VLOOKUP(M19,Kengetal,3,FALSE) -> 260 | O19: 1 | P19: 1 | Q19: =S19*K19*O19 -> 0 | R19: =T19*K19*P19 -> 0 | S19: =IF($M19=0,0,VLOOKUP($M19,Kengetal,6,FALSE)) -> 0 | T19: =IF($M19=0,0,VLOOKUP($M19,Kengetal,7,FALSE)) -> 0 | U19: =IF(M19="","",VLOOKUP(M19,Kengetal,14,FALSE)) -> V | V19: VSO-NSO 't Boemeltje | W19: =(Q19+R19)*'1.0-Contractblad'!$L$37 -> 0 | X19: =VLOOKUP(E19,'1.1a-Jaarprijzen'!$B$35:$Q$57,16,FALSE)*K19 -> 0 | Z19: =K19*N19 -> 2239.9659 | AA19: =CONCATENATE(M19,"-",N19) -> 3260-260
D20: =VLOOKUP(E20,'1.1a-Jaarprijzen'!$B$13:$G$32,6,FALSE) -> 2 | E20: OBS Willem Eggert | F20: bgg | G20: G.003 | H20: gang vso-nso | I20: =IF($M20="",0,VLOOKUP($M20,Kengetal,4,FALSE)) -> entree, gang, hal, repro | J20: Tapijt | K20: 5.1528372 | L20: 0 | M20: 3260 | N20: =VLOOKUP(M20,Kengetal,3,FALSE) -> 260 | O20: 1 | P20: 1 | Q20: =S20*K20*O20 -> 0 | R20: =T20*K20*P20 -> 0 | S20: =IF($M20=0,0,VLOOKUP($M20,Kengetal,6,FALSE)) -> 0 | T20: =IF($M20=0,0,VLOOKUP($M20,Kengetal,7,FALSE)) -> 0 | U20: =IF(M20="","",VLOOKUP(M20,Kengetal,14,FALSE)) -> V | V20: VSO-NSO 't Boemeltje | W20: =(Q20+R20)*'1.0-Contractblad'!$L$37 -> 0 | X20: =VLOOKUP(E20,'1.1a-Jaarprijzen'!$B$35:$Q$57,16,FALSE)*K20 -> 0 | Z20: =K20*N20 -> 1339.7377 | AA20: =CONCATENATE(M20,"-",N20) -> 3260-260
D21: =VLOOKUP(E21,'1.1a-Jaarprijzen'!$B$13:$G$32,6,FALSE) -> 2 | E21: OBS Willem Eggert | F21: bgg | G21: G.004 | H21: gang vso-nso | I21: =IF($M21="",0,VLOOKUP($M21,Kengetal,4,FALSE)) -> entree, gang, hal, repro | J21: Tapijt | K21: 28.418091 | L21: 0 | M21: 3260 | N21: =VLOOKUP(M21,Kengetal,3,FALSE) -> 260 | O21: 1 | P21: 1 | Q21: =S21*K21*O21 -> 0 | R21: =T21*K21*P21 -> 0 | S21: =IF($M21=0,0,VLOOKUP($M21,Kengetal,6,FALSE)) -> 0 | T21: =IF($M21=0,0,VLOOKUP($M21,Kengetal,7,FALSE)) -> 0 | U21: =IF(M21="","",VLOOKUP(M21,Kengetal,14,FALSE)) -> V | V21: VSO-NSO 't Boemeltje | W21: =(Q21+R21)*'1.0-Contractblad'!$L$37 -> 0 | X21: =VLOOKUP(E21,'1.1a-Jaarprijzen'!$B$35:$Q$57,16,FALSE)*K21 -> 0 | Z21: =K21*N21 -> 7388.7038 | AA21: =CONCATENATE(M21,"-",N21) -> 3260-260
D22: =VLOOKUP(E22,'1.1a-Jaarprijzen'!$B$13:$G$32,6,FALSE) -> 2 | E22: OBS Willem Eggert | F22: bgg | G22: H.001 | H22: keuken vso-nso | I22: =IF($M22="",0,VLOOKUP($M22,Kengetal,4,FALSE)) -> pantry/keuken | J22: Sure step | K22: 40.358958 | L22: 0 | M22: 5260 | N22: =VLOOKUP(M22,Kengetal,3,FALSE) -> 260 | O22: 1 | P22: 1 | Q22: =S22*K22*O22 -> 0 | R22: =T22*K22*P22 -> 0 | S22: =IF($M22=0,0,VLOOKUP($M22,Kengetal,6,FALSE)) -> 0 | T22: =IF($M22=0,0,VLOOKUP($M22,Kengetal,7,FALSE)) -> 0 | U22: =IF(M22="","",VLOOKUP(M22,Kengetal,14,FALSE)) -> V | V22: VSO-NSO 't Boemeltje | W22: =(Q22+R22)*'1.0-Contractblad'!$L$37 -> 0 | X22: =VLOOKUP(E22,'1.1a-Jaarprijzen'!$B$35:$Q$57,16,FALSE)*K22 -> 0 | Z22: =K22*N22 -> 10493.329 | AA22: =CONCATENATE(M22,"-",N22) -> 5260-260
D23: =VLOOKUP(E23,'1.1a-Jaarprijzen'!$B$13:$G$32,6,FALSE) -> 2 | E23: OBS Willem Eggert | F23: bgg | G23: L.001 | H23: leslokaal | I23: =IF($M23="",0,VLOOKUP($M23,Kengetal,4,FALSE)) -> leslokaal/leerplein groep 4 t/m 8 | J23: Lino | K23: 56.338647 | L23: 0 | M23: 18200 | N23: =VLOOKUP(M23,Kengetal,3,FALSE) -> 200 | O23: 1 | P23: 1 | Q23: =S23*K23*O23 -> 0 | R23: =T23*K23*P23 -> 0 | S23: =IF($M23=0,0,VLOOKUP($M23,Kengetal,6,FALSE)) -> 0 | T23: =IF($M23=0,0,VLOOKUP($M23,Kengetal,7,FALSE)) -> 0 | U23: =IF(M23="","",VLOOKUP(M23,Kengetal,14,FALSE)) -> L | W23: =(Q23+R23)*'1.0-Contractblad'!$L$37 -> 0 | X23: =VLOOKUP(E23,'1.1a-Jaarprijzen'!$B$35:$Q$57,16,FALSE)*K23 -> 0 | Z23: =K23*N23 -> 11267.729 | AA23: =CONCATENATE(M23,"-",N23) -> 18200-200
D24: =VLOOKUP(E24,'1.1a-Jaarprijzen'!$B$13:$G$32,6,FALSE) -> 2 | E24: OBS Willem Eggert | F24: bgg | G24: L.002 | H24: leslokaal | I24: =IF($M24="",0,VLOOKUP($M24,Kengetal,4,FALSE)) -> leslokaal/leerplein groep 4 t/m 8 | J24: Lino | K24: 55.977689 | L24: 0 | M24: 18200 | N24: =VLOOKUP(M24,Kengetal,3,FALSE) -> 200 | O24: 1 | P24: 1 | Q24: =S24*K24*O24 -> 0 | R24: =T24*K24*P24 -> 0 | S24: =IF($M24=0,0,VLOOKUP($M24,Kengetal,6,FALSE)) -> 0 | T24: =IF($M24=0,0,VLOOKUP($M24,Kengetal,7,FALSE)) -> 0 | U24: =IF(M24="","",VLOOKUP(M24,Kengetal,14,FALSE)) -> L | W24: =(Q24+R24)*'1.0-Contractblad'!$L$37 -> 0 | X24: =VLOOKUP(E24,'1.1a-Jaarprijzen'!$B$35:$Q$57,16,FALSE)*K24 -> 0 | Z24: =K24*N24 -> 11195.538 | AA24: =CONCATENATE(M24,"-",N24) -> 18200-200
D25: =VLOOKUP(E25,'1.1a-Jaarprijzen'!$B$13:$G$32,6,FALSE) -> 2 | E25: OBS Willem Eggert | F25: bgg | G25: L.003 | H25: leslokaal | I25: =IF($M25="",0,VLOOKUP($M25,Kengetal,4,FALSE)) -> leslokaal/leerplein groep 4 t/m 8 | J25: Lino | K25: 56.026467 | L25: 0 | M25: 18200 | N25: =VLOOKUP(M25,Kengetal,3,FALSE) -> 200 | O25: 1 | P25: 1 | Q25: =S25*K25*O25 -> 0 | R25: =T25*K25*P25 -> 0 | S25: =IF($M25=0,0,VLOOKUP($M25,Kengetal,6,FALSE)) -> 0 | T25: =IF($M25=0,0,VLOOKUP($M25,Kengetal,7,FALSE)) -> 0 | U25: =IF(M25="","",VLOOKUP(M25,Kengetal,14,FALSE)) -> L | W25: =(Q25+R25)*'1.0-Contractblad'!$L$37 -> 0 | X25: =VLOOKUP(E25,'1.1a-Jaarprijzen'!$B$35:$Q$57,16,FALSE)*K25 -> 0 | Z25: =K25*N25 -> 11205.293 | AA25: =CONCATENATE(M25,"-",N25) -> 18200-200
D26: =VLOOKUP(E26,'1.1a-Jaarprijzen'!$B$13:$G$32,6,FALSE) -> 2 | E26: OBS Willem Eggert | F26: bgg | G26: L.004 | H26: leslokaal | I26: =IF($M26="",0,VLOOKUP($M26,Kengetal,4,FALSE)) -> leslokaal/leerplein groep 4 t/m 8 | J26: Lino | K26: 55.919156 | L26: 0 | M26: 18200 | N26: =VLOOKUP(M26,Kengetal,3,FALSE) -> 200 | O26: 1 | P26: 1 | Q26: =S26*K26*O26 -> 0 | R26: =T26*K26*P26 -> 0 | S26: =IF($M26=0,0,VLOOKUP($M26,Kengetal,6,FALSE)) -> 0 | T26: =IF($M26=0,0,VLOOKUP($M26,Kengetal,7,FALSE)) -> 0 | U26: =IF(M26="","",VLOOKUP(M26,Kengetal,14,FALSE)) -> L | W26: =(Q26+R26)*'1.0-Contractblad'!$L$37 -> 0 | X26: =VLOOKUP(E26,'1.1a-Jaarprijzen'!$B$35:$Q$57,16,FALSE)*K26 -> 0 | Z26: =K26*N26 -> 11183.831 | AA26: =CONCATENATE(M26,"-",N26) -> 18200-200
D27: =VLOOKUP(E27,'1.1a-Jaarprijzen'!$B$13:$G$32,6,FALSE) -> 2 | E27: OBS Willem Eggert | F27: bgg | G27: L.005 | H27: peuterspeelzaal vso-nso | I27: =IF($M27="",0,VLOOKUP($M27,Kengetal,4,FALSE)) -> speellokaal | J27: Lino | K27: 56.163046 | L27: 0 | M27: 8260 | N27: =VLOOKUP(M27,Kengetal,3,FALSE) -> 260 | O27: 1 | P27: 1 | Q27: =S27*K27*O27 -> 0 | R27: =T27*K27*P27 -> 0 | S27: =IF($M27=0,0,VLOOKUP($M27,Kengetal,6,FALSE)) -> 0 | T27: =IF($M27=0,0,VLOOKUP($M27,Kengetal,7,FALSE)) -> 0 | U27: =IF(M27="","",VLOOKUP(M27,Kengetal,14,FALSE)) -> L | V27: VSO-NSO 't Boemeltje | W27: =(Q27+R27)*'1.0-Contractblad'!$L$37 -> 0 | X27: =VLOOKUP(E27,'1.1a-Jaarprijzen'!$B$35:$Q$57,16,FALSE)*K27 -> 0 | Z27: =K27*N27 -> 14602.392 | AA27: =CONCATENATE(M27,"-",N27) -> 8260-260
D28: =VLOOKUP(E28,'1.1a-Jaarprijzen'!$B$13:$G$32,6,FALSE) -> 2 | E28: OBS Willem Eggert | F28: bgg | G28: L.006 | H28: leslokaal | I28: =IF($M28="",0,VLOOKUP($M28,Kengetal,4,FALSE)) -> leslokaal groep 1 t/m 3 | J28: Lino | K28: 54.55337 | L28: 0 | M28: 7200 | N28: =VLOOKUP(M28,Kengetal,3,FALSE) -> 200 | O28: 1 | P28: 1 | Q28: =S28*K28*O28 -> 0 | R28: =T28*K28*P28 -> 0 | S28: =IF($M28=0,0,VLOOKUP($M28,Kengetal,6,FALSE)) -> 0 | T28: =IF($M28=0,0,VLOOKUP($M28,Kengetal,7,FALSE)) -> 0 | U28: =IF(M28="","",VLOOKUP(M28,Kengetal,14,FALSE)) -> L | W28: =(Q28+R28)*'1.0-Contractblad'!$L$37 -> 0 | X28: =VLOOKUP(E28,'1.1a-Jaarprijzen'!$B$35:$Q$57,16,FALSE)*K28 -> 0 | Z28: =K28*N28 -> 10910.674 | AA28: =CONCATENATE(M28,"-",N28) -> 7200-200
D29: =VLOOKUP(E29,'1.1a-Jaarprijzen'!$B$13:$G$32,6,FALSE) -> 2 | E29: OBS Willem Eggert | F29: bgg | G29: L.007 | H29: leslokaal | I29: =IF($M29="",0,VLOOKUP($M29,Kengetal,4,FALSE)) -> leslokaal groep 1 t/m 3 | J29: Lino | K29: 64.699204 | L29: 0 | M29: 7200 | N29: =VLOOKUP(M29,Kengetal,3,FALSE) -> 200 | O29: 1 | P29: 1 | Q29: =S29*K29*O29 -> 0 | R29: =T29*K29*P29 -> 0 | S29: =IF($M29=0,0,VLOOKUP($M29,Kengetal,6,FALSE)) -> 0 | T29: =IF($M29=0,0,VLOOKUP($M29,Kengetal,7,FALSE)) -> 0 | U29: =IF(M29="","",VLOOKUP(M29,Kengetal,14,FALSE)) -> L | W29: =(Q29+R29)*'1.0-Contractblad'!$L$37 -> 0 | X29: =VLOOKUP(E29,'1.1a-Jaarprijzen'!$B$35:$Q$57,16,FALSE)*K29 -> 0 | Z29: =K29*N29 -> 12939.841 | AA29: =CONCATENATE(M29,"-",N29) -> 7200-200
D30: =VLOOKUP(E30,'1.1a-Jaarprijzen'!$B$13:$G$32,6,FALSE) -> 2 | E30: OBS Willem Eggert | F30: bgg | G30: L.008 | H30: leslokaal | I30: =IF($M30="",0,VLOOKUP($M30,Kengetal,4,FALSE)) -> Kinderopvang | J30: Lino | K30: 62.328591 | L30: 0 | M30: 22260 | N30: =VLOOKUP(M30,Kengetal,3,FALSE) -> 260 | O30: 1 | P30: 1 | Q30: =S30*K30*O30 -> 0 | R30: =T30*K30*P30 -> 0 | S30: =IF($M30=0,0,VLOOKUP($M30,Kengetal,6,FALSE)) -> 0 | T30: =IF($M30=0,0,VLOOKUP($M30,Kengetal,7,FALSE)) -> 0 | U30: =IF(M30="","",VLOOKUP(M30,Kengetal,14,FALSE)) -> L | W30: =(Q30+R30)*'1.0-Contractblad'!$L$37 -> 0 | X30: =VLOOKUP(E30,'1.1a-Jaarprijzen'!$B$35:$Q$57,16,FALSE)*K30 -> 0 | Z30: =K30*N30 -> 16205.434 | AA30: =CONCATENATE(M30,"-",N30) -> 22260-260
D31: =VLOOKUP(E31,'1.1a-Jaarprijzen'!$B$13:$G$32,6,FALSE) -> 2 | E31: OBS Willem Eggert | F31: bgg | G31: L.009 | H31: leslokaal | I31: =IF($M31="",0,VLOOKUP($M31,Kengetal,4,FALSE)) -> Kinderopvang | J31: Lino | K31: 55.792333 | L31: 0 | M31: 22260 | N31: =VLOOKUP(M31,Kengetal,3,FALSE) -> 260 | O31: 1 | P31: 1 | Q31: =S31*K31*O31 -> 0 | R31: =T31*K31*P31 -> 0 | S31: =IF($M31=0,0,VLOOKUP($M31,Kengetal,6,FALSE)) -> 0 | T31: =IF($M31=0,0,VLOOKUP($M31,Kengetal,7,FALSE)) -> 0 | U31: =IF(M31="","",VLOOKUP(M31,Kengetal,14,FALSE)) -> L | W31: =(Q31+R31)*'1.0-Contractblad'!$L$37 -> 0 | X31: =VLOOKUP(E31,'1.1a-Jaarprijzen'!$B$35:$Q$57,16,FALSE)*K31 -> 0 | Z31: =K31*N31 -> 14506.006 | AA31: =CONCATENATE(M31,"-",N31) -> 22260-260
D32: =VLOOKUP(E32,'1.1a-Jaarprijzen'!$B$13:$G$32,6,FALSE) -> 2 | E32: OBS Willem Eggert | F32: bgg | G32: L.010 | H32: leslokaal | I32: =IF($M32="",0,VLOOKUP($M32,Kengetal,4,FALSE)) -> leslokaal groep 1 t/m 3 | J32: Lino | K32: 56.15329 | L32: 0 | M32: 7200 | N32: =VLOOKUP(M32,Kengetal,3,FALSE) -> 200 | O32: 1 | P32: 1 | Q32: =S32*K32*O32 -> 0 | R32: =T32*K32*P32 -> 0 | S32: =IF($M32=0,0,VLOOKUP($M32,Kengetal,6,FALSE)) -> 0 | T32: =IF($M32=0,0,VLOOKUP($M32,Kengetal,7,FALSE)) -> 0 | U32: =IF(M32="","",VLOOKUP(M32,Kengetal,14,FALSE)) -> L | W32: =(Q32+R32)*'1.0-Contractblad'!$L$37 -> 0 | X32: =VLOOKUP(E32,'1.1a-Jaarprijzen'!$B$35:$Q$57,16,FALSE)*K32 -> 0 | Z32: =K32*N32 -> 11230.658 | AA32: =CONCATENATE(M32,"-",N32) -> 7200-200
D33: =VLOOKUP(E33,'1.1a-Jaarprijzen'!$B$13:$G$32,6,FALSE) -> 2 | E33: OBS Willem Eggert | F33: bgg | G33: L.011 | H33: leslokaal | I33: =IF($M33="",0,VLOOKUP($M33,Kengetal,4,FALSE)) -> leslokaal/leerplein groep 4 t/m 8 | J33: Lino | K33: 55.9094 | L33: 0 | M33: 18200 | N33: =VLOOKUP(M33,Kengetal,3,FALSE) -> 200 | O33: 1 | P33: 1 | Q33: =S33*K33*O33 -> 0 | R33: =T33*K33*P33 -> 0 | S33: =IF($M33=0,0,VLOOKUP($M33,Kengetal,6,FALSE)) -> 0 | T33: =IF($M33=0,0,VLOOKUP($M33,Kengetal,7,FALSE)) -> 0 | U33: =IF(M33="","",VLOOKUP(M33,Kengetal,14,FALSE)) -> L | W33: =(Q33+R33)*'1.0-Contractblad'!$L$37 -> 0 | X33: =VLOOKUP(E33,'1.1a-Jaarprijzen'!$B$35:$Q$57,16,FALSE)*K33 -> 0 | Z33: =K33*N33 -> 11181.88 | AA33: =CONCATENATE(M33,"-",N33) -> 18200-200
D34: =VLOOKUP(E34,'1.1a-Jaarprijzen'!$B$13:$G$32,6,FALSE) -> 2 | E34: OBS Willem Eggert | F34: bgg | G34: L.012 | H34: leslokaal | I34: =IF($M34="",0,VLOOKUP($M34,Kengetal,4,FALSE)) -> leslokaal/leerplein groep 4 t/m 8 | J34: Lino | K34: 55.655754 | L34: 0 | M34: 18200 | N34: =VLOOKUP(M34,Kengetal,3,FALSE) -> 200 | O34: 1 | P34: 1 | Q34: =S34*K34*O34 -> 0 | R34: =T34*K34*P34 -> 0 | S34: =IF($M34=0,0,VLOOKUP($M34,Kengetal,6,FALSE)) -> 0 | T34: =IF($M34=0,0,VLOOKUP($M34,Kengetal,7,FALSE)) -> 0 | U34: =IF(M34="","",VLOOKUP(M34,Kengetal,14,FALSE)) -> L | W34: =(Q34+R34)*'1.0-Contractblad'!$L$37 -> 0 | X34: =VLOOKUP(E34,'1.1a-Jaarprijzen'!$B$35:$Q$57,16,FALSE)*K34 -> 0 | Z34: =K34*N34 -> 11131.151 | AA34: =CONCATENATE(M34,"-",N34) -> 18200-200
