Workbook

Sheet 1. Huur en onderhoud
B2: Prijzenblad 1 - Huur en Onderhoud
B5: Aan de huidige aantallen kunnen geen rechten worden ontleend maar zijn wel representatief op basis van de huidige verbruikscijfers
B7: Financieringsvorm: Huur
B9: Huurprijs is inclusief preventief- en correctief onderhoud
F11: Initële contractperiode (jaar 1 t/m 4) | H11: Optie Verlengingsjaar 5 + 6 | L11: Optie verlengingsjaar 7 + 8
B12: Periodieke huurprijs Automaten
B13: Categorie Koffieautomaat | C13: Aantal automaten | D13: Typenummer automaat | E13: Kosten per maand (incl. preventief en correctief onderhoud) € | F13: Kosten per jaar € | G13: Kosten per maand (incl. preventief en correctief onderhoud) € | H13: Kosten per jaar € | I13: Kosten per maand (incl. preventief en correctief onderhoud) € | J13: Kosten per jaar € | K13: Kosten per maand (incl. preventief en correctief onderhoud) € | L13: Kosten per jaar € | M13: Kosten per maand (incl. preventief en correctief onderhoud) € | N13: Kosten per jaar €
B14: Categorie A (bonen) | C14: 34 | F14: =(C14*E14)*12 -> 0 | H14: =(C14*G14)*12 -> 0 | J14: =(C14*I14)*12 -> 0 | L14: =(C14*K14)*12 -> 0 | N14: =(C14*M14)*12 -> 0
B15: Categorie B (Instant) | C15: 30 | F15: =(C15*E15)*12 -> 0 | H15: =(C15*G15)*12 -> 0 | J15: =(C15*I15)*12 -> 0 | L15: =(C15*K15)*12 -> 0 | N15: =(C15*M15)*12 -> 0
B17: Totale kosten € (excl btw) | F17: =(F14+F15)*4 -> 0 | H17: =(H14+H15+H16) -> 0 | J17: =(J14+J15+J16) -> 0 | L17: =(L14+L15+L16) -> 0 | N17: =(N14+N15+N16) -> 0
F18: kosten per 4 jaar
B19: Vergelijkingsprijs | N19: =(F17+H17+J17+L17+N16) -> 0
B20: Totale contractperiode van 4 jaar + 2 keer 2 jaar verlenging
B22: Onderdelen
B23: Omschrijving | C23: Aantal | D23: Kosten per maand € | E23: Kosten per jaar €
B24: Onderzetkast | C24: 19 | E24: =(C24*D24)*12 -> 0
B26: vergelijkingsprijs onderzetkast (Totale contractperiode van 4 jaar + 2 keer 2 jaar verlenging) | F26: =E24*8 -> 0
B28: Naam inschrijver
B29: Ingevuld door
B30: Functie
B31: Datum
B32: Hantekening

Sheet 2. Full service
B2: Prijzenblad 2 - Full Service
B5: Aan de huidige aantallen kunnen geen rechten worden ontleend maar zijn wel representatief op basis van de huidige verbruikscijfers
F7: Initële contractperiode (jaar 1 t/m 4) | H7: Optie Verlengingsjaar 5 + 6 | L7: Optie verlengingsjaar 7 + 8
B8: Full service koffieautomaten
B9: Categorie Koffieautomaat | C9: Aantal automaten met full service | D9: Aantal onderhoudsbeurten per jaar | E9: Typenummer automaat | F9: Full service kosten per automaat € | G9: Full service kosten per jaar € | H9: Full service kosten per automaat € | I9: Full service kosten per jaar € | J9: Full service kosten per automaat € | K9: Full service kosten per jaar € | L9: Full service kosten per automaat € | M9: Full service kosten per jaar € | N9: Full service kosten per automaat € | O9: Full service kosten per jaar €
B10: Categorie A (bonen) | C10: 27 | G10: =(C10*F10)*12 -> 0 | I10: =(C10*H10)*12 -> 0 | K10: =(C10*J10)*12 -> 0 | M10: =(C10*L10)*12 -> 0 | O10: =(C10*N10)*12 -> 0
B12: Totale kosten € (excl btw) | G12: =G10*4 -> 0 | I12: =I10 -> 0 | K12: =K10 -> 0 | M12: =M10 -> 0 | O12: =O10 -> 0
G13: (Kosten per 4 jaar)
B14: Vergelijkingsprijs | O14: =(G12+I12+K12+M12+O11) -> 0
B15: Totale contractperiode van 4 jaar + 2 keer 2 jaar verlenging
B18: Naam inschrijver
B19: Ingevuld door
B20: Functie
B21: Datum
B22: Hantekening

Sheet 3. Ingrediënten en toebehoren
B2: Prijzenblad 3 - Ingrediënten en toebehoren
B5: Aan de huidige aantallen kunnen geen rechten worden ontleend maar zijn wel representatief op basis van de huidige verbruikscijfers
B7: Ingredienten
B8: Omschrijving | C8: Aantal kilo | D8: Prijs per kilo | E8: Prijs per maand | F8: Prijs per jaar
B9: Koffiebonen | C9: 275 | E9: =(C9*D9)/12 -> 0 | F9: =C9*D9 -> 0
B10: Instant koffie | C10: 16 | E10: =(C10*D10)/12 -> 0 | F10: =C10*D10 -> 0
B11: Creamer | C11: 75 | E11: =(C11*D11)/12 -> 0 | F11: =C11*D11 -> 0
B12: Cacao | C12: 85 | E12: =(C12*D12)/12 -> 0 | F12: =C12*D12 -> 0
B13: Plantaardige topping | C13: 25 | E13: =(C13*D13)/12 -> 0 | F13: =C13*D13 -> 0
B15: Vergelijkingsprijs = totaal prijs per jaar * 8 (volledige contractsperiode) | F15: =SUM(F9:F12)*8 -> 0
B18: Toebehoren
B19: Toebehoren | C19: Aantal per jaar | D19: Eenheid | E19: Prijs per eenheid | F19: Prijs per maand | G19: Per jaar
B20: Thee (8 smaken zelfde prijs) | C20: =7500*12 -> 90000 | D20: zakjes | F20: =(C20*E20)/12 -> 0 | G20: =F20*12 -> 0
B21: Soep (6 soorten soep zelfde prijs) | C21: =1500*12 -> 18000 | D21: zakjes | F21: =(C21*E21)/12 -> 0 | G21: =F21*12 -> 0
B22: Zoetstaafjes | C22: =800*12 -> 9600 | D22: zakjes | F22: =(C22*E22)/12 -> 0 | G22: =F22*12 -> 0
B23: Roerstaafjes | C23: 4000 | D23: staafjes | F23: =(C23*E23)/12 -> 0 | G23: =F23*12 -> 0
B24: Karton beker | C24: =10000*12 -> 120000 | D24: stuks | F24: =(C24*E24)/12 -> 0 | G24: =F24*12 -> 0
B25: Creamersticks | C25: 1600 | D25: stuks | F25: =(C25*E25)/12 -> 0 | G25: =F25*12 -> 0
B26: Suikersticks | C26: 3400 | D26: stuks | F26: =(C26*E26)/12 -> 0 | G26: =F26*12 -> 0
B27: Koffie filterpapier 90/250mm | C27: 750 | D27: stuks | F27: =(C27*E27)/12 -> 0 | G27: =F27*12 -> 0
B28: Roerstaafjes bamboe | C28: 4000 | D28: stuks | F28: =(C28*E28)/12 -> 0 | G28: =F28*12 -> 0
B29: Afvalzak automaat (passend) | C29: 150 | D29: stuks | F29: =(C29*E29)/12 -> 0 | G29: =F29*12 -> 0
B30: Reinigingstabletten | C30: 250 | D30: stuks | F30: =(C30*E30)/12 -> 0 | G30: =F30*12 -> 0
B32: Vergelijkingsprijs = totaal prijs per jaar * 8 (volledige contractsperiode) | G32: =SUM(G20:G30)*8 -> 0
B34: De aantallen worden gebruikt om te komen tot een vergelijkingsprijs.
B35: De aangegeven aantallen omvat geen afname verplichtingen.
B37: Naam inschrijver
B38: Ingevuld door
B39: Functie
B40: Datum
B41: Hantekening

Sheet 4. totaal
B2: Prijzenblad 4 - Totaaloverzicht prijzen
B6: Vergelijkingsprijs
B7: Omschrijving prijzenblad | C7: Prijs per jaar (Contractperiode + verlenging, totaal 8 jaar) €
B8: 1. Huur en onderhoud | C8: ='1. Huur en onderhoud'!N19 -> 0
B9: 1. Onderzetkasten | C9: ='1. Huur en onderhoud'!F26 -> 0
B10: 2. Full service | C10: ='2. Full service'!O14 -> 0
B11: 3. Ingrediënten | C11: ='3. Ingrediënten en toebehoren'!F15 -> 0
B12: 3. Toebehoren | C12: ='3. Ingrediënten en toebehoren'!G32 -> 0
B14: Totaal vergelijksprijs | C14: =(C8+C10+C11+C12) -> 0
B15: Contractperiode 4 + 2 x 2 jaar
B17: Naam inschrijver
B18: Ingevuld door
B19: Functie
B20: Datum
B21: Hantekening

Sheet Instructie
B2: Instructie prijzenblad
B6: 1 | C6: U dient de opmaak van het prijzenblad ongewijzigd te laten. Indien de opmaak van het prijzenblad wordt gewijzigd, kan de Inschrijving terzijde worden gelegd
B7: 2 | C7: Alle vermelde prijzen dienen te zijn gesteld in euro's exclusief BTW
B8: 3 | C8: Alle kosten die verband houden met de uitvoering van de Opdracht dienen in de opgegeven prijzen te zijn inbegrepen. Inschrijver kan geen aanvullende kosten, toeslagen of vergoeidngen in rekening brengen anders dan de op het prijzenblad opgegeven tarieven
B9: 4 | C9: Inschrijver dient enkel de grijze cellen in het prijzenblad te vullen
B10: 5 | C10: De op het prijzenblad opgegeven prijzen worden overeenkomstig de in het prijzenblad opgenomen berekeningsmethodiek verwerkt tot één totale inschrijfprijs. Deze totale inschrijfprijs wordt gebruikt bij de prijsbeoordeling
B11: 6 | C11: De kosten van huur en onderhoud, full service en Ingrediënten en toebehoren worden allemaal keer (8) gedaan om zo de totale 8 contractjaren als vergelijk te hanteren.
B12: 7 | C12: Inschrijver dient het volledig ingevulde prijzenblad rechtsgeldig ondertekend bij de Inschrijving toe te voegen.
B13: 8 | C13: De groene cellen laten de totale vergelijkingsprijs zien (4. Totaal)
B14: 9 | C14: U dient dit gepubliceerde en door u ingevulde document in een bij uw Inschrijving toe te voegen
B15: 10 | C15: Aan de aantallen in dit document kunnen geen rechten worden ontleend.
