Workbook

Sheet T1 Samenvatting Omvang & Aantal
B2: Europese openbare aanbesteding 'Aanschaf & onderhoud veegmachines'
B3: Invulformulier prijs en kwaliteit
B5: Tabblad 1: Samenvatting, omvang & aantal
B7: Perceel 3 | C7: Grote veegmachine
B8: Opdrachtnemer
B9: Datum
B12: Door Opdrachtnemer behaalde scores op kwaliteit en prijs | D12: Punten
B13: Behaalde score (in punten) | C13: Op het onderdeel kwaliteit (deel 1 tot en met 3) | D13: ='T2 Kwaliteit Perceel P1'!F13 -> 0
C14: Op het onderdeel MVOI (deel 4) | D14: ='T3 MVOI'!F10 -> 0
C15: Op het onderdeel prijs - Aanschafprijs (deel 5) | D15: ='T4 Prijs Aanschaf P1'!F21 -> 0
C16: Op het onderdeel Service (deel 6) | D16: ='T5 Prijs ROS P1'!F10 -> 0
C17: Behaalde totaalscore (in punten) | D17: =SUM(D13:D16) -> 0
B20: Omvang van het perceel | D20: Aantal (in stuks) | F20: [Invullen door Opdrachtnemer ]
B21: Omvang van het perceel | C21: Het aantal in te kopen inzamelvoertuigen in dit perceel | D21: 14 | F21: 1
B24: Aangeboden oplossing
B25: Onderdeel | C25: Opdrachtnemer geeft de OEM [Original Equipment Manufacturer] van ieder onderdeel op:
B26: Het chassis
B27: Accupakket
B28: Borstelsysteem
B33: Invulinstructies
B34: 1. U vult ALLE GELE cellen in op ALLE 5 tabbladen. Een onvolledig ingevuld prijsformulier is ongeldig en leidt tot uitsluiting van de aanbesteding.
B35: 2. De prijzen zijn exclusief BTW, maximaal 2 decimalen.
B36: 3. De ingediende prijzen zijn inclusief ALLE kosten die voortvloeien uit de aanbestedingsdocumenten en het invullen van de kwalitatieve gunningscriteria.
B37: 4. De inschrijfprijs van Opdrachtnemer is een prijs per stuk (per 1 veegmachine) en is van toepassing op alle inzamelvoertuigen die in het kader van dit perceel door de gemeente ingekocht worden.
B38: 5. De eenheidsprijzen zijn van toepassing ongeacht het daadwerkelijke aantal eenheden dat tijdens de looptijd van de overeenkomst wordt afgenomen.
B39: 6. De eenheidsprijzen van Opdrachtnemer mogen per prijsonderdeel niet lager zijn dan de betreffende minimale prijs per eenheid en niet hoger dan de betreffende maximale prijs per eenheid. Inschrijvingen waarin één of meer eenheidsprijzen worden aangeboden die lager zijn dan de minimale eenheidsprijs en/of hoger zijn dan de maximale eenheidsprijs, worden ongeldig verklaard en komen niet voor gunning in aanmerking. Dat geldt ook als nulprijzen of negatieve prijzen worden ingevuld, dit is niet toegestaan.
B40: 7. De door u ingevulde waarden worden omgezet in punten. Bovenaan elk tabblad staat de maximaal te behalen score en eventuele weging van de verschillende onderdelen. Dit wordt op tabblad 1 (dit tabblad) opgeteld tot een totaalscore. De inschrijver met de hoogste totaalscore heeft de economisch meest voordelige aanbieding gedaan. Controleer vóór uw inschrijving of cellen D13 t/m D17 van dit tabblad ingevuld zijn.

Sheet T2 Kwaliteit Perceel P1
B2: Europese openbare aanbesteding 'Aanschaf & onderhoud veegmachines'
B3: Invulformulier prijs en kwaliteit
B5: Tabblad 2: Invulformulier kwaliteit
B7: ='T1 Samenvatting Omvang & Aantal'!B7 -> Perceel 3 | C7: ='T1 Samenvatting Omvang & Aantal'!C7 -> Grote veegmachine
B9: Onderdeel: kwalitatieve gunningscriteria | D9: Weging % | E9: Maximaal aantal te behalen punten | F9: Aantal door Opdrachtnemer behaalde punten
B10: Deel 1 | C10: Technische criteria | D10: 0.4 | E10: =$E$13*D10 -> 18 | F10: =J27 -> 0
B11: Deel 2 | C11: Aankoopproces & Levering | D11: 0.25 | E11: =$E$13*D11 -> 11.25 | F11: =J47 -> 0
B12: Deel 3 | C12: ROS | D12: 0.35 | E12: =$E$13*D12 -> 15.75 | F12: =J61 -> 0
D13: =SUM(D10:D12) -> 1 | E13: 45 | F13: =SUM(F10:F12) -> 0
B15: Deel 1 | C15: Technische criteria
B16: Nr. | C16: Vraagstelling | D16: Minimum (eis = 0 punten) | E16: Maximum (= max score) | F16: Instructie bij invullen beantwoording en toelichting op beoordeling | G16: Weging (%) | H16: Maximale score in punten | I16: Beantwoording Opdrachtnemer | J16: Behaalde score in punten
B17: 0.1
B18: 1.1 | C18: Het netto laadvermogen bedraagt ten minste het in het programma van eisen (E-3.03) vereiste minimum. Meer is wenselijk. Hoeveel kilogram bedraagt het netto laadvermogen van het voertuig? | D18: 3500 | E18: 4600 | F18: Aantal kilogrammen invullen in hele kilogrammen, waarbij het aanbieden van een netto laadvermogen conform het programma van eisen (minimum) leidt tot 0 punten, het aanbieden van een netto laadvermogen conform het maximum (of meer) leidt tot het maximaal aantal -voor dit subgunningscriterium- te behalen punten. I.v.m. de werking van de formule voor het toekennen van het behaalde aantal punten moet Opdrachtnemer, (ook) als het netto laadvermogen meer dan het maximum is, het maximum aantal kilogrammen invullen als antwoord op dit gunningscriterium. | G18: =B17 -> 0.1 | H18: =$E$10*B17 -> 1.8 | J18: =IF(AND(I18>=MIN(D18,E18),I18<=MAX(D18,E18)),(1-(I18-E18)/(D18-E18))*H18,0) -> 0
B19: 0.2
B20: 1.2 | C20: De draaistraal over de bumper bedraagt maximaal het in het programma van eisen (E-3.08) vermelde maximum. Korter is wenselijk. Hoeveel millimeter bedraagt de draaistraal over de bumper bij maximale stuuruitslag? | D20: 8650 | E20: 7500 | F20: Aantal millimeters invullen in hele millimeters, waarbij het aanbieden van een draaistraal conform het programma van eisen (minimum) leidt tot 0 punten, het aanbieden van een draaistraal conform het maximum (of korter) leidt tot het maximaal aantal te behalen punten. I.v.m. de werking van de formule voor het toekennen van het behaalde aantal punten moet Opdrachtnemer, (ook) als de draaistraal kleiner dan het maximum is, het maximum invullen als antwoord op dit gunningscriterium. | G20: =B19 -> 0.2 | H20: =$E$10*B19 -> 3.6 | J20: =IF(AND(I20>=MIN(D20,E20),I20<=MAX(D20,E20)),(1-(I20-E20)/(D20-E20))*H20,0) -> 0
B21: 0.1
B22: 1.3 | C22: De totale lengte bedraagt maximaal het in het programma van eisen (E-3.06) vermelde maximum. Korter is wenselijk. Wat is de totale lengte van het voertuig (gemeten in millimeter). | D22: 5000 | E22: 4700 | F22: Aantal millimeters invullen in hele millimeters, waarbij het aanbieden van een totale lengte conform het programma van eisen (minimum) leidt tot 0 punten, het aanbieden van een totale lengte conform het maximum (of korter) leidt tot het maximaal aantal te behalen punten. I.v.m. de werking van de formule voor het toekennen van het behaalde aantal punten moet Opdrachtnemer, (ook) als de totale lengte korter dan het maximum is, het maximum invullen als antwoord op dit gunningscriterium. | G22: =B21 -> 0.1 | H22: =$E$10*B21 -> 1.8 | J22: =IF(AND(I22>=MIN(D22,E22),I22<=MAX(D22,E22)),(1-(I22-E22)/(D22-E22))*H22,0) -> 0
B23: 0.3
B24: 1.4 | C24: De totale breedte bedraagt maximaal het in het programma van eisen (E-3.05) vermelde maximum. Korter is wenselijk. Wat is de totale breedte van het voertuig (gemeten in millimeter). | D24: 1950 | E24: 1750 | F24: Aantal millimeters invullen in hele millimeters, waarbij het aanbieden van een totale lengte conform het programma van eisen (minimum) leidt tot 0 punten, het aanbieden van een totale lengte conform het maximum (of korter) leidt tot het maximaal aantal te behalen punten. I.v.m. de werking van de formule voor het toekennen van het behaalde aantal punten moet Opdrachtnemer, (ook) als de totale lengte korter dan het maximum is, het maximum invullen als antwoord op dit gunningscriterium. | G24: =B23 -> 0.3 | H24: =$E$10*B23 -> 5.4 | J24: =IF(AND(I24>=MIN(D24,E24),I24<=MAX(D24,E24)),(1-(I24-E24)/(D24-E24))*H24,0) -> 0
B25: 0.3
B26: 1.5 | C26: Aantal uren dat de veegmachine, onder normale omstandigheden en gebruik kan vegen zonder tussentijds bij te laden (onder tussentijds bijladen wordt niet verstaan het verwisselen van een verwisselbaar accupakket). | D26: 6 | E26: 9 | F26: Inschrijver toont bovenstaande als volgt aan: Het energieverbruik wordt gemeten conform hoofdstuk 4.5 uit de norm NEN-EN 15429-2, uitgiftedatum december 2012. De verbruiksmeting, zijnde het geconsumeerde energieverbruik, gedurende de testcyclus van een uur, wordt door inschrijver door middel van een certificaat of meetrapport aan de opdrachtgever overlegd. De netto bruikbare accucapaciteit wordt door inschrijver aangetoond in de inschrijving. De uitkomst van de formule: (netto bruikbare accucapaciteit / energieverbruik per uur conform NEN-EN 15429 hoofdstuk 4.5) | G26: =B25 -> 0.3 | H26: =$E$10*B25 -> 5.4 | J26: =IF(AND(I26>=MIN(D26,E26),I26<=MAX(D26,E26)),(1-(I26-E26)/(D26-E26))*H26,0) -> 0
B27: =SUM(B17,B19,B21,B23,B25) -> 1 | H27: =SUM(H18,H20,H22,H24,H26) -> 18 | J27: =SUM(J18,J20,J22,J24,J26) -> 0
B29: Deel 2 | C29: Aankoopproces & Levering
B30: Nr. | C30: Vraagstelling | F30: Instructie bij invullen beantwoording en toelichting op beoordeling | G30: Weging (%) | H30: Maximale score in punten | I30: Beantwoording Opdrachtnemer | J30: Behaalde score in punten
B31: 0.2 | I31: =E11*B31 -> 2.25
B32: 2.1 | C32: Geef aan hoeveel uren u inzet voor het gezamenlijk bepalen van de definitieve configuratie van de machine. De gemeente verwacht dat deze uren worden besteed aan een grondige voorbereiding, inhoudelijke advisering en actieve begeleiding van het configuratieproces. Omdat de uiteindelijke inzet en behoefte per machine vooraf niet volledig vaststaan, wordt van u een proactieve houding verwacht waarbij u, binnen de kaders van de aanbesteding, passende configuratiemogelijkheden aandraagt, toelicht en onderbouwt. De opgegeven uren dienen aantoonbaar bij te dragen aan het realiseren van de meest geschikte configuratie voor de gemeente en niet uitsluitend te bestaan uit algemene overleggen of administratieve afstemming. | E32: A | F32: 0 tot 2 uren (alleen afvinken van het bestek) | G32: 0 | H32: =G32*$I$31 -> 0 | J32: =IFERROR(VLOOKUP(I32,E32:H36,4,FALSE),0) -> 0
E33: B | F33: 2 tot 4 uren (korte toelichting op inschrijving) | G33: 0.25 | H33: =G33*$I$31 -> 0.5625
E34: C | F34: 4 tot 6 uren (toelichting en suggesties op inschrijving) | G34: 0.5 | H34: =G34*$I$31 -> 1.125
E35: D | F35: 6 tot 8 uren (advisering en ondersteuning configuratie) | G35: 0.75 | H35: =G35*$I$31 -> 1.6875
E36: E | F36: 8 -10 uren (minimaal 3 contactmomenten voor meest passende configuratie) | G36: 1 | H36: =G36*$I$31 -> 2.25
B37: 0.3 | I37: =E11*B37 -> 3.375
B38: 2.2 | C38: Geef aan hoeveel uren u inzet voor de voorbereiding, begeleiding en uitvoering van de FAT en de voorbereiding van de SAT. De gemeente verwacht een proactieve en betrokken houding gedurende deze fase, waarbij u tijdig communiceert, deelnemers actief meeneemt in het proces en zorgt voor een goede voorbereiding van alle betrokkenen. Van u wordt verwacht dat u de FAT inhoudelijk en op uw eigen locatie begeleidt. Aandachtspunten en bevindingen moeten helder worden toelicht en de gemeente verwacht ondersteuning bij een efficiënte en doelgerichte beoordeling van de machine. De opgegeven uren dienen aantoonbaar bij te dragen aan een soepele FAT en een succesvolle SAT en niet uitsluitend te bestaan uit algemene overleggen of administratieve afstemming. | E38: A | F38: 0 tot 2 uren (alleen datum voor FAT inplannen) | G38: 0 | H38: =G38*$I$37 -> 0 | J38: =IFERROR(VLOOKUP(I38,E37:H40,4,FALSE),0) -> 0
E39: B | F39: 2 tot 4 uren (machine checken op vast punten) | G39: 0.5 | H39: =G39*$I$37 -> 1.6875
E40: C | F40: 4 tot 8 uren (detailplanning, uitgebreide toelichting en verslaglegging) | G40: 1 | H40: =G40*$I$37 -> 3.375
B41: 0.5 | I41: =E11*B41 -> 5.625
B42: 2.3 | C42: Geef aan hoeveel uren u inzet voor de voorbereiding, begeleiding en uitvoering van de SAT, de aflevering van de machine en de instructie en training van gebruikers. De gemeente verwacht in deze fase een hoge mate van betrokkenheid, waarbij u tijdig afstemming zoekt, alle betrokkenen actief meeneemt in het proces en fungeert als aanspreekpunt gedurende de ingebruikname van de machine. Van u wordt verwacht dat u zorgt voor een gestructureerde voorbereiding, heldere communicatie en een doelgerichte begeleiding van maximaal vier gebruikers, inclusief de coördinator. De opgegeven uren dienen aantoonbaar bij te dragen aan een succesvolle overdracht naar de organisatie en niet uitsluitend te bestaan uit algemene overleggen of administratieve afstemming. | E42: A | F42: 0 tot 2 uren (aflevering en technisch akkoord) | G42: 0 | H42: =G42*$I$41 -> 0 | J42: =IFERROR(VLOOKUP(I42,E41:H46,4,FALSE),0) -> 0
E43: B | F43: 2 tot 4 uren (aflevering, technisch akkoord en korte instructie zonder voorbereiding) | G43: 0.25 | H43: =G43*$I$41 -> 1.40625
E44: C | F44: 8 tot 10 uren (gericht plan van aanpak inclusief instructie en training op maat) | G44: 0.5 | H44: =G44*$I$41 -> 2.8125
E45: D | F45: 12 tot 14 uren (vooraf gedeelde instructie en training, uitgebreid praktijkgedeelte) | G45: 0.75 | H45: =G45*$I$41 -> 4.21875
E46: E | F46: 16 tot 20 uren (vooraf gedeelde instructie, training en planning, uitgebreide uitvoering van het praktijkgedeelte en terugkoppelmomenten/evaluatie) | G46: 1 | H46: =G46*$I$41 -> 5.625
B47: =SUM(B31,B37,B41) -> 1 | H47: =SUM(H36,H40,H46) -> 11.25 | J47: =SUM(J32,J38,J42) -> 0
B49: Deel 3 | C49: ROS
B50: Nr. | C50: Vraagstelling | D50: Minimum (eis = 0 punten) | E50: Maximum (= max score) | F50: Instructie bij invullen beantwoording en toelichting op beoordeling | G50: Weging (%) | H50: Score (in punten) | I50: Beantwoording Opdrachtnemer | J50: Behaalde score in punten
B51: 0.2
B52: 3.1 | C52: Reactietermijn bij spoedgeval op locatie/pechhulp Opdrachtgever hecht waarde aan een snelle opvolging en oplossing van storingen aan het voertuig bij calamiteiten zoals beschreven in het algemene programma van eisen. Welke responsetijd (korter dan 120 minuten) van de servicedienst bent u bereid te garanderen na melding van een storing waarbij het voertuig niet meer inzetbaar is? Onder responsetijd wordt verstaan: de tijd tussen melding van de storing door opdrachtgever en de aanwezigheid van een gekwalificeerde monteur bij het voertuig. Het opgegeven antwoord wordt verwerkt in de SLA en daarmee onverkort van toepassing verklaard op de uitvoering van de overeenkomst. | D52: 150 | E52: 60 | F52: De reactietermijn in minuten invullen in hele minuten, waarbij het aanbieden van een reactietermijn conform het programma van eisen (minimum) leidt tot 0 punten, het aanbieden van reactietermijn conform het maximum (of hoger) leidt tot het maximaal aantal te behalen punten. I.v.m. de werking van de formule voor het toekennen van het behaalde aantal punten moet Opdrachtnemer, (ook) als de reactietermijn sneller dan het maximum is, het maximum invullen als antwoord op dit gunningscriterium. | H52: =$E$12*B51 -> 3.15 | J52: =IF(AND(I52>=MIN(D52,E52),I52<=MAX(D52,E52)),(1-(I52-E52)/(D52-E52))*H52,0) -> 0
B53: 0.25
B54: 3.2 | C54: Reactietermijn bij correctief onderhoud op locatie Opdrachtgever hecht waarde aan een snelle opvolging en oplossing van correctief onderhoud aan het voertuig op locatie van opdrachtgever. Welke responsetijd (korter dan 4 uren) van de servicedienst bent u bereid te garanderen na melding van correctief onderhoud. Onder responsetijd wordt verstaan: de tijd tussen melding van de storing door opdrachtgever en de aanwezigheid van een gekwalificeerde monteur bij het voertuig. Het opgegeven antwoord wordt verwerkt in de SLA en daarmee onverkort van toepassing verklaard op de uitvoering van de overeenkomst. | D54: =4*60 -> 240 | E54: 60 | F54: De reactietermijn in minuten invullen in hele minuten, waarbij het aanbieden van een reactietermijn conform het programma van eisen (minimum) leidt tot 0 punten, het aanbieden van reactietermijn conform het maximum (of hoger) leidt tot het maximaal aantal te behalen punten. I.v.m. de werking van de formule voor het toekennen van het behaalde aantal punten moet Opdrachtnemer, (ook) als de reactietermijn sneller dan het maximum is, het maximum invullen als antwoord op dit gunningscriterium. | H54: =$E$12*B53 -> 3.9375 | J54: =IF(AND(I54>=MIN(D54,E54),I54<=MAX(D54,E54)),(1-(I54-E54)/(D54-E54))*H54,0) -> 0
B55: 0.25
B56: 3.3 | C56: Hersteltermijn bij gebreken: start fysieke werkzaamheden aan voertuig Opdrachtgever hecht waarde aan een snelle opvolging en oplossing van onderhoud aan het voertuig op locatie van opdrachtgever, doordat er zo snel mogelijk op locatie van opdrachtnemer gestart wordt met de werkzaamheden van het voertuig Welke starttijd (korter dan 2 uren) van uw werkplaats bent u bereid te garanderen na aankomst van het voertuig in uw werkplaats. Onder starttijd wordt verstaan: de tijd tussen aankomst van het voertuig en de start van de werkzaamheden door een gekwalificeerde monteur aan het voertuig. Het opgegeven antwoord wordt verwerkt in de SLA en daarmee onverkort van toepassing verklaard op de uitvoering van de overeenkomst. | D56: 120 | E56: 30 | F56: De hersteltermijn in minuten invullen in hele minuten, waarbij het aanbieden van een hersteltermijn conform het programma van eisen (minimum) leidt tot 0 punten, het aanbieden van hersteltermijn conform het maximum (of hoger) leidt tot het maximaal aantal te behalen punten. I.v.m. de werking van de formule voor het toekennen van het behaalde aantal punten moet Opdrachtnemer, (ook) als de hersteltermijn sneller dan het maximum is, het maximum invullen als antwoord op dit gunningscriterium. | H56: =$E$12*B55 -> 3.9375 | J56: =IF(AND(I56>=MIN(D56,E56),I56<=MAX(D56,E56)),(1-(I56-E56)/(D56-E56))*H56,0) -> 0
B57: 0.3 | I57: =$E$12*B57 -> 4.725
B58: 2.2 | C58: Beschikbaarheid leveranciersportaal Opdrachtgever hecht waarde aan actuele inzichten in een gebruiksvriendelijk leveranciersportaal. Wat is de actuele status van het direct beschikbare portaal? Het ontbreken van een leveranciersportaal zorgt voor 0 punten bij optie A. Als er kostenloos of tegen gereduceerde kosten een maatwerk portaal kan worden opleverd, zijn de helft van de punten te scoren bij optie B. Indien optie C wordt gekozen, verwacht de gemeente een kant en klaar portaal, wat kan worden geïmplenteerd als een gebruiksvriendelijk leveranciersportaal inclusief training/instuctie en bijhorende (kostenloze) updates. | E58: A | F58: Geen leveranciersportaal beschikbaar. | G58: 0 | H58: =G58*$I$57 -> 0 | J58: =IFERROR(VLOOKUP(I58,E57:H60,4,FALSE),0) -> 0
E59: B | F59: Algemeen leveranciersportaal beschikbaar met opties voor modules en specifieke inrichting. | G59: 0.5 | H59: =G59*$I$57 -> 2.3625
E60: C | F60: Dynamisch en klantgericht leveranciersportaal beschikbaar. | G60: 1 | H60: =G60*$I$57 -> 4.725
B61: =SUM(B51,B53,B57,B55) -> 1 | H61: =SUM(H52,H54,H56,H60) -> 15.75 | J61: =SUM(J52,J54,J56,J58) -> 0

Sheet T3 MVOI
B2: Europese openbare aanbesteding 'Aanschaf & onderhoud veegmachines'
B3: Invulformulier prijs en kwaliteit
B5: Tabblad 3: MVOI
B7: ='T1 Samenvatting Omvang & Aantal'!B7 -> Perceel 3 | C7: ='T1 Samenvatting Omvang & Aantal'!C7 -> Grote veegmachine
B9: Onderdeel: kwalitatieve gunningscriteria | D9: Maximaal aantal te behalen punten | F9: Aantal door Opdrachtnemer behaalde punten
B10: Deel 4 | C10: MVOI criteria | D10: 15 | F10: =J33 -> 0
B13: Deel 4 | C13: Duurzaamheid
B14: Nr. | C14: Vraagstelling | E14: Antwoord opties | G14: Weging (%) | H14: Maximale score (in punten) | I14: Beantwoording Opdrachtnemer | J14: Behaalde score in punten
B15: 0.2664 | I15: =$D$10*B15 -> 3.996
B16: 4.1 | C16: De gemeente Utrecht verlangt van opdrachtnemers dat zij actief bijdragen aan het beperken van de uitstoot van broeikasgassen en het verduurzamen van hun bedrijfsvoering. De mate waarin een inschrijver zijn organisatie structureel heeft ingericht op CO₂-reductie wordt beoordeeld aan de hand van de CO₂-Prestatieladder. | E16: A | F16: Geen certificering of niet aantoonbaar | G16: 0 | H16: =G16*$I$15 -> 0 | J16: =IFERROR(VLOOKUP(I16,E15:H20,4,FALSE),0) -> 0
E17: B | F17: Trede 2 CO₂-Prestatieladder | G17: 0.25 | H17: =G17*$I$15 -> 0.999
E18: C | F18: Trede 3 CO₂-Prestatieladder | G18: 0.5 | H18: =G18*$I$15 -> 1.998
E19: D | F19: Trede 4 CO₂-Prestatieladder | G19: 0.75 | H19: =G19*$I$15 -> 2.997
E20: E | F20: Trede 5 CO₂-Prestatieladder | G20: 1 | H20: =G20*$I$15 -> 3.996
B21: 0.4665 | I21: =$D$10*B21 -> 6.9975
B22: 4.2 | C22: De gemeente Utrecht hecht waarde aan het verlengen van de levensduur van voertuigen en componenten. Bij emissieloze veegmachines ligt de grootste milieu-impact in het gebruik van accupakketten, schaarse grondstoffen en slijtagedelen. Inschrijver geeft aan welk ambitieniveau van toepassing is op de aangeboden veegmachine en de daarbij behorende organisatie. | E22: A | F22: Geen programma voor terugname, hergebruik, refurbishment of recycling van accu's, onderdelen en banden, of niet aantoonbaar gemaakt. | G22: 0 | H22: =G22*$I$21 -> 0 | J22: =IFERROR(VLOOKUP(I22,E21:H26,4,FALSE),0) -> 0
E23: B | F23: Aantoonbaar terugname- en recyclingprogramma voor accupakketten aanwezig. | G23: 0.25 | H23: =G23*$I$21 -> 1.749375
E24: C | F24: Aantoonbaar terugname- en recyclingprogramma voor accupakketten én onderdelen aanwezig. | G24: 0.5 | H24: =G24*$I$21 -> 3.49875
E25: D | F25: Aantoonbaar programma voor terugname, refurbishment of hergebruik van accupakketten én onderdelen aanwezig. Daarnaast worden banden aantoonbaar hoogwaardig verwerkt of gerecycled. | G25: 0.75 | H25: =G25*$I$21 -> 5.248125
E26: E | F26: Aantoonbaar programma voor levensduurverlenging van accupakketten, refurbishment/hergebruik van onderdelen, terugname van banden én aansluiting op (of aantoonbare voorbereiding op) het EU Battery Passport. | G26: 1 | H26: =G26*$I$21 -> 6.9975
B27: 0.2664 | I27: =$D$10*B27 -> 3.996
B28: 4.3 | C28: De gemeente Utrecht hecht waarde aan verantwoord ondernemerschap binnen de keten van elektrische voertuigen en accupakketten. In het bijzonder wordt aandacht gevraagd voor de herkomst van grondstoffen, arbeidsomstandigheden, mensenrechten, milieu-impact en verantwoorde verwerking van accupakketten. Inschrijver geeft aan welk ambitieniveau van toepassing is op de onderneming en de aangeboden veegmachine. | E28: A | F28: Geen aantoonbaar beleid of geen aantoonbare activiteiten op het gebied van ketenverantwoordelijkheid. | G28: 0 | H28: =G28*$I$27 -> 0 | J28: =IFERROR(VLOOKUP(I28,E27:H32,4,FALSE),0) -> 0
E29: B | F29: Inschrijver beschikt over een intern beleid voor verantwoord inkopen van accupakketten en batterijcomponenten. | G29: 0.25 | H29: =G29*$I$27 -> 0.999
E30: C | F30: Inschrijver beschikt over een aantoonbaar due diligence-proces voor de accuketen, gebaseerd op internationaal erkende richtlijnen (bijvoorbeeld OESO-richtlijnen voor verantwoord ondernemen). | G30: 0.5 | H30: =G30*$I$27 -> 1.998
E31: D | F31: Inschrijver beschikt over een due diligence-proces én neemt aantoonbaar deel aan een branche-initiatief, samenwerkingsverband of verbeterprogramma gericht op verantwoorde batterijproductie, grondstoffenwinning of recycling. | G31: 0.75 | H31: =G31*$I$27 -> 2.997
E32: E | F32: Inschrijver beschikt over een due diligence-proces, neemt aantoonbaar deel aan sectorinitiatieven én rapporteert periodiek en openbaar over de prestaties, risico’s en verbetermaatregelen binnen de accuketen. | G32: 1 | H32: =G32*$I$27 -> 3.996
B33: =SUM(B15,B21,B27) -> 0.9993 | H33: =CEILING(SUM(H20,H26,H32),1) -> 15 | J33: =SUM(J22,J28,J16) -> 0

Sheet T4 Prijs Aanschaf P1
B2: Europese openbare aanbesteding 'Aanschaf & onderhoud veegmachines'
B3: Invulformulier prijs en kwaliteit
B5: Tabblad 4: Invulformulier prijs t.b.v. aanschaf
B7: ='T1 Samenvatting Omvang & Aantal'!B7 -> Perceel 3 | C7: ='T1 Samenvatting Omvang & Aantal'!C7 -> Grote veegmachine
B9: Onderdeel: prijs | D9: Minimale inschrijfprijs | E9: Maximale inschrijfprijs | F9: Maximaal aantal te behalen punten
B10: Deel 5 | C10: Aanschafprijs voor één complete grote veegmachine conform de aanbestedingsdocumenten, de ingevulde kwaliteitscriteria en inclusief alle toebehoren. (excl. BTW) | D10: 400000 | E10: 520000 | F10: 25
C11: Beoordeling, middels formule:
B13: Nr. | C13: Prijsonderdeel | D13: Eenheid | E13: Prijs per eenheid | F13: Prijs voor één compleet inzamelvoertuig
B14: 5.1 | C14: Aanschafprijs van het chassis | D14: Stuk | E14: 0 | F14: =SUM(E14,E15,E17) -> 0
B15: 5.2 | C15: Aanschafprijs van het accupakket/aandrijving | D15: Stuk | E15: 0
B16: 5.3 | C16: Aanschafprijs van derde borstel (geen onderdeel van de inschrijfprijs) | D16: Stuk | E16: 0
B17: 5.4 | C17: Optioneel: overige kosten t.b.v. de aanschaf | D17: Stuk | E17: invulveld
C18: [optioneel invulveld: toelichting overige kosten, alleen invullen als er een bedrag bij 5.4 is ingevuld]
C20: Let op: de inschrijfprijs mag niet lager zijn dan de minimale inschrijfprijs en niet hoger dan de maximale inschrijfprijs. Alleen als deze cel (E21) groen kleurt, valt uw inschrijfprijs binnen de minimale en maximale inschrijfprijs en brengt u daarmee een geldige inschrijving uit. | E20: De inschrijfprijs van Opdrachtnemer | F20: Behaalde score in punten
E21: =F14 -> 0 | F21: =IF(OR(D10=E10,E21="",E21<MIN(D10,E10),E21>MAX(D10,E10)),0,(1-(E21-D10)/(E10-D10))*F10) -> 0

Sheet T5 Prijs ROS P1
B2: Europese openbare aanbesteding 'Aanschaf & onderhoud veegmachines'
B3: Invulformulier prijs en kwaliteit
B5: Tabblad 5: Invulformulier prijs t.b.v. Reparatie, Onderhoud en Service (ROS)
B7: ='T1 Samenvatting Omvang & Aantal'!B7 -> Perceel 3 | C7: ='T1 Samenvatting Omvang & Aantal'!C7 -> Grote veegmachine
B9: Onderdeel: prijs | D9: Maximaal aantal te behalen punten | F9: Aantal door Opdrachtnemer behaalde punten
B10: Deel 6 | C10: Tarieven voor reparatie, onderhoud en service | D10: 10 | F10: =SUM(I14,I17:I20,I23:I24,I27:I29,I32:I34) -> 0
B12: Nr. | C12: Prijsonderdeel | D12: Minimale prijs per eenheid | E12: Maximale prijs per eenheid | F12: Prijs per eenheid | G12: Weging | H12: Maximaal aantal te behalen punten | I12: Behaald aantal punten
C13: Chassis
B14: 6.1 | C14: Uitvoeren APK-keuringen inclusief alle wettelijke verplichte controle metingen | D14: 150 | E14: 250 | G14: 0.05 | H14: =G14*$D$10 -> 0.5 | I14: =IF(OR(F14="",F14<MIN(D14,E14),F14>MAX(D14,E14)),0,(1-(F14-D14)/(E14-D14))*H14) -> 0
C16: Zuiginrichting
B17: 6.2 | C17: Periodieke inspectiebeurt | D17: 350 | E17: 500 | G17: 0.1 | H17: =G17*$D$10 -> 1 | I17: =IF(OR(F17="",F17<MIN(D17,E17),F17>MAX(D17,E17)),0,(1-(F17-D17)/(E17-D17))*H17) -> 0
C19: Aandrijving (Accu)
B20: 6.3 | C20: Uitvoeren periodieke gecertificeerde keuring accupakket, inclusief keuringsbewijs | D20: 300 | E20: 450 | G20: 0.1 | H20: =G20*$D$10 -> 1 | I20: =IF(OR(F20="",F20<MIN(D20,E20),F20>MAX(D20,E20)),0,(1-(F20-D20)/(E20-D20))*H20) -> 0
C22: Uurtarief
B23: 6.4 | C23: Uurtarief allround monteur voor ma t/m vrij tussen 06:00 en 18:30 uur en op zat van 08:00 tot 12:00 uur | D23: 85 | E23: 135 | G23: 0.15 | H23: =G23*$D$10 -> 1.5 | I23: =IF(OR(F23="",F23<MIN(D23,E23),F23>MAX(D23,E23)),0,(1-(F23-D23)/(E23-D23))*H23) -> 0
B24: 6.5 | C24: Percentage opslag uurtarief t.b.v. werkzaamheden buiten werktijden, inclusief feestdagen | D24: 0.05 | E24: 0.2 | G24: 0.1 | H24: =G24*$D$10 -> 1 | I24: =IF(OR(F24="",F24<MIN(D24,E24),F24>MAX(D24,E24)),0,(1-(F24-D24)/(E24-D24))*H24) -> 0
C26: Service
B27: 6.6 | C27: Voorrijkosten, all-in, geen extra kilometers (inclusief bij pechservice en starthulp) | D27: 80 | E27: 110 | G27: 0.1 | H27: =G27*$D$10 -> 1 | I27: =IF(OR(F27="",F27<MIN(D27,E27),F27>MAX(D27,E27)),0,(1-(F27-D27)/(E27-D27))*H27) -> 0
B28: 6.7 | C28: Haal- en brengservice, per enkele vervoersbeweging (van A naar B) | D28: 100 | E28: 350 | G28: 0.1 | H28: =G28*$D$10 -> 1 | I28: =IF(OR(F28="",F28<MIN(D28,E28),F28>MAX(D28,E28)),0,(1-(F28-D28)/(E28-D28))*H28) -> 0
B29: 6.8 | C29: Sleepservice, all-in, geen additionele kosten | D29: 400 | E29: 600 | G29: 0.15 | H29: =G29*$D$10 -> 1.5 | I29: =IF(OR(F29="",F29<MIN(D29,E29),F29>MAX(D29,E29)),0,(1-(F29-D29)/(E29-D29))*H29) -> 0
C31: Kortingen
B32: 6.9 | C32: Korting op brutoprijs onderdelen | D32: 0.1 | E32: 0.05 | G32: 0.05 | H32: =G32*$D$10 -> 0.5 | I32: =IF(OR(F32="",F32<MIN(D32,E32),F32>MAX(D32,E32)),0,(1-(F32-D32)/(E32-D32))*H32) -> 0
B33: 6.10 | C33: Korting op vloeistoffen (oliën/smeermiddelen) | D33: 0.1 | E33: 0.05 | G33: 0.05 | H33: =G33*$D$10 -> 0.5 | I33: =IF(OR(F33="",F33<MIN(D33,E33),F33>MAX(D33,E33)),0,(1-(F33-D33)/(E33-D33))*H33) -> 0
B34: 6.11 | C34: Vaste factuurkorting (standaard korting over de totale factuur - excl. BTW) | D34: 0.15 | E34: 0.05 | G34: 0.05 | H34: =G34*$D$10 -> 0.5 | I34: =IF(OR(F34="",F34<MIN(D34,E34),F34>MAX(D34,E34)),0,(1-(F34-D34)/(E34-D34))*H34) -> 0
G35: =SUM(G14,G17:G20,G23:G24,G27:G29,G32:G34) -> 1 | H35: =SUM(H14,H17:H20,H23:H24,H27:H29,H32:H34) -> 10 | I35: =SUM(I14,I17:I20,I23:I24,I27:I29,I32:I34) -> 0
H36: =SUM(H14:H34) -> 10 | I36: =SUM(I14:I34) -> 0
