Workbook

Sheet Kostenoverzicht
B1: Prijzenblad
B3: Naam Inschrijver
A6: Naam inschrijver: | B6: _
A8: Totaal bedrag voor beoordeling Prijs
A9: Type kosten | B9: Bedrag (fictief)
A10: Algemene impl. Kosten | B10: ='Algemene implementatiekosten'!E13 -> 0
A11: Implemenetatiekosten per deelnemer | B11: ='Implementatiekosten deelnemer'!D35 -> 0
A12: Jaarlijkse kosten | B12: ='Jaarlijkse kosten'!G69 -> 0
A13: Verrekenprijzen | B13: =Verrekenprijzen!E42 -> 0
A14: TOTAAL | B14: =SUM(B10:B13) -> 0

Sheet Algemene implementatiekosten
B1: Prijzenblad
B3: Naam Inschrijver | C3: =Kostenoverzicht!B6 -> _
B5: Alle rood/oranje velden in te vullen door inschrijver!
B7: Eenmalige algemene kosten (kosten die niet zijn toe te schrijven aan een specifieke gemeente). Weegfactor is alleen voor beoordeling. Bedrag is wat daadwerkelijk wordt doorberekend.
B9: Omschrijving | C9: Bedrag | D9: Weegfactor | E9: Totaal | F9: Toelichting
B10: Algemene Projectmanagementkosten | C10: 0 | D10: 50 | E10: =D10*C10 -> 0 | F10: Projectmanagementkosten die niet aan een gemeente of waterschap zijn toe te schrijven, zijnde overleggen met Opdrachtgever, documenten schrijven en setupkosten om gegevens te ontvangen van meetapparatuur en door te sturen
B11: Pilotfase | C11: 0 | D11: 50 | E11: =D11*C11 -> 0 | F11: Kosten voor de pilotfase
B12: Afstemming hoofdpostleverancier | C12: 0 | D12: 50 | E12: =D12*C12 -> 0 | F12: Afstemming hoofdpostleverancier
B13: TOTAAL Algemene kosten | E13: =SUM(E10:E12) -> 0

Sheet Implementatiekosten deelnemer
A5: Naam Inschrijver | B5: =Kostenoverzicht!$B$6 -> _
A6: Alle rood/oranje velden in te vullen door inschrijver!
A7: Setupkosten per gemeente (alle implementatiekosten om te voldoen aan programma van eisen maar niet te koppelen zijn aan een meetlocatie maar wel aan een gemeente). Weegfactor is alleen voor beoordeling. Bedrag is wat daadwerkelijk wordt doorberekend.
A8: Gemeente | B8: Bedrag | C8: Weegfactor | D8: Totaal
A9: BEL-combinatie | B9: 0 | C9: 50 | D9: =B9*$C$9 -> 0
A10: Gemenete Amersfoort | B10: 0 | D10: =B10*$C$9 -> 0
A11: Gemeente Baarn | B11: 0 | D11: =B11*$C$9 -> 0
A12: Gemeente Barneveld | B12: 0 | D12: =B12*$C$9 -> 0
A13: Gemeente Brummen | B13: 0 | D13: =B13*$C$9 -> 0
A14: Gemeente Bunschoten | B14: 0 | D14: =B14*$C$9 -> 0
A15: Gemeente Ede | B15: 0 | D15: =B15*$C$9 -> 0
A16: Gemeente Elburg | B16: 0 | D16: =B16*$C$9 -> 0
A17: Gemeente Epe | B17: 0 | D17: =B17*$C$9 -> 0
A18: Gemeente Ermelo | B18: 0 | D18: =B18*$C$9 -> 0
A19: Gemeente Harderwijk | B19: 0 | D19: =B19*$C$9 -> 0
A20: Gemeente Hattem | B20: 0 | D20: =B20*$C$9 -> 0
A21: Gemeente Leusden | B21: 0 | D21: =B21*$C$9 -> 0
... A34: Waterschap Vallei en Veluwe | B34: 0 | D34: =B34*$C$9 -> 0
C35: TOTAAL | D35: =SUM(D9:D34) -> 0
A37: Installatiekosten per meetlocatie per gemeente/waterschap: Alleen de installatiekosten inclusief reistijd en -reiskosten. Weegfactor is alleen voor beoordeling. Bedrag is wat daadwerkelijk wordt doorberekent.
A38: Gemeente | B38: Aantal sensoren | C38: Bedrag | D38: Aantal | E38: Weegfactor | F38: Totaal bedrag
A39: BEL-combinatie | B39: 1 | C39: 1 | D39: 3 | E39: 5 | F39: =C39*D39*$E$39 -> 15
B40: 2 | C40: 0 | D40: 1 | F40: =C40*D40*$E$39 -> 0
A41: Gemenete Amersfoort | B41: 1 | C41: 0 | D41: 13 | F41: =C41*D41*$E$39 -> 0
B42: 2 | C42: 0 | D42: 0 | F42: =C42*D42*$E$39 -> 0
A43: Gemeente Baarn | B43: 1 | C43: 0 | D43: 3 | F43: =C43*D43*$E$39 -> 0
B44: 2 | C44: 0 | D44: 3 | F44: =C44*D44*$E$39 -> 0
A45: Gemeente Barneveld | B45: 1 | C45: 0 | D45: 18 | F45: =C45*D45*$E$39 -> 0
B46: 2 | C46: 0 | D46: 12 | F46: =C46*D46*$E$39 -> 0
A47: Gemeente Brummen | B47: 1 | C47: 0 | D47: 7 | F47: =C47*D47*$E$39 -> 0
B48: 2 | C48: 0 | D48: 2 | F48: =C48*D48*$E$39 -> 0
A49: Gemeente Bunschoten | B49: 1 | C49: 0 | D49: 5 | F49: =C49*D49*$E$39 -> 0
B50: 2 | C50: 0 | D50: 6 | F50: =C50*D50*$E$39 -> 0
A51: Gemeente Ede | B51: 1 | C51: 0 | D51: 32 | F51: =C51*D51*$E$39 -> 0
B52: 2 | C52: 0 | D52: 6 | F52: =C52*D52*$E$39 -> 0
A53: Gemeente Elburg | B53: 1 | C53: 0 | D53: 2 | F53: =C53*D53*$E$39 -> 0
B54: 2 | C54: 0 | D54: 0 | F54: =C54*D54*$E$39 -> 0
A55: Gemeente Epe | B55: 1 | C55: 1 | D55: 16 | F55: =C55*D55*$E$39 -> 80
B56: 2 | C56: 0 | D56: 0 | F56: =C56*D56*$E$39 -> 0
A57: Gemeente Ermelo | B57: 1 | C57: 0 | D57: 11 | F57: =C57*D57*$E$39 -> 0
...

Sheet Jaarlijkse kosten
C1: Prijzenblad
A4: Naam Inschrijver | C4: =Kostenoverzicht!$B$6 -> _
A5: Alle rood/oranje velden in te vullen door inschrijver!
A6: Bij toevoegen aanvullende meetlocatie worden ook onderstaande bedragen gehanteerd. Het jaarbedrag is all-inclusive zodat betrouwbare data geleverd blijft worden gedurende het contract en omvat alle werkzaamheden, materiaal, communicatiekosten en huur van ingezette apparatuur en andere bijkomende kosten. Weegfactor is alleen voor beoordeling. Bedrag is wat daadwerkelijk wordt doorberekend maal het aantal objecten.
A8: Omschrijving | B8: Soort | C8: Aantal sensoren | D8: Bedrag per jaar per meetlocatie
A9: Meetlocatie met | B9: Niveaumeting | C9: 1 | D9: 0
C10: 2 | D10: 0
B11: Regenmeting | C11: 1 | D11: 0
A13: Gemeente | C13: Aantal sensoren | D13: Bedrag per jaar per meetlocatie | E13: Aantal | F13: Weegfactor | G13: Totaal bedrag
A14: BEL-combinatie | B14: Niveaumeting | C14: 1 | D14: =$D$9 -> 0 | E14: 3 | F14: 15 | G14: =D14*E14*$F$14 -> 0
C15: 2 | D15: =$D$10 -> 0 | E15: 1 | G15: =D15*E15*$F$14 -> 0
B16: Regenmeting | C16: 1 | D16: =$D$11 -> 0 | E16: 1 | G16: =D16*E16*$F$14 -> 0
A17: Gemenete Amersfoort | C17: 1 | D17: =$D$9 -> 0 | E17: 13 | G17: =D17*E17*$F$14 -> 0
C18: 2 | D18: =$D$10 -> 0 | E18: 0 | G18: =D18*E18*$F$14 -> 0
A19: Gemeente Baarn | C19: 1 | D19: =$D$9 -> 0 | E19: 3 | G19: =D19*E19*$F$14 -> 0
C20: 2 | D20: =$D$10 -> 0 | E20: 3 | G20: =D20*E20*$F$14 -> 0
A21: Gemeente Barneveld | C21: 1 | D21: =$D$9 -> 0 | E21: 18 | G21: =D21*E21*$F$14 -> 0
C22: 2 | D22: =$D$10 -> 0 | E22: 12 | G22: =D22*E22*$F$14 -> 0
A23: Gemeente Brummen | C23: 1 | D23: =$D$9 -> 0 | E23: 7 | G23: =D23*E23*$F$14 -> 0
C24: 2 | D24: =$D$10 -> 0 | E24: 2 | G24: =D24*E24*$F$14 -> 0
A25: Gemeente Bunschoten | B25: Niveaumeting | C25: 1 | D25: =$D$9 -> 0 | E25: 5 | G25: =D25*E25*$F$14 -> 0
C26: 2 | D26: =$D$10 -> 0 | E26: 6 | G26: =D26*E26*$F$14 -> 0
B27: Regenmeting | C27: 1 | D27: =$D$11 -> 0 | E27: 1 | G27: =D27*E27*$F$14 -> 0
A28: Gemeente Ede | C28: 1 | D28: =$D$9 -> 0 | E28: 32 | G28: =D28*E28*$F$14 -> 0
C29: 2 | D29: =$D$10 -> 0 | E29: 6 | G29: =D29*E29*$F$14 -> 0
A30: Gemeente Elburg | C30: 1 | D30: =$D$9 -> 0 | E30: 2 | G30: =D30*E30*$F$14 -> 0
C31: 2 | D31: =$D$10 -> 0 | E31: 0 | G31: =D31*E31*$F$14 -> 0
A32: Gemeente Epe | C32: 1 | D32: =$D$9 -> 0 | E32: 16 | G32: =D32*E32*$F$14 -> 0
C33: 2 | D33: =$D$10 -> 0 | E33: 0 | G33: =D33*E33*$F$14 -> 0
A34: Gemeente Ermelo | C34: 1 | D34: =$D$9 -> 0 | E34: 11 | G34: =D34*E34*$F$14 -> 0
C35: 2 | D35: =$D$10 -> 0 | E35: 0 | G35: =D35*E35*$F$14 -> 0
A36: Gemeente Harderwijk | C36: 1 | D36: =$D$9 -> 0 | E36: 3 | G36: =D36*E36*$F$14 -> 0
C37: 2 | D37: =$D$10 -> 0 | E37: 4 | G37: =D37*E37*$F$14 -> 0
A38: Gemeente Hattem | C38: 1 | D38: =$D$9 -> 0 | E38: 12 | G38: =D38*E38*$F$14 -> 0
C39: 2 | D39: =$D$10 -> 0 | E39: 1 | G39: =D39*E39*$F$14 -> 0
A40: Gemeente Leusden | C40: 1 | D40: =$D$9 -> 0 | E40: 8 | G40: =D40*E40*$F$14 -> 0
C41: 2 | D41: =$D$10 -> 0 | E41: 3 | G41: =D41*E41*$F$14 -> 0
A42: Gemeente Nijkerk | C42: 1 | D42: =$D$9 -> 0 | E42: 6 | G42: =D42*E42*$F$14 -> 0
C43: 2 | D43: =$D$10 -> 0 | E43: 0 | G43: =D43*E43*$F$14 -> 0
A44: Gemeente Nunspeet | C44: 1 | D44: =$D$9 -> 0 | E44: 8 | G44: =D44*E44*$F$14 -> 0
...

Sheet Verrekenprijzen
B1: Prijzenblad
A5: Naam Inschrijver | B5: =Kostenoverzicht!$B$6 -> _
A6: Alle rood/oranje velden in te vullen door inschrijver!
A7: Weegfactor is alleen voor beoordeling. Bedrag is wat daadwerkelijk wordt doorberekend. Voorwaarden en verdere toelichting is in bijlage B.2 beschreven.
A9: A. Plaatsen Meetobjecten
A10: Cattegorie | B10: Toelichting | C10: Bedrag | D10: Weegfactor | E10: Totaalbedrag
A11: A1. Meetobject met 1 Meetpunt | B11: Een Meetobject waar met 1 sensor het waterniveau wordt gemeten in een rioolput of oppervlaktewater; | C11: 0 | D11: 100 | E11: =D11*C11 -> 0
A12: A2. Meetobject met 2 Meetpunten | B12: Een Meetobject waar met 2 sensoren het waterniveau wordt gemeten in een rioolput en/of oppervlaktewater op één zelfde locatie met een maximale afstand van 10 meter van elkaar; | C12: 0 | D12: 50 | E12: =D12*C12 -> 0
A13: A3. Meetobject met 3 Meetpunten | B13: Een Meetobject waar met 3 sensoren het waterniveau wordt gemeten in een rioolput en/of oppervlaktewater op één zelfde locatie met een maximale afstand van 10 meter van elkaar; | C13: 0 | D13: 20 | E13: =D13*C13 -> 0
A14: A4. Neerslagmeter op een lage constructie | B14: De neerslagmeter wordt geleverd en bevestigd op een te leveren dakconstructie of paal en is gekoppeld aan de Meetapparatuur van de Opdrachtnemer. Neerslagmeter wordt eigendom van de Opdrachtgever; | C14: 0 | D14: 10 | E14: =D14*C14 -> 0
A15: A5. Neerslagmeter op een mast | B15: De neerslagmeter wordt geleverd en bevestigd op een te leveren en te plaatsen mast met vandalismebeveiliging en is gekoppeld aan de Meetapparatuur van de Opdrachtnemer. Neerslagmeter wordt eigendom van de Opdrachtgever; | C15: 0 | D15: 10 | E15: =D15*C15 -> 0
A16: A6. Aanvullende sensor plaatsen | B16: Bij een bestaand MeetObject een extra sensor plaatsen; | C16: 0 | D16: 30 | E16: =D16*C16 -> 0
A17: A7. Schouw voorafgaand aan installatie | B17: Als een schouw noodzakelijk is voordat de Meetapparatuur geplaatst kan worden. | C17: 0 | D17: 25 | E17: =D17*C17 -> 0
A18: A8. Extra niveau-handmeting | B18: Als Opdrachtgever vraagt om een extra handmeting te bewerkstelligen. Kosten kunnen alleen worden opgevoerd indien aantoonbaar maximaal 2 cm verschil zit tussen de handmeting en de meting van de apparatuur op dat moment. | C18: 0 | D18: 25 | E18: =D18*C18 -> 0
D19: TOTAAL | E19: =SUM(E11:E18) -> 0
A21: B. Verwijderen of verplaatsen Meetapparatuur
A22: Cattegorie | B22: Toelichting | C22: Bedrag | D22: Weegfactor | E22: Totaalbedrag
A23: B1. Meetobject met 1 Meetpunt | B23: Een Meetobject waar met 1 sensor het waterniveau wordt gemeten in een rioolput en/of oppervlaktewater op één zelfde locatie permanent moeten worden verwijderd | C23: 0 | D23: 30 | E23: =D23*C23 -> 0
A24: B2. Meetobject met 2 Meetpunten | B24: Een Meetobject waar met 2 sensoren het waterniveau wordt gemeten in een rioolput en/of oppervlaktewater op één zelfde locatie met een maximale afstand van 10 meter van elkaar die permanent moeten worden verwijderd | C24: 0 | D24: 20 | E24: =D24*C24 -> 0
A25: B3. Meetobject met 3 Meetpunten | B25: Een Meetobject waar met 3 sensoren het waterniveau wordt gemeten in een rioolput en/of oppervlaktewater op één zelfde locatie met een maximale afstand van 10 meter van elkaar die permanent moet worden verwijderd. | C25: 0 | D25: 5 | E25: =D25*C25 -> 0
A26: B4. Meetobject met 1 Meetpunt verplaatsen | B26: Meetapparatuur van een bepaald Meetobject waarbij met 1 sensor het waterniveau wordt gemeten in een rioolput en/of oppervlaktewater verplaatsen naar een andere locatie. | C26: 0 | D26: 30 | E26: =D26*C26 -> 0
A27: B5. Meetobject met 2 Meetpunten verplaatsen | B27: Meetapparatuur van een bepaald Meetobject waarbij met 2 sensoren het waterniveau wordt gemeten in een rioolput en/of oppervlaktewater verplaatsen naar een andere locatie. | C27: 0 | D27: 20 | E27: =D27*C27 -> 0
A28: B6. Meetobject met 3 Meetpunten verplaatsen | B28: Meetapparatuur van een bepaald Meetobject waarbij met 3 sensoren het waterniveau wordt gemeten in een rioolput en/of oppervlaktewater verplaatsen naar een andere locatie. | C28: 0 | D28: 5 | E28: =D28*C28 -> 0
A29: B8. Extra inmeten object | B29: Wat zijn de kosten als een object opnieuw moet worden ingemeten. De maten die moetenw orden ingemeten zijn: drempelhoogte, drempelbreedte, putmaten (hxbxh), putbodem, onderkant putdek, maaiveld, putdek, BOB en onderkant sensor. | C29: 0 | D29: 15 | E29: =D29*C29 -> 0
D30: TOTAAL | E30: =SUM(E23:E29) -> 0
A32: C. Uurtarieven, reiskosten en wegafzetting
A33: Cattegorie | B33: Toelichting | C33: Bedrag | D33: Weegfactor | E33: Totaalbedrag
A34: D1. Uurtarief buitendienstmedewerker | B34: Wat is het uurtarief voor een buitendienstmedewerker? | C34: 0 | D34: 150 | E34: =D34*C34 -> 0
A35: D2 Uurttarief projectleider | B35: Wat is het uurtarief voor een projectleider? | C35: 0 | D35: 150 | E35: =D35*C35 -> 0
A36: D3. Reiskosten met 1 persoon | B36: Wat is de vergoeding per km? | C36: 0 | D36: 15000 | E36: =D36*C36 -> 0
A37: D4. Reiskosten met 2 personen | B37: Wat is de vergoeding per km? | C37: 0 | D37: 15000 | E37: =D37*C37 -> 0
A38: D5. Wegafzetting zonder verkeersregelaars en omleidingsroute | B38: Aanvullende kosten als een standaard afzetting met pylonen/verkeerskegel niet mogelijk is en een uitgebreidere wegafzetting met o.a. een afzethek en bebording nodig is. | C38: 0 | D38: 150 | E38: =D38*C38 -> 0
D39: TOTAAL | E39: =SUM(E34:E38) -> 0
C42: TOTAAL VERREKENPRIJZEN FICTIEF | E42: =E39+E30+E19 -> 0
