Workbook

Sheet Overzicht per school
A1: Hardware-overzicht per schoollocatie
A2: Bron: tabblad 'Bron data'. Rode/oranje/gele markering = mogelijk vervangingsmoment.
A3: Locatie / hardware | B3: Aantal | C3: Merk / type | D3: Opmerking | E3: Direct vervangen | F3: Binnen contract vervangen | G3: Mogelijk vervangingsmoment
A4: ='Bron data'!B29 -> Bavo Jenaplanschool | B4: ="BRIN "&'Bron data'!A29 -> BRIN 12KZ01 | C4: =TRIM(SUBSTITUTE('Bron data'!C29,CHAR(160)," "))&", "&TRIM(SUBSTITUTE('Bron data'!D29,CHAR(160)," ")) -> Westergracht 3, 2013 ZJ Haarlem | D4: =IFERROR("Leerlingen: "&_xlfn.XLOOKUP(A4,Leerlingaantallen!$A$2:$A$37,Leerlingaantallen!$B$2:$B$37),"") -> Leerlingen: 182
A5: =TRIM('Bron data'!E29) -> Switches 48p | B5: =IF('Bron data'!F29="","",'Bron data'!F29) -> 1 | C5: ='Bron data'!G29&"" -> Aruba | D5: ='Bron data'!H29&"" | E5: =IF('Bron data'!I29="","",'Bron data'!I29) -> 0 | F5: =IF('Bron data'!J29="","",'Bron data'!J29) -> 1 | G5: =IF(AND(N(E5)>0,N(F5)>0),"Direct + binnen contract",IF(N(E5)>0,"Direct vervangen",IF(N(F5)>0,"Binnen contract vervangen",IF(F5="ntb","Binnen contract – nog te bepalen",IF(AND(E5="",F5=""),"n.v.t.","Geen vervanging gepland"))))) -> Binnen contract vervangen
A6: =TRIM('Bron data'!E352) -> Switches POE 8p | B6: =IF('Bron data'!F352="","",'Bron data'!F352) -> 1 | C6: ='Bron data'!G352&"" -> Ubiquiti UniFi | D6: ='Bron data'!H352&"" | E6: =IF('Bron data'!I352="","",'Bron data'!I352) -> 0 | F6: =IF('Bron data'!J352="","",'Bron data'!J352) -> 0 | G6: =IF(AND(N(E6)>0,N(F6)>0),"Direct + binnen contract",IF(N(E6)>0,"Direct vervangen",IF(N(F6)>0,"Binnen contract vervangen",IF(F6="ntb","Binnen contract – nog te bepalen",IF(AND(E6="",F6=""),"n.v.t.","Geen vervanging gepland"))))) -> Geen vervanging gepland
A7: =TRIM('Bron data'!E351) -> Switches POE 24p | B7: =IF('Bron data'!F351="","",'Bron data'!F351) -> 1 | C7: ='Bron data'!G351&"" -> Ubiquiti UniFi | D7: ='Bron data'!H351&"" | E7: =IF('Bron data'!I351="","",'Bron data'!I351) -> 1 | F7: =IF('Bron data'!J351="","",'Bron data'!J351) -> 0 | G7: =IF(AND(N(E7)>0,N(F7)>0),"Direct + binnen contract",IF(N(E7)>0,"Direct vervangen",IF(N(F7)>0,"Binnen contract vervangen",IF(F7="ntb","Binnen contract – nog te bepalen",IF(AND(E7="",F7=""),"n.v.t.","Geen vervanging gepland"))))) -> Direct vervangen
A8: =TRIM('Bron data'!E103) -> Router | B8: =IF('Bron data'!F103="","",'Bron data'!F103) -> 1 | C8: ='Bron data'!G103&"" -> Fortinet FortiGate 60E | D8: ='Bron data'!H103&"" | E8: =IF('Bron data'!I103="","",'Bron data'!I103) -> 1 | F8: =IF('Bron data'!J103="","",'Bron data'!J103) -> 0 | G8: =IF(AND(N(E8)>0,N(F8)>0),"Direct + binnen contract",IF(N(E8)>0,"Direct vervangen",IF(N(F8)>0,"Binnen contract vervangen",IF(F8="ntb","Binnen contract – nog te bepalen",IF(AND(E8="",F8=""),"n.v.t.","Geen vervanging gepland"))))) -> Direct vervangen
A9: =TRIM('Bron data'!E307) -> Access Points | B9: =IF('Bron data'!F307="","",'Bron data'!F307) -> 12 | C9: ='Bron data'!G307&"" -> Ruckus R500 | D9: ='Bron data'!H307&"" | E9: =IF('Bron data'!I307="","",'Bron data'!I307) -> 0 | F9: =IF('Bron data'!J307="","",'Bron data'!J307) -> 12 | G9: =IF(AND(N(E9)>0,N(F9)>0),"Direct + binnen contract",IF(N(E9)>0,"Direct vervangen",IF(N(F9)>0,"Binnen contract vervangen",IF(F9="ntb","Binnen contract – nog te bepalen",IF(AND(E9="",F9=""),"n.v.t.","Geen vervanging gepland"))))) -> Binnen contract vervangen
A10: =TRIM('Bron data'!E287) -> Digiborden incl. OPS | B10: =IF('Bron data'!F287="","",'Bron data'!F287) -> 8 | C10: ='Bron data'!G287&"" -> Niet relevant | D10: ='Bron data'!H287&"" | E10: =IF('Bron data'!I287="","",'Bron data'!I287) | F10: =IF('Bron data'!J287="","",'Bron data'!J287) | G10: =IF(AND(N(E10)>0,N(F10)>0),"Direct + binnen contract",IF(N(E10)>0,"Direct vervangen",IF(N(F10)>0,"Binnen contract vervangen",IF(F10="ntb","Binnen contract – nog te bepalen",IF(AND(E10="",F10=""),"n.v.t.","Geen vervanging gepland"))))) -> n.v.t.
A11: =TRIM('Bron data'!E289) -> Windows laptop/desktop | B11: =IF('Bron data'!F289="","",'Bron data'!F289) -> 12 | C11: ='Bron data'!G289&"" -> Niet relevant | D11: ='Bron data'!H289&"" | E11: =IF('Bron data'!I289="","",'Bron data'!I289) | F11: =IF('Bron data'!J289="","",'Bron data'!J289) | G11: =IF(AND(N(E11)>0,N(F11)>0),"Direct + binnen contract",IF(N(E11)>0,"Direct vervangen",IF(N(F11)>0,"Binnen contract vervangen",IF(F11="ntb","Binnen contract – nog te bepalen",IF(AND(E11="",F11=""),"n.v.t.","Geen vervanging gepland"))))) -> n.v.t.
A12: =TRIM('Bron data'!E286) -> Chromebooks | B12: =IF('Bron data'!F286="","",'Bron data'!F286) -> 141 | C12: ='Bron data'!G286&"" -> Niet relevant | D12: ='Bron data'!H286&"" | E12: =IF('Bron data'!I286="","",'Bron data'!I286) | F12: =IF('Bron data'!J286="","",'Bron data'!J286) | G12: =IF(AND(N(E12)>0,N(F12)>0),"Direct + binnen contract",IF(N(E12)>0,"Direct vervangen",IF(N(F12)>0,"Binnen contract vervangen",IF(F12="ntb","Binnen contract – nog te bepalen",IF(AND(E12="",F12=""),"n.v.t.","Geen vervanging gepland"))))) -> n.v.t.
A13: =TRIM('Bron data'!E50) -> Multifunctionals | B13: =IF('Bron data'!F50="","",'Bron data'!F50) -> 1 | C13: ='Bron data'!G50&"" -> Canon | D13: ='Bron data'!H50&"" | E13: =IF('Bron data'!I50="","",'Bron data'!I50) | F13: =IF('Bron data'!J50="","",'Bron data'!J50) | G13: =IF(AND(N(E13)>0,N(F13)>0),"Direct + binnen contract",IF(N(E13)>0,"Direct vervangen",IF(N(F13)>0,"Binnen contract vervangen",IF(F13="ntb","Binnen contract – nog te bepalen",IF(AND(E13="",F13=""),"n.v.t.","Geen vervanging gepland"))))) -> n.v.t.
A14: ='Bron data'!B359 -> Bos en Duinschool | B14: ="BRIN "&'Bron data'!A359 -> BRIN 08QH00 | C14: =TRIM(SUBSTITUTE('Bron data'!C359,CHAR(160)," "))&", "&TRIM(SUBSTITUTE('Bron data'!D359,CHAR(160)," ")) -> Bos en Duinlaan 1 A, 2061 VM Bloemendaal | D14: =IFERROR("Leerlingen: "&_xlfn.XLOOKUP(A14,Leerlingaantallen!$A$2:$A$37,Leerlingaantallen!$B$2:$B$37),"") -> Leerlingen: 116
A15: =TRIM('Bron data'!E359) -> Switches 24p | B15: =IF('Bron data'!F359="","",'Bron data'!F359) -> 2 | C15: ='Bron data'!G359&"" -> Zyxel | D15: ='Bron data'!H359&"" | E15: =IF('Bron data'!I359="","",'Bron data'!I359) -> 0 | F15: =IF('Bron data'!J359="","",'Bron data'!J359) -> 1 | G15: =IF(AND(N(E15)>0,N(F15)>0),"Direct + binnen contract",IF(N(E15)>0,"Direct vervangen",IF(N(F15)>0,"Binnen contract vervangen",IF(F15="ntb","Binnen contract – nog te bepalen",IF(AND(E15="",F15=""),"n.v.t.","Geen vervanging gepland"))))) -> Binnen contract vervangen
A16: =TRIM('Bron data'!E360) -> Switches POE 24p | B16: =IF('Bron data'!F360="","",'Bron data'!F360) -> 1 | C16: ='Bron data'!G360&"" -> Zyxel | D16: ='Bron data'!H360&"" | E16: =IF('Bron data'!I360="","",'Bron data'!I360) -> 0 | F16: =IF('Bron data'!J360="","",'Bron data'!J360) -> ntb | G16: =IF(AND(N(E16)>0,N(F16)>0),"Direct + binnen contract",IF(N(E16)>0,"Direct vervangen",IF(N(F16)>0,"Binnen contract vervangen",IF(F16="ntb","Binnen contract – nog te bepalen",IF(AND(E16="",F16=""),"n.v.t.","Geen vervanging gepland"))))) -> Binnen contract – nog te bepalen
A17: =TRIM('Bron data'!E80) -> Router | B17: =IF('Bron data'!F80="","",'Bron data'!F80) -> 1 | C17: ='Bron data'!G80&"" -> Fortinet FortiGate 60E | D17: ='Bron data'!H80&"" | E17: =IF('Bron data'!I80="","",'Bron data'!I80) -> 1 | F17: =IF('Bron data'!J80="","",'Bron data'!J80) -> 0 | G17: =IF(AND(N(E17)>0,N(F17)>0),"Direct + binnen contract",IF(N(E17)>0,"Direct vervangen",IF(N(F17)>0,"Binnen contract vervangen",IF(F17="ntb","Binnen contract – nog te bepalen",IF(AND(E17="",F17=""),"n.v.t.","Geen vervanging gepland"))))) -> Direct vervangen
A18: =TRIM('Bron data'!E326) -> Access Points | B18: =IF('Bron data'!F326="","",'Bron data'!F326) -> 9 | C18: ='Bron data'!G326&"" -> Ruckus R550 (aanschafperiode 2021-2026) | D18: ='Bron data'!H326&"" | E18: =IF('Bron data'!I326="","",'Bron data'!I326) -> 0 | F18: =IF('Bron data'!J326="","",'Bron data'!J326) -> ntb | G18: =IF(AND(N(E18)>0,N(F18)>0),"Direct + binnen contract",IF(N(E18)>0,"Direct vervangen",IF(N(F18)>0,"Binnen contract vervangen",IF(F18="ntb","Binnen contract – nog te bepalen",IF(AND(E18="",F18=""),"n.v.t.","Geen vervanging gepland"))))) -> Binnen contract – nog te bepalen
A19: =TRIM('Bron data'!E161) -> Digiborden incl. OPS | B19: =IF('Bron data'!F161="","",'Bron data'!F161) -> 7 | C19: ='Bron data'!G161&"" -> Niet relevant | D19: ='Bron data'!H161&"" | E19: =IF('Bron data'!I161="","",'Bron data'!I161) | F19: =IF('Bron data'!J161="","",'Bron data'!J161) | G19: =IF(AND(N(E19)>0,N(F19)>0),"Direct + binnen contract",IF(N(E19)>0,"Direct vervangen",IF(N(F19)>0,"Binnen contract vervangen",IF(F19="ntb","Binnen contract – nog te bepalen",IF(AND(E19="",F19=""),"n.v.t.","Geen vervanging gepland"))))) -> n.v.t.
A20: =TRIM('Bron data'!E163) -> Windows laptop/desktop | B20: =IF('Bron data'!F163="","",'Bron data'!F163) -> 13 | C20: ='Bron data'!G163&"" -> Niet relevant | D20: ='Bron data'!H163&"" | E20: =IF('Bron data'!I163="","",'Bron data'!I163) | F20: =IF('Bron data'!J163="","",'Bron data'!J163) | G20: =IF(AND(N(E20)>0,N(F20)>0),"Direct + binnen contract",IF(N(E20)>0,"Direct vervangen",IF(N(F20)>0,"Binnen contract vervangen",IF(F20="ntb","Binnen contract – nog te bepalen",IF(AND(E20="",F20=""),"n.v.t.","Geen vervanging gepland"))))) -> n.v.t.
A21: =TRIM('Bron data'!E160) -> Chromebooks | B21: =IF('Bron data'!F160="","",'Bron data'!F160) -> 92 | C21: ='Bron data'!G160&"" -> Niet relevant | D21: ='Bron data'!H160&"" | E21: =IF('Bron data'!I160="","",'Bron data'!I160) | F21: =IF('Bron data'!J160="","",'Bron data'!J160) | G21: =IF(AND(N(E21)>0,N(F21)>0),"Direct + binnen contract",IF(N(E21)>0,"Direct vervangen",IF(N(F21)>0,"Binnen contract vervangen",IF(F21="ntb","Binnen contract – nog te bepalen",IF(AND(E21="",F21=""),"n.v.t.","Geen vervanging gepland"))))) -> n.v.t.
A22: =TRIM('Bron data'!E53) -> Multifunctionals | B22: =IF('Bron data'!F53="","",'Bron data'!F53) -> 1 | C22: ='Bron data'!G53&"" -> Canon | D22: ='Bron data'!H53&"" | E22: =IF('Bron data'!I53="","",'Bron data'!I53) | F22: =IF('Bron data'!J53="","",'Bron data'!J53) | G22: =IF(AND(N(E22)>0,N(F22)>0),"Direct + binnen contract",IF(N(E22)>0,"Direct vervangen",IF(N(F22)>0,"Binnen contract vervangen",IF(F22="ntb","Binnen contract – nog te bepalen",IF(AND(E22="",F22=""),"n.v.t.","Geen vervanging gepland"))))) -> n.v.t.
A23: ='Bron data'!B30 -> Bosch en Hovenschool | B23: ="BRIN "&'Bron data'!A30 -> BRIN 11CF01 | C23: =TRIM(SUBSTITUTE('Bron data'!C30,CHAR(160)," "))&", "&TRIM(SUBSTITUTE('Bron data'!D30,CHAR(160)," ")) -> Adriaan Pauwlaan 19, 2101 AJ Heemstede | D23: =IFERROR("Leerlingen: "&_xlfn.XLOOKUP(A23,Leerlingaantallen!$A$2:$A$37,Leerlingaantallen!$B$2:$B$37),"") -> Leerlingen: 209
A24: =TRIM('Bron data'!E121) -> Switches 48p | B24: =IF('Bron data'!F121="","",'Bron data'!F121) -> 3 | C24: ='Bron data'!G121&"" -> HPE | D24: ='Bron data'!H121&"" -> nieuwbouw | E24: =IF('Bron data'!I121="","",'Bron data'!I121) -> 0 | F24: =IF('Bron data'!J121="","",'Bron data'!J121) -> 2 | G24: =IF(AND(N(E24)>0,N(F24)>0),"Direct + binnen contract",IF(N(E24)>0,"Direct vervangen",IF(N(F24)>0,"Binnen contract vervangen",IF(F24="ntb","Binnen contract – nog te bepalen",IF(AND(E24="",F24=""),"n.v.t.","Geen vervanging gepland"))))) -> Binnen contract vervangen
A25: =TRIM('Bron data'!E122) -> Switches POE 24p | B25: =IF('Bron data'!F122="","",'Bron data'!F122) -> 1 | C25: ='Bron data'!G122&"" -> HPE | D25: ='Bron data'!H122&"" -> nieuwbouw | E25: =IF('Bron data'!I122="","",'Bron data'!I122) -> 0 | F25: =IF('Bron data'!J122="","",'Bron data'!J122) -> 1 | G25: =IF(AND(N(E25)>0,N(F25)>0),"Direct + binnen contract",IF(N(E25)>0,"Direct vervangen",IF(N(F25)>0,"Binnen contract vervangen",IF(F25="ntb","Binnen contract – nog te bepalen",IF(AND(E25="",F25=""),"n.v.t.","Geen vervanging gepland"))))) -> Binnen contract vervangen
A26: =TRIM('Bron data'!E104) -> Router | B26: =IF('Bron data'!F104="","",'Bron data'!F104) -> 1 | C26: ='Bron data'!G104&"" -> Fortinet FortiGate 60F | D26: ='Bron data'!H104&"" | E26: =IF('Bron data'!I104="","",'Bron data'!I104) -> 0 | F26: =IF('Bron data'!J104="","",'Bron data'!J104) -> 0 | G26: =IF(AND(N(E26)>0,N(F26)>0),"Direct + binnen contract",IF(N(E26)>0,"Direct vervangen",IF(N(F26)>0,"Binnen contract vervangen",IF(F26="ntb","Binnen contract – nog te bepalen",IF(AND(E26="",F26=""),"n.v.t.","Geen vervanging gepland"))))) -> Geen vervanging gepland
A27: =TRIM('Bron data'!E308) -> Access Points | B27: =IF('Bron data'!F308="","",'Bron data'!F308) -> 9 | C27: ='Bron data'!G308&"" -> Ruckus R510 | D27: ='Bron data'!H308&"" | E27: =IF('Bron data'!I308="","",'Bron data'!I308) -> 0 | F27: =IF('Bron data'!J308="","",'Bron data'!J308) -> 9 | G27: =IF(AND(N(E27)>0,N(F27)>0),"Direct + binnen contract",IF(N(E27)>0,"Direct vervangen",IF(N(F27)>0,"Binnen contract vervangen",IF(F27="ntb","Binnen contract – nog te bepalen",IF(AND(E27="",F27=""),"n.v.t.","Geen vervanging gepland"))))) -> Binnen contract vervangen
A28: =TRIM('Bron data'!E139) -> Digiborden incl. OPS | B28: =IF('Bron data'!F139="","",'Bron data'!F139) -> 0 | C28: ='Bron data'!G139&"" -> Niet relevant | D28: ='Bron data'!H139&"" | E28: =IF('Bron data'!I139="","",'Bron data'!I139) | F28: =IF('Bron data'!J139="","",'Bron data'!J139) | G28: =IF(AND(N(E28)>0,N(F28)>0),"Direct + binnen contract",IF(N(E28)>0,"Direct vervangen",IF(N(F28)>0,"Binnen contract vervangen",IF(F28="ntb","Binnen contract – nog te bepalen",IF(AND(E28="",F28=""),"n.v.t.","Geen vervanging gepland"))))) -> n.v.t.
A29: =TRIM('Bron data'!E141) -> Windows laptop/desktop | B29: =IF('Bron data'!F141="","",'Bron data'!F141) -> 20 | C29: ='Bron data'!G141&"" -> Niet relevant | D29: ='Bron data'!H141&"" | E29: =IF('Bron data'!I141="","",'Bron data'!I141) | F29: =IF('Bron data'!J141="","",'Bron data'!J141) | G29: =IF(AND(N(E29)>0,N(F29)>0),"Direct + binnen contract",IF(N(E29)>0,"Direct vervangen",IF(N(F29)>0,"Binnen contract vervangen",IF(F29="ntb","Binnen contract – nog te bepalen",IF(AND(E29="",F29=""),"n.v.t.","Geen vervanging gepland"))))) -> n.v.t.
A30: =TRIM('Bron data'!E138) -> Chromebooks | B30: =IF('Bron data'!F138="","",'Bron data'!F138) -> 135 | C30: ='Bron data'!G138&"" -> Niet relevant | D30: ='Bron data'!H138&"" | E30: =IF('Bron data'!I138="","",'Bron data'!I138) | F30: =IF('Bron data'!J138="","",'Bron data'!J138) | G30: =IF(AND(N(E30)>0,N(F30)>0),"Direct + binnen contract",IF(N(E30)>0,"Direct vervangen",IF(N(F30)>0,"Binnen contract vervangen",IF(F30="ntb","Binnen contract – nog te bepalen",IF(AND(E30="",F30=""),"n.v.t.","Geen vervanging gepland"))))) -> n.v.t.
A31: =TRIM('Bron data'!E30) -> Multifunctionals | B31: =IF('Bron data'!F30="","",'Bron data'!F30) -> 1 | C31: ='Bron data'!G30&"" -> Canon | D31: ='Bron data'!H30&"" | E31: =IF('Bron data'!I30="","",'Bron data'!I30) | F31: =IF('Bron data'!J30="","",'Bron data'!J30) | G31: =IF(AND(N(E31)>0,N(F31)>0),"Direct + binnen contract",IF(N(E31)>0,"Direct vervangen",IF(N(F31)>0,"Binnen contract vervangen",IF(F31="ntb","Binnen contract – nog te bepalen",IF(AND(E31="",F31=""),"n.v.t.","Geen vervanging gepland"))))) -> n.v.t.
A32: ='Bron data'!B65 -> De Ark | B32: ="BRIN "&'Bron data'!A65 -> BRIN 13TP00 | C32: =TRIM(SUBSTITUTE('Bron data'!C65,CHAR(160)," "))&", "&TRIM(SUBSTITUTE('Bron data'!D65,CHAR(160)," ")) -> Velserstraat 17, 2023 EA Haarlem | D32: =IFERROR("Leerlingen: "&_xlfn.XLOOKUP(A32,Leerlingaantallen!$A$2:$A$37,Leerlingaantallen!$B$2:$B$37),"") -> Leerlingen: 642
A33: =TRIM('Bron data'!E136) -> Switches 48p | B33: =IF('Bron data'!F136="","",'Bron data'!F136) -> 6 | C33: ='Bron data'!G136&"" -> HPE | D33: ='Bron data'!H136&"" | E33: =IF('Bron data'!I136="","",'Bron data'!I136) -> 2 | F33: =IF('Bron data'!J136="","",'Bron data'!J136) -> 0 | G33: =IF(AND(N(E33)>0,N(F33)>0),"Direct + binnen contract",IF(N(E33)>0,"Direct vervangen",IF(N(F33)>0,"Binnen contract vervangen",IF(F33="ntb","Binnen contract – nog te bepalen",IF(AND(E33="",F33=""),"n.v.t.","Geen vervanging gepland"))))) -> Direct vervangen
A34: =TRIM('Bron data'!E137) -> Switches POE 24p | B34: =IF('Bron data'!F137="","",'Bron data'!F137) -> 1 | C34: ='Bron data'!G137&"" -> HPE | D34: ='Bron data'!H137&"" | E34: =IF('Bron data'!I137="","",'Bron data'!I137) -> 1 | F34: =IF('Bron data'!J137="","",'Bron data'!J137) -> 0 | G34: =IF(AND(N(E34)>0,N(F34)>0),"Direct + binnen contract",IF(N(E34)>0,"Direct vervangen",IF(N(F34)>0,"Binnen contract vervangen",IF(F34="ntb","Binnen contract – nog te bepalen",IF(AND(E34="",F34=""),"n.v.t.","Geen vervanging gepland"))))) -> Direct vervangen
A35: =TRIM('Bron data'!E99) -> Router | B35: =IF('Bron data'!F99="","",'Bron data'!F99) -> 1 | C35: ='Bron data'!G99&"" -> Fortinet FortiGate 60E | D35: ='Bron data'!H99&"" | E35: =IF('Bron data'!I99="","",'Bron data'!I99) -> 1 | F35: =IF('Bron data'!J99="","",'Bron data'!J99) -> 0 | G35: =IF(AND(N(E35)>0,N(F35)>0),"Direct + binnen contract",IF(N(E35)>0,"Direct vervangen",IF(N(F35)>0,"Binnen contract vervangen",IF(F35="ntb","Binnen contract – nog te bepalen",IF(AND(E35="",F35=""),"n.v.t.","Geen vervanging gepland"))))) -> Direct vervangen
A36: =TRIM('Bron data'!E320) -> Access Points | B36: =IF('Bron data'!F320="","",'Bron data'!F320) -> 15 | C36: ='Bron data'!G320&"" -> Ruckus R510 | D36: ='Bron data'!H320&"" | E36: =IF('Bron data'!I320="","",'Bron data'!I320) -> 0 | F36: =IF('Bron data'!J320="","",'Bron data'!J320) -> 15 | G36: =IF(AND(N(E36)>0,N(F36)>0),"Direct + binnen contract",IF(N(E36)>0,"Direct vervangen",IF(N(F36)>0,"Binnen contract vervangen",IF(F36="ntb","Binnen contract – nog te bepalen",IF(AND(E36="",F36=""),"n.v.t.","Geen vervanging gepland"))))) -> Binnen contract vervangen
A37: =TRIM('Bron data'!E271) -> Digiborden incl. OPS | B37: =IF('Bron data'!F271="","",'Bron data'!F271) -> 23 | C37: ='Bron data'!G271&"" -> Niet relevant | D37: ='Bron data'!H271&"" | E37: =IF('Bron data'!I271="","",'Bron data'!I271) | F37: =IF('Bron data'!J271="","",'Bron data'!J271) | G37: =IF(AND(N(E37)>0,N(F37)>0),"Direct + binnen contract",IF(N(E37)>0,"Direct vervangen",IF(N(F37)>0,"Binnen contract vervangen",IF(F37="ntb","Binnen contract – nog te bepalen",IF(AND(E37="",F37=""),"n.v.t.","Geen vervanging gepland"))))) -> n.v.t.
A38: =TRIM('Bron data'!E273) -> Windows laptop/desktop | B38: =IF('Bron data'!F273="","",'Bron data'!F273) -> 35 | C38: ='Bron data'!G273&"" -> Niet relevant | D38: ='Bron data'!H273&"" | E38: =IF('Bron data'!I273="","",'Bron data'!I273) | F38: =IF('Bron data'!J273="","",'Bron data'!J273) | G38: =IF(AND(N(E38)>0,N(F38)>0),"Direct + binnen contract",IF(N(E38)>0,"Direct vervangen",IF(N(F38)>0,"Binnen contract vervangen",IF(F38="ntb","Binnen contract – nog te bepalen",IF(AND(E38="",F38=""),"n.v.t.","Geen vervanging gepland"))))) -> n.v.t.
A39: =TRIM('Bron data'!E270) -> Chromebooks | B39: =IF('Bron data'!F270="","",'Bron data'!F270) -> 542 | C39: ='Bron data'!G270&"" -> Niet relevant | D39: ='Bron data'!H270&"" | E39: =IF('Bron data'!I270="","",'Bron data'!I270) | F39: =IF('Bron data'!J270="","",'Bron data'!J270) | G39: =IF(AND(N(E39)>0,N(F39)>0),"Direct + binnen contract",IF(N(E39)>0,"Direct vervangen",IF(N(F39)>0,"Binnen contract vervangen",IF(F39="ntb","Binnen contract – nog te bepalen",IF(AND(E39="",F39=""),"n.v.t.","Geen vervanging gepland"))))) -> n.v.t.
A40: =TRIM('Bron data'!E65) -> Multifunctionals | B40: =IF('Bron data'!F65="","",'Bron data'!F65) -> 4 | C40: ='Bron data'!G65&"" -> Canon | D40: ='Bron data'!H65&"" | E40: =IF('Bron data'!I65="","",'Bron data'!I65) | F40: =IF('Bron data'!J65="","",'Bron data'!J65) | G40: =IF(AND(N(E40)>0,N(F40)>0),"Direct + binnen contract",IF(N(E40)>0,"Direct vervangen",IF(N(F40)>0,"Binnen contract vervangen",IF(F40="ntb","Binnen contract – nog te bepalen",IF(AND(E40="",F40=""),"n.v.t.","Geen vervanging gepland"))))) -> n.v.t.
A41: ='Bron data'!B356 -> De Bavinck | B41: ="BRIN "&'Bron data'!A356 -> BRIN 14GK00 | C41: =TRIM(SUBSTITUTE('Bron data'!C356,CHAR(160)," "))&", "&TRIM(SUBSTITUTE('Bron data'!D356,CHAR(160)," ")) -> Ambachtstraat 1, 2024 EB Haarlem | D41: =IFERROR("Leerlingen: "&_xlfn.XLOOKUP(A41,Leerlingaantallen!$A$2:$A$37,Leerlingaantallen!$B$2:$B$37),"") -> Leerlingen: 377
A42: =TRIM('Bron data'!E356) -> Switches 48p | B42: =IF('Bron data'!F356="","",'Bron data'!F356) -> 1 | C42: ='Bron data'!G356&"" -> Zyxel | D42: ='Bron data'!H356&"" | E42: =IF('Bron data'!I356="","",'Bron data'!I356) -> 1 | F42: =IF('Bron data'!J356="","",'Bron data'!J356) -> 0 | G42: =IF(AND(N(E42)>0,N(F42)>0),"Direct + binnen contract",IF(N(E42)>0,"Direct vervangen",IF(N(F42)>0,"Binnen contract vervangen",IF(F42="ntb","Binnen contract – nog te bepalen",IF(AND(E42="",F42=""),"n.v.t.","Geen vervanging gepland"))))) -> Direct vervangen
A43: =TRIM('Bron data'!E358) -> Switches POE 8p | B43: =IF('Bron data'!F358="","",'Bron data'!F358) -> 1 | C43: ='Bron data'!G358&"" -> Zyxel | D43: ='Bron data'!H358&"" | E43: =IF('Bron data'!I358="","",'Bron data'!I358) -> 1 | F43: =IF('Bron data'!J358="","",'Bron data'!J358) -> 0 | G43: =IF(AND(N(E43)>0,N(F43)>0),"Direct + binnen contract",IF(N(E43)>0,"Direct vervangen",IF(N(F43)>0,"Binnen contract vervangen",IF(F43="ntb","Binnen contract – nog te bepalen",IF(AND(E43="",F43=""),"n.v.t.","Geen vervanging gepland"))))) -> Direct vervangen
A44: =TRIM('Bron data'!E357) -> Switches POE 24p | B44: =IF('Bron data'!F357="","",'Bron data'!F357) -> 1 | C44: ='Bron data'!G357&"" -> Zyxel | D44: ='Bron data'!H357&"" | E44: =IF('Bron data'!I357="","",'Bron data'!I357) -> 1 | F44: =IF('Bron data'!J357="","",'Bron data'!J357) -> 0 | G44: =IF(AND(N(E44)>0,N(F44)>0),"Direct + binnen contract",IF(N(E44)>0,"Direct vervangen",IF(N(F44)>0,"Binnen contract vervangen",IF(F44="ntb","Binnen contract – nog te bepalen",IF(AND(E44="",F44=""),"n.v.t.","Geen vervanging gepland"))))) -> Direct vervangen
A45: =TRIM('Bron data'!E105) -> Router | B45: =IF('Bron data'!F105="","",'Bron data'!F105) -> 1 | C45: ='Bron data'!G105&"" -> Fortinet FortiGate 60F | D45: ='Bron data'!H105&"" | E45: =IF('Bron data'!I105="","",'Bron data'!I105) -> 0 | F45: =IF('Bron data'!J105="","",'Bron data'!J105) -> 0 | G45: =IF(AND(N(E45)>0,N(F45)>0),"Direct + binnen contract",IF(N(E45)>0,"Direct vervangen",IF(N(F45)>0,"Binnen contract vervangen",IF(F45="ntb","Binnen contract – nog te bepalen",IF(AND(E45="",F45=""),"n.v.t.","Geen vervanging gepland"))))) -> Geen vervanging gepland
A46: =TRIM('Bron data'!E309) -> Access Points | B46: =IF('Bron data'!F309="","",'Bron data'!F309) -> 12 | C46: ='Bron data'!G309&"" -> Ruckus R510 | D46: ='Bron data'!H309&"" | E46: =IF('Bron data'!I309="","",'Bron data'!I309) -> 0 | F46: =IF('Bron data'!J309="","",'Bron data'!J309) -> 12 | G46: =IF(AND(N(E46)>0,N(F46)>0),"Direct + binnen contract",IF(N(E46)>0,"Direct vervangen",IF(N(F46)>0,"Binnen contract vervangen",IF(F46="ntb","Binnen contract – nog te bepalen",IF(AND(E46="",F46=""),"n.v.t.","Geen vervanging gepland"))))) -> Binnen contract vervangen
A47: =TRIM('Bron data'!E147) -> Digiborden incl. OPS | B47: =IF('Bron data'!F147="","",'Bron data'!F147) -> 21 | C47: ='Bron data'!G147&"" -> Niet relevant | D47: ='Bron data'!H147&"" | E47: =IF('Bron data'!I147="","",'Bron data'!I147) | F47: =IF('Bron data'!J147="","",'Bron data'!J147) | G47: =IF(AND(N(E47)>0,N(F47)>0),"Direct + binnen contract",IF(N(E47)>0,"Direct vervangen",IF(N(F47)>0,"Binnen contract vervangen",IF(F47="ntb","Binnen contract – nog te bepalen",IF(AND(E47="",F47=""),"n.v.t.","Geen vervanging gepland"))))) -> n.v.t.
A48: =TRIM('Bron data'!E149) -> Windows laptop/desktop | B48: =IF('Bron data'!F149="","",'Bron data'!F149) -> 37 | C48: ='Bron data'!G149&"" -> Niet relevant | D48: ='Bron data'!H149&"" | E48: =IF('Bron data'!I149="","",'Bron data'!I149) | F48: =IF('Bron data'!J149="","",'Bron data'!J149) | G48: =IF(AND(N(E48)>0,N(F48)>0),"Direct + binnen contract",IF(N(E48)>0,"Direct vervangen",IF(N(F48)>0,"Binnen contract vervangen",IF(F48="ntb","Binnen contract – nog te bepalen",IF(AND(E48="",F48=""),"n.v.t.","Geen vervanging gepland"))))) -> n.v.t.
A49: =TRIM('Bron data'!E146) -> Chromebooks | B49: =IF('Bron data'!F146="","",'Bron data'!F146) -> 210 | C49: ='Bron data'!G146&"" -> Niet relevant | D49: ='Bron data'!H146&"" | E49: =IF('Bron data'!I146="","",'Bron data'!I146) | F49: =IF('Bron data'!J146="","",'Bron data'!J146) | G49: =IF(AND(N(E49)>0,N(F49)>0),"Direct + binnen contract",IF(N(E49)>0,"Direct vervangen",IF(N(F49)>0,"Binnen contract vervangen",IF(F49="ntb","Binnen contract – nog te bepalen",IF(AND(E49="",F49=""),"n.v.t.","Geen vervanging gepland"))))) -> n.v.t.
A50: =TRIM('Bron data'!E51) -> Multifunctionals | B50: =IF('Bron data'!F51="","",'Bron data'!F51) -> 3 | C50: ='Bron data'!G51&"" -> Canon | D50: ='Bron data'!H51&"" | E50: =IF('Bron data'!I51="","",'Bron data'!I51) | F50: =IF('Bron data'!J51="","",'Bron data'!J51) | G50: =IF(AND(N(E50)>0,N(F50)>0),"Direct + binnen contract",IF(N(E50)>0,"Direct vervangen",IF(N(F50)>0,"Binnen contract vervangen",IF(F50="ntb","Binnen contract – nog te bepalen",IF(AND(E50="",F50=""),"n.v.t.","Geen vervanging gepland"))))) -> n.v.t.
A51: ='Bron data'!B123 -> De Bavinck DEP | B51: ="BRIN "&'Bron data'!A123 -> BRIN 14GK00 | C51: =TRIM(SUBSTITUTE('Bron data'!C123,CHAR(160)," "))&", "&TRIM(SUBSTITUTE('Bron data'!D123,CHAR(160)," ")) -> Ambachtstraat 20, 2024 EB Haarlem | D51: =IFERROR("Leerlingen: "&_xlfn.XLOOKUP(A51,Leerlingaantallen!$A$2:$A$37,Leerlingaantallen!$B$2:$B$37),"")
A52: =TRIM('Bron data'!E123) -> Switches 24p | B52: =IF('Bron data'!F123="","",'Bron data'!F123) -> 1 | C52: ='Bron data'!G123&"" -> HPE | D52: ='Bron data'!H123&"" -> DEP | E52: =IF('Bron data'!I123="","",'Bron data'!I123) -> 1 | F52: =IF('Bron data'!J123="","",'Bron data'!J123) -> 0 | G52: =IF(AND(N(E52)>0,N(F52)>0),"Direct + binnen contract",IF(N(E52)>0,"Direct vervangen",IF(N(F52)>0,"Binnen contract vervangen",IF(F52="ntb","Binnen contract – nog te bepalen",IF(AND(E52="",F52=""),"n.v.t.","Geen vervanging gepland"))))) -> Direct vervangen
A53: =TRIM('Bron data'!E106) -> Router | B53: =IF('Bron data'!F106="","",'Bron data'!F106) -> 1 | C53: ='Bron data'!G106&"" -> Fortinet FortiGate 60F | D53: ='Bron data'!H106&"" -> DEP | E53: =IF('Bron data'!I106="","",'Bron data'!I106) -> 0 | F53: =IF('Bron data'!J106="","",'Bron data'!J106) -> 0 | G53: =IF(AND(N(E53)>0,N(F53)>0),"Direct + binnen contract",IF(N(E53)>0,"Direct vervangen",IF(N(F53)>0,"Binnen contract vervangen",IF(F53="ntb","Binnen contract – nog te bepalen",IF(AND(E53="",F53=""),"n.v.t.","Geen vervanging gepland"))))) -> Geen vervanging gepland
A54: =TRIM('Bron data'!E310) -> Access Points | B54: =IF('Bron data'!F310="","",'Bron data'!F310) -> 1 | C54: ='Bron data'!G310&"" -> Ruckus R510 | D54: ='Bron data'!H310&"" | E54: =IF('Bron data'!I310="","",'Bron data'!I310) -> 0 | F54: =IF('Bron data'!J310="","",'Bron data'!J310) -> 1 | G54: =IF(AND(N(E54)>0,N(F54)>0),"Direct + binnen contract",IF(N(E54)>0,"Direct vervangen",IF(N(F54)>0,"Binnen contract vervangen",IF(F54="ntb","Binnen contract – nog te bepalen",IF(AND(E54="",F54=""),"n.v.t.","Geen vervanging gepland"))))) -> Binnen contract vervangen
A55: ='Bron data'!B34 -> De Meer | B55: ="BRIN "&'Bron data'!A34 -> BRIN 12KZ00 | C55: =TRIM(SUBSTITUTE('Bron data'!C34,CHAR(160)," "))&", "&TRIM(SUBSTITUTE('Bron data'!D34,CHAR(160)," ")) -> Erasmuslaan 1, 2037 LA Haarlem | D55: =IFERROR("Leerlingen: "&_xlfn.XLOOKUP(A55,Leerlingaantallen!$A$2:$A$37,Leerlingaantallen!$B$2:$B$37),"") -> Leerlingen: 201
A56: =TRIM('Bron data'!E191) -> Switches 48p | B56: =IF('Bron data'!F191="","",'Bron data'!F191) -> 1 | C56: ='Bron data'!G191&"" -> Onbekend | D56: ='Bron data'!H191&"" | E56: =IF('Bron data'!I191="","",'Bron data'!I191) -> 0 | F56: =IF('Bron data'!J191="","",'Bron data'!J191) -> ntb | G56: =IF(AND(N(E56)>0,N(F56)>0),"Direct + binnen contract",IF(N(E56)>0,"Direct vervangen",IF(N(F56)>0,"Binnen contract vervangen",IF(F56="ntb","Binnen contract – nog te bepalen",IF(AND(E56="",F56=""),"n.v.t.","Geen vervanging gepland"))))) -> Binnen contract – nog te bepalen
A57: =TRIM('Bron data'!E341) -> Switches POE 8p | B57: =IF('Bron data'!F341="","",'Bron data'!F341) -> 2 | C57: ='Bron data'!G341&"" -> Ubiquiti UniFi | D57: ='Bron data'!H341&"" | E57: =IF('Bron data'!I341="","",'Bron data'!I341) -> 0 | F57: =IF('Bron data'!J341="","",'Bron data'!J341) -> 2 | G57: =IF(AND(N(E57)>0,N(F57)>0),"Direct + binnen contract",IF(N(E57)>0,"Direct vervangen",IF(N(F57)>0,"Binnen contract vervangen",IF(F57="ntb","Binnen contract – nog te bepalen",IF(AND(E57="",F57=""),"n.v.t.","Geen vervanging gepland"))))) -> Binnen contract vervangen
A58: =TRIM('Bron data'!E84) -> Router | B58: =IF('Bron data'!F84="","",'Bron data'!F84) -> 1 | C58: ='Bron data'!G84&"" -> Fortinet FortiGate 60E | D58: ='Bron data'!H84&"" | E58: =IF('Bron data'!I84="","",'Bron data'!I84) -> 1 | F58: =IF('Bron data'!J84="","",'Bron data'!J84) -> 0 | G58: =IF(AND(N(E58)>0,N(F58)>0),"Direct + binnen contract",IF(N(E58)>0,"Direct vervangen",IF(N(F58)>0,"Binnen contract vervangen",IF(F58="ntb","Binnen contract – nog te bepalen",IF(AND(E58="",F58=""),"n.v.t.","Geen vervanging gepland"))))) -> Direct vervangen
A59: =TRIM('Bron data'!E300) -> Access Points | B59: =IF('Bron data'!F300="","",'Bron data'!F300) -> 8 | C59: ='Bron data'!G300&"" -> Ruckus R350 (aanschafperiode 2022-2026) | D59: ='Bron data'!H300&"" | E59: =IF('Bron data'!I300="","",'Bron data'!I300) -> 0 | F59: =IF('Bron data'!J300="","",'Bron data'!J300) -> ntb | G59: =IF(AND(N(E59)>0,N(F59)>0),"Direct + binnen contract",IF(N(E59)>0,"Direct vervangen",IF(N(F59)>0,"Binnen contract vervangen",IF(F59="ntb","Binnen contract – nog te bepalen",IF(AND(E59="",F59=""),"n.v.t.","Geen vervanging gepland"))))) -> Binnen contract – nog te bepalen
A60: =TRIM('Bron data'!E189) -> Digiborden incl. OPS | B60: =IF('Bron data'!F189="","",'Bron data'!F189) -> 2 | C60: ='Bron data'!G189&"" -> Niet relevant | D60: ='Bron data'!H189&"" | E60: =IF('Bron data'!I189="","",'Bron data'!I189) | F60: =IF('Bron data'!J189="","",'Bron data'!J189) | G60: =IF(AND(N(E60)>0,N(F60)>0),"Direct + binnen contract",IF(N(E60)>0,"Direct vervangen",IF(N(F60)>0,"Binnen contract vervangen",IF(F60="ntb","Binnen contract – nog te bepalen",IF(AND(E60="",F60=""),"n.v.t.","Geen vervanging gepland"))))) -> n.v.t.
A61: =TRIM('Bron data'!E192) -> Windows laptop/desktop | B61: =IF('Bron data'!F192="","",'Bron data'!F192) -> 29 | C61: ='Bron data'!G192&"" -> Niet relevant | D61: ='Bron data'!H192&"" | E61: =IF('Bron data'!I192="","",'Bron data'!I192) | F61: =IF('Bron data'!J192="","",'Bron data'!J192) | G61: =IF(AND(N(E61)>0,N(F61)>0),"Direct + binnen contract",IF(N(E61)>0,"Direct vervangen",IF(N(F61)>0,"Binnen contract vervangen",IF(F61="ntb","Binnen contract – nog te bepalen",IF(AND(E61="",F61=""),"n.v.t.","Geen vervanging gepland"))))) -> n.v.t.
A62: =TRIM('Bron data'!E188) -> Chromebooks | B62: =IF('Bron data'!F188="","",'Bron data'!F188) -> 226 | C62: ='Bron data'!G188&"" -> Niet relevant | D62: ='Bron data'!H188&"" | E62: =IF('Bron data'!I188="","",'Bron data'!I188) | F62: =IF('Bron data'!J188="","",'Bron data'!J188) | G62: =IF(AND(N(E62)>0,N(F62)>0),"Direct + binnen contract",IF(N(E62)>0,"Direct vervangen",IF(N(F62)>0,"Binnen contract vervangen",IF(F62="ntb","Binnen contract – nog te bepalen",IF(AND(E62="",F62=""),"n.v.t.","Geen vervanging gepland"))))) -> n.v.t.
A63: =TRIM('Bron data'!E34) -> Multifunctionals | B63: =IF('Bron data'!F34="","",'Bron data'!F34) -> 1 | C63: ='Bron data'!G34&"" -> Canon | D63: ='Bron data'!H34&"" | E63: =IF('Bron data'!I34="","",'Bron data'!I34) | F63: =IF('Bron data'!J34="","",'Bron data'!J34) | G63: =IF(AND(N(E63)>0,N(F63)>0),"Direct + binnen contract",IF(N(E63)>0,"Direct vervangen",IF(N(F63)>0,"Binnen contract vervangen",IF(F63="ntb","Binnen contract – nog te bepalen",IF(AND(E63="",F63=""),"n.v.t.","Geen vervanging gepland"))))) -> n.v.t.
A64: ='Bron data'!B294 -> De Schelp | B64: ="BRIN "&'Bron data'!A294 -> BRIN 09QN00 | C64: =TRIM(SUBSTITUTE('Bron data'!C294,CHAR(160)," "))&", "&TRIM(SUBSTITUTE('Bron data'!D294,CHAR(160)," ")) -> Nieuwe Landstraat 12, 2021 DE Haarlem | D64: =IFERROR("Leerlingen: "&_xlfn.XLOOKUP(A64,Leerlingaantallen!$A$2:$A$37,Leerlingaantallen!$B$2:$B$37),"") -> Leerlingen: 139
A65: =TRIM('Bron data'!E294) -> Switches 24p | B65: =IF('Bron data'!F294="","",'Bron data'!F294) -> 1 | C65: ='Bron data'!G294&"" -> Netgear | D65: ='Bron data'!H294&"" | E65: =IF('Bron data'!I294="","",'Bron data'!I294) -> 0 | F65: =IF('Bron data'!J294="","",'Bron data'!J294) -> 0 | G65: =IF(AND(N(E65)>0,N(F65)>0),"Direct + binnen contract",IF(N(E65)>0,"Direct vervangen",IF(N(F65)>0,"Binnen contract vervangen",IF(F65="ntb","Binnen contract – nog te bepalen",IF(AND(E65="",F65=""),"n.v.t.","Geen vervanging gepland"))))) -> Geen vervanging gepland
A66: =TRIM('Bron data'!E12) -> Switches 48p | B66: =IF('Bron data'!F12="","",'Bron data'!F12) -> 2 | C66: ='Bron data'!G12&"" -> Aruba | D66: ='Bron data'!H12&"" | E66: =IF('Bron data'!I12="","",'Bron data'!I12) -> 0 | F66: =IF('Bron data'!J12="","",'Bron data'!J12) -> ntb | G66: =IF(AND(N(E66)>0,N(F66)>0),"Direct + binnen contract",IF(N(E66)>0,"Direct vervangen",IF(N(F66)>0,"Binnen contract vervangen",IF(F66="ntb","Binnen contract – nog te bepalen",IF(AND(E66="",F66=""),"n.v.t.","Geen vervanging gepland"))))) -> Binnen contract – nog te bepalen
A67: =TRIM('Bron data'!E73) -> Switches POE 8p | B67: =IF('Bron data'!F73="","",'Bron data'!F73) -> 2 | C67: ='Bron data'!G73&"" -> DrayTek | D67: ='Bron data'!H73&"" | E67: =IF('Bron data'!I73="","",'Bron data'!I73) -> 0 | F67: =IF('Bron data'!J73="","",'Bron data'!J73) -> 0 | G67: =IF(AND(N(E67)>0,N(F67)>0),"Direct + binnen contract",IF(N(E67)>0,"Direct vervangen",IF(N(F67)>0,"Binnen contract vervangen",IF(F67="ntb","Binnen contract – nog te bepalen",IF(AND(E67="",F67=""),"n.v.t.","Geen vervanging gepland"))))) -> Geen vervanging gepland
A68: =TRIM('Bron data'!E349) -> Switches POE 8p | B68: =IF('Bron data'!F349="","",'Bron data'!F349) -> 3 | C68: ='Bron data'!G349&"" -> Ubiquiti UniFi | D68: ='Bron data'!H349&"" | E68: =IF('Bron data'!I349="","",'Bron data'!I349) -> 0 | F68: =IF('Bron data'!J349="","",'Bron data'!J349) -> 0 | G68: =IF(AND(N(E68)>0,N(F68)>0),"Direct + binnen contract",IF(N(E68)>0,"Direct vervangen",IF(N(F68)>0,"Binnen contract vervangen",IF(F68="ntb","Binnen contract – nog te bepalen",IF(AND(E68="",F68=""),"n.v.t.","Geen vervanging gepland"))))) -> Geen vervanging gepland
A69: =TRIM('Bron data'!E348) -> Switches POE 24p | B69: =IF('Bron data'!F348="","",'Bron data'!F348) -> 1 | C69: ='Bron data'!G348&"" -> Ubiquiti UniFi | D69: ='Bron data'!H348&"" | E69: =IF('Bron data'!I348="","",'Bron data'!I348) -> 1 | F69: =IF('Bron data'!J348="","",'Bron data'!J348) -> 0 | G69: =IF(AND(N(E69)>0,N(F69)>0),"Direct + binnen contract",IF(N(E69)>0,"Direct vervangen",IF(N(F69)>0,"Binnen contract vervangen",IF(F69="ntb","Binnen contract – nog te bepalen",IF(AND(E69="",F69=""),"n.v.t.","Geen vervanging gepland"))))) -> Direct vervangen
A70: =TRIM('Bron data'!E91) -> Router | B70: =IF('Bron data'!F91="","",'Bron data'!F91) -> 1 | C70: ='Bron data'!G91&"" -> Fortinet FortiGate 60E | D70: ='Bron data'!H91&"" | E70: =IF('Bron data'!I91="","",'Bron data'!I91) -> 1 | F70: =IF('Bron data'!J91="","",'Bron data'!J91) -> 0 | G70: =IF(AND(N(E70)>0,N(F70)>0),"Direct + binnen contract",IF(N(E70)>0,"Direct vervangen",IF(N(F70)>0,"Binnen contract vervangen",IF(F70="ntb","Binnen contract – nog te bepalen",IF(AND(E70="",F70=""),"n.v.t.","Geen vervanging gepland"))))) -> Direct vervangen
A71: =TRIM('Bron data'!E303) -> Access Points | B71: =IF('Bron data'!F303="","",'Bron data'!F303) -> 13 | C71: ='Bron data'!G303&"" -> Ruckus R350 (aanschafperiode 2022-2026) | D71: ='Bron data'!H303&"" | E71: =IF('Bron data'!I303="","",'Bron data'!I303) -> 0 | F71: =IF('Bron data'!J303="","",'Bron data'!J303) -> ntb | G71: =IF(AND(N(E71)>0,N(F71)>0),"Direct + binnen contract",IF(N(E71)>0,"Direct vervangen",IF(N(F71)>0,"Binnen contract vervangen",IF(F71="ntb","Binnen contract – nog te bepalen",IF(AND(E71="",F71=""),"n.v.t.","Geen vervanging gepland"))))) -> Binnen contract – nog te bepalen
A72: =TRIM('Bron data'!E223) -> Digiborden incl. OPS | B72: =IF('Bron data'!F223="","",'Bron data'!F223) -> 12 | C72: ='Bron data'!G223&"" -> Niet relevant | D72: ='Bron data'!H223&"" | E72: =IF('Bron data'!I223="","",'Bron data'!I223) | F72: =IF('Bron data'!J223="","",'Bron data'!J223) | G72: =IF(AND(N(E72)>0,N(F72)>0),"Direct + binnen contract",IF(N(E72)>0,"Direct vervangen",IF(N(F72)>0,"Binnen contract vervangen",IF(F72="ntb","Binnen contract – nog te bepalen",IF(AND(E72="",F72=""),"n.v.t.","Geen vervanging gepland"))))) -> n.v.t.
A73: =TRIM('Bron data'!E225) -> Windows laptop/desktop | B73: =IF('Bron data'!F225="","",'Bron data'!F225) -> 96 | C73: ='Bron data'!G225&"" -> Niet relevant | D73: ='Bron data'!H225&"" | E73: =IF('Bron data'!I225="","",'Bron data'!I225) | F73: =IF('Bron data'!J225="","",'Bron data'!J225) | G73: =IF(AND(N(E73)>0,N(F73)>0),"Direct + binnen contract",IF(N(E73)>0,"Direct vervangen",IF(N(F73)>0,"Binnen contract vervangen",IF(F73="ntb","Binnen contract – nog te bepalen",IF(AND(E73="",F73=""),"n.v.t.","Geen vervanging gepland"))))) -> n.v.t.
A74: =TRIM('Bron data'!E222) -> Chromebooks | B74: =IF('Bron data'!F222="","",'Bron data'!F222) -> 33 | C74: ='Bron data'!G222&"" -> Niet relevant | D74: ='Bron data'!H222&"" | E74: =IF('Bron data'!I222="","",'Bron data'!I222) | F74: =IF('Bron data'!J222="","",'Bron data'!J222) | G74: =IF(AND(N(E74)>0,N(F74)>0),"Direct + binnen contract",IF(N(E74)>0,"Direct vervangen",IF(N(F74)>0,"Binnen contract vervangen",IF(F74="ntb","Binnen contract – nog te bepalen",IF(AND(E74="",F74=""),"n.v.t.","Geen vervanging gepland"))))) -> n.v.t.
A75: =TRIM('Bron data'!E60) -> Multifunctionals | B75: =IF('Bron data'!F60="","",'Bron data'!F60) -> 2 | C75: ='Bron data'!G60&"" -> Canon | D75: ='Bron data'!H60&"" | E75: =IF('Bron data'!I60="","",'Bron data'!I60) | F75: =IF('Bron data'!J60="","",'Bron data'!J60) | G75: =IF(AND(N(E75)>0,N(F75)>0),"Direct + binnen contract",IF(N(E75)>0,"Direct vervangen",IF(N(F75)>0,"Binnen contract vervangen",IF(F75="ntb","Binnen contract – nog te bepalen",IF(AND(E75="",F75=""),"n.v.t.","Geen vervanging gepland"))))) -> n.v.t.
A76: ='Bron data'!B41 -> De Talenten | B76: ="BRIN "&'Bron data'!A41 -> BRIN 16LQ01 | C76: =TRIM(SUBSTITUTE('Bron data'!C41,CHAR(160)," "))&", "&TRIM(SUBSTITUTE('Bron data'!D41,CHAR(160)," ")) -> Noormannenstraat 1, 2033 LG Haarlem | D76: =IFERROR("Leerlingen: "&_xlfn.XLOOKUP("Talenten",Leerlingaantallen!$A$2:$A$37,Leerlingaantallen!$B$2:$B$37),"") -> Leerlingen: 171
A77: =TRIM('Bron data'!E129) -> Switches 48p | B77: =IF('Bron data'!F129="","",'Bron data'!F129) -> 1 | C77: ='Bron data'!G129&"" -> HPE | D77: ='Bron data'!H129&"" -> in tijdelijke huisvesting | E77: =IF('Bron data'!I129="","",'Bron data'!I129) -> 1 | F77: =IF('Bron data'!J129="","",'Bron data'!J129) -> 0 | G77: =IF(AND(N(E77)>0,N(F77)>0),"Direct + binnen contract",IF(N(E77)>0,"Direct vervangen",IF(N(F77)>0,"Binnen contract vervangen",IF(F77="ntb","Binnen contract – nog te bepalen",IF(AND(E77="",F77=""),"n.v.t.","Geen vervanging gepland"))))) -> Direct vervangen
A78: =TRIM('Bron data'!E346) -> Switches POE 8p | B78: =IF('Bron data'!F346="","",'Bron data'!F346) -> 1 | C78: ='Bron data'!G346&"" -> Ubiquiti UniFi | D78: ='Bron data'!H346&"" | E78: =IF('Bron data'!I346="","",'Bron data'!I346) -> 1 | F78: =IF('Bron data'!J346="","",'Bron data'!J346) -> 0 | G78: =IF(AND(N(E78)>0,N(F78)>0),"Direct + binnen contract",IF(N(E78)>0,"Direct vervangen",IF(N(F78)>0,"Binnen contract vervangen",IF(F78="ntb","Binnen contract – nog te bepalen",IF(AND(E78="",F78=""),"n.v.t.","Geen vervanging gepland"))))) -> Direct vervangen
A79: =TRIM('Bron data'!E92) -> Router | B79: =IF('Bron data'!F92="","",'Bron data'!F92) -> 1 | C79: ='Bron data'!G92&"" -> Fortinet FortiGate 60E | D79: ='Bron data'!H92&"" -> in tijdelijke huisvesting | E79: =IF('Bron data'!I92="","",'Bron data'!I92) -> 1 | F79: =IF('Bron data'!J92="","",'Bron data'!J92) -> 0 | G79: =IF(AND(N(E79)>0,N(F79)>0),"Direct + binnen contract",IF(N(E79)>0,"Direct vervangen",IF(N(F79)>0,"Binnen contract vervangen",IF(F79="ntb","Binnen contract – nog te bepalen",IF(AND(E79="",F79=""),"n.v.t.","Geen vervanging gepland"))))) -> Direct vervangen
A80: =TRIM('Bron data'!E304) -> Access Points | B80: =IF('Bron data'!F304="","",'Bron data'!F304) -> 6 | C80: ='Bron data'!G304&"" -> Ruckus R350 (aanschafperiode 2022-2026) | D80: ='Bron data'!H304&"" -> in tijdelijke huisvesting | E80: =IF('Bron data'!I304="","",'Bron data'!I304) -> 0 | F80: =IF('Bron data'!J304="","",'Bron data'!J304) -> ntb | G80: =IF(AND(N(E80)>0,N(F80)>0),"Direct + binnen contract",IF(N(E80)>0,"Direct vervangen",IF(N(F80)>0,"Binnen contract vervangen",IF(F80="ntb","Binnen contract – nog te bepalen",IF(AND(E80="",F80=""),"n.v.t.","Geen vervanging gepland"))))) -> Binnen contract – nog te bepalen
A81: =TRIM('Bron data'!E227) -> Digiborden incl. OPS | B81: =IF('Bron data'!F227="","",'Bron data'!F227) -> 8 | C81: ='Bron data'!G227&"" -> Niet relevant | D81: ='Bron data'!H227&"" | E81: =IF('Bron data'!I227="","",'Bron data'!I227) | F81: =IF('Bron data'!J227="","",'Bron data'!J227) | G81: =IF(AND(N(E81)>0,N(F81)>0),"Direct + binnen contract",IF(N(E81)>0,"Direct vervangen",IF(N(F81)>0,"Binnen contract vervangen",IF(F81="ntb","Binnen contract – nog te bepalen",IF(AND(E81="",F81=""),"n.v.t.","Geen vervanging gepland"))))) -> n.v.t.
A82: =TRIM('Bron data'!E229) -> Windows laptop/desktop | B82: =IF('Bron data'!F229="","",'Bron data'!F229) -> 3 | C82: ='Bron data'!G229&"" -> Niet relevant | D82: ='Bron data'!H229&"" | E82: =IF('Bron data'!I229="","",'Bron data'!I229) | F82: =IF('Bron data'!J229="","",'Bron data'!J229) | G82: =IF(AND(N(E82)>0,N(F82)>0),"Direct + binnen contract",IF(N(E82)>0,"Direct vervangen",IF(N(F82)>0,"Binnen contract vervangen",IF(F82="ntb","Binnen contract – nog te bepalen",IF(AND(E82="",F82=""),"n.v.t.","Geen vervanging gepland"))))) -> n.v.t.
A83: =TRIM('Bron data'!E226) -> Chromebooks | B83: =IF('Bron data'!F226="","",'Bron data'!F226) -> 138 | C83: ='Bron data'!G226&"" -> Niet relevant | D83: ='Bron data'!H226&"" | E83: =IF('Bron data'!I226="","",'Bron data'!I226) | F83: =IF('Bron data'!J226="","",'Bron data'!J226) | G83: =IF(AND(N(E83)>0,N(F83)>0),"Direct + binnen contract",IF(N(E83)>0,"Direct vervangen",IF(N(F83)>0,"Binnen contract vervangen",IF(F83="ntb","Binnen contract – nog te bepalen",IF(AND(E83="",F83=""),"n.v.t.","Geen vervanging gepland"))))) -> n.v.t.
A84: =TRIM('Bron data'!E41) -> Multifunctionals | B84: =IF('Bron data'!F41="","",'Bron data'!F41) -> 1 | C84: ='Bron data'!G41&"" -> Canon | D84: ='Bron data'!H41&"" | E84: =IF('Bron data'!I41="","",'Bron data'!I41) | F84: =IF('Bron data'!J41="","",'Bron data'!J41) | G84: =IF(AND(N(E84)>0,N(F84)>0),"Direct + binnen contract",IF(N(E84)>0,"Direct vervangen",IF(N(F84)>0,"Binnen contract vervangen",IF(F84="ntb","Binnen contract – nog te bepalen",IF(AND(E84="",F84=""),"n.v.t.","Geen vervanging gepland"))))) -> n.v.t.
A85: ='Bron data'!B292 -> Don Bosco | B85: ="BRIN "&'Bron data'!A292 -> BRIN 16IC00 | C85: =TRIM(SUBSTITUTE('Bron data'!C292,CHAR(160)," "))&", "&TRIM(SUBSTITUTE('Bron data'!D292,CHAR(160)," ")) -> Floris van Adrichemlaan 100, 2035 VD Haarlem | D85: =IFERROR("Leerlingen: "&_xlfn.XLOOKUP(A85,Leerlingaantallen!$A$2:$A$37,Leerlingaantallen!$B$2:$B$37),"") -> Leerlingen: 160
A86: =TRIM('Bron data'!E292) -> Switches 24p | B86: =IF('Bron data'!F292="","",'Bron data'!F292) -> 2 | C86: ='Bron data'!G292&"" -> Netgear | D86: ='Bron data'!H292&"" | E86: =IF('Bron data'!I292="","",'Bron data'!I292) -> 2 | F86: =IF('Bron data'!J292="","",'Bron data'!J292) -> 0 | G86: =IF(AND(N(E86)>0,N(F86)>0),"Direct + binnen contract",IF(N(E86)>0,"Direct vervangen",IF(N(F86)>0,"Binnen contract vervangen",IF(F86="ntb","Binnen contract – nog te bepalen",IF(AND(E86="",F86=""),"n.v.t.","Geen vervanging gepland"))))) -> Direct vervangen
A87: =TRIM('Bron data'!E126) -> Switches POE 24p | B87: =IF('Bron data'!F126="","",'Bron data'!F126) -> 1 | C87: ='Bron data'!G126&"" -> HPE | D87: ='Bron data'!H126&"" | E87: =IF('Bron data'!I126="","",'Bron data'!I126) -> 0 | F87: =IF('Bron data'!J126="","",'Bron data'!J126) -> 0 | G87: =IF(AND(N(E87)>0,N(F87)>0),"Direct + binnen contract",IF(N(E87)>0,"Direct vervangen",IF(N(F87)>0,"Binnen contract vervangen",IF(F87="ntb","Binnen contract – nog te bepalen",IF(AND(E87="",F87=""),"n.v.t.","Geen vervanging gepland"))))) -> Geen vervanging gepland
A88: =TRIM('Bron data'!E85) -> Router | B88: =IF('Bron data'!F85="","",'Bron data'!F85) -> 1 | C88: ='Bron data'!G85&"" -> Fortinet FortiGate 60E | D88: ='Bron data'!H85&"" | E88: =IF('Bron data'!I85="","",'Bron data'!I85) -> 1 | F88: =IF('Bron data'!J85="","",'Bron data'!J85) -> 0 | G88: =IF(AND(N(E88)>0,N(F88)>0),"Direct + binnen contract",IF(N(E88)>0,"Direct vervangen",IF(N(F88)>0,"Binnen contract vervangen",IF(F88="ntb","Binnen contract – nog te bepalen",IF(AND(E88="",F88=""),"n.v.t.","Geen vervanging gepland"))))) -> Direct vervangen
A89: =TRIM('Bron data'!E328) -> Access Points | B89: =IF('Bron data'!F328="","",'Bron data'!F328) -> 12 | C89: ='Bron data'!G328&"" -> Ruckus R550 (aanschafperiode 2021-2026) | D89: ='Bron data'!H328&"" | E89: =IF('Bron data'!I328="","",'Bron data'!I328) -> 0 | F89: =IF('Bron data'!J328="","",'Bron data'!J328) -> ntb | G89: =IF(AND(N(E89)>0,N(F89)>0),"Direct + binnen contract",IF(N(E89)>0,"Direct vervangen",IF(N(F89)>0,"Binnen contract vervangen",IF(F89="ntb","Binnen contract – nog te bepalen",IF(AND(E89="",F89=""),"n.v.t.","Geen vervanging gepland"))))) -> Binnen contract – nog te bepalen
A90: =TRIM('Bron data'!E194) -> Digiborden incl. OPS | B90: =IF('Bron data'!F194="","",'Bron data'!F194) -> 12 | C90: ='Bron data'!G194&"" -> Niet relevant | D90: ='Bron data'!H194&"" | E90: =IF('Bron data'!I194="","",'Bron data'!I194) | F90: =IF('Bron data'!J194="","",'Bron data'!J194) | G90: =IF(AND(N(E90)>0,N(F90)>0),"Direct + binnen contract",IF(N(E90)>0,"Direct vervangen",IF(N(F90)>0,"Binnen contract vervangen",IF(F90="ntb","Binnen contract – nog te bepalen",IF(AND(E90="",F90=""),"n.v.t.","Geen vervanging gepland"))))) -> n.v.t.
A91: =TRIM('Bron data'!E196) -> Windows laptop/desktop | B91: =IF('Bron data'!F196="","",'Bron data'!F196) -> 6 | C91: ='Bron data'!G196&"" -> Niet relevant | D91: ='Bron data'!H196&"" | E91: =IF('Bron data'!I196="","",'Bron data'!I196) | F91: =IF('Bron data'!J196="","",'Bron data'!J196) | G91: =IF(AND(N(E91)>0,N(F91)>0),"Direct + binnen contract",IF(N(E91)>0,"Direct vervangen",IF(N(F91)>0,"Binnen contract vervangen",IF(F91="ntb","Binnen contract – nog te bepalen",IF(AND(E91="",F91=""),"n.v.t.","Geen vervanging gepland"))))) -> n.v.t.
A92: =TRIM('Bron data'!E193) -> Chromebooks | B92: =IF('Bron data'!F193="","",'Bron data'!F193) -> 231 | C92: ='Bron data'!G193&"" -> Niet relevant | D92: ='Bron data'!H193&"" | E92: =IF('Bron data'!I193="","",'Bron data'!I193) | F92: =IF('Bron data'!J193="","",'Bron data'!J193) | G92: =IF(AND(N(E92)>0,N(F92)>0),"Direct + binnen contract",IF(N(E92)>0,"Direct vervangen",IF(N(F92)>0,"Binnen contract vervangen",IF(F92="ntb","Binnen contract – nog te bepalen",IF(AND(E92="",F92=""),"n.v.t.","Geen vervanging gepland"))))) -> n.v.t.
A93: =TRIM('Bron data'!E59) -> Multifunctionals | B93: =IF('Bron data'!F59="","",'Bron data'!F59) -> 1 | C93: ='Bron data'!G59&"" -> Canon | D93: ='Bron data'!H59&"" | E93: =IF('Bron data'!I59="","",'Bron data'!I59) | F93: =IF('Bron data'!J59="","",'Bron data'!J59) | G93: =IF(AND(N(E93)>0,N(F93)>0),"Direct + binnen contract",IF(N(E93)>0,"Direct vervangen",IF(N(F93)>0,"Binnen contract vervangen",IF(F93="ntb","Binnen contract – nog te bepalen",IF(AND(E93="",F93=""),"n.v.t.","Geen vervanging gepland"))))) -> n.v.t.
A94: ='Bron data'!B68 -> Dreefschool | B94: ="BRIN "&'Bron data'!A68 -> BRIN 13KT00 | C94: =TRIM(SUBSTITUTE('Bron data'!C68,CHAR(160)," "))&", "&TRIM(SUBSTITUTE('Bron data'!D68,CHAR(160)," ")) -> Dreef 20, 2012 HS Haarlem | D94: =IFERROR("Leerlingen: "&_xlfn.XLOOKUP(A94,Leerlingaantallen!$A$2:$A$37,Leerlingaantallen!$B$2:$B$37),"") -> Leerlingen: 447
A95: =TRIM('Bron data'!E68) -> Switches 8p | B95: =IF('Bron data'!F68="","",'Bron data'!F68) -> 1 | C95: ='Bron data'!G68&"" -> Cisco | D95: ='Bron data'!H68&"" | E95: =IF('Bron data'!I68="","",'Bron data'!I68) -> 0 | F95: =IF('Bron data'!J68="","",'Bron data'!J68) -> 0 | G95: =IF(AND(N(E95)>0,N(F95)>0),"Direct + binnen contract",IF(N(E95)>0,"Direct vervangen",IF(N(F95)>0,"Binnen contract vervangen",IF(F95="ntb","Binnen contract – nog te bepalen",IF(AND(E95="",F95=""),"n.v.t.","Geen vervanging gepland"))))) -> Geen vervanging gepland
A96: =TRIM('Bron data'!E364) -> Switches 24p | B96: =IF('Bron data'!F364="","",'Bron data'!F364) -> 1 | C96: ='Bron data'!G364&"" -> Zyxel | D96: ='Bron data'!H364&"" | E96: =IF('Bron data'!I364="","",'Bron data'!I364) -> 0 | F96: =IF('Bron data'!J364="","",'Bron data'!J364) -> 1 | G96: =IF(AND(N(E96)>0,N(F96)>0),"Direct + binnen contract",IF(N(E96)>0,"Direct vervangen",IF(N(F96)>0,"Binnen contract vervangen",IF(F96="ntb","Binnen contract – nog te bepalen",IF(AND(E96="",F96=""),"n.v.t.","Geen vervanging gepland"))))) -> Binnen contract vervangen
A97: =TRIM('Bron data'!E365) -> Switches 48p | B97: =IF('Bron data'!F365="","",'Bron data'!F365) -> 1 | C97: ='Bron data'!G365&"" -> Zyxel | D97: ='Bron data'!H365&"" | E97: =IF('Bron data'!I365="","",'Bron data'!I365) -> 1 | F97: =IF('Bron data'!J365="","",'Bron data'!J365) -> 0 | G97: =IF(AND(N(E97)>0,N(F97)>0),"Direct + binnen contract",IF(N(E97)>0,"Direct vervangen",IF(N(F97)>0,"Binnen contract vervangen",IF(F97="ntb","Binnen contract – nog te bepalen",IF(AND(E97="",F97=""),"n.v.t.","Geen vervanging gepland"))))) -> Direct vervangen
A98: =TRIM('Bron data'!E366) -> Switches POE 24p | B98: =IF('Bron data'!F366="","",'Bron data'!F366) -> 1 | C98: ='Bron data'!G366&"" -> Zyxel | D98: ='Bron data'!H366&"" | E98: =IF('Bron data'!I366="","",'Bron data'!I366) -> 1 | F98: =IF('Bron data'!J366="","",'Bron data'!J366) -> 0 | G98: =IF(AND(N(E98)>0,N(F98)>0),"Direct + binnen contract",IF(N(E98)>0,"Direct vervangen",IF(N(F98)>0,"Binnen contract vervangen",IF(F98="ntb","Binnen contract – nog te bepalen",IF(AND(E98="",F98=""),"n.v.t.","Geen vervanging gepland"))))) -> Direct vervangen
A99: =TRIM('Bron data'!E83) -> Router | B99: =IF('Bron data'!F83="","",'Bron data'!F83) -> 1 | C99: ='Bron data'!G83&"" -> Fortinet FortiGate 60E | D99: ='Bron data'!H83&"" | E99: =IF('Bron data'!I83="","",'Bron data'!I83) -> 1 | F99: =IF('Bron data'!J83="","",'Bron data'!J83) -> 0 | G99: =IF(AND(N(E99)>0,N(F99)>0),"Direct + binnen contract",IF(N(E99)>0,"Direct vervangen",IF(N(F99)>0,"Binnen contract vervangen",IF(F99="ntb","Binnen contract – nog te bepalen",IF(AND(E99="",F99=""),"n.v.t.","Geen vervanging gepland"))))) -> Direct vervangen
A100: =TRIM('Bron data'!E313) -> Access Points | B100: =IF('Bron data'!F313="","",'Bron data'!F313) -> 7 | C100: ='Bron data'!G313&"" -> Ruckus R510 | D100: ='Bron data'!H313&"" | E100: =IF('Bron data'!I313="","",'Bron data'!I313) -> 0 | F100: =IF('Bron data'!J313="","",'Bron data'!J313) -> 7 | G100: =IF(AND(N(E100)>0,N(F100)>0),"Direct + binnen contract",IF(N(E100)>0,"Direct vervangen",IF(N(F100)>0,"Binnen contract vervangen",IF(F100="ntb","Binnen contract – nog te bepalen",IF(AND(E100="",F100=""),"n.v.t.","Geen vervanging gepland"))))) -> Binnen contract vervangen
...

Sheet Adalbertus
A1: Schoolnaam | B1: Sint Adalbertus
C2: Aantal | D2: merk / type | E2: Opmerking | F2: Direct vervangen | G2: Binnen contract vervangen
A3: Sint Adalbertus | B3: Patchkasten | C3: 1 | F3: 0 | G3: 0
A4: Sint Adalbertus | B4: Switches 24p | C4: 1 | D4: Aruba | F4: 0 | G4: 0
A5: Sint Adalbertus | B5: Switches 48p | C5: 0 | F5: 0 | G5: 0
A6: Sint Adalbertus | B6: Switches POE 24p | C6: 1 | D6: Ubiquiti UniFi | F6: 0 | G6: 1
A7: Sint Adalbertus | B7: Switches POE 48p | C7: 1 | D7: Aruba | F7: 0 | G7: 0
A8: Sint Adalbertus | B8: Access Points | C8: 13 | D8: Ruckus R350 | F8: 0 | G8: ntb
A9: Sint Adalbertus | B9: Router | C9: 1 | D9: Fortinet FortiGate 60E | F9: 1 | G9: 0
A10: Sint Adalbertus | B10: Digiborden incl. OPS | C10: 12
A11: Sint Adalbertus | B11: Windows laptop/desktop | C11: 12
A12: Sint Adalbertus | B12: Chromebooks | C12: 157
A13: Sint Adalbertus | B13: Multifunctionals | C13: 2
A14: Sint Adalbertus | B14: aantal leerlingen 1-2-2026 | C14: 257

Sheet Ark
A1: Schoolnaam | B1: De Ark
C3: Aantal | D3: merk / type | E3: Opmerking | F3: Direct vervangen | G3: Binnen contract vervangen
A4: De Ark | B4: Patchkasten | C4: 1 | F4: 0 | G4: 0
A5: De Ark | B5: Switches 24p | C5: 0 | F5: 0 | G5: 0
A6: De Ark | B6: Switches 48p | C6: 6 | D6: HPE | F6: 2 | G6: 0
A7: De Ark | B7: Switches POE 24p | C7: 1 | D7: HPE | F7: 1 | G7: 0
A8: De Ark | B8: Switches POE 48p | C8: 0 | F8: 0 | G8: 0
A9: De Ark | B9: Access Points | C9: 15 | D9: Ruckus R510 | F9: 0 | G9: 15
A10: De Ark | B10: Router | C10: 1 | D10: Fortinet FortiGate 60E | F10: 1 | G10: 0
A11: De Ark | B11: Digiborden incl. OPS | C11: 23
A12: De Ark | B12: Windows laptop/desktop | C12: 35
A13: De Ark | B13: Chromebooks | C13: 542
A14: De Ark | B14: Multifunctionals | C14: 4
A15: De Ark | B15: aantal leerlingen 1-2-2026 | C15: 642

Sheet Bavinck
A1: Schoolnaam | B1: De Bavinck
C3: Aantal | D3: merk / type | E3: Opmerking | F3: Direct vervangen | G3: Binnen contract vervangen
A4: De Bavinck | B4: Patchkasten | C4: 2 | F4: 0 | G4: 0
A5: De Bavinck DEP | B5: Switches 24p | C5: 1 | D5: HPE | E5: DEP | F5: 1 | G5: 0
A6: De Bavinck | B6: Switches 48p | C6: 1 | D6: Zyxel | F6: 1 | G6: 0
A7: De Bavinck | B7: Switches POE 8p | C7: 1 | D7: Zyxel | F7: 1 | G7: 0
A8: De Bavinck | B8: Switches POE 24p | C8: 1 | D8: Zyxel | F8: 1 | G8: 0
A9: De Bavinck | B9: Switches POE 48p | C9: 0 | F9: 0 | G9: 0
A10: De Bavinck | B10: Access Points | C10: 12 | D10: Ruckus R510 | F10: 0 | G10: 12
A11: De Bavinck DEP | B11: Access Points | C11: 1 | D11: Ruckus R510 | F11: 0 | G11: 1
A12: De Bavinck | B12: Router | C12: 1 | D12: Fortinet FortiGate 60F | F12: 0 | G12: 0
A13: De Bavinck DEP | B13: Router | C13: 1 | D13: Fortinet FortiGate 60F | E13: DEP | F13: 0 | G13: 0
A14: De Bavinck | B14: Digiborden incl. OPS | C14: 21
A15: De Bavinck | B15: Windows laptop/desktop | C15: 37
A16: De Bavinck | B16: Chromebooks | C16: 210
A17: De Bavinck | B17: Multifunctionals | C17: 3
A18: De Bavinck | B18: aantal leerlingen 1-2-2026 | C18: 377

Sheet BavoJena
A1: Schoolnaam | B1: Bavo Jenaplanschool
C3: Aantal | D3: merk / type | E3: Opmerking | F3: Direct vervangen | G3: Binnen contract vervangen
A4: Bavo Jenaplanschool | B4: Patchkasten | C4: 1 | F4: 0 | G4: 0
A5: Bavo Jenaplanschool | B5: Switches 24p | C5: 0 | F5: 0 | G5: 0
A6: Bavo Jenaplanschool | B6: Switches 48p | C6: 1 | D6: Aruba | F6: 0 | G6: 1
A7: Bavo Jenaplanschool | B7: Switches POE 8p | C7: 1 | D7: Ubiquiti UniFi | F7: 0 | G7: 0
A8: Bavo Jenaplanschool | B8: Switches POE 24p | C8: 1 | D8: Ubiquiti UniFi | F8: 1 | G8: 0
A9: Bavo Jenaplanschool | B9: Switches POE 48p | C9: 0 | F9: 0 | G9: 0
A10: Bavo Jenaplanschool | B10: Access Points | C10: 12 | D10: Ruckus R500 | F10: 0 | G10: 12
A11: Bavo Jenaplanschool | B11: Router | C11: 1 | D11: Fortinet FortiGate 60E | F11: 1 | G11: 0
A12: Bavo Jenaplanschool | B12: Digiborden incl. OPS | C12: 8
A13: Bavo Jenaplanschool | B13: Windows laptop/desktop | C13: 12
A14: Bavo Jenaplanschool | B14: Chromebooks | C14: 141
A15: Bavo Jenaplanschool | B15: Multifunctionals | C15: 1 | D15: Canon
A16: Bavo Jenaplanschool | B16: aantal leerlingen 1-2-2026 | C16: 182

Sheet BavoEem
A1: Schoolnaam | B1: Sint Bavo Eemstraat
C3: Aantal | D3: merk / type | E3: Opmerking | F3: Direct vervangen | G3: Binnen contract vervangen
A4: Sint Bavo Eemstraat | B4: Patchkasten | C4: 1 | F4: 0 | G4: 0
A5: Sint Bavo Eemstraat | B5: Switches 24p | C5: 4 | D5: Netgear | F5: 0 | G5: 0
A6: Sint Bavo Eemstraat | B6: Switches 48p | C6: 1 | D6: Cisco | F6: 1 | G6: 0
A7: Sint Bavo Eemstraat | B7: Switches POE 24p | C7: 1 | D7: HPE | F7: 0 | G7: 1
A8: Sint Bavo Eemstraat | B8: Switches POE 48p | C8: 0 | F8: 0 | G8: 0
A9: Sint Bavo Eemstraat | B9: Access Points | C9: 10 | D9: Ruckus R510 | F9: 0 | G9: 10
A10: Sint Bavo Eemstraat | B10: Router | C10: 1 | D10: Fortinet FortiGate 60F | F10: 0 | G10: 0
A11: Sint Bavo Eemstraat | B11: Digiborden incl. OPS | C11: 0
A12: Sint Bavo Eemstraat | B12: Windows laptop/desktop | C12: 16
A13: Sint Bavo Eemstraat | B13: Chromebooks | C13: 188
A14: Sint Bavo Eemstraat | B14: Multifunctionals | C14: 2
A15: Sint Bavo Eemstraat | B15: aantal leerlingen 1-2-2026 | C15: 164

Sheet BavoRevius
A1: Schoolnaam
C3: Aantal | D3: merk / type | E3: Opmerking | F3: Direct vervangen | G3: Binnen contract vervangen
A4: Sint Bavo Reviusstraat | B4: Patchkasten | C4: 1 | F4: 0 | G4: 0
A5: Sint Bavo Reviusstraat | B5: Switches 24p | C5: 0 | F5: 0 | G5: 0
A6: Sint Bavo Reviusstraat | B6: Switches 48p | C6: 1 | D6: Aruba | F6: 0 | G6: 0
A7: Sint Bavo Reviusstraat | B7: Switches POE 24p | C7: 1 | D7: Aruba | F7: 0 | G7: 0
A8: Sint Bavo Reviusstraat | B8: Switches POE 48p | C8: 0 | F8: 0 | G8: 0
A9: Sint Bavo Reviusstraat | B9: Access Points | C9: 9 | D9: Ruckus R550 | F9: 0 | G9: 0
A10: Sint Bavo Reviusstraat | B10: Router | C10: 1 | D10: Fortinet FortiGate 60F | F10: 0 | G10: 0
A11: Sint Bavo Reviusstraat | B11: Digiborden incl. OPS | C11: 0
A12: Sint Bavo Reviusstraat | B12: Windows laptop/desktop | C12: 34
A13: Sint Bavo Reviusstraat | B13: Chromebooks | C13: 200
A14: Sint Bavo Reviusstraat | B14: Multifunctionals | C14: 2
A15: Sint Bavo Reviusstraat | B15: aantal leerlingen 1-2-2026 | C15: 214

Sheet B&D
A1: Schoolnaam | B1: Bos en Duinschool
C3: Aantal | D3: merk / type | E3: Opmerking | F3: Direct vervangen | G3: Binnen contract vervangen
A4: Bos en Duinschool | B4: Patchkasten | C4: 1 | F4: 0 | G4: 0
A5: Bos en Duinschool | B5: Switches 24p | C5: 2 | D5: Zyxel | F5: 0 | G5: 1
A6: Bos en Duinschool | B6: Switches 48p | C6: 0 | F6: 0 | G6: 0
A7: Bos en Duinschool | B7: Switches POE 24p | C7: 1 | D7: Zyxel | F7: 0 | G7: ntb
A8: Bos en Duinschool | B8: Switches POE 48p | C8: 0 | F8: 0 | G8: 0
A9: Bos en Duinschool | B9: Access Points | C9: 9 | D9: Ruckus R550 | F9: 0 | G9: ntb
A10: Bos en Duinschool | B10: Router | C10: 1 | D10: Fortinet FortiGate 60E | F10: 1 | G10: 0
A11: Bos en Duinschool | B11: Digiborden incl. OPS | C11: 7
A12: Bos en Duinschool | B12: Windows laptop/desktop | C12: 13
A13: Bos en Duinschool | B13: Chromebooks | C13: 92
A14: Bos en Duinschool | B14: Multifunctionals | C14: 1
A15: Bos en Duinschool | B15: aantal leerlingen 1-2-2026 | C15: 116

Sheet B&H
A1: Schoolnaam | B1: Bosch en Hovenschool
A3: Aantal medewerkers
A4: Aantal leerlingen | B4: 209 | C4: Februari 2026 telling
C6: Aantal | D6: merk / type | E6: Opmerking | F6: Direct vervangen | G6: Binnen contract vervangen
A7: Bosch en Hovenschool | B7: Patchkasten | C7: 1 | F7: 0 | G7: 0
A8: Bosch en Hovenschool | B8: Switches 24p | C8: 0 | F8: 0 | G8: 0
A9: Bosch en Hovenschool | B9: Switches 48p | C9: 3 | D9: HPE | E9: nieuwbouw | F9: 0 | G9: 2
A10: Bosch en Hovenschool | B10: Switches POE 24p | C10: 1 | D10: HPE | E10: nieuwbouw | F10: 0 | G10: 1
A11: Bosch en Hovenschool | B11: Switches POE 48p | C11: 0 | F11: 0 | G11: 0
A12: Bosch en Hovenschool | B12: Access Points | C12: 9 | D12: Ruckus R510 | F12: 0 | G12: 9
A13: Bosch en Hovenschool | B13: Router | C13: 1 | D13: Fortinet FortiGate 60F | F13: 0 | G13: 0
A14: Bosch en Hovenschool | B14: Digiborden incl. OPS | C14: 0
A15: Bosch en Hovenschool | B15: Windows laptop/desktop | C15: 20
A16: Bosch en Hovenschool | B16: Chromebooks | C16: 135
A17: Bosch en Hovenschool | B17: Multifunctionals | C17: 1 | D17: Canon
A18: Bosch en Hovenschool | B18: aantal leerlingen 1-2-2026 | C18: 209

Sheet Beets
A1: Schoolnaam | B1: Nicolaas Beetsschool
A2: Adres
A3: Aantal medewerkers
A4: Aantal leerlingen | B4: 406 | C4: Februari 2026 telling
C6: Aantal | D6: merk / type | E6: Opmerking | F6: Direct vervangen | G6: Binnen contract vervangen
A7: Nicolaas Beetsschool | B7: Patchkasten | C7: 3 | F7: 0
A8: Nicolaas Beetsschool | B8: Switches 24p | C8: 1 | D8: Aruba | F8: 0 | G8: 0
A9: Nicolaas Beetsschool | B9: Switches 48p | C9: 2 | D9: Aruba | F9: 0 | G9: 0
A10: Nicolaas Beetsschool | B10: Switches POE 8p | C10: 3 | D10: Aruba | F10: 0 | G10: 0
A11: Nicolaas Beetsschool | B11: Switches POE 24p | C11: 0 | F11: 0 | G11: 0
A12: Nicolaas Beetsschool | B12: Switches POE 48p | C12: 0 | F12: 0 | G12: 0
A13: Nicolaas Beetsschool | B13: Access Points | C13: 12 | D13: Ruckus R550 | F13: 0 | G13: 0
A14: Nicolaas Beetsschool | B14: Router | C14: 1 | D14: Fortinet FortiGate 60F | F14: 0 | G14: 0
A15: Nicolaas Beetsschool | B15: Digiborden incl. OPS | C15: 0
A16: Nicolaas Beetsschool | B16: Windows laptop/desktop | C16: 31
A17: Nicolaas Beetsschool | B17: Chromebooks | C17: 196
A18: Nicolaas Beetsschool | B18: Multifunctionals | C18: 2 | D18: Canon
A19: Nicolaas Beetsschool | B19: Aantal leerlingen 1-2-2026 | C19: 406

Sheet Bernardus
A1: Schoolnaam | B1: Sint Bernardus
C2: Aantal | D2: merk / type | E2: Opmerking | F2: Direct vervangen | G2: Binnen contract vervangen
A3: Sint Bernardus | B3: Patchkasten | C3: 1 | F3: 0 | G3: 0
A4: Sint Bernardus | B4: Switches 24p | C4: 0 | F4: 0 | G4: 0
A5: Sint Bernardus | B5: Switches 48p | C5: 3 | D5: Netgear | F5: 2 | G5: 0
A6: Sint Bernardus | B6: Switches POE 8p | C6: 2 | D6: DrayTek | F6: 0 | G6: 0
A7: Sint Bernardus | B7: Switches POE 8p | C7: 2 | D7: HPE | F7: 0 | G7: ntb
A8: Sint Bernardus | B8: Switches POE 24p | C8: 0 | F8: 0 | G8: 0
A9: Sint Bernardus | B9: Switches POE 48p | C9: 0 | F9: 0 | G9: 0
A10: Sint Bernardus | B10: Access Points | C10: 14 | D10: Ruckus R550 | F10: 0 | G10: ntb
A11: Sint Bernardus | B11: Router | C11: 1 | D11: Fortinet FortiGate 60E | F11: 1 | G11: 0
A12: Sint Bernardus | B12: Digiborden incl. OPS | C12: 18
A13: Sint Bernardus | B13: Windows laptop/desktop | C13: 20
A14: Sint Bernardus | B14: Chromebooks | C14: 302
A15: Sint Bernardus | B15: Multifunctionals | C15: 2
A16: Sint Bernardus | B16: aantal leerlingen 1-2-2026 | C16: 414

Sheet Dreef
A1: Schoolnaam
C3: Aantal | D3: merk / type | E3: Opmerking | F3: Direct vervangen | G3: Binnen contract vervangen
A4: Dreefschool | B4: Patchkasten | C4: 1 | F4: 0 | G4: 0
A5: Dreefschool DEP | B5: Patchkasten | C5: 1 | F5: 0 | G5: 0
A6: Dreefschool | B6: Switches 24p | C6: 1 | D6: Zyxel | F6: 0 | G6: 1
A7: Dreefschool DEP | B7: Switches 24p | C7: 0 | F7: 0 | G7: 0
A8: Dreefschool | B8: Switches 48p | C8: 1 | D8: Zyxel | F8: 1 | G8: 0
A9: Dreefschool DEP | B9: Switches 48p | C9: 2 | D9: Zyxel | F9: 2 | G9: 0
A10: Dreefschool | B10: Switches 8p | C10: 1 | D10: Cisco | F10: 0 | G10: 0
A11: Dreefschool DEP | B11: Switches POE 24p | C11: 0 | F11: 0 | G11: 0
A12: Dreefschool | B12: Switches POE 24p | C12: 1 | D12: Zyxel | F12: 1 | G12: 0
A13: Dreefschool | B13: Switches POE 48p | C13: 0 | F13: 0 | G13: 0
A14: Dreefschool | B14: Access Points | C14: 7 | D14: Ruckus R510 | F14: 0 | G14: 7
A15: Dreefschool DEP | B15: Access Points | C15: 7 | D15: Ruckus R510 | F15: 0 | G15: 7
A16: Dreefschool | B16: Router | C16: 1 | D16: Fortinet FortiGate 60E | F16: 1 | G16: 0
A17: Dreefschool DEP | B17: Router | C17: 1 | D17: Fortinet FortiGate 60E | F17: 1 | G17: 0
A18: Dreefschool | B18: Digiborden incl. OPS | C18: 15
A19: Dreefschool | B19: Windows laptop/desktop | C19: 43
A20: Dreefschool | B20: Chromebooks | C20: 302
A21: Dreefschool | B21: Multifunctionals | C21: 2
A22: Dreefschool | B22: aantal leerlingen 1-2-2026 | C22: 447

Sheet DonBosco
A1: Schoolnaam | B1: Don Bosco
C2: Aantal | D2: merk / type | E2: Opmerking | F2: Direct vervangen | G2: Binnen contract vervangen
A3: Don Bosco | B3: Patchkasten | C3: 1 | F3: 0 | G3: 0
A4: Don Bosco | B4: Switches 24p | C4: 2 | D4: Netgear | F4: 2 | G4: 0
A5: Don Bosco | B5: Switches 48p | C5: 0 | F5: 0 | G5: 0
A6: Don Bosco | B6: Switches POE 24p | C6: 1 | D6: HPE | F6: 0 | G6: 0
A7: Don Bosco | B7: Switches POE 48p | C7: 0 | F7: 0 | G7: 0
A8: Don Bosco | B8: Access Points | C8: 12 | D8: Ruckus R550 | F8: 0 | G8: ntb
A9: Don Bosco | B9: Router | C9: 1 | D9: Fortinet FortiGate 60E | F9: 1 | G9: 0
A10: Don Bosco | B10: Digiborden incl. OPS | C10: 12
A11: Don Bosco | B11: Windows laptop/desktop | C11: 6
A12: Don Bosco | B12: Chromebooks | C12: 231
A13: Don Bosco | B13: Multifunctionals | C13: 1
A14: Don Bosco | B14: aantal leerlingen 1-2-2026 | C14: 160

Sheet Huibers
A1: Schoolnaam
C3: Aantal | D3: merk / type | E3: Opmerking | F3: Direct vervangen | G3: Binnen contract vervangen
A4: Huibers | B4: Patchkasten | C4: 1 | F4: 0 | G4: 0
A5: Huibers | B5: Switches 24p | C5: 0 | F5: 0 | G5: 0
A6: Huibers | B6: Switches 48p | C6: 1 | D6: Aruba | F6: 0 | G6: 0
A7: Huibers | B7: Switches POE 8p | C7: 1 | D7: HPE | F7: 0 | G7: 0
A8: Huibers | B8: Switches POE 24p | C8: 1 | D8: Aruba | F8: 0 | G8: 0
A9: Huibers | B9: Switches POE 48p | C9: 0 | F9: 0 | G9: 0
A10: Huibers | B10: Access Points | C10: 13 | D10: Ruckus R550 | F10: 0 | G10: 0
A11: Huibers | B11: Router | C11: 1 | D11: Fortinet FortiGate 60E | F11: 1 | G11: 0
A12: Huibers | B12: Digiborden incl. OPS | C12: 8
A13: Huibers | B13: Windows laptop/desktop | C13: 23
A14: Huibers | B14: Chromebooks | C14: 145
A15: Huibers | B15: Multifunctionals | C15: 1 | D15: Canon
A16: Huibers | B16: aantal leerlingen 1-2-2026 | C16: 167

Sheet FX
A1: Schoolnaam
C3: Aantal | D3: merk / type | E3: Opmerking | F3: Direct vervangen | G3: Binnen contract vervangen
A4: FX | B4: Patchkasten | C4: 1 | F4: 0 | G4: 0
A5: FX | B5: Switches 24p | C5: 1 | D5: Aruba | F5: 1 | G5: 0
A6: FX | B6: Switches 24p | C6: 1 | D6: Netgear | F6: 1 | G6: 0
A7: FX | B7: Switches 48p | C7: 0 | F7: 0 | G7: 0
A8: FX | B8: Switches POE 24p | C8: 1 | D8: Ubiquiti UniFi | F8: 1 | G8: 0
A9: FX | B9: Switches POE 48p | C9: 0 | F9: 0 | G9: 0
A10: FX | B10: Access Points | C10: 9 | D10: Ruckus R350 | F10: 0 | G10: ntb
A11: FX | B11: Router | C11: 1 | D11: Fortinet FortiGate 60E | F11: 1 | G11: 0
A12: FX | B12: Digiborden incl. OPS | C12: 10
A13: FX | B13: Windows laptop/desktop | C13: 25
A14: FX | B14: Chromebooks | C14: 199
A15: FX | B15: Multifunctionals | C15: 1 | D15: Canon
A16: FX | B16: aantal leerlingen 1-2-2026 | C16: 221

Sheet ISH
A1: Schoolnaam | B1: Internationalschool Haarlem
A2: Adres
A3: Aantal medewerkers | C3: Februari 2026 telling
A4: Aantal leerlingen | B4: 242 | C4: primary!
C6: Aantal | D6: merk / type | E6: Opmerking | F6: Direct vervangen | G6: Binnen contract vervangen
A7: Internationalschool Haarlem | B7: Patchkasten
A8: Internationalschool Haarlem | B8: Switches 24p | C8: 2 | D8: HPE | F8: 2
A9: Internationalschool Haarlem | B9: Switches 48p
A10: Internationalschool Haarlem | B10: Switches POE 8p | C10: 2 | D10: Ubiquiti UniFi
A11: Internationalschool Haarlem | B11: Switches POE 24p | C11: 2 | D11: HPE | F11: 1
A12: Internationalschool Haarlem | B12: Switches POE 24p | C12: 1 | D12: Cisco | F12: 1
A13: Internationalschool Haarlem | B13: Switches POE 48p
A14: Internationalschool Haarlem | B14: Access Points | C14: 15 | D14: Ruckus R510 | G14: 15
A15: Internationalschool Haarlem | B15: Router | C15: 2 | D15: Fortinet FortiGate 60E | F15: 2
A16: Internationalschool Haarlem | B16: Digiborden incl. OPS | C16: 0
A17: Internationalschool Haarlem | B17: Windows laptop/desktop | C17: 9
A18: Internationalschool Haarlem | B18: Chromebooks | C18: 84
A19: Internationalschool Haarlem | B19: Multifunctionals | C19: 2
A20: Internationalschool Haarlem | B20: aantal leerlingen 1-2-2026 | C20: 242
C24: Aantal | D24: merk / type | E24: Opmerking | F24: Direct vervangen | G24: Binnen contract vervangen
A25: Internationalschool Haarlem secondary | B25: Patchkasten | C25: 2
A26: Internationalschool Haarlem secondary | B26: Switches 24p
A27: Internationalschool Haarlem secondary | B27: Switches 48p | C27: 3 | D27: Aruba | G27: ntb
A28: Internationalschool Haarlem secondary | B28: Switches POE 8p | C28: 1 | D28: Ruckus | G28: ntb
A29: Internationalschool Haarlem secondary | B29: Switches POE 24p | C29: 1 | D29: HPE | G29: ntb
A30: Internationalschool Haarlem secondary | B30: Switches POE 24p | C30: 1 | D30: Aruba | G30: ntb
A31: Internationalschool Haarlem secondary | B31: Switches POE 48p | C31: 1 | D31: Aruba | G31: ntb
A32: Internationalschool Haarlem secondary | B32: Access Points | C32: 20 | D32: Ruckus R550 | G32: 0
A33: Internationalschool Haarlem secondary | B33: Router | C33: 1 | D33: Fortinet FortiGate 60F | G33: 0
A34: Internationalschool Haarlem secondary | B34: Digiborden incl. OPS | C34: 0
A35: Internationalschool Haarlem secondary | B35: Windows laptop/desktop | C35: 5
A36: Internationalschool Haarlem secondary | B36: Chromebooks | C36: 5
A37: Internationalschool Haarlem secondary | B37: Multifunctionals | C37: 2 | D37: Canon
A38: Internationalschool Haarlem secondary | B38: aantal leerlingen 1-2-2026 | C38: 302

Sheet ITK
A1: Schoolnaam
C3: Aantal | D3: merk / type | E3: Opmerking | F3: Direct vervangen | G3: Binnen contract vervangen
A4: ITK | B4: Patchkasten | C4: 3 | F4: 0 | G4: 0
A5: ITK | B5: Switches 24p | C5: 1 | D5: Netgear | F5: 0 | G5: 0
A6: ITK Noodunit | B6: Switches 24p | C6: 1 | D6: FS.com | F6: 0 | G6: ntb
A7: ITK | B7: Switches 48p | C7: 1 | D7: Aruba | F7: 0 | G7: 0
A8: ITK | B8: Switches 48p | C8: 2 | D8: Netgear | F8: 1 | G8: 0
A9: ITK | B9: Switches POE 8p | C9: 1 | D9: Ubiquiti UniFi | F9: 0 | G9: 0
A10: ITK | B10: Switches POE 24p | C10: 1 | D10: Aruba | F10: 0 | G10: 0
A11: ITK Noodunit | B11: Switches POE 24p | C11: 2 | D11: FS.com | F11: 0 | G11: ntb
A12: ITK | B12: Switches POE 48p | F12: 0 | G12: 0
A13: ITK | B13: Access Points | C13: 10 | D13: Ruckus R350 | F13: 0 | G13: ntb
A14: ITK Noodunit | B14: Access Points | C14: 14 | D14: Ruckus R550 | F14: 0 | G14: ntb
A15: ITK | B15: Router | C15: 1 | D15: Fortinet FortiGate 60E | F15: 1 | G15: 0
A16: ITK | B16: Digiborden incl. OPS | C16: 22
A17: ITK | B17: Windows laptop/desktop | C17: 53
A18: ITK | B18: Chromebooks | C18: 113
A19: ITK | B19: Multifunctionals | C19: 3 | D19: Canon
A20: ITK | B20: aantal leerlingen 1-2-2026 | C20: 235

Sheet KES
A1: Schoolnaam | B1: Koningin Emmaschool
C2: Aantal | D2: merk / type | E2: Opmerking | F2: Direct vervangen | G2: Binnen contract vervangen
A3: Koningin Emmaschool | B3: Patchkasten | C3: 1 | F3: 0 | G3: 0
A4: Koningin Emmaschool | B4: Switches 24p | C4: 0 | F4: 0 | G4: 0
A5: Koningin Emmaschool | B5: Switches 48p | C5: 3 | D5: HPE | F5: 2 | G5: 0
A6: Koningin Emmaschool | B6: Switches POE 24p | C6: 1 | D6: Zyxel | F6: 1 | G6: 0
A7: Koningin Emmaschool | B7: Switches POE 24p | C7: 1 | D7: FS.com | F7: 1 | G7: 0
A8: Koningin Emmaschool | B8: Switches POE 48p | C8: 0 | F8: 0 | G8: 0
A9: Koningin Emmaschool | B9: Access Points | C9: 15 | D9: Ruckus R510 | F9: 0 | G9: 15
A10: Koningin Emmaschool | B10: Router | C10: 1 | D10: Fortinet FortiGate 60E | F10: 1 | G10: 0
A11: Koningin Emmaschool | B11: Digiborden incl. OPS | C11: 1
A12: Koningin Emmaschool | B12: Windows laptop/desktop | C12: 28
A13: Koningin Emmaschool | B13: Chromebooks | C13: 265
A14: Koningin Emmaschool | B14: Multifunctionals | C14: 2
A15: Koningin Emmaschool | B15: aantal leerlingen 1-2-2026 | C15: 453

Sheet KWS
A1: Schoolnaam | B1: Koningin Wilhelminaschool
A2: Adres
A3: Aantal medewerkers
A4: Aantal leerlingen | B4: 176 | C4: Februari 2026 telling
C6: Aantal | D6: merk / type | E6: Opmerking | F6: Direct vervangen | G6: Binnen contract vervangen
A7: Koningin Wilhelminaschool | B7: Patchkasten | C7: 1
A8: Koningin Wilhelminaschool | B8: Switches 8p | C8: 0
A9: Koningin Wilhelminaschool | B9: Switches 24p | C9: 0
A10: Koningin Wilhelminaschool | B10: Switches 48p | C10: 1 | D10: Zyxel | F10: 0 | G10: 1
A11: Koningin Wilhelminaschool | B11: Switches POE 8p | C11: 4 | D11: Zyxel | G11: 4
A12: Koningin Wilhelminaschool | B12: Switches POE 24p | C12: 0 | F12: 0 | G12: 0
A13: Koningin Wilhelminaschool | B13: Switches POE 48p | C13: 0
A14: Koningin Wilhelminaschool | B14: Access Points | C14: 7 | D14: Ruckus R510 | G14: 7
A15: Koningin Wilhelminaschool | B15: Router | C15: 1 | D15: Zyxel ZyWALL 110 | F15: 1 | G15: 0
A16: Koningin Wilhelminaschool
A17: Koningin Wilhelminaschool | B17: Digiborden incl. OPS | C17: 5
A18: Koningin Wilhelminaschool | B18: Windows laptop/desktop | C18: 11
A19: Koningin Wilhelminaschool | B19: Chromebooks | C19: 107
A20: Koningin Wilhelminaschool | B20: Multifunctionals | C20: 1 | D20: Canon
A21: Koningin Wilhelminaschool | B21: Aantal leerlingen 1-2-2026 | C21: 176

Sheet Liduina
A1: Schoolnaam
C3: Aantal | D3: merk / type | E3: Opmerking | F3: Direct vervangen | G3: Binnen contract vervangen
A4: Liduinaschool | B4: Patchkasten | C4: 1 | F4: 0 | G4: 0
A5: Liduinaschool | B5: Switches 24p | C5: 0 | F5: 0 | G5: 0
A6: Liduinaschool | B6: Switches 48p | C6: 1 | D6: Aruba | F6: 0 | G6: 0
A7: Liduinaschool | B7: Switches POE 24p | C7: 1 | D7: Aruba | F7: 0 | G7: 0
A8: Liduinaschool | B8: Switches POE 48p | C8: 0 | F8: 0 | G8: 0
A9: Liduinaschool | B9: Access Points | C9: 8 | D9: Ruckus R550 | F9: 0 | G9: 0
A10: Liduinaschool | B10: Access Points | C10: 3 | D10: Ruckus R350 | F10: 0 | G10: 0
A11: Liduinaschool | B11: Router | C11: 1 | D11: Fortinet FortiGate 60F | F11: 0 | G11: 0
A12: Liduinaschool | B12: Digiborden incl. OPS | C12: 0
A13: Liduinaschool | B13: Windows laptop/desktop | C13: 29
A14: Liduinaschool | B14: Chromebooks | C14: 128
A15: Liduinaschool | B15: Multifunctionals | C15: 2 | D15: Canon
A16: Liduinaschool | B16: aantal leerlingen 1-2-2026 | C16: 187

Sheet Meer
A1: Schoolnaam
C3: Aantal | D3: merk / type | E3: Opmerking | F3: Direct vervangen | G3: Binnen contract vervangen
A4: De Meer | B4: Patchkasten | C4: 1 | F4: 0 | G4: 0
A5: De Meer | B5: Switches 24p | F5: 0 | G5: 0
A6: De Meer | B6: Switches 48p | C6: 1 | D6: Onbekend | F6: 0 | G6: ntb
A7: De Meer | B7: Switches POE 8p | C7: 2 | D7: Ubiquiti UniFi | F7: 0 | G7: 2
A8: De Meer | B8: Switches POE 24p | C8: 0 | F8: 0 | G8: 0
A9: De Meer | B9: Switches POE 48p | C9: 0 | F9: 0 | G9: 0
A10: De Meer | B10: Access Points | C10: 8 | D10: Ruckus R350 | F10: 0 | G10: ntb
A11: De Meer | B11: Router | C11: 1 | D11: Fortinet FortiGate 60E | F11: 1 | G11: 0
A12: De Meer | B12: Digiborden incl. OPS | C12: 2
A13: De Meer | B13: Windows laptop/desktop | C13: 29
A14: De Meer | B14: Chromebooks | C14: 226
A15: De Meer | B15: Multifunctionals | C15: 1 | D15: Canon
A16: De Meer | B16: aantal leerlingen 1-2-2026 | C16: 201

Sheet ONS
A1: Schoolnaam
C3: Aantal | D3: merk / type | E3: Opmerking | F3: Direct vervangen | G3: Binnen contract vervangen
A4: ONS | B4: Patchkasten | C4: 2 | F4: 0 | G4: 0
A5: ONS | B5: Switches 24p | C5: 1 | D5: HPE | F5: 0 | G5: 0
A6: ONS | B6: Switches 24p | C6: 3 | D6: Zyxel | F6: 0 | G6: 0
A7: ONS | B7: Switches 48p | C7: 1 | D7: Edgecore | F7: 2 | G7: 0
A8: ONS | B8: Switches POE 24p | C8: 1 | D8: Aruba | F8: 0 | G8: ntb
A9: ONS | B9: Switches POE 48p | C9: 0 | F9: 0 | G9: 0
A10: ONS | B10: Access Points | C10: 12 | D10: Ruckus R550 | F10: 0 | G10: ntb
A11: ONS | B11: Router | C11: 1 | D11: Fortinet FortiGate 60F | F11: 0 | G11: 0
A12: ONS | B12: Digiborden incl. OPS | C12: 1
A13: ONS | B13: Windows laptop/desktop | C13: 47
A14: ONS | B14: Chromebooks | C14: 334
A15: ONS | B15: Multifunctionals | C15: 1 | D15: Canon
A16: ONS | B16: aantal leerlingen 1-2-2026 | C16: 360

Sheet Pantarijn
A1: Schoolnaam
C3: Aantal | D3: merk / type | E3: Opmerking | F3: Direct vervangen | G3: Binnen contract vervangen
A4: Pantarijn | B4: Patchkasten | C4: 1 | F4: 0 | G4: 0
A5: Pantarijn | B5: Switches 24p | C5: 0 | F5: 0 | G5: 0
A6: Pantarijn | B6: Switches 48p | C6: 1 | D6: Aruba | F6: 0 | G6: ntb
A7: Pantarijn | B7: Switches POE 24p | C7: 1 | D7: Ubiquiti UniFi | F7: 1 | G7: 0
A8: Pantarijn | B8: Switches POE 48p | C8: 0 | F8: 0 | G8: 0
A9: Pantarijn | B9: Access Points | C9: 9 | D9: Ruckus R550 | F9: 0 | G9: ntb
A10: Pantarijn | B10: Router | C10: 1 | D10: Fortinet FortiGate 60E | F10: 1 | G10: 0
A11: Pantarijn | B11: Digiborden incl. OPS | C11: 11
A12: Pantarijn | B12: Windows laptop/desktop | C12: 8
A13: Pantarijn | B13: Chromebooks | C13: 200
A14: Pantarijn | B14: Multifunctionals | C14: 1 | D14: Canon
A15: Pantarijn | B15: aantal leerlingen 1-2-2026 | C15: 158

Sheet PBS
A1: Schoolnaam
C3: Aantal | D3: merk / type | E3: Opmerking | F3: Direct vervangen | G3: Binnen contract vervangen
A4: PBS | B4: Patchkasten | C4: 1 | F4: 0 | G4: 0
A5: PBS | B5: Switches 24p | C5: 1 | D5: Zyxel | E5: ivm nieuwbouw | F5: 0 | G5: 1
A6: PBS | B6: Switches 48p | C6: 2 | D6: Zyxel | E6: ivm nieuwbouw | F6: 0 | G6: 1
A7: PBS | B7: Switches POE 24p | C7: 1 | D7: Zyxel | E7: ivm nieuwbouw | F7: 0 | G7: 1
A8: PBS | B8: Switches POE 48p | C8: 0 | F8: 0 | G8: 0
A9: PBS | B9: Access Points | C9: 9 | D9: Ruckus R510 | F9: 0 | G9: 9
A10: PBS | B10: Router | C10: 1 | D10: Fortinet FortiGate 60E | E10: ivm nieuwbouw | F10: 0 | G10: 1
A11: PBS | B11: Digiborden incl. OPS | C11: 1
A12: PBS | B12: Windows laptop/desktop | C12: 22
A13: PBS | B13: Chromebooks | C13: 219
A14: PBS | B14: Multifunctionals | C14: 2 | D14: Canon
A15: PBS | B15: aantal leerlingen 1-2-2026 | C15: 301

Sheet Schelp
A1: Schoolnaam
C3: Aantal | D3: merk / type | E3: Opmerking | F3: Direct vervangen | G3: Binnen contract vervangen
A4: De Schelp | B4: Patchkasten | C4: 1 | F4: 0 | G4: 0
A5: De Schelp | B5: Switches 24p | C5: 1 | D5: Netgear | F5: 0 | G5: 0
A6: De Schelp | B6: Switches 48p | C6: 2 | D6: Aruba | F6: 0 | G6: ntb
A7: De Schelp | B7: Switches POE 8p | C7: 2 | D7: DrayTek | F7: 0 | G7: 0
A8: De Schelp | B8: Switches POE 8p | C8: 3 | D8: Ubiquiti UniFi | F8: 0 | G8: 0
A9: De Schelp | B9: Switches POE 24p | C9: 1 | D9: Ubiquiti UniFi | F9: 1 | G9: 0
A10: De Schelp | B10: Switches POE 48p | C10: 0 | F10: 0 | G10: 0
A11: De Schelp | B11: Access Points | C11: 13 | D11: Ruckus R350 | F11: 0 | G11: ntb
A12: De Schelp | B12: Router | C12: 1 | D12: Fortinet FortiGate 60E | F12: 1 | G12: 0
A13: De Schelp | B13: Digiborden incl. OPS | C13: 12
A14: De Schelp | B14: Windows laptop/desktop | C14: 96
A15: De Schelp | B15: Chromebooks | C15: 33
A16: De Schelp | B16: Multifunctionals | C16: 2
A17: De Schelp | B17: aantal leerlingen 1-2-2026 | C17: 139

Sheet Schoterbos
A1: Schoolnaam | B1: Schoterbos
C3: Aantal | D3: merk / type | E3: Opmerking | F3: Direct vervangen | G3: Binnen contract vervangen
A4: Schoterbos Trapeze | B4: Patchkasten | C4: 1 | F4: 0 | G4: 0
A5: Schoterbos Gunning | B5: Patchkasten | C5: 1 | F5: 0 | G5: 0
A6: Schoterbos Trapeze | B6: Switches 24p | C6: 2 | D6: Zyxel | F6: 0 | G6: 1
A7: Schoterbos Trapeze | B7: Switches 48p | C7: 1 | D7: Aruba | F7: 0 | G7: ntb
A8: Schoterbos Gunning | B8: Switches POE 8p | C8: 1 | D8: Ubiquiti UniFi | F8: 0 | G8: 0
A9: Schoterbos Trapeze | B9: Switches POE 8p | C9: 1 | D9: Cisco | F9: 0 | G9: 0
A10: Schoterbos Gunning | B10: Switches POE 24p | C10: 1 | D10: Aruba | F10: 0 | G10: ntb
A11: Schoterbos Trapeze | B11: Switches POE 24p | C11: 0 | F11: 0 | G11: 0
A12: Schoterbos Gunning | B12: Access Points | C12: 7 | D12: Ruckus R550 | F12: 0 | G12: ntb
A13: Schoterbos Trapeze | B13: Access Points | C13: 14 | D13: Ruckus R510 | F13: 0 | G13: 14
A14: Schoterbos Trapeze | B14: Router | C14: 1 | D14: Fortinet FortiGate 60E | F14: 1 | G14: 0
A15: Schoterbos Gunning | B15: Router | C15: 1 | D15: Fortinet FortiGate 50E | F15: 1 | G15: 0
A16: Schoterbos | B16: Digiborden incl. OPS | C16: 1 | E16: ="Naar rato leerlingen: Trapeze "&'Bron data'!F169&", Gunning "&'Bron data'!F172 -> Naar rato leerlingen: Trapeze 1, Gunning 0
A17: Schoterbos | B17: Windows laptop/desktop | C17: 49 | E17: ="Naar rato leerlingen: Trapeze "&'Bron data'!F170&", Gunning "&'Bron data'!F173 -> Naar rato leerlingen: Trapeze 32, Gunning 17
A18: Schoterbos | B18: Chromebooks | C18: 217 | E18: ="Naar rato leerlingen: Trapeze "&'Bron data'!F168&", Gunning "&'Bron data'!F171 -> Naar rato leerlingen: Trapeze 143, Gunning 74
A19: Schoterbos Trapeze | B19: Multifunctionals | C19: 2
A20: Schoterbos Gunning | B20: Multifunctionals | C20: 1
A21: Schoterbos | B21: aantal leerlingen 1-2-2026 | C21: 252

Sheet Talenten
A1: Schoolnaam
C3: Aantal | D3: merk / type | E3: Opmerking | F3: Direct vervangen | G3: Binnen contract vervangen
A4: Talenten | B4: Patchkasten | C4: 1 | F4: 0 | G4: 0
A5: Talenten | B5: Switches 24p | C5: 0 | F5: 0 | G5: 0
A6: Talenten | B6: Switches 48p | C6: 1 | D6: HPE | E6: in tijdelijke huisvesting | F6: 1 | G6: 0
A7: Talenten | B7: Switches POE 8p | C7: 1 | D7: Ubiquiti UniFi | F7: 1 | G7: 0
A8: Talenten | B8: Switches POE 24p | C8: 0 | E8: in tijdelijke huisvesting | F8: 0 | G8: 0
A9: Talenten | B9: Switches POE 48p | C9: 0 | F9: 0 | G9: 0
A10: Talenten | B10: Access Points | C10: 6 | D10: Ruckus R350 | E10: in tijdelijke huisvesting | F10: 0 | G10: ntb
A11: Talenten | B11: Router | C11: 1 | D11: Fortinet FortiGate 60E | E11: in tijdelijke huisvesting | F11: 1 | G11: 0
A12: Talenten | B12: Digiborden incl. OPS | C12: 8
A13: Talenten | B13: Windows laptop/desktop | C13: 3
A14: Talenten | B14: Chromebooks | C14: 138
A15: Talenten | B15: Multifunctionals | C15: 1 | D15: Canon
A16: Talenten | B16: aantal leerlingen 1-2-2026 | C16: 171

Sheet TWijsHQ
A1: Schoolnaam | B1: TWijs Services
C3: Aantal | D3: merk / type | E3: Opmerking | F3: Direct vervangen | G3: Binnen contract vervangen
A4: TWijs Services | B4: Patchkasten | C4: 1 | F4: 0 | G4: 0
A5: TWijs Services | B5: Switches 24p | C5: 2 | D5: Zyxel | F5: 2 | G5: 0
A6: TWijs Services | B6: Switches 48p | C6: 0 | F6: 0 | G6: 0
A7: TWijs Services | B7: Switches POE 24p | C7: 2 | D7: HPE | F7: 0 | G7: 1
A8: TWijs Services | B8: Switches POE 48p | C8: 0 | F8: 0 | G8: 0
A9: TWijs Services | B9: Access Points | C9: 9 | D9: Ruckus R510 | F9: 0 | G9: 9
A10: TWijs Services | B10: Router | C10: 1 | D10: Fortinet FortiGate 60E | F10: 1 | G10: 0
A11: TWijs Services | B11: Digiborden incl. OPS | C11: 0
A12: TWijs Services | B12: Windows laptop/desktop | C12: 46
A13: TWijs Services | B13: Chromebooks | C13: 0
A14: TWijs Services | B14: Multifunctionals | C14: 2 | D14: Canon

Sheet Tijo
A1: Schoolnaam
C3: Aantal | D3: merk / type | E3: Opmerking | F3: Direct vervangen | G3: Binnen contract vervangen
A4: Tijo van Eeghenschool | B4: Patchkasten | C4: 1 | F4: 0 | G4: 0
A5: Tijo van Eeghenschool | B5: Switches 24p | C5: 1 | D5: HPE | F5: 0 | G5: 0
A6: Tijo van Eeghenschool | B6: Switches 48p | C6: 1 | D6: HPE | F6: 1 | G6: 0
A7: Tijo van Eeghenschool | B7: Switches POE 24p | C7: 1 | D7: Aruba | F7: 0 | G7: ntb
A8: Tijo van Eeghenschool | B8: Switches POE 48p | C8: 0 | F8: 0 | G8: 0
A9: Tijo van Eeghenschool | B9: Access Points | C9: 10 | D9: Ruckus R550 | F9: 0 | G9: ntb
A10: Tijo van Eeghenschool | B10: Router | C10: 1 | D10: Fortinet FortiGate 60E | F10: 1 | G10: 0
A11: Tijo van Eeghenschool | B11: Digiborden incl. OPS | C11: 7
A12: Tijo van Eeghenschool | B12: Windows laptop/desktop | C12: 27
A13: Tijo van Eeghenschool | B13: Chromebooks | C13: 124
A14: Tijo van Eeghenschool | B14: Multifunctionals | C14: 1 | D14: Canon
A15: Tijo van Eeghenschool | B15: aantal leerlingen 1-2-2026 | C15: 207

Sheet Valeo
A1: Schoolnaam
C2: Aantal | D2: merk / type | E2: Opmerking | F2: Direct vervangen | G2: Binnen contract vervangen
A3: IKC Valeo | B3: Patchkasten | C3: 1 | F3: 0 | G3: 0
A4: IKC Valeo | B4: Switches 24p | C4: 0 | F4: 0 | G4: 0
A5: IKC Valeo | B5: Switches 48p | C5: 2 | D5: Zyxel | F5: 0 | G5: 1
A6: IKC Valeo | B6: Switches POE 24p | C6: 1 | D6: Zyxel | F6: 0 | G6: 1
A7: IKC Valeo | B7: Switches POE 48p | C7: 0 | F7: 0 | G7: 0
A8: IKC Valeo | B8: Access Points | C8: 7 | D8: Ruckus R550 | F8: 0 | G8: ntb
A9: IKC Valeo | B9: Router | C9: 1 | D9: Fortinet FortiGate 60E | E9: ivm nieuwbouw | F9: 0 | G9: 1
A10: IKC Valeo | B10: Digiborden incl. OPS | C10: 12
A11: IKC Valeo | B11: Windows laptop/desktop | C11: 30
A12: IKC Valeo | B12: Chromebooks | C12: 246
A13: IKC Valeo | B13: Multifunctionals | C13: 3 | D13: Canon
A14: IKC Valeo | B14: aantal leerlingen 1-2-2026 | C14: 250

Sheet Verbeelding
A1: Schoolnaam
C3: Aantal | D3: merk / type | E3: Opmerking | F3: Direct vervangen | G3: Binnen contract vervangen
A4: Verbeelding | B4: Patchkasten | C4: 2 | F4: 0 | G4: 0
A5: Verbeelding | B5: Switches 24p | C5: 0 | F5: 0 | G5: 0
A6: Verbeelding | B6: Switches 48p | C6: 0 | F6: 0 | G6: 0
A7: Verbeelding | B7: Switches POE 8p | C7: 1 | D7: Cisco | F7: 0 | G7: 0
A8: Verbeelding | B8: Switches POE 24p | C8: 1 | D8: Aruba | F8: 0 | G8: ntb
A9: Verbeelding DEP | B9: Switches POE 24p | C9: 1 | D9: FS.com | F9: 0 | G9: ntb
A10: Verbeelding | B10: Switches POE 48p | C10: 0 | F10: 0 | G10: 0
A11: Verbeelding DEP | B11: Access Points | C11: 3 | D11: Ruckus R550 | F11: 0 | G11: ntb
A12: Verbeelding | B12: Access Points | C12: 5 | D12: Ruckus R550 | F12: 0 | G12: ntb
A13: Verbeelding | B13: Router | C13: 1 | D13: Fortinet FortiGate 60E | F13: 1 | G13: 0
A14: Verbeelding DEP | B14: Router | C14: 1 | D14: Fortinet FortiGate 60F | F14: 0 | G14: 0
A15: Verbeelding | B15: Digiborden incl. OPS | C15: 8
A16: Verbeelding | B16: Windows laptop/desktop | C16: 14
A17: Verbeelding | B17: Chromebooks | C17: 193
A18: Verbeelding | B18: Multifunctionals | C18: 2 | D18: Canon
A19: Verbeelding | B19: aantal leerlingen 1-2-2026 | C19: 193

Sheet Veronica
A1: Schoolnaam
C3: Aantal | D3: merk / type | E3: Opmerking | F3: Direct vervangen | G3: Binnen contract vervangen
A4: Veronicaschool | B4: Patchkasten | C4: 1 | F4: 0 | G4: 0
A5: Veronicaschool | B5: Switches 24p | C5: 1 | D5: Onbekend | F5: 0 | G5: 0
A6: Veronicaschool | B6: Switches 48p | C6: 1 | D6: Onbekend | F6: 0 | G6: ntb
A7: Veronicaschool | B7: Switches POE 24p | C7: 1 | D7: FS.com | F7: 0 | G7: ntb
A8: Veronicaschool | B8: Switches POE 48p | C8: 0 | F8: 0 | G8: 0
A9: Veronicaschool | B9: Access Points | C9: 10 | D9: Ruckus R350 | F9: 0 | G9: ntb
A10: Veronicaschool | B10: Router | C10: 1 | D10: Fortinet FortiGate 60E | F10: 1 | G10: 0
A11: Veronicaschool | B11: Digiborden incl. OPS | C11: 11
A12: Veronicaschool | B12: Windows laptop/desktop | C12: 27
A13: Veronicaschool | B13: Chromebooks | C13: 157
A14: Veronicaschool | B14: Multifunctionals | C14: 1 | D14: Canon
A15: Veronicaschool | B15: aantal leerlingen 1-2-2026 | C15: 236

Sheet Werkschuit
A1: Schoolnaam
C3: Aantal | D3: merk / type | E3: Opmerking | F3: Direct vervangen | G3: Binnen contract vervangen
A4: Werkschuit | B4: Patchkasten | C4: 1 | F4: 0 | G4: 0
A5: Werkschuit | B5: Switches 24p | C5: 0 | F5: 0 | G5: 0
A6: Werkschuit | B6: Switches 48p | C6: 2 | D6: Zyxel | F6: 0 | G6: ntb
A7: Werkschuit | B7: Switches POE 24p | C7: 1 | D7: Edgecore | F7: 0 | G7: 1
A8: Werkschuit | B8: Switches POE 48p | C8: 0 | F8: 0 | G8: 0
A9: Werkschuit | B9: Access Points | C9: 8 | D9: Ruckus R510 | F9: 0 | G9: 8
A10: Werkschuit | B10: Router | C10: 1 | D10: Fortinet FortiGate 60E | F10: 1 | G10: 0
A11: Werkschuit | B11: Digiborden incl. OPS | C11: 7
A12: Werkschuit | B12: Windows laptop/desktop | C12: 19
A13: Werkschuit | B13: Chromebooks | C13: 156
A14: Werkschuit | B14: Multifunctionals | C14: 2
A15: Werkschuit | B15: aantal leerlingen 1-2-2026 | C15: 207

Sheet Willink
A1: Schoolnaam
C3: Aantal | D3: merk / type | E3: Opmerking | F3: Direct vervangen | G3: Binnen contract vervangen
A4: Willinkschool | B4: Patchkasten | C4: 2 | F4: 0 | G4: 0
A5: Willinkschool | B5: Switches 24p | C5: 2 | D5: Zyxel | F5: 0 | G5: 1
A6: Willinkschool | B6: Switches 48p | C6: 1 | D6: Zyxel | F6: 0 | G6: 1
A7: Willinkschool | B7: Switches POE 24p | C7: 1 | D7: Aruba | F7: 0 | G7: ntb
A8: Willinkschool | B8: Switches POE 48p | C8: 0 | F8: 0 | G8: 0
A9: Willinkschool | B9: Access Points | C9: 5 | D9: Ruckus R550 | F9: 0 | G9: ntb
A10: Willinkschool | B10: Router | C10: 1 | D10: Fortinet FortiGate 60E | F10: 1 | G10: 0
A11: Willinkschool | B11: Digiborden incl. OPS | C11: 0
A12: Willinkschool | B12: Windows laptop/desktop | C12: 15
A13: Willinkschool | B13: Chromebooks | C13: 103
A14: Willinkschool | B14: Multifunctionals | C14: 2 | D14: Canon
A15: Willinkschool | B15: aantal leerlingen 1-2-2026 | C15: 183

Sheet WvO
A1: Schoolnaam
C3: Aantal | D3: merk / type | E3: Opmerking | F3: Direct vervangen | G3: Binnen contract vervangen
A4: Willem van Oranjeschool | B4: Patchkasten | C4: 1
A5: Willem van Oranjeschool | B5: Switches 24p | C5: 1 | D5: Zyxel | F5: 0 | G5: 0
A6: Willem van Oranjeschool | B6: Switches 48p | C6: 1 | D6: Zyxel | F6: 0 | G6: 1
A7: Willem van Oranjeschool | B7: Switches POE 24p | C7: 1 | D7: Zyxel | F7: 0 | G7: 1
A8: Willem van Oranjeschool | B8: Switches POE 48p | C8: 0 | F8: 0 | G8: 0
A9: Willem van Oranjeschool | B9: Access Points | C9: 7 | D9: Ruckus R510 | F9: 0 | G9: 7
A10: Willem van Oranjeschool | B10: Router | C10: 1 | D10: Fortinet FortiGate 60E | F10: 1 | G10: 0
A11: Willem van Oranjeschool | B11: Digiborden incl. OPS | C11: 0
A12: Willem van Oranjeschool | B12: Windows laptop/desktop | C12: 13
A13: Willem van Oranjeschool | B13: Chromebooks | C13: 228
A14: Willem van Oranjeschool | B14: Multifunctionals | C14: 2
A15: Willem van Oranjeschool | B15: aantal leerlingen 1-2-2026 | C15: 194

Sheet Zaanen
A1: Schoolnaam
C2: Aantal | D2: merk / type | E2: Opmerking | F2: Direct vervangen | G2: Binnen contract vervangen
A3: Zaanenschool | B3: Patchkasten | C3: 1 | F3: 0 | G3: 0
A4: Zaanenschool | B4: Switches 24p | C4: 0 | F4: 0 | G4: 0
A5: Zaanenschool | B5: Switches 48p | C5: 1 | D5: Aruba | F5: 0 | G5: 0
A6: Zaanenschool | B6: Switches POE 24p | C6: 1 | D6: Aruba | F6: 0 | G6: 0
A7: Zaanenschool | B7: Switches POE 48p | C7: 0 | F7: 0 | G7: 0
A8: Zaanenschool | B8: Access Points | C8: 7 | D8: Ruckus R550 | F8: 0 | G8: 0
A9: Zaanenschool | B9: Access Points | C9: 1 | D9: Ruckus R350 | F9: 0 | G9: 0
A10: Zaanenschool | B10: Router | C10: 1 | D10: Fortinet FortiGate 60F | F10: 0 | G10: 0
A11: Zaanenschool | B11: Digiborden incl. OPS | C11: 3
A12: Zaanenschool | B12: Windows laptop/desktop | C12: 8
A13: Zaanenschool | B13: Chromebooks | C13: 130
A14: Zaanenschool | B14: Multifunctionals | C14: 1 | D14: Canon
A15: Zaanenschool | B15: aantal leerlingen 1-2-2026 | C15: 140

Sheet Scholenlijst
A3: Rijlabels | B3: Schoolnaam | C3: Adres | D3: Postcode/plaats
A4: 04OH00 | B4: Koningin Wilhelminaschool | C4: Dompvloedslaan 114 | D4: 2051 NG Overveen
A5: 05BC00 | B5: Sint Adalbertus | C5: Claes van Kietenstraat 2-4 | D5: 2064 XT Spaarndam
A6: 05MD00 | B6: Tijo van Eeghenschool | C6: Van Lennepweg 2 | D6: 2111 HV Aerdenhout
A7: 07XG00 | B7: Willinkschool | C7: Rijksstraatweg 89 | D7: 2121 AD Bennebroek
A8: 08QH00 | B8: Bos en Duinschool | C8: Bos en Duinlaan 1 A | D8: 2061 VM Bloemendaal
A9: 09QN00 | B9: De Schelp | C9: Nieuwe Landstraat 12 | D9: 2021 DE Haarlem
A10: 11CF00 | B10: Prinses Beatrixschool | C10: Von Brücken Focklaan 2 | D10: 2102 XC Heemstede
A11: 11CF01 | B11: Bosch en Hovenschool | C11: Adriaan Pauwlaan 19 | D11: 2101 AJ Heemstede
A12: 11OX00 | B12: Nicolaas Beetsschool | C12: Sportparklaan 3 | D12: 2103 VR Heemstede
A13: 12BV00 | B13: IKC Valeo | C13: Floris van Adrichemlaan 102 | D13: 2035 VD Haarlem
A14: 12KZ00 | B14: De Meer | C14: Erasmuslaan 1 | D14: 2037 LA Haarlem
... A41: 19UF01 | B41: Zaanenschool | C41: Junoplantsoen 30 | D41: 2024 RR Haarlem
A42: (leeg) | B42: TWijs Services
A43: 01LZ01 | B43: Internationalschool Haarlem secondary | C43: Junoplantsoen 58 | D43: 2024 RS Haarlem
A44: 13KT03 | B44: Internationalschool Haarlem | C44: Schreveliusstraat 27 | D44: 2014 XP Haarlem
A45: Eindtotaal

Sheet Draaitabel overzicht
A3: Rijlabels | B3: merk / type | C3: Som van Aantal | D3: Som van Direct vervangen | E3: Som van Binnen contract vervangen
A4: Access Points | B4: Ruckus R500 | C4: 12 | D4: 0 | E4: 12
A5: Access Points | B5: Ruckus R510 | C5: 145 | D5: 0 | E5: 145
A6: Access Points | B6: Ruckus R350 (aanschafperiode 2022-2026)2 | C6: 73 | D6: 0 | E6: 0
A7: Access Points | B7: Ruckus R550 (aanschafperiode 2021-2026)2 | C7: 176 | D7: 0 | E7: 0
A8: Chromebooks | B8: Niet relevant | C8: 6446
A9: Digiborden incl. OPS | B9: Niet relevant | C9: 246
A10: Multifunctionals | B10: Canon | C10: 64
A11: Patchkasten | B11: Niet relevant | C11: 46 | D11: 0 | E11: 0
A12: Router | B12: Fortinet FortiGate 50E | C12: 1 | D12: 1 | E12: 0
A13: Router | B13: Fortinet FortiGate 60E | C13: 28 | D13: 26 | E13: 2
A14: Router | B14: Fortinet FortiGate 60F | C14: 11 | D14: 0 | E14: 0
A15: Router | B15: Zyxel ZyWALL 110 | C15: 1 | D15: 1 | E15: 0
A16: Switches 24p | B16: Aruba | C16: 3 | D16: 1 | E16: 0
A17: Switches 24p | B17: HPE | C17: 5 | D17: 3 | E17: 0
A18: Switches 24p | B18: Netgear | C18: 9 | D18: 3 | E18: 0
A19: Switches 24p | B19: Zyxel | C19: 14 | D19: 2 | E19: 5
A20: Switches 24p | B20: FS.com | C20: 1 | D20: 0 | E20: 0
A21: Switches 24p | B21: Onbekend | C21: 1 | D21: 0 | E21: 0
A22: Switches 48p | B22: Aruba | C22: 15 | D22: 0 | E22: 1
... A41: Switches POE 8p | B41: HPE | C41: 3 | D41: 0 | E41: 0
A42: Switches POE 8p | B42: Ruckus | C42: 1 | E42: 0
A43: Switches POE 8p | B43: Zyxel | C43: 5 | D43: 1 | E43: 4
A44: Switches POE 8p | B44: Ubiquiti UniFi | C44: 11 | D44: 1 | E44: 2
A45: Windows laptop/desktop | B45: Niet relevant | C45: 915
A46: Eindtotaal | C46: 8319 | D46: 66 | E46: 186

Sheet Bron data
A1: Brinnummer | B1: Schoolnaam | C1: Adres | D1: Postcode/plaats | E1: Soort | F1: Aantal | G1: merk / type | H1: Opmerking | I1: Direct vervangen | J1: Binnen contract vervangen
A2: 05BC00 | B2: Sint Adalbertus | C2: Claes van Kietenstraat 2-4 | D2: 2064 XT Spaarndam | E2: Switches 24p | F2: 1 | G2: Aruba | I2: 0 | J2: 0
A3: 05BC00 | B3: Sint Adalbertus | C3: Claes van Kietenstraat 2-4 | D3: 2064 XT Spaarndam | E3: Switches POE 48p | F3: 1 | G3: Aruba | I3: 0 | J3: 0
A4: 14WV00 | B4: Schoterbos Gunning | C4: Rijksstraatweg 245 | D4: 2024 DG Haarlem | E4: Switches POE 24p | F4: 1 | G4: Aruba | I4: 0 | J4: ntb
A5: 14WV00 | B5: Schoterbos Trapeze | C5: Dinkelstraat 4 | D5: 2025 PH Haarlem | E5: Switches 48p | F5: 1 | G5: Aruba | I5: 0 | J5: ntb
A6: 16MO01 | B6: Pantarijn | C6: Frieslandlaan 4 | D6: 2036 NE Haarlem | E6: Switches 48p | F6: 1 | G6: Aruba | I6: 0 | J6: ntb
A7: 19UF01 | B7: Zaanenschool | C7: Junoplantsoen 30 | D7: 2024 RR Haarlem | E7: Switches 48p | F7: 1 | G7: Aruba | I7: 0 | J7: 0
A8: 19UF01 | B8: Zaanenschool | C8: Junoplantsoen 30 | D8: 2024 RR Haarlem | E8: Switches POE 24p | F8: 1 | G8: Aruba | I8: 0 | J8: 0
A9: 14YU00 | B9: Oranje Nassauschool | C9: Lijsterstraat 1-3 | D9: 2042 CH Zandvoort | E9: Switches POE 24p | F9: 1 | G9: Aruba | I9: 0 | J9: ntb
A10: 14GK01 | B10: Verbeelding | C10: Louis Couperusstraat 2 | D10: 2024 HH Haarlem | E10: Switches POE 24p | F10: 1 | G10: Aruba | I10: 0 | J10: ntb
A11: 16LQ00 | B11: Franciscus Xaverius | C11: Nagtzaamstraat 88 | D11: 2032 TH Haarlem | E11: Switches 24p | F11: 1 | G11: Aruba | I11: 1 | J11: 0
A12: 09QN00 | B12: De Schelp | C12: Nieuwe Landstraat 12 | D12: 2021 DE Haarlem | E12: Switches 48p | F12: 2 | G12: Aruba | I12: 0 | J12: ntb
A13: 16IC01 | B13: Internationale Taalklas | C13: Prinses Beatrixdreef 6 | D13: 2033 TX Haarlem | E13: Switches 48p | F13: 1 | G13: Aruba | I13: 0 | J13: 0
A14: 16IC01 | B14: Internationale Taalklas | C14: Prinses Beatrixdreef 6 | D14: 2033 TX Haarlem | E14: Switches POE 24p | F14: 1 | G14: Aruba | I14: 0 | J14: 0
A15: 19RK00 | B15: Sint Bavo Reviusstraat | C15: Reviusstraat 1-3 | D15: 2026 SJ Haarlem | E15: Switches 48p | F15: 1 | G15: Aruba | I15: 0 | J15: 0
A16: 19RK00 | B16: Sint Bavo Reviusstraat | C16: Reviusstraat 1-3 | D16: 2026 SJ Haarlem | E16: Switches POE 24p | F16: 1 | G16: Aruba | I16: 0 | J16: 0
A17: 07XG00 | B17: Willinkschool | C17: Rijksstraatweg 89 | D17: 2121 AD Bennebroek | E17: Switches POE 24p | F17: 1 | G17: Aruba | I17: 0 | J17: ntb
A18: 01LZ01 | B18: Internationalschool Haarlem secondary | C18: Junoplantsoen 58 | D18: 2024 RS Haarlem | E18: Switches 48p | F18: 3 | G18: Aruba | J18: ntb
A19: 01LZ01 | B19: Internationalschool Haarlem secondary | C19: Junoplantsoen 58 | D19: 2024 RS Haarlem | E19: Switches POE 24p | F19: 1 | G19: Aruba | J19: ntb
A20: 01LZ01 | B20: Internationalschool Haarlem secondary | C20: Junoplantsoen 58 | D20: 2024 RS Haarlem | E20: Switches POE 48p | F20: 1 | G20: Aruba | J20: ntb
A21: 11OX00 | B21: Nicolaas Beetsschool | C21: Sportparklaan 3 | D21: 2103 VR Heemstede | E21: Switches 24p | F21: 1 | G21: Aruba | I21: 0 | J21: 0
A22: 11OX00 | B22: Nicolaas Beetsschool | C22: Sportparklaan 3 | D22: 2103 VR Heemstede | E22: Switches 48p | F22: 2 | G22: Aruba | I22: 0 | J22: 0
A23: 11OX00 | B23: Nicolaas Beetsschool | C23: Sportparklaan 3 | D23: 2103 VR Heemstede | E23: Switches POE 8p | F23: 3 | G23: Aruba | I23: 0 | J23: 0
A24: 19UF00 | B24: Liduinaschool | C24: Timorstraat 17 | D24: 2022 RA Haarlem | E24: Switches 48p | F24: 1 | G24: Aruba | I24: 0 | J24: 0
A25: 19UF00 | B25: Liduinaschool | C25: Timorstraat 17 | D25: 2022 RA Haarlem | E25: Switches POE 24p | F25: 1 | G25: Aruba | I25: 0 | J25: 0
A26: 05MD00 | B26: Tijo van Eeghenschool | C26: Van Lennepweg 2 | D26: 2111 HV Aerdenhout | E26: Switches POE 24p | F26: 1 | G26: Aruba | I26: 0 | J26: ntb
A27: 16MO00 | B27: Mgr. Huibers | C27: Vilniusstraat 2 | D27: 2034 EM Haarlem | E27: Switches 48p | F27: 1 | G27: Aruba | I27: 0 | J27: 0
A28: 16MO00 | B28: Mgr. Huibers | C28: Vilniusstraat 2 | D28: 2034 EM Haarlem | E28: Switches POE 24p | F28: 1 | G28: Aruba | I28: 0 | J28: 0
A29: 12KZ01 | B29: Bavo Jenaplanschool | C29: Westergracht 3 | D29: 2013 ZJ Haarlem | E29: Switches 48p | F29: 1 | G29: Aruba | I29: 0 | J29: 1
A30: 11CF01 | B30: Bosch en Hovenschool | C30: Adriaan Pauwlaan 19 | D30: 2101 AJ Heemstede | E30: Multifunctionals | F30: 1 | G30: Canon
A31: 12BV00 | B31: IKC Valeo | C31: Floris van Adrichemlaan 102 | D31: 2035 VD Haarlem | E31: Multifunctionals | F31: 3 | G31: Canon
A32: 16XC00 | B32: Veronicaschool | C32: Antoniestraat 28 | D32: 2011 CR Haarlem | E32: Multifunctionals | F32: 1 | G32: Canon
A33: 04OH00 | B33: Koningin Wilhelminaschool | C33: Dompvloedslaan 114 | D33: 2051 NG Overveen | E33: Multifunctionals | F33: 1 | G33: Canon
A34: 12KZ00 | B34: De Meer | C34: Erasmuslaan 1 | D34: 2037 LA Haarlem | E34: Multifunctionals | F34: 1 | G34: Canon
A35: 16MO01 | B35: Pantarijn | C35: Frieslandlaan 4 | D35: 2036 NE Haarlem | E35: Multifunctionals | F35: 1 | G35: Canon
B36: TWijs Services | C36: Garenkokerskade 19 | D36: 2013 AJ Haarlem | E36: Multifunctionals | F36: 2 | G36: Canon
A37: 19UF01 | B37: Zaanenschool | C37: Junoplantsoen 30 | D37: 2024 RR Haarlem | E37: Multifunctionals | F37: 1 | G37: Canon
A38: 14YU00 | B38: Oranje Nassauschool | C38: Lijsterstraat 1-3 | D38: 2042 CH Zandvoort | E38: Multifunctionals | F38: 1 | G38: Canon
A39: 14GK01 | B39: Verbeelding | C39: Louis Couperusstraat 2 | D39: 2024 HH Haarlem | E39: Multifunctionals | F39: 2 | G39: Canon
A40: 16LQ00 | B40: Franciscus Xaverius | C40: Nagtzaamstraat 88 | D40: 2032 TH Haarlem | E40: Multifunctionals | F40: 1 | G40: Canon
A41: 16LQ01 | B41: De Talenten | C41: Noormannenstraat 1 | D41: 2033 LG Haarlem | E41: Multifunctionals | F41: 1 | G41: Canon
A42: 16IC01 | B42: Internationale Taalklas | C42: Prinses Beatrixdreef 6 | D42: 2033 TX Haarlem | E42: Multifunctionals | F42: 3 | G42: Canon
A43: 07XG00 | B43: Willinkschool | C43: Rijksstraatweg 89 | D43: 2121 AD Bennebroek | E43: Multifunctionals | F43: 2 | G43: Canon
A44: 01LZ01 | B44: Internationalschool Haarlem secondary | C44: Junoplantsoen 58 | D44: 2024 RS Haarlem | E44: Multifunctionals | F44: 2 | G44: Canon
A45: 11OX00 | B45: Nicolaas Beetsschool | C45: Sportparklaan 3 | D45: 2103 VR Heemstede | E45: Multifunctionals | F45: 2 | G45: Canon
A46: 19UF00 | B46: Liduinaschool | C46: Timorstraat 17 | D46: 2022 RA Haarlem | E46: Multifunctionals | F46: 2 | G46: Canon
A47: 05MD00 | B47: Tijo van Eeghenschool | C47: Van Lennepweg 2 | D47: 2111 HV Aerdenhout | E47: Multifunctionals | F47: 1 | G47: Canon
A48: 16MO00 | B48: Mgr. Huibers | C48: Vilniusstraat 2 | D48: 2034 EM Haarlem | E48: Multifunctionals | F48: 1 | G48: Canon
... A66: 13TP01 | B66: Werkschuit | C66: Velserstraat 55-57 | D66: 2023 EB Haarlem | E66: Multifunctionals | F66: 2 | G66: Canon
A67: 14WV00 | B67: Schoterbos Trapeze | C67: Dinkelstraat 4 | D67: 2025 PH Haarlem | E67: Switches POE 8p | F67: 1 | G67: Cisco | I67: 0 | J67: 0
A68: 13KT00 | B68: Dreefschool | C68: Dreef 20 | D68: 2012 HS Haarlem | E68: Switches 8p | F68: 1 | G68: Cisco | I68: 0 | J68: 0
A69: 19RK01 | B69: Sint Bavo Eemstraat | C69: Eemstraat 15 | D69: 2025 RD Haarlem | E69: Switches 48p | F69: 1 | G69: Cisco | I69: 1 | J69: 0
A70: 14GK01 | B70: Verbeelding | C70: Louis Couperusstraat 2 | D70: 2024 HH Haarlem | E70: Switches POE 8p | F70: 1 | G70: Cisco | I70: 0 | J70: 0
A71: 13KT03 | B71: Internationalschool Haarlem | C71: Schreveliusstraat 27 | D71: 2014 XP Haarlem | E71: Switches POE 24p | F71: 1 | G71: Cisco | I71: 1 | J71: 0
A72: 16GV00 | B72: Sint Bernardus | C72: Bernard Zweersstraat 1 | D72: 2033 DE Haarlem | E72: Switches POE 8p | F72: 2 | G72: DrayTek | I72: 0 | J72: 0
A73: 09QN00 | B73: De Schelp | C73: Nieuwe Landstraat 12 | D73: 2021 DE Haarlem | E73: Switches POE 8p | F73: 2 | G73: DrayTek | I73: 0 | J73: 0
A74: 14YU00 | B74: Oranje Nassauschool | C74: Lijsterstraat 1-3 | D74: 2042 CH Zandvoort | E74: Switches 48p | F74: 1 | G74: Edgecore | I74: 2 | J74: 0
A75: 13TP01 | B75: Werkschuit | C75: Velserstraat 55-57 | D75: 2023 EB Haarlem | E75: Switches POE 24p | F75: 1 | G75: Edgecore | I75: 0 | J75: 1
A76: 14WV00 | B76: Schoterbos Gunning | C76: Rijksstraatweg 245 | D76: 2024 DG Haarlem | E76: Router | F76: 1 | G76: Fortinet FortiGate 50E | I76: 1 | J76: 0
A77: 12BV00 | B77: IKC Valeo | C77: Floris van Adrichemlaan 102 | D77: 2035 VD Haarlem | E77: Router | F77: 1 | G77: Fortinet FortiGate 60E | H77: ivm nieuwbouw | I77: 0 | J77: 1
A78: 16XC00 | B78: Veronicaschool | C78: Antoniestraat 28 | D78: 2011 CR Haarlem | E78: Router | F78: 1 | G78: Fortinet FortiGate 60E | I78: 1 | J78: 0
A79: 16GV00 | B79: Sint Bernardus | C79: Bernard Zweersstraat 1 | D79: 2033 DE Haarlem | E79: Router | F79: 1 | G79: Fortinet FortiGate 60E | I79: 1 | J79: 0
A80: 08QH00 | B80: Bos en Duinschool | C80: Bos en Duinlaan 1 A | D80: 2061 VM Bloemendaal | E80: Router | F80: 1 | G80: Fortinet FortiGate 60E | I80: 1 | J80: 0
A81: 05BC00 | B81: Sint Adalbertus | C81: Claes van Kietenstraat 2-4 | D81: 2064 XT Spaarndam | E81: Router | F81: 1 | G81: Fortinet FortiGate 60E | I81: 1 | J81: 0
A82: 14WV00 | B82: Schoterbos Trapeze | C82: Dinkelstraat 4 | D82: 2025 PH Haarlem | E82: Router | F82: 1 | G82: Fortinet FortiGate 60E | I82: 1 | J82: 0
A83: 13KT00 | B83: Dreefschool | C83: Dreef 20 | D83: 2012 HS Haarlem | E83: Router | F83: 1 | G83: Fortinet FortiGate 60E | I83: 1 | J83: 0
A84: 12KZ00 | B84: De Meer | C84: Erasmuslaan 1 | D84: 2037 LA Haarlem | E84: Router | F84: 1 | G84: Fortinet FortiGate 60E | I84: 1 | J84: 0
A85: 16IC00 | B85: Don Bosco | C85: Floris van Adrichemlaan 100 | D85: 2035 VD Haarlem | E85: Router | F85: 1 | G85: Fortinet FortiGate 60E | I85: 1 | J85: 0
A86: 16MO01 | B86: Pantarijn | C86: Frieslandlaan 4 | D86: 2036 NE Haarlem | E86: Router | F86: 1 | G86: Fortinet FortiGate 60E | I86: 1 | J86: 0
B87: TWijs Services | C87: Garenkokerskade 19 | D87: 2013 AJ Haarlem | E87: Router | F87: 1 | G87: Fortinet FortiGate 60E | I87: 1 | J87: 0
A88: 13KT00 | B88: Dreefschool DEP | C88: Kleine Houtweg 24 | D88: 2012 SC Haarlem | E88: Router | F88: 1 | G88: Fortinet FortiGate 60E | I88: 1 | J88: 0
A89: 14GK01 | B89: Verbeelding | C89: Louis Couperusstraat 2 | D89: 2024 HH Haarlem | E89: Router | F89: 1 | G89: Fortinet FortiGate 60E | I89: 1 | J89: 0
A90: 16LQ00 | B90: Franciscus Xaverius | C90: Nagtzaamstraat 88 | D90: 2032 TH Haarlem | E90: Router | F90: 1 | G90: Fortinet FortiGate 60E | I90: 1 | J90: 0
A91: 09QN00 | B91: De Schelp | C91: Nieuwe Landstraat 12 | D91: 2021 DE Haarlem | E91: Router | F91: 1 | G91: Fortinet FortiGate 60E | I91: 1 | J91: 0
A92: 16LQ01 | B92: De Talenten | C92: Noormannenstraat 1 | D92: 2033 LG Haarlem | E92: Router | F92: 1 | G92: Fortinet FortiGate 60E | H92: in tijdelijke huisvesting | I92: 1 | J92: 0
A93: 16IC01 | B93: Internationale Taalklas | C93: Prinses Beatrixdreef 6 | D93: 2033 TX Haarlem | E93: Router | F93: 1 | G93: Fortinet FortiGate 60E | I93: 1 | J93: 0
A94: 07XG00 | B94: Willinkschool | C94: Rijksstraatweg 89 | D94: 2121 AD Bennebroek | E94: Router | F94: 1 | G94: Fortinet FortiGate 60E | I94: 1 | J94: 0
A95: 14DO00 | B95: Koningin Emmaschool | C95: Roerdompplein 19 | D95: 2025 CS Haarlem | E95: Router | F95: 1 | G95: Fortinet FortiGate 60E | I95: 1 | J95: 0
A96: 14AG00 | B96: Willem van Oranjeschool | C96: Rozenhagenstraat 15 | D96: 2021 CG Haarlem | E96: Router | F96: 1 | G96: Fortinet FortiGate 60E | I96: 1 | J96: 0
A97: 13KT03 | B97: Internationalschool Haarlem | C97: Schreveliusstraat 27 | D97: 2014 XP Haarlem | E97: Router | F97: 2 | G97: Fortinet FortiGate 60E | I97: 2 | J97: 0
A98: 05MD00 | B98: Tijo van Eeghenschool | C98: Van Lennepweg 2 | D98: 2111 HV Aerdenhout | E98: Router | F98: 1 | G98: Fortinet FortiGate 60E | I98: 1 | J98: 0
A99: 13TP00 | B99: De Ark | C99: Velserstraat 17 | D99: 2023 EA Haarlem | E99: Router | F99: 1 | G99: Fortinet FortiGate 60E | I99: 1 | J99: 0
A100: 13TP01 | B100: Werkschuit | C100: Velserstraat 55-57 | D100: 2023 EB Haarlem | E100: Router | F100: 1 | G100: Fortinet FortiGate 60E | I100: 1 | J100: 0
A101: 16MO00 | B101: Mgr. Huibers | C101: Vilniusstraat 2 | D101: 2034 EM Haarlem | E101: Router | F101: 1 | G101: Fortinet FortiGate 60E | I101: 1 | J101: 0
A102: 11CF00 | B102: Prinses Beatrixschool | C102: Von Brücken Focklaan 2 | D102: 2102 XC Heemstede | E102: Router | F102: 1 | G102: Fortinet FortiGate 60E | H102: ivm nieuwbouw | I102: 0 | J102: 1
A103: 12KZ01 | B103: Bavo Jenaplanschool | C103: Westergracht 3 | D103: 2013 ZJ Haarlem | E103: Router | F103: 1 | G103: Fortinet FortiGate 60E | I103: 1 | J103: 0
A104: 11CF01 | B104: Bosch en Hovenschool | C104: Adriaan Pauwlaan 19 | D104: 2101 AJ Heemstede | E104: Router | F104: 1 | G104: Fortinet FortiGate 60F | I104: 0 | J104: 0
A105: 14GK00 | B105: De Bavinck | C105: Ambachtstraat 1 | D105: 2024 EB Haarlem | E105: Router | F105: 1 | G105: Fortinet FortiGate 60F | I105: 0 | J105: 0
A106: 14GK00 | B106: De Bavinck DEP | C106: Ambachtstraat 20 | D106: 2024 EB Haarlem | E106: Router | F106: 1 | G106: Fortinet FortiGate 60F | H106: DEP | I106: 0 | J106: 0
A107: 14GK01 | B107: Verbeelding DEP | C107: Ambachtstraat 22 | D107: 2024 HH Haarlem | E107: Router | F107: 1 | G107: Fortinet FortiGate 60F | I107: 0 | J107: 0
A108: 19RK01 | B108: Sint Bavo Eemstraat | C108: Eemstraat 15 | D108: 2025 RD Haarlem | E108: Router | F108: 1 | G108: Fortinet FortiGate 60F | I108: 0 | J108: 0
A109: 19UF01 | B109: Zaanenschool | C109: Junoplantsoen 30 | D109: 2024 RR Haarlem | E109: Router | F109: 1 | G109: Fortinet FortiGate 60F | I109: 0 | J109: 0
A110: 14YU00 | B110: Oranje Nassauschool | C110: Lijsterstraat 1-3 | D110: 2042 CH Zandvoort | E110: Router | F110: 1 | G110: Fortinet FortiGate 60F | I110: 0 | J110: 0
A111: 19RK00 | B111: Sint Bavo Reviusstraat | C111: Reviusstraat 1-3 | D111: 2026 SJ Haarlem | E111: Router | F111: 1 | G111: Fortinet FortiGate 60F | I111: 0 | J111: 0
A112: 01LZ01 | B112: Internationalschool Haarlem secondary | C112: Junoplantsoen 58 | D112: 2024 RS Haarlem | E112: Router | F112: 1 | G112: Fortinet FortiGate 60F | I112: 0 | J112: 0
A113: 11OX00 | B113: Nicolaas Beetsschool | C113: Sportparklaan 3 | D113: 2103 VR Heemstede | E113: Router | F113: 1 | G113: Fortinet FortiGate 60F | I113: 0 | J113: 0
A114: 19UF00 | B114: Liduinaschool | C114: Timorstraat 17 | D114: 2022 RA Haarlem | E114: Router | F114: 1 | G114: Fortinet FortiGate 60F | I114: 0 | J114: 0
A115: 14GK01 | B115: Verbeelding DEP | C115: Ambachtstraat 22 | D115: 2024 HH Haarlem | E115: Switches POE 24p | F115: 1 | G115: FS.com | I115: 0 | J115: ntb
A116: 16XC00 | B116: Veronicaschool | C116: Antoniestraat 28 | D116: 2011 CR Haarlem | E116: Switches POE 24p | F116: 1 | G116: FS.com | I116: 0 | J116: ntb
A117: 16IC01 | B117: Internationale Taalklas - bijgebouw | C117: Prinses Beatrixdreef 7 | D117: 2033 TX Haarlem | E117: Switches 24p | F117: 1 | G117: FS.com | I117: 0 | J117: ntb
...

Sheet Leerlingaantallen
A1: Schoolnaam | B1: aantal leerlingen 1-2-2026 | C1: Totale medewerkers 07-10-2026
A2: Sint Adalbertus | B2: 257
A3: De Ark | B3: 642
A4: De Bavinck | B4: 377
A5: Bavo Jenaplanschool | B5: 182
A6: Sint Bavo Eemstraat | B6: 164
A7: Sint Bavo Reviusstraat | B7: 214
A8: Bos en Duinschool | B8: 116
A9: Bosch en Hovenschool | B9: 209
A10: Nicolaas Beetsschool | B10: 406
A11: Sint Bernardus | B11: 414
A12: Dreefschool | B12: 447
A13: Don Bosco | B13: 160
... A37: Zaanenschool | B37: 140
B38: =SUM(B2:B37) -> 8763 | C38: 1043
B39: =B38/34 -> 257.73529 | C39: =C38/34 -> 30.676471
