Workbook

Sheet Overzicht per school
A1: Hardware-overzicht per schoollocatie
A2: Bron: tabblad 'Bron data'. Rode/oranje/gele markering = mogelijk vervangingsmoment.
A3: Locatie / hardware | B3: Aantal | C3: Merk / type | D3: Opmerking | E3: Direct vervangen | F3: Binnen contract vervangen | G3: Mogelijk vervangingsmoment
A4: ='Bron data'!B29 -> Bavo Jenaplanschool | B4: ="BRIN "&'Bron data'!A29 -> BRIN 12KZ01 | C4: =TRIM(SUBSTITUTE('Bron data'!C29,CHAR(160)," "))&", "&TRIM(SUBSTITUTE('Bron data'!D29,CHAR(160)," ")) -> Westergracht 3, 2013 ZJ Haarlem | D4: =IFERROR("Leerlingen: "&_xlfn.XLOOKUP(A4,Leerlingaantallen!$A$2:$A$37,Leerlingaantallen!$B$2:$B$37),"") -> Leerlingen: 182
A5: =TRIM('Bron data'!E29) -> Switches 48p | B5: =IF('Bron data'!F29="","",'Bron data'!F29) -> 1 | C5: ='Bron data'!G29&"" -> Aruba | D5: ='Bron data'!H29&"" | E5: =IF('Bron data'!I29="","",'Bron data'!I29) -> 0 | F5: =IF('Bron data'!J29="","",'Bron data'!J29) -> 1 | G5: =IF(AND(N(E5)>0,N(F5)>0),"Direct + binnen contract",IF(N(E5)>0,"Direct vervangen",IF(N(F5)>0,"Binnen contract vervangen",IF(F5="ntb","Binnen contract – nog te bepalen",IF(AND(E5="",F5=""),"n.v.t.","Geen vervanging gepland"))))) -> Binnen contract vervangen
A6: =TRIM('Bron data'!E352) -> Switches POE 8p | B6: =IF('Bron data'!F352="","",'Bron data'!F352) -> 1 | C6: ='Bron data'!G352&"" -> Ubiquiti UniFi | D6: ='Bron data'!H352&"" | E6: =IF('Bron data'!I352="","",'Bron data'!I352) -> 0 | F6: =IF('Bron data'!J352="","",'Bron data'!J352) -> 0 | G6: =IF(AND(N(E6)>0,N(F6)>0),"Direct + binnen contract",IF(N(E6)>0,"Direct vervangen",IF(N(F6)>0,"Binnen contract vervangen",IF(F6="ntb","Binnen contract – nog te bepalen",IF(AND(E6="",F6=""),"n.v.t.","Geen vervanging gepland"))))) -> Geen vervanging gepland
A7: =TRIM('Bron data'!E351) -> Switches POE 24p | B7: =IF('Bron data'!F351="","",'Bron data'!F351) -> 1 | C7: ='Bron data'!G351&"" -> Ubiquiti UniFi | D7: ='Bron data'!H351&"" | E7: =IF('Bron data'!I351="","",'Bron data'!I351) -> 1 | F7: =IF('Bron data'!J351="","",'Bron data'!J351) -> 0 | G7: =IF(AND(N(E7)>0,N(F7)>0),"Direct + binnen contract",IF(N(E7)>0,"Direct vervangen",IF(N(F7)>0,"Binnen contract vervangen",IF(F7="ntb","Binnen contract – nog te bepalen",IF(AND(E7="",F7=""),"n.v.t.","Geen vervanging gepland"))))) -> Direct vervangen
A8: =TRIM('Bron data'!E103) -> Router | B8: =IF('Bron data'!F103="","",'Bron data'!F103) -> 1 | C8: ='Bron data'!G103&"" -> Fortinet FortiGate 60E | D8: ='Bron data'!H103&"" | E8: =IF('Bron data'!I103="","",'Bron data'!I103) -> 1 | F8: =IF('Bron data'!J103="","",'Bron data'!J103) -> 0 | G8: =IF(AND(N(E8)>0,N(F8)>0),"Direct + binnen contract",IF(N(E8)>0,"Direct vervangen",IF(N(F8)>0,"Binnen contract vervangen",IF(F8="ntb","Binnen contract – nog te bepalen",IF(AND(E8="",F8=""),"n.v.t.","Geen vervanging gepland"))))) -> Direct vervangen
A9: =TRIM('Bron data'!E307) -> Access Points | B9: =IF('Bron data'!F307="","",'Bron data'!F307) -> 12 | C9: ='Bron data'!G307&"" -> Ruckus R500 | D9: ='Bron data'!H307&"" | E9: =IF('Bron data'!I307="","",'Bron data'!I307) -> 0 | F9: =IF('Bron data'!J307="","",'Bron data'!J307) -> 12 | G9: =IF(AND(N(E9)>0,N(F9)>0),"Direct + binnen contract",IF(N(E9)>0,"Direct vervangen",IF(N(F9)>0,"Binnen contract vervangen",IF(F9="ntb","Binnen contract – nog te bepalen",IF(AND(E9="",F9=""),"n.v.t.","Geen vervanging gepland"))))) -> Binnen contract vervangen
A10: =TRIM('Bron data'!E287) -> Digiborden incl. OPS | B10: =IF('Bron data'!F287="","",'Bron data'!F287) -> 8 | C10: ='Bron data'!G287&"" -> Niet relevant | D10: ='Bron data'!H287&"" | E10: =IF('Bron data'!I287="","",'Bron data'!I287) | F10: =IF('Bron data'!J287="","",'Bron data'!J287) | G10: =IF(AND(N(E10)>0,N(F10)>0),"Direct + binnen contract",IF(N(E10)>0,"Direct vervangen",IF(N(F10)>0,"Binnen contract vervangen",IF(F10="ntb","Binnen contract – nog te bepalen",IF(AND(E10="",F10=""),"n.v.t.","Geen vervanging gepland"))))) -> n.v.t.
A11: =TRIM('Bron data'!E289) -> Windows laptop/desktop | B11: =IF('Bron data'!F289="","",'Bron data'!F289) -> 12 | C11: ='Bron data'!G289&"" -> Niet relevant | D11: ='Bron data'!H289&"" | E11: =IF('Bron data'!I289="","",'Bron data'!I289) | F11: =IF('Bron data'!J289="","",'Bron data'!J289) | G11: =IF(AND(N(E11)>0,N(F11)>0),"Direct + binnen contract",IF(N(E11)>0,"Direct vervangen",IF(N(F11)>0,"Binnen contract vervangen",IF(F11="ntb","Binnen contract – nog te bepalen",IF(AND(E11="",F11=""),"n.v.t.","Geen vervanging gepland"))))) -> n.v.t.
A12: =TRIM('Bron data'!E286) -> Chromebooks | B12: =IF('Bron data'!F286="","",'Bron data'!F286) -> 141 | C12: ='Bron data'!G286&"" -> Niet relevant | D12: ='Bron data'!H286&"" | E12: =IF('Bron data'!I286="","",'Bron data'!I286) | F12: =IF('Bron data'!J286="","",'Bron data'!J286) | G12: =IF(AND(N(E12)>0,N(F12)>0),"Direct + binnen contract",IF(N(E12)>0,"Direct vervangen",IF(N(F12)>0,"Binnen contract vervangen",IF(F12="ntb","Binnen contract – nog te bepalen",IF(AND(E12="",F12=""),"n.v.t.","Geen vervanging gepland"))))) -> n.v.t.
A13: =TRIM('Bron data'!E50) -> Multifunctionals | B13: =IF('Bron data'!F50="","",'Bron data'!F50) -> 1 | C13: ='Bron data'!G50&"" -> Canon | D13: ='Bron data'!H50&"" | E13: =IF('Bron data'!I50="","",'Bron data'!I50) | F13: =IF('Bron data'!J50="","",'Bron data'!J50) | G13: =IF(AND(N(E13)>0,N(F13)>0),"Direct + binnen contract",IF(N(E13)>0,"Direct vervangen",IF(N(F13)>0,"Binnen contract vervangen",IF(F13="ntb","Binnen contract – nog te bepalen",IF(AND(E13="",F13=""),"n.v.t.","Geen vervanging gepland"))))) -> n.v.t.
A14: ='Bron data'!B359 -> Bos en Duinschool | B14: ="BRIN "&'Bron data'!A359 -> BRIN 08QH00 | C14: =TRIM(SUBSTITUTE('Bron data'!C359,CHAR(160)," "))&", "&TRIM(SUBSTITUTE('Bron data'!D359,CHAR(160)," ")) -> Bos en Duinlaan 1 A, 2061 VM Bloemendaal | D14: =IFERROR("Leerlingen: "&_xlfn.XLOOKUP(A14,Leerlingaantallen!$A$2:$A$37,Leerlingaantallen!$B$2:$B$37),"") -> Leerlingen: 116
A15: =TRIM('Bron data'!E359) -> Switches 24p | B15: =IF('Bron data'!F359="","",'Bron data'!F359) -> 2 | C15: ='Bron data'!G359&"" -> Zyxel | D15: ='Bron data'!H359&"" | E15: =IF('Bron data'!I359="","",'Bron data'!I359) -> 0 | F15: =IF('Bron data'!J359="","",'Bron data'!J359) -> 1 | G15: =IF(AND(N(E15)>0,N(F15)>0),"Direct + binnen contract",IF(N(E15)>0,"Direct vervangen",IF(N(F15)>0,"Binnen contract vervangen",IF(F15="ntb","Binnen contract – nog te bepalen",IF(AND(E15="",F15=""),"n.v.t.","Geen vervanging gepland"))))) -> Binnen contract vervangen
A16: =TRIM('Bron data'!E360) -> Switches POE 24p | B16: =IF('Bron data'!F360="","",'Bron data'!F360) -> 1 | C16: ='Bron data'!G360&"" -> Zyxel | D16: ='Bron data'!H360&"" | E16: =IF('Bron data'!I360="","",'Bron data'!I360) -> 0 | F16: =IF('Bron data'!J360="","",'Bron data'!J360) -> ntb | G16: =IF(AND(N(E16)>0,N(F16)>0),"Direct + binnen contract",IF(N(E16)>0,"Direct vervangen",IF(N(F16)>0,"Binnen contract vervangen",IF(F16="ntb","Binnen contract – nog te bepalen",IF(AND(E16="",F16=""),"n.v.t.","Geen vervanging gepland"))))) -> Binnen contract – nog te bepalen
A17: =TRIM('Bron data'!E80) -> Router | B17: =IF('Bron data'!F80="","",'Bron data'!F80) -> 1 | C17: ='Bron data'!G80&"" -> Fortinet FortiGate 60E | D17: ='Bron data'!H80&"" | E17: =IF('Bron data'!I80="","",'Bron data'!I80) -> 1 | F17: =IF('Bron data'!J80="","",'Bron data'!J80) -> 0 | G17: =IF(AND(N(E17)>0,N(F17)>0),"Direct + binnen contract",IF(N(E17)>0,"Direct vervangen",IF(N(F17)>0,"Binnen contract vervangen",IF(F17="ntb","Binnen contract – nog te bepalen",IF(AND(E17="",F17=""),"n.v.t.","Geen vervanging gepland"))))) -> Direct vervangen
A18: =TRIM('Bron data'!E326) -> Access Points | B18: =IF('Bron data'!F326="","",'Bron data'!F326) -> 9 | C18: ='Bron data'!G326&"" -> Ruckus R550 (aanschafperiode 2021-2026) | D18: ='Bron data'!H326&"" | E18: =IF('Bron data'!I326="","",'Bron data'!I326) -> 0 | F18: =IF('Bron data'!J326="","",'Bron data'!J326) -> ntb | G18: =IF(AND(N(E18)>0,N(F18)>0),"Direct + binnen contract",IF(N(E18)>0,"Direct vervangen",IF(N(F18)>0,"Binnen contract vervangen",IF(F18="ntb","Binnen contract – nog te bepalen",IF(AND(E18="",F18=""),"n.v.t.","Geen vervanging gepland"))))) -> Binnen contract – nog te bepalen
A19: =TRIM('Bron data'!E161) -> Digiborden incl. OPS | B19: =IF('Bron data'!F161="","",'Bron data'!F161) -> 7 | C19: ='Bron data'!G161&"" -> Niet relevant | D19: ='Bron data'!H161&"" | E19: =IF('Bron data'!I161="","",'Bron data'!I161) | F19: =IF('Bron data'!J161="","",'Bron data'!J161) | G19: =IF(AND(N(E19)>0,N(F19)>0),"Direct + binnen contract",IF(N(E19)>0,"Direct vervangen",IF(N(F19)>0,"Binnen contract vervangen",IF(F19="ntb","Binnen contract – nog te bepalen",IF(AND(E19="",F19=""),"n.v.t.","Geen vervanging gepland"))))) -> n.v.t.
A20: =TRIM('Bron data'!E163) -> Windows laptop/desktop | B20: =IF('Bron data'!F163="","",'Bron data'!F163) -> 13 | C20: ='Bron data'!G163&"" -> Niet relevant | D20: ='Bron data'!H163&"" | E20: =IF('Bron data'!I163="","",'Bron data'!I163) | F20: =IF('Bron data'!J163="","",'Bron data'!J163) | G20: =IF(AND(N(E20)>0,N(F20)>0),"Direct + binnen contract",IF(N(E20)>0,"Direct vervangen",IF(N(F20)>0,"Binnen contract vervangen",IF(F20="ntb","Binnen contract – nog te bepalen",IF(AND(E20="",F20=""),"n.v.t.","Geen vervanging gepland"))))) -> n.v.t.
A21: =TRIM('Bron data'!E160) -> Chromebooks | B21: =IF('Bron data'!F160="","",'Bron data'!F160) -> 92 | C21: ='Bron data'!G160&"" -> Niet relevant | D21: ='Bron data'!H160&"" | E21: =IF('Bron data'!I160="","",'Bron data'!I160) | F21: =IF('Bron data'!J160="","",'Bron data'!J160) | G21: =IF(AND(N(E21)>0,N(F21)>0),"Direct + binnen contract",IF(N(E21)>0,"Direct vervangen",IF(N(F21)>0,"Binnen contract vervangen",IF(F21="ntb","Binnen contract – nog te bepalen",IF(AND(E21="",F21=""),"n.v.t.","Geen vervanging gepland"))))) -> n.v.t.
A22: =TRIM('Bron data'!E53) -> Multifunctionals | B22: =IF('Bron data'!F53="","",'Bron data'!F53) -> 1 | C22: ='Bron data'!G53&"" -> Canon | D22: ='Bron data'!H53&"" | E22: =IF('Bron data'!I53="","",'Bron data'!I53) | F22: =IF('Bron data'!J53="","",'Bron data'!J53) | G22: =IF(AND(N(E22)>0,N(F22)>0),"Direct + binnen contract",IF(N(E22)>0,"Direct vervangen",IF(N(F22)>0,"Binnen contract vervangen",IF(F22="ntb","Binnen contract – nog te bepalen",IF(AND(E22="",F22=""),"n.v.t.","Geen vervanging gepland"))))) -> n.v.t.
A23: ='Bron data'!B30 -> Bosch en Hovenschool | B23: ="BRIN "&'Bron data'!A30 -> BRIN 11CF01 | C23: =TRIM(SUBSTITUTE('Bron data'!C30,CHAR(160)," "))&", "&TRIM(SUBSTITUTE('Bron data'!D30,CHAR(160)," ")) -> Adriaan Pauwlaan 19, 2101 AJ Heemstede | D23: =IFERROR("Leerlingen: "&_xlfn.XLOOKUP(A23,Leerlingaantallen!$A$2:$A$37,Leerlingaantallen!$B$2:$B$37),"") -> Leerlingen: 209
A24: =TRIM('Bron data'!E121) -> Switches 48p | B24: =IF('Bron data'!F121="","",'Bron data'!F121) -> 3 | C24: ='Bron data'!G121&"" -> HPE | D24: ='Bron data'!H121&"" -> nieuwbouw | E24: =IF('Bron data'!I121="","",'Bron data'!I121) -> 0 | F24: =IF('Bron data'!J121="","",'Bron data'!J121) -> 2 | G24: =IF(AND(N(E24)>0,N(F24)>0),"Direct + binnen contract",IF(N(E24)>0,"Direct vervangen",IF(N(F24)>0,"Binnen contract vervangen",IF(F24="ntb","Binnen contract – nog te bepalen",IF(AND(E24="",F24=""),"n.v.t.","Geen vervanging gepland"))))) -> Binnen contract vervangen
A25: =TRIM('Bron data'!E122) -> Switches POE 24p | B25: =IF('Bron data'!F122="","",'Bron data'!F122) -> 1 | C25: ='Bron data'!G122&"" -> HPE | D25: ='Bron data'!H122&"" -> nieuwbouw | E25: =IF('Bron data'!I122="","",'Bron data'!I122) -> 0 | F25: =IF('Bron data'!J122="","",'Bron data'!J122) -> 1 | G25: =IF(AND(N(E25)>0,N(F25)>0),"Direct + binnen contract",IF(N(E25)>0,"Direct vervangen",IF(N(F25)>0,"Binnen contract vervangen",IF(F25="ntb","Binnen contract – nog te bepalen",IF(AND(E25="",F25=""),"n.v.t.","Geen vervanging gepland"))))) -> Binnen contract vervangen
A26: =TRIM('Bron data'!E104) -> Router | B26: =IF('Bron data'!F104="","",'Bron data'!F104) -> 1 | C26: ='Bron data'!G104&"" -> Fortinet FortiGate 60F | D26: ='Bron data'!H104&"" | E26: =IF('Bron data'!I104="","",'Bron data'!I104) -> 0 | F26: =IF('Bron data'!J104="","",'Bron data'!J104) -> 0 | G26: =IF(AND(N(E26)>0,N(F26)>0),"Direct + binnen contract",IF(N(E26)>0,"Direct vervangen",IF(N(F26)>0,"Binnen contract vervangen",IF(F26="ntb","Binnen contract – nog te bepalen",IF(AND(E26="",F26=""),"n.v.t.","Geen vervanging gepland"))))) -> Geen vervanging gepland
A27: =TRIM('Bron data'!E308) -> Access Points | B27: =IF('Bron data'!F308="","",'Bron data'!F308) -> 9 | C27: ='Bron data'!G308&"" -> Ruckus R510 | D27: ='Bron data'!H308&"" | E27: =IF('Bron data'!I308="","",'Bron data'!I308) -> 0 | F27: =IF('Bron data'!J308="","",'Bron data'!J308) -> 9 | G27: =IF(AND(N(E27)>0,N(F27)>0),"Direct + binnen contract",IF(N(E27)>0,"Direct vervangen",IF(N(F27)>0,"Binnen contract vervangen",IF(F27="ntb","Binnen contract – nog te bepalen",IF(AND(E27="",F27=""),"n.v.t.","Geen vervanging gepland"))))) -> Binnen contract vervangen
A28: =TRIM('Bron data'!E139) -> Digiborden incl. OPS | B28: =IF('Bron data'!F139="","",'Bron data'!F139) -> 0 | C28: ='Bron data'!G139&"" -> Niet relevant | D28: ='Bron data'!H139&"" | E28: =IF('Bron data'!I139="","",'Bron data'!I139) | F28: =IF('Bron data'!J139="","",'Bron data'!J139) | G28: =IF(AND(N(E28)>0,N(F28)>0),"Direct + binnen contract",IF(N(E28)>0,"Direct vervangen",IF(N(F28)>0,"Binnen contract vervangen",IF(F28="ntb","Binnen contract – nog te bepalen",IF(AND(E28="",F28=""),"n.v.t.","Geen vervanging gepland"))))) -> n.v.t.
A29: =TRIM('Bron data'!E141) -> Windows laptop/desktop | B29: =IF('Bron data'!F141="","",'Bron data'!F141) -> 20 | C29: ='Bron data'!G141&"" -> Niet relevant | D29: ='Bron data'!H141&"" | E29: =IF('Bron data'!I141="","",'Bron data'!I141) | F29: =IF('Bron data'!J141="","",'Bron data'!J141) | G29: =IF(AND(N(E29)>0,N(F29)>0),"Direct + binnen contract",IF(N(E29)>0,"Direct vervangen",IF(N(F29)>0,"Binnen contract vervangen",IF(F29="ntb","Binnen contract – nog te bepalen",IF(AND(E29="",F29=""),"n.v.t.","Geen vervanging gepland"))))) -> n.v.t.
A30: =TRIM('Bron data'!E138) -> Chromebooks | B30: =IF('Bron data'!F138="","",'Bron data'!F138) -> 135 | C30: ='Bron data'!G138&"" -> Niet relevant | D30: ='Bron data'!H138&"" | E30: =IF('Bron data'!I138="","",'Bron data'!I138) | F30: =IF('Bron data'!J138="","",'Bron data'!J138) | G30: =IF(AND(N(E30)>0,N(F30)>0),"Direct + binnen contract",IF(N(E30)>0,"Direct vervangen",IF(N(F30)>0,"Binnen contract vervangen",IF(F30="ntb","Binnen contract – nog te bepalen",IF(AND(E30="",F30=""),"n.v.t.","Geen vervanging gepland"))))) -> n.v.t.
A31: =TRIM('Bron data'!E30) -> Multifunctionals | B31: =IF('Bron data'!F30="","",'Bron data'!F30) -> 1 | C31: ='Bron data'!G30&"" -> Canon | D31: ='Bron data'!H30&"" | E31: =IF('Bron data'!I30="","",'Bron data'!I30) | F31: =IF('Bron data'!J30="","",'Bron data'!J30) | G31: =IF(AND(N(E31)>0,N(F31)>0),"Direct + binnen contract",IF(N(E31)>0,"Direct vervangen",IF(N(F31)>0,"Binnen contract vervangen",IF(F31="ntb","Binnen contract – nog te bepalen",IF(AND(E31="",F31=""),"n.v.t.","Geen vervanging gepland"))))) -> n.v.t.
A32: ='Bron data'!B65 -> De Ark | B32: ="BRIN "&'Bron data'!A65 -> BRIN 13TP00 | C32: =TRIM(SUBSTITUTE('Bron data'!C65,CHAR(160)," "))&", "&TRIM(SUBSTITUTE('Bron data'!D65,CHAR(160)," ")) -> Velserstraat 17, 2023 EA Haarlem | D32: =IFERROR("Leerlingen: "&_xlfn.XLOOKUP(A32,Leerlingaantallen!$A$2:$A$37,Leerlingaantallen!$B$2:$B$37),"") -> Leerlingen: 642
A33: =TRIM('Bron data'!E136) -> Switches 48p | B33: =IF('Bron data'!F136="","",'Bron data'!F136) -> 6 | C33: ='Bron data'!G136&"" -> HPE | D33: ='Bron data'!H136&"" | E33: =IF('Bron data'!I136="","",'Bron data'!I136) -> 2 | F33: =IF('Bron data'!J136="","",'Bron data'!J136) -> 0 | G33: =IF(AND(N(E33)>0,N(F33)>0),"Direct + binnen contract",IF(N(E33)>0,"Direct vervangen",IF(N(F33)>0,"Binnen contract vervangen",IF(F33="ntb","Binnen contract – nog te bepalen",IF(AND(E33="",F33=""),"n.v.t.","Geen vervanging gepland"))))) -> Direct vervangen
A34: =TRIM('Bron data'!E137) -> Switches POE 24p | B34: =IF('Bron data'!F137="","",'Bron data'!F137) -> 1 | C34: ='Bron data'!G137&"" -> HPE | D34: ='Bron data'!H137&"" | E34: =IF('Bron data'!I137="","",'Bron data'!I137) -> 1 | F34: =IF('Bron data'!J137="","",'Bron data'!J137) -> 0 | G34: =IF(AND(N(E34)>0,N(F34)>0),"Direct + binnen contract",IF(N(E34)>0,"Direct vervangen",IF(N(F34)>0,"Binnen contract vervangen",IF(F34="ntb","Binnen contract – nog te bepalen",IF(AND(E34="",F34=""),"n.v.t.","Geen vervanging gepland"))))) -> Direct vervangen
A35: =TRIM('Bron data'!E99) -> Router | B35: =IF('Bron data'!F99="","",'Bron data'!F99) -> 1 | C35: ='Bron data'!G99&"" -> Fortinet FortiGate 60E | D35: ='Bron data'!H99&"" | E35: =IF('Bron data'!I99="","",'Bron data'!I99) -> 1 | F35: =IF('Bron data'!J99="","",'Bron data'!J99) -> 0 | G35: =IF(AND(N(E35)>0,N(F35)>0),"Direct + binnen contract",IF(N(E35)>0,"Direct vervangen",IF(N(F35)>0,"Binnen contract vervangen",IF(F35="ntb","Binnen contract – nog te bepalen",IF(AND(E35="",F35=""),"n.v.t.","Geen vervanging gepland"))))) -> Direct vervangen
A36: =TRIM('Bron data'!E320) -> Access Points | B36: =IF('Bron data'!F320="","",'Bron data'!F320) -> 15 | C36: ='Bron data'!G320&"" -> Ruckus R510 | D36: ='Bron data'!H320&"" | E36: =IF('Bron data'!I320="","",'Bron data'!I320) -> 0 | F36: =IF('Bron data'!J320="","",'Bron data'!J320) -> 15 | G36: =IF(AND(N(E36)>0,N(F36)>0),"Direct + binnen contract",IF(N(E36)>0,"Direct vervangen",IF(N(F36)>0,"Binnen contract vervangen",IF(F36="ntb","Binnen contract – nog te bepalen",IF(AND(E36="",F36=""),"n.v.t.","Geen vervanging gepland"))))) -> Binnen contract vervangen
A37: =TRIM('Bron data'!E271) -> Digiborden incl. OPS | B37: =IF('Bron data'!F271="","",'Bron data'!F271) -> 23 | C37: ='Bron data'!G271&"" -> Niet relevant | D37: ='Bron data'!H271&"" | E37: =IF('Bron data'!I271="","",'Bron data'!I271) | F37: =IF('Bron data'!J271="","",'Bron data'!J271) | G37: =IF(AND(N(E37)>0,N(F37)>0),"Direct + binnen contract",IF(N(E37)>0,"Direct vervangen",IF(N(F37)>0,"Binnen contract vervangen",IF(F37="ntb","Binnen contract – nog te bepalen",IF(AND(E37="",F37=""),"n.v.t.","Geen vervanging gepland"))))) -> n.v.t.
A38: =TRIM('Bron data'!E273) -> Windows laptop/desktop | B38: =IF('Bron data'!F273="","",'Bron data'!F273) -> 35 | C38: ='Bron data'!G273&"" -> Niet relevant | D38: ='Bron data'!H273&"" | E38: =IF('Bron data'!I273="","",'Bron data'!I273) | F38: =IF('Bron data'!J273="","",'Bron data'!J273) | G38: =IF(AND(N(E38)>0,N(F38)>0),"Direct + binnen contract",IF(N(E38)>0,"Direct vervangen",IF(N(F38)>0,"Binnen contract vervangen",IF(F38="ntb","Binnen contract – nog te bepalen",IF(AND(E38="",F38=""),"n.v.t.","Geen vervanging gepland"))))) -> n.v.t.
A39: =TRIM('Bron data'!E270) -> Chromebooks | B39: =IF('Bron data'!F270="","",'Bron data'!F270) -> 542 | C39: ='Bron data'!G270&"" -> Niet relevant | D39: ='Bron data'!H270&"" | E39: =IF('Bron data'!I270="","",'Bron data'!I270) | F39: =IF('Bron data'!J270="","",'Bron data'!J270) | G39: =IF(AND(N(E39)>0,N(F39)>0),"Direct + binnen contract",IF(N(E39)>0,"Direct vervangen",IF(N(F39)>0,"Binnen contract vervangen",IF(F39="ntb","Binnen contract – nog te bepalen",IF(AND(E39="",F39=""),"n.v.t.","Geen vervanging gepland"))))) -> n.v.t.
A40: =TRIM('Bron data'!E65) -> Multifunctionals | B40: =IF('Bron data'!F65="","",'Bron data'!F65) -> 4 | C40: ='Bron data'!G65&"" -> Canon | D40: ='Bron data'!H65&"" | E40: =IF('Bron data'!I65="","",'Bron data'!I65) | F40: =IF('Bron data'!J65="","",'Bron data'!J65) | G40: =IF(AND(N(E40)>0,N(F40)>0),"Direct + binnen contract",IF(N(E40)>0,"Direct vervangen",IF(N(F40)>0,"Binnen contract vervangen",IF(F40="ntb","Binnen contract – nog te bepalen",IF(AND(E40="",F40=""),"n.v.t.","Geen vervanging gepland"))))) -> n.v.t.
...

Sheet Adalbertus
A1: Schoolnaam | B1: Sint Adalbertus
C2: Aantal | D2: merk / type | E2: Opmerking | F2: Direct vervangen | G2: Binnen contract vervangen
A3: Sint Adalbertus | B3: Patchkasten | C3: 1 | F3: 0 | G3: 0
A4: Sint Adalbertus | B4: Switches 24p | C4: 1 | D4: Aruba | F4: 0 | G4: 0
A5: Sint Adalbertus | B5: Switches 48p | C5: 0 | F5: 0 | G5: 0
A6: Sint Adalbertus | B6: Switches POE 24p | C6: 1 | D6: Ubiquiti UniFi | F6: 0 | G6: 1
A7: Sint Adalbertus | B7: Switches POE 48p | C7: 1 | D7: Aruba | F7: 0 | G7: 0
A8: Sint Adalbertus | B8: Access Points | C8: 13 | D8: Ruckus R350 | F8: 0 | G8: ntb
A9: Sint Adalbertus | B9: Router | C9: 1 | D9: Fortinet FortiGate 60E | F9: 1 | G9: 0
A10: Sint Adalbertus | B10: Digiborden incl. OPS | C10: 12
A11: Sint Adalbertus | B11: Windows laptop/desktop | C11: 12
A12: Sint Adalbertus | B12: Chromebooks | C12: 157
A13: Sint Adalbertus | B13: Multifunctionals | C13: 2
A14: Sint Adalbertus | B14: aantal leerlingen 1-2-2026 | C14: 257

Sheet Ark
A1: Schoolnaam | B1: De Ark
C3: Aantal | D3: merk / type | E3: Opmerking | F3: Direct vervangen | G3: Binnen contract vervangen
A4: De Ark | B4: Patchkasten | C4: 1 | F4: 0 | G4: 0
A5: De Ark | B5: Switches 24p | C5: 0 | F5: 0 | G5: 0
A6: De Ark | B6: Switches 48p | C6: 6 | D6: HPE | F6: 2 | G6: 0
A7: De Ark | B7: Switches POE 24p | C7: 1 | D7: HPE | F7: 1 | G7: 0
A8: De Ark | B8: Switches POE 48p | C8: 0 | F8: 0 | G8: 0
A9: De Ark | B9: Access Points | C9: 15 | D9: Ruckus R510 | F9: 0 | G9: 15
A10: De Ark | B10: Router | C10: 1 | D10: Fortinet FortiGate 60E | F10: 1 | G10: 0
A11: De Ark | B11: Digiborden incl. OPS | C11: 23
A12: De Ark | B12: Windows laptop/desktop | C12: 35
A13: De Ark | B13: Chromebooks | C13: 542
A14: De Ark | B14: Multifunctionals | C14: 4
A15: De Ark | B15: aantal leerlingen 1-2-2026 | C15: 642

Sheet Bavinck
A1: Schoolnaam | B1: De Bavinck
C3: Aantal | D3: merk / type | E3: Opmerking | F3: Direct vervangen | G3: Binnen contract vervangen
A4: De Bavinck | B4: Patchkasten | C4: 2 | F4: 0 | G4: 0
A5: De Bavinck DEP | B5: Switches 24p | C5: 1 | D5: HPE | E5: DEP | F5: 1 | G5: 0
A6: De Bavinck | B6: Switches 48p | C6: 1 | D6: Zyxel | F6: 1 | G6: 0
A7: De Bavinck | B7: Switches POE 8p | C7: 1 | D7: Zyxel | F7: 1 | G7: 0
A8: De Bavinck | B8: Switches POE 24p | C8: 1 | D8: Zyxel | F8: 1 | G8: 0
A9: De Bavinck | B9: Switches POE 48p | C9: 0 | F9: 0 | G9: 0
A10: De Bavinck | B10: Access Points | C10: 12 | D10: Ruckus R510 | F10: 0 | G10: 12
A11: De Bavinck DEP | B11: Access Points | C11: 1 | D11: Ruckus R510 | F11: 0 | G11: 1
A12: De Bavinck | B12: Router | C12: 1 | D12: Fortinet FortiGate 60F | F12: 0 | G12: 0
A13: De Bavinck DEP | B13: Router | C13: 1 | D13: Fortinet FortiGate 60F | E13: DEP | F13: 0 | G13: 0
A14: De Bavinck | B14: Digiborden incl. OPS | C14: 21
A15: De Bavinck | B15: Windows laptop/desktop | C15: 37
A16: De Bavinck | B16: Chromebooks | C16: 210
A17: De Bavinck | B17: Multifunctionals | C17: 3
A18: De Bavinck | B18: aantal leerlingen 1-2-2026 | C18: 377

Sheet BavoJena
A1: Schoolnaam | B1: Bavo Jenaplanschool
C3: Aantal | D3: merk / type | E3: Opmerking | F3: Direct vervangen | G3: Binnen contract vervangen
A4: Bavo Jenaplanschool | B4: Patchkasten | C4: 1 | F4: 0 | G4: 0
A5: Bavo Jenaplanschool | B5: Switches 24p | C5: 0 | F5: 0 | G5: 0
A6: Bavo Jenaplanschool | B6: Switches 48p | C6: 1 | D6: Aruba | F6: 0 | G6: 1
A7: Bavo Jenaplanschool | B7: Switches POE 8p | C7: 1 | D7: Ubiquiti UniFi | F7: 0 | G7: 0
A8: Bavo Jenaplanschool | B8: Switches POE 24p | C8: 1 | D8: Ubiquiti UniFi | F8: 1 | G8: 0
A9: Bavo Jenaplanschool | B9: Switches POE 48p | C9: 0 | F9: 0 | G9: 0
A10: Bavo Jenaplanschool | B10: Access Points | C10: 12 | D10: Ruckus R500 | F10: 0 | G10: 12
A11: Bavo Jenaplanschool | B11: Router | C11: 1 | D11: Fortinet FortiGate 60E | F11: 1 | G11: 0
A12: Bavo Jenaplanschool | B12: Digiborden incl. OPS | C12: 8
A13: Bavo Jenaplanschool | B13: Windows laptop/desktop | C13: 12
A14: Bavo Jenaplanschool | B14: Chromebooks | C14: 141
A15: Bavo Jenaplanschool | B15: Multifunctionals | C15: 1 | D15: Canon
A16: Bavo Jenaplanschool | B16: aantal leerlingen 1-2-2026 | C16: 182

Sheet BavoEem
A1: Schoolnaam | B1: Sint Bavo Eemstraat
C3: Aantal | D3: merk / type | E3: Opmerking | F3: Direct vervangen | G3: Binnen contract vervangen
A4: Sint Bavo Eemstraat | B4: Patchkasten | C4: 1 | F4: 0 | G4: 0
A5: Sint Bavo Eemstraat | B5: Switches 24p | C5: 4 | D5: Netgear | F5: 0 | G5: 0
A6: Sint Bavo Eemstraat | B6: Switches 48p | C6: 1 | D6: Cisco | F6: 1 | G6: 0
A7: Sint Bavo Eemstraat | B7: Switches POE 24p | C7: 1 | D7: HPE | F7: 0 | G7: 1
A8: Sint Bavo Eemstraat | B8: Switches POE 48p | C8: 0 | F8: 0 | G8: 0
A9: Sint Bavo Eemstraat | B9: Access Points | C9: 10 | D9: Ruckus R510 | F9: 0 | G9: 10
A10: Sint Bavo Eemstraat | B10: Router | C10: 1 | D10: Fortinet FortiGate 60F | F10: 0 | G10: 0
A11: Sint Bavo Eemstraat | B11: Digiborden incl. OPS | C11: 0
A12: Sint Bavo Eemstraat | B12: Windows laptop/desktop | C12: 16
A13: Sint Bavo Eemstraat | B13: Chromebooks | C13: 188
A14: Sint Bavo Eemstraat | B14: Multifunctionals | C14: 2
A15: Sint Bavo Eemstraat | B15: aantal leerlingen 1-2-2026 | C15: 164

Sheet BavoRevius
A1: Schoolnaam
C3: Aantal | D3: merk / type | E3: Opmerking | F3: Direct vervangen | G3: Binnen contract vervangen
A4: Sint Bavo Reviusstraat | B4: Patchkasten | C4: 1 | F4: 0 | G4: 0
A5: Sint Bavo Reviusstraat | B5: Switches 24p | C5: 0 | F5: 0 | G5: 0
A6: Sint Bavo Reviusstraat | B6: Switches 48p | C6: 1 | D6: Aruba | F6: 0 | G6: 0
A7: Sint Bavo Reviusstraat | B7: Switches POE 24p | C7: 1 | D7: Aruba | F7: 0 | G7: 0
A8: Sint Bavo Reviusstraat | B8: Switches POE 48p | C8: 0 | F8: 0 | G8: 0
A9: Sint Bavo Reviusstraat | B9: Access Points | C9: 9 | D9: Ruckus R550 | F9: 0 | G9: 0
A10: Sint Bavo Reviusstraat | B10: Router | C10: 1 | D10: Fortinet FortiGate 60F | F10: 0 | G10: 0
A11: Sint Bavo Reviusstraat | B11: Digiborden incl. OPS | C11: 0
A12: Sint Bavo Reviusstraat | B12: Windows laptop/desktop | C12: 34
A13: Sint Bavo Reviusstraat | B13: Chromebooks | C13: 200
A14: Sint Bavo Reviusstraat | B14: Multifunctionals | C14: 2
A15: Sint Bavo Reviusstraat | B15: aantal leerlingen 1-2-2026 | C15: 214

Sheet B&D
A1: Schoolnaam | B1: Bos en Duinschool
C3: Aantal | D3: merk / type | E3: Opmerking | F3: Direct vervangen | G3: Binnen contract vervangen
A4: Bos en Duinschool | B4: Patchkasten | C4: 1 | F4: 0 | G4: 0
A5: Bos en Duinschool | B5: Switches 24p | C5: 2 | D5: Zyxel | F5: 0 | G5: 1
A6: Bos en Duinschool | B6: Switches 48p | C6: 0 | F6: 0 | G6: 0
A7: Bos en Duinschool | B7: Switches POE 24p | C7: 1 | D7: Zyxel | F7: 0 | G7: ntb
A8: Bos en Duinschool | B8: Switches POE 48p | C8: 0 | F8: 0 | G8: 0
A9: Bos en Duinschool | B9: Access Points | C9: 9 | D9: Ruckus R550 | F9: 0 | G9: ntb
A10: Bos en Duinschool | B10: Router | C10: 1 | D10: Fortinet FortiGate 60E | F10: 1 | G10: 0
A11: Bos en Duinschool | B11: Digiborden incl. OPS | C11: 7
A12: Bos en Duinschool | B12: Windows laptop/desktop | C12: 13
A13: Bos en Duinschool | B13: Chromebooks | C13: 92
A14: Bos en Duinschool | B14: Multifunctionals | C14: 1
A15: Bos en Duinschool | B15: aantal leerlingen 1-2-2026 | C15: 116

Sheet B&H
A1: Schoolnaam | B1: Bosch en Hovenschool
A3: Aantal medewerkers
A4: Aantal leerlingen | B4: 209 | C4: Februari 2026 telling
C6: Aantal | D6: merk / type | E6: Opmerking | F6: Direct vervangen | G6: Binnen contract vervangen
A7: Bosch en Hovenschool | B7: Patchkasten | C7: 1 | F7: 0 | G7: 0
A8: Bosch en Hovenschool | B8: Switches 24p | C8: 0 | F8: 0 | G8: 0
A9: Bosch en Hovenschool | B9: Switches 48p | C9: 3 | D9: HPE | E9: nieuwbouw | F9: 0 | G9: 2
A10: Bosch en Hovenschool | B10: Switches POE 24p | C10: 1 | D10: HPE | E10: nieuwbouw | F10: 0 | G10: 1
A11: Bosch en Hovenschool | B11: Switches POE 48p | C11: 0 | F11: 0 | G11: 0
A12: Bosch en Hovenschool | B12: Access Points | C12: 9 | D12: Ruckus R510 | F12: 0 | G12: 9
A13: Bosch en Hovenschool | B13: Router | C13: 1 | D13: Fortinet FortiGate 60F | F13: 0 | G13: 0
A14: Bosch en Hovenschool | B14: Digiborden incl. OPS | C14: 0
A15: Bosch en Hovenschool | B15: Windows laptop/desktop | C15: 20
A16: Bosch en Hovenschool | B16: Chromebooks | C16: 135
A17: Bosch en Hovenschool | B17: Multifunctionals | C17: 1 | D17: Canon
A18: Bosch en Hovenschool | B18: aantal leerlingen 1-2-2026 | C18: 209

Sheet Beets
A1: Schoolnaam | B1: Nicolaas Beetsschool
A2: Adres
A3: Aantal medewerkers
A4: Aantal leerlingen | B4: 406 | C4: Februari 2026 telling
C6: Aantal | D6: merk / type | E6: Opmerking | F6: Direct vervangen | G6: Binnen contract vervangen
A7: Nicolaas Beetsschool | B7: Patchkasten | C7: 3 | F7: 0
A8: Nicolaas Beetsschool | B8: Switches 24p | C8: 1 | D8: Aruba | F8: 0 | G8: 0
A9: Nicolaas Beetsschool | B9: Switches 48p | C9: 2 | D9: Aruba | F9: 0 | G9: 0
A10: Nicolaas Beetsschool | B10: Switches POE 8p | C10: 3 | D10: Aruba | F10: 0 | G10: 0
A11: Nicolaas Beetsschool | B11: Switches POE 24p | C11: 0 | F11: 0 | G11: 0
A12: Nicolaas Beetsschool | B12: Switches POE 48p | C12: 0 | F12: 0 | G12: 0
A13: Nicolaas Beetsschool | B13: Access Points | C13: 12 | D13: Ruckus R550 | F13: 0 | G13: 0
A14: Nicolaas Beetsschool | B14: Router | C14: 1 | D14: Fortinet FortiGate 60F | F14: 0 | G14: 0
A15: Nicolaas Beetsschool | B15: Digiborden incl. OPS | C15: 0
A16: Nicolaas Beetsschool | B16: Windows laptop/desktop | C16: 31
A17: Nicolaas Beetsschool | B17: Chromebooks | C17: 196
A18: Nicolaas Beetsschool | B18: Multifunctionals | C18: 2 | D18: Canon
A19: Nicolaas Beetsschool | B19: Aantal leerlingen 1-2-2026 | C19: 406

Sheet Bernardus
A1: Schoolnaam | B1: Sint Bernardus
C2: Aantal | D2: merk / type | E2: Opmerking | F2: Direct vervangen | G2: Binnen contract vervangen
A3: Sint Bernardus | B3: Patchkasten | C3: 1 | F3: 0 | G3: 0
A4: Sint Bernardus | B4: Switches 24p | C4: 0 | F4: 0 | G4: 0
A5: Sint Bernardus | B5: Switches 48p | C5: 3 | D5: Netgear | F5: 2 | G5: 0
A6: Sint Bernardus | B6: Switches POE 8p | C6: 2 | D6: DrayTek | F6: 0 | G6: 0
A7: Sint Bernardus | B7: Switches POE 8p | C7: 2 | D7: HPE | F7: 0 | G7: ntb
A8: Sint Bernardus | B8: Switches POE 24p | C8: 0 | F8: 0 | G8: 0
A9: Sint Bernardus | B9: Switches POE 48p | C9: 0 | F9: 0 | G9: 0
A10: Sint Bernardus | B10: Access Points | C10: 14 | D10: Ruckus R550 | F10: 0 | G10: ntb
A11: Sint Bernardus | B11: Router | C11: 1 | D11: Fortinet FortiGate 60E | F11: 1 | G11: 0
A12: Sint Bernardus | B12: Digiborden incl. OPS | C12: 18
A13: Sint Bernardus | B13: Windows laptop/desktop | C13: 20
A14: Sint Bernardus | B14: Chromebooks | C14: 302
A15: Sint Bernardus | B15: Multifunctionals | C15: 2
A16: Sint Bernardus | B16: aantal leerlingen 1-2-2026 | C16: 414

Sheet Dreef
A1: Schoolnaam
C3: Aantal | D3: merk / type | E3: Opmerking | F3: Direct vervangen | G3: Binnen contract vervangen
A4: Dreefschool | B4: Patchkasten | C4: 1 | F4: 0 | G4: 0
A5: Dreefschool DEP | B5: Patchkasten | C5: 1 | F5: 0 | G5: 0
A6: Dreefschool | B6: Switches 24p | C6: 1 | D6: Zyxel | F6: 0 | G6: 1
A7: Dreefschool DEP | B7: Switches 24p | C7: 0 | F7: 0 | G7: 0
A8: Dreefschool | B8: Switches 48p | C8: 1 | D8: Zyxel | F8: 1 | G8: 0
A9: Dreefschool DEP | B9: Switches 48p | C9: 2 | D9: Zyxel | F9: 2 | G9: 0
A10: Dreefschool | B10: Switches 8p | C10: 1 | D10: Cisco | F10: 0 | G10: 0
A11: Dreefschool DEP | B11: Switches POE 24p | C11: 0 | F11: 0 | G11: 0
A12: Dreefschool | B12: Switches POE 24p | C12: 1 | D12: Zyxel | F12: 1 | G12: 0
A13: Dreefschool | B13: Switches POE 48p | C13: 0 | F13: 0 | G13: 0
A14: Dreefschool | B14: Access Points | C14: 7 | D14: Ruckus R510 | F14: 0 | G14: 7
A15: Dreefschool DEP | B15: Access Points | C15: 7 | D15: Ruckus R510 | F15: 0 | G15: 7
A16: Dreefschool | B16: Router | C16: 1 | D16: Fortinet FortiGate 60E | F16: 1 | G16: 0
A17: Dreefschool DEP | B17: Router | C17: 1 | D17: Fortinet FortiGate 60E | F17: 1 | G17: 0
A18: Dreefschool | B18: Digiborden incl. OPS | C18: 15
A19: Dreefschool | B19: Windows laptop/desktop | C19: 43
A20: Dreefschool | B20: Chromebooks | C20: 302
A21: Dreefschool | B21: Multifunctionals | C21: 2
A22: Dreefschool | B22: aantal leerlingen 1-2-2026 | C22: 447

Sheet DonBosco
A1: Schoolnaam | B1: Don Bosco
C2: Aantal | D2: merk / type | E2: Opmerking | F2: Direct vervangen | G2: Binnen contract vervangen
A3: Don Bosco | B3: Patchkasten | C3: 1 | F3: 0 | G3: 0
A4: Don Bosco | B4: Switches 24p | C4: 2 | D4: Netgear | F4: 2 | G4: 0
A5: Don Bosco | B5: Switches 48p | C5: 0 | F5: 0 | G5: 0
A6: Don Bosco | B6: Switches POE 24p | C6: 1 | D6: HPE | F6: 0 | G6: 0
A7: Don Bosco | B7: Switches POE 48p | C7: 0 | F7: 0 | G7: 0
A8: Don Bosco | B8: Access Points | C8: 12 | D8: Ruckus R550 | F8: 0 | G8: ntb
A9: Don Bosco | B9: Router | C9: 1 | D9: Fortinet FortiGate 60E | F9: 1 | G9: 0
A10: Don Bosco | B10: Digiborden incl. OPS | C10: 12
A11: Don Bosco | B11: Windows laptop/desktop | C11: 6
A12: Don Bosco | B12: Chromebooks | C12: 231
A13: Don Bosco | B13: Multifunctionals | C13: 1
A14: Don Bosco | B14: aantal leerlingen 1-2-2026 | C14: 160

Sheet Huibers
A1: Schoolnaam
C3: Aantal | D3: merk / type | E3: Opmerking | F3: Direct vervangen | G3: Binnen contract vervangen
A4: Huibers | B4: Patchkasten | C4: 1 | F4: 0 | G4: 0
A5: Huibers | B5: Switches 24p | C5: 0 | F5: 0 | G5: 0
A6: Huibers | B6: Switches 48p | C6: 1 | D6: Aruba | F6: 0 | G6: 0
A7: Huibers | B7: Switches POE 8p | C7: 1 | D7: HPE | F7: 0 | G7: 0
A8: Huibers | B8: Switches POE 24p | C8: 1 | D8: Aruba | F8: 0 | G8: 0
A9: Huibers | B9: Switches POE 48p | C9: 0 | F9: 0 | G9: 0
A10: Huibers | B10: Access Points | C10: 13 | D10: Ruckus R550 | F10: 0 | G10: 0
A11: Huibers | B11: Router | C11: 1 | D11: Fortinet FortiGate 60E | F11: 1 | G11: 0
A12: Huibers | B12: Digiborden incl. OPS | C12: 8
A13: Huibers | B13: Windows laptop/desktop | C13: 23
A14: Huibers | B14: Chromebooks | C14: 145
A15: Huibers | B15: Multifunctionals | C15: 1 | D15: Canon
A16: Huibers | B16: aantal leerlingen 1-2-2026 | C16: 167

Sheet FX
A1: Schoolnaam
C3: Aantal | D3: merk / type | E3: Opmerking | F3: Direct vervangen | G3: Binnen contract vervangen
A4: FX | B4: Patchkasten | C4: 1 | F4: 0 | G4: 0
A5: FX | B5: Switches 24p | C5: 1 | D5: Aruba | F5: 1 | G5: 0
A6: FX | B6: Switches 24p | C6: 1 | D6: Netgear | F6: 1 | G6: 0
A7: FX | B7: Switches 48p | C7: 0 | F7: 0 | G7: 0
A8: FX | B8: Switches POE 24p | C8: 1 | D8: Ubiquiti UniFi | F8: 1 | G8: 0
A9: FX | B9: Switches POE 48p | C9: 0 | F9: 0 | G9: 0
A10: FX | B10: Access Points | C10: 9 | D10: Ruckus R350 | F10: 0 | G10: ntb
A11: FX | B11: Router | C11: 1 | D11: Fortinet FortiGate 60E | F11: 1 | G11: 0
A12: FX | B12: Digiborden incl. OPS | C12: 10
A13: FX | B13: Windows laptop/desktop | C13: 25
A14: FX | B14: Chromebooks | C14: 199
A15: FX | B15: Multifunctionals | C15: 1 | D15: Canon
A16: FX | B16: aantal leerlingen 1-2-2026 | C16: 221

Sheet ISH
A1: Schoolnaam | B1: Internationalschool Haarlem
A2: Adres
A3: Aantal medewerkers | C3: Februari 2026 telling
A4: Aantal leerlingen | B4: 242 | C4: primary!
C6: Aantal | D6: merk / type | E6: Opmerking | F6: Direct vervangen | G6: Binnen contract vervangen
A7: Internationalschool Haarlem | B7: Patchkasten
A8: Internationalschool Haarlem | B8: Switches 24p | C8: 2 | D8: HPE | F8: 2
A9: Internationalschool Haarlem | B9: Switches 48p
A10: Internationalschool Haarlem | B10: Switches POE 8p | C10: 2 | D10: Ubiquiti UniFi
A11: Internationalschool Haarlem | B11: Switches POE 24p | C11: 2 | D11: HPE | F11: 1
A12: Internationalschool Haarlem | B12: Switches POE 24p | C12: 1 | D12: Cisco | F12: 1
A13: Internationalschool Haarlem | B13: Switches POE 48p
A14: Internationalschool Haarlem | B14: Access Points | C14: 15 | D14: Ruckus R510 | G14: 15
A15: Internationalschool Haarlem | B15: Router | C15: 2 | D15: Fortinet FortiGate 60E | F15: 2
A16: Internationalschool Haarlem | B16: Digiborden incl. OPS | C16: 0
A17: Internationalschool Haarlem | B17: Windows laptop/desktop | C17: 9
A18: Internationalschool Haarlem | B18: Chromebooks | C18: 84
A19: Internationalschool Haarlem | B19: Multifunctionals | C19: 2
A20: Internationalschool Haarlem | B20: aantal leerlingen 1-2-2026 | C20: 242
C24: Aantal | D24: merk / type | E24: Opmerking | F24: Direct vervangen | G24: Binnen contract vervangen
A25: Internationalschool Haarlem secondary | B25: Patchkasten | C25: 2
A26: Internationalschool Haarlem secondary | B26: Switches 24p
A27: Internationalschool Haarlem secondary | B27: Switches 48p | C27: 3 | D27: Aruba | G27: ntb
A28: Internationalschool Haarlem secondary | B28: Switches POE 8p | C28: 1 | D28: Ruckus | G28: ntb
A29: Internationalschool Haarlem secondary | B29: Switches POE 24p | C29: 1 | D29: HPE | G29: ntb
A30: Internationalschool Haarlem secondary | B30: Switches POE 24p | C30: 1 | D30: Aruba | G30: ntb
A31: Internationalschool Haarlem secondary | B31: Switches POE 48p | C31: 1 | D31: Aruba | G31: ntb
A32: Internationalschool Haarlem secondary | B32: Access Points | C32: 20 | D32: Ruckus R550 | G32: 0
A33: Internationalschool Haarlem secondary | B33: Router | C33: 1 | D33: Fortinet FortiGate 60F | G33: 0
A34: Internationalschool Haarlem secondary | B34: Digiborden incl. OPS | C34: 0
A35: Internationalschool Haarlem secondary | B35: Windows laptop/desktop | C35: 5
A36: Internationalschool Haarlem secondary | B36: Chromebooks | C36: 5
A37: Internationalschool Haarlem secondary | B37: Multifunctionals | C37: 2 | D37: Canon
A38: Internationalschool Haarlem secondary | B38: aantal leerlingen 1-2-2026 | C38: 302

Sheet ITK
A1: Schoolnaam
C3: Aantal | D3: merk / type | E3: Opmerking | F3: Direct vervangen | G3: Binnen contract vervangen
A4: ITK | B4: Patchkasten | C4: 3 | F4: 0 | G4: 0
A5: ITK | B5: Switches 24p | C5: 1 | D5: Netgear | F5: 0 | G5: 0
A6: ITK Noodunit | B6: Switches 24p | C6: 1 | D6: FS.com | F6: 0 | G6: ntb
A7: ITK | B7: Switches 48p | C7: 1 | D7: Aruba | F7: 0 | G7: 0
A8: ITK | B8: Switches 48p | C8: 2 | D8: Netgear | F8: 1 | G8: 0
A9: ITK | B9: Switches POE 8p | C9: 1 | D9: Ubiquiti UniFi | F9: 0 | G9: 0
A10: ITK | B10: Switches POE 24p | C10: 1 | D10: Aruba | F10: 0 | G10: 0
A11: ITK Noodunit | B11: Switches POE 24p | C11: 2 | D11: FS.com | F11: 0 | G11: ntb
A12: ITK | B12: Switches POE 48p | F12: 0 | G12: 0
A13: ITK | B13: Access Points | C13: 10 | D13: Ruckus R350 | F13: 0 | G13: ntb
A14: ITK Noodunit | B14: Access Points | C14: 14 | D14: Ruckus R550 | F14: 0 | G14: ntb
A15: ITK | B15: Router | C15: 1 | D15: Fortinet FortiGate 60E | F15: 1 | G15: 0
A16: ITK | B16: Digiborden incl. OPS | C16: 22
A17: ITK | B17: Windows laptop/desktop | C17: 53
A18: ITK | B18: Chromebooks | C18: 113
A19: ITK | B19: Multifunctionals | C19: 3 | D19: Canon
A20: ITK | B20: aantal leerlingen 1-2-2026 | C20: 235

Sheet KES
A1: Schoolnaam | B1: Koningin Emmaschool
C2: Aantal | D2: merk / type | E2: Opmerking | F2: Direct vervangen | G2: Binnen contract vervangen
A3: Koningin Emmaschool | B3: Patchkasten | C3: 1 | F3: 0 | G3: 0
A4: Koningin Emmaschool | B4: Switches 24p | C4: 0 | F4: 0 | G4: 0
A5: Koningin Emmaschool | B5: Switches 48p | C5: 3 | D5: HPE | F5: 2 | G5: 0
A6: Koningin Emmaschool | B6: Switches POE 24p | C6: 1 | D6: Zyxel | F6: 1 | G6: 0
A7: Koningin Emmaschool | B7: Switches POE 24p | C7: 1 | D7: FS.com | F7: 1 | G7: 0
A8: Koningin Emmaschool | B8: Switches POE 48p | C8: 0 | F8: 0 | G8: 0
A9: Koningin Emmaschool | B9: Access Points | C9: 15 | D9: Ruckus R510 | F9: 0 | G9: 15
A10: Koningin Emmaschool | B10: Router | C10: 1 | D10: Fortinet FortiGate 60E | F10: 1 | G10: 0
A11: Koningin Emmaschool | B11: Digiborden incl. OPS | C11: 1
A12: Koningin Emmaschool | B12: Windows laptop/desktop | C12: 28
A13: Koningin Emmaschool | B13: Chromebooks | C13: 265
A14: Koningin Emmaschool | B14: Multifunctionals | C14: 2
A15: Koningin Emmaschool | B15: aantal leerlingen 1-2-2026 | C15: 453

Sheet KWS
A1: Schoolnaam | B1: Koningin Wilhelminaschool
A2: Adres
A3: Aantal medewerkers
A4: Aantal leerlingen | B4: 176 | C4: Februari 2026 telling
C6: Aantal | D6: merk / type | E6: Opmerking | F6: Direct vervangen | G6: Binnen contract vervangen
A7: Koningin Wilhelminaschool | B7: Patchkasten | C7: 1
A8: Koningin Wilhelminaschool | B8: Switches 8p | C8: 0
A9: Koningin Wilhelminaschool | B9: Switches 24p | C9: 0
A10: Koningin Wilhelminaschool | B10: Switches 48p | C10: 1 | D10: Zyxel | F10: 0 | G10: 1
A11: Koningin Wilhelminaschool | B11: Switches POE 8p | C11: 4 | D11: Zyxel | G11: 4
A12: Koningin Wilhelminaschool | B12: Switches POE 24p | C12: 0 | F12: 0 | G12: 0
A13: Koningin Wilhelminaschool | B13: Switches POE 48p | C13: 0
A14: Koningin Wilhelminaschool | B14: Access Points | C14: 7 | D14: Ruckus R510 | G14: 7
A15: Koningin Wilhelminaschool | B15: Router | C15: 1 | D15: Zyxel ZyWALL 110 | F15: 1 | G15: 0
A16: Koningin Wilhelminaschool
A17: Koningin Wilhelminaschool | B17: Digiborden incl. OPS | C17: 5
A18: Koningin Wilhelminaschool | B18: Windows laptop/desktop | C18: 11
A19: Koningin Wilhelminaschool | B19: Chromebooks | C19: 107
A20: Koningin Wilhelminaschool | B20: Multifunctionals | C20: 1 | D20: Canon
A21: Koningin Wilhelminaschool | B21: Aantal leerlingen 1-2-2026 | C21: 176

Sheet Liduina
A1: Schoolnaam
C3: Aantal | D3: merk / type | E3: Opmerking | F3: Direct vervangen | G3: Binnen contract vervangen
A4: Liduinaschool | B4: Patchkasten | C4: 1 | F4: 0 | G4: 0
A5: Liduinaschool | B5: Switches 24p | C5: 0 | F5: 0 | G5: 0
A6: Liduinaschool | B6: Switches 48p | C6: 1 | D6: Aruba | F6: 0 | G6: 0
A7: Liduinaschool | B7: Switches POE 24p | C7: 1 | D7: Aruba | F7: 0 | G7: 0
A8: Liduinaschool | B8: Switches POE 48p | C8: 0 | F8: 0 | G8: 0
A9: Liduinaschool | B9: Access Points | C9: 8 | D9: Ruckus R550 | F9: 0 | G9: 0
A10: Liduinaschool | B10: Access Points | C10: 3 | D10: Ruckus R350 | F10: 0 | G10: 0
A11: Liduinaschool | B11: Router | C11: 1 | D11: Fortinet FortiGate 60F | F11: 0 | G11: 0
A12: Liduinaschool | B12: Digiborden incl. OPS | C12: 0
A13: Liduinaschool | B13: Windows laptop/desktop | C13: 29
A14: Liduinaschool | B14: Chromebooks | C14: 128
A15: Liduinaschool | B15: Multifunctionals | C15: 2 | D15: Canon
A16: Liduinaschool | B16: aantal leerlingen 1-2-2026 | C16: 187

Sheet Meer
A1: Schoolnaam
C3: Aantal | D3: merk / type | E3: Opmerking | F3: Direct vervangen | G3: Binnen contract vervangen
A4: De Meer | B4: Patchkasten | C4: 1 | F4: 0 | G4: 0
A5: De Meer | B5: Switches 24p | F5: 0 | G5: 0
A6: De Meer | B6: Switches 48p | C6: 1 | D6: Onbekend | F6: 0 | G6: ntb
A7: De Meer | B7: Switches POE 8p | C7: 2 | D7: Ubiquiti UniFi | F7: 0 | G7: 2
A8: De Meer | B8: Switches POE 24p | C8: 0 | F8: 0 | G8: 0
A9: De Meer | B9: Switches POE 48p | C9: 0 | F9: 0 | G9: 0
A10: De Meer | B10: Access Points | C10: 8 | D10: Ruckus R350 | F10: 0 | G10: ntb
A11: De Meer | B11: Router | C11: 1 | D11: Fortinet FortiGate 60E | F11: 1 | G11: 0
A12: De Meer | B12: Digiborden incl. OPS | C12: 2
A13: De Meer | B13: Windows laptop/desktop | C13: 29
A14: De Meer | B14: Chromebooks | C14: 226
A15: De Meer | B15: Multifunctionals | C15: 1 | D15: Canon
A16: De Meer | B16: aantal leerlingen 1-2-2026 | C16: 201

Sheet ONS
A1: Schoolnaam
C3: Aantal | D3: merk / type | E3: Opmerking | F3: Direct vervangen | G3: Binnen contract vervangen
A4: ONS | B4: Patchkasten | C4: 2 | F4: 0 | G4: 0
A5: ONS | B5: Switches 24p | C5: 1 | D5: HPE | F5: 0 | G5: 0
A6: ONS | B6: Switches 24p | C6: 3 | D6: Zyxel | F6: 0 | G6: 0
A7: ONS | B7: Switches 48p | C7: 1 | D7: Edgecore | F7: 2 | G7: 0
A8: ONS | B8: Switches POE 24p | C8: 1 | D8: Aruba | F8: 0 | G8: ntb
A9: ONS | B9: Switches POE 48p | C9: 0 | F9: 0 | G9: 0
A10: ONS | B10: Access Points | C10: 12 | D10: Ruckus R550 | F10: 0 | G10: ntb
A11: ONS | B11: Router | C11: 1 | D11: Fortinet FortiGate 60F | F11: 0 | G11: 0
A12: ONS | B12: Digiborden incl. OPS | C12: 1
A13: ONS | B13: Windows laptop/desktop | C13: 47
A14: ONS | B14: Chromebooks | C14: 334
A15: ONS | B15: Multifunctionals | C15: 1 | D15: Canon
A16: ONS | B16: aantal leerlingen 1-2-2026 | C16: 360

Sheet Pantarijn
A1: Schoolnaam
C3: Aantal | D3: merk / type | E3: Opmerking | F3: Direct vervangen | G3: Binnen contract vervangen
A4: Pantarijn | B4: Patchkasten | C4: 1 | F4: 0 | G4: 0
A5: Pantarijn | B5: Switches 24p | C5: 0 | F5: 0 | G5: 0
A6: Pantarijn | B6: Switches 48p | C6: 1 | D6: Aruba | F6: 0 | G6: ntb
A7: Pantarijn | B7: Switches POE 24p | C7: 1 | D7: Ubiquiti UniFi | F7: 1 | G7: 0
A8: Pantarijn | B8: Switches POE 48p | C8: 0 | F8: 0 | G8: 0
A9: Pantarijn | B9: Access Points | C9: 9 | D9: Ruckus R550 | F9: 0 | G9: ntb
A10: Pantarijn | B10: Router | C10: 1 | D10: Fortinet FortiGate 60E | F10: 1 | G10: 0
A11: Pantarijn | B11: Digiborden incl. OPS | C11: 11
A12: Pantarijn | B12: Windows laptop/desktop | C12: 8
A13: Pantarijn | B13: Chromebooks | C13: 200
A14: Pantarijn | B14: Multifunctionals | C14: 1 | D14: Canon
A15: Pantarijn | B15: aantal leerlingen 1-2-2026 | C15: 158

Sheet PBS
A1: Schoolnaam
C3: Aantal | D3: merk / type | E3: Opmerking | F3: Direct vervangen | G3: Binnen contract vervangen
A4: PBS | B4: Patchkasten | C4: 1 | F4: 0 | G4: 0
A5: PBS | B5: Switches 24p | C5: 1 | D5: Zyxel | E5: ivm nieuwbouw | F5: 0 | G5: 1
A6: PBS | B6: Switches 48p | C6: 2 | D6: Zyxel | E6: ivm nieuwbouw | F6: 0 | G6: 1
A7: PBS | B7: Switches POE 24p | C7: 1 | D7: Zyxel | E7: ivm nieuwbouw | F7: 0 | G7: 1
A8: PBS | B8: Switches POE 48p | C8: 0 | F8: 0 | G8: 0
A9: PBS | B9: Access Points | C9: 9 | D9: Ruckus R510 | F9: 0 | G9: 9
A10: PBS | B10: Router | C10: 1 | D10: Fortinet FortiGate 60E | E10: ivm nieuwbouw | F10: 0 | G10: 1
A11: PBS | B11: Digiborden incl. OPS | C11: 1
A12: PBS | B12: Windows laptop/desktop | C12: 22
A13: PBS | B13: Chromebooks | C13: 219
A14: PBS | B14: Multifunctionals | C14: 2 | D14: Canon
A15: PBS | B15: aantal leerlingen 1-2-2026 | C15: 301

Sheet Schelp
A1: Schoolnaam
C3: Aantal | D3: merk / type | E3: Opmerking | F3: Direct vervangen | G3: Binnen contract vervangen
A4: De Schelp | B4: Patchkasten | C4: 1 | F4: 0 | G4: 0
A5: De Schelp | B5: Switches 24p | C5: 1 | D5: Netgear | F5: 0 | G5: 0
A6: De Schelp | B6: Switches 48p | C6: 2 | D6: Aruba | F6: 0 | G6: ntb
A7: De Schelp | B7: Switches POE 8p | C7: 2 | D7: DrayTek | F7: 0 | G7: 0
A8: De Schelp | B8: Switches POE 8p | C8: 3 | D8: Ubiquiti UniFi | F8: 0 | G8: 0
A9: De Schelp | B9: Switches POE 24p | C9: 1 | D9: Ubiquiti UniFi | F9: 1 | G9: 0
A10: De Schelp | B10: Switches POE 48p | C10: 0 | F10: 0 | G10: 0
A11: De Schelp | B11: Access Points | C11: 13 | D11: Ruckus R350 | F11: 0 | G11: ntb
A12: De Schelp | B12: Router | C12: 1 | D12: Fortinet FortiGate 60E | F12: 1 | G12: 0
A13: De Schelp | B13: Digiborden incl. OPS | C13: 12
A14: De Schelp | B14: Windows laptop/desktop | C14: 96
A15: De Schelp | B15: Chromebooks | C15: 33
A16: De Schelp | B16: Multifunctionals | C16: 2
A17: De Schelp | B17: aantal leerlingen 1-2-2026 | C17: 139

Sheet Schoterbos
A1: Schoolnaam | B1: Schoterbos
C3: Aantal | D3: merk / type | E3: Opmerking | F3: Direct vervangen | G3: Binnen contract vervangen
A4: Schoterbos Trapeze | B4: Patchkasten | C4: 1 | F4: 0 | G4: 0
A5: Schoterbos Gunning | B5: Patchkasten | C5: 1 | F5: 0 | G5: 0
A6: Schoterbos Trapeze | B6: Switches 24p | C6: 2 | D6: Zyxel | F6: 0 | G6: 1
A7: Schoterbos Trapeze | B7: Switches 48p | C7: 1 | D7: Aruba | F7: 0 | G7: ntb
A8: Schoterbos Gunning | B8: Switches POE 8p | C8: 1 | D8: Ubiquiti UniFi | F8: 0 | G8: 0
A9: Schoterbos Trapeze | B9: Switches POE 8p | C9: 1 | D9: Cisco | F9: 0 | G9: 0
A10: Schoterbos Gunning | B10: Switches POE 24p | C10: 1 | D10: Aruba | F10: 0 | G10: ntb
A11: Schoterbos Trapeze | B11: Switches POE 24p | C11: 0 | F11: 0 | G11: 0
A12: Schoterbos Gunning | B12: Access Points | C12: 7 | D12: Ruckus R550 | F12: 0 | G12: ntb
A13: Schoterbos Trapeze | B13: Access Points | C13: 14 | D13: Ruckus R510 | F13: 0 | G13: 14
A14: Schoterbos Trapeze | B14: Router | C14: 1 | D14: Fortinet FortiGate 60E | F14: 1 | G14: 0
A15: Schoterbos Gunning | B15: Router | C15: 1 | D15: Fortinet FortiGate 50E | F15: 1 | G15: 0
A16: Schoterbos | B16: Digiborden incl. OPS | C16: 1 | E16: ="Naar rato leerlingen: Trapeze "&'Bron data'!F169&", Gunning "&'Bron data'!F172 -> Naar rato leerlingen: Trapeze 1, Gunning 0
A17: Schoterbos | B17: Windows laptop/desktop | C17: 49 | E17: ="Naar rato leerlingen: Trapeze "&'Bron data'!F170&", Gunning "&'Bron data'!F173 -> Naar rato leerlingen: Trapeze 32, Gunning 17
A18: Schoterbos | B18: Chromebooks | C18: 217 | E18: ="Naar rato leerlingen: Trapeze "&'Bron data'!F168&", Gunning "&'Bron data'!F171 -> Naar rato leerlingen: Trapeze 143, Gunning 74
A19: Schoterbos Trapeze | B19: Multifunctionals | C19: 2
A20: Schoterbos Gunning | B20: Multifunctionals | C20: 1
A21: Schoterbos | B21: aantal leerlingen 1-2-2026 | C21: 252

Sheet Talenten
A1: Schoolnaam
C3: Aantal | D3: merk / type | E3: Opmerking | F3: Direct vervangen | G3: Binnen contract vervangen
A4: Talenten | B4: Patchkasten | C4: 1 | F4: 0 | G4: 0
A5: Talenten | B5: Switches 24p | C5: 0 | F5: 0 | G5: 0
A6: Talenten | B6: Switches 48p | C6: 1 | D6: HPE | E6: in tijdelijke huisvesting | F6: 1 | G6: 0
A7: Talenten | B7: Switches POE 8p | C7: 1 | D7: Ubiquiti UniFi | F7: 1 | G7: 0
A8: Talenten | B8: Switches POE 24p | C8: 0 | E8: in tijdelijke huisvesting | F8: 0 | G8: 0
A9: Talenten | B9: Switches POE 48p | C9: 0 | F9: 0 | G9: 0
A10: Talenten | B10: Access Points | C10: 6 | D10: Ruckus R350 | E10: in tijdelijke huisvesting | F10: 0 | G10: ntb
A11: Talenten | B11: Router | C11: 1 | D11: Fortinet FortiGate 60E | E11: in tijdelijke huisvesting | F11: 1 | G11: 0
A12: Talenten | B12: Digiborden incl. OPS | C12: 8
A13: Talenten | B13: Windows laptop/desktop | C13: 3
A14: Talenten | B14: Chromebooks | C14: 138
A15: Talenten | B15: Multifunctionals | C15: 1 | D15: Canon
A16: Talenten | B16: aantal leerlingen 1-2-2026 | C16: 171

Sheet TWijsHQ
A1: Schoolnaam | B1: TWijs Services
C3: Aantal | D3: merk / type | E3: Opmerking | F3: Direct vervangen | G3: Binnen contract vervangen
A4: TWijs Services | B4: Patchkasten | C4: 1 | F4: 0 | G4: 0
A5: TWijs Services | B5: Switches 24p | C5: 2 | D5: Zyxel | F5: 2 | G5: 0
A6: TWijs Services | B6: Switches 48p | C6: 0 | F6: 0 | G6: 0
A7: TWijs Services | B7: Switches POE 24p | C7: 2 | D7: HPE | F7: 0 | G7: 1
A8: TWijs Services | B8: Switches POE 48p | C8: 0 | F8: 0 | G8: 0
A9: TWijs Services | B9: Access Points | C9: 9 | D9: Ruckus R510 | F9: 0 | G9: 9
A10: TWijs Services | B10: Router | C10: 1 | D10: Fortinet FortiGate 60E | F10: 1 | G10: 0
A11: TWijs Services | B11: Digiborden incl. OPS | C11: 0
A12: TWijs Services | B12: Windows laptop/desktop | C12: 46
A13: TWijs Services | B13: Chromebooks | C13: 0
A14: TWijs Services | B14: Multifunctionals | C14: 2 | D14: Canon

Sheet Tijo
A1: Schoolnaam
C3: Aantal | D3: merk / type | E3: Opmerking | F3: Direct vervangen | G3: Binnen contract vervangen
A4: Tijo van Eeghenschool | B4: Patchkasten | C4: 1 | F4: 0 | G4: 0
A5: Tijo van Eeghenschool | B5: Switches 24p | C5: 1 | D5: HPE | F5: 0 | G5: 0
A6: Tijo van Eeghenschool | B6: Switches 48p | C6: 1 | D6: HPE | F6: 1 | G6: 0
A7: Tijo van Eeghenschool | B7: Switches POE 24p | C7: 1 | D7: Aruba | F7: 0 | G7: ntb
A8: Tijo van Eeghenschool | B8: Switches POE 48p | C8: 0 | F8: 0 | G8: 0
A9: Tijo van Eeghenschool | B9: Access Points | C9: 10 | D9: Ruckus R550 | F9: 0 | G9: ntb
A10: Tijo van Eeghenschool | B10: Router | C10: 1 | D10: Fortinet FortiGate 60E | F10: 1 | G10: 0
A11: Tijo van Eeghenschool | B11: Digiborden incl. OPS | C11: 7
A12: Tijo van Eeghenschool | B12: Windows laptop/desktop | C12: 27
A13: Tijo van Eeghenschool | B13: Chromebooks | C13: 124
A14: Tijo van Eeghenschool | B14: Multifunctionals | C14: 1 | D14: Canon
A15: Tijo van Eeghenschool | B15: aantal leerlingen 1-2-2026 | C15: 207

Sheet Valeo
A1: Schoolnaam
C2: Aantal | D2: merk / type | E2: Opmerking | F2: Direct vervangen | G2: Binnen contract vervangen
A3: IKC Valeo | B3: Patchkasten | C3: 1 | F3: 0 | G3: 0
A4: IKC Valeo | B4: Switches 24p | C4: 0 | F4: 0 | G4: 0
A5: IKC Valeo | B5: Switches 48p | C5: 2 | D5: Zyxel | F5: 0 | G5: 1
A6: IKC Valeo | B6: Switches POE 24p | C6: 1 | D6: Zyxel | F6: 0 | G6: 1
A7: IKC Valeo | B7: Switches POE 48p | C7: 0 | F7: 0 | G7: 0
A8: IKC Valeo | B8: Access Points | C8: 7 | D8: Ruckus R550 | F8: 0 | G8: ntb
A9: IKC Valeo | B9: Router | C9: 1 | D9: Fortinet FortiGate 60E | E9: ivm nieuwbouw | F9: 0 | G9: 1
A10: IKC Valeo | B10: Digiborden incl. OPS | C10: 12
A11: IKC Valeo | B11: Windows laptop/desktop | C11: 30
A12: IKC Valeo | B12: Chromebooks | C12: 246
A13: IKC Valeo | B13: Multifunctionals | C13: 3 | D13: Canon
A14: IKC Valeo | B14: aantal leerlingen 1-2-2026 | C14: 250

Sheet Verbeelding
A1: Schoolnaam
C3: Aantal | D3: merk / type | E3: Opmerking | F3: Direct vervangen | G3: Binnen contract vervangen
A4: Verbeelding | B4: Patchkasten | C4: 2 | F4: 0 | G4: 0
A5: Verbeelding | B5: Switches 24p | C5: 0 | F5: 0 | G5: 0
A6: Verbeelding | B6: Switches 48p | C6: 0 | F6: 0 | G6: 0
A7: Verbeelding | B7: Switches POE 8p | C7: 1 | D7: Cisco | F7: 0 | G7: 0
A8: Verbeelding | B8: Switches POE 24p | C8: 1 | D8: Aruba | F8: 0 | G8: ntb
A9: Verbeelding DEP | B9: Switches POE 24p | C9: 1 | D9: FS.com | F9: 0 | G9: ntb
A10: Verbeelding | B10: Switches POE 48p | C10: 0 | F10: 0 | G10: 0
A11: Verbeelding DEP | B11: Access Points | C11: 3 | D11: Ruckus R550 | F11: 0 | G11: ntb
A12: Verbeelding | B12: Access Points | C12: 5 | D12: Ruckus R550 | F12: 0 | G12: ntb
A13: Verbeelding | B13: Router | C13: 1 | D13: Fortinet FortiGate 60E | F13: 1 | G13: 0
A14: Verbeelding DEP | B14: Router | C14: 1 | D14: Fortinet FortiGate 60F | F14: 0 | G14: 0
A15: Verbeelding | B15: Digiborden incl. OPS | C15: 8
A16: Verbeelding | B16: Windows laptop/desktop | C16: 14
A17: Verbeelding | B17: Chromebooks | C17: 193
A18: Verbeelding | B18: Multifunctionals | C18: 2 | D18: Canon
A19: Verbeelding | B19: aantal leerlingen 1-2-2026 | C19: 193

Sheet Veronica
A1: Schoolnaam
C3: Aantal | D3: merk / type | E3: Opmerking | F3: Direct vervangen | G3: Binnen contract vervangen
A4: Veronicaschool | B4: Patchkasten | C4: 1 | F4: 0 | G4: 0
A5: Veronicaschool | B5: Switches 24p | C5: 1 | D5: Onbekend | F5: 0 | G5: 0
A6: Veronicaschool | B6: Switches 48p | C6: 1 | D6: Onbekend | F6: 0 | G6: ntb
A7: Veronicaschool | B7: Switches POE 24p | C7: 1 | D7: FS.com | F7: 0 | G7: ntb
A8: Veronicaschool | B8: Switches POE 48p | C8: 0 | F8: 0 | G8: 0
A9: Veronicaschool | B9: Access Points | C9: 10 | D9: Ruckus R350 | F9: 0 | G9: ntb
A10: Veronicaschool | B10: Router | C10: 1 | D10: Fortinet FortiGate 60E | F10: 1 | G10: 0
A11: Veronicaschool | B11: Digiborden incl. OPS | C11: 11
A12: Veronicaschool | B12: Windows laptop/desktop | C12: 27
A13: Veronicaschool | B13: Chromebooks | C13: 157
A14: Veronicaschool | B14: Multifunctionals | C14: 1 | D14: Canon
A15: Veronicaschool | B15: aantal leerlingen 1-2-2026 | C15: 236

Sheet Werkschuit
A1: Schoolnaam
C3: Aantal | D3: merk / type | E3: Opmerking | F3: Direct vervangen | G3: Binnen contract vervangen
A4: Werkschuit | B4: Patchkasten | C4: 1 | F4: 0 | G4: 0
A5: Werkschuit | B5: Switches 24p | C5: 0 | F5: 0 | G5: 0
A6: Werkschuit | B6: Switches 48p | C6: 2 | D6: Zyxel | F6: 0 | G6: ntb
A7: Werkschuit | B7: Switches POE 24p | C7: 1 | D7: Edgecore | F7: 0 | G7: 1
A8: Werkschuit | B8: Switches POE 48p | C8: 0 | F8: 0 | G8: 0
A9: Werkschuit | B9: Access Points | C9: 8 | D9: Ruckus R510 | F9: 0 | G9: 8
A10: Werkschuit | B10: Router | C10: 1 | D10: Fortinet FortiGate 60E | F10: 1 | G10: 0
A11: Werkschuit | B11: Digiborden incl. OPS | C11: 7
A12: Werkschuit | B12: Windows laptop/desktop | C12: 19
A13: Werkschuit | B13: Chromebooks | C13: 156
A14: Werkschuit | B14: Multifunctionals | C14: 2
A15: Werkschuit | B15: aantal leerlingen 1-2-2026 | C15: 207

Sheet Willink
A1: Schoolnaam
C3: Aantal | D3: merk / type | E3: Opmerking | F3: Direct vervangen | G3: Binnen contract vervangen
A4: Willinkschool | B4: Patchkasten | C4: 2 | F4: 0 | G4: 0
A5: Willinkschool | B5: Switches 24p | C5: 2 | D5: Zyxel | F5: 0 | G5: 1
A6: Willinkschool | B6: Switches 48p | C6: 1 | D6: Zyxel | F6: 0 | G6: 1
A7: Willinkschool | B7: Switches POE 24p | C7: 1 | D7: Aruba | F7: 0 | G7: ntb
A8: Willinkschool | B8: Switches POE 48p | C8: 0 | F8: 0 | G8: 0
A9: Willinkschool | B9: Access Points | C9: 5 | D9: Ruckus R550 | F9: 0 | G9: ntb
A10: Willinkschool | B10: Router | C10: 1 | D10: Fortinet FortiGate 60E | F10: 1 | G10: 0
A11: Willinkschool | B11: Digiborden incl. OPS | C11: 0
A12: Willinkschool | B12: Windows laptop/desktop | C12: 15
A13: Willinkschool | B13: Chromebooks | C13: 103
A14: Willinkschool | B14: Multifunctionals | C14: 2 | D14: Canon
A15: Willinkschool | B15: aantal leerlingen 1-2-2026 | C15: 183

Sheet WvO
A1: Schoolnaam
C3: Aantal | D3: merk / type | E3: Opmerking | F3: Direct vervangen | G3: Binnen contract vervangen
A4: Willem van Oranjeschool | B4: Patchkasten | C4: 1
A5: Willem van Oranjeschool | B5: Switches 24p | C5: 1 | D5: Zyxel | F5: 0 | G5: 0
A6: Willem van Oranjeschool | B6: Switches 48p | C6: 1 | D6: Zyxel | F6: 0 | G6: 1
A7: Willem van Oranjeschool | B7: Switches POE 24p | C7: 1 | D7: Zyxel | F7: 0 | G7: 1
A8: Willem van Oranjeschool | B8: Switches POE 48p | C8: 0 | F8: 0 | G8: 0
A9: Willem van Oranjeschool | B9: Access Points | C9: 7 | D9: Ruckus R510 | F9: 0 | G9: 7
A10: Willem van Oranjeschool | B10: Router | C10: 1 | D10: Fortinet FortiGate 60E | F10: 1 | G10: 0
A11: Willem van Oranjeschool | B11: Digiborden incl. OPS | C11: 0
A12: Willem van Oranjeschool | B12: Windows laptop/desktop | C12: 13
A13: Willem van Oranjeschool | B13: Chromebooks | C13: 228
A14: Willem van Oranjeschool | B14: Multifunctionals | C14: 2
A15: Willem van Oranjeschool | B15: aantal leerlingen 1-2-2026 | C15: 194

Sheet Zaanen
A1: Schoolnaam
C2: Aantal | D2: merk / type | E2: Opmerking | F2: Direct vervangen | G2: Binnen contract vervangen
A3: Zaanenschool | B3: Patchkasten | C3: 1 | F3: 0 | G3: 0
A4: Zaanenschool | B4: Switches 24p | C4: 0 | F4: 0 | G4: 0
A5: Zaanenschool | B5: Switches 48p | C5: 1 | D5: Aruba | F5: 0 | G5: 0
A6: Zaanenschool | B6: Switches POE 24p | C6: 1 | D6: Aruba | F6: 0 | G6: 0
A7: Zaanenschool | B7: Switches POE 48p | C7: 0 | F7: 0 | G7: 0
A8: Zaanenschool | B8: Access Points | C8: 7 | D8: Ruckus R550 | F8: 0 | G8: 0
A9: Zaanenschool | B9: Access Points | C9: 1 | D9: Ruckus R350 | F9: 0 | G9: 0
A10: Zaanenschool | B10: Router | C10: 1 | D10: Fortinet FortiGate 60F | F10: 0 | G10: 0
A11: Zaanenschool | B11: Digiborden incl. OPS | C11: 3
A12: Zaanenschool | B12: Windows laptop/desktop | C12: 8
A13: Zaanenschool | B13: Chromebooks | C13: 130
A14: Zaanenschool | B14: Multifunctionals | C14: 1 | D14: Canon
A15: Zaanenschool | B15: aantal leerlingen 1-2-2026 | C15: 140

Sheet Scholenlijst
A3: Rijlabels | B3: Schoolnaam | C3: Adres | D3: Postcode/plaats
A4: 04OH00 | B4: Koningin Wilhelminaschool | C4: Dompvloedslaan 114 | D4: 2051 NG Overveen
A5: 05BC00 | B5: Sint Adalbertus | C5: Claes van Kietenstraat 2-4 | D5: 2064 XT Spaarndam
A6: 05MD00 | B6: Tijo van Eeghenschool | C6: Van Lennepweg 2 | D6: 2111 HV Aerdenhout
A7: 07XG00 | B7: Willinkschool | C7: Rijksstraatweg 89 | D7: 2121 AD Bennebroek
A8: 08QH00 | B8: Bos en Duinschool | C8: Bos en Duinlaan 1 A | D8: 2061 VM Bloemendaal
A9: 09QN00 | B9: De Schelp | C9: Nieuwe Landstraat 12 | D9: 2021 DE Haarlem
A10: 11CF00 | B10: Prinses Beatrixschool | C10: Von Brücken Focklaan 2 | D10: 2102 XC Heemstede
A11: 11CF01 | B11: Bosch en Hovenschool | C11: Adriaan Pauwlaan 19 | D11: 2101 AJ Heemstede
A12: 11OX00 | B12: Nicolaas Beetsschool | C12: Sportparklaan 3 | D12: 2103 VR Heemstede
A13: 12BV00 | B13: IKC Valeo | C13: Floris van Adrichemlaan 102 | D13: 2035 VD Haarlem
A14: 12KZ00 | B14: De Meer | C14: Erasmuslaan 1 | D14: 2037 LA Haarlem
... A41: 19UF01 | B41: Zaanenschool | C41: Junoplantsoen 30 | D41: 2024 RR Haarlem
A42: (leeg) | B42: TWijs Services
A43: 01LZ01 | B43: Internationalschool Haarlem secondary | C43: Junoplantsoen 58 | D43: 2024 RS Haarlem
A44: 13KT03 | B44: Internationalschool Haarlem | C44: Schreveliusstraat 27 | D44: 2014 XP Haarlem
A45: Eindtotaal

Sheet Draaitabel overzicht
A3: Rijlabels | B3: merk / type | C3: Som van Aantal | D3: Som van Direct vervangen | E3: Som van Binnen contract vervangen
A4: Access Points | B4: Ruckus R500 | C4: 12 | D4: 0 | E4: 12
