Workbook
Name administratie: #REF!
Name AFDRUKBEREIK_MI: #REF!
Name afschr: #REF!
Name Alg: #REF!
Name Auto: #REF!
Name basisuurlonenjeugd: [1]Basisgegevens!$B$6:$C$12
Name basisuurlonenVakvolwassenen: [1]Basisgegevens!$E$6:$F$13
Name Calculatietarief: #REF!
Name Calculatietarief: #REF!
Name Calculatietarief: #REF!
Name Contactvoorkeuren: [2]Blad2!$J$31:$J$32
Name dag: #REF!
Name Dagen: #REF!
Name Dagen: #REF!
Name Dagen: #REF!
Name Def_kosten_pjaar: #REF!
Name Def_kosten_pjaar: #REF!
Name Def_kosten_pjaar: #REF!
Name Def_Uren_pjaar: #REF!
Name Def_Uren_pjaar: #REF!
Name Def_Uren_pjaar: #REF!
Name Ervaringsjarentoeslag: [1]Basisgegevens!$H$6:$I$12
Name Extra_dienstverl.: #REF!
Name Extra_dienstverl.: #REF!
Name Extra_dienstverl.: #REF!
Name ExtraSanitair: #REF!
Name ExtraSanitair: #REF!
Name ExtraSanitair: #REF!
Name FeestdagenFT: [1]Basisgegevens!$I$24
Name FeestdagenPT: [1]Basisgegevens!$F$24
Name Flotex: #REF!
Name Flotex: #REF!
Name Flotex: #REF!
Name Flotex_reinigen: #REF!
Name Flotex_reinigen: #REF!
Name Flotex_reinigen: #REF!
Name franchisealgemeen: [1]Basisgegevens!$I$53
Name franchiseww: [1]Basisgegevens!$I$48
Name Gebouw: #REF!
Name Gebouw: #REF!
Name Gebouw: #REF!
Name Index_2016: #REF!
Name Index_2016: #REF!
Name Index_2016: #REF!
Name Index_2017: #REF!
Name Index_2017: #REF!
Name Index_2017: #REF!
Name Index_2018: #REF!
Name Index_2018: #REF!
Name Index_2018: #REF!
Name Index_2019: #REF!
Name Index_2019: #REF!
Name Index_2019: #REF!
Name Index_2020: #REF!
Name Index_2020: #REF!
Name Index_2020: #REF!
Name Invulblad: [3]Invulblad!$A$9:$H$47
Name KengCode: [4]Kengetal!$A$4:$F$28
Name Kleding: #REF!
Name Kosten_perjaar: #REF!

Sheet Instructieblad
A1: Calculatiebestand
A2: Dit calculatiebestand bestaat uit een instructieblad, het totaalblad, ruimtestaat en het regieoverzicht. Uitleg bij het invullen van het calculatiebestand:
A3: Alle kosten dienen te worden opgegeven exclusief btw.
A4: Voor schoonmaak geldt: Er dient te worden uitgegaan van een integraal calculatie-uurtarief tarief waarin alle kosten, waaronder de kosten voor direct toezicht, administratieve werkzaamheden, suppletiekosten, investeringskosten, vervoerskosten, machines en overige additionele kosten zijn inbegrepen.
A5: Eenmalige bonussen of vergoedingen, worden niet in de beoordeling meegenomen. Manipulatief inschrijven of aanpassen van het prijsmodel leidt tot uitsluiting.
A6: Totaalblad | B6: De inschrijver vult de kosten in voor de verschillende onderdelen. Deze worden separaat weergegeven in het totaalblad. De kosten voor de regiewerkzaamheden hoeven niet te worden ingevoerd op het totaalblad.
A7: 1. Ruimtestaat | B7: De totale jaarprijs voor de reguliere schoonmaak wordt berekend door de vermenigvuldiging van de gecalculeerde productie-uren op jaarbasis met het opgegeven uurtarief. Inschrijver vult de oranje kolommen in. De calculatie dient gebaseerd te zijn op frequentie zoals per ruimte is aangegeven in het ruimtebestand, kolom I. Indien er geen m2 in onderhoud zijn weergegeven dan behoeven deze ook niet gecalculeerd te worden. De leverancier dient een inschatting te maken van de suppletiekosten. Er kunnen geen additionele kosten gefactureerd worden.
A8: 2. Regiewerkzaamheden | B8: Overzicht kosten afroepprijzen. De leverancier dient eenheidsprijzen op te geven voor werkzaamheden die de opdrachtgever gedurende de contractperiode kan laten uitvoeren. De inschrijver dient de eenheidsprijzen (in staffel) op te geven. In de tarieven dienen alle kosten te zijn verdisconteerd.

Sheet Totaalblad
A1: Totaalblad
A2: Calculatiesheet totaalblad Gemeente Oss
B3: Locatie | C3: Adres | D3: Postcode | E3: Plaats | F3: M² vloeropp. | G3: Uren op jaarbasis | H3: Kosten schoonmaak op jaarbasis
A4: 1 | B4: Gymzaal Gabriel | C4: Gerrit van de Veenstraat 22 | D4: 5348 RD | E4: Oss | F4: =SUMIF('1. Ruimtestaat'!$B:$B,Totaalblad!B4,'1. Ruimtestaat'!$F:$F) -> 405 | G4: =SUMIFS('1. Ruimtestaat'!$M:$M,'1. Ruimtestaat'!$B:$B,$B4) -> 0 | H4: =SUMIFS('1. Ruimtestaat'!$N:$N,'1. Ruimtestaat'!$B:$B,$B4) -> 0
A5: 2 | B5: Gymzaal Hoefeind 1 en 2 | C5: Vlasakker 5 | D5: 5345 BC | E5: Oss | F5: =SUMIF('1. Ruimtestaat'!$B:$B,Totaalblad!B5,'1. Ruimtestaat'!$F:$F) -> 718 | G5: =SUMIFS('1. Ruimtestaat'!$M:$M,'1. Ruimtestaat'!$B:$B,$B5) -> 0 | H5: =SUMIFS('1. Ruimtestaat'!$N:$N,'1. Ruimtestaat'!$B:$B,$B5) -> 0
A6: 3 | B6: Gymzaal Ruwaard II | C6: Troelstrastraat 17 | D6: 5344 GK | E6: Oss | F6: =SUMIF('1. Ruimtestaat'!$B:$B,Totaalblad!B6,'1. Ruimtestaat'!$F:$F) -> 483 | G6: =SUMIFS('1. Ruimtestaat'!$M:$M,'1. Ruimtestaat'!$B:$B,$B6) -> 0 | H6: =SUMIFS('1. Ruimtestaat'!$N:$N,'1. Ruimtestaat'!$B:$B,$B6) -> 0
A7: 4 | B7: Gymzaal Verdistraat (in verbouwing) | C7: Verdistraat 79 | D7: 5343 VC | E7: Oss | F7: =SUMIF('1. Ruimtestaat'!$B:$B,Totaalblad!B7,'1. Ruimtestaat'!$F:$F) -> 461 | G7: =SUMIFS('1. Ruimtestaat'!$M:$M,'1. Ruimtestaat'!$B:$B,$B7) -> 0 | H7: =SUMIFS('1. Ruimtestaat'!$N:$N,'1. Ruimtestaat'!$B:$B,$B7) -> 0
A8: 5 | B8: Sporthal Den Hoge Graaf | C8: Hoge Graaf 13 | D8: 5371 DA | E8: Ravenstein | F8: =SUMIF('1. Ruimtestaat'!$B:$B,Totaalblad!B8,'1. Ruimtestaat'!$F:$F) -> 2234 | G8: =SUMIFS('1. Ruimtestaat'!$M:$M,'1. Ruimtestaat'!$B:$B,$B8) -> 0 | H8: =SUMIFS('1. Ruimtestaat'!$N:$N,'1. Ruimtestaat'!$B:$B,$B8) -> 0
A9: 6 | B9: Sportzaal De Zeuven Wilgen | C9: Zeuven Wilgenstraat 1 | D9: 5397 BR | E9: Lith | F9: =SUMIF('1. Ruimtestaat'!$B:$B,Totaalblad!B9,'1. Ruimtestaat'!$F:$F) -> 1123 | G9: =SUMIFS('1. Ruimtestaat'!$M:$M,'1. Ruimtestaat'!$B:$B,$B9) -> 0 | H9: =SUMIFS('1. Ruimtestaat'!$N:$N,'1. Ruimtestaat'!$B:$B,$B9) -> 0
A10: 7 | B10: Sporthal Mondriaan | C10: De Ruivert 3 | D10: 5342 CM | E10: Oss | F10: =SUMIF('1. Ruimtestaat'!$B:$B,Totaalblad!B10,'1. Ruimtestaat'!$F:$F) -> 1790 | G10: =SUMIFS('1. Ruimtestaat'!$M:$M,'1. Ruimtestaat'!$B:$B,$B10) -> 0 | H10: =SUMIFS('1. Ruimtestaat'!$N:$N,'1. Ruimtestaat'!$B:$B,$B10) -> 0
A11: 8 | B11: Sporthal De Ruivert | C11: De Ruivert 3 | D11: 5342 CM | E11: Oss | F11: =SUMIF('1. Ruimtestaat'!$B:$B,Totaalblad!B11,'1. Ruimtestaat'!$F:$F) -> 2797 | G11: =SUMIFS('1. Ruimtestaat'!$M:$M,'1. Ruimtestaat'!$B:$B,$B11) -> 0 | H11: =SUMIFS('1. Ruimtestaat'!$N:$N,'1. Ruimtestaat'!$B:$B,$B11) -> 0
A12: 9 | B12: Sporthal Rusheuvel | C12: Rusheuvelstraat 5 | D12: 5346 JH | E12: Oss | F12: =SUMIF('1. Ruimtestaat'!$B:$B,Totaalblad!B12,'1. Ruimtestaat'!$F:$F) -> 4694 | G12: =SUMIFS('1. Ruimtestaat'!$M:$M,'1. Ruimtestaat'!$B:$B,$B12) -> 0 | H12: =SUMIFS('1. Ruimtestaat'!$N:$N,'1. Ruimtestaat'!$B:$B,$B12) -> 0
A13: 10 | B13: Sportzaal Ussenstelt | C13: Looveltlaan 54 | D13: 5345 JJ | E13: Oss | F13: =SUMIF('1. Ruimtestaat'!$B:$B,Totaalblad!B13,'1. Ruimtestaat'!$F:$F) -> 1437 | G13: =SUMIFS('1. Ruimtestaat'!$M:$M,'1. Ruimtestaat'!$B:$B,$B13) -> 0 | H13: =SUMIFS('1. Ruimtestaat'!$N:$N,'1. Ruimtestaat'!$B:$B,$B13) -> 0
A14: 11 | B14: Gymzaal Staringstraat | C14: Staringstraat 8 | D14: 5344 GH | E14: Oss | F14: =SUMIF('1. Ruimtestaat'!$B:$B,Totaalblad!B14,'1. Ruimtestaat'!$F:$F) -> 452 | G14: =SUMIFS('1. Ruimtestaat'!$M:$M,'1. Ruimtestaat'!$B:$B,$B14) -> 0 | H14: =SUMIFS('1. Ruimtestaat'!$N:$N,'1. Ruimtestaat'!$B:$B,$B14) -> 0
A15: 12 | B15: Gymzaal Den Heuvel | C15: Maasdijk 44 | D15: 5366 AB | E15: Megen | F15: =SUMIF('1. Ruimtestaat'!$B:$B,Totaalblad!B15,'1. Ruimtestaat'!$F:$F) -> 665.186 | G15: =SUMIFS('1. Ruimtestaat'!$M:$M,'1. Ruimtestaat'!$B:$B,$B15) -> 0 | H15: =SUMIFS('1. Ruimtestaat'!$N:$N,'1. Ruimtestaat'!$B:$B,$B15) -> 0
... A19: 16 | B19: Sportzaal Schelversakker | C19: Schelversakker 3 | D19: 5351 AJ | E19: Oss | F19: =SUMIF('1. Ruimtestaat'!$B:$B,Totaalblad!B19,'1. Ruimtestaat'!$F:$F) -> 539.03 | G19: =SUMIFS('1. Ruimtestaat'!$M:$M,'1. Ruimtestaat'!$B:$B,$B19) -> 0 | H19: =SUMIFS('1. Ruimtestaat'!$N:$N,'1. Ruimtestaat'!$B:$B,$B19) -> 0
B20: TOTAAL | F20: =SUM(F4:F19) -> 20821.416 | G20: =SUM(G4:G19) -> 0 | H20: =SUM(H4:H19) -> 0
A22: Totaalkosten alle onderdelen per jaar exclusief btw | H22: =H20 -> 0
A23: Totaalkosten alle onderdelen per jaar inclusief btw | H23: =H22*1.21 -> 0

Sheet 1. Ruimtestaat
B1: 1. Ruimtestaat
A2: 2 | B2: Locatie | C2: Etage | D2: Ruimte omschrijving | E2: Categorie | F2: Oppervlakte m² in onderhoud | G2: Niet in onderhoud | H2: Vloerafwerking | I2: Werkprogramma | J2: Frequentie | K2: Prestatie m2/uur | L2: Uurtarief | M2: Uren per jaar | N2: Totaalkosten per jaar
A3: 3 | B3: Gymzaal Gabriel | C3: BG | D3: Garderobe | E3: Garderobe | F3: 19.5 | H3: PVC | I3: 3 | J3: 225 | M3: =IF(OR($F3="",$J3="",$K3=""),"",$F3*$J3/$K3) | N3: =IF(OR($L3="",$M3=""),"",$L3*$M3)
A4: 4 | B4: Gymzaal Gabriel | C4: BG | D4: Garderobe | E4: Garderobe | F4: 19.5 | H4: Steen | I4: 3 | J4: 225 | M4: =IF(OR($F4="",$J4="",$K4=""),"",$F4*$J4/$K4) | N4: =IF(OR($L4="",$M4=""),"",$L4*$M4)
A5: 5 | B5: Gymzaal Gabriel | C5: BG | D5: Docentenruimte | E5: Docentenruimte | F5: 5.5 | H5: PVC | I5: 6 | J5: 45 | M5: =IF(OR($F5="",$J5="",$K5=""),"",$F5*$J5/$K5) | N5: =IF(OR($L5="",$M5=""),"",$L5*$M5)
A6: 6 | B6: Gymzaal Gabriel | C6: BG | D6: Docentenruimte | E6: Docentenruimte | F6: 5.5 | H6: Steen | I6: 6 | J6: 45 | M6: =IF(OR($F6="",$J6="",$K6=""),"",$F6*$J6/$K6) | N6: =IF(OR($L6="",$M6=""),"",$L6*$M6)
A7: 7 | B7: Gymzaal Gabriel | C7: BG | D7: Kleedruimte | E7: Kleedkamer | F7: 32 | H7: PVC | I7: 8 | J7: 225 | M7: =IF(OR($F7="",$J7="",$K7=""),"",$F7*$J7/$K7) | N7: =IF(OR($L7="",$M7=""),"",$L7*$M7)
A8: 8 | B8: Gymzaal Gabriel | C8: BG | D8: Kleedruimte | E8: Kleedkamer | F8: 32 | H8: Steen | I8: 8 | J8: 225 | M8: =IF(OR($F8="",$J8="",$K8=""),"",$F8*$J8/$K8) | N8: =IF(OR($L8="",$M8=""),"",$L8*$M8)
A9: 9 | B9: Gymzaal Gabriel | C9: BG | D9: Gymzaal | E9: Gymzaal | F9: 200 | H9: Pulastic | I9: 5 | J9: 225 | M9: =IF(OR($F9="",$J9="",$K9=""),"",$F9*$J9/$K9) | N9: =IF(OR($L9="",$M9=""),"",$L9*$M9)
A10: 10 | B10: Gymzaal Gabriel | C10: BG | D10: Toestellenberging | E10: Berging | F10: 40 | H10: Pulastic | I10: 2 | J10: 45 | M10: =IF(OR($F10="",$J10="",$K10=""),"",$F10*$J10/$K10) | N10: =IF(OR($L10="",$M10=""),"",$L10*$M10)
A11: 11 | B11: Gymzaal Gabriel | C11: BG | D11: Toilet/- douche/- wasruimte | E11: Sanitair | F11: 25.5 | H11: PVC | I11: 8 | J11: 225 | M11: =IF(OR($F11="",$J11="",$K11=""),"",$F11*$J11/$K11) | N11: =IF(OR($L11="",$M11=""),"",$L11*$M11)
A12: 12 | B12: Gymzaal Gabriel | C12: BG | D12: Toilet/- douche/- wasruimte | E12: Sanitair | F12: 25.5 | H12: Steen | I12: 8 | J12: 225 | M12: =IF(OR($F12="",$J12="",$K12=""),"",$F12*$J12/$K12) | N12: =IF(OR($L12="",$M12=""),"",$L12*$M12)
A13: 13 | B13: Gymzaal Hoefeind 1 en 2 | C13: BG | D13: Verkeersruimte | E13: Verkeersruimte | F13: 32 | H13: Linoleum | I13: 4 | J13: 225 | M13: =IF(OR($F13="",$J13="",$K13=""),"",$F13*$J13/$K13) | N13: =IF(OR($L13="",$M13=""),"",$L13*$M13)
A14: 14 | B14: Gymzaal Hoefeind 1 en 2 | C14: BG | D14: Verkeersruimte | E14: Verkeersruimte | F14: 41.5 | H14: PVC | I14: 4 | J14: 225 | M14: =IF(OR($F14="",$J14="",$K14=""),"",$F14*$J14/$K14) | N14: =IF(OR($L14="",$M14=""),"",$L14*$M14)
... A217: 217 | B217: Gymzaal Grindlaan | C217: BG | D217: Toiletten | E217: Sanitair | F217: 2.4 | H217: Steen | I217: 8 | J217: 225 | M217: =IF(OR($F217="",$J217="",$K217=""),"",$F217*$J217/$K217) | N217: =IF(OR($L217="",$M217=""),"",$L217*$M217)
A218: 218 | B218: Gymzaal Grindlaan | C218: BG | D218: M.K. | E218: Berging | G218: 0.7 | I218: 2 | J218: 45 | M218: =IF(OR($F218="",$J218="",$K218=""),"",$F218*$J218/$K218) | N218: =IF(OR($L218="",$M218=""),"",$L218*$M218)
A219: 219 | B219: Gymzaal Grindlaan | C219: BG | D219: Gymzaal | E219: Gymzaal | F219: 182.3 | H219: Pulastic | I219: 5 | J219: 225 | M219: =IF(OR($F219="",$J219="",$K219=""),"",$F219*$J219/$K219) | N219: =IF(OR($L219="",$M219=""),"",$L219*$M219)
A220: 220 | B220: Gymzaal Grindlaan | C220: BG | D220: Gymzaal | E220: Gymzaal | F220: 138.3 | H220: Pulastic | I220: 5 | J220: 225 | M220: =IF(OR($F220="",$J220="",$K220=""),"",$F220*$J220/$K220) | N220: =IF(OR($L220="",$M220=""),"",$L220*$M220)
A221: 221 | B221: Gymzaal Grindlaan | C221: BG | D221: Toestelberging | E221: Berging | F221: 27.6 | H221: Pulastic | I221: 2 | J221: 45 | M221: =IF(OR($F221="",$J221="",$K221=""),"",$F221*$J221/$K221) | N221: =IF(OR($L221="",$M221=""),"",$L221*$M221)
A222: 222 | B222: Gymzaal Grindlaan | C222: BG | D222: Toestelberging | E222: Berging | F222: 21.2 | H222: Pulastic | I222: 2 | J222: 45 | M222: =IF(OR($F222="",$J222="",$K222=""),"",$F222*$J222/$K222) | N222: =IF(OR($L222="",$M222=""),"",$L222*$M222)
A223: 223 | B223: Gymzaal Grindlaan | C223: BG | D223: Overloop | E223: Verkeersruimte | F223: 11.7 | H223: pvc | I223: 4 | J223: 225 | M223: =IF(OR($F223="",$J223="",$K223=""),"",$F223*$J223/$K223) | N223: =IF(OR($L223="",$M223=""),"",$L223*$M223)
A224: 224 | B224: Gymzaal Grindlaan | C224: BG | D224: Gymzaal | E224: Gymzaal | F224: 57.6 | H224: Pulastic | I224: 5 | J224: 225 | M224: =IF(OR($F224="",$J224="",$K224=""),"",$F224*$J224/$K224) | N224: =IF(OR($L224="",$M224=""),"",$L224*$M224)
A225: 225 | B225: Sportzaal Schelversakker | C225: BG | D225: Berging onder de trap | E225: Berging | F225: 8.86 | H225: Beton | I225: 2 | J225: 45 | M225: =IF(OR($F225="",$J225="",$K225=""),"",$F225*$J225/$K225) | N225: =IF(OR($L225="",$M225=""),"",$L225*$M225)
A226: 226 | B226: Sportzaal Schelversakker | C226: BG | D226: Entree | E226: Entree | F226: 36.45 | H226: PVC | I226: 3 | J226: 225 | M226: =IF(OR($F226="",$J226="",$K226=""),"",$F226*$J226/$K226) | N226: =IF(OR($L226="",$M226=""),"",$L226*$M226)
A227: 227 | B227: Sportzaal Schelversakker | C227: BG | D227: MK | E227: Berging | G227: 1.2 | I227: 2 | J227: 45 | M227: =IF(OR($F227="",$J227="",$K227=""),"",$F227*$J227/$K227) | N227: =IF(OR($L227="",$M227=""),"",$L227*$M227)
A228: 228 | B228: Sportzaal Schelversakker | C228: BG | D228: Werkkast | E228: Berging | G228: 2.5 | I228: 2 | J228: 45 | M228: =IF(OR($F228="",$J228="",$K228=""),"",$F228*$J228/$K228) | N228: =IF(OR($L228="",$M228=""),"",$L228*$M228)
A229: 229 | B229: Sportzaal Schelversakker | C229: BG | D229: Toiletten | E229: Sanitair | F229: 5.41 | H229: Steen | I229: 8 | J229: 225 | M229: =IF(OR($F229="",$J229="",$K229=""),"",$F229*$J229/$K229) | N229: =IF(OR($L229="",$M229=""),"",$L229*$M229)
A230: 230 | B230: Sportzaal Schelversakker | C230: BG | D230: Miva+ Douche | E230: Sanitair | F230: 5.03 | H230: Steen | I230: 8 | J230: 225 | M230: =IF(OR($F230="",$J230="",$K230=""),"",$F230*$J230/$K230) | N230: =IF(OR($L230="",$M230=""),"",$L230*$M230)
A231: 231 | B231: Sportzaal Schelversakker | C231: BG | D231: Docenteruimten | E231: Docentenruimte | F231: 11.61 | H231: PVC | I231: 6 | J231: 45 | M231: =IF(OR($F231="",$J231="",$K231=""),"",$F231*$J231/$K231) | N231: =IF(OR($L231="",$M231=""),"",$L231*$M231)
A232: 232 | B232: Sportzaal Schelversakker | C232: BG | D232: Toestellenberging | E232: Berging | F232: 35.06 | H232: pulastic | I232: 2 | J232: 45 | M232: =IF(OR($F232="",$J232="",$K232=""),"",$F232*$J232/$K232) | N232: =IF(OR($L232="",$M232=""),"",$L232*$M232)
A233: 233 | B233: Sportzaal Schelversakker | C233: BG | D233: Kast | E233: Berging | G233: 5.1 | I233: 2 | J233: 45 | M233: =IF(OR($F233="",$J233="",$K233=""),"",$F233*$J233/$K233) | N233: =IF(OR($L233="",$M233=""),"",$L233*$M233)
A234: 234 | B234: Sportzaal Schelversakker | C234: BG | D234: Kleedruimte | E234: Kleedkamer | F234: 26.19 | H234: Steen | I234: 8 | J234: 225 | M234: =IF(OR($F234="",$J234="",$K234=""),"",$F234*$J234/$K234) | N234: =IF(OR($L234="",$M234=""),"",$L234*$M234)
A235: 235 | B235: Sportzaal Schelversakker | C235: BG | D235: Doucheruimte | E235: Sanitair | F235: 5.42 | H235: Steen | I235: 8 | J235: 225 | M235: =IF(OR($F235="",$J235="",$K235=""),"",$F235*$J235/$K235) | N235: =IF(OR($L235="",$M235=""),"",$L235*$M235)
A236: 236 | B236: Sportzaal Schelversakker | C236: BG | D236: Doucheruimte | E236: Sanitair | F236: 5.28 | H236: Steen | I236: 8 | J236: 225 | M236: =IF(OR($F236="",$J236="",$K236=""),"",$F236*$J236/$K236) | N236: =IF(OR($L236="",$M236=""),"",$L236*$M236)
A237: 237 | B237: Sportzaal Schelversakker | C237: BG | D237: Kleedruimte | E237: Kleedkamer | F237: 25.91 | H237: Steen | I237: 8 | J237: 225 | M237: =IF(OR($F237="",$J237="",$K237=""),"",$F237*$J237/$K237) | N237: =IF(OR($L237="",$M237=""),"",$L237*$M237)
A238: 238 | B238: Sportzaal Schelversakker | C238: BG | D238: Toestellenberging | E238: Berging | F238: 62.63 | H238: pulastic | I238: 2 | J238: 45 | M238: =IF(OR($F238="",$J238="",$K238=""),"",$F238*$J238/$K238) | N238: =IF(OR($L238="",$M238=""),"",$L238*$M238)
A239: 239 | B239: Sportzaal Schelversakker | C239: BG | D239: Gymzaal | E239: Gymzaal | F239: 311.18 | H239: pulastic | I239: 5 | J239: 225 | M239: =IF(OR($F239="",$J239="",$K239=""),"",$F239*$J239/$K239) | N239: =IF(OR($L239="",$M239=""),"",$L239*$M239)
A240: 103.1 | B240: Sporthal De Ruivert | C240: BG | D240: Entree | E240: Verkeersruimte | F240: 5 | H240: Steen | I240: 4 | J240: 225 | M240: =IF(OR($F240="",$J240="",$K240=""),"",$F240*$J240/$K240) | N240: =IF(OR($L240="",$M240=""),"",$L240*$M240)
A241: 119.1 | B241: Sporthal Rusheuvel | C241: BG | D241: Entree | E241: Verkeersruimte | F241: 5 | H241: Steen | I241: 4 | J241: 225 | M241: =IF(OR($F241="",$J241="",$K241=""),"",$F241*$J241/$K241) | N241: =IF(OR($L241="",$M241=""),"",$L241*$M241)
A242: 88.1 | B242: Sporthal Mondriaan | C242: BG | D242: Entree | E242: Verkeersruimte | F242: 5 | H242: Steen | I242: 4 | J242: 225 | M242: =IF(OR($F242="",$J242="",$K242=""),"",$F242*$J242/$K242) | N242: =IF(OR($L242="",$M242=""),"",$L242*$M242)

Sheet 2. Regiewerkzaamheden 
A1: 2. Regiewerkzaamheden
A3: Regie werkzaamheden worden op afroep aangevraagd.
A4: Werkzaamheden dienen als volgt te worden afgeprijsd: Prijs per stuk of prijs per m2 in de betreffende staffel.
A5: A. VLOERONDERHOUD | B5: tot 100 m2 | C5: 100 - 500 m2 | D5: Vanaf 500 m2 | E5: Totaal excl. Btw
A6: Diepreinigen (sproeiextractie) van tapijt | B6: 0 | C6: 0 | D6: 0 | E6: =SUM(B6:D6) -> 0
A7: Dieptereiningen (shamponeren) van tapijt | B7: 0 | C7: 0 | D7: 0 | E7: =SUM(B7:D7) -> 0
A8: Spotclean tapijt (vlekverwijderen en kauwgom) | B8: 0 | C8: 0 | D8: 0 | E8: =SUM(B8:D8) -> 0
A9: Stofzuigen harde vloeren | B9: 0 | C9: 0 | D9: 0 | E9: =SUM(B9:D9) -> 0
A10: Moppen van harde vloeren | B10: 0 | C10: 0 | D10: 0 | E10: =SUM(B10:D10) -> 0
A11: Schrobben van harde vloeren | B11: 0 | C11: 0 | D11: 0 | E11: =SUM(B11:D11) -> 0
A12: Reinigen trappen (beton) | B12: 0 | C12: 0 | D12: 0 | E12: =SUM(B12:D12) -> 0
A13: Opwrijven van harde vloeren | B13: 0 | C13: 0 | D13: 0 | E13: =SUM(B13:D13) -> 0
A14: Sprayen en opwrijven van linoleum | B14: 0 | C14: 0 | D14: 0 | E14: =SUM(B14:D14) -> 0
A15: Conserveren (topcoaten) van linoleum | B15: 0 | C15: 0 | D15: 0 | E15: =SUM(B15:D15) -> 0
A16: Conserveren (recoaten) van llnoleum | B16: 0 | C16: 0 | D16: 0 | E16: =SUM(B16:D16) -> 0
A17: Vegen buitenbestrating ruw steen/beton | B17: 0 | C17: 0 | D17: 0 | E17: =SUM(B17:D17) -> 0
... A22: Entree / Buitenterrein kauwgom verwijderen | B22: 0 | C22: 0 | D22: 0 | E22: =SUM(B22:D22) -> 0
A23: TOTAAL ONDERDEEL A | E23: =SUM(E6:E22) -> 0 | F23: maximale score: | G23: 6
A25: B. BINNENZONWERING | B25: tot 100 m2 | C25: 100 - 500 m2 | D25: Vanaf 500 m2 | E25: Totaal excl. btw
A26: Reinigen van horizontale lamellen | B26: 0 | C26: 0 | D26: 0 | E26: =SUM(B26:D26) -> 0
A27: Reinigen van verticale lamellen | B27: 0 | C27: 0 | D27: 0 | E27: =SUM(B27:D27) -> 0
A28: TOTAAL ONDERDEEL B | E28: =SUM(E26:E27) -> 0 | F28: maximale score: | G28: 2
A30: C. PLAFONDREINIGING | B30: tot 100 m2 | C30: 100 - 500 m2 | D30: Vanaf 500 m2 | E30: Totaal excl. btw
A31: Spinragverwijderen plafond, overkappingen en wanden | B31: 0 | C31: 0 | D31: 0 | E31: =SUM(B31:D31) -> 0
A32: PLAFONDREINIGING OVERIG | B32: tot 10 Stuks | C32: 10 - 50 stuks | D32: vanaf 50 stuks
A33: Luchtroosters buitenzijde reinigen | B33: 0 | C33: 0 | D33: 0 | E33: =SUM(B33:D33) -> 0
A34: TOTAAL ONDERDEEL C | E34: =SUM(E31:E31,E33) -> 0 | F34: maximale score: | G34: 2
A36: E. BOUW / OPLEVERING | B36: tot 100 m2 | C36: 100 - 500 m2 | D36: Vanaf 500 m2 | E36: Totaal excl. btw
A37: Bouwschoonmaak: Geheel reinigen binnenruimten en glas na (ver)bouw(ing) | B37: 0 | C37: 0 | D37: 0 | E37: =SUM(B37:D37) -> 0
A38: Oplevering schoonmaak: Geheel reinigen binnenruimten en glas na inrichting | B38: 0 | C38: 0 | D38: 0 | E38: =SUM(B38:D38) -> 0
A39: TOTAAL ONDERDEEL E | E39: =SUM(E37:E38) -> 0 | F39: maximale score: | G39: 2
A41: F. REGIETARIEVEN | B41: Door de week 06:00-21:30 u. | C41: Door de week 21:30-06:00 u. | D41: Vrijdag 21.30 - maandag 6.00 u. | E41: Totaal excl. btw
A42: Schoonmaakkracht | B42: 0 | C42: 0 | D42: 0 | E42: =SUM(B42:D42) -> 0
A43: Specialistisch | B43: 0 | C43: 0 | D43: 0 | E43: =SUM(B43:D43) -> 0
A44: Objectleiding | B44: 0 | C44: 0 | D44: 0 | E44: =SUM(B44:D44) -> 0
A45: TOTAAL ONDERDEEL F | E45: =SUM(E42:E44) -> 0 | F45: maximale score: | G45: 10
A47: G. INTERIEUR | B47: Tot 100 stuks | C47: 100 - 200 stuks | D47: vanaf 200 stuks | E47: Totaal excl. btw
A48: Reinigen stoelen (stoffen bekleding) | B48: 0 | C48: 0 | D48: 0 | E48: =SUM(B48:D48) -> 0
A49: Reinigen stoelen (o.a. hout, kunststof, leer) | B49: 0 | C49: 0 | D49: 0 | E49: =SUM(B49:D49) -> 0
A50: Reinigen banken (stoffen bekleding) | B50: 0 | C50: 0 | D50: 0 | E50: =SUM(B50:D50) -> 0
A51: Reinigen banken (o.a. hout, kunststof, leer) | B51: 0 | C51: 0 | D51: 0 | E51: =SUM(B51:D51) -> 0
A52: Reinigen lichtarmaturen | B52: 0 | C52: 0 | D52: 0 | E52: =SUM(B52:D52) -> 0
A53: TOTAAL ONDERDEEL G | E53: =SUM(E48:E52) -> 0 | F53: maximale score: | G53: 4
A55: H. SANITAIR, KEUKEN EN DIVERSEN | B55: tot 10 m2 | C55: 10 - 100 m2 | D55: vanaf 100 m2 | E55: Totaal excl. btw
A56: Extra toiletronde conform sanitair werkprogramma | B56: 0 | C56: 0 | D56: 0 | E56: =SUM(B56:D56) -> 0
A57: Dieptereiniging sanitair, inclusief demontage | B57: 0 | C57: 0 | D57: 0 | E57: =SUM(B57:D57) -> 0
A58: Dieptereiniging keuken, inclusief demontage | B58: 0 | C58: 0 | D58: 0 | E58: =SUM(B58:D58) -> 0
A59: TOTAAL ONDERDEEL H | E59: =SUM(E56:E58) -> 0 | F59: maximale score: | G59: 6
C61: TOTAAL MAXIMALE SCORE ALLE ONDERDELEN: | G61: =SUM(G23,G28,G34,G39,G45,G53,G59) -> 32
