Workbook
Name freq: '[1]sociale voorzieningen'!$B$6:$J$18
Name gemtarief: '[1]gemiddeld tarief'!$F$16:$G$27
Name kengetalDC: '[1]kengetal DC'!$A$10:$M$90
Name kengetaloverig: '[1]kengetal Overig'!$A$10:$M$41
Name keuken: '[1]kengetal DC'!$A$104:$E$104
Name naloopdc: '[1]kengetal DC'!$A$93:$E$101
Name naloopoverig: '[1]kengetal Overig'!$A$44:$E$52

Sheet Toelichting
A1: Naam tabblad | B1: Toelichting
A2: Algemeen | B2: Dit werkblad bevat meerdere berekeningen en functies. Indien u gebruik wenst te maken van de gegevens uit dit werkblad wordt aangeraden om te werken met een kopie. De bladen zijn niet beveiligd om u in gelegenheid te stellen uw eigen berekeningen in een kopie te hanteren. Echter in het up te loaden document dient de Inschrijver slechts de gevraagde cellen in te vullen en verder geen wijzigingen aan te brengen in gegevens of formules, zulks op risico van het ter zijde leggen door Aanbestedende Dienst van de Inschrijving.
A3: Algemeen | B3: De in het werkblad gehanteerde begrippen zijn in overeenstemming met die uit de Uitnodiging tot Inschrijving en geschreven met een begin hoofdletter. Voor een omschrijving van deze begrippen en definities wordt verwezen naar de Uitnodiging tot Inschrijving.
A4: Algemeen | B4: In navolgende cellen in kolom A staan onderstreept de namen van het tabblad. De namen bevatten een snelkoppeling. Door op de naam te klikken gaat u rechtstreeks naar het betreffende tabblad. Op ieder tabblad vindt u eenzelfde soort link met de naam "Terug naar het tabblad Toelichting". Door hierop te klikken keert u weer terug naar hethuidige tabblad.
A5: Prijzenblad SCOT | B5: In dit tabblad worden alle ruimtesoorten gecumuleerd in beeld gebracht. Tevens vindt u hier de totalen van alle ruimtesoorten. De door Inschrijver opgegeven prijzen van de werkprogramma's worden hier vermenigvuldigd met het aantal vierkante meters per ruimtesoort. Hier komt de totaalprijs te staan op grond waarvan de beoordeling zal plaatsvinden. NB.: U hoeft hier zelf dus geen gegevens in te voeren.
A6: Ruimtestaat | B6: Op dit tabblad treft u een lijst aan met alle ruimten. Per ruimte is duidelijk aangegeven om welke school en locatie het gaat (adresgegevens). Daarnaast worden er gegevens over de ruimtensoort en de specifieke ruimtegegevens zoals vloersoort en oppervlakte weergegeven. NB.: U hoeft hier niks in te vullen. De prijzen uit de werkprogramma's worden hier automatisch overgenomen.
A7: Adm ruimte (1) | B7: Op deze en navolgende tabbladen van dezelfde paarse kleur staan de werkprogramma's per ruimtesoort. Er zijn 8 van deze tabbladen. De ruimtesoort staat gelijk aan het werkprogramma. Bij het programma is de handeling en het resultaat van een dergelijke handeling beknopt beschreven. De gebruikte termen zijn conform de NIVIM terminologie zoals deze zijn toegevoegd als Bijlage bij de aanbestedingsdocumenten. Tevens staat het aantal frequenties van de handelingen weergegeven. Deze frequentie is gebaseerd op een aantal van 42 weken. Als er bijvoorbeeld een frequentie wordt genoemd van 210, dan betekent dit dat de handeling elke dag van de 42 weken dient te worden uitgevoerd. Indien na gunning het aantal weken hoger of lager is, zal de frequentie evenredig mee toe- of afnemen. Toe of -afname van de frequentie betekent eveneens een evenredig stijging of daling van de prijs. NB.: Hier dient u in de groene cellen een prijs per programma per vierkante meter per jaar op te geven!
A8: Leslokaal (2)
A9: Kleuterlokaal (3)
A10: Sanitair (4)
A11: Restauratieve ruimte (5)
A12: Verkeersruimte (6)
A13: Speellokaal (7)
A14: BSO (8)
A15: Locaties SCOT | B15: Hier kunt u informatie vinden over het totaal aantal vierkante meters vloeroppervlakte per Locatie en het leerlingenaantal. U hoeft hier niets in te vullen.

Sheet Blad1
A1: Legenda
A2: Administratieve ruimte
A3: Sanitair
A4: Vakspecifieke ruimte
A5: Niet in onderhoud
A6: Klaslokaal
A7: Verkeersuimte
A8: BSO / kinderdagopvang / peuterspeelzaal
A9: Restauratieve ruimte
A11: Beschrijving ruimte | B11: Ruimtesoort
A12: 9an9 | B12: Verkeersruimte
A13: 9ang | B13: Verkeersruimte
A14: achterentree | B14: Verkeersruimte
A15: adjunct | B15: Administratieve ruimte
A16: algemene ruimte | B16: Verkeersruimte
A17: aula | B17: Verkeersruimte
A18: b (Pantry) | B18: Verkeersruimte
A19: berghok nio | B19: Niet in onderhoud
A20: berging | B20: Niet in onderhoud
A21: Berging | B21: Niet in onderhoud
A22: berging (lino 0,7m NIO) | B22: Niet in onderhoud
... A374: Lokaal n.i.o. | B374: Niet in onderhoud

Sheet Prijzenblad SCOT
A1: SCOT | B1: 1 | C1: Ruimtesoort | D1: Totaal # m² | E1: Aantal ruimtes | F1: Werkpr. | G1: m² prijs programma | H1: Prijs per jaar per ruimtesoort | I1: Terug naar het tabblad Toelichting
C2: Administratieve ruimte | D2: =SUMIF('Ruimtestaat'!$H$4:$H$593,'Prijzenblad SCOT'!C2,'Ruimtestaat'!$K$4:$K$593) -> 1645.7 | E2: =COUNTIF('Ruimtestaat'!$H$4:$H$593,'Prijzenblad SCOT'!C2) -> 77 | F2: 1 | G2: ='Admistratieve ruimte (1)'!E1 -> 0 | H2: =D2*G2 -> 0
C3: Leslokaal | D3: =SUMIF('Ruimtestaat'!$H$4:$H$593,'Prijzenblad SCOT'!C3,'Ruimtestaat'!$K$4:$K$593) -> 5512.65 | E3: =COUNTIF('Ruimtestaat'!$H$4:$H$593,'Prijzenblad SCOT'!C3) -> 114 | F3: 2 | G3: ='Leslokaal (2)'!E1 -> 0 | H3: =D3*G3 -> 0
C4: Kleuterlokaal | D4: =SUMIF('Ruimtestaat'!$H$4:$H$593,'Prijzenblad SCOT'!C4,'Ruimtestaat'!$K$4:$K$593) -> 1409.87 | E4: =COUNTIF('Ruimtestaat'!$H$4:$H$593,'Prijzenblad SCOT'!C4) -> 25 | F4: 3 | G4: ='Kleuterlokaal (3)'!E1 -> 0 | H4: =D4*G4 -> 0
C5: Sanitair | D5: =SUMIF('Ruimtestaat'!$H$4:$H$593,'Prijzenblad SCOT'!C5,'Ruimtestaat'!$K$4:$K$593) -> 554.46 | E5: =COUNTIF('Ruimtestaat'!$H$4:$H$593,'Prijzenblad SCOT'!C5) -> 107 | F5: 4 | G5: ='Sanitair (4)'!E1 -> 0 | H5: =D5*G5 -> 0
C6: Restauratieve ruimte | D6: =SUMIF('Ruimtestaat'!$H$4:$H$593,'Prijzenblad SCOT'!C6,'Ruimtestaat'!$K$4:$K$593) -> 107.09 | E6: =COUNTIF('Ruimtestaat'!$H$4:$H$593,'Prijzenblad SCOT'!C6) -> 11 | F6: 5 | G6: ='Restauratieve ruimte (5)'!E1 -> 0 | H6: =D6*G6 -> 0
C7: Verkeersruimte | D7: =SUMIF('Ruimtestaat'!$H$4:$H$593,'Prijzenblad SCOT'!C7,'Ruimtestaat'!$K$4:$K$593) -> 3676.68 | E7: =COUNTIF('Ruimtestaat'!$H$4:$H$593,'Prijzenblad SCOT'!C7) -> 101 | F7: 6 | G7: ='Verkeersruimte (6)'!E1 -> 0 | H7: =D7*G7 -> 0
C8: Speellokaal | D8: =SUMIF('Ruimtestaat'!$H$4:$H$593,'Prijzenblad SCOT'!C8,'Ruimtestaat'!$K$4:$K$593) -> 959.22 | E8: =COUNTIF('Ruimtestaat'!$H$4:$H$593,'Prijzenblad SCOT'!C8) -> 13 | F8: 7 | G8: ='Speellokaal (7)'!E1 -> 0 | H8: =D8*G8 -> 0
C9: BSO | D9: =SUMIF('Ruimtestaat'!$H$4:$H$593,'Prijzenblad SCOT'!C9,'Ruimtestaat'!$K$4:$K$593) -> 323 | E9: =COUNTIF('Ruimtestaat'!$H$4:$H$593,'Prijzenblad SCOT'!C9) -> 7 | F9: 8 | G9: ='BSO (8)'!E1 -> 0 | H9: =D9*G9 -> 0
C10: Niet in onderhoud | D10: =SUMIF('Ruimtestaat'!$H$4:$H$593,'Prijzenblad SCOT'!C10,'Ruimtestaat'!$K$4:$K$593) -> 804.43 | E10: =COUNTIF('Ruimtestaat'!$H$4:$H$593,'Prijzenblad SCOT'!C10) -> 135
C11: Totaal aantal m² vloeropp. alle Locaties | D11: =SUM(D2:D10) -> 14993.1 | G11: Totaalprijs schoonmaak per jaar incl. schoonmaakbenodigdheden | H11: =SUM(H2:H9) -> 0
K12: 0
B13: 2 | C13: Soort glas | D13: Totaal # m² | E13: % glas | F13: m² prijs programma enkelzijdig | G13: Totaalprijs glasbewassing (2x p/j)
C14: Separatieglas | D14: =E14*D11 -> 1124.4825 | E14: 0.075 | F14: =Glasbewassing!J1 -> 0 | G14: =(F14*D14)*2 -> 0
C15: Gevelglas | D15: =E15*D11 -> 4497.93 | E15: 0.3 | F15: =Glasbewassing!J1 -> 0 | G15: =(D15*F15)*2 -> 0
C16: Totaal aantal m² glas van alle Locaties | D16: =SUM(D14:D15) -> 5622.4125 | G16: Totaalprijs glasbewassing (2x p/j) | H16: =SUM(G14:G15) -> 0
G18: Totaal generaal prijs (de prijs die beoordeeld wordt) | H18: =H16+H11 -> 0

Sheet Glasbewassing
H1: m² prijs programma enkelzijdig | J1: 0
C2: Seperatieglas (a) | E2: Gevelglas (b) | G2: Totaal glasbewassing dubbelzijdig per beurt
C3: 0.075 | E3: 0.3
A4: SCOT | B4: De Bron | C4: =$C$3*'Locaties SCOT'!F3 -> 42.63 | D4: =C4*$J$1 -> 0 | E4: =$E$3*'Locaties SCOT'!F3 -> 170.52 | F4: =E4*$J$1 -> 0 | G4: =F4+D4 -> 0
A5: SCOT | B5: Eltheto | C5: =$C$3*'Locaties SCOT'!F4 -> 86.175 | D5: =C5*$J$1 -> 0 | E5: =$E$3*'Locaties SCOT'!F4 -> 344.7 | F5: =E5*$J$1 -> 0 | G5: =F5+D5 -> 0
A6: SCOT | B6: De Fontein Hoofdweg | C6: =$C$3*'Locaties SCOT'!F5 -> 62.8275 | D6: =C6*$J$1 -> 0 | E6: =$E$3*'Locaties SCOT'!F5 -> 251.31 | F6: =E6*$J$1 -> 0 | G6: =F6+D6 -> 0
A7: SCOT | B7: De Fontein Oranjestraat | C7: =$C$3*'Locaties SCOT'!F6 -> 72.4275 | D7: =C7*$J$1 -> 0 | E7: =$E$3*'Locaties SCOT'!F6 -> 289.71 | F7: =E7*$J$1 -> 0 | G7: =F7+D7 -> 0
A8: SCOT | B8: De Marliaantjes | C8: =$C$3*'Locaties SCOT'!F7 -> 45.075 | D8: =C8*$J$1 -> 0 | E8: =$E$3*'Locaties SCOT'!F7 -> 180.3 | F8: =E8*$J$1 -> 0 | G8: =F8+D8 -> 0
A9: SCOT | B9: De Maten | C9: =$C$3*'Locaties SCOT'!F8 -> 77.325 | D9: =C9*$J$1 -> 0 | E9: =$E$3*'Locaties SCOT'!F8 -> 309.3 | F9: =E9*$J$1 -> 0 | G9: =F9+D9 -> 0
A10: SCOT | B10: De Pölle | C10: =$C$3*'Locaties SCOT'!F9 -> 38.253 | D10: =C10*$J$1 -> 0 | E10: =$E$3*'Locaties SCOT'!F9 -> 153.012 | F10: =E10*$J$1 -> 0 | G10: =F10+D10 -> 0
A11: SCOT | B11: De Regenboog | C11: =$C$3*'Locaties SCOT'!F10 -> 72.39 | D11: =C11*$J$1 -> 0 | E11: =$E$3*'Locaties SCOT'!F10 -> 289.56 | F11: =E11*$J$1 -> 0 | G11: =F11+D11 -> 0
A12: SCOT | B12: Shalom | C12: =$C$3*'Locaties SCOT'!F11 -> 80.25075 | D12: =C12*$J$1 -> 0 | E12: =$E$3*'Locaties SCOT'!F11 -> 321.003 | F12: =E12*$J$1 -> 0 | G12: =F12+D12 -> 0
A13: SCOT | B13: Shalom De Weeme | C13: =$C$3*'Locaties SCOT'!F12 -> 96.975 | D13: =C13*$J$1 -> 0 | E13: =$E$3*'Locaties SCOT'!F12 -> 387.9 | F13: =E13*$J$1 -> 0 | G13: =F13+D13 -> 0
A14: SCOT | B14: De Sleutel | C14: =$C$3*'Locaties SCOT'!F13 -> 86.5725 | D14: =C14*$J$1 -> 0 | E14: =$E$3*'Locaties SCOT'!F13 -> 346.29 | F14: =E14*$J$1 -> 0 | G14: =F14+D14 -> 0
A15: SCOT | B15: De Smithoek | C15: =$C$3*'Locaties SCOT'!F14 -> 194.025 | D15: =C15*$J$1 -> 0 | E15: =$E$3*'Locaties SCOT'!F14 -> 776.1 | F15: =E15*$J$1 -> 0 | G15: =F15+D15 -> 0
... A18: SCOT | B18: Bestuurskantoor | C18: =$C$3*'Locaties SCOT'!F17 -> 14.23125 | D18: =C18*$J$1 -> 0 | E18: =$E$3*'Locaties SCOT'!F17 -> 56.925 | F18: =E18*$J$1 -> 0 | G18: =F18+D18 -> 0
B19: Totaalprijs dubbelzijdig per beurt | G19: =SUM(G4:G18) -> 0
B21: * Prijs per m² is inclusief eventuele alle materialen als hoogwerkers, tuckerpool, steigers enzovoorts.
B22: a) = Met separatieglas wordt het glas bedoeld binnen in de school. Aan de hand van benchmarkcijfers is er een aanname gedaan dat separatieglas (dubbelzijdig gerekend) 7,5% van de totale vloeroppervlakte betreft.
B23: b) = Met gevelglas wordt zowel het binnen- als buitenglas van de Locatie bedoeld. Aan de hand van benchmarkcijfers is er een aanname gedaan dat gevelglas (dubbelzijdig gerekend) 30% van de totale vloeroppervlakte betreft.

Sheet Ruimtestaat
A1: Terug naar het tabblad Toelichting | B1: Locatienaam | C1: Gebouw | D1: Adres | E1: Plaats | F1: Verdieping | G1: Beschrijving ruimte | H1: Ruimtesoort / Werkprogramma | I1: Ruimte-nummer | J1: Vloer-afwerking | K1: Opp.m² | L1: Prijs per m² per Werkpro-gramma p/j | M1: Prijs per ruimte per jaar
A3: Stichting | B3: Locatienaam | C3: Gebouw | D3: Adres | E3: Plaats | F3: Verdieping | G3: Beschrijving ruimte | H3: Ruimtesoort / Werkprogramma | I3: Ruimte-nummer | J3: Vloer-afwerking | K3: Opp.m² | L3: Prijs per m² per Werkprogramma p/j | M3: Prijs per ruimte per jaar
A4: SCOT | B4: De Bron | C4: De Bron | D4: Molenstraat 2 | E4: Vriezenveen | F4: Begane grond | G4: Gang | H4: Verkeersruimte | I4: 0.01 | J4: Schoonloopmat | K4: 14.6 | L4: =_xlfn.XLOOKUP(Ruimtestaat[[#This Row],[Ruimtesoort / Werkprogramma ]],'Prijzenblad SCOT'!$C$2:$C$10,'Prijzenblad SCOT'!$G$2:$G$10,"") -> 0 | M4: =IF(L4=0,0,L4*K4) -> 0
A5: SCOT | B5: De Bron | C5: De Bron | D5: Molenstraat 2 | E5: Vriezenveen | F5: Begane grond | G5: Kantoor | H5: Administratieve ruimte | I5: 0.02a | J5: Tapijt | K5: 10.8 | L5: =_xlfn.XLOOKUP(Ruimtestaat[[#This Row],[Ruimtesoort / Werkprogramma ]],'Prijzenblad SCOT'!$C$2:$C$10,'Prijzenblad SCOT'!$G$2:$G$10,"") -> 0 | M5: =IF(L5=0,0,L5*K5) -> 0
A6: SCOT | B6: De Bron | C6: De Bron | D6: Molenstraat 2 | E6: Vriezenveen | F6: Begane grond | G6: Pantry | H6: Restauratieve ruimte | I6: 0.02b | J6: Marmoleum | K6: 4.2 | L6: =_xlfn.XLOOKUP(Ruimtestaat[[#This Row],[Ruimtesoort / Werkprogramma ]],'Prijzenblad SCOT'!$C$2:$C$10,'Prijzenblad SCOT'!$G$2:$G$10,"") -> 0 | M6: =IF(L6=0,0,L6*K6) -> 0
A7: SCOT | B7: De Bron | C7: De Bron | D7: Molenstraat 2 | E7: Vriezenveen | F7: Begane grond | G7: Kantoor | H7: Administratieve ruimte | I7: 0.03 | J7: Tapijt | K7: 13.9 | L7: =_xlfn.XLOOKUP(Ruimtestaat[[#This Row],[Ruimtesoort / Werkprogramma ]],'Prijzenblad SCOT'!$C$2:$C$10,'Prijzenblad SCOT'!$G$2:$G$10,"") -> 0 | M7: =IF(L7=0,0,L7*K7) -> 0
A8: SCOT | B8: De Bron | C8: De Bron | D8: Molenstraat 2 | E8: Vriezenveen | F8: Begane grond | G8: Speellokaal | H8: Speellokaal | I8: 0.04 | J8: Marmoleum | K8: 48.9 | L8: =_xlfn.XLOOKUP(Ruimtestaat[[#This Row],[Ruimtesoort / Werkprogramma ]],'Prijzenblad SCOT'!$C$2:$C$10,'Prijzenblad SCOT'!$G$2:$G$10,"") -> 0 | M8: =IF(L8=0,0,L8*K8) -> 0
A9: SCOT | B9: De Bron | C9: De Bron | D9: Molenstraat 2 | E9: Vriezenveen | F9: Begane grond | G9: Lokaal | H9: Kleuterlokaal | I9: 0.05 | J9: Marmoleum | K9: 90.9 | L9: =_xlfn.XLOOKUP(Ruimtestaat[[#This Row],[Ruimtesoort / Werkprogramma ]],'Prijzenblad SCOT'!$C$2:$C$10,'Prijzenblad SCOT'!$G$2:$G$10,"") -> 0 | M9: =IF(L9=0,0,L9*K9) -> 0
A10: SCOT | B10: De Bron | C10: De Bron | D10: Molenstraat 2 | E10: Vriezenveen | F10: Begane grond | G10: Toiletten | H10: Sanitair | I10: 0.06 | J10: Coating | K10: 4.9 | L10: =_xlfn.XLOOKUP(Ruimtestaat[[#This Row],[Ruimtesoort / Werkprogramma ]],'Prijzenblad SCOT'!$C$2:$C$10,'Prijzenblad SCOT'!$G$2:$G$10,"") -> 0 | M10: =IF(L10=0,0,L10*K10) -> 0
A11: SCOT | B11: De Bron | C11: De Bron | D11: Molenstraat 2 | E11: Vriezenveen | F11: Begane grond | G11: Entree | H11: Verkeersruimte | I11: 0.07 | J11: Marmoleum | K11: 6.5 | L11: =_xlfn.XLOOKUP(Ruimtestaat[[#This Row],[Ruimtesoort / Werkprogramma ]],'Prijzenblad SCOT'!$C$2:$C$10,'Prijzenblad SCOT'!$G$2:$G$10,"") -> 0 | M11: =IF(L11=0,0,L11*K11) -> 0
A12: SCOT | B12: De Bron | C12: De Bron | D12: Molenstraat 2 | E12: Vriezenveen | F12: Begane grond | G12: Werkkast | H12: Niet in onderhoud | I12: 0.08 | J12: Tegels | K12: 2.3 | L12: =_xlfn.XLOOKUP(Ruimtestaat[[#This Row],[Ruimtesoort / Werkprogramma ]],'Prijzenblad SCOT'!$C$2:$C$10,'Prijzenblad SCOT'!$G$2:$G$10,"") -> 0 | M12: =IF(L12=0,0,L12*K12) -> 0
A13: SCOT | B13: De Bron | C13: De Bron | D13: Molenstraat 2 | E13: Vriezenveen | F13: Begane grond | G13: Gang | H13: Verkeersruimte | I13: 0.09 | J13: Marmoleum | K13: 169 | L13: =_xlfn.XLOOKUP(Ruimtestaat[[#This Row],[Ruimtesoort / Werkprogramma ]],'Prijzenblad SCOT'!$C$2:$C$10,'Prijzenblad SCOT'!$G$2:$G$10,"") -> 0 | M13: =IF(L13=0,0,L13*K13) -> 0
A14: SCOT | B14: De Bron | C14: De Bron | D14: Molenstraat 2 | E14: Vriezenveen | F14: Begane grond | G14: Kantoor | H14: Administratieve ruimte | I14: 0.10 | J14: Tapijt | K14: 19 | L14: =_xlfn.XLOOKUP(Ruimtestaat[[#This Row],[Ruimtesoort / Werkprogramma ]],'Prijzenblad SCOT'!$C$2:$C$10,'Prijzenblad SCOT'!$G$2:$G$10,"") -> 0 | M14: =IF(L14=0,0,L14*K14) -> 0
A15: SCOT | B15: De Bron | C15: De Bron | D15: Molenstraat 2 | E15: Vriezenveen | F15: Begane grond | G15: Toiletten | H15: Sanitair | I15: 0.11 | J15: Coating | K15: 4.8 | L15: =_xlfn.XLOOKUP(Ruimtestaat[[#This Row],[Ruimtesoort / Werkprogramma ]],'Prijzenblad SCOT'!$C$2:$C$10,'Prijzenblad SCOT'!$G$2:$G$10,"") -> 0 | M15: =IF(L15=0,0,L15*K15) -> 0
... A36: SCOT | B36: De Eltheto | C36: De Eltheto | D36: Schoolstraat 9 | E36: Vriezenveen | F36: Begane grond | G36: Lokaal | H36: Leslokaal | I36: 0.14a | J36: Tapijt | K36: 45 | L36: =_xlfn.XLOOKUP(Ruimtestaat[[#This Row],[Ruimtesoort / Werkprogramma ]],'Prijzenblad SCOT'!$C$2:$C$10,'Prijzenblad SCOT'!$G$2:$G$10,"") -> 0 | M36: =IF(L36=0,0,L36*K36) -> 0
A37: SCOT | B37: De Eltheto | C37: De Eltheto | D37: Schoolstraat 9 | E37: Vriezenveen | F37: Begane grond | G37: Berging | H37: Niet in onderhoud | I37: 0.14b | J37: - | K37: - | L37: =_xlfn.XLOOKUP(Ruimtestaat[[#This Row],[Ruimtesoort / Werkprogramma ]],'Prijzenblad SCOT'!$C$2:$C$10,'Prijzenblad SCOT'!$G$2:$G$10,"") -> 0 | M37: =IF(L37=0,0,L37*K37) -> 0
A38: SCOT | B38: De Eltheto | C38: De Eltheto | D38: Schoolstraat 9 | E38: Vriezenveen | F38: Begane grond | G38: Kantoor | H38: Administratieve ruimte | I38: 0.15 | J38: PVC | K38: 23 | L38: =_xlfn.XLOOKUP(Ruimtestaat[[#This Row],[Ruimtesoort / Werkprogramma ]],'Prijzenblad SCOT'!$C$2:$C$10,'Prijzenblad SCOT'!$G$2:$G$10,"") -> 0 | M38: =IF(L38=0,0,L38*K38) -> 0
A39: SCOT | B39: De Eltheto | C39: De Eltheto | D39: Schoolstraat 9 | E39: Vriezenveen | F39: Begane grond | G39: Kantoor | H39: Administratieve ruimte | I39: 0.16 | J39: Tapijt | K39: 14 | L39: =_xlfn.XLOOKUP(Ruimtestaat[[#This Row],[Ruimtesoort / Werkprogramma ]],'Prijzenblad SCOT'!$C$2:$C$10,'Prijzenblad SCOT'!$G$2:$G$10,"") -> 0 | M39: =IF(L39=0,0,L39*K39) -> 0
A40: SCOT | B40: De Eltheto | C40: De Eltheto | D40: Schoolstraat 9 | E40: Vriezenveen | F40: Begane grond | G40: Kopieerruimte | H40: Niet in onderhoud | I40: 0.17 | J40: - | K40: - | L40: =_xlfn.XLOOKUP(Ruimtestaat[[#This Row],[Ruimtesoort / Werkprogramma ]],'Prijzenblad SCOT'!$C$2:$C$10,'Prijzenblad SCOT'!$G$2:$G$10,"") -> 0 | M40: =IF(L40=0,0,L40*K40) -> 0
A41: SCOT | B41: De Eltheto | C41: De Eltheto | D41: Schoolstraat 9 | E41: Vriezenveen | F41: Begane grond | G41: Toiletten | H41: Sanitair | I41: 0.18 | J41: Gietvloer | K41: 8 | L41: =_xlfn.XLOOKUP(Ruimtestaat[[#This Row],[Ruimtesoort / Werkprogramma ]],'Prijzenblad SCOT'!$C$2:$C$10,'Prijzenblad SCOT'!$G$2:$G$10,"") -> 0 | M41: =IF(L41=0,0,L41*K41) -> 0
A42: SCOT | B42: De Eltheto | C42: De Eltheto | D42: Schoolstraat 9 | E42: Vriezenveen | F42: Begane grond | G42: Berging | H42: Niet in onderhoud | I42: 0.19 | J42: - | K42: - | L42: =_xlfn.XLOOKUP(Ruimtestaat[[#This Row],[Ruimtesoort / Werkprogramma ]],'Prijzenblad SCOT'!$C$2:$C$10,'Prijzenblad SCOT'!$G$2:$G$10,"") -> 0 | M42: =IF(L42=0,0,L42*K42) -> 0
A43: SCOT | B43: De Eltheto | C43: De Eltheto | D43: Schoolstraat 9 | E43: Vriezenveen | F43: Begane grond | G43: Toiletten | H43: Sanitair | I43: 0.20 | J43: Gietvloer | K43: 8 | L43: =_xlfn.XLOOKUP(Ruimtestaat[[#This Row],[Ruimtesoort / Werkprogramma ]],'Prijzenblad SCOT'!$C$2:$C$10,'Prijzenblad SCOT'!$G$2:$G$10,"") -> 0 | M43: =IF(L43=0,0,L43*K43) -> 0
A44: SCOT | B44: De Eltheto | C44: De Eltheto | D44: Schoolstraat 9 | E44: Vriezenveen | F44: Begane grond | G44: Speellokaal | H44: Speellokaal | I44: 0.21 | J44: Marmoleum | K44: 88 | L44: =_xlfn.XLOOKUP(Ruimtestaat[[#This Row],[Ruimtesoort / Werkprogramma ]],'Prijzenblad SCOT'!$C$2:$C$10,'Prijzenblad SCOT'!$G$2:$G$10,"") -> 0 | M44: =IF(L44=0,0,L44*K44) -> 0
A45: SCOT | B45: De Eltheto | C45: De Eltheto | D45: Schoolstraat 9 | E45: Vriezenveen | F45: Begane grond | G45: Gang | H45: Verkeersruimte | I45: 0.22a | J45: Marmoleum | K45: 84 | L45: =_xlfn.XLOOKUP(Ruimtestaat[[#This Row],[Ruimtesoort / Werkprogramma ]],'Prijzenblad SCOT'!$C$2:$C$10,'Prijzenblad SCOT'!$G$2:$G$10,"") -> 0 | M45: =IF(L45=0,0,L45*K45) -> 0
A46: SCOT | B46: De Eltheto | C46: De Eltheto | D46: Schoolstraat 9 | E46: Vriezenveen | F46: Begane grond | G46: Entree | H46: Verkeersruimte | I46: 0.22b | J46: Schoonloopmat | K46: 4 | L46: =_xlfn.XLOOKUP(Ruimtestaat[[#This Row],[Ruimtesoort / Werkprogramma ]],'Prijzenblad SCOT'!$C$2:$C$10,'Prijzenblad SCOT'!$G$2:$G$10,"") -> 0 | M46: =IF(L46=0,0,L46*K46) -> 0
A47: SCOT | B47: De Eltheto | C47: De Eltheto | D47: Schoolstraat 9 | E47: Vriezenveen | F47: Begane grond | G47: Berging | H47: Niet in onderhoud | I47: 0.23 | J47: - | K47: - | L47: =_xlfn.XLOOKUP(Ruimtestaat[[#This Row],[Ruimtesoort / Werkprogramma ]],'Prijzenblad SCOT'!$C$2:$C$10,'Prijzenblad SCOT'!$G$2:$G$10,"") -> 0 | M47: =IF(L47=0,0,L47*K47) -> 0
A48: SCOT | B48: De Eltheto | C48: De Eltheto | D48: Schoolstraat 9 | E48: Vriezenveen | F48: Begane grond | G48: Lokaal | H48: Kleuterlokaal | I48: 0.24 | J48: Marmoleum | K48: 52 | L48: =_xlfn.XLOOKUP(Ruimtestaat[[#This Row],[Ruimtesoort / Werkprogramma ]],'Prijzenblad SCOT'!$C$2:$C$10,'Prijzenblad SCOT'!$G$2:$G$10,"") -> 0 | M48: =IF(L48=0,0,L48*K48) -> 0
A49: SCOT | B49: De Eltheto | C49: De Eltheto | D49: Schoolstraat 9 | E49: Vriezenveen | F49: Begane grond | G49: Lokaal | H49: Kleuterlokaal | I49: 0.25 | J49: Marmoleum | K49: 52 | L49: =_xlfn.XLOOKUP(Ruimtestaat[[#This Row],[Ruimtesoort / Werkprogramma ]],'Prijzenblad SCOT'!$C$2:$C$10,'Prijzenblad SCOT'!$G$2:$G$10,"") -> 0 | M49: =IF(L49=0,0,L49*K49) -> 0
A50: SCOT | B50: De Eltheto | C50: De Eltheto | D50: Schoolstraat 9 | E50: Vriezenveen | F50: Begane grond | G50: Lokaal | H50: Kleuterlokaal | I50: 0.26 | J50: Marmoleum | K50: 56 | L50: =_xlfn.XLOOKUP(Ruimtestaat[[#This Row],[Ruimtesoort / Werkprogramma ]],'Prijzenblad SCOT'!$C$2:$C$10,'Prijzenblad SCOT'!$G$2:$G$10,"") -> 0 | M50: =IF(L50=0,0,L50*K50) -> 0
A51: SCOT | B51: De Eltheto | C51: De Eltheto | D51: Schoolstraat 9 | E51: Vriezenveen | F51: Eerste verdieping | G51: Zolder | H51: Niet in onderhoud | I51: 1.01 | J51: - | K51: - | L51: =_xlfn.XLOOKUP(Ruimtestaat[[#This Row],[Ruimtesoort / Werkprogramma ]],'Prijzenblad SCOT'!$C$2:$C$10,'Prijzenblad SCOT'!$G$2:$G$10,"") -> 0 | M51: =IF(L51=0,0,L51*K51) -> 0
A52: SCOT | B52: De Eltheto | C52: De Eltheto | D52: Schoolstraat 9 | E52: Vriezenveen | F52: Eerste verdieping | G52: Lokaal | H52: Leslokaal | I52: 1.02 | J52: Marmoleum | K52: 49 | L52: =_xlfn.XLOOKUP(Ruimtestaat[[#This Row],[Ruimtesoort / Werkprogramma ]],'Prijzenblad SCOT'!$C$2:$C$10,'Prijzenblad SCOT'!$G$2:$G$10,"") -> 0 | M52: =IF(L52=0,0,L52*K52) -> 0
A53: SCOT | B53: De Eltheto | C53: De Eltheto | D53: Schoolstraat 9 | E53: Vriezenveen | F53: Eerste verdieping | G53: Gang | H53: Verkeersruimte | I53: 1.03 | J53: Tapijt | K53: 4 | L53: =_xlfn.XLOOKUP(Ruimtestaat[[#This Row],[Ruimtesoort / Werkprogramma ]],'Prijzenblad SCOT'!$C$2:$C$10,'Prijzenblad SCOT'!$G$2:$G$10,"") -> 0 | M53: =IF(L53=0,0,L53*K53) -> 0
A54: SCOT | B54: De Eltheto | C54: De Eltheto | D54: Schoolstraat 9 | E54: Vriezenveen | F54: Eerste verdieping | G54: Lokaal | H54: Leslokaal | I54: 1.04 | J54: Marmoleum | K54: 56 | L54: =_xlfn.XLOOKUP(Ruimtestaat[[#This Row],[Ruimtesoort / Werkprogramma ]],'Prijzenblad SCOT'!$C$2:$C$10,'Prijzenblad SCOT'!$G$2:$G$10,"") -> 0 | M54: =IF(L54=0,0,L54*K54) -> 0
A55: SCOT | B55: De Fontein (hoofdweg) | C55: De Fontein | D55: Hoofdweg 56 | E55: Vriezenveen | F55: Begane grond | G55: Kantoor | H55: Administratieve ruimte | I55: 0.01 | J55: Tapijt | K55: 22.7 | L55: =_xlfn.XLOOKUP(Ruimtestaat[[#This Row],[Ruimtesoort / Werkprogramma ]],'Prijzenblad SCOT'!$C$2:$C$10,'Prijzenblad SCOT'!$G$2:$G$10,"") -> 0 | M55: =IF(L55=0,0,L55*K55) -> 0
A56: SCOT | B56: De Fontein (hoofdweg) | C56: De Fontein | D56: Hoofdweg 56 | E56: Vriezenveen | F56: Begane grond | G56: Toiletten | H56: Sanitair | I56: 0.02 | J56: Tegels | K56: 1.8 | L56: =_xlfn.XLOOKUP(Ruimtestaat[[#This Row],[Ruimtesoort / Werkprogramma ]],'Prijzenblad SCOT'!$C$2:$C$10,'Prijzenblad SCOT'!$G$2:$G$10,"") -> 0 | M56: =IF(L56=0,0,L56*K56) -> 0
A57: SCOT | B57: De Fontein (hoofdweg) | C57: De Fontein | D57: Hoofdweg 56 | E57: Vriezenveen | F57: Begane grond | G57: Entree | H57: Verkeersruimte | I57: 0.03 | J57: Tapijt | K57: 2.3 | L57: =_xlfn.XLOOKUP(Ruimtestaat[[#This Row],[Ruimtesoort / Werkprogramma ]],'Prijzenblad SCOT'!$C$2:$C$10,'Prijzenblad SCOT'!$G$2:$G$10,"") -> 0 | M57: =IF(L57=0,0,L57*K57) -> 0
A58: SCOT | B58: De Fontein (hoofdweg) | C58: De Fontein | D58: Hoofdweg 56 | E58: Vriezenveen | F58: Begane grond | G58: Lokaal | H58: Niet in onderhoud | I58: 0.04 | J58: Tapijt | K58: 50.9 | L58: =_xlfn.XLOOKUP(Ruimtestaat[[#This Row],[Ruimtesoort / Werkprogramma ]],'Prijzenblad SCOT'!$C$2:$C$10,'Prijzenblad SCOT'!$G$2:$G$10,"") -> 0 | M58: =IF(L58=0,0,L58*K58) -> 0
A59: SCOT | B59: De Fontein (hoofdweg) | C59: De Fontein | D59: Hoofdweg 56 | E59: Vriezenveen | F59: Begane grond | G59: Lokaal | H59: Leslokaal | I59: 0.05 | J59: Tapijt | K59: 51.1 | L59: =_xlfn.XLOOKUP(Ruimtestaat[[#This Row],[Ruimtesoort / Werkprogramma ]],'Prijzenblad SCOT'!$C$2:$C$10,'Prijzenblad SCOT'!$G$2:$G$10,"") -> 0 | M59: =IF(L59=0,0,L59*K59) -> 0
A60: SCOT | B60: De Fontein (hoofdweg) | C60: De Fontein | D60: Hoofdweg 56 | E60: Vriezenveen | F60: Begane grond | G60: Lokaal | H60: Leslokaal | I60: 0.06 | J60: Tapijt | K60: 50.9 | L60: =_xlfn.XLOOKUP(Ruimtestaat[[#This Row],[Ruimtesoort / Werkprogramma ]],'Prijzenblad SCOT'!$C$2:$C$10,'Prijzenblad SCOT'!$G$2:$G$10,"") -> 0 | M60: =IF(L60=0,0,L60*K60) -> 0
A61: SCOT | B61: De Fontein (hoofdweg) | C61: De Fontein | D61: Hoofdweg 56 | E61: Vriezenveen | F61: Begane grond | G61: Kantoor | H61: Administratieve ruimte | I61: 0.07 | J61: Tapijt | K61: 13.8 | L61: =_xlfn.XLOOKUP(Ruimtestaat[[#This Row],[Ruimtesoort / Werkprogramma ]],'Prijzenblad SCOT'!$C$2:$C$10,'Prijzenblad SCOT'!$G$2:$G$10,"") -> 0 | M61: =IF(L61=0,0,L61*K61) -> 0
A62: SCOT | B62: De Fontein (hoofdweg) | C62: De Fontein | D62: Hoofdweg 56 | E62: Vriezenveen | F62: Begane grond | G62: Lokaal | H62: Leslokaal | I62: 0.08 | J62: Marmoleum | K62: 51.3 | L62: =_xlfn.XLOOKUP(Ruimtestaat[[#This Row],[Ruimtesoort / Werkprogramma ]],'Prijzenblad SCOT'!$C$2:$C$10,'Prijzenblad SCOT'!$G$2:$G$10,"") -> 0 | M62: =IF(L62=0,0,L62*K62) -> 0
A63: SCOT | B63: De Fontein (hoofdweg) | C63: De Fontein | D63: Hoofdweg 56 | E63: Vriezenveen | F63: Begane grond | G63: Kantoor | H63: Administratieve ruimte | I63: 0.09 | J63: Tapijt | K63: 23.9 | L63: =_xlfn.XLOOKUP(Ruimtestaat[[#This Row],[Ruimtesoort / Werkprogramma ]],'Prijzenblad SCOT'!$C$2:$C$10,'Prijzenblad SCOT'!$G$2:$G$10,"") -> 0 | M63: =IF(L63=0,0,L63*K63) -> 0
... A82: SCOT | B82: De Fontein (oranjestraat) | C82: De Fontein | D82: Oranjestraat 2C | E82: Vriezenveen | F82: Begane grond | G82: Kantoor | H82: Administratieve ruimte | I82: 0.02 | J82: Marmoleum | K82: 12.8 | L82: =_xlfn.XLOOKUP(Ruimtestaat[[#This Row],[Ruimtesoort / Werkprogramma ]],'Prijzenblad SCOT'!$C$2:$C$10,'Prijzenblad SCOT'!$G$2:$G$10,"") -> 0 | M82: =IF(L82=0,0,L82*K82) -> 0
A83: SCOT | B83: De Fontein (oranjestraat) | C83: De Fontein | D83: Oranjestraat 2C | E83: Vriezenveen | F83: Begane grond | G83: Berging | H83: Niet in onderhoud | I83: 0.03 | J83: - | K83: - | L83: =_xlfn.XLOOKUP(Ruimtestaat[[#This Row],[Ruimtesoort / Werkprogramma ]],'Prijzenblad SCOT'!$C$2:$C$10,'Prijzenblad SCOT'!$G$2:$G$10,"") -> 0 | M83: =IF(L83=0,0,L83*K83) -> 0
A84: SCOT | B84: De Fontein (oranjestraat) | C84: De Fontein | D84: Oranjestraat 2C | E84: Vriezenveen | F84: Begane grond | G84: Entree | H84: Verkeersruimte | I84: 0.04a | J84: Schoonloopmat | K84: 20.4 | L84: =_xlfn.XLOOKUP(Ruimtestaat[[#This Row],[Ruimtesoort / Werkprogramma ]],'Prijzenblad SCOT'!$C$2:$C$10,'Prijzenblad SCOT'!$G$2:$G$10,"") -> 0 | M84: =IF(L84=0,0,L84*K84) -> 0
A85: SCOT | B85: De Fontein (oranjestraat) | C85: De Fontein | D85: Oranjestraat 2C | E85: Vriezenveen | F85: Begane grond | G85: Gang | H85: Verkeersruimte | I85: 0.04b | J85: Marmoleum | K85: 2.7 | L85: =_xlfn.XLOOKUP(Ruimtestaat[[#This Row],[Ruimtesoort / Werkprogramma ]],'Prijzenblad SCOT'!$C$2:$C$10,'Prijzenblad SCOT'!$G$2:$G$10,"") -> 0 | M85: =IF(L85=0,0,L85*K85) -> 0
A86: SCOT | B86: De Fontein (oranjestraat) | C86: De Fontein | D86: Oranjestraat 2C | E86: Vriezenveen | F86: Begane grond | G86: Lokaal | H86: Leslokaal | I86: 0.05 | J86: Marmoleum | K86: 46.9 | L86: =_xlfn.XLOOKUP(Ruimtestaat[[#This Row],[Ruimtesoort / Werkprogramma ]],'Prijzenblad SCOT'!$C$2:$C$10,'Prijzenblad SCOT'!$G$2:$G$10,"") -> 0 | M86: =IF(L86=0,0,L86*K86) -> 0
A87: SCOT | B87: De Fontein (oranjestraat) | C87: De Fontein | D87: Oranjestraat 2C | E87: Vriezenveen | F87: Begane grond | G87: Lokaal | H87: Kleuterlokaal | I87: 0.06 | J87: Marmoleum | K87: 53.5 | L87: =_xlfn.XLOOKUP(Ruimtestaat[[#This Row],[Ruimtesoort / Werkprogramma ]],'Prijzenblad SCOT'!$C$2:$C$10,'Prijzenblad SCOT'!$G$2:$G$10,"") -> 0 | M87: =IF(L87=0,0,L87*K87) -> 0
A88: SCOT | B88: De Fontein (oranjestraat) | C88: De Fontein | D88: Oranjestraat 2C | E88: Vriezenveen | F88: Begane grond | G88: Gang | H88: Verkeersruimte | I88: 0.07 | J88: Marmoleum | K88: 62.8 | L88: =_xlfn.XLOOKUP(Ruimtestaat[[#This Row],[Ruimtesoort / Werkprogramma ]],'Prijzenblad SCOT'!$C$2:$C$10,'Prijzenblad SCOT'!$G$2:$G$10,"") -> 0 | M88: =IF(L88=0,0,L88*K88) -> 0
A89: SCOT | B89: De Fontein (oranjestraat) | C89: De Fontein | D89: Oranjestraat 2C | E89: Vriezenveen | F89: Begane grond | G89: Toiletten | H89: Sanitair | I89: 0.08 | J89: Coating | K89: 3.85 | L89: =_xlfn.XLOOKUP(Ruimtestaat[[#This Row],[Ruimtesoort / Werkprogramma ]],'Prijzenblad SCOT'!$C$2:$C$10,'Prijzenblad SCOT'!$G$2:$G$10,"") -> 0 | M89: =IF(L89=0,0,L89*K89) -> 0
A90: SCOT | B90: De Fontein (oranjestraat) | C90: De Fontein | D90: Oranjestraat 2C | E90: Vriezenveen | F90: Begane grond | G90: Toiletten | H90: Sanitair | I90: 0.09 | J90: Coating | K90: 1.5 | L90: =_xlfn.XLOOKUP(Ruimtestaat[[#This Row],[Ruimtesoort / Werkprogramma ]],'Prijzenblad SCOT'!$C$2:$C$10,'Prijzenblad SCOT'!$G$2:$G$10,"") -> 0 | M90: =IF(L90=0,0,L90*K90) -> 0
A91: SCOT | B91: De Fontein (oranjestraat) | C91: De Fontein | D91: Oranjestraat 2C | E91: Vriezenveen | F91: Begane grond | G91: Toiletten | H91: Sanitair | I91: 0.10 | J91: Coating | K91: 1.5 | L91: =_xlfn.XLOOKUP(Ruimtestaat[[#This Row],[Ruimtesoort / Werkprogramma ]],'Prijzenblad SCOT'!$C$2:$C$10,'Prijzenblad SCOT'!$G$2:$G$10,"") -> 0 | M91: =IF(L91=0,0,L91*K91) -> 0
A92: SCOT | B92: De Fontein (oranjestraat) | C92: De Fontein | D92: Oranjestraat 2C | E92: Vriezenveen | F92: Begane grond | G92: Berging | H92: Niet in onderhoud | I92: 0.11 | J92: - | K92: - | L92: =_xlfn.XLOOKUP(Ruimtestaat[[#This Row],[Ruimtesoort / Werkprogramma ]],'Prijzenblad SCOT'!$C$2:$C$10,'Prijzenblad SCOT'!$G$2:$G$10,"") -> 0 | M92: =IF(L92=0,0,L92*K92) -> 0
A93: SCOT | B93: De Fontein (oranjestraat) | C93: De Fontein | D93: Oranjestraat 2C | E93: Vriezenveen | F93: Begane grond | G93: Speellokaal | H93: Speellokaal | I93: 0.12 | J93: Marmoleum | K93: 83.1 | L93: =_xlfn.XLOOKUP(Ruimtestaat[[#This Row],[Ruimtesoort / Werkprogramma ]],'Prijzenblad SCOT'!$C$2:$C$10,'Prijzenblad SCOT'!$G$2:$G$10,"") -> 0 | M93: =IF(L93=0,0,L93*K93) -> 0
A94: SCOT | B94: De Fontein (oranjestraat) | C94: De Fontein | D94: Oranjestraat 2C | E94: Vriezenveen | F94: Begane grond | G94: Lokaal | H94: Leslokaal | I94: 0.13 | J94: Marmoleum | K94: 70.5 | L94: =_xlfn.XLOOKUP(Ruimtestaat[[#This Row],[Ruimtesoort / Werkprogramma ]],'Prijzenblad SCOT'!$C$2:$C$10,'Prijzenblad SCOT'!$G$2:$G$10,"") -> 0 | M94: =IF(L94=0,0,L94*K94) -> 0
A95: SCOT | B95: De Fontein (oranjestraat) | C95: De Fontein | D95: Oranjestraat 2C | E95: Vriezenveen | F95: Begane grond | G95: Gang | H95: Verkeersruimte | I95: 0.14 | J95: Schoonloopmat | K95: 21.95 | L95: =_xlfn.XLOOKUP(Ruimtestaat[[#This Row],[Ruimtesoort / Werkprogramma ]],'Prijzenblad SCOT'!$C$2:$C$10,'Prijzenblad SCOT'!$G$2:$G$10,"") -> 0 | M95: =IF(L95=0,0,L95*K95) -> 0
A96: SCOT | B96: De Fontein (oranjestraat) | C96: De Fontein | D96: Oranjestraat 2C | E96: Vriezenveen | F96: Begane grond | G96: Kopieerruimte | H96: Niet in onderhoud | I96: 0.15 | J96: - | K96: - | L96: =_xlfn.XLOOKUP(Ruimtestaat[[#This Row],[Ruimtesoort / Werkprogramma ]],'Prijzenblad SCOT'!$C$2:$C$10,'Prijzenblad SCOT'!$G$2:$G$10,"") -> 0 | M96: =IF(L96=0,0,L96*K96) -> 0
A97: SCOT | B97: De Fontein (oranjestraat) | C97: De Fontein | D97: Oranjestraat 2C | E97: Vriezenveen | F97: Begane grond | G97: Keuken | H97: Restauratieve ruimte | I97: 0.16 | J97: Marmoleum | K97: 8.6 | L97: =_xlfn.XLOOKUP(Ruimtestaat[[#This Row],[Ruimtesoort / Werkprogramma ]],'Prijzenblad SCOT'!$C$2:$C$10,'Prijzenblad SCOT'!$G$2:$G$10,"") -> 0 | M97: =IF(L97=0,0,L97*K97) -> 0
A98: SCOT | B98: De Fontein (oranjestraat) | C98: De Fontein | D98: Oranjestraat 2C | E98: Vriezenveen | F98: Begane grond | G98: Kantoor | H98: Administratieve ruimte | I98: 0.17 | J98: Marmoleum | K98: 17.3 | L98: =_xlfn.XLOOKUP(Ruimtestaat[[#This Row],[Ruimtesoort / Werkprogramma ]],'Prijzenblad SCOT'!$C$2:$C$10,'Prijzenblad SCOT'!$G$2:$G$10,"") -> 0 | M98: =IF(L98=0,0,L98*K98) -> 0
A99: SCOT | B99: De Fontein (oranjestraat) | C99: De Fontein | D99: Oranjestraat 2C | E99: Vriezenveen | F99: Begane grond | G99: Toiletten | H99: Sanitair | I99: 0.18 | J99: Coating | K99: 6 | L99: =_xlfn.XLOOKUP(Ruimtestaat[[#This Row],[Ruimtesoort / Werkprogramma ]],'Prijzenblad SCOT'!$C$2:$C$10,'Prijzenblad SCOT'!$G$2:$G$10,"") -> 0 | M99: =IF(L99=0,0,L99*K99) -> 0
A100: SCOT | B100: De Fontein (oranjestraat) | C100: De Fontein | D100: Oranjestraat 2C | E100: Vriezenveen | F100: Begane grond | G100: Lokaal | H100: Kleuterlokaal | I100: 0.19 | J100: Marmoleum | K100: 56 | L100: =_xlfn.XLOOKUP(Ruimtestaat[[#This Row],[Ruimtesoort / Werkprogramma ]],'Prijzenblad SCOT'!$C$2:$C$10,'Prijzenblad SCOT'!$G$2:$G$10,"") -> 0 | M100: =IF(L100=0,0,L100*K100) -> 0
A101: SCOT | B101: De Fontein (oranjestraat) | C101: De Fontein | D101: Oranjestraat 2C | E101: Vriezenveen | F101: Eerste verdieping | G101: Lokaal | H101: Leslokaal | I101: 1.01 | J101: Marmoleum | K101: 54 | L101: =_xlfn.XLOOKUP(Ruimtestaat[[#This Row],[Ruimtesoort / Werkprogramma ]],'Prijzenblad SCOT'!$C$2:$C$10,'Prijzenblad SCOT'!$G$2:$G$10,"") -> 0 | M101: =IF(L101=0,0,L101*K101) -> 0
A102: SCOT | B102: De Fontein (oranjestraat) | C102: De Fontein | D102: Oranjestraat 2C | E102: Vriezenveen | F102: Eerste verdieping | G102: Kantoor | H102: Administratieve ruimte | I102: 1.02 | J102: Marmoleum | K102: 13 | L102: =_xlfn.XLOOKUP(Ruimtestaat[[#This Row],[Ruimtesoort / Werkprogramma ]],'Prijzenblad SCOT'!$C$2:$C$10,'Prijzenblad SCOT'!$G$2:$G$10,"") -> 0 | M102: =IF(L102=0,0,L102*K102) -> 0
A103: SCOT | B103: De Fontein (oranjestraat) | C103: De Fontein | D103: Oranjestraat 2C | E103: Vriezenveen | F103: Eerste verdieping | G103: Berging | H103: Niet in onderhoud | I103: 1.03 | J103: - | K103: - | L103: =_xlfn.XLOOKUP(Ruimtestaat[[#This Row],[Ruimtesoort / Werkprogramma ]],'Prijzenblad SCOT'!$C$2:$C$10,'Prijzenblad SCOT'!$G$2:$G$10,"") -> 0 | M103: =IF(L103=0,0,L103*K103) -> 0
A104: SCOT | B104: De Fontein (oranjestraat) | C104: De Fontein | D104: Oranjestraat 2C | E104: Vriezenveen | F104: Eerste verdieping | G104: Gang | H104: Verkeersruimte | I104: 1.04 | J104: Marmoleum | K104: 8 | L104: =_xlfn.XLOOKUP(Ruimtestaat[[#This Row],[Ruimtesoort / Werkprogramma ]],'Prijzenblad SCOT'!$C$2:$C$10,'Prijzenblad SCOT'!$G$2:$G$10,"") -> 0 | M104: =IF(L104=0,0,L104*K104) -> 0
A105: SCOT | B105: De Fontein (oranjestraat) | C105: De Fontein | D105: Oranjestraat 2C | E105: Vriezenveen | F105: Eerste verdieping | G105: Lokaal | H105: Leslokaal | I105: 1.05 | J105: Marmoleum | K105: 54 | L105: =_xlfn.XLOOKUP(Ruimtestaat[[#This Row],[Ruimtesoort / Werkprogramma ]],'Prijzenblad SCOT'!$C$2:$C$10,'Prijzenblad SCOT'!$G$2:$G$10,"") -> 0 | M105: =IF(L105=0,0,L105*K105) -> 0
A106: SCOT | B106: De Fontein (oranjestraat) | C106: De Fontein | D106: Oranjestraat 2C | E106: Vriezenveen | F106: Eerste verdieping | G106: Lokaal | H106: Leslokaal | I106: 1.06 | J106: Marmoleum | K106: 54 | L106: =_xlfn.XLOOKUP(Ruimtestaat[[#This Row],[Ruimtesoort / Werkprogramma ]],'Prijzenblad SCOT'!$C$2:$C$10,'Prijzenblad SCOT'!$G$2:$G$10,"") -> 0 | M106: =IF(L106=0,0,L106*K106) -> 0
A107: SCOT | B107: De Fontein (oranjestraat) | C107: De Fontein | D107: Oranjestraat 2C | E107: Vriezenveen | F107: Eerste verdieping | G107: Gang | H107: Verkeersruimte | I107: 1.07 | J107: Marmoleum | K107: 101 | L107: =_xlfn.XLOOKUP(Ruimtestaat[[#This Row],[Ruimtesoort / Werkprogramma ]],'Prijzenblad SCOT'!$C$2:$C$10,'Prijzenblad SCOT'!$G$2:$G$10,"") -> 0 | M107: =IF(L107=0,0,L107*K107) -> 0
A108: SCOT | B108: De Fontein (oranjestraat) | C108: De Fontein | D108: Oranjestraat 2C | E108: Vriezenveen | F108: Eerste verdieping | G108: Toiletten | H108: Sanitair | I108: 1.08 | J108: Coating | K108: 4 | L108: =_xlfn.XLOOKUP(Ruimtestaat[[#This Row],[Ruimtesoort / Werkprogramma ]],'Prijzenblad SCOT'!$C$2:$C$10,'Prijzenblad SCOT'!$G$2:$G$10,"") -> 0 | M108: =IF(L108=0,0,L108*K108) -> 0
A109: SCOT | B109: De Fontein (oranjestraat) | C109: De Fontein | D109: Oranjestraat 2C | E109: Vriezenveen | F109: Eerste verdieping | G109: Technische ruimte | H109: Niet in onderhoud | I109: 1.09 | J109: - | K109: - | L109: =_xlfn.XLOOKUP(Ruimtestaat[[#This Row],[Ruimtesoort / Werkprogramma ]],'Prijzenblad SCOT'!$C$2:$C$10,'Prijzenblad SCOT'!$G$2:$G$10,"") -> 0 | M109: =IF(L109=0,0,L109*K109) -> 0
A110: SCOT | B110: De Fontein (oranjestraat) | C110: De Fontein | D110: Oranjestraat 2C | E110: Vriezenveen | F110: Eerste verdieping | G110: Lokaal | H110: Leslokaal | I110: 1.10 | J110: Marmoleum | K110: 56 | L110: =_xlfn.XLOOKUP(Ruimtestaat[[#This Row],[Ruimtesoort / Werkprogramma ]],'Prijzenblad SCOT'!$C$2:$C$10,'Prijzenblad SCOT'!$G$2:$G$10,"") -> 0 | M110: =IF(L110=0,0,L110*K110) -> 0
A111: SCOT | B111: De Fontein (oranjestraat) | C111: De Fontein | D111: Oranjestraat 2C | E111: Vriezenveen | F111: Eerste verdieping | G111: Toiletten | H111: Sanitair | I111: 1.11 | J111: Coating | K111: 4 | L111: =_xlfn.XLOOKUP(Ruimtestaat[[#This Row],[Ruimtesoort / Werkprogramma ]],'Prijzenblad SCOT'!$C$2:$C$10,'Prijzenblad SCOT'!$G$2:$G$10,"") -> 0 | M111: =IF(L111=0,0,L111*K111) -> 0
A112: SCOT | B112: De Fontein (oranjestraat) | C112: De Fontein | D112: Oranjestraat 2C | E112: Vriezenveen | F112: Eerste verdieping | G112: Werkkast | H112: Niet in onderhoud | I112: 1.12 | J112: - | K112: - | L112: =_xlfn.XLOOKUP(Ruimtestaat[[#This Row],[Ruimtesoort / Werkprogramma ]],'Prijzenblad SCOT'!$C$2:$C$10,'Prijzenblad SCOT'!$G$2:$G$10,"") -> 0 | M112: =IF(L112=0,0,L112*K112) -> 0
A113: SCOT | B113: De Fontein (oranjestraat) | C113: De Fontein | D113: Oranjestraat 2C | E113: Vriezenveen | F113: Eerste verdieping | G113: Lokaal | H113: Leslokaal | I113: 1.13 | J113: Marmoleum | K113: 36 | L113: =_xlfn.XLOOKUP(Ruimtestaat[[#This Row],[Ruimtesoort / Werkprogramma ]],'Prijzenblad SCOT'!$C$2:$C$10,'Prijzenblad SCOT'!$G$2:$G$10,"") -> 0 | M113: =IF(L113=0,0,L113*K113) -> 0
A114: SCOT | B114: De Fontein (oranjestraat) | C114: De Fontein | D114: Oranjestraat 2C | E114: Vriezenveen | F114: Eerste verdieping | G114: Toiletten | H114: Sanitair | I114: 1.14 | J114: Coating | K114: 6 | L114: =_xlfn.XLOOKUP(Ruimtestaat[[#This Row],[Ruimtesoort / Werkprogramma ]],'Prijzenblad SCOT'!$C$2:$C$10,'Prijzenblad SCOT'!$G$2:$G$10,"") -> 0 | M114: =IF(L114=0,0,L114*K114) -> 0
A115: SCOT | B115: De Fontein (oranjestraat) | C115: De Fontein | D115: Oranjestraat 2C | E115: Vriezenveen | F115: Eerste verdieping | G115: Lokaal | H115: Leslokaal | I115: 1.15 | J115: Marmoleum | K115: 53 | L115: =_xlfn.XLOOKUP(Ruimtestaat[[#This Row],[Ruimtesoort / Werkprogramma ]],'Prijzenblad SCOT'!$C$2:$C$10,'Prijzenblad SCOT'!$G$2:$G$10,"") -> 0 | M115: =IF(L115=0,0,L115*K115) -> 0
A116: SCOT | B116: De Marliaantjes | C116: De Marliaantjes | D116: Hammerweg 8 | E116: Hellendoorn | F116: Begane grond | G116: Lokaal | H116: Kleuterlokaal | I116: 0.01a | J116: Marmoleum | K116: 73 | L116: =_xlfn.XLOOKUP(Ruimtestaat[[#This Row],[Ruimtesoort / Werkprogramma ]],'Prijzenblad SCOT'!$C$2:$C$10,'Prijzenblad SCOT'!$G$2:$G$10,"") -> 0 | M116: =IF(L116=0,0,L116*K116) -> 0
A117: SCOT | B117: De Marliaantjes | C117: De Marliaantjes | D117: Hammerweg 8 | E117: Hellendoorn | F117: Begane grond | G117: Lokaal | H117: Kleuterlokaal | I117: 0.01b | J117: Tapijt | K117: 10 | L117: =_xlfn.XLOOKUP(Ruimtestaat[[#This Row],[Ruimtesoort / Werkprogramma ]],'Prijzenblad SCOT'!$C$2:$C$10,'Prijzenblad SCOT'!$G$2:$G$10,"") -> 0 | M117: =IF(L117=0,0,L117*K117) -> 0
A118: SCOT | B118: De Marliaantjes | C118: De Marliaantjes | D118: Hammerweg 8 | E118: Hellendoorn | F118: Begane grond | G118: Magazijn | H118: Niet in onderhoud | I118: 0.02 | J118: Tapijt | K118: 6 | L118: =_xlfn.XLOOKUP(Ruimtestaat[[#This Row],[Ruimtesoort / Werkprogramma ]],'Prijzenblad SCOT'!$C$2:$C$10,'Prijzenblad SCOT'!$G$2:$G$10,"") -> 0 | M118: =IF(L118=0,0,L118*K118) -> 0
A119: SCOT | B119: De Marliaantjes | C119: De Marliaantjes | D119: Hammerweg 8 | E119: Hellendoorn | F119: Begane grond | G119: Reproruimte | H119: Niet in onderhoud | I119: 0.03 | J119: Tapijt | K119: 4 | L119: =_xlfn.XLOOKUP(Ruimtestaat[[#This Row],[Ruimtesoort / Werkprogramma ]],'Prijzenblad SCOT'!$C$2:$C$10,'Prijzenblad SCOT'!$G$2:$G$10,"") -> 0 | M119: =IF(L119=0,0,L119*K119) -> 0
A120: SCOT | B120: De Marliaantjes | C120: De Marliaantjes | D120: Hammerweg 8 | E120: Hellendoorn | F120: Begane grond | G120: Toilet | H120: Sanitair | I120: 0.04 | J120: Tegels | K120: 2 | L120: =_xlfn.XLOOKUP(Ruimtestaat[[#This Row],[Ruimtesoort / Werkprogramma ]],'Prijzenblad SCOT'!$C$2:$C$10,'Prijzenblad SCOT'!$G$2:$G$10,"") -> 0 | M120: =IF(L120=0,0,L120*K120) -> 0
A121: SCOT | B121: De Marliaantjes | C121: De Marliaantjes | D121: Hammerweg 8 | E121: Hellendoorn | F121: Begane grond | G121: Hal | H121: Verkeersruimte | I121: 0.05a | J121: Tapijt | K121: 2 | L121: =_xlfn.XLOOKUP(Ruimtestaat[[#This Row],[Ruimtesoort / Werkprogramma ]],'Prijzenblad SCOT'!$C$2:$C$10,'Prijzenblad SCOT'!$G$2:$G$10,"") -> 0 | M121: =IF(L121=0,0,L121*K121) -> 0
A122: SCOT | B122: De Marliaantjes | C122: De Marliaantjes | D122: Hammerweg 8 | E122: Hellendoorn | F122: Begane grond | G122: Gang | H122: Verkeersruimte | I122: 0.05b | J122: Marmoleum | K122: 23 | L122: =_xlfn.XLOOKUP(Ruimtestaat[[#This Row],[Ruimtesoort / Werkprogramma ]],'Prijzenblad SCOT'!$C$2:$C$10,'Prijzenblad SCOT'!$G$2:$G$10,"") -> 0 | M122: =IF(L122=0,0,L122*K122) -> 0
A123: SCOT | B123: De Marliaantjes | C123: De Marliaantjes | D123: Hammerweg 8 | E123: Hellendoorn | F123: Begane grond | G123: Werkkast | H123: Niet in onderhoud | I123: 0.06 | J123: Marmoleum | K123: 1 | L123: =_xlfn.XLOOKUP(Ruimtestaat[[#This Row],[Ruimtesoort / Werkprogramma ]],'Prijzenblad SCOT'!$C$2:$C$10,'Prijzenblad SCOT'!$G$2:$G$10,"") -> 0 | M123: =IF(L123=0,0,L123*K123) -> 0
A124: SCOT | B124: De Marliaantjes | C124: De Marliaantjes | D124: Hammerweg 8 | E124: Hellendoorn | F124: Begane grond | G124: Toilet | H124: Sanitair | I124: 0.07 | J124: Tegels | K124: 7 | L124: =_xlfn.XLOOKUP(Ruimtestaat[[#This Row],[Ruimtesoort / Werkprogramma ]],'Prijzenblad SCOT'!$C$2:$C$10,'Prijzenblad SCOT'!$G$2:$G$10,"") -> 0 | M124: =IF(L124=0,0,L124*K124) -> 0
... A132: SCOT | B132: De Marliaantjes | C132: De Marliaantjes | D132: Hammerweg 8 | E132: Hellendoorn | F132: Begane grond | G132: Kantoor | H132: Administratieve ruimte | I132: 0.14 | J132: Tapijt | K132: 8 | L132: =_xlfn.XLOOKUP(Ruimtestaat[[#This Row],[Ruimtesoort / Werkprogramma ]],'Prijzenblad SCOT'!$C$2:$C$10,'Prijzenblad SCOT'!$G$2:$G$10,"") -> 0 | M132: =IF(L132=0,0,L132*K132) -> 0
A133: SCOT | B133: De Marliaantjes | C133: De Marliaantjes | D133: Hammerweg 8 | E133: Hellendoorn | F133: Begane grond | G133: Bezemkast | H133: Niet in onderhoud | I133: 0.15 | J133: - | K133: - | L133: =_xlfn.XLOOKUP(Ruimtestaat[[#This Row],[Ruimtesoort / Werkprogramma ]],'Prijzenblad SCOT'!$C$2:$C$10,'Prijzenblad SCOT'!$G$2:$G$10,"") -> 0 | M133: =IF(L133=0,0,L133*K133) -> 0
A134: SCOT | B134: De Marliaantjes | C134: De Marliaantjes | D134: Hammerweg 8 | E134: Hellendoorn | F134: Begane grond | G134: Meterkast | H134: Niet in onderhoud | I134: 0.16 | J134: - | K134: - | L134: =_xlfn.XLOOKUP(Ruimtestaat[[#This Row],[Ruimtesoort / Werkprogramma ]],'Prijzenblad SCOT'!$C$2:$C$10,'Prijzenblad SCOT'!$G$2:$G$10,"") -> 0 | M134: =IF(L134=0,0,L134*K134) -> 0
A135: SCOT | B135: De Marliaantjes | C135: De Marliaantjes | D135: Hammerweg 8 | E135: Hellendoorn | F135: Begane grond | G135: Meterkast | H135: Niet in onderhoud | I135: 0.17 | J135: - | K135: - | L135: =_xlfn.XLOOKUP(Ruimtestaat[[#This Row],[Ruimtesoort / Werkprogramma ]],'Prijzenblad SCOT'!$C$2:$C$10,'Prijzenblad SCOT'!$G$2:$G$10,"") -> 0 | M135: =IF(L135=0,0,L135*K135) -> 0
A136: SCOT | B136: De Marliaantjes | C136: De Marliaantjes | D136: Hammerweg 8 | E136: Hellendoorn | F136: Begane grond | G136: Entree | H136: Verkeersruimte | I136: 0.18 | J136: Schoonloopmat | K136: 4 | L136: =_xlfn.XLOOKUP(Ruimtestaat[[#This Row],[Ruimtesoort / Werkprogramma ]],'Prijzenblad SCOT'!$C$2:$C$10,'Prijzenblad SCOT'!$G$2:$G$10,"") -> 0 | M136: =IF(L136=0,0,L136*K136) -> 0
A137: SCOT | B137: De Marliaantjes | C137: De Marliaantjes | D137: Hammerweg 8 | E137: Hellendoorn | F137: Begane grond | G137: Lokaal | H137: Leslokaal | I137: 0.19 | J137: Marmoleum | K137: 48 | L137: =_xlfn.XLOOKUP(Ruimtestaat[[#This Row],[Ruimtesoort / Werkprogramma ]],'Prijzenblad SCOT'!$C$2:$C$10,'Prijzenblad SCOT'!$G$2:$G$10,"") -> 0 | M137: =IF(L137=0,0,L137*K137) -> 0
A138: SCOT | B138: De Marliaantjes | C138: De Marliaantjes | D138: Hammerweg 8 | E138: Hellendoorn | F138: Begane grond | G138: Lokaal | H138: Leslokaal | I138: 0.20 | J138: Marmoleum | K138: 50 | L138: =_xlfn.XLOOKUP(Ruimtestaat[[#This Row],[Ruimtesoort / Werkprogramma ]],'Prijzenblad SCOT'!$C$2:$C$10,'Prijzenblad SCOT'!$G$2:$G$10,"") -> 0 | M138: =IF(L138=0,0,L138*K138) -> 0
A139: SCOT | B139: De Marliaantjes | C139: De Marliaantjes | D139: Hammerweg 8 | E139: Hellendoorn | F139: Begane grond | G139: Lokaal | H139: Leslokaal | I139: 0.21 | J139: Marmoleum | K139: 64 | L139: =_xlfn.XLOOKUP(Ruimtestaat[[#This Row],[Ruimtesoort / Werkprogramma ]],'Prijzenblad SCOT'!$C$2:$C$10,'Prijzenblad SCOT'!$G$2:$G$10,"") -> 0 | M139: =IF(L139=0,0,L139*K139) -> 0
A140: SCOT | B140: De Marliaantjes | C140: De Marliaantjes | D140: Hammerweg 8 | E140: Hellendoorn | F140: Eerste verdieping | G140: Kantoor | H140: Administratieve ruimte | I140: 1.01 | J140: Tapijt | K140: 15 | L140: =_xlfn.XLOOKUP(Ruimtestaat[[#This Row],[Ruimtesoort / Werkprogramma ]],'Prijzenblad SCOT'!$C$2:$C$10,'Prijzenblad SCOT'!$G$2:$G$10,"") -> 0 | M140: =IF(L140=0,0,L140*K140) -> 0
A141: SCOT | B141: De Marliaantjes | C141: De Marliaantjes | D141: Hammerweg 8 | E141: Hellendoorn | F141: Eerste verdieping | G141: Werkruimte | H141: Administratieve ruimte | I141: 1.02 | J141: Tapijt | K141: 26 | L141: =_xlfn.XLOOKUP(Ruimtestaat[[#This Row],[Ruimtesoort / Werkprogramma ]],'Prijzenblad SCOT'!$C$2:$C$10,'Prijzenblad SCOT'!$G$2:$G$10,"") -> 0 | M141: =IF(L141=0,0,L141*K141) -> 0
A142: SCOT | B142: De Marliaantjes | C142: De Marliaantjes | D142: Hammerweg 8 | E142: Hellendoorn | F142: Eerste verdieping | G142: Gang | H142: Verkeersruimte | I142: 1.03 | J142: Marmoleum | K142: 28 | L142: =_xlfn.XLOOKUP(Ruimtestaat[[#This Row],[Ruimtesoort / Werkprogramma ]],'Prijzenblad SCOT'!$C$2:$C$10,'Prijzenblad SCOT'!$G$2:$G$10,"") -> 0 | M142: =IF(L142=0,0,L142*K142) -> 0
A143: SCOT | B143: De Marliaantjes | C143: De Marliaantjes | D143: Hammerweg 8 | E143: Hellendoorn | F143: Eerste verdieping | G143: Magazijn | H143: Niet in onderhoud | I143: 1.04 | J143: Tegels | K143: 2 | L143: =_xlfn.XLOOKUP(Ruimtestaat[[#This Row],[Ruimtesoort / Werkprogramma ]],'Prijzenblad SCOT'!$C$2:$C$10,'Prijzenblad SCOT'!$G$2:$G$10,"") -> 0 | M143: =IF(L143=0,0,L143*K143) -> 0
A144: SCOT | B144: De Marliaantjes | C144: De Marliaantjes | D144: Hammerweg 8 | E144: Hellendoorn | F144: Eerste verdieping | G144: Toilet | H144: Sanitair | I144: 1.05 | J144: Tegels | K144: 1 | L144: =_xlfn.XLOOKUP(Ruimtestaat[[#This Row],[Ruimtesoort / Werkprogramma ]],'Prijzenblad SCOT'!$C$2:$C$10,'Prijzenblad SCOT'!$G$2:$G$10,"") -> 0 | M144: =IF(L144=0,0,L144*K144) -> 0
A145: SCOT | B145: De Marliaantjes | C145: De Marliaantjes | D145: Hammerweg 8 | E145: Hellendoorn | F145: Eerste verdieping | G145: Ketelruimte | H145: Niet in onderhoud | I145: 1.06 | J145: Tegels | K145: 1 | L145: =_xlfn.XLOOKUP(Ruimtestaat[[#This Row],[Ruimtesoort / Werkprogramma ]],'Prijzenblad SCOT'!$C$2:$C$10,'Prijzenblad SCOT'!$G$2:$G$10,"") -> 0 | M145: =IF(L145=0,0,L145*K145) -> 0
A146: SCOT | B146: De Marliaantjes | C146: De Marliaantjes | D146: Hammerweg 8 | E146: Hellendoorn | F146: Eerste verdieping | G146: Ketelruimte | H146: Niet in onderhoud | I146: 1.07 | J146: Tegels | K146: 3 | L146: =_xlfn.XLOOKUP(Ruimtestaat[[#This Row],[Ruimtesoort / Werkprogramma ]],'Prijzenblad SCOT'!$C$2:$C$10,'Prijzenblad SCOT'!$G$2:$G$10,"") -> 0 | M146: =IF(L146=0,0,L146*K146) -> 0
...

Sheet Locaties SCOT
A1: Terug naar het tabblad Toelichting
A2: Scholen | B2: Locatienaam | C2: Adres | D2: Postcode | E2: Plaats | F2: # m²
A3: SCOT | B3: De Bron | C3: Molenstraat 2 | D3: 7671 KB | E3: Vriezenveen | F3: =SUM('Ruimtestaat'!K4:K21) -> 568.4
A4: SCOT | B4: Eltheto | C4: Schoolstraat 9 | D4: 7671 GG | E4: Vriezenveen | F4: =SUM('Ruimtestaat'!K22:K54) -> 1149
A5: SCOT | B5: De Fontein Hoofdweg | C5: Hoofdweg 56 | D5: 7676 AG | E5: Westerhaar | F5: =SUM('Ruimtestaat'!K55:K80) -> 837.7
A6: SCOT | B6: De Fontein Oranjestraat | C6: Oranjestraat 2C | D6: 7676 AG | E6: Westerhaar | F6: =SUM('Ruimtestaat'!K81:K115) -> 965.7
A7: SCOT | B7: De Marliaantjes | C7: Hammerweg 8 | D7: 7447 SM | E7: Hellendoorn | F7: =SUM('Ruimtestaat'!K116:K149) -> 601
A8: SCOT | B8: De Maten | C8: Broekmaten 6 | D8: 7683 XH | E8: Den Ham | F8: =SUM('Ruimtestaat'!K150:K190) -> 1031
A9: SCOT | B9: De Pölle | C9: Oude Hoevenweg 97 | D9: 7671 PH | E9: Vriezenveen | F9: =SUM('Ruimtestaat'!K191:K219) -> 510.04
A10: SCOT | B10: De Regenboog | C10: De Leeuwerik 1 | D10: 7671 ZX | E10: Vriezenveen | F10: =SUM('Ruimtestaat'!K220:K251) -> 965.2
A11: SCOT | B11: Shalom | C11: Zicht 2 | D11: 7671 ND | E11: Vriezenveen | F11: =SUM('Ruimtestaat'!K252:K291) -> 1070.01
A12: SCOT | B12: Shalom De Weeme | C12: Koningshof 4 | D12: 7672 GE | E12: Vriezenveen | F12: =SUM('Ruimtestaat'!K292:K339) -> 1293
A13: SCOT | B13: De Sleutel | C13: Stobbelaan 61 | D13: 7681 ZN | E13: Vroomshoop | F13: =SUM('Ruimtestaat'!K340:K399) -> 1154.3
A14: SCOT | B14: De Smithoek | C14: Roelofsbrink 12 | D14: 7683 CK | E14: Den Ham | F14: =SUM('Ruimtestaat'!K400:K495) -> 2587
A15: SCOT | B15: De Tweeklank | C15: Albardastraat 35 | D15: 7611 BE | E15: Aadorp | F15: =SUM('Ruimtestaat'!K496:K543) -> 1117
A16: SCOT | B16: Rehoboth | C16: Buitenlandweg 1 | D16: 7671 RK | E16: Vriezenveen | F16: =SUM('Ruimtestaat'!K544:K575) -> 954
A17: SCOT | B17: Bestuurskantoor | C17: Schoolstraat 5 | D17: 7671 GG | E17: Vriezenveen | F17: =SUM('Ruimtestaat'!K576:K593) -> 189.75
A18: Totaal | F18: =SUBTOTAL(109,Locaties['# m²]) -> 14993.1

Sheet Admistratieve ruimte (1)
A1: Terug naar het tabblad Toelichting | B1: Stichting: | C1: SCOT | D1: Prijs van dit werkprogramma per m² per jaar
B2: Programmacode: | C2: 1
B3: Omschrijving: | C3: Administratieve ruimte
B5: Onderdeel | C5: Handeling | D5: Resultaat omschrijving | E5: Aantal prestaties per jaar | F5: Aantal prestaties per periode
A6: Dagelijks | B6: Afvalbakken | C6: Ledigen en afvalzak vervangen | D6: Leeg en voorzien van schone plastic zak | E6: 84 | F6: 2x per week
B7: Afvoer restafval. Papier wordt door Opdrachtgever zelf gedaan. | C7: Afvoeren afval | D7: Het vanaf de bron inzamelen en het afvoeren naar een centrale plek van restafval. | E7: 84 | F7: 2x per week
A8: Wekelijks | B8: Deurkrukken, -grepen en directe omgeving | C8: Klamvochtig reinigen | D8: Deurkrukken en -grepen vrij van stof, vingertasten en vlekken. | E8: 42 | F8: 1x per week
B9: Bureaustoelen: stoelpoten en -leuningen | C9: Klamvochtig reinigen | D9: Het stof- en vlekvrij opleveren van stoelpoten en -leuningen | E9: 42 | F9: 1x per week
B10: Lichtschakelaars | C10: Klamvochtig reinigen | D10: Het stof- en vlekvrij opleveren van lichtschakelaars | E10: 42 | F10: 1x per week
B11: Lichtarmaturen | C11: Klamvochtig reinigen | D11: Het stof- en vlekvrij opleveren van armaturen tot reikhoogte (200cm) | E11: 42 | F11: 1x per week
B12: Inventaris (meubilair, lampen, kasten, tafels, enzovoorts) | C12: Klamvochtig reinigen | D12: Het stof- en vlekvrij opleveren van de horizontale vlakken van de inventaris tot reikhoogte (200cm) | E12: 42 | F12: 1x per week
B13: (Glazen)deuren / seperatieglas | C13: Vingertasten verwijderen en ontvlekken | D13: Stof- en vlekvrij, geen aangehecht vuil, geen stickers | E13: 42 | F13: 1x per week
B14: Radiatoren | C14: Bovenzijde klamvochtig reinigen | D14: Bovenzijde stofvrij maken | E14: 42 | F14: 1x per week
B15: Randen / richels / plinten / kabelgoten | C15: Stofvrij maken | D15: Licht stof bovenzijde, geen losliggend en aangehecht vuil | E15: 42 | F15: 1x per week
B16: Vensterbanken | C16: Klamvochtig reinigen | D16: Het stof- en vlekvrij opleveren van vensterbanken, mits ontruimd | E16: 42 | F16: 1x per week
B17: Vloer met harde afwerking (tegel, steen, epoxy, gietvloer, PVC, beton en vergelijkbaar) | C17: Vlakmoppen | D17: Het moppen van alle harde vloeren | E17: 42 | F17: 1x per week
B18: Vloer met harde afwerking (tegel, steen, epoxy, gietvloer, PVC, beton en vergelijkbaar) | C18: Stofwissen en ontvlekken | D18: Het stof- en vlekvrij opleveren van de vloer | E18: 42 | F18: 1x per week
B19: Vloer zachte afwerking | C19: Stofzuigen en ontvlekken | D19: Het stof- en vlekvrij opleveren van de vloer | E19: 42 | F19: 1x per week
B20: Wandcontactdozen | C20: Klamvochtig reinigen | D20: Het stof- en vlekvrij opleveren van wandcontactdozen | E20: 42 | F20: 1x per week
A21: Maandelijks | B21: Hoge en lage kasten | C21: Klamvochtig reinigen verticale vlakken | D21: Het klamvochtig reinigen van de verticale vlakken van de kasten | E21: 12 | F21: 1x per maand
B22: Gehele ruimte | C22: Ragen | D22: Spinrag verwijderen indien aanwezig | E22: 12 | F22: 1x per maand
B23: Luchtroosters / ventilatieroosters | C23: Buitenzijde stof verwijderen | D23: Licht stof, geen aangehecht vuil | E23: 12 | F23: 1x per maand
B24: Afvalbakken | C24: Geheel reinigen, buiten- en binnenzijde nat afnemen | D24: Stof- en vlekvrij, geen aangehecht vuil | E24: 12 | F24: 1x per maand
B25: Wanddecoratie | C25: Stofvrij maken | D25: Licht stof, geen aangehecht vuil | E25: 12 | F25: 1x per maand
A26: Periodiek | B26: (Glazen)deuren inclusief deurposten | C26: Reinigen | D26: Het nat reinigen van de gehele deur met omlijstingen, inclusief het verwijderen van schopstrepen | E26: 4 | F26: 1x per kwartaal
B27: Hoge kasten | C27: Klamvochtig reinigen bovenzijde boven reikhoogte en verticale vlakken | D27: Het klamvochtig reinigen van de bovenzijde en de verticale vlakken van de kasten | E27: 4 | F27: 1x per kwartaal
B28: Inventaris / radiatoren / vensterbanken / plantenbakken | C28: Nat reinigen | D28: Het (horizontaal en verticaal) nat reinigen van de inventaris, vensterbanken en radiatoren inclusief het verwijderen van kauwgom | E28: 4 | F28: 1x per kwartaal
B29: Wanden (afwasbaar) | C29: Ontvlekken | D29: Het plaatselijk verwijderen van vlekken en vingertasten op wanden | E29: 4 | F29: 1x per kwartaal
B30: Vloer met harde afwerking (tegel, steen, epoxy, gietvloer, PVC beton en vergelijkbaar) | C30: Schrobben | D30: Stof- en vlekvrij, geen aangehecht vuil, geen kalkaanslag, geen lekstrepen, geen zeep en waterresten | E30: 2 | F30: 1x per halfjaar
B31: Randen / richels / plinten / lichtarmaturen / luchtroosters / radiatoren | C31: Stofvrij maken en ontvlekken | D31: Het geheel stof- en vlekvrij opleveren van alle hoge en lage richels, plinten en lichtarmaturen en de roosters van afzuigkanalen. Radiatoren aan binnenzijde vrij maken van stof en rag. | E31: 1 | F31: 1x per jaar
B32: Vloer | C32: Basisreiniging + Basisbehandeling | D32: Basisreiniging: Het verwijderen van oude beschermlagen en/of vuil waarna een basisbehandeling kan worden toegepast. Basisbehandeling: Vloerbehandeling, waarbij een of meer beschermlagen worden aangebracht, als basis voor het dagelijks en periodiek onderhoud | E32: 1 | F32: 1x per jaar

Sheet Leslokaal (2)
A1: Terug naar het tabblad Toelichting | B1: Project: | C1: SCOT | D1: Prijs van dit werkprogramma per m² per jaar
B2: Programmacode | C2: 2
B3: Omschrijving: | C3: Leslokaal
B5: Onderdeel | C5: Handeling | D5: Resultaat omschrijving | E5: Aantal prestaties per jaar | F5: Aantal prestaties per periode
A6: Dagelijks | B6: Afvalbakken | C6: Ledigen en afvalzak vervangen | D6: Leeg en voorzien van schone plastic zak | E6: 210 | F6: 5x per week
B7: Afvoer restafval. Papier wordt door Opdrachtgever zelf gedaan. | C7: Afvoeren afval | D7: Het vanaf de bron inzamelen en het afvoeren naar een centrale plek van restafval. | E7: 210 | F7: 5x per week
B8: Deurkrukken, -grepen en direkte omgeving | C8: Klamvochtig reinigen | D8: Deurkrukken en -grepen vrij van stof, vingertasten en vlekken. | E8: 210 | F8: 5x per week
B9: Wastafels | C9: Nat reinigen | D9: Het nat reinigen waardoor aangehecht vuil, lekstrepen, kalkaanslag en zeepresten worden verwijderd | E9: 210 | F9: 5x per week
B10: Vloer met harde afwerking (tegel, steen, epoxy, gietvloer, PVC, beton en vergelijkbaar) | C10: Stofwissen en ontvlekken | D10: Het stof- en vlekvrij opleveren van de vloer | E10: 168 | F10: 4x per week
B11: Vloer zachte afwerking | C11: Bijtippend stofzuigen | D11: Het bijtippend zuigen en ontdoen van plaatselijk gehecht vuil tbv de zachte vloerbedekking | E11: 168 | F11: 4x per week
A12: Wekelijks | B12: Bureaustoel leerkracht: stoelpoten en -leuningen | C12: Klamvochtig reinigen | D12: Het stof- en vlekvrij opleveren van stoelpoten en -leuningen | E12: 42 | F12: 1x per week
B13: Inventaris (meubilair, kasten, speeltoestellen, enzovoorts) | C13: Klamvochtig reinigen | D13: Het stof- en vlekvrij opleveren van de horizontale vlakken van de inventaris tot reikhoogte (200cm) | E13: 42 | F13: 1x per week
B14: Radiatoren | C14: Bovenzijde klamvochtig reinigen | D14: Bovenzijde stofvrij maken | E14: 42 | F14: 1x per week
B15: Randen / richels / plinten / kabelgoten | C15: Stofvrij maken | D15: Licht stof bovenzijde, geen losliggend en aangehecht vuil | E15: 42 | F15: 1x per week
B16: (Glazen)deuren / seperatieglas | C16: Vingertasten verwijderen en ontvlekken | D16: Stof- en vlekvrij, geen aangehecht vuil, geen stickers | E16: 42 | F16: 1x per week
B17: Lichtschakelaars | C17: Klamvochtig reinigen | D17: Het stof- en vlekvrij opleveren van lichtschakelaars | E17: 42 | F17: 1x per week
B18: Lichtarmaturen | C18: Klamvochtig reinigen | D18: Het stof- en vlekvrij opleveren van armaturen tot reikhoogte (200cm) | E18: 42 | F18: 1x per week
B19: Vensterbanken | C19: Klamvochtig reinigen | D19: Het stof- en vlekvrij opleveren van vensterbanken, mits ontruimd | E19: 42 | F19: 1x per week
B20: Vloer met harde afwerking (tegel, steen, epoxy, gietvloer, PVC, beton en vergelijkbaar) | C20: Vlakmoppen | D20: Het moppen van alle harde vloeren | E20: 42 | F20: 1x per week
B21: Vloer met harde afwerking (tegel, steen, epoxy, gietvloer, PVC, beton en vergelijkbaar) | C21: Volledig stofzuigen | D21: Volledig stofzuigen alle harde vloeren | E21: 42 | F21: 1x per week
B22: Vloer zachte afwerking | C22: Stofzuigen en ontvlekken | D22: Het stof- en vlekvrij opleveren van de vloer | E22: 42 | F22: 1x per week
B23: Wandcontactdozen | C23: Klamvochtig reinigen | D23: Het stof- en vlekvrij opleveren van wandcontactdozen | E23: 42 | F23: 1x per week
A24: Maandelijks | B24: Hoge en lage kasten | C24: Klamvochtig reinigen verticale vlakken | D24: Het klamvochtig reinigen van de kasten | E24: 12 | F24: 1x per maand
B25: Luchtroosters / ventilatieroosters | C25: Buitenzijde stof verwijderen | D25: Licht stof, geen aangehecht vuil | E25: 12 | F25: 1x per maand
B26: Gehele ruimte | C26: Ragen | D26: Spinrag verwijderen indien aanwezig | E26: 12 | F26: 1x per maand
B27: Afvalbakken | C27: Geheel reinigen, buiten- en binnenzijde nat afnemen | D27: Stof- en vlekvrij, geen aangehecht vuil | E27: 12 | F27: 1x per maand
B28: Wanddecoratie | C28: Stofvrij maken | D28: Licht stof, geen aangehecht vuil | E28: 12 | F28: 1x per maand
A29: Periodiek | B29: Hoge kasten | C29: Klamvochtig reinigen bovenzijde boven reikhoogte en verticale vlakken | D29: Het klamvochtig reinigen van de bovenzijde en de verticale vlakken van de kasten | E29: 4 | F29: 1x per kwartaal
B30: Inventaris / radiatoren / vensterbanken / plantenbakken | C30: Nat reinigen | D30: Het (horizontaal en verticaal) nat reinigen van de inventaris, vensterbanken en radiatoren inclusief het verwijderen van kauwgom | E30: 4 | F30: 1x per kwartaal
B31: Wanden (afwasbaar) | C31: Ontvlekken | D31: Het plaatselijk verwijderen van vlekken en vingertasten op wanden | E31: 4 | F31: 1x per kwartaal
B32: Wastafels en spoelbakken | C32: Oppoetsen | D32: Stof- en vlekvrij, geen aangehecht vuil, geen kalkaanslag. Glanzend chroom. | E32: 4 | F32: 1x per kwartaal
B33: (Glazen)deuren inclusief deurposten | C33: Reinigen | D33: Het nat reinigen van de gehele deur met omlijstingen, inclusief het verwijderen van schopstrepen | E33: 4 | F33: 1x per kwartaal
B34: Vloer met harde afwerking (tegel, steen, epoxy, gietvloer, PVC beton en vergelijkbaar) | C34: Schrobben | D34: Stof- en vlekvrij, geen aangehecht vuil, geen kalkaanslag, geen lekstrepen, geen zeep en waterresten | E34: 2 | F34: 1x per halfjaar
B35: Randen / richels / plinten / lichtarmaturen / luchtroosters / radiatoren | C35: Stofvrij maken en ontvlekken | D35: Het geheel stof- en vlekvrij opleveren van alle hoge en lage richels, plinten en lichtarmaturen en de roosters van afzuigkanalen. Radiatoren aan binnenzijde vrij maken van stof en rag. | E35: 2 | F35: 1x per halfjaar
B36: Vloer | C36: Basisreiniging + Basisbehandeling | D36: Basisreiniging: Het verwijderen van oude beschermlagen en/of vuil waarna een basisbehandeling kan worden toegepast. Basisbehandeling: Vloerbehandeling, waarbij een of meer beschermlagen worden aangebracht, als basis voor het dagelijks en periodiek onderhoud. | E36: 1 | F36: 1x per jaar

Sheet Kleuterlokaal (3)
A1: Terug naar het tabblad Toelichting | B1: Project: | C1: SCOT | D1: Prijs van dit werkprogramma per m² per jaar
B2: Programmacode | C2: 3
B3: Omschrijving: | C3: Kleuterlokaal
B5: Onderdeel | C5: Handeling | D5: Resultaat omschrijving | E5: Aantal prestaties per jaar | F5: Aantal prestaties per periode
A6: Dagelijks | B6: Afvalbakken | C6: Ledigen en afvalzak vervangen | D6: Leeg en voorzien van schone plastic zak | E6: 210 | F6: 5x per week
B7: Afvoer restafval. Papier wordt door Opdrachtgever zelf gedaan. | C7: Afvoeren afval | D7: Het vanaf de bron inzamelen en het afvoeren naar een centrale plek van restafval. | E7: 210 | F7: 5x per week
B8: Deurkrukken, -grepen en direkte omgeving | C8: Klamvochtig reinigen | D8: Deurkrukken en -grepen vrij van stof, vingertasten en vlekken. | E8: 210 | F8: 5x per week
B9: Wastafels | C9: Nat reinigen | D9: Het nat reinigen waardoor aangehecht vuil, lekstrepen, kalkaanslag en zeepresten worden verwijderd | E9: 210 | F9: 5x per week
B10: Tafels | C10: Klamvochtig reinigen | D10: Het stof- en vlekvrij opleveren van de horizontale vlakken van de tafels van de leerlingen. | E10: 126 | F10: 3x per week
B11: Vloer met harde afwerking (tegel, steen, epoxy, gietvloer, PVC, beton en vergelijkbaar) | C11: Stofwissen en ontvlekken | D11: Het stof- en vlekvrij opleveren van de vloer | E11: 126 | F11: 3x per week
B12: Vloer zachte afwerking | C12: Bijtippend stofzuigen | D12: Het bijtippend zuigen en ontdoen van plaatselijk gehecht vuil tbv de zachte vloerbedekking | E12: 126 | F12: 3x per week
B13: Vloer met harde afwerking (tegel, steen, epoxy, gietvloer, PVC, beton en vergelijkbaar) | C13: Vlakmoppen | D13: Het moppen van alle harde vloeren | E13: 84 | F13: 2x per week
B14: Vloer met harde afwerking (tegel, steen, epoxy, gietvloer, PVC, beton en vergelijkbaar) | C14: Volledig stofzuigen | D14: Volledig stofzuigen alle harde vloeren | E14: 84 | F14: 2x per week
B15: Vloer zachte afwerking | C15: Stofzuigen en ontvlekken | D15: Het stof- en vlekvrij opleveren van de vloer | E15: 84 | F15: 2x per week
A16: Wekelijks | B16: Bureaustoel leerkracht: stoelpoten en -leuningen | C16: Klamvochtig reinigen | D16: Het stof- en vlekvrij opleveren van stoelpoten en -leuningen | E16: 42 | F16: 1x per week
B17: Inventaris (meubilair, kasten, speeltoestellen, enzovoorts) | C17: Klamvochtig reinigen | D17: Het stof- en vlekvrij opleveren van de horizontale vlakken van de inventaris tot reikhoogte (200cm) | E17: 42 | F17: 1x per week
B18: Radiatoren | C18: Bovenzijde klamvochtig reinigen | D18: Bovenzijde stofvrij maken | E18: 42 | F18: 1x per week
B19: Randen / richels / plinten / kabelgoten | C19: Stofvrij maken | D19: Licht stof bovenzijde, geen losliggend en aangehecht vuil | E19: 42 | F19: 1x per week
B20: (Glazen)deuren / seperatieglas | C20: Vingertasten verwijderen en ontvlekken | D20: Stof- en vlekvrij, geen aangehecht vuil, geen stickers | E20: 42 | F20: 1x per week
B21: Lichtschakelaars | C21: Klamvochtig reinigen | D21: Het stof- en vlekvrij opleveren van lichtschakelaars | E21: 42 | F21: 1x per week
B22: Lichtarmaturen | C22: Klamvochtig reinigen | D22: Het stof- en vlekvrij opleveren van armaturen tot reikhoogte (200cm) | E22: 42 | F22: 1x per week
B23: Vensterbanken | C23: Klamvochtig reinigen | D23: Het stof- en vlekvrij opleveren van vensterbanken, mits ontruimd | E23: 42 | F23: 1x per week
B24: Wandcontactdozen | C24: Klamvochtig reinigen | D24: Het stof- en vlekvrij opleveren van wandcontactdozen | E24: 42 | F24: 1x per week
A25: Maandelijks | B25: Hoge en lage kasten | C25: Klamvochtig reinigen verticale vlakken | D25: Het klamvochtig reinigen van de kasten | E25: 12 | F25: 1x per maand
B26: Luchtroosters / ventilatieroosters | C26: Buitenzijde stof verwijderen | D26: Licht stof, geen aangehecht vuil | E26: 12 | F26: 1x per maand
B27: Gehele ruimte | C27: Ragen | D27: Spinrag verwijderen indien aanwezig | E27: 12 | F27: 1x per maand
B28: Afvalbakken | C28: Geheel reinigen, buiten- en binnenzijde nat afnemen | D28: Stof- en vlekvrij, geen aangehecht vuil | E28: 12 | F28: 1x per maand
B29: Wanddecoratie | C29: Stofvrij maken | D29: Licht stof, geen aangehecht vuil | E29: 12 | F29: 1x per maand
A30: Periodiek | B30: Hoge kasten | C30: Klamvochtig reinigen bovenzijde boven reikhoogte en verticale vlakken | D30: Het klamvochtig reinigen van de bovenzijde en de verticale vlakken van de kasten | E30: 4 | F30: 1x per kwartaal
B31: Inventaris / radiatoren / vensterbanken / plantenbakken | C31: Nat reinigen | D31: Het (horizontaal en verticaal) nat reinigen van de inventaris, vensterbanken en radiatoren inclusief het verwijderen van kauwgom | E31: 4 | F31: 1x per kwartaal
B32: Wanden (afwasbaar) | C32: Ontvlekken | D32: Het plaatselijk verwijderen van vlekken en vingertasten op wanden | E32: 4 | F32: 1x per kwartaal
B33: (Glazen)deuren inclusief deurposten | C33: Reinigen | D33: Het nat reinigen van de gehele deur met omlijstingen, inclusief het verwijderen van schopstrepen | E33: 4 | F33: 1x per kwartaal
B34: Randen / richels / plinten / lichtarmaturen / luchtroosters / radiatoren | C34: Stofvrij maken en ontvlekken | D34: Het geheel stof- en vlekvrij opleveren van alle hoge en lage richels, plinten en lichtarmaturen en de roosters van afzuigkanalen. Radiatoren aan binnenzijde vrij maken van stof en rag. | E34: 2 | F34: 1x per halfjaar
B35: Vloer met harde afwerking (tegel, steen, epoxy, gietvloer, PVC beton en vergelijkbaar) | C35: Schrobben | D35: Stof- en vlekvrij, geen aangehecht vuil, geen kalkaanslag, geen lekstrepen, geen zeep en waterresten | E35: 2 | F35: 1x per halfjaar
B36: Vloer | C36: Basisreiniging + Basisbehandeling | D36: Basisreiniging: Het verwijderen van oude beschermlagen en/of vuil waarna een basisbehandeling kan worden toegepast. Basisbehandeling: Vloerbehandeling, waarbij een of meer beschermlagen worden aangebracht, als basis voor het dagelijks en periodiek onderhoud | E36: 1 | F36: 1x per jaar

Sheet Sanitair (4)
A1: Terug naar het tabblad Toelichting | B1: Project: | C1: SCOT | D1: Prijs van dit werkprogramma per m² per jaar
B2: Programmacode: | C2: 4
B3: Omschrijving: | C3: Sanitair
B5: Onderdeel | C5: Handeling | D5: Resultaat omschrijving | E5: Aantal prestaties per jaar | F5: Aantal prestaties per periode
A6: Dagelijks | B6: Afvalbakken | C6: Ledigen en afvalzak vervangen | D6: Leeg en voorzien van schone plastic zak | E6: 210 | F6: 5x per week
B7: (Glazen)deuren | C7: Vingertasten verwijderen en ontvlekken | D7: Stof- en vlekvrij, geen aangehecht vuil, geen stickers | E7: 210 | F7: 5x per week
B8: Deurkrukken, -grepen en direkte omgeving | C8: Klamvochtig reinigen | D8: Deurkrukken en -grepen vrij van stof, vingertasten en vlekken. | E8: 210 | F8: 5x per week
B9: Directe betegeling sanitair | C9: Nat reinigen | D9: Het nat reinigen waardoor aangehecht vuil, lekstrepen, kalkaanslag en zeepresten worden verwijderd | E9: 210 | F9: 5x per week
B10: Douches | C10: Nat reinigen | D10: Stof- en vlekvrij, geen aangehecht vuil, geen kalkaanslag, geen lekstrepen | E10: 210 | F10: 5x per week
B11: Inventaris | C11: Klamvochtig reinigen | D11: Het stof- en vlekvrij opleveren van de horizontale vlakken van de inventaris tot reikhoogte (200cm) | E11: 210 | F11: 5x per week
B12: Keukenkastjes, aanrechtblad, gootsteen, chroomwerk | C12: Klamvochtig reinigen | D12: Het stof- en vlekvrij opleveren van de horizontale vlakken van de inventaris tot reikhoogte (200cm), deuren en grepen vrij van vingertasten en vlekken. | E12: 210 | F12: 5x per week
B13: Lichtschakelaars | C13: Klamvochtig reinigen | D13: Het stof- en vlekvrij opleveren van lichtschakelaars | E13: 210 | F13: 5x per week
B14: Planchet | C14: Klamvochtig reinigen | D14: Stof- en vlekvrij, geen losliggend en aangehecht vuil, geen zeepresten | E14: 210 | F14: 5x per week
B15: Sanitaire voorzieningen | C15: Klamvochtig reinigen | D15: Stof- en vlekvrij, geen losliggend en aangehecht vuil, geen zeepresten | E15: 210 | F15: 5x per week
B16: Schaamschot | C16: Nat reinigen | D16: Stof- en vlekvrij, lichte kalkaanslag, geen aangehecht vuil, geen lekstrepen | E16: 210 | F16: 5x per week
B17: Spiegels | C17: Reinigen/streeploos drogen | D17: Stof- en vlekvrij, geen aangehecht vuil, geen strepen | E17: 210 | F17: 5x per week
B18: Spoelinstallatie | C18: Nat reinigen & opwrijven | D18: Stof- en vlekvrij, geen aangehecht vuil, geen kalkaanslag | E18: 210 | F18: 5x per week
... B23: Wasbakken, inclusief buitenzijde en sifons | C23: Nat reinigen | D23: geen aangehecht vuil, geen lekstrepen, geen kalkaanslag, geen zeepresten | E23: 210 | F23: 5x per week
A24: Wekelijks | B24: Radiatoren | C24: Bovenzijde klamvochtig reinigen | D24: Bovenzijde stofvrij maken | E24: 42 | F24: 1x per week
B25: Vensterbanken | C25: Klamvochtig reinigen | D25: Het stof- en vlekvrij opleveren van vensterbanken, mits ontruimd | E25: 42 | F25: 1x per week
B26: Wandcontactdozen | C26: Klamvochtig reinigen | D26: Het stof- en vlekvrij opleveren van wandcontactdozen | E26: 42 | F26: 1x per week
A27: Maandelijks | B27: Afvalbakken | C27: Geheel reinigen, buiten- en binnenzijde nat afnemen | D27: Stof- en vlekvrij, geen aangehecht vuil | E27: 12 | F27: 1x per maand
B28: Luchtroosters / ventilatieroosters | C28: Buitenzijde stof verwijderen | D28: Licht stof, geen aangehecht vuil | E28: 12 | F28: 1x per maand
B29: Overige wanden (niet zijnde tegelwanden) | C29: Ontvlekken | D29: Stof- en vlekvrij, geen aangehecht vuil | E29: 12 | F29: 1x per maand
B30: Richels / plinten | C30: Stofvrij maken | D30: lichte stof bovenzijde, geen losliggend en aangehecht vuil | E30: 12 | F30: 1x per maand
B31: Gehele ruimte | C31: Ragen | D31: Spinrag verwijderen indien aanwezig | E31: 12 | F31: 1x per maand
A32: Periodiek | B32: Inventaris / radiatoren | C32: Reinigen | D32: Het (horizontaal en verticaal) nat reinigen van de inventaris en radiatoren inclusief het verwijderen van kauwgom | E32: 4 | F32: 1x per kwartaal
B33: (Glazen)deuren inclusief deurposten | C33: Nat reinigen | D33: Het nat reinigen van de gehele deur met omlijstingen, inclusief het verwijderen van schopstrepen | E33: 4 | F33: 1x per kwartaal
B34: Chroomwerk wastafels | C34: Oppoetsen | D34: Stof- en vlekvrij, geen aangehecht vuil, geen kalkaanslag | E34: 4 | F34: 1x per kwartaal
B35: Vloer met harde afwerking (tegel, steen, epoxy, gietvloer, PVC beton en vergelijkbaar) | C35: Schrobben | D35: Stof- en vlekvrij, geen aangehecht vuil, geen kalkaanslag, geen lekstrepen, geen zeep en waterresten | E35: 2 | F35: 1x per halfjaar
B36: Randen / richels / plinten / lichtarmaturen / luchtroosters / radiatoren | C36: Stofvrij maken en ontvlekken | D36: Het geheel stof- en vlekvrij opleveren van alle hoge en lage richels, plinten en lichtarmaturen en de roosters van afzuigkanalen. Radiatoren aan binnenzijde vrij maken van stof en rag. | E36: 1 | F36: 1x per jaar
B37: Sanitair / tegelwanden / afvalbakken / stenen of harde vloer | C37: Reinigen | D37: Het nat reinigen, desinfecteren en/of ontkalken van het sanitair, de vloer, de tegelwanden en de afvalbakken | E37: 1 | F37: 1x per jaar

Sheet Restauratieve ruimte (5)
A1: Terug naar het tabblad Toelichting | B1: Project: | C1: SCOT | D1: Prijs van dit werkprogramma per m² per jaar
B2: Programmacode: | C2: 5
B3: Omschrijving: | C3: Restauratieve ruimte
B5: Onderdeel | C5: Handeling | D5: Resultaat omschrijving | E5: Aantal prestaties per jaar | F5: Aantal prestaties per periode
A6: Dagelijks | B6: Afvalbakken | C6: Ledigen en afvalzak vervangen | D6: Leeg en voorzien van schone plastic zak | E6: 210 | F6: 5x per week
B7: Afvoer restafval. Papier wordt door Opdrachtgever zelf gedaan. | C7: Afvoeren afval | D7: Het vanaf de bron inzamelen en het afvoeren naar een centrale plek van restafval. | E7: 210 | F7: 5x per week
B8: Deurkrukken, -grepen en direkte omgeving | C8: Klamvochtig reinigen | D8: Deurkrukken en -grepen vrij van stof, vingertasten en vlekken. | E8: 210 | F8: 5x per week
B9: Tegelwanden | C9: Vingertasten verwijderen en ontvlekken | D9: Het plaatselijk verwijderen van vingertasten op wanden | E9: 210 | F9: 5x per week
B10: Vloer met harde afwerking (tegel, steen, epoxy, gietvloer, PVC beton en vergelijkbaar) | C10: Vlakmoppen | D10: Het moppen van alle harde vloeren | E10: 210 | F10: 5x per week
B11: Vloer zachte afwerking | C11: Stofzuigen en ontvlekken | D11: Het stof- en vlekvrij opleveren van de vloer | E11: 210 | F11: 5x per week
B12: Wastafels, aanrechtblokken en spoelbakken | C12: Nat reinigen | D12: Het nat reinigen waardoor aangehecht vuil, lekstrepen, kalkaanslag en zeepresten worden verwijderd | E12: 210 | F12: 5x per week
A13: Wekelijks | B13: Inventaris (meubilair, lampen, kasten, tafels, enzovoorts) | C13: Klamvochtig reinigen | D13: Het stof- en vlekvrij opleveren van de verticale vlakken van de inventaris tot reikhoogte (200cm). | E13: 42 | F13: 1x per week
B14: Lichtarmaturen | C14: Klamvochtig reinigen | D14: Het stof- en vlekvrij opleveren van armaturen tot reikhoogte (200cm) | E14: 42 | F14: 1x per week
B15: (Glazen)deuren | C15: Vingertasten verwijderen en ontvlekken | D15: Stof- en vlekvrij, geen aangehecht vuil, geen stickers | E15: 42 | F15: 1x per week
B16: Radiatoren | C16: Bovenzijde klamvochtig reinigen | D16: Bovenzijde stofvrij maken | E16: 42 | F16: 1x per week
B17: Randen / richels / plinten / kabelgoten | C17: Stofvrij maken | D17: Licht stof bovenzijde, geen losliggend en aangehecht vuil | E17: 42 | F17: 1x per week
B18: Vensterbanken | C18: Klamvochtig reinigen | D18: Het stof- en vlekvrij opleveren van vensterbanken, mits ontruimd | E18: 42 | F18: 1x per week
B19: Lichtschakelaars | C19: Klamvochtig reinigen | D19: Het stof- en vlekvrij opleveren van lichtschakelaars | E19: 42 | F19: 1x per week
B20: Wandcontactdozen | C20: Klamvochtig reinigen | D20: Het stof- en vlekvrij opleveren van wandcontactdozen | E20: 42 | F20: 1x per week
A21: Maandelijks | B21: Afvalbakken | C21: Geheel reinigen, buiten- en binnenzijde nat afnemen | D21: Stof- en vlekvrij, geen aangehecht vuil | E21: 12 | F21: 1x per maand
B22: Gehele ruimte | C22: Ragen | D22: Spinrag verwijderen indien aanwezig | E22: 12 | F22: 1x per maand
B23: Hoge en lage kasten | C23: Klamvochtig reinigen verticale vlakken | D23: Het klamvochtig reinigen van de verticale vlakken van de kasten | E23: 12 | F23: 1x per maand
B24: luchtroosters / ventilatieroosters | C24: Buitenzijde stof verwijderen | D24: Lichte stof, geen aangehecht vuil | E24: 12 | F24: 1x per maand
B25: Wanddecoratie | C25: Stofvrij maken | D25: Licht stof, geen aangehecht vuil | E25: 12 | F25: 1x per maand
A26: Periodiek | B26: (Glazen)deuren inclusief deurposten | C26: Reinigen | D26: Het nat reinigen van de gehele deur met omlijstingen, inclusief het verwijderen van schopstrepen | E26: 4 | F26: 1x per kwartaal
B27: Hoge kasten | C27: Klamvochtig reinigen bovenzijde boven reikhoogte en verticale vlakken | D27: Het klamvochtig reinigen van de bovenzijde en de verticale vlakken van de kasten | E27: 4 | F27: 1x per kwartaal
B28: Inventaris / radiatoren / plantenbakken | C28: Reinigen | D28: Het (horizontaal en verticaal) nat reinigen van de inventaris en radiatoren inclusief het verwijderen van kauwgom | E28: 4 | F28: 1x per kwartaal
B29: Wastafels en spoelbakken | C29: Oppoetsen | D29: Stof- en vlekvrij, geen aangehecht vuil, geen kalkaanslag. Glanzend chroom. | E29: 4 | F29: 1x per kwartaal
B30: Vloer met harde afwerking (tegel, steen, epoxy, gietvloer, PVC beton en vergelijkbaar) | C30: Schrobben | D30: Stof- en vlekvrij, geen aangehecht vuil, geen kalkaanslag, geen lekstrepen, geen zeep en waterresten | E30: 2 | F30: 1x per halfjaar
B31: Randen / richels / plinten / lichtarmaturen / luchtroosters / radiatoren | C31: Stofvrij maken en ontvlekken | D31: Het geheel stof- en vlekvrij opleveren van alle hoge en lage richels, plinten en lichtarmaturen en de roosters van afzuigkanalen. Radiatoren aan binnenzijde vrij maken van stof en rag. | E31: 1 | F31: 1x per jaar
B32: Wanden (afwasbaar) | C32: Reinigen | D32: De wanden geheel nat reinigen | E32: 1 | F32: 1x per jaar
B33: Vloer | C33: Basisreiniging + Basisbehandeling | D33: Basisreiniging: Het verwijderen van oude beschermlagen en/of vuil waarna een basisbehandeling kan worden toegepast. Basisbehandeling: Vloerbehandeling, waarbij een of meer beschermlagen worden aangebracht, als basis voor het dagelijks en periodiek onderhoud | E33: 1 | F33: 1x per jaar

Sheet Verkeersruimte (6)
A1: Terug naar het tabblad Toelichting | B1: Project: | C1: SCOT | D1: Prijs van dit werkprogramma per m² per jaar
B2: Programmacode: | C2: 6
B3: Omschrijving: | C3: Verkeersruimte
B5: Onderdeel | C5: Handeling | D5: Resultaat omschrijving | E5: Aantal prestaties per jaar | F5: Aantal prestaties per periode
A6: Dagelijks | B6: Afvalbakken | C6: Ledigen en indien nodig afvalzak vervangen | D6: Leeg en voorzien van schone plastic zak | E6: 210 | F6: 5x per week
B7: Afvoer restafval. Papier wordt door Opdrachtgever zelf gedaan. | C7: Afvoeren afval | D7: Het vanaf de bron inzamelen en het afvoeren naar een centrale plek van restafval. | E7: 210 | F7: 5x per week
B8: Deurkrukken, -grepen en direkte omgeving | C8: Klamvochtig reinigen | D8: Deurkrukken en -grepen vrij van stof, vingertasten en vlekken. | E8: 210 | F8: 5x per week
B9: Inloopmatten | C9: Stofzuigen en vlekken verwijderen | D9: Het stof- en vlekvrij opleveren van de matten | E9: 210 | F9: 5x per week
B10: Vloer met harde afwerking (tegel, steen, epoxy, gietvloer, PVC, beton en vergelijkbaar) | C10: Stofwissen en ontvlekken | D10: Het stof- en vlekvrij opleveren van de vloer (inclusief liftvloeren) | E10: 168 | F10: 4x per week
B11: Vloer zachte afwerking | C11: Bijtippend stofzuigen | D11: Het bijtippend zuigen en ontdoen van plaatselijk gehecht vuil tbv de zachte vloerbedekking | E11: 168 | F11: 4x per week
A12: Wekelijks | B12: (Glazen)deuren | C12: Vingertasten verwijderen en ontvlekken | D12: Stof- en vlekvrij, geen aangehecht vuil, geen stickers | E12: 42 | F12: 1x per week
B13: Inventaris (meubilair, lampen, kasten, tafels, speeltoestellen, enzovoorts) | C13: Klamvochtig reinigen | D13: Het stof- en vlekvrij opleveren van de horizontale vlakken van de inventaris tot reikhoogte (200cm) | E13: 42 | F13: 1x per week
B14: Lichtschakelaars | C14: Klamvochtig reinigen | D14: Het stof- en vlekvrij opleveren van lichtschakelaars | E14: 42 | F14: 1x per week
B15: Lichtarmaturen | C15: Klamvochtig reinigen | D15: Het stof- en vlekvrij opleveren van armaturen tot reikhoogte (200cm) | E15: 42 | F15: 1x per week
B16: Trapleuningen, traphekken, balustrades en dergelijke | C16: Klamvochtig reinigen | D16: Het stof- en vlekvrij opleveren van de trapleuningen enzovoorts | E16: 42 | F16: 1x per week
B17: Liften | C17: Vingertasten verwijderen en ontvlekken (verticale vlakken) | D17: Het stof- en vlekvrij opleveren van de (lift) wanden | E17: 42 | F17: 1x per week
B18: Inloopmatten | C18: Uitstoten | D18: Het uitstoten van de losliggende inloopmatten | E18: 42 | F18: 1x per week
B19: Radiatoren / vensterbanken | C19: Klamvochtig reinigen | D19: Het (horizontaal en verticaal) klamvochtig reinigen van de vensterbanken en radiatoren inclusief het verwijderen van kauwgom | E19: 42 | F19: 1x per week
B20: Plantenbakken | C20: Klamvochtig reinigen | D20: Licht stof, geen lekstrepen | E20: 42 | F20: 1x per week
B21: Randen / richels / plinten / kabelgoten | C21: Stofvrij maken | D21: Licht stof bovenzijde, geen losliggend en aangehecht vuil | E21: 42 | F21: 1x per week
B22: Vloer met harde afwerking (tegel, steen, epoxy, gietvloer, PVC, beton en vergelijkbaar) | C22: Volledig stofzuigen | D22: Volledig stofzuigen alle harde vloeren | E22: 42 | F22: 1x per week
B23: Vloer met harde afwerking (tegel, steen, epoxy, gietvloer, PVC, beton en vergelijkbaar) | C23: Vlakmoppen | D23: Het moppen van alle harde vloeren | E23: 42 | F23: 1x per week
B24: Vloer zachte afwerking | C24: Stofzuigen en ontvlekken | D24: Het stof- en vlekvrij opleveren van de vloer | E24: 42 | F24: 1x per week
B25: Wandcontactdozen en brandblusapparatuur | C25: Klamvochtig reinigen | D25: Het stof- en vlekvrij opleveren van wandcontactdozen en brandblusapparatuur | E25: 42 | F25: 1x per week
A26: Maandelijks | B26: Gehele ruimte | C26: Ragen | D26: Spinrag verwijderen indien aanwezig | E26: 12 | F26: 1x per maand
B27: Afvalbakken (binnenshuis) | C27: Geheel reinigen, buiten- en binnenzijde nat afnemen | D27: Stof- en vlekvrij, geen aangehecht vuil | E27: 12 | F27: 1x per maand
B28: Luchtroosters / ventilatieroosters | C28: Buitenzijde stof verwijderen | D28: Licht stof, geen aangehecht vuil | E28: 12 | F28: 1x per maand
B29: Hoge en lage kasten | C29: Klamvochtig reinigen verticale vlakken | D29: Het klamvochtig reinigen van de kasten | E29: 12 | F29: 1x per maand
B30: Wanddecoratie | C30: Stofvrij maken | D30: Licht stof, geen aangehecht vuil | E30: 12 | F30: 1x per maand
A31: Periodiek | B31: Inventaris / radiatoren / vensterbanken / afvalbakken | C31: Reinigen | D31: Het (horizontaal en verticaal) nat reinigen van de inventaris, vensterbanken, afvalbakken en radiatoren inclusief het verwijderen van kauwgom | E31: 4 | F31: 1x per kwartaal
B32: Hoge kasten | C32: Klamvochtig reinigen bovenzijde boven reikhoogte en verticale vlakken | D32: Het klamvochtig reinigen van de bovenzijde en de verticale vlakken van de kasten | E32: 4 | F32: 1x per kwartaal
B33: (Glazen)deuren inclusief deurposten | C33: Reinigen | D33: Het nat reinigen van de gehele deur met omlijstingen, inclusief het verwijderen van schopstrepen | E33: 4 | F33: 1x per kwartaal
B34: Wanden (afwasbaar) | C34: Ontvlekken | D34: Het plaatselijk verwijderen van vlekken en vingertasten op wanden | E34: 4 | F34: 1x per kwartaal
B35: Randen / richels / plinten / lichtarmaturen / luchtroosters / radiatoren | C35: Stofvrij maken en ontvlekken | D35: Het geheel stof- en vlekvrij opleveren van alle hoge en lage richels, plinten en lichtarmaturen en de roosters van afzuigkanalen. Radiatoren aan binnenzijde vrij maken van stof en rag. | E35: 2 | F35: 1x per halfjaar
B36: Vloer met harde afwerking (tegel, steen, epoxy, gietvloer, PVC, beton en vergelijkbaar) | C36: Schrobben | D36: Stof- en vlekvrij, geen aangehecht vuil, geen kalkaanslag, geen lekstrepen, geen zeep en waterresten | E36: 2 | F36: 1x per halfjaar
B37: Vloer | C37: Basisreiniging + Basisbehandeling | D37: Basisreiniging: Het verwijderen van oude beschermlagen en/of vuil waarna een basisbehandeling kan worden toegepast. Basisbehandeling: Vloerbehandeling, waarbij een of meer beschermlagen worden aangebracht, als basis voor het dagelijks en periodiek onderhoud | E37: 1 | F37: 1x per jaar

Sheet Speellokaal (7)
A1: Terug naar het tabblad Toelichting | B1: Project: | C1: SCOT | D1: Prijs van dit werkprogramma per m² per jaar
B2: Programmacode: | C2: 7
B3: Omschrijving: | C3: Speellokaal
B5: Onderdeel | C5: Handeling | D5: Resultaat omschrijving | E5: Aantal prestaties per jaar | F5: Aantal prestaties per periode
A6: Dagelijks | B6: Deurkrukken, -grepen en direkte omgeving | C6: Klamvochtig reinigen | D6: Deurkrukken en -grepen vrij van stof, vingertasten en vlekken. | E6: 42 | F6: 1x per week
B7: (Glazen)deuren | C7: Vingertasten verwijderen en ontvlekken | D7: Stof- en vlekvrij, geen aangehecht vuil, geen stickers | E7: 42 | F7: 1x per week
B8: Inloopmatten | C8: Stofzuigen en vlekken verwijderen | D8: Het stof- en vlekvrij opleveren van de matten | E8: 42 | F8: 1x per week
B9: Stenen/ harde vloer/ sportvloer | C9: Vlakmoppen | D9: Het moppen van de stenen vloeren | E9: 42 | F9: 1x per week
B10: Stenen/ harde vloer/ sportvloer | C10: Stofwissen | D10: Het stof- en vuilvrij opleveren van de vloer | E10: 42 | F10: 1x per week
B11: Tegelwanden | C11: Nat reinigen | D11: Het nat reinigen waardoor aangehecht vuil, lekstrepen, kalkaanslag en zeepresten worden verwijderd | E11: 42 | F11: 1x per week
B12: Kapstokken, deurkrukken, bovenkant toestellen, banken etc. nat afnemen | C12: Nat reinigen | D12: Het nat reinigen van de inventaris, sporttoestellen en deurkrukken , inclusief het verwijderen van schopstrepen | E12: 42 | F12: 1x per week
A13: Maandelijks | B13: (Glazen)deuren inclusief deurposten | C13: Nat reinigen | D13: Het nat reinigen van de gehele deur met omlijstingen, inclusief het verwijderen van schopstrepen | E13: 12 | F13: 1x per maand
B14: Afvalbakken | C14: Geheel reinigen, buiten- en binnenzijde nat afnemen | D14: Stof- en vlekvrij, geen aangehecht vuil | E14: 12 | F14: 1x per maand
B15: Gehele ruimte | C15: Ragen | D15: Spinrag verwijderen indien aanwezig | E15: 12 | F15: 1x per maand
B16: Lichtschakelaars | C16: Klamvochtig reinigen | D16: Het stof- en vlekvrij opleveren van lichtschakelaars | E16: 12 | F16: 1x per maand
B17: Sporttoestellen, vensterbanken en radiatoren | C17: Reinigen | D17: Het (horizontaal en verticaal) nat reinigen van de sporttoestellen, vensterbanken en radiatoren inclusief het verwijderen van kauwgom | E17: 12 | F17: 1x per maand
A18: Periodiek | B18: (Glazen)deuren inclusief deurposten | C18: Nat reinigen | D18: Het nat reinigen van de gehele deur met omlijstingen, inclusief het verwijderen van schopstrepen | E18: 4 | F18: 1x per kwartaal
B19: Hoge randen | C19: Nat reinigen | D19: Stofvrij maken hoge randen samen met glasbewassing | E19: 4 | F19: 1x per kwartaal
B20: Vloer met harde afwerking (tegel, steen, epoxy, gietvloer, PVC, beton en vergelijkbaar) | C20: Schrobben | D20: Stof- en vlekvrij, geen aangehecht vuil, geen kalkaanslag, geen lekstrepen, geen zeep en waterresten | E20: 2 | F20: 1x per halfjaar
B21: Vloer | C21: Basisreiniging + Basisbehandeling | D21: Basisreiniging: Het verwijderen van oude beschermlagen en/of vuil waarna een basisbehandeling kan worden toegepast. Basisbehandeling: Vloerbehandeling, waarbij een of meer beschermlagen worden aangebracht, als basis voor het dagelijks en periodiek onderhoud | E21: 1 | F21: 1x per jaar

Sheet BSO (8)
A1: Terug naar het tabblad Toelichting | B1: Project: | C1: SCOT | D1: Prijs van dit werkprogramma per m² per jaar
B2: Programmacode: | C2: 8
B3: Omschrijving: | C3: BSO
B5: Onderdeel | C5: Handeling | D5: Resultaat omschrijving | E5: Aantal prestaties per jaar | F5: Aantal prestaties per periode
A6: Dagelijks | B6: (Glazen)deuren en spiegels | C6: Vingertasten verwijderen en ontvlekken | D6: Stof- en vlekvrij, geen aangehecht vuil, geen stickers | E6: 260 | F6: 5x per week
B7: Deurkrukken, -grepen en deuren | C7: Klamvochtig reinigen | D7: Deurkrukken en -grepen vrij van stof, vingertasten en vlekken. | E7: 260 | F7: 5x per week
B8: Afvalbakken | C8: Ledigen en afvalzak vervangen | D8: Leeg en voorzien van schone plastic zak | E8: 260 | F8: 5x per week
B9: Afvoer restafval, papier en eventueel overig separaat ingezameld afval | C9: Afvoeren afval | D9: Het vanaf de bron inzamelen en het afvoeren naar een centrale plek van restafval, papier en eventueel overig separaat ingezameld afval. | E9: 260 | F9: 5x per week
B10: Vloer met harde afwerking (hout, lino, marmo, epoxy, gietvloer, tegels, PVC en dergelijke) | C10: Stofwissen | D10: Het stofvrij opleveren van de vloer | E10: 260 | F10: 5x per week
B11: Vloer zachte afwerking | C11: Bijtippend stofzuigen | D11: Het bijtippend zuigen en ontdoen van plaatselijk gehecht vuil tbv de zachte vloerbedekking | E11: 260 | F11: 5x per week
B12: Wastafels en spoelbakken | C12: Nat reinigen | D12: Het nat reinigen waardoor aangehecht vuil, lekstrepen, kalkaanslag en zeepresten worden verwijderd | E12: 260 | F12: 5x per week
B13: Vloer met harde afwerking (hout, lino, marmo, epoxy, gietvloer, tegels, PVC en dergelijke) | C13: Moppen | D13: Het moppen van alle harde vloeren | E13: 156 | F13: 3x per week
B14: Vloer met harde afwerking (hout, lino, marmo, epoxy, gietvloer, tegels, PVC en dergelijke) | C14: Ontvlekken | D14: Het vlekvrij opleveren van de vloer | E14: 104 | F14: 2x per week
A15: Wekelijks | B15: Inventaris (tot reikhoogte) (onder andere bureau's, tafels, stoelen, kasten, telefoontoestellen en (bureau) lampen) | C15: Stofvrij maken, vochtig afnemen en vlekverwijderen | D15: Het stof- en vlekvrij opleveren van inventaris tot reikhoogte (200cm) | E15: 52 | F15: 1x per week
B16: Randen en richels (tot reikhoogte) (inclusief lichtknoppen, radiatoren, vensterbanken, plinten, kabelgoten, etc) | C16: Vochtig afnemen en vlekken verwijderen | D16: Het stof- en vlekvrij opleveren van randen en richels tot reikhoogte (200cm) | E16: 52 | F16: 1x per week
A17: Maandelijks | B17: Wanden en plafonds | C17: Spinrag verwijderen | D17: Spinrag verwijderen indien aanwezig | E17: 12 | F17: 1x per maand
B18: Deuren en omlijstingen | C18: Vochtig reinigen | D18: Vlekvrij opleveren van deuren en omlijstingen | E18: 12 | F18: 1x per maand
B19: Afvalbakken | C19: Geheel reinigen, buiten- en binnenzijde nat afnemen | D19: Stof- en vlekvrij, geen aangehecht vuil | E19: 12 | F19: 1x per maand
B20: Ongestoffeerd meubilair (onder andere bedjes, tafels, stoelen, kasten, etc) | C20: Grondig reinigen | D20: Vlekvrij opleveren van ongestoffeerd meubilair | E20: 12 | F20: 1x per maand
B21: Gestoffeerd meubilair (onder andere stoelen, banken, krukken, etc) | C21: Stofzuigen | D21: Stofvrij opleveren van gestoffeerd meubilair | E21: 12 | F21: 1x per maand
B22: Verlichtingsarmaturen | C22: Buitenzijde stof verwijderen | D22: Het geheel stof- en vlekvrij opleveren | E22: 12 | F22: 1x per maand
B23: Randen en richels boven reikhoogte | C23: Stofvrij maken, vochtig afnemen en vlekverwijderen | D23: Het stof- en vlekvrij opleveren van randen en richels boven reikhoogte (200cm) | E23: 12 | F23: 1x per maand
B24: Radiatoren | C24: Geheel reinigen | D24: Vlekvrij opleveren van radiatoren en aan de binnenzijde vrij maken van stof en rag. | E24: 12 | F24: 1x per maand
B25: Luchtroosters / ventilatieroosters | C25: Buitenzijde stof verwijderen | D25: Het geheel stof- en vlekvrij opleveren | E25: 12 | F25: 1x per maand
B26: Wanddecoratie | C26: Stofvrij maken | D26: Het geheel stof- en vlekvrij opleveren | E26: 12 | F26: 1x per maand
A27: Periodiek | B27: (Glazen)deuren inclusief deurposten | C27: Reinigen | D27: Het nat reinigen van de gehele deur met omlijstingen, inclusief het verwijderen van schopstrepen | E27: 4 | F27: 1x per kwartaal
B28: Wanden (afwasbaar) | C28: Ontvlekken | D28: Het plaatselijk verwijderen van vlekken en vingertasten op wanden | E28: 4 | F28: 1x per kwartaal
B29: Wastafels en spoelbakken | C29: Oppoetsen | D29: Stof- en vlekvrij, geen aangehecht vuil, geen kalkaanslag. Glanzend chroom. | E29: 4 | F29: 1x per kwartaal
B30: Vloer met harde afwerking (tegel, steen, epoxy, gietvloer, PVC beton en vergelijkbaar) | C30: Schrobben | D30: Stof- en vlekvrij, geen aangehecht vuil, geen kalkaanslag, geen lekstrepen, geen zeep en waterresten | E30: 2 | F30: 1x per halfjaar
B31: Vloer | C31: Basisreiniging + Basisbehandeling | D31: Basisreiniging: Het verwijderen van oude beschermlagen en/of vuil waarna een basisbehandeling kan worden toegepast. Basisbehandeling: Vloerbehandeling, waarbij een of meer beschermlagen worden aangebracht, als basis voor het dagelijks en periodiek onderhoud | E31: 1 | F31: 1x per jaar
B32: * Let op: na gunning wordt in overleg bepaald welke sanitaire- en verkeersruimtes, naast de BSO-ruimtes, ook tijdens de schoolvakanties (de overige 11 weken) worden schoongemaakt. Deze werkzaamheden zijn op dit moment nog niet in de prijs opgenomen.

Sheet Ruimteverantw.
A1: Terug naar het tabblad Toelichting
A2: Administratieve ruimte | B2: BSO / kinderdagopvang / peuterspeelzaal | C2: Niet in onderhoud | D2: Klaslokaal | E2: Restauratieve ruimte | F2: Sanitair | G2: Vakspecifieke ruimte | H2: Verkeersuimte | I2: Gymruimte
A3: adjunct | B3: peuterspeelzaal | C3: extra looptijd door noodgebouwen | D3: kinderlokaal | E3: Kantine | F3: washok | G3: leerlingenzorg | H3: brug | I3: gymzaal
A4: concierge | B4: verschoonruimte | C4: MK | D4: leerplein | E4: keuken | F4: wasruimte | G4: nevenruimte | H4: leermiddelenberging | I4: gymzaal 1
A5: cursus/vergaderruimte | C5: kast | D5: leerplek | E5: keuken / reproruimte | F5: berging / miva toilet | G5: Verblijfsruimte | H5: Wachtruimte | I5: gymzaal 2
A6: directie | C6: berghok nio | D6: leslokaal | F6: berging toiletgroep | G6: verwerkingsruimte | H6: werkkast | I6: sportlokaal
A7: Directiekamer | C7: berging (lino 0,7m NIO) | D7: Leslokaal (vloer wordt pvc) | F7: douche | G7: verzorgingsruimte | H7: achterentree | I7: sportzaaI
A8: Directiekantoor | C8: berging (lino 12,7m NIO) | D8: Leslokaal / computerruimte | F8: kleedruimte | G8: bibliotheek | H8: algemene ruimte | I8: toestelberging 8,3m² nio
A9: Docentenkamer | C9: Berging (lino 13,1m NIO) | D9: Leslokaal b.b. | F9: kleedruimte | G9: bibliotheek | H9: aula | I9: toestelberging 10,3m NIO
A10: docentenruimte | C10: Berging (lino 18,2m NIO) | D10: leslokaal bb | F10: kleedruimte (docenten) | G10: Comp. Lokaal | H10: b (Pantry) | I10: toestelberging
A11: IB | C11: Berging (lino 2,3m NIO) | D11: leslokaal bovenbouw | F11: miva toilet | G11: Computerlokaal | H11: berging
A12: IB ruimte | C12: Berging (lino 6,2m NIO) | D12: leslokaal bovenbouw groep 4 | F12: portaal toilet | G12: Gemeenschapsruimte | H12: Berging
A13: ka ntoor | C13: berging (lino 6,3m NIO) | D13: Leslokaal middengroep (4/5) | F13: sanitair | G13: gemeenschapsruimte / computerruimte | H13: berging speellokaal
A14: Kantoor | C14: Berging (lino 7,2m NIO) | D14: Leslokaal o.b. | F14: sanitair | G14: handenarbeidruimte | H14: bergruimte
A15: kantoor | C15: berging 1,1m NIO | D15: leslokaal onderbouw | F15: sanitair miva | G15: Handvaardigheidlokaal | H15: buitenberging
A16: kantoor (directie) | C16: berging 1,4m NIO | D16: leslokaal onderbouw groep 2 | F16: sanitair ob | G16: ICT | H16: buitenmagazijn
A17: kantoor adjunct | C17: berging 10,18m NIO | F17: sanitar | G17: ICT lokaal (Profiet) | H17: Centrale hal
A18: kantoor directeur | C18: berging 16,2m NIO | D18: lokaal | F18: toilet | G18: ICT ruimte | H18: computerruimte
A19: kantoor directie | C19: berging 23,6m NIO | D19: lokaal | F19: toílet | G19: jongerenruimte | H19: cv
A20: kantoor directie (tapijt 20,2m² nio) | C20: berging 4,2m NIO | D20: lokaal (de Linde 1e etage) | F20: toilet | G20: PC lokaal | H20: CV ruimte
A21: kantoor IB | C21: berging 5,2m NIO | D21: Lokaal (klimop 1e etage) | F21: Toilet dames | G21: PC lokaal | H21: entree
A22: kantoor IB/RT | C22: berging 6,4m NIO | D22: lokaal 1 ob | F22: Toilet heren | G22: slaapkamer | H22: entrée
A23: kantoor ICT | C23: berging 7,8m NIO | D23: lokaal 10 | F23: toilet jongens | G23: slaapkamer | H23: entree
A24: kantoor IOB | C24: berging 9,8m NIO | D24: lokaal 11 | F24: toilet leerkrachten | G24: speelhoek / bieb | H24: entree / hal
A25: kantoor onderwijsassistent | C25: bergruimte nio | D25: lokaal 12 | F25: toilet meisjes | G25: speellokaal | H25: Entree / Trap-opgang
A26: kantoor RT | C26: buitenberging nio | D26: lokaal 13 | F26: toilet mindervaliden | G26: speellokaal (tijdelijk lokaal ob) | H26: Entree bovenbouw
A27: Kantoor Trimaran (tapijt 20m² nio) | C27: containerberging NIO | D27: lokaal 14 | F27: toilet miva | G27: speelzaal | H27: Entree o.b.
A28: lera renkamer | C28: entrée (pvc 12,1m² nio) | D28: Lokaal 15 | F28: toilet personeel | G28: spreekkamer | H28: Entrée onderbouw
A29: lerarenkamer | C29: gespreksruimte 12,4m NIO | D29: lokaal 1c instroom | F29: toiletgroep | G29: werkplaats/handvaardigheid | H29: Entreehal
A30: Personeelskamer | C30: gespreksruimte 9,7m NIO | D30: lokaal 2 tussenlokaal | F30: toiletruimte | G30: Werkruimte | H30: Entreeruimten
A31: Personeelskamer | C31: installatieruimte nio | D31: lokaal 3 bb | F31: toiletten | H31: gang
A32: personeelskamer (tapijt 33,2m² nio) | C32: kluis (4m², tapijt, nio) | D32: lokaal 4 | F32: toiletten jongens | G32: Handenarbeidlokaal | H32: gang
A33: personeelskamer / pantry | C33: leeg lokaal (lino nio 50,7) | D33: lokaal 4 bb | F33: toiletten meisjes | H33: Gang (klimop 1e etage)
A34: personeelsruimte | C34: leeg lokaal (nio lino 50,7) | D34: lokaal 5 ob | H34: Gang b.b.
A35: Vergader/trainingsruimte | C35: leslokaal onderbouw NIO | D35: lokaal 6 | H35: Gang bovenbouw
A36: IB-ruimte | C36: lift 3,6m NIO | D36: lokaal 7 | H36: Gang o.b.
C37: lokaal (lino 55,3 NIO) | D37: lokaal 8 | H37: gangen
C38: lokaal bovenbouw (pvc 50,9m² nio) | D38: lokaal 9 | H38: gardarobe
C39: Lokaal BSO (lino 55,8m² nio) | D39: Lokaal b.b. | H39: Garderobe
C40: magazijn 19,9m NIO | D40: lokaal bb | H40: gemeenschapsruimte TSO
C41: meterkast 1,5m NIO | D41: lokaal bb (6a) | H41: Hal
C42: meterkast 2,4m NIO | D42: lokaal bb (6b) | H42: hal (klimop 1e etage)
C43: meterkast 2m NIO | D43: lokaal bb (6c) | H43: Hal noodlokaal
C44: opslag / archief 14,5m NIO | D44: lokaal bb (6d) | H44: Hoofd entree
C45: opslag 13,3m NIO | D45: lokaal bovenbouw | H45: hoofdentree lino
C46: schoonmaakhok (pvc 1,2m² nio) | D46: lokaal bovenbouw 7/8 | H46: hoofdentree schoonloopmat
C47: server (14,4 m², tapijt, nio) | D47: lokaal bovenbouw groep 5 | H47: leer/werkgang
C48: serverruimte (tapijt nio 3,9) | D48: lokaal bovenbouw groep 6 | H48: magazijn
... C62: Groepsruimte Trimaran (pvc 70m² nio) | D62: multifunctioneel lokaal 1/2 | H62: reproruimte / berging
D63: multifunctioneel lokaal I/2 | H63: RT ruimte
D64: Overblijflokaal | H64: ruimte concierge
D65: overblijfruimte | H65: serverruimte
D66: plus klas | H66: trap
D67: Tochtlokaal | H67: trap (nooduitgang)
H68: Trap / traphal
H69: trap hal
H70: trap naar zolder
H71: Traphal
H72: trappen (gezamenlijke ruimte)
H73: trappenhuis
H74: trapportaal
H75: vergaderruimte
H76: Verkeersgang
H77: verkeersruimte
H78: verkeersruimte (gezamenlijke ruimten)
H79: verkeersruimten
... H87: lift

Sheet praktijklokaal
B1: Project: | C1: Drenthe College-Stad&Esch-Ambelt
B2: Plaats: | C2: Diversen
B3: Programmacode:
B4: Omschrijving: | C4: Praktijklokalen
B8: Onderdeel | C8: Handeling | D8: Resultaat omschrijving | E8: Aantal prestaties per jaar
A9: Dagelijks | B9: wastafels, spoelbakken en drinkfonteinen | C9: nat reinigen | D9: Het nat reinigen waardoor aangehecht vuil, lekstrepen, kalkaanslag en zeepresten worden verwijderd | E9: 200
B10: handdoeken | C10: bijvullen | D10: het zonodig bijvullen van de handdoekautomaten | E10: 200
A11: Periodiek | B11: meubilair / vensterbanken / radiatoren / prullenbakken | C11: reinigen | D11: Het nat reinigen van het meubilair, de vensterbanken, radiatoren en prullenbakken en het verwijderen van kauwgom | E11: 1
B12: wastafels, spoelbakken en drinkfonteinen | C12: opwrijven chroom | D12: Het opwrijven van alle chroom van was- en spoelbakken en drinkfonteinen | E12: 1
B13: wanden | C13: vlekverwijderen | D13: Het geheel stof- en vlekvrij opleveren van de wanden | E13: 1
B14: randen / richels / plinten / armaturen / luchtroosters | C14: stofvrij maken | D14: Het geheel stof- en vlekvrij opleveren van alle hoge en lage richels, plinten en lichtarmaturen en de roosters van afzuigkanalen | E14: 1
B15: (glas)deuren incl. deurposten | C15: geheel reinigen | D15: Het geheel vlekvrij opleveren van de deur met omlijstingen | E15: 1
B17: Vloeren?

Sheet algemene ruimten
B1: Project: | C1: Drenthe College-Stad&Esch-Ambelt
B2: Plaats: | C2: Diversen
B3: Programmacode:
B4: Omschrijving: | C4: Algemene ruimten
B8: Onderdeel | C8: Handeling | D8: Resultaat omschrijving | E8: Aantal prestaties per jaar
A9: Dagelijks | B9: vloer met harde kunststof afwerking (lino, marmo, pvc) | C9: stofwissen en vlekken verwijderen | D9: Het stof- en vlekvrij opleveren van de vloer | E9: 200
B10: vloer met harde houten afwerking (parket) | C10: stofwissen en vlekken verwijderen | D10: Het stof- en vlekvrij opleveren van de vloer | E10: 200
B11: vloer met tegel- en stenen vloeren | C11: verwijderen van vlekken | D11: Het plaatselijk enkelvoudig moppen van de tegel- en/of stenen vloeren | E11: 200
B12: vloer zachte afwerking | C12: tippend zuigen | D12: Het tippend zuigen en ontdoen van losliggend vuil tbv de zachte vloerbedekking | E12: 200
B13: meubilair | C13: stof-/vlekvrij maken | D13: Het stof- en vlekvrij opleveren van de horizontale vlakken van het meubilair | E13: 200
B14: prullenbakken | C14: ledigen en plastic zak vervangen | D14: leeg en van schone plastic zak voorzien | E14: 200
B15: afvoer rest-/papier afval | C15: afvoeren rest-/papier afval | D15: Het vanaf de bron inzamelen en het afvoeren naar een centrale plek van rest-/papier afval | E15: 200
B16: armaturen | C16: stof-/vlekvrij maken | D16: Het stof- en vlekvrij opleveren van armaturen op ooghoogte | E16: 200
B17: (glas)deuren | C17: vingertasten verwijderen | D17: stof- en vlekvrij, geen aangehecht vuil, geen stickers | E17: 200
B18: wanden | C18: vlekverwijderen | D18: Het plaatselijk verwijderen van vingertasten op wanden | E18: 200
A19: Wekelijks | B19: vloer met harde kunststof afwerking (lino, marmo, pvc) | C19: enkelvoudig moppen | D19: Het enkelvoudig moppen van alle harde vloeren | E19: 40
B20: vloer zachte afwerking | C20: zuigen en vlekken verwijderen | D20: Het stof- en vlekvrij opleveren van de vloer | E20: 40
B21: meubilair | C21: nat reinigen | D21: Het nat reinigen van verticale vlakken van bureau en laboratorium tafels | E21: 40
B22: sporttoestellen | C22: stof-/vlekvrij maken | D22: Het stof- en vlekvrij opleveren van aanwezig sporttoestellen | E22: 40
B23: vensterbanken/radiatoren/lage kasten | C23: nat reinigen | D23: Het nat reinigen van vensterbanken, lage kasten en open ruimten in kasten | E23: 40
B24: plafond | C24: geheel ragen | D24: lichte stof bij hoekpunten toegestaan, geen spinnenrag | E24: 40
B25: wanddecoratie | C25: stofvrij maken | D25: lichte stof, geen aangehecht vuil | E25: 40
A26: Maandelijks | B26: vloer met harde kunststof afwerking (lino, marmo, pvc) | C26: dubbelvoudig moppen | D26: Het dubbelvoudig moppen van alle harde vloeren | E26: 10
B27: vloer met tegel- en stenen vloeren | C27: dubbelvoudig moppen | D27: Het dubbelvoudig moppen van alle tegel- en/of stenen vloeren | E27: 10
B28: randen / richels / plinten | C28: stofvrij maken | D28: lichte stof bovenzijde, geen losliggend en aangehecht vuil | E28: 10
B29: luchtroosters / ventilatieroosters | C29: buitenzijde stof verwijderen | D29: lichte stof, geen aangehecht vuil | E29: 10
A30: Periodiek | B30: meubilair | C30: reinigen | D30: Het klamvochtig reinigen van de verticale vlakken van het meubilair | E30: 4
B31: prullenbakken | C31: nat afnemen | D31: stof- en vlekvrij, geen aangehecht vuil | E31: 4
B32: (glas)deuren incl. deurposten | C32: reinigen | D32: Het plaatselijk vlekvrij opleveren van de deur met omlijstingen | E32: 4
B33: meubilair / vensterbanken / radiatoren / prullenbakken | C33: reinigen | D33: Het nat reinigen van het meubilair, de vensterbanken, radiatoren en prullenbakken en het verwijderen van kauwgom | E33: 1
B34: sporttoestellen | C34: stof-/vlekvrij maken | D34: Het geheel stof- en vlekvrij opleveren van aanwezig sporttoestellen | E34: 1
B35: wanden | C35: vlekverwijderen | D35: Het geheel stof- en vlekvrij opleveren van de wanden | E35: 1
B36: randen / richels / plinten / armaturen / luchtroosters | C36: stofvrij maken | D36: Het geheel stof- en vlekvrij opleveren van alle hoge en lage richels, plinten en lichtarmaturen en de roosters van afzuigkanalen | E36: 1
B37: (glas)deuren incl. deurposten | C37: geheel reinigen | D37: Het geheel vlekvrij opleveren van de deur met omlijstingen | E37: 1
B38: vloer met harde afwerking (lino, marmo, pvc en parket) | C38: corrigeren waslaag | D38: Het corrigeren van de waslaag door middel van de spraymethode tbv alle harde gesloten kunststof vloeren | E38: 4
B39: vloer met harde afwerking (tegel, steen, beton) | C39: schrobben | D39: Het schrobben van de harde stenen vloeren in verkeersruimten en techniek / praktijklokalen | E39: 4
B40: vloer met harde afwerking (lino, marmo, pvc en parket) | C40: waslaag conserveren (2-laags) | D40: Het strippen, sealen en 2 maal conserveren van de waslaag (incl in-/uitruimen) | E40: 1

Sheet Sanitair incl naloop
B1: Project: | C1: Drenthe College-Stad&Esch-Ambelt
B2: Plaats: | C2: Diversen
B3: Programmacode:
B4: Omschrijving: | C4: Santitair incl naloop
B8: Onderdeel | C8: Handeling | D8: Resultaat omschrijving | E8: Aantal prestaties per jaar
A9: Dagelijks | B9: vloer met harde afwerking | C9: moppen | D9: Het stof- en vlekvrij opleveren van de vloer | E9: 400
B10: (glas)deuren | C10: vingertasten verwijderen | D10: stof- en vlekvrij, geen aangehecht vuil, geen stickers | E10: 200
B11: directe betegeling sanitair | C11: nat reinigen | D11: stof- en vlekvrij, geen lekstrepen, geen kalkaanslag | E11: 400
B12: afvalbakken | C12: ledigen en plastic zak vervangen | D12: leeg en van schone plastic zak voorzien | E12: 400
B13: toiletpot en zitting | C13: nat reinigen | D13: stof- en vlekvrij, geen aangehecht vuil, geen kalkaanslag | E13: 400
B14: urinoir | C14: nat reinigen | D14: stof- en vlekvrij, lichte kalkaanslag, geen aangehecht vuil, geen lekstrepen | E14: 400
B15: schaamschot | C15: nat reinigen | D15: stof- en vlekvrij, geen aangehecht vuil, geen lekstrepen, geen kalkaanslag | E15: 200
B16: spoelinstallatie | C16: nat reinigen & opwrijven | D16: stof- en vlekvrij, geen aangehecht vuil, geen kalkaanslag | E16: 400
B17: wastafels | C17: nat reinigen | D17: geen aangehecht vuil, geen lekstrepen, geen kalkaanslag, geen zeepresten | E17: 400
B18: chroomwerk wastafels | C18: opwrijven | D18: stof- en vlekvrij, geen aangehecht vuil, geen kalkaanslag | E18: 200
B19: spiegels | C19: reinigen/streeploos drogen | D19: stof- en vlekvrij, geen aangehecht vuil, geen strepen | E19: 400
B20: planchet | C20: vlekverwijderen | D20: stof- en vlekvrij, geen losliggend en aangehecht vuil, geen zeepresten | E20: 400
B21: sanitaire voorzieningen | C21: vlekverwijderen | D21: stof- en vlekvrij, geen losliggend en aangehecht vuil, geen zeepresten | E21: 400
... B27: douches | C27: nat reinigen | D27: stof- en vlekvrij, lichte kalkaanslag, geen aangehecht vuil, geen lekstrepen | E27: 400
A28: Wekelijks | B28: vloer met harde afwerking | C28: schrobben | D28: Het stof- en vlekvrij opleveren van de vloer | E28: 40
B29: overige wanden | C29: vlekverwijderen | D29: stof- en vlekvrij, geen aangehecht vuil | E29: 40
B30: vensterbanken/radiatoren | C30: stofvrij maken | D30: stofvrij, geen aangehecht vuil | E30: 40
B31: plafond | C31: geheel ragen | D31: lichte stof bij hoekpunten toegestaan, geen spinnenrag | E31: 40
B32: wastafels | C32: vlekvrij maken buitenzijde sifons | D32: stof- en vlekvrij, geen aangehecht vuil, geen strepen | E32: 40
A33: Maandelijks | B33: (glas)deuren incl. deurposten | C33: geheel reinigen | D33: Het vlekvrij opleveren van de deur met omlijstingen | E33: 10
B34: richels / plinten | C34: stofvrij maken | D34: lichte stof bovenzijde, geen losliggend en aangehecht vuil | E34: 10
B35: vensterbanken/radiatoren | C35: nat afnemen | D35: stof- en vlekvrij, geen aangehecht vuil | E35: 10
B36: luchtroosters / ventilatieroosters | C36: buitenzijde stof verwijderen | D36: lichte stof, geen aangehecht vuil | E36: 10
B37: afvalbakken | C37: ledigen en geheel reinigen | D37: stof- en vlekvrij, geen aangehecht vuil | E37: 10
A38: Periodiek | B38: sanitair / tegelwanden / radiatoren / afvalbakken | C38: reinigen | D38: Het nat reinigen, desinfecteren en/of ontkalken van het sanitlair, de tegelwanden, radiatoren en de afvalbakken | E38: 1
B39: randen / richels / plinten / armaturen / luchtroosters | C39: stofvrij maken | D39: Het geheel stof- en vlekvrij opleveren van alle hoge en lage richels, plinten en lichtarmaturen en de roosters van afzuigkanalen | E39: 1
B40: (glas)deuren incl. deurposten | C40: geheel reinigen | D40: Het geheel vlekvrij opleveren van de deur met omlijstingen | E40: 1
B42: vloeren?

Sheet grootkeuken
B1: Project: | C1: Drenthe College-Stad&Esch-Ambelt
B2: Plaats: | C2: Diversen
B3: Programmacode:
B4: Omschrijving: | C4: Grootkeuken
B8: Onderdeel | C8: Handeling | D8: Resultaat omschrijving | E8: Aantal prestaties per jaar
A9: Maandelijks | B9: vloer met tegel- en stenen vloeren | C9: schrobben | D9: Het machinaal schrobben van de vloer | E9: 10
B10: wastafels en spoelbakken | C10: nat reinigen | D10: Het nat reinigen waardoor aangehecht vuil, lekstrepen, kalkaanslag en zeepresten worden verwijderd | E10: 10
B11: afvalbakken | C11: nat afnemen | D11: leeg en van schone plastic zak voorzien | E11: 10
B12: wanden > 2 mtr | C12: nat afnemen | D12: Het boven rijkhoogte (> 2 mtr) nat afnemen van de tegelwanden | E12: 10
B13: plafond | C13: geheel ragen | D13: lichte stof bij hoekpunten toegestaan, geen spinnenrag | E13: 10
B14: randen / richels / plinten > 2 mtr | C14: stofvrij maken | D14: lichte stof bovenzijde, geen losliggend en aangehecht vuil | E14: 10
B15: luchtroosters / ventilatieroosters | C15: buitenzijde stof verwijderen | D15: lichte stof, geen aangehecht vuil | E15: 10
B16: separatieglas | C16: wassen en zemen | D16: Het vlek- en streepvrij opleveren van het separatieglas, inclusief omlijstingen | E16: 10
A17: Periodiek | B17: wastafels en spoelbakken | C17: opwrijven chroom | D17: Het opwrijven van chroom van de wasbakken | E17: 4
B18: (glas)deuren incl. deurposten | C18: reinigen | D18: Het plaatselijk vlekvrij opleveren van de deur met omlijstingen | E18: 4
B20: vloeren?
