Workbook
Name freq: '[1]sociale voorzieningen'!$B$6:$J$18
Name gemtarief: '[1]gemiddeld tarief'!$F$16:$G$27
Name kengetalDC: '[1]kengetal DC'!$A$10:$M$90
Name kengetaloverig: '[1]kengetal Overig'!$A$10:$M$41
Name keuken: '[1]kengetal DC'!$A$104:$E$104
Name naloopdc: '[1]kengetal DC'!$A$93:$E$101
Name naloopoverig: '[1]kengetal Overig'!$A$44:$E$52

Sheet Toelichting
A1: Naam tabblad | B1: Toelichting
A2: Algemeen | B2: Dit werkblad bevat meerdere berekeningen en functies. Indien u gebruik wenst te maken van de gegevens uit dit werkblad wordt aangeraden om te werken met een kopie. De bladen zijn niet beveiligd om u in gelegenheid te stellen uw eigen berekeningen in een kopie te hanteren. Echter in het up te loaden document dient de Inschrijver slechts de gevraagde cellen in te vullen en verder geen wijzigingen aan te brengen in gegevens of formules, zulks op risico van het ter zijde leggen door Aanbestedende Dienst van de Inschrijving.
A3: Algemeen | B3: De in het werkblad gehanteerde begrippen zijn in overeenstemming met die uit de Uitnodiging tot Inschrijving en geschreven met een begin hoofdletter. Voor een omschrijving van deze begrippen en definities wordt verwezen naar de Uitnodiging tot Inschrijving.
A4: Algemeen | B4: In navolgende cellen in kolom A staan onderstreept de namen van het tabblad. De namen bevatten een snelkoppeling. Door op de naam te klikken gaat u rechtstreeks naar het betreffende tabblad. Op ieder tabblad vindt u eenzelfde soort link met de naam "Terug naar het tabblad Toelichting". Door hierop te klikken keert u weer terug naar hethuidige tabblad.
A5: Prijzenblad SCOT | B5: In dit tabblad worden alle ruimtesoorten gecumuleerd in beeld gebracht. Tevens vindt u hier de totalen van alle ruimtesoorten. De door Inschrijver opgegeven prijzen van de werkprogramma's worden hier vermenigvuldigd met het aantal vierkante meters per ruimtesoort. Hier komt de totaalprijs te staan op grond waarvan de beoordeling zal plaatsvinden. NB.: U hoeft hier zelf dus geen gegevens in te voeren.
A6: Ruimtestaat | B6: Op dit tabblad treft u een lijst aan met alle ruimten. Per ruimte is duidelijk aangegeven om welke school en locatie het gaat (adresgegevens). Daarnaast worden er gegevens over de ruimtensoort en de specifieke ruimtegegevens zoals vloersoort en oppervlakte weergegeven. NB.: U hoeft hier niks in te vullen. De prijzen uit de werkprogramma's worden hier automatisch overgenomen.
A7: Adm ruimte (1) | B7: Op deze en navolgende tabbladen van dezelfde paarse kleur staan de werkprogramma's per ruimtesoort. Er zijn 8 van deze tabbladen. De ruimtesoort staat gelijk aan het werkprogramma. Bij het programma is de handeling en het resultaat van een dergelijke handeling beknopt beschreven. De gebruikte termen zijn conform de NIVIM terminologie zoals deze zijn toegevoegd als Bijlage bij de aanbestedingsdocumenten. Tevens staat het aantal frequenties van de handelingen weergegeven. Deze frequentie is gebaseerd op een aantal van 42 weken. Als er bijvoorbeeld een frequentie wordt genoemd van 210, dan betekent dit dat de handeling elke dag van de 42 weken dient te worden uitgevoerd. Indien na gunning het aantal weken hoger of lager is, zal de frequentie evenredig mee toe- of afnemen. Toe of -afname van de frequentie betekent eveneens een evenredig stijging of daling van de prijs. NB.: Hier dient u in de groene cellen een prijs per programma per vierkante meter per jaar op te geven!
A8: Leslokaal (2)
A9: Kleuterlokaal (3)
A10: Sanitair (4)
A11: Restauratieve ruimte (5)
A12: Verkeersruimte (6)
A13: Speellokaal (7)
A14: BSO (8)
A15: Locaties SCOT | B15: Hier kunt u informatie vinden over het totaal aantal vierkante meters vloeroppervlakte per Locatie en het leerlingenaantal. U hoeft hier niets in te vullen.

Sheet Blad1
A1: Legenda
A2: Administratieve ruimte
A3: Sanitair
A4: Vakspecifieke ruimte
A5: Niet in onderhoud
A6: Klaslokaal
A7: Verkeersuimte
A8: BSO / kinderdagopvang / peuterspeelzaal
A9: Restauratieve ruimte
A11: Beschrijving ruimte | B11: Ruimtesoort
A12: 9an9 | B12: Verkeersruimte
A13: 9ang | B13: Verkeersruimte
A14: achterentree | B14: Verkeersruimte
A15: adjunct | B15: Administratieve ruimte
A16: algemene ruimte | B16: Verkeersruimte
A17: aula | B17: Verkeersruimte
A18: b (Pantry) | B18: Verkeersruimte
A19: berghok nio | B19: Niet in onderhoud
A20: berging | B20: Niet in onderhoud
A21: Berging | B21: Niet in onderhoud
A22: berging (lino 0,7m NIO) | B22: Niet in onderhoud
... A374: Lokaal n.i.o. | B374: Niet in onderhoud

Sheet Prijzenblad SCOT
A1: SCOT | B1: 1 | C1: Ruimtesoort | D1: Totaal # m² | E1: Aantal ruimtes | F1: Werkpr. | G1: m² prijs programma | H1: Prijs per jaar per ruimtesoort | I1: Terug naar het tabblad Toelichting
C2: Administratieve ruimte | D2: =SUMIF('Ruimtestaat'!$H$4:$H$593,'Prijzenblad SCOT'!C2,'Ruimtestaat'!$K$4:$K$593) -> 1645.7 | E2: =COUNTIF('Ruimtestaat'!$H$4:$H$593,'Prijzenblad SCOT'!C2) -> 77 | F2: 1 | G2: ='Admistratieve ruimte (1)'!E1 -> 0 | H2: =D2*G2 -> 0
C3: Leslokaal | D3: =SUMIF('Ruimtestaat'!$H$4:$H$593,'Prijzenblad SCOT'!C3,'Ruimtestaat'!$K$4:$K$593) -> 5512.65 | E3: =COUNTIF('Ruimtestaat'!$H$4:$H$593,'Prijzenblad SCOT'!C3) -> 114 | F3: 2 | G3: ='Leslokaal (2)'!E1 -> 0 | H3: =D3*G3 -> 0
C4: Kleuterlokaal | D4: =SUMIF('Ruimtestaat'!$H$4:$H$593,'Prijzenblad SCOT'!C4,'Ruimtestaat'!$K$4:$K$593) -> 1409.87 | E4: =COUNTIF('Ruimtestaat'!$H$4:$H$593,'Prijzenblad SCOT'!C4) -> 25 | F4: 3 | G4: ='Kleuterlokaal (3)'!E1 -> 0 | H4: =D4*G4 -> 0
C5: Sanitair | D5: =SUMIF('Ruimtestaat'!$H$4:$H$593,'Prijzenblad SCOT'!C5,'Ruimtestaat'!$K$4:$K$593) -> 554.46 | E5: =COUNTIF('Ruimtestaat'!$H$4:$H$593,'Prijzenblad SCOT'!C5) -> 107 | F5: 4 | G5: ='Sanitair (4)'!E1 -> 0 | H5: =D5*G5 -> 0
C6: Restauratieve ruimte | D6: =SUMIF('Ruimtestaat'!$H$4:$H$593,'Prijzenblad SCOT'!C6,'Ruimtestaat'!$K$4:$K$593) -> 107.09 | E6: =COUNTIF('Ruimtestaat'!$H$4:$H$593,'Prijzenblad SCOT'!C6) -> 11 | F6: 5 | G6: ='Restauratieve ruimte (5)'!E1 -> 0 | H6: =D6*G6 -> 0
C7: Verkeersruimte | D7: =SUMIF('Ruimtestaat'!$H$4:$H$593,'Prijzenblad SCOT'!C7,'Ruimtestaat'!$K$4:$K$593) -> 3676.68 | E7: =COUNTIF('Ruimtestaat'!$H$4:$H$593,'Prijzenblad SCOT'!C7) -> 101 | F7: 6 | G7: ='Verkeersruimte (6)'!E1 -> 0 | H7: =D7*G7 -> 0
C8: Speellokaal | D8: =SUMIF('Ruimtestaat'!$H$4:$H$593,'Prijzenblad SCOT'!C8,'Ruimtestaat'!$K$4:$K$593) -> 959.22 | E8: =COUNTIF('Ruimtestaat'!$H$4:$H$593,'Prijzenblad SCOT'!C8) -> 13 | F8: 7 | G8: ='Speellokaal (7)'!E1 -> 0 | H8: =D8*G8 -> 0
C9: BSO | D9: =SUMIF('Ruimtestaat'!$H$4:$H$593,'Prijzenblad SCOT'!C9,'Ruimtestaat'!$K$4:$K$593) -> 323 | E9: =COUNTIF('Ruimtestaat'!$H$4:$H$593,'Prijzenblad SCOT'!C9) -> 7 | F9: 8 | G9: ='BSO (8)'!E1 -> 0 | H9: =D9*G9 -> 0
C10: Niet in onderhoud | D10: =SUMIF('Ruimtestaat'!$H$4:$H$593,'Prijzenblad SCOT'!C10,'Ruimtestaat'!$K$4:$K$593) -> 804.43 | E10: =COUNTIF('Ruimtestaat'!$H$4:$H$593,'Prijzenblad SCOT'!C10) -> 135
C11: Totaal aantal m² vloeropp. alle Locaties | D11: =SUM(D2:D10) -> 14993.1 | G11: Totaalprijs schoonmaak per jaar incl. schoonmaakbenodigdheden | H11: =SUM(H2:H9) -> 0
K12: 0
B13: 2 | C13: Soort glas | D13: Totaal # m² | E13: % glas | F13: m² prijs programma enkelzijdig | G13: Totaalprijs glasbewassing (2x p/j)
C14: Separatieglas | D14: =E14*D11 -> 1124.4825 | E14: 0.075 | F14: =Glasbewassing!J1 -> 0 | G14: =(F14*D14)*2 -> 0
C15: Gevelglas | D15: =E15*D11 -> 4497.93 | E15: 0.3 | F15: =Glasbewassing!J1 -> 0 | G15: =(D15*F15)*2 -> 0
C16: Totaal aantal m² glas van alle Locaties | D16: =SUM(D14:D15) -> 5622.4125 | G16: Totaalprijs glasbewassing (2x p/j) | H16: =SUM(G14:G15) -> 0
G18: Totaal generaal prijs (de prijs die beoordeeld wordt) | H18: =H16+H11 -> 0

Sheet Glasbewassing
H1: m² prijs programma enkelzijdig | J1: 0
C2: Seperatieglas (a) | E2: Gevelglas (b) | G2: Totaal glasbewassing dubbelzijdig per beurt
C3: 0.075 | E3: 0.3
A4: SCOT | B4: De Bron | C4: =$C$3*'Locaties SCOT'!F3 -> 42.63 | D4: =C4*$J$1 -> 0 | E4: =$E$3*'Locaties SCOT'!F3 -> 170.52 | F4: =E4*$J$1 -> 0 | G4: =F4+D4 -> 0
A5: SCOT | B5: Eltheto | C5: =$C$3*'Locaties SCOT'!F4 -> 86.175 | D5: =C5*$J$1 -> 0 | E5: =$E$3*'Locaties SCOT'!F4 -> 344.7 | F5: =E5*$J$1 -> 0 | G5: =F5+D5 -> 0
A6: SCOT | B6: De Fontein Hoofdweg | C6: =$C$3*'Locaties SCOT'!F5 -> 62.8275 | D6: =C6*$J$1 -> 0 | E6: =$E$3*'Locaties SCOT'!F5 -> 251.31 | F6: =E6*$J$1 -> 0 | G6: =F6+D6 -> 0
A7: SCOT | B7: De Fontein Oranjestraat | C7: =$C$3*'Locaties SCOT'!F6 -> 72.4275 | D7: =C7*$J$1 -> 0 | E7: =$E$3*'Locaties SCOT'!F6 -> 289.71 | F7: =E7*$J$1 -> 0 | G7: =F7+D7 -> 0
A8: SCOT | B8: De Marliaantjes | C8: =$C$3*'Locaties SCOT'!F7 -> 45.075 | D8: =C8*$J$1 -> 0 | E8: =$E$3*'Locaties SCOT'!F7 -> 180.3 | F8: =E8*$J$1 -> 0 | G8: =F8+D8 -> 0
A9: SCOT | B9: De Maten | C9: =$C$3*'Locaties SCOT'!F8 -> 77.325 | D9: =C9*$J$1 -> 0 | E9: =$E$3*'Locaties SCOT'!F8 -> 309.3 | F9: =E9*$J$1 -> 0 | G9: =F9+D9 -> 0
A10: SCOT | B10: De Pölle | C10: =$C$3*'Locaties SCOT'!F9 -> 38.253 | D10: =C10*$J$1 -> 0 | E10: =$E$3*'Locaties SCOT'!F9 -> 153.012 | F10: =E10*$J$1 -> 0 | G10: =F10+D10 -> 0
A11: SCOT | B11: De Regenboog | C11: =$C$3*'Locaties SCOT'!F10 -> 72.39 | D11: =C11*$J$1 -> 0 | E11: =$E$3*'Locaties SCOT'!F10 -> 289.56 | F11: =E11*$J$1 -> 0 | G11: =F11+D11 -> 0
A12: SCOT | B12: Shalom | C12: =$C$3*'Locaties SCOT'!F11 -> 80.25075 | D12: =C12*$J$1 -> 0 | E12: =$E$3*'Locaties SCOT'!F11 -> 321.003 | F12: =E12*$J$1 -> 0 | G12: =F12+D12 -> 0
A13: SCOT | B13: Shalom De Weeme | C13: =$C$3*'Locaties SCOT'!F12 -> 96.975 | D13: =C13*$J$1 -> 0 | E13: =$E$3*'Locaties SCOT'!F12 -> 387.9 | F13: =E13*$J$1 -> 0 | G13: =F13+D13 -> 0
A14: SCOT | B14: De Sleutel | C14: =$C$3*'Locaties SCOT'!F13 -> 86.5725 | D14: =C14*$J$1 -> 0 | E14: =$E$3*'Locaties SCOT'!F13 -> 346.29 | F14: =E14*$J$1 -> 0 | G14: =F14+D14 -> 0
A15: SCOT | B15: De Smithoek | C15: =$C$3*'Locaties SCOT'!F14 -> 194.025 | D15: =C15*$J$1 -> 0 | E15: =$E$3*'Locaties SCOT'!F14 -> 776.1 | F15: =E15*$J$1 -> 0 | G15: =F15+D15 -> 0
... A18: SCOT | B18: Bestuurskantoor | C18: =$C$3*'Locaties SCOT'!F17 -> 14.23125 | D18: =C18*$J$1 -> 0 | E18: =$E$3*'Locaties SCOT'!F17 -> 56.925 | F18: =E18*$J$1 -> 0 | G18: =F18+D18 -> 0
B19: Totaalprijs dubbelzijdig per beurt | G19: =SUM(G4:G18) -> 0
B21: * Prijs per m² is inclusief eventuele alle materialen als hoogwerkers, tuckerpool, steigers enzovoorts.
B22: a) = Met separatieglas wordt het glas bedoeld binnen in de school. Aan de hand van benchmarkcijfers is er een aanname gedaan dat separatieglas (dubbelzijdig gerekend) 7,5% van de totale vloeroppervlakte betreft.
B23: b) = Met gevelglas wordt zowel het binnen- als buitenglas van de Locatie bedoeld. Aan de hand van benchmarkcijfers is er een aanname gedaan dat gevelglas (dubbelzijdig gerekend) 30% van de totale vloeroppervlakte betreft.

Sheet Ruimtestaat
A1: Terug naar het tabblad Toelichting | B1: Locatienaam | C1: Gebouw | D1: Adres | E1: Plaats | F1: Verdieping | G1: Beschrijving ruimte | H1: Ruimtesoort / Werkprogramma | I1: Ruimte-nummer | J1: Vloer-afwerking | K1: Opp.m² | L1: Prijs per m² per Werkpro-gramma p/j | M1: Prijs per ruimte per jaar
A3: Stichting | B3: Locatienaam | C3: Gebouw | D3: Adres | E3: Plaats | F3: Verdieping | G3: Beschrijving ruimte | H3: Ruimtesoort / Werkprogramma | I3: Ruimte-nummer | J3: Vloer-afwerking | K3: Opp.m² | L3: Prijs per m² per Werkprogramma p/j | M3: Prijs per ruimte per jaar
A4: SCOT | B4: De Bron | C4: De Bron | D4: Molenstraat 2 | E4: Vriezenveen | F4: Begane grond | G4: Gang | H4: Verkeersruimte | I4: 0.01 | J4: Schoonloopmat | K4: 14.6 | L4: =_xlfn.XLOOKUP(Ruimtestaat[[#This Row],[Ruimtesoort / Werkprogramma ]],'Prijzenblad SCOT'!$C$2:$C$10,'Prijzenblad SCOT'!$G$2:$G$10,"") -> 0 | M4: =IF(L4=0,0,L4*K4) -> 0
A5: SCOT | B5: De Bron | C5: De Bron | D5: Molenstraat 2 | E5: Vriezenveen | F5: Begane grond | G5: Kantoor | H5: Administratieve ruimte | I5: 0.02a | J5: Tapijt | K5: 10.8 | L5: =_xlfn.XLOOKUP(Ruimtestaat[[#This Row],[Ruimtesoort / Werkprogramma ]],'Prijzenblad SCOT'!$C$2:$C$10,'Prijzenblad SCOT'!$G$2:$G$10,"") -> 0 | M5: =IF(L5=0,0,L5*K5) -> 0
A6: SCOT | B6: De Bron | C6: De Bron | D6: Molenstraat 2 | E6: Vriezenveen | F6: Begane grond | G6: Pantry | H6: Restauratieve ruimte | I6: 0.02b | J6: Marmoleum | K6: 4.2 | L6: =_xlfn.XLOOKUP(Ruimtestaat[[#This Row],[Ruimtesoort / Werkprogramma ]],'Prijzenblad SCOT'!$C$2:$C$10,'Prijzenblad SCOT'!$G$2:$G$10,"") -> 0 | M6: =IF(L6=0,0,L6*K6) -> 0
A7: SCOT | B7: De Bron | C7: De Bron | D7: Molenstraat 2 | E7: Vriezenveen | F7: Begane grond | G7: Kantoor | H7: Administratieve ruimte | I7: 0.03 | J7: Tapijt | K7: 13.9 | L7: =_xlfn.XLOOKUP(Ruimtestaat[[#This Row],[Ruimtesoort / Werkprogramma ]],'Prijzenblad SCOT'!$C$2:$C$10,'Prijzenblad SCOT'!$G$2:$G$10,"") -> 0 | M7: =IF(L7=0,0,L7*K7) -> 0
A8: SCOT | B8: De Bron | C8: De Bron | D8: Molenstraat 2 | E8: Vriezenveen | F8: Begane grond | G8: Speellokaal | H8: Speellokaal | I8: 0.04 | J8: Marmoleum | K8: 48.9 | L8: =_xlfn.XLOOKUP(Ruimtestaat[[#This Row],[Ruimtesoort / Werkprogramma ]],'Prijzenblad SCOT'!$C$2:$C$10,'Prijzenblad SCOT'!$G$2:$G$10,"") -> 0 | M8: =IF(L8=0,0,L8*K8) -> 0
A9: SCOT | B9: De Bron | C9: De Bron | D9: Molenstraat 2 | E9: Vriezenveen | F9: Begane grond | G9: Lokaal | H9: Kleuterlokaal | I9: 0.05 | J9: Marmoleum | K9: 90.9 | L9: =_xlfn.XLOOKUP(Ruimtestaat[[#This Row],[Ruimtesoort / Werkprogramma ]],'Prijzenblad SCOT'!$C$2:$C$10,'Prijzenblad SCOT'!$G$2:$G$10,"") -> 0 | M9: =IF(L9=0,0,L9*K9) -> 0
A10: SCOT | B10: De Bron | C10: De Bron | D10: Molenstraat 2 | E10: Vriezenveen | F10: Begane grond | G10: Toiletten | H10: Sanitair | I10: 0.06 | J10: Coating | K10: 4.9 | L10: =_xlfn.XLOOKUP(Ruimtestaat[[#This Row],[Ruimtesoort / Werkprogramma ]],'Prijzenblad SCOT'!$C$2:$C$10,'Prijzenblad SCOT'!$G$2:$G$10,"") -> 0 | M10: =IF(L10=0,0,L10*K10) -> 0
A11: SCOT | B11: De Bron | C11: De Bron | D11: Molenstraat 2 | E11: Vriezenveen | F11: Begane grond | G11: Entree | H11: Verkeersruimte | I11: 0.07 | J11: Marmoleum | K11: 6.5 | L11: =_xlfn.XLOOKUP(Ruimtestaat[[#This Row],[Ruimtesoort / Werkprogramma ]],'Prijzenblad SCOT'!$C$2:$C$10,'Prijzenblad SCOT'!$G$2:$G$10,"") -> 0 | M11: =IF(L11=0,0,L11*K11) -> 0
A12: SCOT | B12: De Bron | C12: De Bron | D12: Molenstraat 2 | E12: Vriezenveen | F12: Begane grond | G12: Werkkast | H12: Niet in onderhoud | I12: 0.08 | J12: Tegels | K12: 2.3 | L12: =_xlfn.XLOOKUP(Ruimtestaat[[#This Row],[Ruimtesoort / Werkprogramma ]],'Prijzenblad SCOT'!$C$2:$C$10,'Prijzenblad SCOT'!$G$2:$G$10,"") -> 0 | M12: =IF(L12=0,0,L12*K12) -> 0
A13: SCOT | B13: De Bron | C13: De Bron | D13: Molenstraat 2 | E13: Vriezenveen | F13: Begane grond | G13: Gang | H13: Verkeersruimte | I13: 0.09 | J13: Marmoleum | K13: 169 | L13: =_xlfn.XLOOKUP(Ruimtestaat[[#This Row],[Ruimtesoort / Werkprogramma ]],'Prijzenblad SCOT'!$C$2:$C$10,'Prijzenblad SCOT'!$G$2:$G$10,"") -> 0 | M13: =IF(L13=0,0,L13*K13) -> 0
A14: SCOT | B14: De Bron | C14: De Bron | D14: Molenstraat 2 | E14: Vriezenveen | F14: Begane grond | G14: Kantoor | H14: Administratieve ruimte | I14: 0.10 | J14: Tapijt | K14: 19 | L14: =_xlfn.XLOOKUP(Ruimtestaat[[#This Row],[Ruimtesoort / Werkprogramma ]],'Prijzenblad SCOT'!$C$2:$C$10,'Prijzenblad SCOT'!$G$2:$G$10,"") -> 0 | M14: =IF(L14=0,0,L14*K14) -> 0
A15: SCOT | B15: De Bron | C15: De Bron | D15: Molenstraat 2 | E15: Vriezenveen | F15: Begane grond | G15: Toiletten | H15: Sanitair | I15: 0.11 | J15: Coating | K15: 4.8 | L15: =_xlfn.XLOOKUP(Ruimtestaat[[#This Row],[Ruimtesoort / Werkprogramma ]],'Prijzenblad SCOT'!$C$2:$C$10,'Prijzenblad SCOT'!$G$2:$G$10,"") -> 0 | M15: =IF(L15=0,0,L15*K15) -> 0
... A36: SCOT | B36: De Eltheto | C36: De Eltheto | D36: Schoolstraat 9 | E36: Vriezenveen | F36: Begane grond | G36: Lokaal | H36: Leslokaal | I36: 0.14a | J36: Tapijt | K36: 45 | L36: =_xlfn.XLOOKUP(Ruimtestaat[[#This Row],[Ruimtesoort / Werkprogramma ]],'Prijzenblad SCOT'!$C$2:$C$10,'Prijzenblad SCOT'!$G$2:$G$10,"") -> 0 | M36: =IF(L36=0,0,L36*K36) -> 0
A37: SCOT | B37: De Eltheto | C37: De Eltheto | D37: Schoolstraat 9 | E37: Vriezenveen | F37: Begane grond | G37: Berging | H37: Niet in onderhoud | I37: 0.14b | J37: - | K37: - | L37: =_xlfn.XLOOKUP(Ruimtestaat[[#This Row],[Ruimtesoort / Werkprogramma ]],'Prijzenblad SCOT'!$C$2:$C$10,'Prijzenblad SCOT'!$G$2:$G$10,"") -> 0 | M37: =IF(L37=0,0,L37*K37) -> 0
A38: SCOT | B38: De Eltheto | C38: De Eltheto | D38: Schoolstraat 9 | E38: Vriezenveen | F38: Begane grond | G38: Kantoor | H38: Administratieve ruimte | I38: 0.15 | J38: PVC | K38: 23 | L38: =_xlfn.XLOOKUP(Ruimtestaat[[#This Row],[Ruimtesoort / Werkprogramma ]],'Prijzenblad SCOT'!$C$2:$C$10,'Prijzenblad SCOT'!$G$2:$G$10,"") -> 0 | M38: =IF(L38=0,0,L38*K38) -> 0
A39: SCOT | B39: De Eltheto | C39: De Eltheto | D39: Schoolstraat 9 | E39: Vriezenveen | F39: Begane grond | G39: Kantoor | H39: Administratieve ruimte | I39: 0.16 | J39: Tapijt | K39: 14 | L39: =_xlfn.XLOOKUP(Ruimtestaat[[#This Row],[Ruimtesoort / Werkprogramma ]],'Prijzenblad SCOT'!$C$2:$C$10,'Prijzenblad SCOT'!$G$2:$G$10,"") -> 0 | M39: =IF(L39=0,0,L39*K39) -> 0
A40: SCOT | B40: De Eltheto | C40: De Eltheto | D40: Schoolstraat 9 | E40: Vriezenveen | F40: Begane grond | G40: Kopieerruimte | H40: Niet in onderhoud | I40: 0.17 | J40: - | K40: - | L40: =_xlfn.XLOOKUP(Ruimtestaat[[#This Row],[Ruimtesoort / Werkprogramma ]],'Prijzenblad SCOT'!$C$2:$C$10,'Prijzenblad SCOT'!$G$2:$G$10,"") -> 0 | M40: =IF(L40=0,0,L40*K40) -> 0
A41: SCOT | B41: De Eltheto | C41: De Eltheto | D41: Schoolstraat 9 | E41: Vriezenveen | F41: Begane grond | G41: Toiletten | H41: Sanitair | I41: 0.18 | J41: Gietvloer | K41: 8 | L41: =_xlfn.XLOOKUP(Ruimtestaat[[#This Row],[Ruimtesoort / Werkprogramma ]],'Prijzenblad SCOT'!$C$2:$C$10,'Prijzenblad SCOT'!$G$2:$G$10,"") -> 0 | M41: =IF(L41=0,0,L41*K41) -> 0
A42: SCOT | B42: De Eltheto | C42: De Eltheto | D42: Schoolstraat 9 | E42: Vriezenveen | F42: Begane grond | G42: Berging | H42: Niet in onderhoud | I42: 0.19 | J42: - | K42: - | L42: =_xlfn.XLOOKUP(Ruimtestaat[[#This Row],[Ruimtesoort / Werkprogramma ]],'Prijzenblad SCOT'!$C$2:$C$10,'Prijzenblad SCOT'!$G$2:$G$10,"") -> 0 | M42: =IF(L42=0,0,L42*K42) -> 0
A43: SCOT | B43: De Eltheto | C43: De Eltheto | D43: Schoolstraat 9 | E43: Vriezenveen | F43: Begane grond | G43: Toiletten | H43: Sanitair | I43: 0.20 | J43: Gietvloer | K43: 8 | L43: =_xlfn.XLOOKUP(Ruimtestaat[[#This Row],[Ruimtesoort / Werkprogramma ]],'Prijzenblad SCOT'!$C$2:$C$10,'Prijzenblad SCOT'!$G$2:$G$10,"") -> 0 | M43: =IF(L43=0,0,L43*K43) -> 0
A44: SCOT | B44: De Eltheto | C44: De Eltheto | D44: Schoolstraat 9 | E44: Vriezenveen | F44: Begane grond | G44: Speellokaal | H44: Speellokaal | I44: 0.21 | J44: Marmoleum | K44: 88 | L44: =_xlfn.XLOOKUP(Ruimtestaat[[#This Row],[Ruimtesoort / Werkprogramma ]],'Prijzenblad SCOT'!$C$2:$C$10,'Prijzenblad SCOT'!$G$2:$G$10,"") -> 0 | M44: =IF(L44=0,0,L44*K44) -> 0
A45: SCOT | B45: De Eltheto | C45: De Eltheto | D45: Schoolstraat 9 | E45: Vriezenveen | F45: Begane grond | G45: Gang | H45: Verkeersruimte | I45: 0.22a | J45: Marmoleum | K45: 84 | L45: =_xlfn.XLOOKUP(Ruimtestaat[[#This Row],[Ruimtesoort / Werkprogramma ]],'Prijzenblad SCOT'!$C$2:$C$10,'Prijzenblad SCOT'!$G$2:$G$10,"") -> 0 | M45: =IF(L45=0,0,L45*K45) -> 0
A46: SCOT | B46: De Eltheto | C46: De Eltheto | D46: Schoolstraat 9 | E46: Vriezenveen | F46: Begane grond | G46: Entree | H46: Verkeersruimte | I46: 0.22b | J46: Schoonloopmat | K46: 4 | L46: =_xlfn.XLOOKUP(Ruimtestaat[[#This Row],[Ruimtesoort / Werkprogramma ]],'Prijzenblad SCOT'!$C$2:$C$10,'Prijzenblad SCOT'!$G$2:$G$10,"") -> 0 | M46: =IF(L46=0,0,L46*K46) -> 0
A47: SCOT | B47: De Eltheto | C47: De Eltheto | D47: Schoolstraat 9 | E47: Vriezenveen | F47: Begane grond | G47: Berging | H47: Niet in onderhoud | I47: 0.23 | J47: - | K47: - | L47: =_xlfn.XLOOKUP(Ruimtestaat[[#This Row],[Ruimtesoort / Werkprogramma ]],'Prijzenblad SCOT'!$C$2:$C$10,'Prijzenblad SCOT'!$G$2:$G$10,"") -> 0 | M47: =IF(L47=0,0,L47*K47) -> 0
A48: SCOT | B48: De Eltheto | C48: De Eltheto | D48: Schoolstraat 9 | E48: Vriezenveen | F48: Begane grond | G48: Lokaal | H48: Kleuterlokaal | I48: 0.24 | J48: Marmoleum | K48: 52 | L48: =_xlfn.XLOOKUP(Ruimtestaat[[#This Row],[Ruimtesoort / Werkprogramma ]],'Prijzenblad SCOT'!$C$2:$C$10,'Prijzenblad SCOT'!$G$2:$G$10,"") -> 0 | M48: =IF(L48=0,0,L48*K48) -> 0
A49: SCOT | B49: De Eltheto | C49: De Eltheto | D49: Schoolstraat 9 | E49: Vriezenveen | F49: Begane grond | G49: Lokaal | H49: Kleuterlokaal | I49: 0.25 | J49: Marmoleum | K49: 52 | L49: =_xlfn.XLOOKUP(Ruimtestaat[[#This Row],[Ruimtesoort / Werkprogramma ]],'Prijzenblad SCOT'!$C$2:$C$10,'Prijzenblad SCOT'!$G$2:$G$10,"") -> 0 | M49: =IF(L49=0,0,L49*K49) -> 0
A50: SCOT | B50: De Eltheto | C50: De Eltheto | D50: Schoolstraat 9 | E50: Vriezenveen | F50: Begane grond | G50: Lokaal | H50: Kleuterlokaal | I50: 0.26 | J50: Marmoleum | K50: 56 | L50: =_xlfn.XLOOKUP(Ruimtestaat[[#This Row],[Ruimtesoort / Werkprogramma ]],'Prijzenblad SCOT'!$C$2:$C$10,'Prijzenblad SCOT'!$G$2:$G$10,"") -> 0 | M50: =IF(L50=0,0,L50*K50) -> 0
A51: SCOT | B51: De Eltheto | C51: De Eltheto | D51: Schoolstraat 9 | E51: Vriezenveen | F51: Eerste verdieping | G51: Zolder | H51: Niet in onderhoud | I51: 1.01 | J51: - | K51: - | L51: =_xlfn.XLOOKUP(Ruimtestaat[[#This Row],[Ruimtesoort / Werkprogramma ]],'Prijzenblad SCOT'!$C$2:$C$10,'Prijzenblad SCOT'!$G$2:$G$10,"") -> 0 | M51: =IF(L51=0,0,L51*K51) -> 0
A52: SCOT | B52: De Eltheto | C52: De Eltheto | D52: Schoolstraat 9 | E52: Vriezenveen | F52: Eerste verdieping | G52: Lokaal | H52: Leslokaal | I52: 1.02 | J52: Marmoleum | K52: 49 | L52: =_xlfn.XLOOKUP(Ruimtestaat[[#This Row],[Ruimtesoort / Werkprogramma ]],'Prijzenblad SCOT'!$C$2:$C$10,'Prijzenblad SCOT'!$G$2:$G$10,"") -> 0 | M52: =IF(L52=0,0,L52*K52) -> 0
A53: SCOT | B53: De Eltheto | C53: De Eltheto | D53: Schoolstraat 9 | E53: Vriezenveen | F53: Eerste verdieping | G53: Gang | H53: Verkeersruimte | I53: 1.03 | J53: Tapijt | K53: 4 | L53: =_xlfn.XLOOKUP(Ruimtestaat[[#This Row],[Ruimtesoort / Werkprogramma ]],'Prijzenblad SCOT'!$C$2:$C$10,'Prijzenblad SCOT'!$G$2:$G$10,"") -> 0 | M53: =IF(L53=0,0,L53*K53) -> 0
A54: SCOT | B54: De Eltheto | C54: De Eltheto | D54: Schoolstraat 9 | E54: Vriezenveen | F54: Eerste verdieping | G54: Lokaal | H54: Leslokaal | I54: 1.04 | J54: Marmoleum | K54: 56 | L54: =_xlfn.XLOOKUP(Ruimtestaat[[#This Row],[Ruimtesoort / Werkprogramma ]],'Prijzenblad SCOT'!$C$2:$C$10,'Prijzenblad SCOT'!$G$2:$G$10,"") -> 0 | M54: =IF(L54=0,0,L54*K54) -> 0
A55: SCOT | B55: De Fontein (hoofdweg) | C55: De Fontein | D55: Hoofdweg 56 | E55: Vriezenveen | F55: Begane grond | G55: Kantoor | H55: Administratieve ruimte | I55: 0.01 | J55: Tapijt | K55: 22.7 | L55: =_xlfn.XLOOKUP(Ruimtestaat[[#This Row],[Ruimtesoort / Werkprogramma ]],'Prijzenblad SCOT'!$C$2:$C$10,'Prijzenblad SCOT'!$G$2:$G$10,"") -> 0 | M55: =IF(L55=0,0,L55*K55) -> 0
A56: SCOT | B56: De Fontein (hoofdweg) | C56: De Fontein | D56: Hoofdweg 56 | E56: Vriezenveen | F56: Begane grond | G56: Toiletten | H56: Sanitair | I56: 0.02 | J56: Tegels | K56: 1.8 | L56: =_xlfn.XLOOKUP(Ruimtestaat[[#This Row],[Ruimtesoort / Werkprogramma ]],'Prijzenblad SCOT'!$C$2:$C$10,'Prijzenblad SCOT'!$G$2:$G$10,"") -> 0 | M56: =IF(L56=0,0,L56*K56) -> 0
A57: SCOT | B57: De Fontein (hoofdweg) | C57: De Fontein | D57: Hoofdweg 56 | E57: Vriezenveen | F57: Begane grond | G57: Entree | H57: Verkeersruimte | I57: 0.03 | J57: Tapijt | K57: 2.3 | L57: =_xlfn.XLOOKUP(Ruimtestaat[[#This Row],[Ruimtesoort / Werkprogramma ]],'Prijzenblad SCOT'!$C$2:$C$10,'Prijzenblad SCOT'!$G$2:$G$10,"") -> 0 | M57: =IF(L57=0,0,L57*K57) -> 0
A58: SCOT | B58: De Fontein (hoofdweg) | C58: De Fontein | D58: Hoofdweg 56 | E58: Vriezenveen | F58: Begane grond | G58: Lokaal | H58: Niet in onderhoud | I58: 0.04 | J58: Tapijt | K58: 50.9 | L58: =_xlfn.XLOOKUP(Ruimtestaat[[#This Row],[Ruimtesoort / Werkprogramma ]],'Prijzenblad SCOT'!$C$2:$C$10,'Prijzenblad SCOT'!$G$2:$G$10,"") -> 0 | M58: =IF(L58=0,0,L58*K58) -> 0
A59: SCOT | B59: De Fontein (hoofdweg) | C59: De Fontein | D59: Hoofdweg 56 | E59: Vriezenveen | F59: Begane grond | G59: Lokaal | H59: Leslokaal | I59: 0.05 | J59: Tapijt | K59: 51.1 | L59: =_xlfn.XLOOKUP(Ruimtestaat[[#This Row],[Ruimtesoort / Werkprogramma ]],'Prijzenblad SCOT'!$C$2:$C$10,'Prijzenblad SCOT'!$G$2:$G$10,"") -> 0 | M59: =IF(L59=0,0,L59*K59) -> 0
A60: SCOT | B60: De Fontein (hoofdweg) | C60: De Fontein | D60: Hoofdweg 56 | E60: Vriezenveen | F60: Begane grond | G60: Lokaal | H60: Leslokaal | I60: 0.06 | J60: Tapijt | K60: 50.9 | L60: =_xlfn.XLOOKUP(Ruimtestaat[[#This Row],[Ruimtesoort / Werkprogramma ]],'Prijzenblad SCOT'!$C$2:$C$10,'Prijzenblad SCOT'!$G$2:$G$10,"") -> 0 | M60: =IF(L60=0,0,L60*K60) -> 0
A61: SCOT | B61: De Fontein (hoofdweg) | C61: De Fontein | D61: Hoofdweg 56 | E61: Vriezenveen | F61: Begane grond | G61: Kantoor | H61: Administratieve ruimte | I61: 0.07 | J61: Tapijt | K61: 13.8 | L61: =_xlfn.XLOOKUP(Ruimtestaat[[#This Row],[Ruimtesoort / Werkprogramma ]],'Prijzenblad SCOT'!$C$2:$C$10,'Prijzenblad SCOT'!$G$2:$G$10,"") -> 0 | M61: =IF(L61=0,0,L61*K61) -> 0
...

Sheet Locaties SCOT
A1: Terug naar het tabblad Toelichting
A2: Scholen | B2: Locatienaam | C2: Adres | D2: Postcode | E2: Plaats | F2: # m²
A3: SCOT | B3: De Bron | C3: Molenstraat 2 | D3: 7671 KB | E3: Vriezenveen | F3: =SUM('Ruimtestaat'!K4:K21) -> 568.4
A4: SCOT | B4: Eltheto | C4: Schoolstraat 9 | D4: 7671 GG | E4: Vriezenveen | F4: =SUM('Ruimtestaat'!K22:K54) -> 1149
A5: SCOT | B5: De Fontein Hoofdweg | C5: Hoofdweg 56 | D5: 7676 AG | E5: Westerhaar | F5: =SUM('Ruimtestaat'!K55:K80) -> 837.7
A6: SCOT | B6: De Fontein Oranjestraat | C6: Oranjestraat 2C | D6: 7676 AG | E6: Westerhaar | F6: =SUM('Ruimtestaat'!K81:K115) -> 965.7
A7: SCOT | B7: De Marliaantjes | C7: Hammerweg 8 | D7: 7447 SM | E7: Hellendoorn | F7: =SUM('Ruimtestaat'!K116:K149) -> 601
A8: SCOT | B8: De Maten | C8: Broekmaten 6 | D8: 7683 XH | E8: Den Ham | F8: =SUM('Ruimtestaat'!K150:K190) -> 1031
A9: SCOT | B9: De Pölle | C9: Oude Hoevenweg 97 | D9: 7671 PH | E9: Vriezenveen | F9: =SUM('Ruimtestaat'!K191:K219) -> 510.04
A10: SCOT | B10: De Regenboog | C10: De Leeuwerik 1 | D10: 7671 ZX | E10: Vriezenveen | F10: =SUM('Ruimtestaat'!K220:K251) -> 965.2
A11: SCOT | B11: Shalom | C11: Zicht 2 | D11: 7671 ND | E11: Vriezenveen | F11: =SUM('Ruimtestaat'!K252:K291) -> 1070.01
A12: SCOT | B12: Shalom De Weeme | C12: Koningshof 4 | D12: 7672 GE | E12: Vriezenveen | F12: =SUM('Ruimtestaat'!K292:K339) -> 1293
A13: SCOT | B13: De Sleutel | C13: Stobbelaan 61 | D13: 7681 ZN | E13: Vroomshoop | F13: =SUM('Ruimtestaat'!K340:K399) -> 1154.3
A14: SCOT | B14: De Smithoek | C14: Roelofsbrink 12 | D14: 7683 CK | E14: Den Ham | F14: =SUM('Ruimtestaat'!K400:K495) -> 2587
A15: SCOT | B15: De Tweeklank | C15: Albardastraat 35 | D15: 7611 BE | E15: Aadorp | F15: =SUM('Ruimtestaat'!K496:K543) -> 1117
A16: SCOT | B16: Rehoboth | C16: Buitenlandweg 1 | D16: 7671 RK | E16: Vriezenveen | F16: =SUM('Ruimtestaat'!K544:K575) -> 954
A17: SCOT | B17: Bestuurskantoor | C17: Schoolstraat 5 | D17: 7671 GG | E17: Vriezenveen | F17: =SUM('Ruimtestaat'!K576:K593) -> 189.75
A18: Totaal | F18: =SUBTOTAL(109,Locaties['# m²]) -> 14993.1

Sheet Admistratieve ruimte (1)
A1: Terug naar het tabblad Toelichting | B1: Stichting: | C1: SCOT | D1: Prijs van dit werkprogramma per m² per jaar
B2: Programmacode: | C2: 1
B3: Omschrijving: | C3: Administratieve ruimte
B5: Onderdeel | C5: Handeling | D5: Resultaat omschrijving | E5: Aantal prestaties per jaar | F5: Aantal prestaties per periode
A6: Dagelijks | B6: Afvalbakken | C6: Ledigen en afvalzak vervangen | D6: Leeg en voorzien van schone plastic zak | E6: 84 | F6: 2x per week
B7: Afvoer restafval. Papier wordt door Opdrachtgever zelf gedaan. | C7: Afvoeren afval | D7: Het vanaf de bron inzamelen en het afvoeren naar een centrale plek van restafval. | E7: 84 | F7: 2x per week
A8: Wekelijks | B8: Deurkrukken, -grepen en directe omgeving | C8: Klamvochtig reinigen | D8: Deurkrukken en -grepen vrij van stof, vingertasten en vlekken. | E8: 42 | F8: 1x per week
B9: Bureaustoelen: stoelpoten en -leuningen | C9: Klamvochtig reinigen | D9: Het stof- en vlekvrij opleveren van stoelpoten en -leuningen | E9: 42 | F9: 1x per week
B10: Lichtschakelaars | C10: Klamvochtig reinigen | D10: Het stof- en vlekvrij opleveren van lichtschakelaars | E10: 42 | F10: 1x per week
B11: Lichtarmaturen | C11: Klamvochtig reinigen | D11: Het stof- en vlekvrij opleveren van armaturen tot reikhoogte (200cm) | E11: 42 | F11: 1x per week
B12: Inventaris (meubilair, lampen, kasten, tafels, enzovoorts) | C12: Klamvochtig reinigen | D12: Het stof- en vlekvrij opleveren van de horizontale vlakken van de inventaris tot reikhoogte (200cm) | E12: 42 | F12: 1x per week
B13: (Glazen)deuren / seperatieglas | C13: Vingertasten verwijderen en ontvlekken | D13: Stof- en vlekvrij, geen aangehecht vuil, geen stickers | E13: 42 | F13: 1x per week
B14: Radiatoren | C14: Bovenzijde klamvochtig reinigen | D14: Bovenzijde stofvrij maken | E14: 42 | F14: 1x per week
B15: Randen / richels / plinten / kabelgoten | C15: Stofvrij maken | D15: Licht stof bovenzijde, geen losliggend en aangehecht vuil | E15: 42 | F15: 1x per week
B16: Vensterbanken | C16: Klamvochtig reinigen | D16: Het stof- en vlekvrij opleveren van vensterbanken, mits ontruimd | E16: 42 | F16: 1x per week
B17: Vloer met harde afwerking (tegel, steen, epoxy, gietvloer, PVC, beton en vergelijkbaar) | C17: Vlakmoppen | D17: Het moppen van alle harde vloeren | E17: 42 | F17: 1x per week
B18: Vloer met harde afwerking (tegel, steen, epoxy, gietvloer, PVC, beton en vergelijkbaar) | C18: Stofwissen en ontvlekken | D18: Het stof- en vlekvrij opleveren van de vloer | E18: 42 | F18: 1x per week
B19: Vloer zachte afwerking | C19: Stofzuigen en ontvlekken | D19: Het stof- en vlekvrij opleveren van de vloer | E19: 42 | F19: 1x per week
B20: Wandcontactdozen | C20: Klamvochtig reinigen | D20: Het stof- en vlekvrij opleveren van wandcontactdozen | E20: 42 | F20: 1x per week
A21: Maandelijks | B21: Hoge en lage kasten | C21: Klamvochtig reinigen verticale vlakken | D21: Het klamvochtig reinigen van de verticale vlakken van de kasten | E21: 12 | F21: 1x per maand
B22: Gehele ruimte | C22: Ragen | D22: Spinrag verwijderen indien aanwezig | E22: 12 | F22: 1x per maand
B23: Luchtroosters / ventilatieroosters | C23: Buitenzijde stof verwijderen | D23: Licht stof, geen aangehecht vuil | E23: 12 | F23: 1x per maand
B24: Afvalbakken | C24: Geheel reinigen, buiten- en binnenzijde nat afnemen | D24: Stof- en vlekvrij, geen aangehecht vuil | E24: 12 | F24: 1x per maand
B25: Wanddecoratie | C25: Stofvrij maken | D25: Licht stof, geen aangehecht vuil | E25: 12 | F25: 1x per maand
A26: Periodiek | B26: (Glazen)deuren inclusief deurposten | C26: Reinigen | D26: Het nat reinigen van de gehele deur met omlijstingen, inclusief het verwijderen van schopstrepen | E26: 4 | F26: 1x per kwartaal
B27: Hoge kasten | C27: Klamvochtig reinigen bovenzijde boven reikhoogte en verticale vlakken | D27: Het klamvochtig reinigen van de bovenzijde en de verticale vlakken van de kasten | E27: 4 | F27: 1x per kwartaal
B28: Inventaris / radiatoren / vensterbanken / plantenbakken | C28: Nat reinigen | D28: Het (horizontaal en verticaal) nat reinigen van de inventaris, vensterbanken en radiatoren inclusief het verwijderen van kauwgom | E28: 4 | F28: 1x per kwartaal
B29: Wanden (afwasbaar) | C29: Ontvlekken | D29: Het plaatselijk verwijderen van vlekken en vingertasten op wanden | E29: 4 | F29: 1x per kwartaal
B30: Vloer met harde afwerking (tegel, steen, epoxy, gietvloer, PVC beton en vergelijkbaar) | C30: Schrobben | D30: Stof- en vlekvrij, geen aangehecht vuil, geen kalkaanslag, geen lekstrepen, geen zeep en waterresten | E30: 2 | F30: 1x per halfjaar
B31: Randen / richels / plinten / lichtarmaturen / luchtroosters / radiatoren | C31: Stofvrij maken en ontvlekken | D31: Het geheel stof- en vlekvrij opleveren van alle hoge en lage richels, plinten en lichtarmaturen en de roosters van afzuigkanalen. Radiatoren aan binnenzijde vrij maken van stof en rag. | E31: 1 | F31: 1x per jaar
B32: Vloer | C32: Basisreiniging + Basisbehandeling | D32: Basisreiniging: Het verwijderen van oude beschermlagen en/of vuil waarna een basisbehandeling kan worden toegepast. Basisbehandeling: Vloerbehandeling, waarbij een of meer beschermlagen worden aangebracht, als basis voor het dagelijks en periodiek onderhoud | E32: 1 | F32: 1x per jaar

Sheet Leslokaal (2)
A1: Terug naar het tabblad Toelichting | B1: Project: | C1: SCOT | D1: Prijs van dit werkprogramma per m² per jaar
B2: Programmacode | C2: 2
B3: Omschrijving: | C3: Leslokaal
B5: Onderdeel | C5: Handeling | D5: Resultaat omschrijving | E5: Aantal prestaties per jaar | F5: Aantal prestaties per periode
A6: Dagelijks | B6: Afvalbakken | C6: Ledigen en afvalzak vervangen | D6: Leeg en voorzien van schone plastic zak | E6: 210 | F6: 5x per week
B7: Afvoer restafval. Papier wordt door Opdrachtgever zelf gedaan. | C7: Afvoeren afval | D7: Het vanaf de bron inzamelen en het afvoeren naar een centrale plek van restafval. | E7: 210 | F7: 5x per week
B8: Deurkrukken, -grepen en direkte omgeving | C8: Klamvochtig reinigen | D8: Deurkrukken en -grepen vrij van stof, vingertasten en vlekken. | E8: 210 | F8: 5x per week
B9: Wastafels | C9: Nat reinigen | D9: Het nat reinigen waardoor aangehecht vuil, lekstrepen, kalkaanslag en zeepresten worden verwijderd | E9: 210 | F9: 5x per week
B10: Vloer met harde afwerking (tegel, steen, epoxy, gietvloer, PVC, beton en vergelijkbaar) | C10: Stofwissen en ontvlekken | D10: Het stof- en vlekvrij opleveren van de vloer | E10: 168 | F10: 4x per week
B11: Vloer zachte afwerking | C11: Bijtippend stofzuigen | D11: Het bijtippend zuigen en ontdoen van plaatselijk gehecht vuil tbv de zachte vloerbedekking | E11: 168 | F11: 4x per week
A12: Wekelijks | B12: Bureaustoel leerkracht: stoelpoten en -leuningen | C12: Klamvochtig reinigen | D12: Het stof- en vlekvrij opleveren van stoelpoten en -leuningen | E12: 42 | F12: 1x per week
B13: Inventaris (meubilair, kasten, speeltoestellen, enzovoorts) | C13: Klamvochtig reinigen | D13: Het stof- en vlekvrij opleveren van de horizontale vlakken van de inventaris tot reikhoogte (200cm) | E13: 42 | F13: 1x per week
B14: Radiatoren | C14: Bovenzijde klamvochtig reinigen | D14: Bovenzijde stofvrij maken | E14: 42 | F14: 1x per week
B15: Randen / richels / plinten / kabelgoten | C15: Stofvrij maken | D15: Licht stof bovenzijde, geen losliggend en aangehecht vuil | E15: 42 | F15: 1x per week
B16: (Glazen)deuren / seperatieglas | C16: Vingertasten verwijderen en ontvlekken | D16: Stof- en vlekvrij, geen aangehecht vuil, geen stickers | E16: 42 | F16: 1x per week
B17: Lichtschakelaars | C17: Klamvochtig reinigen | D17: Het stof- en vlekvrij opleveren van lichtschakelaars | E17: 42 | F17: 1x per week
B18: Lichtarmaturen | C18: Klamvochtig reinigen | D18: Het stof- en vlekvrij opleveren van armaturen tot reikhoogte (200cm) | E18: 42 | F18: 1x per week
B19: Vensterbanken | C19: Klamvochtig reinigen | D19: Het stof- en vlekvrij opleveren van vensterbanken, mits ontruimd | E19: 42 | F19: 1x per week
B20: Vloer met harde afwerking (tegel, steen, epoxy, gietvloer, PVC, beton en vergelijkbaar) | C20: Vlakmoppen | D20: Het moppen van alle harde vloeren | E20: 42 | F20: 1x per week
B21: Vloer met harde afwerking (tegel, steen, epoxy, gietvloer, PVC, beton en vergelijkbaar) | C21: Volledig stofzuigen | D21: Volledig stofzuigen alle harde vloeren | E21: 42 | F21: 1x per week
B22: Vloer zachte afwerking | C22: Stofzuigen en ontvlekken | D22: Het stof- en vlekvrij opleveren van de vloer | E22: 42 | F22: 1x per week
B23: Wandcontactdozen | C23: Klamvochtig reinigen | D23: Het stof- en vlekvrij opleveren van wandcontactdozen | E23: 42 | F23: 1x per week
A24: Maandelijks | B24: Hoge en lage kasten | C24: Klamvochtig reinigen verticale vlakken | D24: Het klamvochtig reinigen van de kasten | E24: 12 | F24: 1x per maand
B25: Luchtroosters / ventilatieroosters | C25: Buitenzijde stof verwijderen | D25: Licht stof, geen aangehecht vuil | E25: 12 | F25: 1x per maand
B26: Gehele ruimte | C26: Ragen | D26: Spinrag verwijderen indien aanwezig | E26: 12 | F26: 1x per maand
B27: Afvalbakken | C27: Geheel reinigen, buiten- en binnenzijde nat afnemen | D27: Stof- en vlekvrij, geen aangehecht vuil | E27: 12 | F27: 1x per maand
B28: Wanddecoratie | C28: Stofvrij maken | D28: Licht stof, geen aangehecht vuil | E28: 12 | F28: 1x per maand
A29: Periodiek | B29: Hoge kasten | C29: Klamvochtig reinigen bovenzijde boven reikhoogte en verticale vlakken | D29: Het klamvochtig reinigen van de bovenzijde en de verticale vlakken van de kasten | E29: 4 | F29: 1x per kwartaal
B30: Inventaris / radiatoren / vensterbanken / plantenbakken | C30: Nat reinigen | D30: Het (horizontaal en verticaal) nat reinigen van de inventaris, vensterbanken en radiatoren inclusief het verwijderen van kauwgom | E30: 4 | F30: 1x per kwartaal
B31: Wanden (afwasbaar) | C31: Ontvlekken | D31: Het plaatselijk verwijderen van vlekken en vingertasten op wanden | E31: 4 | F31: 1x per kwartaal
B32: Wastafels en spoelbakken | C32: Oppoetsen | D32: Stof- en vlekvrij, geen aangehecht vuil, geen kalkaanslag. Glanzend chroom. | E32: 4 | F32: 1x per kwartaal
B33: (Glazen)deuren inclusief deurposten | C33: Reinigen | D33: Het nat reinigen van de gehele deur met omlijstingen, inclusief het verwijderen van schopstrepen | E33: 4 | F33: 1x per kwartaal
B34: Vloer met harde afwerking (tegel, steen, epoxy, gietvloer, PVC beton en vergelijkbaar) | C34: Schrobben | D34: Stof- en vlekvrij, geen aangehecht vuil, geen kalkaanslag, geen lekstrepen, geen zeep en waterresten | E34: 2 | F34: 1x per halfjaar
B35: Randen / richels / plinten / lichtarmaturen / luchtroosters / radiatoren | C35: Stofvrij maken en ontvlekken | D35: Het geheel stof- en vlekvrij opleveren van alle hoge en lage richels, plinten en lichtarmaturen en de roosters van afzuigkanalen. Radiatoren aan binnenzijde vrij maken van stof en rag. | E35: 2 | F35: 1x per halfjaar
B36: Vloer | C36: Basisreiniging + Basisbehandeling | D36: Basisreiniging: Het verwijderen van oude beschermlagen en/of vuil waarna een basisbehandeling kan worden toegepast. Basisbehandeling: Vloerbehandeling, waarbij een of meer beschermlagen worden aangebracht, als basis voor het dagelijks en periodiek onderhoud. | E36: 1 | F36: 1x per jaar

Sheet Kleuterlokaal (3)
A1: Terug naar het tabblad Toelichting | B1: Project: | C1: SCOT | D1: Prijs van dit werkprogramma per m² per jaar
B2: Programmacode | C2: 3
B3: Omschrijving: | C3: Kleuterlokaal
B5: Onderdeel | C5: Handeling | D5: Resultaat omschrijving | E5: Aantal prestaties per jaar | F5: Aantal prestaties per periode
A6: Dagelijks | B6: Afvalbakken | C6: Ledigen en afvalzak vervangen | D6: Leeg en voorzien van schone plastic zak | E6: 210 | F6: 5x per week
B7: Afvoer restafval. Papier wordt door Opdrachtgever zelf gedaan. | C7: Afvoeren afval | D7: Het vanaf de bron inzamelen en het afvoeren naar een centrale plek van restafval. | E7: 210 | F7: 5x per week
B8: Deurkrukken, -grepen en direkte omgeving | C8: Klamvochtig reinigen | D8: Deurkrukken en -grepen vrij van stof, vingertasten en vlekken. | E8: 210 | F8: 5x per week
B9: Wastafels | C9: Nat reinigen | D9: Het nat reinigen waardoor aangehecht vuil, lekstrepen, kalkaanslag en zeepresten worden verwijderd | E9: 210 | F9: 5x per week
B10: Tafels | C10: Klamvochtig reinigen | D10: Het stof- en vlekvrij opleveren van de horizontale vlakken van de tafels van de leerlingen. | E10: 126 | F10: 3x per week
B11: Vloer met harde afwerking (tegel, steen, epoxy, gietvloer, PVC, beton en vergelijkbaar) | C11: Stofwissen en ontvlekken | D11: Het stof- en vlekvrij opleveren van de vloer | E11: 126 | F11: 3x per week
B12: Vloer zachte afwerking | C12: Bijtippend stofzuigen | D12: Het bijtippend zuigen en ontdoen van plaatselijk gehecht vuil tbv de zachte vloerbedekking | E12: 126 | F12: 3x per week
B13: Vloer met harde afwerking (tegel, steen, epoxy, gietvloer, PVC, beton en vergelijkbaar) | C13: Vlakmoppen | D13: Het moppen van alle harde vloeren | E13: 84 | F13: 2x per week
B14: Vloer met harde afwerking (tegel, steen, epoxy, gietvloer, PVC, beton en vergelijkbaar) | C14: Volledig stofzuigen | D14: Volledig stofzuigen alle harde vloeren | E14: 84 | F14: 2x per week
B15: Vloer zachte afwerking | C15: Stofzuigen en ontvlekken | D15: Het stof- en vlekvrij opleveren van de vloer | E15: 84 | F15: 2x per week
A16: Wekelijks | B16: Bureaustoel leerkracht: stoelpoten en -leuningen | C16: Klamvochtig reinigen | D16: Het stof- en vlekvrij opleveren van stoelpoten en -leuningen | E16: 42 | F16: 1x per week
B17: Inventaris (meubilair, kasten, speeltoestellen, enzovoorts) | C17: Klamvochtig reinigen | D17: Het stof- en vlekvrij opleveren van de horizontale vlakken van de inventaris tot reikhoogte (200cm) | E17: 42 | F17: 1x per week
B18: Radiatoren | C18: Bovenzijde klamvochtig reinigen | D18: Bovenzijde stofvrij maken | E18: 42 | F18: 1x per week
B19: Randen / richels / plinten / kabelgoten | C19: Stofvrij maken | D19: Licht stof bovenzijde, geen losliggend en aangehecht vuil | E19: 42 | F19: 1x per week
B20: (Glazen)deuren / seperatieglas | C20: Vingertasten verwijderen en ontvlekken | D20: Stof- en vlekvrij, geen aangehecht vuil, geen stickers | E20: 42 | F20: 1x per week
B21: Lichtschakelaars | C21: Klamvochtig reinigen | D21: Het stof- en vlekvrij opleveren van lichtschakelaars | E21: 42 | F21: 1x per week
B22: Lichtarmaturen | C22: Klamvochtig reinigen | D22: Het stof- en vlekvrij opleveren van armaturen tot reikhoogte (200cm) | E22: 42 | F22: 1x per week
B23: Vensterbanken | C23: Klamvochtig reinigen | D23: Het stof- en vlekvrij opleveren van vensterbanken, mits ontruimd | E23: 42 | F23: 1x per week
B24: Wandcontactdozen | C24: Klamvochtig reinigen | D24: Het stof- en vlekvrij opleveren van wandcontactdozen | E24: 42 | F24: 1x per week
A25: Maandelijks | B25: Hoge en lage kasten | C25: Klamvochtig reinigen verticale vlakken | D25: Het klamvochtig reinigen van de kasten | E25: 12 | F25: 1x per maand
B26: Luchtroosters / ventilatieroosters | C26: Buitenzijde stof verwijderen | D26: Licht stof, geen aangehecht vuil | E26: 12 | F26: 1x per maand
B27: Gehele ruimte | C27: Ragen | D27: Spinrag verwijderen indien aanwezig | E27: 12 | F27: 1x per maand
B28: Afvalbakken | C28: Geheel reinigen, buiten- en binnenzijde nat afnemen | D28: Stof- en vlekvrij, geen aangehecht vuil | E28: 12 | F28: 1x per maand
B29: Wanddecoratie | C29: Stofvrij maken | D29: Licht stof, geen aangehecht vuil | E29: 12 | F29: 1x per maand
A30: Periodiek | B30: Hoge kasten | C30: Klamvochtig reinigen bovenzijde boven reikhoogte en verticale vlakken | D30: Het klamvochtig reinigen van de bovenzijde en de verticale vlakken van de kasten | E30: 4 | F30: 1x per kwartaal
B31: Inventaris / radiatoren / vensterbanken / plantenbakken | C31: Nat reinigen | D31: Het (horizontaal en verticaal) nat reinigen van de inventaris, vensterbanken en radiatoren inclusief het verwijderen van kauwgom | E31: 4 | F31: 1x per kwartaal
B32: Wanden (afwasbaar) | C32: Ontvlekken | D32: Het plaatselijk verwijderen van vlekken en vingertasten op wanden | E32: 4 | F32: 1x per kwartaal
B33: (Glazen)deuren inclusief deurposten | C33: Reinigen | D33: Het nat reinigen van de gehele deur met omlijstingen, inclusief het verwijderen van schopstrepen | E33: 4 | F33: 1x per kwartaal
B34: Randen / richels / plinten / lichtarmaturen / luchtroosters / radiatoren | C34: Stofvrij maken en ontvlekken | D34: Het geheel stof- en vlekvrij opleveren van alle hoge en lage richels, plinten en lichtarmaturen en de roosters van afzuigkanalen. Radiatoren aan binnenzijde vrij maken van stof en rag. | E34: 2 | F34: 1x per halfjaar
B35: Vloer met harde afwerking (tegel, steen, epoxy, gietvloer, PVC beton en vergelijkbaar) | C35: Schrobben | D35: Stof- en vlekvrij, geen aangehecht vuil, geen kalkaanslag, geen lekstrepen, geen zeep en waterresten | E35: 2 | F35: 1x per halfjaar
B36: Vloer | C36: Basisreiniging + Basisbehandeling | D36: Basisreiniging: Het verwijderen van oude beschermlagen en/of vuil waarna een basisbehandeling kan worden toegepast. Basisbehandeling: Vloerbehandeling, waarbij een of meer beschermlagen worden aangebracht, als basis voor het dagelijks en periodiek onderhoud | E36: 1 | F36: 1x per jaar

Sheet Sanitair (4)
A1: Terug naar het tabblad Toelichting | B1: Project: | C1: SCOT | D1: Prijs van dit werkprogramma per m² per jaar
B2: Programmacode: | C2: 4
B3: Omschrijving: | C3: Sanitair
B5: Onderdeel | C5: Handeling | D5: Resultaat omschrijving | E5: Aantal prestaties per jaar | F5: Aantal prestaties per periode
A6: Dagelijks | B6: Afvalbakken | C6: Ledigen en afvalzak vervangen | D6: Leeg en voorzien van schone plastic zak | E6: 210 | F6: 5x per week
B7: (Glazen)deuren | C7: Vingertasten verwijderen en ontvlekken | D7: Stof- en vlekvrij, geen aangehecht vuil, geen stickers | E7: 210 | F7: 5x per week
B8: Deurkrukken, -grepen en direkte omgeving | C8: Klamvochtig reinigen | D8: Deurkrukken en -grepen vrij van stof, vingertasten en vlekken. | E8: 210 | F8: 5x per week
B9: Directe betegeling sanitair | C9: Nat reinigen | D9: Het nat reinigen waardoor aangehecht vuil, lekstrepen, kalkaanslag en zeepresten worden verwijderd | E9: 210 | F9: 5x per week
B10: Douches | C10: Nat reinigen | D10: Stof- en vlekvrij, geen aangehecht vuil, geen kalkaanslag, geen lekstrepen | E10: 210 | F10: 5x per week
B11: Inventaris | C11: Klamvochtig reinigen | D11: Het stof- en vlekvrij opleveren van de horizontale vlakken van de inventaris tot reikhoogte (200cm) | E11: 210 | F11: 5x per week
B12: Keukenkastjes, aanrechtblad, gootsteen, chroomwerk | C12: Klamvochtig reinigen | D12: Het stof- en vlekvrij opleveren van de horizontale vlakken van de inventaris tot reikhoogte (200cm), deuren en grepen vrij van vingertasten en vlekken. | E12: 210 | F12: 5x per week
B13: Lichtschakelaars | C13: Klamvochtig reinigen | D13: Het stof- en vlekvrij opleveren van lichtschakelaars | E13: 210 | F13: 5x per week
B14: Planchet | C14: Klamvochtig reinigen | D14: Stof- en vlekvrij, geen losliggend en aangehecht vuil, geen zeepresten | E14: 210 | F14: 5x per week
B15: Sanitaire voorzieningen | C15: Klamvochtig reinigen | D15: Stof- en vlekvrij, geen losliggend en aangehecht vuil, geen zeepresten | E15: 210 | F15: 5x per week
B16: Schaamschot | C16: Nat reinigen | D16: Stof- en vlekvrij, lichte kalkaanslag, geen aangehecht vuil, geen lekstrepen | E16: 210 | F16: 5x per week
B17: Spiegels | C17: Reinigen/streeploos drogen | D17: Stof- en vlekvrij, geen aangehecht vuil, geen strepen | E17: 210 | F17: 5x per week
B18: Spoelinstallatie | C18: Nat reinigen & opwrijven | D18: Stof- en vlekvrij, geen aangehecht vuil, geen kalkaanslag | E18: 210 | F18: 5x per week
... B23: Wasbakken, inclusief buitenzijde en sifons | C23: Nat reinigen | D23: geen aangehecht vuil, geen lekstrepen, geen kalkaanslag, geen zeepresten | E23: 210 | F23: 5x per week
A24: Wekelijks | B24: Radiatoren | C24: Bovenzijde klamvochtig reinigen | D24: Bovenzijde stofvrij maken | E24: 42 | F24: 1x per week
B25: Vensterbanken | C25: Klamvochtig reinigen | D25: Het stof- en vlekvrij opleveren van vensterbanken, mits ontruimd | E25: 42 | F25: 1x per week
B26: Wandcontactdozen | C26: Klamvochtig reinigen | D26: Het stof- en vlekvrij opleveren van wandcontactdozen | E26: 42 | F26: 1x per week
A27: Maandelijks | B27: Afvalbakken | C27: Geheel reinigen, buiten- en binnenzijde nat afnemen | D27: Stof- en vlekvrij, geen aangehecht vuil | E27: 12 | F27: 1x per maand
B28: Luchtroosters / ventilatieroosters | C28: Buitenzijde stof verwijderen | D28: Licht stof, geen aangehecht vuil | E28: 12 | F28: 1x per maand
B29: Overige wanden (niet zijnde tegelwanden) | C29: Ontvlekken | D29: Stof- en vlekvrij, geen aangehecht vuil | E29: 12 | F29: 1x per maand
B30: Richels / plinten | C30: Stofvrij maken | D30: lichte stof bovenzijde, geen losliggend en aangehecht vuil | E30: 12 | F30: 1x per maand
B31: Gehele ruimte | C31: Ragen | D31: Spinrag verwijderen indien aanwezig | E31: 12 | F31: 1x per maand
A32: Periodiek | B32: Inventaris / radiatoren | C32: Reinigen | D32: Het (horizontaal en verticaal) nat reinigen van de inventaris en radiatoren inclusief het verwijderen van kauwgom | E32: 4 | F32: 1x per kwartaal
B33: (Glazen)deuren inclusief deurposten | C33: Nat reinigen | D33: Het nat reinigen van de gehele deur met omlijstingen, inclusief het verwijderen van schopstrepen | E33: 4 | F33: 1x per kwartaal
B34: Chroomwerk wastafels | C34: Oppoetsen | D34: Stof- en vlekvrij, geen aangehecht vuil, geen kalkaanslag | E34: 4 | F34: 1x per kwartaal
B35: Vloer met harde afwerking (tegel, steen, epoxy, gietvloer, PVC beton en vergelijkbaar) | C35: Schrobben | D35: Stof- en vlekvrij, geen aangehecht vuil, geen kalkaanslag, geen lekstrepen, geen zeep en waterresten | E35: 2 | F35: 1x per halfjaar
B36: Randen / richels / plinten / lichtarmaturen / luchtroosters / radiatoren | C36: Stofvrij maken en ontvlekken | D36: Het geheel stof- en vlekvrij opleveren van alle hoge en lage richels, plinten en lichtarmaturen en de roosters van afzuigkanalen. Radiatoren aan binnenzijde vrij maken van stof en rag. | E36: 1 | F36: 1x per jaar
B37: Sanitair / tegelwanden / afvalbakken / stenen of harde vloer | C37: Reinigen | D37: Het nat reinigen, desinfecteren en/of ontkalken van het sanitair, de vloer, de tegelwanden en de afvalbakken | E37: 1 | F37: 1x per jaar

Sheet Restauratieve ruimte (5)
A1: Terug naar het tabblad Toelichting | B1: Project: | C1: SCOT | D1: Prijs van dit werkprogramma per m² per jaar
B2: Programmacode: | C2: 5
B3: Omschrijving: | C3: Restauratieve ruimte
B5: Onderdeel | C5: Handeling | D5: Resultaat omschrijving | E5: Aantal prestaties per jaar | F5: Aantal prestaties per periode
A6: Dagelijks | B6: Afvalbakken | C6: Ledigen en afvalzak vervangen | D6: Leeg en voorzien van schone plastic zak | E6: 210 | F6: 5x per week
B7: Afvoer restafval. Papier wordt door Opdrachtgever zelf gedaan. | C7: Afvoeren afval | D7: Het vanaf de bron inzamelen en het afvoeren naar een centrale plek van restafval. | E7: 210 | F7: 5x per week
B8: Deurkrukken, -grepen en direkte omgeving | C8: Klamvochtig reinigen | D8: Deurkrukken en -grepen vrij van stof, vingertasten en vlekken. | E8: 210 | F8: 5x per week
B9: Tegelwanden | C9: Vingertasten verwijderen en ontvlekken | D9: Het plaatselijk verwijderen van vingertasten op wanden | E9: 210 | F9: 5x per week
B10: Vloer met harde afwerking (tegel, steen, epoxy, gietvloer, PVC beton en vergelijkbaar) | C10: Vlakmoppen | D10: Het moppen van alle harde vloeren | E10: 210 | F10: 5x per week
B11: Vloer zachte afwerking | C11: Stofzuigen en ontvlekken | D11: Het stof- en vlekvrij opleveren van de vloer | E11: 210 | F11: 5x per week
B12: Wastafels, aanrechtblokken en spoelbakken | C12: Nat reinigen | D12: Het nat reinigen waardoor aangehecht vuil, lekstrepen, kalkaanslag en zeepresten worden verwijderd | E12: 210 | F12: 5x per week
A13: Wekelijks | B13: Inventaris (meubilair, lampen, kasten, tafels, enzovoorts) | C13: Klamvochtig reinigen | D13: Het stof- en vlekvrij opleveren van de verticale vlakken van de inventaris tot reikhoogte (200cm). | E13: 42 | F13: 1x per week
B14: Lichtarmaturen | C14: Klamvochtig reinigen | D14: Het stof- en vlekvrij opleveren van armaturen tot reikhoogte (200cm) | E14: 42 | F14: 1x per week
B15: (Glazen)deuren | C15: Vingertasten verwijderen en ontvlekken | D15: Stof- en vlekvrij, geen aangehecht vuil, geen stickers | E15: 42 | F15: 1x per week
B16: Radiatoren | C16: Bovenzijde klamvochtig reinigen | D16: Bovenzijde stofvrij maken | E16: 42 | F16: 1x per week
B17: Randen / richels / plinten / kabelgoten | C17: Stofvrij maken | D17: Licht stof bovenzijde, geen losliggend en aangehecht vuil | E17: 42 | F17: 1x per week
B18: Vensterbanken | C18: Klamvochtig reinigen | D18: Het stof- en vlekvrij opleveren van vensterbanken, mits ontruimd | E18: 42 | F18: 1x per week
B19: Lichtschakelaars | C19: Klamvochtig reinigen | D19: Het stof- en vlekvrij opleveren van lichtschakelaars | E19: 42 | F19: 1x per week
B20: Wandcontactdozen | C20: Klamvochtig reinigen | D20: Het stof- en vlekvrij opleveren van wandcontactdozen | E20: 42 | F20: 1x per week
A21: Maandelijks | B21: Afvalbakken | C21: Geheel reinigen, buiten- en binnenzijde nat afnemen | D21: Stof- en vlekvrij, geen aangehecht vuil | E21: 12 | F21: 1x per maand
B22: Gehele ruimte | C22: Ragen | D22: Spinrag verwijderen indien aanwezig | E22: 12 | F22: 1x per maand
B23: Hoge en lage kasten | C23: Klamvochtig reinigen verticale vlakken | D23: Het klamvochtig reinigen van de verticale vlakken van de kasten | E23: 12 | F23: 1x per maand
B24: luchtroosters / ventilatieroosters | C24: Buitenzijde stof verwijderen | D24: Lichte stof, geen aangehecht vuil | E24: 12 | F24: 1x per maand
B25: Wanddecoratie | C25: Stofvrij maken | D25: Licht stof, geen aangehecht vuil | E25: 12 | F25: 1x per maand
A26: Periodiek | B26: (Glazen)deuren inclusief deurposten | C26: Reinigen | D26: Het nat reinigen van de gehele deur met omlijstingen, inclusief het verwijderen van schopstrepen | E26: 4 | F26: 1x per kwartaal
B27: Hoge kasten | C27: Klamvochtig reinigen bovenzijde boven reikhoogte en verticale vlakken | D27: Het klamvochtig reinigen van de bovenzijde en de verticale vlakken van de kasten | E27: 4 | F27: 1x per kwartaal
B28: Inventaris / radiatoren / plantenbakken | C28: Reinigen | D28: Het (horizontaal en verticaal) nat reinigen van de inventaris en radiatoren inclusief het verwijderen van kauwgom | E28: 4 | F28: 1x per kwartaal
B29: Wastafels en spoelbakken | C29: Oppoetsen | D29: Stof- en vlekvrij, geen aangehecht vuil, geen kalkaanslag. Glanzend chroom. | E29: 4 | F29: 1x per kwartaal
B30: Vloer met harde afwerking (tegel, steen, epoxy, gietvloer, PVC beton en vergelijkbaar) | C30: Schrobben | D30: Stof- en vlekvrij, geen aangehecht vuil, geen kalkaanslag, geen lekstrepen, geen zeep en waterresten | E30: 2 | F30: 1x per halfjaar
B31: Randen / richels / plinten / lichtarmaturen / luchtroosters / radiatoren | C31: Stofvrij maken en ontvlekken | D31: Het geheel stof- en vlekvrij opleveren van alle hoge en lage richels, plinten en lichtarmaturen en de roosters van afzuigkanalen. Radiatoren aan binnenzijde vrij maken van stof en rag. | E31: 1 | F31: 1x per jaar
B32: Wanden (afwasbaar) | C32: Reinigen | D32: De wanden geheel nat reinigen | E32: 1 | F32: 1x per jaar
B33: Vloer | C33: Basisreiniging + Basisbehandeling | D33: Basisreiniging: Het verwijderen van oude beschermlagen en/of vuil waarna een basisbehandeling kan worden toegepast. Basisbehandeling: Vloerbehandeling, waarbij een of meer beschermlagen worden aangebracht, als basis voor het dagelijks en periodiek onderhoud | E33: 1 | F33: 1x per jaar

Sheet Verkeersruimte (6)
A1: Terug naar het tabblad Toelichting | B1: Project: | C1: SCOT | D1: Prijs van dit werkprogramma per m² per jaar
B2: Programmacode: | C2: 6
B3: Omschrijving: | C3: Verkeersruimte
B5: Onderdeel | C5: Handeling | D5: Resultaat omschrijving | E5: Aantal prestaties per jaar | F5: Aantal prestaties per periode
A6: Dagelijks | B6: Afvalbakken | C6: Ledigen en indien nodig afvalzak vervangen | D6: Leeg en voorzien van schone plastic zak | E6: 210 | F6: 5x per week
B7: Afvoer restafval. Papier wordt door Opdrachtgever zelf gedaan. | C7: Afvoeren afval | D7: Het vanaf de bron inzamelen en het afvoeren naar een centrale plek van restafval. | E7: 210 | F7: 5x per week
B8: Deurkrukken, -grepen en direkte omgeving | C8: Klamvochtig reinigen | D8: Deurkrukken en -grepen vrij van stof, vingertasten en vlekken. | E8: 210 | F8: 5x per week
B9: Inloopmatten | C9: Stofzuigen en vlekken verwijderen | D9: Het stof- en vlekvrij opleveren van de matten | E9: 210 | F9: 5x per week
B10: Vloer met harde afwerking (tegel, steen, epoxy, gietvloer, PVC, beton en vergelijkbaar) | C10: Stofwissen en ontvlekken | D10: Het stof- en vlekvrij opleveren van de vloer (inclusief liftvloeren) | E10: 168 | F10: 4x per week
B11: Vloer zachte afwerking | C11: Bijtippend stofzuigen | D11: Het bijtippend zuigen en ontdoen van plaatselijk gehecht vuil tbv de zachte vloerbedekking | E11: 168 | F11: 4x per week
A12: Wekelijks | B12: (Glazen)deuren | C12: Vingertasten verwijderen en ontvlekken | D12: Stof- en vlekvrij, geen aangehecht vuil, geen stickers | E12: 42 | F12: 1x per week
B13: Inventaris (meubilair, lampen, kasten, tafels, speeltoestellen, enzovoorts) | C13: Klamvochtig reinigen | D13: Het stof- en vlekvrij opleveren van de horizontale vlakken van de inventaris tot reikhoogte (200cm) | E13: 42 | F13: 1x per week
B14: Lichtschakelaars | C14: Klamvochtig reinigen | D14: Het stof- en vlekvrij opleveren van lichtschakelaars | E14: 42 | F14: 1x per week
B15: Lichtarmaturen | C15: Klamvochtig reinigen | D15: Het stof- en vlekvrij opleveren van armaturen tot reikhoogte (200cm) | E15: 42 | F15: 1x per week
B16: Trapleuningen, traphekken, balustrades en dergelijke | C16: Klamvochtig reinigen | D16: Het stof- en vlekvrij opleveren van de trapleuningen enzovoorts | E16: 42 | F16: 1x per week
B17: Liften | C17: Vingertasten verwijderen en ontvlekken (verticale vlakken) | D17: Het stof- en vlekvrij opleveren van de (lift) wanden | E17: 42 | F17: 1x per week
B18: Inloopmatten | C18: Uitstoten | D18: Het uitstoten van de losliggende inloopmatten | E18: 42 | F18: 1x per week
B19: Radiatoren / vensterbanken | C19: Klamvochtig reinigen | D19: Het (horizontaal en verticaal) klamvochtig reinigen van de vensterbanken en radiatoren inclusief het verwijderen van kauwgom | E19: 42 | F19: 1x per week
B20: Plantenbakken | C20: Klamvochtig reinigen | D20: Licht stof, geen lekstrepen | E20: 42 | F20: 1x per week
B21: Randen / richels / plinten / kabelgoten | C21: Stofvrij maken | D21: Licht stof bovenzijde, geen losliggend en aangehecht vuil | E21: 42 | F21: 1x per week
B22: Vloer met harde afwerking (tegel, steen, epoxy, gietvloer, PVC, beton en vergelijkbaar) | C22: Volledig stofzuigen | D22: Volledig stofzuigen alle harde vloeren | E22: 42 | F22: 1x per week
B23: Vloer met harde afwerking (tegel, steen, epoxy, gietvloer, PVC, beton en vergelijkbaar) | C23: Vlakmoppen | D23: Het moppen van alle harde vloeren | E23: 42 | F23: 1x per week
B24: Vloer zachte afwerking | C24: Stofzuigen en ontvlekken | D24: Het stof- en vlekvrij opleveren van de vloer | E24: 42 | F24: 1x per week
B25: Wandcontactdozen en brandblusapparatuur | C25: Klamvochtig reinigen | D25: Het stof- en vlekvrij opleveren van wandcontactdozen en brandblusapparatuur | E25: 42 | F25: 1x per week
A26: Maandelijks | B26: Gehele ruimte | C26: Ragen | D26: Spinrag verwijderen indien aanwezig | E26: 12 | F26: 1x per maand
B27: Afvalbakken (binnenshuis) | C27: Geheel reinigen, buiten- en binnenzijde nat afnemen | D27: Stof- en vlekvrij, geen aangehecht vuil | E27: 12 | F27: 1x per maand
B28: Luchtroosters / ventilatieroosters | C28: Buitenzijde stof verwijderen | D28: Licht stof, geen aangehecht vuil | E28: 12 | F28: 1x per maand
B29: Hoge en lage kasten | C29: Klamvochtig reinigen verticale vlakken | D29: Het klamvochtig reinigen van de kasten | E29: 12 | F29: 1x per maand
B30: Wanddecoratie | C30: Stofvrij maken | D30: Licht stof, geen aangehecht vuil | E30: 12 | F30: 1x per maand
A31: Periodiek | B31: Inventaris / radiatoren / vensterbanken / afvalbakken | C31: Reinigen | D31: Het (horizontaal en verticaal) nat reinigen van de inventaris, vensterbanken, afvalbakken en radiatoren inclusief het verwijderen van kauwgom | E31: 4 | F31: 1x per kwartaal
B32: Hoge kasten | C32: Klamvochtig reinigen bovenzijde boven reikhoogte en verticale vlakken | D32: Het klamvochtig reinigen van de bovenzijde en de verticale vlakken van de kasten | E32: 4 | F32: 1x per kwartaal
B33: (Glazen)deuren inclusief deurposten | C33: Reinigen | D33: Het nat reinigen van de gehele deur met omlijstingen, inclusief het verwijderen van schopstrepen | E33: 4 | F33: 1x per kwartaal
