Workbook

Sheet 1. Basis KPI's
B2: KPI Invulformulier – Basis KPI's
B3: Vul uitsluitend de GELE cellen in.
B5: Leverancier:
B6: Contractnaam:
B7: Rapportageperiode (bijv. Q1 & Q2): | G7: [Selecteer]
B8: Rapportagejaar (bijv. 2026): | G8: [Selecteer]
B9: Deelnemer(s) in contract:
B11: ► KPI Invoertabel
B12: KPI ID | C12: Scope | D12: Frequentie | E12: KPI Naam | F12: Omschrijving (kort) | G12: Norm | H12: Eenheid / Invoertype | I12: Basis 1 | J12: Basis 2 | K12: Realisatie (berekend of direct) | L12: Toelichting / Opmerking
B13: ► Kwaliteit Dienstverlening
B14: CAT-KD-01 | C14: Per contract | D14: 1x per jaar | E14: Tevredenheid deelnemer | F14: Gemiddelde cijfer uit het klanttevredenheidsonderzoek van leverancier | G14: 7.5 | H14: Cijfer | I14: n.v.t. | J14: n.v.t. | K14: [Cijfer uit klanttevredenheidsonderzoek]
B15: CAT-KD-02 | C15: Per locatie | D15: 1x per jaar | E15: Gasttevredenheid | F15: Gemiddelde cijfer uit het gasttevredenheids-onderzoek | H15: Cijfer | I15: n.v.t. | J15: n.v.t. | K15: [Cijfer uit gasttevredenheidsonderzoek]
B16: CAT-KD-03 | C16: Per locatie | D16: Op aanvraag | E16: Kwaliteitstoetsing | F16: Voedselveiligheids audit door externe instantie | G16: Voldoende | H16: Score | I16: n.v.t. | J16: n.v.t. | K16: [Score uit audit]
B17: CAT-KD-04 | C17: Per contract | D17: 1x per jaar | E17: Innovatieve ideeen | F17: XX Aantal voorgestelde innovaties | G17: X aantal | H17: Aantal initiatieven | I17: n.v.t. | J17: n.v.t. | K17: [Aantal ideeën]
B18: ► Maatschappelijk Verantwoord Inkopen
B19: CAT-MVI-KM01 | C19: Per locatie | D19: 4x per jaar | E19: CO2-uitstoot assortiment | F19: CO2-uitstoot per kg inkoop (totaal CO2 ÷ totaal inkoop gewicht) | G19: n.v.t. | H19: kg CO2 per kg inkoop | I19: [Totale CO2-uitstoot (kg CO2-eq.)] | J19: [Totaal inkoopgewicht (kg)] | K19: =IFERROR(I19/(J19*K22),"Vul Basis 1 en 2 in") -> Vul Basis 1 en 2 in
B20: CAT-MVI-KM02 | C20: Per contract | D20: 4x per jaar | E20: Berekeningsmethode CO2 | F20: Welke methode is gebruikt voor de CO2-berekening van het assortiment | G20: n.v.t. | H20: Categorie (EcoInvent / Foodstep) | I20: n.v.t. | J20: n.v.t. | K20: [Selecteer]
B21: CAT-MVI-KM03 | C21: Per contract | D21: 4x per jaar | E21: Levenscyclusfasen CO2 | F21: Welke levenscyclusfasen zijn meegenomen in de CO2-berekening | G21: n.v.t. | H21: Categorie (Cradle-to-gate / -grave / anders) | I21: n.v.t. | J21: n.v.t. | K21: [Selecteer]
B22: CAT-MVI-KM04 | C22: Per contract | D22: 4x per jaar | E22: Beschikbaarheid CO2-data | F22: % van inkoopgewicht waarvoor CO2-uitstoot is berekend | G22: n.v.t. | H22: % van inkoopgewicht | I22: n.v.t. | J22: n.v.t. | K22: [% beschikbaar]
B23: CAT-MVI-KM05 | C23: Per contract | D23: 4x per jaar | E23: Leveranciersspecifieke CO2-data | F23: % van inkoopgewicht waarvoor specifieke CO2-data van toeleverancier beschikbaar is | G23: n.v.t. | H23: % van inkoopgewicht | I23: n.v.t. | J23: n.v.t. | K23: [% leveranciersspecifiek]
B24: CAT-MVI-KM06 | C24: Per contract | D24: 4x per jaar | E24: Verificatie CO2-berekening | F24: Is de CO2-berekening geverifieerd door een externe partij? | G24: n.v.t. | H24: Ja / Nee | I24: n.v.t. | J24: n.v.t. | K24: [Selecteer]
B25: CAT-MVI-KM07 | C25: Per contract | D25: 4x per jaar | E25: Top 25-vervuilende producten | F25: Lijst met top 25-grootste vervuilende producten met gewicht en impact per product (hoeveel kg en hoeveel kg CO2-eq.) | G25: n.v.t. | H25: kg & kg CO2eq | I25: n.v.t. | J25: n.v.t. | K25: =IF(COUNTIF('5. Stuksverpakkingen'!$C$5:$C$22, "ja")=0, "Vul 4. Top 25 uitstoters in", COUNTIF('5. Stuksverpakkingen'!$C$5:$C$22, "ja")) -> Vul 4. Top 25 uitstoters in
B26: CAT-MVI-KM09 | C26: Per locatie | D26: 4x per jaar | E26: Aandeel plantaardig eiwit | F26: Percentage plantaardig eiwit t.o.v. totaal eiwit, volgens Eiweet methodiek voor Foodservice | G26: ≥ 50% | H26: Percentage (%) | I26: n.v.t. | J26: [Totaal inkoopgewicht eiwitten (kg)] | K26: [% plantaardig]
B27: CAT-MVI-KM10 | C27: Per contract | D27: 4x per jaar | E27: Beschikbaarheid eiwitdata | F27: % van inkoopgewicht waarvoor eiwitverhouding plantaardig/dierlijk is berekend (berekend ÷ totaal) | G27: n.v.t. | H27: % van inkoopgewicht | I27: n.v.t. | J27: n.v.t. | K27: [% beschikbaar]
B28: CAT-MVI-CE01 | C28: Per locatie | D28: 1x per jaar | E28: Voedselverspilling restaurant | F28: Uitgifteverspilling in kg. van producten die in de displays of op buffetten zijn geplaatst maar niet verkocht worden en niet terug in de voorraad kunnen, gemeten over een periode van één maand | G28: n.v.t. | H28: kg verspilling | I28: n.v.t. | J28: n.v.t. | K28: [kg verspilling]
B29: CAT-MVI-CE02 | C29: Per locatie | D29: 1x per jaar | E29: Voedselverspilling voorraad | F29: Inkoopverspilling in kg. van ingrediënten of producten die niet meer bruikbaar zijn door bederf of het verstrijken van de houdbaarheidsdatum, gemeten over een periode van één maand | G29: n.v.t. | H29: kg verspilling | I29: n.v.t. | J29: n.v.t. | K29: [kg verspilling]
B30: CAT-MVI-CE03 | C30: Per locatie | D30: 1x per jaar | E30: Voedselverspilling banqueting | F30: Retouren van banqueting in kg. : Overgebleven producten van evenementen en bijeenkomsten, zoals vergaderlunches of borrels, die retour komen naar de keuken, gemeten over een periode van twee weken | G30: n.v.t. | H30: kg verspilling | I30: n.v.t. | J30: n.v.t. | K30: [kg verspilling]
B31: CAT-MVI-CE04 | C31: Per locatie | D31: 1x per jaar | E31: Voedselverspilling keukenafval | F31: Verspilling in kg. snij- en bereidingsresten (bijvoorbeeld groenteresten), maar ook halffabricaten of eindproducten die wel zijn klaargemaakt maar niet worden uitgegeven en niet meer terug de voorraad in kunnen, gemeten over een periode van één maand | G31: n.v.t. | H31: kg verspilling | I31: n.v.t. | J31: n.v.t. | K31: [kg verspilling]
B32: CAT-MVI-CE05 | C32: Per contract | D32: 2x per jaar | E32: Stuksverpakkingen | F32: Aantal productgroepen waarvoor stuksverpakkingen zijn ingekocht | G32: n.v.t. | H32: Aantal productgroepen | I32: n.v.t. | J32: n.v.t. | K32: =IF(COUNTIF('5. Stuksverpakkingen'!$C$5:$C$22, "ja")=0, "Vul 5. Stuksverpakkingen in", COUNTIF('5. Stuksverpakkingen'!$C$5:$C$22, "ja")) -> Vul 5. Stuksverpakkingen in
B33: CAT-MVI-GZ01 | C33: Per locatie | D33: 1x per jaar | E33: Gezond en duurzaam aanbod restaurant | F33: Aanbod in het restaurant voldoet aan de aanbestedingscriteria gezonde, duurzame catering van het voedingscentrum volgens extern of zelf ontwikkeld toetsingsinstrument | G33: Ja | H33: Ja / Nee | I33: n.v.t. | J33: n.v.t. | K33: [Selecteer]
B34: CAT-MVI-GZ02 | C34: Per locatie | D34: 1x per jaar | E34: Gezond en duurzaam aanbod banqueting | F34: Aanbod in de banqueting voldoet aan de aanbestedingscriteria gezonde, duurzame catering van het voedingscentrum volgens extern of zelf ontwikkeld toetsingsinstrument | G34: Ja | H34: Ja / Nee | I34: n.v.t. | J34: n.v.t. | K34: [Selecteer]
B35: CAT-MVI-GZ03 | C35: Per locatie | D35: 1x per jaar | E35: Vaststelling gezond en duurzaam aanbod | F35: Is het resultaat vastgesteld door een externe partij? | G35: n.v.t. | H35: Ja / Nee | I35: n.v.t. | J35: n.v.t. | K35: [Selecteer]
B36: CAT-MVI-KV01 | C36: Per contract | D36: 4x per jaar | E36: Topkeurmerken | F36: Inkoopgewicht per productgroep met milieu-/diervriendelijk topkeurmerk | G36: Zie programma van eisen | H36: Gewicht (kg) per productgroep | I36: n.v.t. | J36: n.v.t. | K36: =IF(OR(SUM('6. Keurmerken'!C6:C13)=0, SUM('6. Keurmerken'!D6:D13)=0), "Vul 6. Keurmerken in", SUM('6. Keurmerken'!D6:D13)/SUM('6. Keurmerken'!C6:C13)) -> Vul 6. Keurmerken in
B37: CAT-MVI-KV02 | C37: Per contract | D37: 4x per jaar | E37: Biologisch keurmerk | F37: Inkoopgewicht per productgroep met biologisch keurmerk | G37: ≥ 25% | H37: Gewicht (kg) per productgroep | I37: n.v.t. | J37: n.v.t. | K37: =IF(OR(SUM('6. Keurmerken'!C6:C13)=0, SUM('6. Keurmerken'!E6:E13)=0), "Vul 6. Keurmerken in", SUM('6. Keurmerken'!E6:E13)/SUM('6. Keurmerken'!C6:C13)) -> Vul 6. Keurmerken in
B38: CAT-MVI-KV03 | C38: Per leverancier | D38: 1x per jaar | E38: ISV Risicoproducten / Due Diligence | F38: ISV-Risicotabel en vragenlijst ingevuld voor minimaal twee producten | G38: Ingevuld ≥ 2 producten | H38: Ja / Nee | I38: n.v.t. | J38: n.v.t. | K38: [Selecteer]
B39: CAT-MVI-SR01 | C39: Per contract | D39: 1x per jaar | E39: Social Return | F39: Uren inzet mensen met afstand tot arbeidsmarkt (MAA) ÷ totaal ingezette uren | G39: ≥ 5% | H39: Percentage (uren MAA / totaal uren) | I39: [Uren MAA ingezet] | J39: [Totaal uren dienstverlening] | K39: =IFERROR(I39/J39,"Vul Basis 1 en 2 in") -> Vul Basis 1 en 2 in
B41: Legenda: 🟡 Geel = handmatige invoer | 🟢 Groen = automatisch berekend | ⬛ Grijs = niet van toepassing / vergrendeld

Sheet 2, Extra KPI's
B2: KPI Invulformulier – Aanvullende KPI's
B3: In dit tabblad kunnen aanvullende KPI's ingevuld worden
B4: KPI Naam | C4: Omschrijving (kort) | D4: Norm | E4: Eenheid / Invoertype | F4: Realisatie

Sheet 3. Locatie KPI's
B2: KPI's per locatie
B3: Vul per locatie de KPI's in
B4: KPI naam | C4: Locatie | D4: Norm | E4: Eenheid / Invoertype | F4: Basis 1 | G4: Basis 2 | H4: Realisatie (berekend of direct) | I4: Toelichting / Opmerking
B5: CO2-uitstoot assortiment | C5: [locatie] | D5: n.v.t. | E5: kg CO2 per kg inkoop | F5: [Totale CO2-uitstoot (kg CO2-eq.)] | G5: [Totaal inkoopgewicht (kg)] | H5: =IFERROR(F5/(G5*'1. Basis KPI''s'!K22),"Vul Basis 1 en 2 in") -> Vul Basis 1 en 2 in
B6: Aandeel plantaardig eiwit | C6: [locatie] | D6: ≥ 50% | E6: Percentage (%) | F6: n.v.t. | G6: [Totaal inkoopgewicht eiwitten (kg)] | H6: [% beschikbaar]
B7: Voedselverspilling restaurant | C7: [locatie] | D7: n.v.t. | E7: kg verspilling | F7: n.v.t. | G7: n.v.t. | H7: [kg verspilling]
B8: Voedselverspilling voorraad | C8: [locatie] | D8: n.v.t. | E8: kg verspilling | F8: n.v.t. | G8: n.v.t. | H8: [kg verspilling]
B9: Voedselverspilling banqueting | C9: [locatie] | D9: n.v.t. | E9: kg verspilling | F9: n.v.t. | G9: n.v.t. | H9: [kg verspilling]
B10: Voedselverspilling keukenafval | C10: [locatie] | D10: n.v.t. | E10: kg verspilling | F10: n.v.t. | G10: n.v.t. | H10: [kg verspilling]
B11: Gezond en duurzaam aanbod restaurant | C11: [locatie] | D11: Ja | E11: Ja / Nee | F11: n.v.t. | G11: n.v.t. | H11: [Selecteer]
B12: Gezond en duurzaam aanbod banqueting | C12: [locatie] | D12: Ja | E12: Ja / Nee | F12: n.v.t. | G12: n.v.t. | H12: [Selecteer]
B13: Vaststelling gezond en duurzaam aanbod | C13: [locatie] | D13: n.v.t. | E13: Ja / Nee | F13: n.v.t. | G13: n.v.t. | H13: [Selecteer]

Sheet 4. Top 25 uitstoters
B2: Top 25-grootste vervuilende producten
B3: Vul voor de 25 producten met de meeste uitstoot de totale uitstoot en het inkoopgewicht in
B4: Nr. | C4: Product | D4: Gewicht (kg.) | E4: CO2 uitstoot (kg CO2-eq.)
B5: 1 | C5: [product] | D5: [kg.] | E5: [kg CO2-eq.]
B6: 2 | C6: [product] | D6: [kg.] | E6: [kg CO2-eq.]
B7: 3 | C7: [product] | D7: [kg.] | E7: [kg CO2-eq.]
B8: 4 | C8: [product] | D8: [kg.] | E8: [kg CO2-eq.]
B9: 5 | C9: [product] | D9: [kg.] | E9: [kg CO2-eq.]
B10: 6 | C10: [product] | D10: [kg.] | E10: [kg CO2-eq.]
B11: 7 | C11: [product] | D11: [kg.] | E11: [kg CO2-eq.]
B12: 8 | C12: [product] | D12: [kg.] | E12: [kg CO2-eq.]
B13: 9 | C13: [product] | D13: [kg.] | E13: [kg CO2-eq.]
B14: 10 | C14: [product] | D14: [kg.] | E14: [kg CO2-eq.]
B15: 11 | C15: [product] | D15: [kg.] | E15: [kg CO2-eq.]
B16: 12 | C16: [product] | D16: [kg.] | E16: [kg CO2-eq.]
... B29: 25 | C29: [product] | D29: [kg.] | E29: [kg CO2-eq.]

Sheet 5. Stuksverpakkingen
B2: Stuksverpakkingen
B3: Vul in welke productgroepen voor dit contract worden ingekocht in stuksverpakking.
B4: Type verpakkingen | C4: In stuksverpakking? | D4: Opmerkingen
B5: Kaas- of vleeswarenplakjes, plantaardige varianten | C5: [Selecteer]
B6: Kuipjes boter, margarine, plantaardige varianten | C6: [Selecteer]
B7: Portieverpakkingen jam, honing, pindakaas, chocopasta | C7: [Selecteer]
B8: Portieverpakkingen hummus/muhamara en broodsalades (bijv. eiersalade) | C8: [Selecteer]
B9: Cupjes koffiemelk | C9: [Selecteer]
B10: Creamer in sachets | C10: [Selecteer]
B11: Suikersticks, zoetjes in sachets | C11: [Selecteer]
B12: Theezakjes individueel verpakt | C12: [Selecteer]
B13: Wraps in wikkel | C13: [Selecteer]
B14: Monocrackers | C14: [Selecteer]
B15: Koekjes in plastic | C15: [Selecteer]
B16: Candybars in wikkel (Mars, Snickers e.d.) | C16: [Selecteer]
... B22: Anders, namelijk | C22: [Selecteer]

Sheet 6. Keurmerken
B2: Keurmerken
B3: Vul in per product het gewicht met een keurmerk in.
B4: Productgroepen | C4: Totaal inkoopgewicht (kg) | D4: Inkoopgewicht met geselecteerde keurmerken (kg) | E4: Inkoopgewicht ‘biologisch’ (kg) | F4: Inkoopgewicht overige geselecteerde keurmerken (kg) | G4: Inkoopgewicht met ander keurmerk of duurzaam initiatief geldt (kg)
B5: Eieren | C5: [kg] | D5: [kg] | E5: [kg] | F5: [kg] | G5: [kg]
B6: Groente en fruit (incl. tropisch groente en fruit) | C6: [kg] | D6: [kg] | E6: [kg] | F6: [kg] | G6: [kg]
B7: Vis, schaal- en schelpdieren | C7: [kg] | D7: [kg] | E7: [kg] | F7: [kg] | G7: [kg]
B8: Koffie, thee en chocolade (cacao) | C8: [kg] | D8: [kg] | E8: [kg] | F8: [kg] | G8: [kg]
B9: Vlees | C9: [kg] | D9: [kg] | E9: [kg] | F9: [kg] | G9: [kg]
B10: Zuivel | C10: [kg] | D10: [kg] | E10: [kg] | F10: [kg] | G10: [kg]
B11: Wijn | C11: [kg] | D11: [kg] | E11: [kg] | F11: [kg] | G11: [kg]
B12: Overige producten | C12: [kg] | D12: [kg] | E12: [kg] | F12: [kg] | G12: [kg]
B14: Categorie | C14: Geselecteerde keurmerken
B15: Eieren | C15: EU-biologisch
C16: On the way to PlanetProof
C17: Demeter
C18: EKO keurmerk
C19: Beter Leven keurmerk 2 sterren
C20: Beter Leven keurmerk 3 sterren
B21: Niet tropisch groenten en fruit | C21: On the way to PlanetProof
C22: EU-biologisch
C23: Demeter
C24: EKO keurmerk
C25: GGN Certified Farming
B26: Vis, schaal- en schelpdieren | C26: Aquaculture Stewardship Council (ASC)
C27: GGN Certified Farming
C28: EU-biologisch
C29: Marine Stewardship Council (MSC)
C30: Een groene of oranje score op de Viswijzer (Bron: MVI-Criteriatool)
B31: Koffie , Thee & Chocolade (cacao) | C31: Rainforest Alliance
C32: Fairtrade
C33: Fair for Life
C34: EU-biologisch
C35: Demeter
C36: EKO keurmerk
C37: Beter Leven keurmerk 1 ster (Bron: MVI-Criteriatool)
C38: Beter Leven keurmerk 2 sterren
C39: Beter Leven keurmerk 3 sterren

Sheet Pivot table (Niet aanpassen)
A1: kpi_id | B1: kpi_naam | C1: periode | D1: leverancier | E1: contract | F1: locatie | G1: resultaatgebied | H1: thema | I1: norm | J1: eenheid | K1: basis_1 | L1: basis_2 | M1: realisatie | N1: toelichting
A2: CAT-KD-01 | B2: Tevredenheid deelnemer | C2: ='1. Basis KPI''s'!$G$7 & " - " & '1. Basis KPI''s'!$G$8 -> [Selecteer] - [Selecteer] | D2: ='1. Basis KPI''s'!$G$5 -> 0 | E2: ='1. Basis KPI''s'!$G$6 -> 0 | F2: ='1. Basis KPI''s'!$C$14 -> Per contract | G2: Kwaliteit dienstverlening | H2: Klanttevredenheid | I2: 7.5 | J2: Cijfer (1–10) | K2: ='1. Basis KPI''s'!I14 -> n.v.t. | L2: ='1. Basis KPI''s'!J14 -> n.v.t. | M2: ='1. Basis KPI''s'!$K$14 -> [Cijfer uit klanttevredenheidsonderzoek] | N2: ='1. Basis KPI''s'!$L$14 -> 0
A3: CAT-KD-02 | B3: Gasttevredenheid | C3: ='1. Basis KPI''s'!$G$7 & " - " & '1. Basis KPI''s'!$G$8 -> [Selecteer] - [Selecteer] | D3: ='1. Basis KPI''s'!$G$5 -> 0 | E3: ='1. Basis KPI''s'!$G$6 -> 0 | F3: ='1. Basis KPI''s'!$C$15 -> Per locatie | G3: Kwaliteit dienstverlening | H3: Klanttevredenheid | I3: 7.5 | J3: Score | K3: ='1. Basis KPI''s'!I15 -> n.v.t. | L3: ='1. Basis KPI''s'!J15 -> n.v.t. | M3: ='1. Basis KPI''s'!$K$15 -> [Cijfer uit gasttevredenheidsonderzoek] | N3: ='1. Basis KPI''s'!$L$15 -> 0
A4: CAT-KD-03 | B4: Kwaliteitstoetsing | C4: ='1. Basis KPI''s'!$G$7 & " - " & '1. Basis KPI''s'!$G$8 -> [Selecteer] - [Selecteer] | D4: ='1. Basis KPI''s'!$G$5 -> 0 | E4: ='1. Basis KPI''s'!$G$6 -> 0 | F4: ='1. Basis KPI''s'!$C$16 -> Per locatie | G4: Kwaliteit dienstverlening | H4: Kwaliteitszorg | I4: Voldoende | J4: Gemiddelde % per maand, over laatste 6 maanden | K4: ='1. Basis KPI''s'!I16 -> n.v.t. | L4: ='1. Basis KPI''s'!J16 -> n.v.t. | M4: ='1. Basis KPI''s'!$K$16 -> [Score uit audit] | N4: ='1. Basis KPI''s'!$L$16 -> 0
A5: CAT-KD-04 | B5: Innovatieve ideeen | C5: ='1. Basis KPI''s'!$G$7 & " - " & '1. Basis KPI''s'!$G$8 -> [Selecteer] - [Selecteer] | D5: ='1. Basis KPI''s'!$G$5 -> 0 | E5: ='1. Basis KPI''s'!$G$6 -> 0 | F5: ='1. Basis KPI''s'!$C$17 -> Per contract | G5: Kwaliteit dienstverlening | H5: Innovatie | I5: X aantal | J5: Gemiddelde % per maand, over laatste 6 maanden | K5: ='1. Basis KPI''s'!I17 -> n.v.t. | L5: ='1. Basis KPI''s'!J17 -> n.v.t. | M5: ='1. Basis KPI''s'!$K$17 -> [Aantal ideeën] | N5: ='1. Basis KPI''s'!$L$17 -> 0
A6: CAT-MVI-KM01 | B6: CO2-uitstoot assortiment | C6: ='1. Basis KPI''s'!$G$7 & " - " & '1. Basis KPI''s'!$G$8 -> [Selecteer] - [Selecteer] | D6: ='1. Basis KPI''s'!$G$5 -> 0 | E6: ='1. Basis KPI''s'!$G$6 -> 0 | F6: ='1. Basis KPI''s'!$C$19 -> Per locatie | G6: MVI | H6: 1. Klimaat – Assortiment | I6: n.v.t. | J6: kg CO2 per kg inkoop | K6: ='1. Basis KPI''s'!I19 -> [Totale CO2-uitstoot (kg CO2-eq.)] | L6: ='1. Basis KPI''s'!J19 -> [Totaal inkoopgewicht (kg)] | M6: ='1. Basis KPI''s'!$K$19 -> Vul Basis 1 en 2 in | N6: ='1. Basis KPI''s'!$L$19 -> 0
A7: CAT-MVI-KM02 | B7: Berekeningsmethode CO2 | C7: ='1. Basis KPI''s'!$G$7 & " - " & '1. Basis KPI''s'!$G$8 -> [Selecteer] - [Selecteer] | D7: ='1. Basis KPI''s'!$G$5 -> 0 | E7: ='1. Basis KPI''s'!$G$6 -> 0 | F7: ='1. Basis KPI''s'!$C$20 -> Per contract | G7: MVI | H7: 1. Klimaat – Assortiment | I7: n.v.t. | J7: Categorie (EcoInvent / Foodstep) | K7: ='1. Basis KPI''s'!I20 -> n.v.t. | L7: ='1. Basis KPI''s'!J20 -> n.v.t. | M7: ='1. Basis KPI''s'!$K$20 -> [Selecteer] | N7: ='1. Basis KPI''s'!$L$20 -> 0
A8: CAT-MVI-KM03 | B8: Levenscyclusfasen CO2 | C8: ='1. Basis KPI''s'!$G$7 & " - " & '1. Basis KPI''s'!$G$8 -> [Selecteer] - [Selecteer] | D8: ='1. Basis KPI''s'!$G$5 -> 0 | E8: ='1. Basis KPI''s'!$G$6 -> 0 | F8: ='1. Basis KPI''s'!$C$21 -> Per contract | G8: MVI | H8: 1. Klimaat – Assortiment | I8: n.v.t. | J8: Categorie (Cradle-to-gate / -grave / anders) | K8: ='1. Basis KPI''s'!I21 -> n.v.t. | L8: ='1. Basis KPI''s'!J21 -> n.v.t. | M8: ='1. Basis KPI''s'!$K$21 -> [Selecteer] | N8: ='1. Basis KPI''s'!$L$21 -> 0
A9: CAT-MVI-KM04 | B9: Beschikbaarheid CO2-data | C9: ='1. Basis KPI''s'!$G$7 & " - " & '1. Basis KPI''s'!$G$8 -> [Selecteer] - [Selecteer] | D9: ='1. Basis KPI''s'!$G$5 -> 0 | E9: ='1. Basis KPI''s'!$G$6 -> 0 | F9: ='1. Basis KPI''s'!$C$22 -> Per contract | G9: MVI | H9: 1. Klimaat – Assortiment | I9: n.v.t. | J9: % van inkoopgewicht | K9: ='1. Basis KPI''s'!I22 -> n.v.t. | L9: ='1. Basis KPI''s'!J22 -> n.v.t. | M9: ='1. Basis KPI''s'!$K$22 -> [% beschikbaar] | N9: ='1. Basis KPI''s'!$L$22 -> 0
A10: CAT-MVI-KM05 | B10: Leveranciersspecifieke CO2-data | C10: ='1. Basis KPI''s'!$G$7 & " - " & '1. Basis KPI''s'!$G$8 -> [Selecteer] - [Selecteer] | D10: ='1. Basis KPI''s'!$G$5 -> 0 | E10: ='1. Basis KPI''s'!$G$6 -> 0 | F10: ='1. Basis KPI''s'!$C$23 -> Per contract | G10: MVI | H10: 1. Klimaat – Assortiment | I10: n.v.t. | J10: % van inkoopgewicht | K10: ='1. Basis KPI''s'!I23 -> n.v.t. | L10: ='1. Basis KPI''s'!J23 -> n.v.t. | M10: ='1. Basis KPI''s'!$K$23 -> [% leveranciersspecifiek] | N10: ='1. Basis KPI''s'!$L$23 -> 0
A11: CAT-MVI-KM06 | B11: Verificatie CO2-berekening | C11: ='1. Basis KPI''s'!$G$7 & " - " & '1. Basis KPI''s'!$G$8 -> [Selecteer] - [Selecteer] | D11: ='1. Basis KPI''s'!$G$5 -> 0 | E11: ='1. Basis KPI''s'!$G$6 -> 0 | F11: ='1. Basis KPI''s'!$C$24 -> Per contract | G11: MVI | H11: 1. Klimaat – Assortiment | I11: n.v.t. | J11: Ja / Nee | K11: ='1. Basis KPI''s'!I24 -> n.v.t. | L11: ='1. Basis KPI''s'!J24 -> n.v.t. | M11: ='1. Basis KPI''s'!$K$24 -> [Selecteer] | N11: ='1. Basis KPI''s'!$L$24 -> 0
A12: CAT-MVI-KM07 | B12: Top 25-vervuilende producten | C12: ='1. Basis KPI''s'!$G$7 & " - " & '1. Basis KPI''s'!$G$8 -> [Selecteer] - [Selecteer] | D12: ='1. Basis KPI''s'!$G$5 -> 0 | E12: ='1. Basis KPI''s'!$G$6 -> 0 | F12: ='1. Basis KPI''s'!$C$25 -> Per contract | G12: MVI | H12: 1. Klimaat – Bedrijfsvoering | I12: n.v.t. | J12: Niveau | K12: ='1. Basis KPI''s'!I25 -> n.v.t. | L12: ='1. Basis KPI''s'!J25 -> n.v.t. | M12: ='1. Basis KPI''s'!$K$25 -> Vul 4. Top 25 uitstoters in | N12: ='1. Basis KPI''s'!$L$25 -> 0
A13: CAT-MVI-KM09 | B13: Aandeel plantaardig eiwit | C13: ='1. Basis KPI''s'!$G$7 & " - " & '1. Basis KPI''s'!$G$8 -> [Selecteer] - [Selecteer] | D13: ='1. Basis KPI''s'!$G$5 -> 0 | E13: ='1. Basis KPI''s'!$G$6 -> 0 | F13: ='1. Basis KPI''s'!$C$26 -> Per locatie | G13: MVI | H13: 1. Klimaat – Eiwittransitie | I13: ≥ 50% | J13: Percentage (%) | K13: ='1. Basis KPI''s'!I26 -> n.v.t. | L13: ='1. Basis KPI''s'!J26 -> [Totaal inkoopgewicht eiwitten (kg)] | M13: ='1. Basis KPI''s'!$K$26 -> [% plantaardig] | N13: ='1. Basis KPI''s'!$L$26 -> 0
A14: CAT-MVI-KM10 | B14: Beschikbaarheid eiwitdata | C14: ='1. Basis KPI''s'!$G$7 & " - " & '1. Basis KPI''s'!$G$8 -> [Selecteer] - [Selecteer] | D14: ='1. Basis KPI''s'!$G$5 -> 0 | E14: ='1. Basis KPI''s'!$G$6 -> 0 | F14: ='1. Basis KPI''s'!$C$27 -> Per contract | G14: MVI | H14: 1. Klimaat – Eiwittransitie | I14: n.v.t. | J14: % van inkoopgewicht | K14: ='1. Basis KPI''s'!I27 -> n.v.t. | L14: ='1. Basis KPI''s'!J27 -> n.v.t. | M14: ='1. Basis KPI''s'!$K$27 -> [% beschikbaar] | N14: ='1. Basis KPI''s'!$L$27 -> 0
A15: CAT-MVI-CE01 | B15: Voedselverspilling restaurant | C15: ='1. Basis KPI''s'!$G$7 & " - " & '1. Basis KPI''s'!$G$8 -> [Selecteer] - [Selecteer] | D15: ='1. Basis KPI''s'!$G$5 -> 0 | E15: ='1. Basis KPI''s'!$G$6 -> 0 | F15: ='1. Basis KPI''s'!$C$28 -> Per locatie | G15: MVI | H15: 2. Circulaire Economie | I15: n.v.t. | J15: kg verspilling | K15: ='1. Basis KPI''s'!I28 -> n.v.t. | L15: ='1. Basis KPI''s'!J28 -> n.v.t. | M15: ='1. Basis KPI''s'!K28 -> [kg verspilling] | N15: ='1. Basis KPI''s'!L28 -> 0
A16: CAT-MVI-CE02 | B16: Voedselverspilling voorraad | C16: ='1. Basis KPI''s'!$G$7 & " - " & '1. Basis KPI''s'!$G$8 -> [Selecteer] - [Selecteer] | D16: ='1. Basis KPI''s'!$G$5 -> 0 | E16: ='1. Basis KPI''s'!$G$6 -> 0 | F16: ='1. Basis KPI''s'!$C$29 -> Per locatie | G16: MVI | H16: 2. Circulaire Economie | I16: n.v.t. | J16: kg verspilling | K16: ='1. Basis KPI''s'!I29 -> n.v.t. | L16: ='1. Basis KPI''s'!J29 -> n.v.t. | M16: ='1. Basis KPI''s'!K29 -> [kg verspilling] | N16: ='1. Basis KPI''s'!L29 -> 0
A17: CAT-MVI-CE03 | B17: Voedselverspilling banqueting | C17: ='1. Basis KPI''s'!$G$7 & " - " & '1. Basis KPI''s'!$G$8 -> [Selecteer] - [Selecteer] | D17: ='1. Basis KPI''s'!$G$5 -> 0 | E17: ='1. Basis KPI''s'!$G$6 -> 0 | F17: ='1. Basis KPI''s'!$C$30 -> Per locatie | G17: MVI | H17: 2. Circulaire Economie | I17: n.v.t. | J17: kg verspilling | K17: ='1. Basis KPI''s'!I30 -> n.v.t. | L17: ='1. Basis KPI''s'!J30 -> n.v.t. | M17: ='1. Basis KPI''s'!K30 -> [kg verspilling] | N17: ='1. Basis KPI''s'!L30 -> 0
A18: CAT-MVI-CE04 | B18: Voedselverspilling keukenafval | C18: ='1. Basis KPI''s'!$G$7 & " - " & '1. Basis KPI''s'!$G$8 -> [Selecteer] - [Selecteer] | D18: ='1. Basis KPI''s'!$G$5 -> 0 | E18: ='1. Basis KPI''s'!$G$6 -> 0 | F18: ='1. Basis KPI''s'!$C$31 -> Per locatie | G18: MVI | H18: 2. Circulaire Economie | I18: n.v.t. | J18: kg verspilling | K18: ='1. Basis KPI''s'!I31 -> n.v.t. | L18: ='1. Basis KPI''s'!J31 -> n.v.t. | M18: ='1. Basis KPI''s'!K31 -> [kg verspilling] | N18: ='1. Basis KPI''s'!L31 -> 0
A19: CAT-MVI-CE05 | B19: Stuksverpakkingen | C19: ='1. Basis KPI''s'!$G$7 & " - " & '1. Basis KPI''s'!$G$8 -> [Selecteer] - [Selecteer] | D19: ='1. Basis KPI''s'!$G$5 -> 0 | E19: ='1. Basis KPI''s'!$G$6 -> 0 | F19: ='1. Basis KPI''s'!$C$32 -> Per contract | G19: MVI | H19: 2. Circulaire Economie | I19: n.v.t. | J19: Aantal productgroepen | K19: ='1. Basis KPI''s'!I32 -> n.v.t. | L19: ='1. Basis KPI''s'!J32 -> n.v.t. | M19: ='1. Basis KPI''s'!$K$32 -> Vul 5. Stuksverpakkingen in | N19: ='1. Basis KPI''s'!$L$32 -> 0
A20: CAT-MVI-GZ01 | B20: Gezond en duurzaam aanbod restaurant | C20: ='1. Basis KPI''s'!$G$7 & " - " & '1. Basis KPI''s'!$G$8 -> [Selecteer] - [Selecteer] | D20: ='1. Basis KPI''s'!$G$5 -> 0 | E20: ='1. Basis KPI''s'!$G$6 -> 0 | F20: ='1. Basis KPI''s'!$C$33 -> Per locatie | G20: MVI | H20: 3. Gezondheid | I20: Ja | J20: Ja / Nee | K20: ='1. Basis KPI''s'!I33 -> n.v.t. | L20: ='1. Basis KPI''s'!J33 -> n.v.t. | M20: ='1. Basis KPI''s'!$K$33 -> [Selecteer] | N20: ='1. Basis KPI''s'!$L$33 -> 0
A21: CAT-MVI-GZ02 | B21: Gezond en duurzaam aanbod banqueting | C21: ='1. Basis KPI''s'!$G$7 & " - " & '1. Basis KPI''s'!$G$8 -> [Selecteer] - [Selecteer] | D21: ='1. Basis KPI''s'!$G$5 -> 0 | E21: ='1. Basis KPI''s'!$G$6 -> 0 | F21: ='1. Basis KPI''s'!$C$34 -> Per locatie | G21: MVI | H21: 3. Gezondheid | I21: Ja | J21: Ja / Nee | K21: ='1. Basis KPI''s'!I34 -> n.v.t. | L21: ='1. Basis KPI''s'!J34 -> n.v.t. | M21: ='1. Basis KPI''s'!$K$34 -> [Selecteer] | N21: ='1. Basis KPI''s'!$L$34 -> 0
A22: CAT-MVI-GZ03 | B22: Vaststelling gezond en duurzaam aanbod | C22: ='1. Basis KPI''s'!$G$7 & " - " & '1. Basis KPI''s'!$G$8 -> [Selecteer] - [Selecteer] | D22: ='1. Basis KPI''s'!$G$5 -> 0 | E22: ='1. Basis KPI''s'!$G$6 -> 0 | F22: ='1. Basis KPI''s'!$C$35 -> Per locatie | G22: MVI | H22: 3. Gezondheid | I22: n.v.t. | J22: Ja / Nee | K22: ='1. Basis KPI''s'!I35 -> n.v.t. | L22: ='1. Basis KPI''s'!J35 -> n.v.t. | M22: ='1. Basis KPI''s'!$K$35 -> [Selecteer] | N22: ='1. Basis KPI''s'!$L$35 -> 0
A23: CAT-MVI-KV01 | B23: Topkeurmerken | C23: ='1. Basis KPI''s'!$G$7 & " - " & '1. Basis KPI''s'!$G$8 -> [Selecteer] - [Selecteer] | D23: ='1. Basis KPI''s'!$G$5 -> 0 | E23: ='1. Basis KPI''s'!$G$6 -> 0 | F23: ='1. Basis KPI''s'!$C$36 -> Per contract | G23: MVI | H23: 4. Keten – Keurmerken | I23: Zie programma van eisen | J23: Gewicht (kg) per productgroep | K23: ='1. Basis KPI''s'!I36 -> n.v.t. | L23: ='1. Basis KPI''s'!J36 -> n.v.t. | M23: ='1. Basis KPI''s'!$K$36 -> Vul 6. Keurmerken in | N23: ='1. Basis KPI''s'!$L$36 -> 0
A24: CAT-MVI-KV02 | B24: Biologisch keurmerk | C24: ='1. Basis KPI''s'!$G$7 & " - " & '1. Basis KPI''s'!$G$8 -> [Selecteer] - [Selecteer] | D24: ='1. Basis KPI''s'!$G$5 -> 0 | E24: ='1. Basis KPI''s'!$G$6 -> 0 | F24: ='1. Basis KPI''s'!$C$37 -> Per contract | G24: MVI | H24: 4. Keten – Keurmerken | I24: ≥ 25% | J24: Ja / Nee | K24: ='1. Basis KPI''s'!I37 -> n.v.t. | L24: ='1. Basis KPI''s'!J37 -> n.v.t. | M24: ='1. Basis KPI''s'!$K$37 -> Vul 6. Keurmerken in | N24: ='1. Basis KPI''s'!$L$37 -> 0
A25: CAT-MVI-KV03 | B25: ISV Risicoproducten / Due Diligence | C25: ='1. Basis KPI''s'!$G$7 & " - " & '1. Basis KPI''s'!$G$8 -> [Selecteer] - [Selecteer] | D25: ='1. Basis KPI''s'!$G$5 -> 0 | E25: ='1. Basis KPI''s'!$G$6 -> 0 | F25: ='1. Basis KPI''s'!$C$38 -> Per leverancier | G25: MVI | H25: 4. Keten – ISV | I25: Ingevuld ≥ 2 producten | J25: Ja / Nee | K25: ='1. Basis KPI''s'!I38 -> n.v.t. | L25: ='1. Basis KPI''s'!J38 -> n.v.t. | M25: ='1. Basis KPI''s'!$K$38 -> [Selecteer] | N25: ='1. Basis KPI''s'!$L$38 -> 0
A26: CAT-MVI-SR01 | B26: Social Return | C26: ='1. Basis KPI''s'!$G$7 & " - " & '1. Basis KPI''s'!$G$8 -> [Selecteer] - [Selecteer] | D26: ='1. Basis KPI''s'!$G$5 -> 0 | E26: ='1. Basis KPI''s'!$G$6 -> 0 | F26: ='1. Basis KPI''s'!$C$39 -> Per contract | G26: MVI | H26: 5. Social Return | I26: ≥ 5% | J26: Ratio (uren MAA / totaal uren) | K26: ='1. Basis KPI''s'!I39 -> [Uren MAA ingezet] | L26: ='1. Basis KPI''s'!J39 -> [Totaal uren dienstverlening] | M26: ='1. Basis KPI''s'!$K$39 -> Vul Basis 1 en 2 in | N26: ='1. Basis KPI''s'!$L$39 -> 0
A28: Data – Platte tabel voor data analyse | Niet handmatig aanpassen

Sheet Dropdowns
B1: Dropdown lijsten
B3: Ja/Nee | D3: CO2 methode | F3: CO2 scope | H3: ISV-risicoproducten | J3: Trede en versie CO2-PL | L3: Jaartallen | N3: Periode
B4: Ja | D4: GS1 Data source | F4: Wieg-tot-poort (cradle-to-gate) | H4: Ja, voor 2 producten | J4: Trede 1 Versie 3.1 | L4: 2025 | N4: Q1 & Q2
B5: Nee | D5: PS in Foodservice / Foodstep | F5: Wieg-tot-distributiecentrum | H5: Ja, voor 1 product | J5: Trede 1 Versie 4 | L5: 2026 | N5: Q3 & Q4
B6: [Selecteer] | D6: Bright Green | F6: Wieg-tot-consumptie (cradle-to-consumption) | H6: Nee | J6: Trede 2 Versie 3.1 | L6: 2027 | N6: Q1
D7: Agrifootprint | F7: Wieg-tot-graf (cradle-to-grave) | H7: [Selecteer] | J7: Trede 2 Versie 4 | L7: 2028 | N7: Q2
D8: Blonk-database ‘Database milieubelasting voedingsmiddelen 2024’ | F8: Anders, namelijk… | J8: Trede 3 Versie 3.1 | L8: 2029 | N8: Q3
D9: Ecoinvent | F9: [Selecteer] | J9: Trede 3 Versie 4 | L9: 2030 | N9: Q4
D10: Agribalyse | J10: Trede 4 Versie 3.1 | L10: 2031 | N10: Totaal jaar
D11: DK database | J11: Trede 5 Versie 3.1 | L11: 2032 | N11: [Selecteer]
D12: PEF-wise methodology for food products consumed in the Netherlands (RIVM, WUR, Blonk) | J12: [Selecteer] | L12: 2033
D13: Anders, namelijk | L13: 2034
D14: [Selecteer] | L14: 2035
L15: 2036
L16: 2037
L17: 2038
L18: 2039
L19: 2040
L20: [Selecteer]
