Workbook

Sheet Noord excl. index
A1: Specificatie behorende bij brandverzekering ten behoeve van Waterschap Hunze en Aa's
A2: Polisnummer 0154566
B3: District Noord
A5: Kostenplaats | B5: Object | E5: Herbouwwaarde | F5: Functionele Inrichting | G5: Inventaris | H5: verzekerde waarde NOORD
A6: 62103 | B6: Werkplaats Siddeburen Asbest golfplaten | C6: Hoofdweg 88a | D6: 9628 ZG Siddeburen | E6: 1922083 | F6: 0 | G6: 371884 | H6: 2293967
A7: 05101 | B7: Dijkmagazijn de Fiemel | C7: Dallingweersterweg 33 | D7: 9947 TB Termunten | E7: 341703 | F7: 0 | G7: 92971 | H7: 434674
A8: 05101 | B8: Dijkmagazijn Nieuw-Statenzijl incl. Schotbalkenloods Asbest | C8: Nieuw Statenzijl 15 | D8: 9688 TN Drieborg | E8: 1128842 | F8: 0 | G8: 123962 | H8: 1252804
B9: Totaal dijkmagazijnen NO | E9: 3392628 | F9: 0 | G9: 588817 | H9: 3981445
A12: 09201 | B12: Gemaal Rozema | C12: Antonius Verbrughwijk 2b | D12: 9948 PE Termunterzijl | E12: 6528981 | F12: 7688333 | G12: 123962 | H12: 14341276
A13: 09201 | B13: Gemaal Duurswold | C13: Duurswoldlaan 4 | D13: 9936 HA Farmsum | E13: 2959397 | F13: 2593287 | G13: 0 | H13: 5552684
A14: 09201 | B14: Gemaal de Munte | C14: Vogelzangsterweg 21/23 | D14: 9679 HT Scheemda | E14: 457639 | F14: 640694 | G14: 0 | H14: 1098333
A15: 09201 | B15: Gemaal Roode Til | C15: Scheemderstraat 49 | D15: 9635 AE Noordbroek | E15: 469842 | F15: 640694 | G15: 0 | H15: 1110536
A16: 09201 | B16: Gemaal Herleving | C16: Trekweg 3 | D16: 9679 TA Scheemda | E16: 213564 | F16: 225769 | G16: 0 | H16: 439333
A17: 09201 | B17: Gemaal Nonnegaat | C17: Heemweg 20 | D17: 9946 TB Woldendorp | E17: 494250 | F17: 597981 | G17: 0 | H17: 1092231
A18: 09201 | B18: Gemaal Tonnistil | C18: Scheve Klap nabij 6 | D18: 9945 TD Wagenborgen | E18: 231870 | F18: 225769 | G18: 0 | H18: 457639
A19: 09201 | B19: Gemaal de Borg | C19: Hoofdweg 191 | D19: 9617 AE Harkstede | E19: 628491 | F19: 640694 | G19: 0 | H19: 1269185
A20: 09201 | B20: Gemaal Woudbloem | C20: Scharmer Ae 2 | D20: 9618 PC Woudbloem | E20: 1159353 | F20: 1098333 | G20: 0 | H20: 2257686
A21: 09201 | B21: Gemaal Blauwe Molen | C21: Westerpaauwenweg 6 | D21: 9625 TG Harkstede | E21: 427130 | F21: 530861 | G21: 0 | H21: 957991
A22: 09201 | B22: Gemaal Sans Souci | C22: Schildmaarweg nabij nr. 1 | D22: 9628 AA Schildwolde | E22: 421027 | F22: 573574 | G22: 0 | H22: 994601
A23: 09201 | B23: Gemaal de Groeve, Laskwerd | C23: De Groeve Oostzijde 1 | D23: 9902 TD Appingedam | E23: 384417 | F23: 518658 | G23: 0 | H23: 903075
... A61: 09201 | B61: Gemaal Borgercompagnie, Sappemeer | C61: Borgercompagnie 11 | D61: 9611 TA Sappemeer | E61: 274583 | F61: 427130 | G61: 0 | H61: 701713
B62: Gemaal Silenca | C62: Madepolderweg 6 | D62: 9608 PX Westerbroek | E62: 213564 | F62: 244074 | G62: 0 | H62: 457638
B63: Totaal gemalen Noord | E63: 32461848 | F63: 36720935 | G63: 123962 | H63: 69306745
A65: 68037 | B65: Woonhuis Noorderhooidijk 2, Onnen | C65: Noorderhooidijk 2 | D65: 9755 PJ Onnen | E65: 945787 | F65: 0 | G65: 0 | H65: 945787
A66: 68037 | B66: Woonhuis Nieuw-Statenzijl 15-17 | C66: Nieuw Statenzijl 15 | D66: 9688 TN Drieborg | E66: 1159353 | F66: 0 | G66: 0 | H66: 1159353
B67: Totaal woningen Noord | E67: 2105140 | H67: 2105140
A69: 68054 | B69: Spui - en schutsluis Nieuw-Statenzijl | C69: Nieuw Statenzijl 15 | D69: 9688 TN Drieborg | E69: 4271297 | F69: 2745833 | G69: 0 | H69: 7017130
B70: Totaal sluizen | E70: 4271297 | F70: 2745833 | H70: 7017130
A72: 13201 | B72: RWZI Scheemda | C72: Hof van Brussel 6 | D72: 9679 TW Scheemda | E72: 4698426 | F72: 6467963 | G72: 402874 | H72: 11569263
A73: 12201 | B73: Rioolgemaal Winschoten | C73: Hoorntjesweg 61 | D73: 9675 NB Winschoten | E73: 366111 | F73: 518658 | G73: 0 | H73: 884769
B74: Totaal RWZI Scheemda | E74: 5064537 | F74: 6986621 | G74: 402874 | H74: 12454032
A76: 13201 | B76: RWZI Foxhol | C76: Energieweg bij 21 | D76: 9607 PW Foxhol | E76: 793241 | F76: 2410231 | G76: 12396 | H76: 3215868
A77: 12201 | B77: Vm. RWZI, Rioolgemaal Zuidlaren | C77: Osbroeken 1 | D77: 9471 TZ Zuidlaren | E77: 762731 | F77: 396620 | G77: 99169 | H77: 1258520
B78: Totaal RWZI Foxhol | E78: 1555972 | F78: 2806851 | G78: 111565 | H78: 4474388
A80: 13201 | B80: RWZI Bellingwolde | C80: Wymeersterweg nabij 10 | D80: 9695 XA Bellingwolde | E80: 488147 | F80: 518658 | G80: 24793 | H80: 1031598
B81: Totaal RWZI Bellingwolde | E81: 488147 | F81: 518658 | G81: 24793 | H81: 1031598
A83: 13201 | B83: RWZI Hoogezand | C83: Rijksweg Oost 101 | D83: 9611 CE Sappemeer | E83: 2196667 | F83: 3356019 | G83: 68178 | H83: 5620864
A84: 12201 | B84: Rioolgemaal Kalkoven | C84: De Polder 18 | D84: 9603 HV Hoogezand | E84: 1281389 | F84: 457639 | G84: 0 | H84: 1739028
B85: Totaal RWZI Hoogezand | E85: 3478056 | F85: 3813658 | G85: 68178 | H85: 7359892
A87: 13201 | B87: RWZI Scheve Klap | C87: Heemweg nabij 20-21 | D87: 9946 TB Woldendorp | E87: 640694 | F87: 1037314 | G87: 37188 | H87: 1715196
B88: Totaal RWZI Scheve Klap | E88: 640694 | F88: 1037314 | G88: 37188 | H88: 1715196
A90: 13201 | B90: RWZI Oude-Pekela | C90: Flessingterrein 35 | D90: 9665 BZ Oude-Pekela | E90: 732223 | F90: 1037314 | G90: 30991 | H90: 1800528
A91: 12201 | B91: Rioolgemaal Oude-Pekela | C91: Burg.Snaterlaan naast nr D2 | D91: 9665 HP Oude-Pekela | E91: 305092 | F91: 549167 | G91: 0 | H91: 854259
B92: Totaal RWZI Oude-Pekela | E92: 1037315 | F92: 1586481 | G92: 30991 | H92: 2654787
A94: 13201 | B94: RWZI Vriescheloo | C94: Dijkweg 29 | D94: 9699 TD Vriescheloo | E94: 518658 | F94: 1098333 | G94: 24793 | H94: 1641784
B95: Totaal RWZI Vriescheloo | E95: 518658 | F95: 1098333 | G95: 24793 | H95: 1641784
B96: Totaal RWZI | H96: 31331677
A98: 07701 | B98: Molen De Wedderbergen | C98: Molenweg 9 | D98: 9698 XV Wedde | E98: 1433936 | F98: 0 | G98: 0 | H98: 1433936
B99: Molen De Biks | C99: Noorderhooidijk 2 | D99: 9755 PJ Onnen | E99: 1708519 | F99: 0 | G99: 0 | H99: 1708519
B100: Molen De Witte Molen | C100: Rijksweg 1 | D100: 9752 XZ Haren | E100: 1433936 | F100: 0 | G100: 0 | H100: 1433936
B101: Totaal Molens | E101: 4576391 | F101: 0 | H101: 4576391
B103: Totaal | E103: =SUM(E9+E63+E67+E70+E74+E78+E81+E85+E88+E92+E95+E101) -> 59590683 | F103: =SUM(F9+F63+F67+F70+F74+F78+F81+F85+F88+F92+F95+F101) -> 57314684 | G103: =SUM(G74,G78,G9,G81,G85,G88,G92,G95,G63) -> 1413161 | H103: =SUM(E103:G103) -> 118318528

Sheet Zuid excl. index
B1: Specificatie behorende bij brandverzekering ten behoeve van Waterschap Hunze en Aa's
B2: Polisnummer 0154566
B3: District Zuid
A5: Kostenplaats | B5: Object | E5: Herbouwwaarde | F5: Functionele Inrichting | G5: Inventaris | H5: verzekerde waarde ZUID
A6: 54207 | B6: Werkplaats Veele Asbest golfplaten | C6: Wedderstraat 39 | D6: 9641 ED Vlagtwedde | E6: 6834074 | F6: 0 | G6: 1586706 | H6: 8420780
A7: 62109 | B7: Werkplaats Borger Asbest | C7: Eeserstraat 26a | D7: 9531 CM Borger | E7: 1403426 | F7: 0 | G7: 92971 | H7: 1496397
B8: Totaal werkplaatsen zuid | E8: 8237500 | F8: 0 | G8: 1679677 | H8: 9917177
A11: 09201 | B11: Gemaal Korte Akkers | C11: Korte Akkers 24 | D11: 9644 XT Veendam | E11: 305092 | F11: 518658 | G11: 0 | H11: 823750
A12: 09201 | B12: Gemaal Heerendiep | C12: Beneden Polderweg A 137/polderdwarsweg | D12: 9663 PZ Nw-Pekela | E12: 231870 | F12: 408824 | G12: 0 | H12: 640694
A13: 09201 | B13: Gemaal Doorsnee | C13: Doorsneeweg 1 | D13: 9663 HH Nw-Pekela | E13: 335603 | F13: 439333 | G13: 0 | H13: 774936
A14: 09201 | B14: Aanvoergemaal Veendam Sluisweg | C14: Sluisweg 0 | D14: 9644 TS Veendam | E14: 805444 | F14: 1055620 | G14: 0 | H14: 1861064
A15: 09201 | B15: Aanvoergemaal Vennix Stadskanaal | C15: Zuider Kanaalweg 1 | D15: 9581 DD Musselkanaal | E15: 1354611 | F15: 1372917 | G15: 0 | H15: 2727528
A16: 09201 | B16: Gemaal Boven Ooster | C16: Adriaan Tripweg 102 | D16: 9641 KN Veendam | E16: 213564 | F16: 457639 | G16: 0 | H16: 671203
A17: 09201 | B17: Gemaal Pleuger, Gasseltenijveenschemond | C17: Paterslaan nabij 71 | D17: 9515 PM Gasselternijveenschemond | E17: 244074 | F17: 396620 | G17: 0 | H17: 640694
A18: 09201 | B18: Gemaal Nw-Weerdinge | C18: Weerdingerkanaal ZZ 260 | D18: 7831 AR Nw-Weerdinge | E18: 366111 | F18: 421027 | G18: 0 | H18: 787138
A19: 09201 | B19: Gemaal Wildervank Sportveld | C19: Sportterreinstraat 31 | D19: 9648 CA Wildervank | E19: 274583 | F19: 427130 | G19: 0 | H19: 701713
A20: 09201 | B20: Gemaal Wildervank Landbouw | C20: Torenstraat 15 | D20: 9648 CR Wildervank | E20: 610186 | F20: 640694 | G20: 0 | H20: 1250880
A21: 09201 | B21: Gemaal De Maten | C21: De Runde achter nr. 23 | D21: 9561 JR ter Apel | E21: 195259 | F21: 250176 | G21: 0 | H21: 445435
A22: 09201 | B22: Aanvoergemaal Ter Apelkanaal | C22: Ter Apelkanaal Oost 133a | D22: 9563 RG Ter Apelkanaal | E22: 366111 | F22: 610186 | G22: 0 | H22: 976297
... A29: 09201 | B29: Gemaal Kielsterpomp | C29: Pieter Venemakade 199 | D29: 9605 PN Kielwindeweer | E29: 457639 | F29: 579676 | G29: 0 | H29: 1037315
B30: Totaal gemalen ZO | E30: 8139869 | F30: 11087066 | H30: 19226935
A32: 09201 | B32: Verdeelwerk Loon | C32: Meanderdijk | D32: Loon | E32: 91527 | F32: 244074 | G32: 0 | H32: 335601
B33: Totaal stuwen ZW | E33: 91527 | F33: 244074 | H33: 335601
A35: 13201 | B35: RWZI Veendam | C35: Vosseveld 4a | D35: 9644 XW Veendam | E35: 5186574 | F35: 6101853 | G35: 433864 | H35: 11722291
A36: 12201 | B36: Rioolgemaal Grote Vennen | C36: Oosterweg t.h.v. 41b | D36: 9649 JV Muntendam | E36: 823750 | F36: 488147 | G36: 0 | H36: 1311897
B37: Totaal RWZI Veendam | E37: 6010324 | F37: 6590000 | G37: 433864 | H37: 13034188
A39: 13201 | B39: RWZI Stadskanaal | C39: 1e Veldweg 2 | D39: 9501 LH Stadkanaal | E39: 549167 | F39: 488147 | G39: 74378 | H39: 1111692
A40: 12201 | B40: Rioolgemaal Stadskanaal | C40: krommewijk nabij 1 | D40: 9501 LA Stadskanaal | E40: 732223 | F40: 1189861 | G40: 0 | H40: 1922084
B41: Totaal RWZI Stadskanaal | E41: 1281390 | F41: 1678008 | G41: 74378 | H41: 3033776
A43: 13201 | B43: RWZI Ter Apel | C43: Ruiten A Kanaal west 1a | D43: 9561 TP Ter Apel | E43: 1830556 | F43: 1342408 | G43: 30991 | H43: 3203955
B44: Totaal RWZI Ter Apel | E44: 1830556 | F44: 1342408 | G44: 30991 | H44: 3203955
A46: 13201 | B46: RWZI 2e Exloërmond | C46: Zuiderdiep 227 a | D46: 7571 MB Tweede Exl.mond | E46: 610186 | F46: 1311897 | G46: 37188 | H46: 1959271
A47: 12201 | B47: Rioolgemaal Emmercompascuum | C47: Kalkovenwijk westzijde 7 | D47: 7881 LK Emmercompascuum | E47: 274583 | F47: 457639 | G47: 0 | H47: 732222
B48: Totaal RWZI 2e Exloërmond | E48: 884769 | F48: 1769536 | G48: 37188 | H48: 2691493
A50: 13201 | B50: RWZI Assen | C50: W.A.Scholtenstraat 16 | D50: 9403 AK Assen | E50: 5491667 | F50: 7627314 | G50: 433864 | H50: 13552845
A51: 12201 | B51: Rioolgemaal Assen | C51: Havenkade 0 | D51: 9403 AH Assen | E51: 183056 | F51: 457639 | G51: 0 | H51: 640695
A52: 12201 | B52: Rioolgemaal Koelandsdijk, Rolde | C52: Koelandsdijk | D52: 9451 BR Rolde | E52: 335603 | F52: 427130 | G52: 0 | H52: 762733
B53: Totaal RWZI Assen | E53: 6010326 | F53: 8512083 | G53: 433864 | H53: 14956273
A55: 13201 | B55: RWZI Gieten | C55: Spekstoep 25 | D55: 9461 AL Gieten | E55: 2074630 | F55: 3050926 | G55: 309903 | H55: 5435459
A56: 12201 | B56: Rioolgemaal Kostvlies | C56: Grotenend 0 | D56: Kostvlies | E56: 488147 | F56: 366111 | G56: 0 | H56: 854258
B57: Totaal RWZI Gieten | E57: 2562777 | F57: 3417037 | G57: 309903 | H57: 6289717
A59: 12201 | B59: Rioolgemaal Paterswolde | C59: Oosterland naast 6 | D59: 9765 BM Paterswolde | E59: 305092 | F59: 427130 | G59: 0 | H59: 732222
A60: 12201 | B60: Rioolgemaal Bargercompascuum | C60: Verlengde Oosterdiep Wzijde 167 | D60: 7884 RH Bargercompascuum | E60: 231870 | F60: 396620 | G60: 0 | H60: 628490
B61: Totaal RWZI Zuidlaren | E61: 536962 | F61: 823750 | H61: 1360712
B62: Totaal RWZI
A64: 54101 | B64: Hoofdkantoor, Aquapark 5, Veendam | C64: Aquapark 5 | D64: 9641 PJ veendam | E64: 21088000 | F64: 0 | G64: 0 | H64: 21088000
A65: 54101 | B65: Zonnecarport met 610 zonnepanelen | C65: Aquapark 5 | D65: 9641 PJ veendam | E65: 436877 | F65: 0 | G65: 0 | H65: 436877
B66: Totaal Hoofdkantoor Veendam | E66: 21524877 | H66: 436877
A68: 53101 | B68: Computerapparatuur en inventaris | C68: div.lokaties | G68: 6445991 | H68: 6445991
B69: Totaal computerapparatuur | G69: 6445991 | H69: 6445991
A71: 55101 | B71: Laboratorium | C71: Aquapark 1 | D71: 9641 PJ Veendam | E71: 6406944 | F71: 0 | G71: 4338648 | H71: 10745592
B72: Totaal laboratorium | E72: 6406944 | G72: 4338648 | H72: 10745592
B74: Totaal | E74: =SUM(E8+E30+E33+E37+E41+E44+E48+E53+E57+E61+E66+E69+E72) -> 63517821 | F74: =SUM(F8+F30+F33+F37+F41+F44+F48+F53+F57+F61+F66+F69+F69+F72) -> 35463962 | G74: =SUM(G72,G69,G57,G53,G37,G41,G44,G48,G8) -> 13784504 | H74: =SUM(H8+H30+H33+H37+H41+H44+H48+H53+H57+H61+H66+H69+H72) -> 91678287

Sheet Totaal Noord en Zuid ex index
A1: Specificatie behorende bij brandverzekering ten behoeve van Waterschap Hunze en Aa's
A2: Polisnummer 0154566
B3: District Noord en Zuid
B5: Herbouwwaarde Noord | C5: ='Noord excl. index'!E103 -> 59590683
B6: Functionele inrichting Noord | C6: ='Noord excl. index'!F103 -> 57314684
B7: Inventaris Noord | C7: ='Noord excl. index'!G103 -> 1413161
B8: Herbouwwaarde Zuid | C8: ='Zuid excl. index'!E74 -> 63517821
B9: Functionele inrichting Zuid | C9: ='Zuid excl. index'!F74 -> 35463962
B10: Inventaris Zuid | C10: ='Zuid excl. index'!G74 -> 13784504
B11: TOTAAL | C11: =SUM(C5:C10) -> 231084815

Sheet Noord incl. index
B1: Specificatie behorende bij brandverzekering ten behoeve van Waterschap Hunze en Aa's
F2: index gebouwen | G2: =136.2/131.8 -> 1.0333839
B3: District Noord | C3: 2026 | F3: index inventaris | G3: =132.4/128.3 -> 1.0319564
A5: Kostenplaats | B5: Object | E5: Herbouwwaarde index 136,2/131,8 | F5: Functionele Inrichting index 136,2/131,8 | G5: Inventaris index 132,4/128,3 | H5: verzekerde waarde NOORD
A6: 62103 | B6: Werkplaats Siddeburen | C6: Hoofdweg 88a | D6: 9628 ZG Siddeburen | E6: =ROUND('Noord excl. index'!E6*'Noord incl. index'!$G$2,0) -> 1986250 | F6: =ROUND('Noord excl. index'!F6*'Noord incl. index'!$G$2,0) -> 0 | G6: =ROUND('Noord excl. index'!G6*'Noord incl. index'!$G$3,0) -> 383768 | H6: =SUM(E6+F6+G6) -> 2370018
A7: 05101 | B7: Dijkmagazijn de Fiemel | C7: Dallingweersterweg 33 | D7: 9947 TB Termunten | E7: =ROUND('Noord excl. index'!E7*'Noord incl. index'!$G$2,0) -> 353110 | F7: =ROUND('Noord excl. index'!F7*'Noord incl. index'!$G$2,0) -> 0 | G7: =ROUND('Noord excl. index'!G7*'Noord incl. index'!$G$3,0) -> 95942 | H7: =SUM(E7+F7+G7) -> 449052
A8: 05101 | B8: Dijkmagazijn Nieuw-Statenzijl incl. Schotbalkenloods | C8: Nieuw Statenzijl 15 | D8: 9688 TN Drieborg | E8: =ROUND('Noord excl. index'!E8*'Noord incl. index'!$G$2,0) -> 1166527 | F8: =ROUND('Noord excl. index'!F8*'Noord incl. index'!$G$2,0) -> 0 | G8: =ROUND('Noord excl. index'!G8*'Noord incl. index'!$G$3,0) -> 127923 | H8: =SUM(E8+F8+G8) -> 1294450
B9: Totaal dijkmagazijnen NO | E9: =E6+E7+E8 -> 3505887 | F9: =SUM(F6:F8) -> 0 | G9: =SUM(G6:G8) -> 607633 | H9: =SUM(H6:H8) -> 4113520
A12: 09201 | B12: Gemaal Rozema | C12: Antonius Verbrughwijk 2b | D12: 9948 PE Termunterzijl | E12: =ROUND('Noord excl. index'!E12*'Noord incl. index'!$G$2,0) -> 6746944 | F12: =ROUND('Noord excl. index'!F12*'Noord incl. index'!$G$2,0) -> 7945000 | G12: =ROUND('Noord excl. index'!G12*'Noord incl. index'!$G$3,0) -> 127923 | H12: =SUM(E12:G12) -> 14819867
A13: 09201 | B13: Gemaal Duurswold | C13: Duurswoldlaan 4 | D13: 9936 HA Farmsum | E13: =ROUND('Noord excl. index'!E13*'Noord incl. index'!$G$2,0) -> 3058193 | F13: =ROUND('Noord excl. index'!F13*'Noord incl. index'!$G$2,0) -> 2679861 | G13: =ROUND('Noord excl. index'!G13*'Noord incl. index'!$G$3,0) -> 0 | H13: =SUM(E13+F13) -> 5738054
A14: 09201 | B14: Gemaal de Munte | C14: Vogelzangsterweg 21/23 | D14: 9679 HT Scheemda | E14: =ROUND('Noord excl. index'!E14*'Noord incl. index'!$G$2,0) -> 472917 | F14: =ROUND('Noord excl. index'!F14*'Noord incl. index'!$G$2,0) -> 662083 | G14: =ROUND('Noord excl. index'!G14*'Noord incl. index'!$G$3,0) -> 0 | H14: =SUM(E14+F14) -> 1135000
A15: 09201 | B15: Gemaal Roode Til | C15: Scheemderstraat 49 | D15: 9635 AE Noordbroek | E15: =ROUND('Noord excl. index'!E15*'Noord incl. index'!$G$2,0) -> 485527 | F15: =ROUND('Noord excl. index'!F15*'Noord incl. index'!$G$2,0) -> 662083 | G15: =ROUND('Noord excl. index'!G15*'Noord incl. index'!$G$3,0) -> 0 | H15: =SUM(E15+F15) -> 1147610
A16: 09201 | B16: Gemaal Herleving | C16: Trekweg 3 | D16: 9679 TA Scheemda | E16: =ROUND('Noord excl. index'!E16*'Noord incl. index'!$G$2,0) -> 220694 | F16: =ROUND('Noord excl. index'!F16*'Noord incl. index'!$G$2,0) -> 233306 | G16: =ROUND('Noord excl. index'!G16*'Noord incl. index'!$G$3,0) -> 0 | H16: =SUM(E16+F16) -> 454000
A17: 09201 | B17: Gemaal Nonnegaat | C17: Heemweg 20 | D17: 9946 TB Woldendorp | E17: =ROUND('Noord excl. index'!E17*'Noord incl. index'!$G$2,0) -> 510750 | F17: =ROUND('Noord excl. index'!F17*'Noord incl. index'!$G$2,0) -> 617944 | G17: =ROUND('Noord excl. index'!G17*'Noord incl. index'!$G$3,0) -> 0 | H17: =SUM(E17+F17) -> 1128694
A18: 09201 | B18: Gemaal Tonnistil | C18: Scheve Klap nabij 6 | D18: 9945 TD Wagenborgen | E18: =ROUND('Noord excl. index'!E18*'Noord incl. index'!$G$2,0) -> 239611 | F18: =ROUND('Noord excl. index'!F18*'Noord incl. index'!$G$2,0) -> 233306 | G18: =ROUND('Noord excl. index'!G18*'Noord incl. index'!$G$3,0) -> 0 | H18: =SUM(E18+F18) -> 472917
A19: 09201 | B19: Gemaal de Borg | C19: Hoofdweg 191 | D19: 9617 AE Harkstede | E19: =ROUND('Noord excl. index'!E19*'Noord incl. index'!$G$2,0) -> 649472 | F19: =ROUND('Noord excl. index'!F19*'Noord incl. index'!$G$2,0) -> 662083 | G19: =ROUND('Noord excl. index'!G19*'Noord incl. index'!$G$3,0) -> 0 | H19: =SUM(E19+F19) -> 1311555
A20: 09201 | B20: Gemaal Woudbloem | C20: Scharmer Ae 2 | D20: 9618 PC Woudbloem | E20: =ROUND('Noord excl. index'!E20*'Noord incl. index'!$G$2,0) -> 1198057 | F20: =ROUND('Noord excl. index'!F20*'Noord incl. index'!$G$2,0) -> 1135000 | G20: =ROUND('Noord excl. index'!G20*'Noord incl. index'!$G$3,0) -> 0 | H20: =SUM(E20+F20) -> 2333057
A21: 09201 | B21: Gemaal Blauwe Molen | C21: Westerpaauwenweg 6 | D21: 9625 TG Harkstede | E21: =ROUND('Noord excl. index'!E21*'Noord incl. index'!$G$2,0) -> 441389 | F21: =ROUND('Noord excl. index'!F21*'Noord incl. index'!$G$2,0) -> 548583 | G21: =ROUND('Noord excl. index'!G21*'Noord incl. index'!$G$3,0) -> 0 | H21: =SUM(E21+F21) -> 989972
A22: 09201 | B22: Gemaal Sans Souci | C22: Schildmaarweg nabij nr. 1 | D22: 9628 AA Schildwolde | E22: =ROUND('Noord excl. index'!E22*'Noord incl. index'!$G$2,0) -> 435083 | F22: =ROUND('Noord excl. index'!F22*'Noord incl. index'!$G$2,0) -> 592722 | G22: =ROUND('Noord excl. index'!G22*'Noord incl. index'!$G$3,0) -> 0 | H22: =SUM(E22+F22) -> 1027805
A23: 09201 | B23: Gemaal de Groeve, Laskwerd | C23: De Groeve Oostzijde 1 | D23: 9902 TD Appingedam | E23: =ROUND('Noord excl. index'!E23*'Noord incl. index'!$G$2,0) -> 397250 | F23: =ROUND('Noord excl. index'!F23*'Noord incl. index'!$G$2,0) -> 535973 | G23: =ROUND('Noord excl. index'!G23*'Noord incl. index'!$G$3,0) -> 0 | H23: =SUM(E23+F23) -> 933223
A24: 09201 | B24: Gemaal Wold en Weer | C24: Hoofdweg 85 | D24: 9939 PC Tjuchem | E24: =ROUND('Noord excl. index'!E24*'Noord incl. index'!$G$2,0) -> 819722 | F24: =ROUND('Noord excl. index'!F24*'Noord incl. index'!$G$2,0) -> 624250 | G24: =ROUND('Noord excl. index'!G24*'Noord incl. index'!$G$3,0) -> 0 | H24: =SUM(E24+F24) -> 1443972
... A61: 09201 | B61: Gemaal Borgercompagnie, Sappemeer | C61: Borgercompagnie 11 | D61: 9611 TA Sappemeer | E61: =ROUND('Noord excl. index'!E61*'Noord incl. index'!$G$2,0) -> 283750 | F61: =ROUND('Noord excl. index'!F61*'Noord incl. index'!$G$2,0) -> 441389 | G61: =ROUND('Noord excl. index'!G61*'Noord incl. index'!$G$3,0) -> 0 | H61: =SUM(E61+F61) -> 725139
B62: Gemaal Silenca | C62: Madepolderweg 6 | D62: 9608 PX Westerbroek | E62: =ROUND('Noord excl. index'!E62*'Noord incl. index'!$G$2,0) -> 220694 | F62: =ROUND('Noord excl. index'!F62*'Noord incl. index'!$G$2,0) -> 252222 | G62: =ROUND('Noord excl. index'!G62*'Noord incl. index'!$G$3,0) -> 0 | H62: =SUM(E62+F62) -> 472916
B63: Totaal gemalen Noord | E63: =SUM(E12:E62) -> 33545552 | F63: =SUM(F12:F62) -> 37946825 | G63: =SUM(G12:G62) -> 127923 | H63: =SUM(H12:H62) -> 71620300
A65: 68037 | B65: Woonhuis Noorderhooidijk 2, Onnen | C65: Noorderhooidijk 2 | D65: 9755 PJ Onnen | E65: =ROUND('Noord excl. index'!E65*'Noord incl. index'!$G$2,0) -> 977361 | F65: =ROUND('Noord excl. index'!F65*'Noord incl. index'!$G$2,0) -> 0 | G65: =ROUND('Noord excl. index'!G65*'Noord incl. index'!$G$3,0) -> 0 | H65: =SUM(E65+F65) -> 977361
A66: 68037 | B66: Woonhuis Nieuw-Statenzijl 15-17 | C66: Nieuw Statenzijl 15 | D66: 9688 TN Drieborg | E66: =ROUND('Noord excl. index'!E66*'Noord incl. index'!$G$2,0) -> 1198057 | F66: =ROUND('Noord excl. index'!F66*'Noord incl. index'!$G$2,0) -> 0 | G66: =ROUND('Noord excl. index'!G66*'Noord incl. index'!$G$3,0) -> 0 | H66: =SUM(E66+F66) -> 1198057
B67: Totaal woningen Noord | E67: =SUM(E65:E66) -> 2175418 | H67: =SUM(H65:H66) -> 2175418
A69: 68054 | B69: Spui - en schutsluis Nieuw-Statenzijl | C69: Nieuw Statenzijl 15 | D69: 9688 TN Drieborg | E69: =ROUND('Noord excl. index'!E69*'Noord incl. index'!$G$2,0) -> 4413890 | F69: =ROUND('Noord excl. index'!F69*'Noord incl. index'!$G$2,0) -> 2837500 | G69: =ROUND('Noord excl. index'!G69*'Noord incl. index'!$G$3,0) -> 0 | H69: =SUM(E69+F69) -> 7251390
B70: Totaal sluizen | E70: =SUM(E69) -> 4413890 | F70: =SUM(F69) -> 2837500 | H70: =SUM(H69) -> 7251390
A72: 13201 | B72: RWZI Scheemda | C72: Hof van Brussel 6 | D72: 9679 TW Scheemda | E72: =ROUND('Noord excl. index'!E72*'Noord incl. index'!$G$2,0) -> 4855278 | F72: =ROUND('Noord excl. index'!F72*'Noord incl. index'!$G$2,0) -> 6683889 | G72: =ROUND('Noord excl. index'!G72*'Noord incl. index'!$G$3,0) -> 415748 | H72: =SUM(E72:G72) -> 11954915
A73: 12201 | B73: Rioolgemaal Winschoten | C73: Hoorntjesweg 61 | D73: 9675 NB Winschoten | E73: =ROUND('Noord excl. index'!E73*'Noord incl. index'!$G$2,0) -> 378333 | F73: =ROUND('Noord excl. index'!F73*'Noord incl. index'!$G$2,0) -> 535973 | G73: =ROUND('Noord excl. index'!G73*'Noord incl. index'!$G$3,0) -> 0 | H73: =SUM(E73+F73) -> 914306
B74: Totaal RWZI Scheemda | E74: =SUM(E72:E73) -> 5233611 | F74: =SUM(F72:F73) -> 7219862 | G74: =SUM(G72:G73) -> 415748 | H74: =SUM(H72:H73) -> 12869221
A76: 13201 | B76: RWZI Foxhol | C76: Energieweg bij 21 | D76: 9607 PW Foxhol | E76: =ROUND('Noord excl. index'!E76*'Noord incl. index'!$G$2,0) -> 819722 | F76: =ROUND('Noord excl. index'!F76*'Noord incl. index'!$G$2,0) -> 2490694 | G76: =ROUND('Noord excl. index'!G76*'Noord incl. index'!$G$3,0) -> 12792 | H76: =SUM(E76:G76) -> 3323208
A77: 12201 | B77: Vm. RWZI, Rioolgemaal Zuidlaren | C77: Osbroeken 1 | D77: 9471 TZ Zuidlaren | E77: =ROUND('Noord excl. index'!E77*'Noord incl. index'!$G$2,0) -> 788194 | F77: =ROUND('Noord excl. index'!F77*'Noord incl. index'!$G$2,0) -> 409861 | G77: =ROUND('Noord excl. index'!G77*'Noord incl. index'!$G$3,0) -> 102338 | H77: =SUM(E77:G77) -> 1300393
B78: Totaal RWZI Foxhol | E78: =SUM(E76:E77) -> 1607916 | F78: =SUM(F76:F77) -> 2900555 | G78: =SUM(G76:G77) -> 115130 | H78: =SUM(H76:H77) -> 4623601
A80: 13201 | B80: RWZI Bellingwolde | C80: Wymeersterweg nabij 10 | D80: 9695 XA Bellingwolde | E80: =ROUND('Noord excl. index'!E80*'Noord incl. index'!$G$2,0) -> 504443 | F80: =ROUND('Noord excl. index'!F80*'Noord incl. index'!$G$2,0) -> 535973 | G80: =ROUND('Noord excl. index'!G80*'Noord incl. index'!$G$3,0) -> 25585 | H80: =SUM(E80:G80) -> 1066001
B81: Totaal RWZI Bellingwolde | E81: =SUM(E80) -> 504443 | F81: =SUM(F80) -> 535973 | G81: =SUM(G80) -> 25585 | H81: =SUM(H80) -> 1066001
A83: 13201 | B83: RWZI Hoogezand | C83: Rijksweg Oost 101 | D83: 9611 CE Sappemeer | E83: =ROUND('Noord excl. index'!E83*'Noord incl. index'!$G$2,0) -> 2270000 | F83: =ROUND('Noord excl. index'!F83*'Noord incl. index'!$G$2,0) -> 3468056 | G83: =ROUND('Noord excl. index'!G83*'Noord incl. index'!$G$3,0) -> 70357 | H83: =SUM(E83:G83) -> 5808413
A84: 12201 | B84: Rioolgemaal Kalkoven | C84: De Polder 18 | D84: 9603 HV Hoogezand | E84: =ROUND('Noord excl. index'!E84*'Noord incl. index'!$G$2,0) -> 1324167 | F84: =ROUND('Noord excl. index'!F84*'Noord incl. index'!$G$2,0) -> 472917 | G84: =ROUND('Noord excl. index'!G84*'Noord incl. index'!$G$3,0) -> 0 | H84: =SUM(E84+F84) -> 1797084
B85: Totaal RWZI Hoogezand | E85: =SUM(E83:E84) -> 3594167 | F85: =SUM(F83:F84) -> 3940973 | G85: =SUM(G83:G84) -> 70357 | H85: =SUM(H83:H84) -> 7605497
A87: 13201 | B87: RWZI Scheve Klap | C87: Heemweg nabij 20-21 | D87: 9946 TB Woldendorp | E87: =ROUND('Noord excl. index'!E87*'Noord incl. index'!$G$2,0) -> 662083 | F87: =ROUND('Noord excl. index'!F87*'Noord incl. index'!$G$2,0) -> 1071944 | G87: =ROUND('Noord excl. index'!G87*'Noord incl. index'!$G$3,0) -> 38376 | H87: =SUM(E87:G87) -> 1772403
B88: Totaal RWZI Scheve Klap | E88: =SUM(E87) -> 662083 | F88: =SUM(F87) -> 1071944 | G88: =SUM(G87) -> 38376 | H88: =SUM(H87) -> 1772403
A90: 13201 | B90: RWZI Oude-Pekela | C90: Flessingterrein 35 | D90: 9665 BZ Oude-Pekela | E90: =ROUND('Noord excl. index'!E90*'Noord incl. index'!$G$2,0) -> 756667 | F90: =ROUND('Noord excl. index'!F90*'Noord incl. index'!$G$2,0) -> 1071944 | G90: =ROUND('Noord excl. index'!G90*'Noord incl. index'!$G$3,0) -> 31981 | H90: =SUM(E90:G90) -> 1860592
A91: 12201 | B91: Rioolgemaal Oude-Pekela | C91: Burg.Snaterlaan naast nr D2 | D91: 9665 HP Oude-Pekela | E91: =ROUND('Noord excl. index'!E91*'Noord incl. index'!$G$2,0) -> 315277 | F91: =ROUND('Noord excl. index'!F91*'Noord incl. index'!$G$2,0) -> 567500 | G91: =ROUND('Noord excl. index'!G91*'Noord incl. index'!$G$3,0) -> 0 | H91: =(E91+F91) -> 882777
B92: Totaal RWZI Oude-Pekela | E92: =SUM(E90:E91) -> 1071944 | F92: =SUM(F90:F91) -> 1639444 | G92: =SUM(G90:G91) -> 31981 | H92: =SUM(H90+H91) -> 2743369
A94: 13201 | B94: RWZI Vriescheloo | C94: Dijkweg 29 | D94: 9699 TD Vriescheloo | E94: =ROUND('Noord excl. index'!E94*'Noord incl. index'!$G$2,0) -> 535973 | F94: =ROUND('Noord excl. index'!F94*'Noord incl. index'!$G$2,0) -> 1135000 | G94: =ROUND('Noord excl. index'!G94*'Noord incl. index'!$G$3,0) -> 25585 | H94: =SUM(E94:G94) -> 1696558
B95: Totaal RWZI Vriescheloo | E95: =SUM(E94) -> 535973 | F95: =SUM(F94) -> 1135000 | G95: =SUM(G94) -> 25585 | H95: =SUM(H94) -> 1696558
B96: Totaal RWZI | H96: =SUM(H74+H78+H81+H85+H88+H92+H95) -> 32376650
A98: 07701 | B98: Molen De Wedderbergen | C98: Molenweg 9 | D98: 9698 XV Wedde | E98: =ROUND('Noord excl. index'!E98*'Noord incl. index'!$G$2,0) -> 1481806 | F98: =ROUND('Noord excl. index'!F98*'Noord incl. index'!$G$2,0) -> 0 | G98: =ROUND('Noord excl. index'!G98*'Noord incl. index'!$G$3,0) -> 0 | H98: =SUM(E98+F98) -> 1481806
B99: Molen De Biks | C99: Noorderhooidijk 2 | D99: 9755 PJ Onnen | E99: =ROUND('Noord excl. index'!E99*'Noord incl. index'!$G$2,0) -> 1765556 | F99: =ROUND('Noord excl. index'!F99*'Noord incl. index'!$G$2,0) -> 0 | G99: =ROUND('Noord excl. index'!G99*'Noord incl. index'!$G$3,0) -> 0 | H99: =SUM(E99+F99) -> 1765556
B100: Molen De Witte Molen | C100: Rijksweg 1 | D100: 9752 XZ Haren | E100: =ROUND('Noord excl. index'!E100*'Noord incl. index'!$G$2,0) -> 1481806 | F100: =ROUND('Noord excl. index'!F100*'Noord incl. index'!$G$2,0) -> 0 | G100: =ROUND('Noord excl. index'!G100*'Noord incl. index'!$G$3,0) -> 0 | H100: =SUM(E100+F100) -> 1481806
B101: Totaal Molens | E101: =SUM(E98:E100) -> 4729168 | F101: 0 | H101: =SUM(H98:H100) -> 4729168
B103: Totaal | E103: =SUM(E9+E63+E67+E70+E74+E78+E81+E85+E88+E92+E95+E101) -> 61580052 | F103: =SUM(F9+F63+G67+F70+F74+F78+F81+F85+F88+F92+F95+F101) -> 59228076 | G103: =SUM(G74,G78,G9,G81,G85,G88,G92,G95,G63) -> 1458318 | H103: =SUM(E103:G103) -> 122266446

Sheet Zuid incl. index
B1: Specificatie behorende bij brandverzekering ten behoeve van Waterschap Hunze en Aa's
D2: 2026 | F2: index gebouwen | G2: ='Noord incl. index'!G2 -> 1.0333839
B3: District Zuid | F3: index inventaris | G3: ='Noord incl. index'!G3 -> 1.0319564
A5: Kostenplaats | B5: Object | E5: Herbouwwaarde index 136,2/131,8 | F5: Functionele Inrichting index 136,2/131,8 | G5: Inventaris index 132,4/128,3 | H5: verzekerde waarde ZUID
A6: 54207 | B6: Werkplaats Veele | C6: Wedderstraat 39 | D6: 9641 ED Vlagtwedde | E6: =ROUND('Zuid excl. index'!E6*'Zuid incl. index'!$G$2,0) -> 7062222 | F6: =ROUND('Zuid excl. index'!F6*'Zuid incl. index'!$G$2,0) -> 0 | G6: =ROUND('Zuid excl. index'!G6*'Zuid incl. index'!$G$3,0) -> 1637411 | H6: =SUM(E6:G6) -> 8699633
A7: 62109 | B7: Werkplaats Borger | C7: Eeserstraat 26a | D7: 9531 CM Borger | E7: =ROUND('Zuid excl. index'!E7*'Zuid incl. index'!$G$2,0) -> 1450278 | F7: =ROUND('Zuid excl. index'!F7*'Zuid incl. index'!$G$2,0) -> 0 | G7: =ROUND('Zuid excl. index'!G7*'Zuid incl. index'!$G$3,0) -> 95942 | H7: =SUM(E7:G7) -> 1546220
B8: Totaal werkplaatsen zuid | E8: =SUM(E6:E7) -> 8512500 | F8: =SUM(F6:F7) -> 0 | G8: =SUM(G6:G7) -> 1733353 | H8: =SUM(H6:H7) -> 10245853
A11: 09201 | B11: Gemaal Korte Akkers | C11: Korte Akkers 24 | D11: 9644 XT Veendam | E11: =ROUND('Zuid excl. index'!E11*'Zuid incl. index'!$G$2,0) -> 315277 | F11: =ROUND('Zuid excl. index'!F11*'Zuid incl. index'!$G$2,0) -> 535973 | G11: =ROUND('Zuid excl. index'!G11*'Zuid incl. index'!$G$3,0) -> 0 | H11: =SUM(E11+F11) -> 851250
A12: 09201 | B12: Gemaal Heerendiep | C12: Beneden Polderweg A 137/polderdwarsweg | D12: 9663 PZ Nw-Pekela | E12: =ROUND('Zuid excl. index'!E12*'Zuid incl. index'!$G$2,0) -> 239611 | F12: =ROUND('Zuid excl. index'!F12*'Zuid incl. index'!$G$2,0) -> 422472 | G12: =ROUND('Zuid excl. index'!G12*'Zuid incl. index'!$G$3,0) -> 0 | H12: =SUM(E12+F12) -> 662083
A13: 09201 | B13: Gemaal Doorsnee | C13: Doorsneeweg 1 | D13: 9663 HH Nw-Pekela | E13: =ROUND('Zuid excl. index'!E13*'Zuid incl. index'!$G$2,0) -> 346807 | F13: =ROUND('Zuid excl. index'!F13*'Zuid incl. index'!$G$2,0) -> 454000 | G13: =ROUND('Zuid excl. index'!G13*'Zuid incl. index'!$G$3,0) -> 0 | H13: =SUM(E13+F13) -> 800807
A14: 09201 | B14: Aanvoergemaal Kupers Sluisweg | C14: Sluisweg 0 | D14: 9644 TS Veendam | E14: =ROUND('Zuid excl. index'!E14*'Zuid incl. index'!$G$2,0) -> 832333 | F14: =ROUND('Zuid excl. index'!F14*'Zuid incl. index'!$G$2,0) -> 1090861 | G14: =ROUND('Zuid excl. index'!G14*'Zuid incl. index'!$G$3,0) -> 0 | H14: =SUM(E14+F14) -> 1923194
A15: 09201 | B15: Aanvoergemaal Vennix Stadskanaal | C15: Zuider Kanaalweg 1 | D15: 9581 DD Musselkanaal | E15: =ROUND('Zuid excl. index'!E15*'Zuid incl. index'!$G$2,0) -> 1399833 | F15: =ROUND('Zuid excl. index'!F15*'Zuid incl. index'!$G$2,0) -> 1418750 | G15: =ROUND('Zuid excl. index'!G15*'Zuid incl. index'!$G$3,0) -> 0 | H15: =SUM(E15+F15) -> 2818583
A16: 09201 | B16: Gemaal Boven Ooster | C16: Adriaan Tripweg 102 | D16: 9641 KN Veendam | E16: =ROUND('Zuid excl. index'!E16*'Zuid incl. index'!$G$2,0) -> 220694 | F16: =ROUND('Zuid excl. index'!F16*'Zuid incl. index'!$G$2,0) -> 472917 | G16: =ROUND('Zuid excl. index'!G16*'Zuid incl. index'!$G$3,0) -> 0 | H16: =SUM(E16+F16) -> 693611
A17: 09201 | B17: Gemaal Pleuger, Gasseltenijveenschemond | C17: Paterslaan nabij 71 | D17: 9515 PM Gasselternijveenschemond | E17: =ROUND('Zuid excl. index'!E17*'Zuid incl. index'!$G$2,0) -> 252222 | F17: =ROUND('Zuid excl. index'!F17*'Zuid incl. index'!$G$2,0) -> 409861 | G17: =ROUND('Zuid excl. index'!G17*'Zuid incl. index'!$G$3,0) -> 0 | H17: =SUM(E17+F17) -> 662083
A18: 09201 | B18: Gemaal Nw-Weerdinge | C18: Weerdingerkanaal ZZ 260 | D18: 7831 AR Nw-Weerdinge | E18: =ROUND('Zuid excl. index'!E18*'Zuid incl. index'!$G$2,0) -> 378333 | F18: =ROUND('Zuid excl. index'!F18*'Zuid incl. index'!$G$2,0) -> 435083 | G18: =ROUND('Zuid excl. index'!G18*'Zuid incl. index'!$G$3,0) -> 0 | H18: =SUM(E18+F18) -> 813416
A19: 09201 | B19: Gemaal Wildervank Sportveld | C19: Sportterreinstraat 31 | D19: 9648 CA Wildervank | E19: =ROUND('Zuid excl. index'!E19*'Zuid incl. index'!$G$2,0) -> 283750 | F19: =ROUND('Zuid excl. index'!F19*'Zuid incl. index'!$G$2,0) -> 441389 | G19: =ROUND('Zuid excl. index'!G19*'Zuid incl. index'!$G$3,0) -> 0 | H19: =SUM(E19+F19) -> 725139
A20: 09201 | B20: Gemaal Wildervank Landbouw | C20: Torenstraat 15 | D20: 9648 CR Wildervank | E20: =ROUND('Zuid excl. index'!E20*'Zuid incl. index'!$G$2,0) -> 630556 | F20: =ROUND('Zuid excl. index'!F20*'Zuid incl. index'!$G$2,0) -> 662083 | G20: =ROUND('Zuid excl. index'!G20*'Zuid incl. index'!$G$3,0) -> 0 | H20: =SUM(E20+F20) -> 1292639
A21: 09201 | B21: Gemaal De Maten | C21: De Runde achter nr. 23 | D21: 9561 JR ter Apel | E21: =ROUND('Zuid excl. index'!E21*'Zuid incl. index'!$G$2,0) -> 201778 | F21: =ROUND('Zuid excl. index'!F21*'Zuid incl. index'!$G$2,0) -> 258528 | G21: =ROUND('Zuid excl. index'!G21*'Zuid incl. index'!$G$3,0) -> 0 | H21: =SUM(E21+F21) -> 460306
A22: 09201 | B22: Aanvoergemaal Ter Apelkanaal | C22: Ter Apelkanaal Oost 133a | D22: 9563 RG Ter Apelkanaal | E22: =ROUND('Zuid excl. index'!E22*'Zuid incl. index'!$G$2,0) -> 378333 | F22: =ROUND('Zuid excl. index'!F22*'Zuid incl. index'!$G$2,0) -> 630556 | G22: =ROUND('Zuid excl. index'!G22*'Zuid incl. index'!$G$3,0) -> 0 | H22: =SUM(E22+F22) -> 1008889
... A29: 09201 | B29: Gemaal Kielsterpomp | C29: Pieter Venemakade 199 | D29: 9605 PN Kielwindeweer | E29: =ROUND('Zuid excl. index'!E29*'Zuid incl. index'!$G$2,0) -> 472917 | F29: =ROUND('Zuid excl. index'!F29*'Zuid incl. index'!$G$2,0) -> 599028 | G29: =ROUND('Zuid excl. index'!G29*'Zuid incl. index'!$G$3,0) -> 0 | H29: =SUM(E29+F29) -> 1071945
B30: Totaal gemalen ZO | E30: =SUM(E11:E29) -> 8411611 | F30: =SUM(F11:F29) -> 11457196 | H30: =SUM(H11:H29) -> 19868807
A32: 09201 | B32: Verdeelwerk Loon | C32: Meanderdijk | D32: Loon | E32: =ROUND('Zuid excl. index'!E32*'Zuid incl. index'!$G$2,0) -> 94583 | F32: =ROUND('Zuid excl. index'!F32*'Zuid incl. index'!$G$2,0) -> 252222 | G32: =ROUND('Zuid excl. index'!G32*'Zuid incl. index'!$G$3,0) -> 0 | H32: =SUM(E32+F32) -> 346805
B33: Totaal stuwen ZW | E33: =SUM(E32) -> 94583 | F33: =SUM(F32) -> 252222 | H33: =SUM(H32) -> 346805
A35: 13201 | B35: RWZI Veendam | C35: Vosseveld 4a | D35: 9644 XW Veendam | E35: =ROUND('Zuid excl. index'!E35*'Zuid incl. index'!$G$2,0) -> 5359722 | F35: =ROUND('Zuid excl. index'!F35*'Zuid incl. index'!$G$2,0) -> 6305557 | G35: =ROUND('Zuid excl. index'!G35*'Zuid incl. index'!$G$3,0) -> 447729 | H35: =SUM(E35:G35) -> 12113008
A36: 12201 | B36: Rioolgemaal Grote Vennen | C36: Oosterweg t.h.v. 41b | D36: 9649 JV Muntendam | E36: =ROUND('Zuid excl. index'!E36*'Zuid incl. index'!$G$2,0) -> 851250 | F36: =ROUND('Zuid excl. index'!F36*'Zuid incl. index'!$G$2,0) -> 504443 | G36: =ROUND('Zuid excl. index'!G36*'Zuid incl. index'!$G$3,0) -> 0 | H36: =SUM(E36+F36) -> 1355693
B37: Totaal RWZI Veendam | E37: =SUM(E35:E36) -> 6210972 | F37: =SUM(F35:F36) -> 6810000 | G37: =SUM(G35:G36) -> 447729 | H37: =SUM(H35:H36) -> 13468701
A39: 13201 | B39: RWZI Stadskanaal | C39: 1e Veldweg 2 | D39: 9501 LH Stadkanaal | E39: =ROUND('Zuid excl. index'!E39*'Zuid incl. index'!$G$2,0) -> 567500 | F39: =ROUND('Zuid excl. index'!F39*'Zuid incl. index'!$G$2,0) -> 504443 | G39: =ROUND('Zuid excl. index'!G39*'Zuid incl. index'!$G$3,0) -> 76755 | H39: =SUM(E39:G39) -> 1148698
A40: 12201 | B40: Rioolgemaal Stadskanaal | C40: krommewijk nabij 1 | D40: 9501 LA Stadskanaal | E40: =ROUND('Zuid excl. index'!E40*'Zuid incl. index'!$G$2,0) -> 756667 | F40: =ROUND('Zuid excl. index'!F40*'Zuid incl. index'!$G$2,0) -> 1229583 | G40: =ROUND('Zuid excl. index'!G40*'Zuid incl. index'!$G$3,0) -> 0 | H40: =SUM(E40+F40) -> 1986250
B41: Totaal RWZI Stadskanaal | E41: =SUM(E39:E40) -> 1324167 | F41: =SUM(F39:F40) -> 1734026 | G41: =SUM(G39:G40) -> 76755 | H41: =SUM(H39:H40) -> 3134948
A43: 13201 | B43: RWZI Ter Apel | C43: Ruiten A Kanaal west 1a | D43: 9561 TP Ter Apel | E43: =ROUND('Zuid excl. index'!E43*'Zuid incl. index'!$G$2,0) -> 1891667 | F43: =ROUND('Zuid excl. index'!F43*'Zuid incl. index'!$G$2,0) -> 1387223 | G43: =ROUND('Zuid excl. index'!G43*'Zuid incl. index'!$G$3,0) -> 31981 | H43: =SUM(E43:G43) -> 3310871
B44: Totaal RWZI Ter Apel | E44: =SUM(E43) -> 1891667 | F44: =SUM(F43) -> 1387223 | G44: =SUM(G43) -> 31981 | H44: =SUM(H43) -> 3310871
A46: 13201 | B46: RWZI 2e Exloërmond | C46: Zuiderdiep 227 a | D46: 7571 MB Tweede Exl.mond | E46: =ROUND('Zuid excl. index'!E46*'Zuid incl. index'!$G$2,0) -> 630556 | F46: =ROUND('Zuid excl. index'!F46*'Zuid incl. index'!$G$2,0) -> 1355693 | G46: =ROUND('Zuid excl. index'!G46*'Zuid incl. index'!$G$3,0) -> 38376 | H46: =SUM(E46:G46) -> 2024625
A47: 12201 | B47: Rioolgemaal Emmercompascuum | C47: Kalkovenwijk westzijde 7 | D47: 7881 LK Emmercompascuum | E47: =ROUND('Zuid excl. index'!E47*'Zuid incl. index'!$G$2,0) -> 283750 | F47: =ROUND('Zuid excl. index'!F47*'Zuid incl. index'!$G$2,0) -> 472917 | G47: =ROUND('Zuid excl. index'!G47*'Zuid incl. index'!$G$3,0) -> 0 | H47: =SUM(E47+F47) -> 756667
B48: Totaal RWZI 2e Exloërmond | E48: =SUM(E46:E47) -> 914306 | F48: =SUM(F46:F47) -> 1828610 | G48: =SUM(G46:G47) -> 38376 | H48: =SUM(H46:H47) -> 2781292
A50: 13201 | B50: RWZI Assen | C50: W.A.Scholtenstraat 16 | D50: 9403 AK Assen | E50: =ROUND('Zuid excl. index'!E50*'Zuid incl. index'!$G$2,0) -> 5675000 | F50: =ROUND('Zuid excl. index'!F50*'Zuid incl. index'!$G$2,0) -> 7881944 | G50: =ROUND('Zuid excl. index'!G50*'Zuid incl. index'!$G$3,0) -> 447729 | H50: =SUM(E50:G50) -> 14004673
A51: 12201 | B51: Rioolgemaal Assen | C51: Havenkade 0 | D51: 9403 AH Assen | E51: =ROUND('Zuid excl. index'!E51*'Zuid incl. index'!$G$2,0) -> 189167 | F51: =ROUND('Zuid excl. index'!F51*'Zuid incl. index'!$G$2,0) -> 472917 | G51: =ROUND('Zuid excl. index'!G51*'Zuid incl. index'!$G$3,0) -> 0 | H51: =SUM(E51+F51) -> 662084
A52: 12201 | B52: Rioolgemaal Koelandsdijk, Rolde | C52: Koelandsdijk | D52: 9451 BR Rolde | E52: =ROUND('Zuid excl. index'!E52*'Zuid incl. index'!$G$2,0) -> 346807 | F52: =ROUND('Zuid excl. index'!F52*'Zuid incl. index'!$G$2,0) -> 441389 | G52: =ROUND('Zuid excl. index'!G52*'Zuid incl. index'!$G$3,0) -> 0 | H52: =SUM(E52+F52) -> 788196
B53: Totaal RWZI Assen | E53: =SUM(E50:E52) -> 6210974 | F53: =SUM(F50:F52) -> 8796250 | G53: =SUM(G50:G52) -> 447729 | H53: =SUM(H50:H52) -> 15454953
A55: 13201 | B55: RWZI Gieten | C55: Spekstoep 25 | D55: 9461 AL Gieten | E55: =ROUND('Zuid excl. index'!E55*'Zuid incl. index'!$G$2,0) -> 2143889 | F55: =ROUND('Zuid excl. index'!F55*'Zuid incl. index'!$G$2,0) -> 3152778 | G55: =ROUND('Zuid excl. index'!G55*'Zuid incl. index'!$G$3,0) -> 319806 | H55: =SUM(E55:G55) -> 5616473
A56: 12201 | B56: Rioolgemaal Kostvlies | C56: Grotenend 0 | D56: Kostvlies | E56: =ROUND('Zuid excl. index'!E56*'Zuid incl. index'!$G$2,0) -> 504443 | F56: =ROUND('Zuid excl. index'!F56*'Zuid incl. index'!$G$2,0) -> 378333 | G56: =ROUND('Zuid excl. index'!G56*'Zuid incl. index'!$G$3,0) -> 0 | H56: =SUM(E56+F56) -> 882776
B57: Totaal RWZI Gieten | E57: =SUM(E55:E56) -> 2648332 | F57: =SUM(F55:F56) -> 3531111 | G57: =SUM(G55:G56) -> 319806 | H57: =SUM(H55:H56) -> 6499249
A59: 12201 | B59: Rioolgemaal Paterswolde | C59: Oosterland naast 6 | D59: 9765 BM Paterswolde | E59: =ROUND('Zuid excl. index'!E59*'Zuid incl. index'!$G$2,0) -> 315277 | F59: =ROUND('Zuid excl. index'!F59*'Zuid incl. index'!$G$2,0) -> 441389 | G59: =ROUND('Zuid excl. index'!G59*'Zuid incl. index'!$G$3,0) -> 0 | H59: =SUM(E59+F59) -> 756666
A60: 12201 | B60: Rioolgemaal Bargercompascuum | C60: Verlengde Oosterdiep Wzijde 167 | D60: 7884 RH Bargercompascuum | E60: =ROUND('Zuid excl. index'!E60*'Zuid incl. index'!$G$2,0) -> 239611 | F60: =ROUND('Zuid excl. index'!F60*'Zuid incl. index'!$G$2,0) -> 409861 | G60: =ROUND('Zuid excl. index'!G60*'Zuid incl. index'!$G$3,0) -> 0 | H60: =SUM(E60+F60) -> 649472
B61: Totaal RWZI Zuidlaren | E61: =SUM(E59:E60) -> 554888 | F61: =SUM(F59:F60) -> 851250 | H61: =SUM(H59:H60) -> 1406138
B62: Totaal RWZI
A64: 54101 | B64: Hoofdkantoor, Aquapark 5, Veendam | C64: Aquapark 5 | D64: 9641 PJ veendam | E64: =ROUND('Zuid excl. index'!E64*'Zuid incl. index'!$G$2,0) -> 21792000 | F64: =ROUND('Zuid excl. index'!F64*'Zuid incl. index'!$G$2,0) -> 0 | G64: =ROUND('Zuid excl. index'!G64*'Zuid incl. index'!$G$3,0) -> 0 | H64: =SUM(E64+F64) -> 21792000
A65: 54101 | B65: Zonnecarport met 610 zonnepanelen | C65: Aquapark 5 | D65: 9641 PJ veendam | E65: =ROUND('Zuid excl. index'!E65*'Zuid incl. index'!$G$2,0) -> 451462 | F65: =ROUND('Zuid excl. index'!F65*'Zuid incl. index'!$G$2,0) -> 0 | G65: =ROUND('Zuid excl. index'!G65*'Zuid incl. index'!$G$3,0) -> 0 | H65: =SUM(E65+F65) -> 451462
B66: Totaal Hoofdkantoor Veendam | E66: =SUM(E64:E65) -> 22243462 | H66: =SUM(H65+H64) -> 22243462
A68: 53101 | B68: Computerapparatuur en inventaris | C68: Aquapark 5 | G68: =ROUND('Zuid excl. index'!G68*'Zuid incl. index'!$G$3,0) -> 6651981 | H68: =SUM(G68) -> 6651981
B69: Totaal computerapparatuur | G69: =SUM(G68) -> 6651981 | H69: =SUM(H68) -> 6651981
A71: 55101 | B71: Laboratorium | C71: Aquapark 1 | D71: 9641 PJ Veendam | E71: =ROUND('Zuid excl. index'!E71*'Zuid incl. index'!$G$2,0) -> 6620833 | F71: =ROUND('Zuid excl. index'!F71*'Zuid incl. index'!$G$2,0) -> 0 | G71: =ROUND('Zuid excl. index'!G71*'Zuid incl. index'!$G$3,0) -> 4477295 | H71: =SUM(E71:G71) -> 11098128
B72: Totaal laboratorium | E72: =SUM(E71) -> 6620833 | G72: =SUM(G71) -> 4477295 | H72: =SUM(H71) -> 11098128
B74: Totaal | E74: =SUM(E8+E30+E33+E37+E41+E44+E48+E53+E57+E61+E66+E69+E72) -> 65638295 | F74: =SUM(F8+F30+F33+F37+F41+F44+F48+F53+F57+F61+F66+F69+F69+F72) -> 36647888 | G74: =SUM(G72,G69,G57,G53,G37,G41,G44,G48,G8) -> 14225005 | H74: =SUM(H8+H30+H33+H37+H41+H44+H48+H53+H57+H61+H66+H69+H72) -> 116511188

Sheet Totaal Noord en Zuid inc index
A1: Specificatie behorende bij brandverzekering ten behoeve van Waterschap Hunze en Aa's
B3: District Noord en Zuid
B5: Herbouwwaarde Noord | C5: ='Noord incl. index'!E103 -> 61580052
B6: Functionele inrichting Noord | C6: ='Noord incl. index'!F103 -> 59228076
B7: Inventaris Noord | C7: ='Noord incl. index'!G103 -> 1458318
B8: Herbouwwaarde Zuid | C8: ='Zuid incl. index'!E74 -> 65638295
B9: Functionele inrichting Zuid | C9: ='Zuid incl. index'!F74 -> 36647888
B10: Inventaris Zuid | C10: ='Zuid incl. index'!G74 -> 14225005
B11: TOTAAL | C11: =SUM(C5:C10) -> 238777634

Sheet Blad4
