Workbook
Name Actie: Tabel30[Actie]
Name Beproevingen_en_Keuringen: Tabel4[Beproevingen_en_Keuringen]
Name Documentsoort: Tabel3[Documentsoort]
Name Engineeringsdocumenten: Tabel5[Engineeringsdocumenten]
Name Extenties: Tabel21[Extenties]
Name FAT__SIT___FAT: Tabel6[FAT__SIT___FAT]
Name Functionele_technische_ontwerpen: Tabel7[Functionele_technische_ontwerpen]
Name Garantie: Tabel8[Garantie]
Name Gebruikershandleiding: Tabel9[Gebruikershandleiding]
Name Instellingen: Tabel10[Instellingen]
Name Ja_Nee: Tabel22[Ja_Nee]
Name Letter_code: Tabel26[Letter_code]
Name Onderhoudsvoorschriften: Tabel11[Onderhoudsvoorschriften]
Name Software: Tabel12[Software]
Name Soort: [1]Gegevens_algemeen!$C$2:$C$5
Name Soort_fbr_doc: Tabel23[Soort_fbr_doc]
Name Status: Tabel20[Status]
Name Tekeningen__Civiel_: Tabel15[Tekeningen__Civiel_]
Name Tekeningen__elektrotechnisch_: Tabel16[Tekeningen__elektrotechnisch_]
Name Tekeningen__procesautomatisering_: Tabel17[Tekeningen__procesautomatisering_]
Name Tekeningen__Veiligheid_: Tabel18[Tekeningen__Veiligheid_]
Name Tekeningen__Werktuigbouw_: Tabel19[Tekeningen__Werktuigbouw_]
Name Veiligheid: Tabel14[Veiligheid]
Name verplichting: Tabel27[verplichting]

Sheet Voorblad
B2: GIS-code: | C2: SC-080-00023
C3: =UPPER(C2) -> SC-080-00023
B4: Complexnaam: | C4: AWTG Schiphol Trade Park | F4: Korte toelichting Tabbladen:
B5: Geautomatiseerde installatie: | C5: Ja
C6: =_xlfn.CONCAT(C19,IF(C5="ja","a","")) -> 80a
F7: - Tab "Voorblad" | G7: Op het voorblad staan gegevens van het object en worden ingevuld door ADC
B8: Gekoppeld projectnummer: | C8: 751
F9: - Tab "Documentmatrix" | G9: Hier staat de documentmatrix specifiek voor het object
C10: =HYPERLINK(CONCATENATE("https://hhr.ultimo.net/#screen/5e3d6819-6ff6-4b05-d801-f6b2acf7f180?_prjprfid=",TEXT(C8,"000000000"),"&stab=3&screenmode=history"),"Ga naar gekoppeld project Ultimo") -> Ga naar gekoppeld project Ultimo
F11: - Tab "Bestaande documentatie" | G11: Een overzicht van de bestaande documentatie om aan te geven wat er met deze documentatie gebeurd
C12: =HYPERLINK(_xlfn.CONCAT("https://hhr.ultimo.net/#screen/58ab5a6e-e1ad-41d2-a992-3ceab120644a?prfid=",C2,"&tab=0&screenmode=history"),"Ga naar object in Ultimo") -> Ga naar object in Ultimo
F13: - Tab "Opleverlijst" | G13: Lijst die gevuld wordt met gegevens van de leveren documentatie en vertaald naar documentnaam en map waarin op te leveren
B14: Matrix versie: | C14: 3
F15: - Tab "Tagnummerlijst" | G15: Lijst die gevuld wordt met de basis gegevens van de Tag's
B16: Waardes te gebruiken in de onderhoek
B17: gemeente code | C17: =UPPER(IF(MID(C2,3,1)="-",LEFT(C2,2),LEFT(C2,3))) -> SC | F17: - Tab "Fabrieksdocumentatie" | G17: Lijst die gevuld wordt met de gegevens fabrieksdocumentatie
B18: hoofdgroep code | C18: =IF(OR(C19="80",C19="81"),2,4) -> 2
B19: soortcode | C19: =TEXT(IF(MID(C2,3,1)="-",MID(C2,4,3),MID(C2,5,3)),"#00") -> 80
B20: objectcode | C20: =TEXT(RIGHT(C2,5),"##000") -> 023

Sheet Documentmatrix
A2: =_xlfn.CONCAT("(object soort) ",IF(Voorblad!$C$6="27a","Afvalwater Zuivering",IF(Voorblad!$C$6="80a","Afvalwater Transportgemaal",IF(Voorblad!$C$6="81","Afvalwater Transportleiding",IF(Voorblad!$C$6="36a","Oppervlaktewater Gemaal",IF(Voorblad!$C$6="28","Brug vast",IF(Voorblad!$C$6="28a","Brug Geautomatiseerd",IF(Voorblad!$C$6="48a","Verbeteringsinstallatie Waterkwaliteit",IF(Voorblad!$C$6="56","Stuw",IF(Voorblad!$C$6="56a","Stuw Geautomatiseerd",IF(Voorblad!$C$6="93","Noodwaterkering",IF(Voorblad!$C$6="93a","Noodwaterkering Geautomatiseerd",IF(Voorblad!$C$6="105a","Meetopstelling",IF(Voorblad!$C$6="31","Vaste Dam",IF(Voorblad!$C$6="33","Duiker Sifon Hevel",IF(Voorblad!$C$6="33a","Duiker Sifon Hevel geautomatiseerd",IF(Voorblad!$C$6="37","Sifon",IF(Voorblad!$C$6="91","Profielverdediging",IF(Voorblad!$C$6="13","Aquaduct",IF(Voorblad!$C$6="58","Watergang",IF(Voorblad!$C$6="42","Waterkering",IF(Voorblad!$C$6="54","Sluis",IF(Voorblad!$C$6="54a","Sluis Geautomatiseerd",""))))))))))))))))))))))," ","(Gis-code) ",Voorblad!C2," ","(object naam) ",Voorblad!C4) -> (object soort) Afvalwater Transportgemaal (Gis-code) SC-080-00023 (object naam) AWTG Schiphol Trade Park
A4: Toelichting De document matrix is bedoeld om aan te geven welke as-built documentatie geleverd moet en gaat worden binnen dit project. Hierbij is het tevens van belang om te weten wie de verantwoordelijke persoon is, van HHRS Rijnland die de documentatie beoordeeld alvorens deze as-built wordt overgedragen. De ingevulde matrix staat in de basis als afspraak met de technische beheer organisatie ! | C4: Stappen: | E4: 1. Geef aan of het document op geleverd gaat worden (j/n)
E5: 2. Geef de verantwoordelijke persoon HHRS Rijnland in
E6: 3. Bij afwijking op de matrix kan een opmerking gegeven ter verduidelijking
A8: Documentsoort | B8: Document omschrijving | C8: Code Meridian | D8: Vereist | E8: 1. Opleveren | F8: 2. Verantwoordelijke Rijnland | G8: 3. Opmerking | H8: format | I8: Controle | J8: As-built
A9: Engineeringsdocumenten | B9: Civiel bouwkundige bewapenings berekeningen | C9: CB1_4 | D9: =IF(ISNA(IF(Voorblad!$C$6="27a",VLOOKUP(Tabel33[[#This Row],[Document omschrijving]],'Gegevens documentatie'!D:AE,7,0),IF(Voorblad!$C$6="80a",VLOOKUP(Tabel33[[#This Row],[Document omschrijving]],'Gegevens documentatie'!D:AE,8,0),IF(Voorblad!$C$6="81",VLOOKUP(Tabel33[[#This Row],[Document omschrijving]],'Gegevens documentatie'!D:AE,9,0),IF(Voorblad!$C$6="36a",VLOOKUP(Tabel33[[#This Row],[Document omschrijving]],'Gegevens documentatie'!D:AE,10,0),IF(Voorblad!$C$6="28",VLOOKUP(Tabel33[[#This Row],[Document omschrijving]],'Gegevens documentatie'!D:AE,11,0),IF(Voorblad!$C$6="28a",VLOOKUP(Tabel33[[#This Row],[Document omschrijving]],'Gegevens documentatie'!D:AE,12,0),IF(Voorblad!$C$6="48a",VLOOKUP(Tabel33[[#This Row],[Document omschrijving]],'Gegevens documentatie'!D:AE,13,0),IF(Voorblad!$C$6="54",VLOOKUP(Tabel33[[#This Row],[Document omschrijving]],'Gegevens documentatie'!D:AE,14,0),IF(Voorblad!$C$6="54a",VLOOKUP(Tabel33[[#This Row],[Document omschrijving]],'Gegevens documentatie'!D:AE,15,0),IF(Voorblad!$C$6="56",VLOOKUP(Tabel33[[#This Row],[Document omschrijving]],'Gegevens documentatie'!D:AE,16,0),IF(Voorblad!$C$6="56a",VLOOKUP(Tabel33[[#This Row],[Document omschrijving]],'Gegevens documentatie'!D:AE,17,0),IF(Voorblad!$C$6="93",VLOOKUP(Tabel33[[#This Row],[Document omschrijving]],'Gegevens documentatie'!D:AE,18,0),IF(Voorblad!$C$6="93a",VLOOKUP(Tabel33[[#This Row],[Document omschrijving]],'Gegevens documentatie'!D:AE,19,0),IF(Voorblad!$C$6="105a",VLOOKUP(Tabel33[[#This Row],[Document omschrijving]],'Gegevens documentatie'!D:AE,20,0),IF(Voorblad!$C$6="31",VLOOKUP(Tabel33[[#This Row],[Document omschrijving]],'Gegevens documentatie'!D:AE,21,0),IF(Voorblad!$C$6="33",VLOOKUP(Tabel33[[#This Row],[Document omschrijving]],'Gegevens documentatie'!D:AE,22,0),IF(Voorblad!$C$6="33a",VLOOKUP(Tabel33[[#This Row],[Document omschrijving]],'Gegevens documentatie'!D:AE,23,0),IF(Voorblad!$C$6="37",VLOOKUP(Tabel33[[#This Row],[Document omschrijving]],'Gegevens documentatie'!D:AE,24,0),IF(Voorblad!$C$6="91",VLOOKUP(Tabel33[[#This Row],[Document omschrijving]],'Gegevens documentatie'!D:AE,25,0),IF(Voorblad!$C$6="13",VLOOKUP(Tabel33[[#This Row],[Document omschrijving]],'Gegevens documentatie'!D:AE,26,0),IF(Voorblad!$C$6="58",VLOOKUP(Tabel33[[#This Row],[Document omschrijving]],'Gegevens documentatie'!D:AE,27,0),IF(Voorblad!$C$6="42",VLOOKUP(Tabel33[[#This Row],[Document omschrijving]],'Gegevens documentatie'!D:AE,28,0),""))))))))))))))))))))))),"verplicht",IF(Voorblad!$C$6="27a",VLOOKUP(Tabel33[[#This Row],[Document omschrijving]],'Gegevens documentatie'!D:AE,7,0),IF(Voorblad!$C$6="80a",VLOOKUP(Tabel33[[#This Row],[Document omschrijving]],'Gegevens documentatie'!D:AE,8,0),IF(Voorblad!$C$6="81",VLOOKUP(Tabel33[[#This Row],[Document omschrijving]],'Gegevens documentatie'!D:AE,9,0),IF(Voorblad!$C$6="36a",VLOOKUP(Tabel33[[#This Row],[Document omschrijving]],'Gegevens documentatie'!D:AE,10,0),IF(Voorblad!$C$6="28",VLOOKUP(Tabel33[[#This Row],[Document omschrijving]],'Gegevens documentatie'!D:AE,11,0),IF(Voorblad!$C$6="28a",VLOOKUP(Tabel33[[#This Row],[Document omschrijving]],'Gegevens documentatie'!D:AE,12,0),IF(Voorblad!$C$6="48a",VLOOKUP(Tabel33[[#This Row],[Document omschrijving]],'Gegevens documentatie'!D:AE,13,0),IF(Voorblad!$C$6="54",VLOOKUP(Tabel33[[#This Row],[Document omschrijving]],'Gegevens documentatie'!D:AE,14,0),IF(Voorblad!$C$6="54a",VLOOKUP(Tabel33[[#This Row],[Document omschrijving]],'Gegevens documentatie'!D:AE,15,0),IF(Voorblad!$C$6="56",VLOOKUP(Tabel33[[#This Row],[Document omschrijving]],'Gegevens documentatie'!D:AE,16,0),IF(Voorblad!$C$6="56a",VLOOKUP(Tabel33[[#This Row],[Document omschrijving]],'Gegevens documentatie'!D:AE,17,0),IF(Voorblad!$C$6="93",VLOOKUP(Tabel33[[#This Row],[Document omschrijving]],'Gegevens documentatie'!D:AE,18,0),IF(Voorblad!$C$6="93a",VLOOKUP(Tabel33[[#This Row],[Document omschrijving]],'Gegevens documentatie'!D:AE,19,0),IF(Voorblad!$C$6="105a",VLOOKUP(Tabel33[[#This Row],[Document omschrijving]],'Gegevens documentatie'!D:AE,20,0),IF(Voorblad!$C$6="31",VLOOKUP(Tabel33[[#This Row],[Document omschrijving]],'Gegevens documentatie'!D:AE,21,0),IF(Voorblad!$C$6="33",VLOOKUP(Tabel33[[#This Row],[Document omschrijving]],'Gegevens documentatie'!D:AE,22,0),IF(Voorblad!$C$6="33a",VLOOKUP(Tabel33[[#This Row],[Document omschrijving]],'Gegevens documentatie'!D:AE,23,0),IF(Voorblad!$C$6="37",VLOOKUP(Tabel33[[#This Row],[Document omschrijving]],'Gegevens documentatie'!D:AE,24,0),IF(Voorblad!$C$6="91",VLOOKUP(Tabel33[[#This Row],[Document omschrijving]],'Gegevens documentatie'!D:AE,25,0),IF(Voorblad!$C$6="13",VLOOKUP(Tabel33[[#This Row],[Document omschrijving]],'Gegevens documentatie'!D:AE,26,0),IF(Voorblad!$C$6="58",VLOOKUP(Tabel33[[#This Row],[Document omschrijving]],'Gegevens documentatie'!D:AE,27,0),IF(Voorblad!$C$6="42",VLOOKUP(Tabel33[[#This Row],[Document omschrijving]],'Gegevens documentatie'!D:AE,28,0),""))))))))))))))))))))))) -> verplicht | E9: Ja | F9: VSP CIV | H9: =VLOOKUP(Tabel33[[#This Row],[Document omschrijving]],'Gegevens documentatie'!D:AF,29,0) -> PDF | I9: =IF(Tabel33[[#This Row],[1. Opleveren]]="ja",_xlfn.CONCAT(COUNTIF(Opleverlijst!P:P,Tabel33[[#This Row],[Code Meridian]])," ","geleverd"),"") -> 0 geleverd | J9: =IF(Tabel33[[#This Row],[1. Opleveren]]="ja",_xlfn.CONCAT(COUNTIFS(Opleverlijst!H:H,"as-built",Opleverlijst!P:P,Tabel33[[#This Row],[Code Meridian]])," ","As-built"),"") -> 0 As-built
A10: Engineeringsdocumenten | B10: Civiel bouwkundige hoofdconstructie berekening | C10: CB1_6 | D10: =IF(ISNA(IF(Voorblad!$C$6="27a",VLOOKUP(Tabel33[[#This Row],[Document omschrijving]],'Gegevens documentatie'!D:AE,7,0),IF(Voorblad!$C$6="80a",VLOOKUP(Tabel33[[#This Row],[Document omschrijving]],'Gegevens documentatie'!D:AE,8,0),IF(Voorblad!$C$6="81",VLOOKUP(Tabel33[[#This Row],[Document omschrijving]],'Gegevens documentatie'!D:AE,9,0),IF(Voorblad!$C$6="36a",VLOOKUP(Tabel33[[#This Row],[Document omschrijving]],'Gegevens documentatie'!D:AE,10,0),IF(Voorblad!$C$6="28",VLOOKUP(Tabel33[[#This Row],[Document omschrijving]],'Gegevens documentatie'!D:AE,11,0),IF(Voorblad!$C$6="28a",VLOOKUP(Tabel33[[#This Row],[Document omschrijving]],'Gegevens documentatie'!D:AE,12,0),IF(Voorblad!$C$6="48a",VLOOKUP(Tabel33[[#This Row],[Document omschrijving]],'Gegevens documentatie'!D:AE,13,0),IF(Voorblad!$C$6="54",VLOOKUP(Tabel33[[#This Row],[Document omschrijving]],'Gegevens documentatie'!D:AE,14,0),IF(Voorblad!$C$6="54a",VLOOKUP(Tabel33[[#This Row],[Document omschrijving]],'Gegevens documentatie'!D:AE,15,0),IF(Voorblad!$C$6="56",VLOOKUP(Tabel33[[#This Row],[Document omschrijving]],'Gegevens documentatie'!D:AE,16,0),IF(Voorblad!$C$6="56a",VLOOKUP(Tabel33[[#This Row],[Document omschrijving]],'Gegevens documentatie'!D:AE,17,0),IF(Voorblad!$C$6="93",VLOOKUP(Tabel33[[#This Row],[Document omschrijving]],'Gegevens documentatie'!D:AE,18,0),IF(Voorblad!$C$6="93a",VLOOKUP(Tabel33[[#This Row],[Document omschrijving]],'Gegevens documentatie'!D:AE,19,0),IF(Voorblad!$C$6="105a",VLOOKUP(Tabel33[[#This Row],[Document omschrijving]],'Gegevens documentatie'!D:AE,20,0),IF(Voorblad!$C$6="31",VLOOKUP(Tabel33[[#This Row],[Document omschrijving]],'Gegevens documentatie'!D:AE,21,0),IF(Voorblad!$C$6="33",VLOOKUP(Tabel33[[#This Row],[Document omschrijving]],'Gegevens documentatie'!D:AE,22,0),IF(Voorblad!$C$6="33a",VLOOKUP(Tabel33[[#This Row],[Document omschrijving]],'Gegevens documentatie'!D:AE,23,0),IF(Voorblad!$C$6="37",VLOOKUP(Tabel33[[#This Row],[Document omschrijving]],'Gegevens documentatie'!D:AE,24,0),IF(Voorblad!$C$6="91",VLOOKUP(Tabel33[[#This Row],[Document omschrijving]],'Gegevens documentatie'!D:AE,25,0),IF(Voorblad!$C$6="13",VLOOKUP(Tabel33[[#This Row],[Document omschrijving]],'Gegevens documentatie'!D:AE,26,0),IF(Voorblad!$C$6="58",VLOOKUP(Tabel33[[#This Row],[Document omschrijving]],'Gegevens documentatie'!D:AE,27,0),IF(Voorblad!$C$6="42",VLOOKUP(Tabel33[[#This Row],[Document omschrijving]],'Gegevens documentatie'!D:AE,28,0),""))))))))))))))))))))))),"verplicht",IF(Voorblad!$C$6="27a",VLOOKUP(Tabel33[[#This Row],[Document omschrijving]],'Gegevens documentatie'!D:AE,7,0),IF(Voorblad!$C$6="80a",VLOOKUP(Tabel33[[#This Row],[Document omschrijving]],'Gegevens documentatie'!D:AE,8,0),IF(Voorblad!$C$6="81",VLOOKUP(Tabel33[[#This Row],[Document omschrijving]],'Gegevens documentatie'!D:AE,9,0),IF(Voorblad!$C$6="36a",VLOOKUP(Tabel33[[#This Row],[Document omschrijving]],'Gegevens documentatie'!D:AE,10,0),IF(Voorblad!$C$6="28",VLOOKUP(Tabel33[[#This Row],[Document omschrijving]],'Gegevens documentatie'!D:AE,11,0),IF(Voorblad!$C$6="28a",VLOOKUP(Tabel33[[#This Row],[Document omschrijving]],'Gegevens documentatie'!D:AE,12,0),IF(Voorblad!$C$6="48a",VLOOKUP(Tabel33[[#This Row],[Document omschrijving]],'Gegevens documentatie'!D:AE,13,0),IF(Voorblad!$C$6="54",VLOOKUP(Tabel33[[#This Row],[Document omschrijving]],'Gegevens documentatie'!D:AE,14,0),IF(Voorblad!$C$6="54a",VLOOKUP(Tabel33[[#This Row],[Document omschrijving]],'Gegevens documentatie'!D:AE,15,0),IF(Voorblad!$C$6="56",VLOOKUP(Tabel33[[#This Row],[Document omschrijving]],'Gegevens documentatie'!D:AE,16,0),IF(Voorblad!$C$6="56a",VLOOKUP(Tabel33[[#This Row],[Document omschrijving]],'Gegevens documentatie'!D:AE,17,0),IF(Voorblad!$C$6="93",VLOOKUP(Tabel33[[#This Row],[Document omschrijving]],'Gegevens documentatie'!D:AE,18,0),IF(Voorblad!$C$6="93a",VLOOKUP(Tabel33[[#This Row],[Document omschrijving]],'Gegevens documentatie'!D:AE,19,0),IF(Voorblad!$C$6="105a",VLOOKUP(Tabel33[[#This Row],[Document omschrijving]],'Gegevens documentatie'!D:AE,20,0),IF(Voorblad!$C$6="31",VLOOKUP(Tabel33[[#This Row],[Document omschrijving]],'Gegevens documentatie'!D:AE,21,0),IF(Voorblad!$C$6="33",VLOOKUP(Tabel33[[#This Row],[Document omschrijving]],'Gegevens documentatie'!D:AE,22,0),IF(Voorblad!$C$6="33a",VLOOKUP(Tabel33[[#This Row],[Document omschrijving]],'Gegevens documentatie'!D:AE,23,0),IF(Voorblad!$C$6="37",VLOOKUP(Tabel33[[#This Row],[Document omschrijving]],'Gegevens documentatie'!D:AE,24,0),IF(Voorblad!$C$6="91",VLOOKUP(Tabel33[[#This Row],[Document omschrijving]],'Gegevens documentatie'!D:AE,25,0),IF(Voorblad!$C$6="13",VLOOKUP(Tabel33[[#This Row],[Document omschrijving]],'Gegevens documentatie'!D:AE,26,0),IF(Voorblad!$C$6="58",VLOOKUP(Tabel33[[#This Row],[Document omschrijving]],'Gegevens documentatie'!D:AE,27,0),IF(Voorblad!$C$6="42",VLOOKUP(Tabel33[[#This Row],[Document omschrijving]],'Gegevens documentatie'!D:AE,28,0),""))))))))))))))))))))))) -> verplicht | E10: Ja | F10: VSP CIV | H10: =VLOOKUP(Tabel33[[#This Row],[Document omschrijving]],'Gegevens documentatie'!D:AF,29,0) -> PDF | I10: =IF(Tabel33[[#This Row],[1. Opleveren]]="ja",_xlfn.CONCAT(COUNTIF(Opleverlijst!P:P,Tabel33[[#This Row],[Code Meridian]])," ","geleverd"),"") -> 0 geleverd | J10: =IF(Tabel33[[#This Row],[1. Opleveren]]="ja",_xlfn.CONCAT(COUNTIFS(Opleverlijst!H:H,"as-built",Opleverlijst!P:P,Tabel33[[#This Row],[Code Meridian]])," ","As-built"),"") -> 0 As-built
A11: Engineeringsdocumenten | B11: Civiel bouwkundige Funderingsberekening | C11: CB1_7 | D11: =IF(ISNA(IF(Voorblad!$C$6="27a",VLOOKUP(Tabel33[[#This Row],[Document omschrijving]],'Gegevens documentatie'!D:AE,7,0),IF(Voorblad!$C$6="80a",VLOOKUP(Tabel33[[#This Row],[Document omschrijving]],'Gegevens documentatie'!D:AE,8,0),IF(Voorblad!$C$6="81",VLOOKUP(Tabel33[[#This Row],[Document omschrijving]],'Gegevens documentatie'!D:AE,9,0),IF(Voorblad!$C$6="36a",VLOOKUP(Tabel33[[#This Row],[Document omschrijving]],'Gegevens documentatie'!D:AE,10,0),IF(Voorblad!$C$6="28",VLOOKUP(Tabel33[[#This Row],[Document omschrijving]],'Gegevens documentatie'!D:AE,11,0),IF(Voorblad!$C$6="28a",VLOOKUP(Tabel33[[#This Row],[Document omschrijving]],'Gegevens documentatie'!D:AE,12,0),IF(Voorblad!$C$6="48a",VLOOKUP(Tabel33[[#This Row],[Document omschrijving]],'Gegevens documentatie'!D:AE,13,0),IF(Voorblad!$C$6="54",VLOOKUP(Tabel33[[#This Row],[Document omschrijving]],'Gegevens documentatie'!D:AE,14,0),IF(Voorblad!$C$6="54a",VLOOKUP(Tabel33[[#This Row],[Document omschrijving]],'Gegevens documentatie'!D:AE,15,0),IF(Voorblad!$C$6="56",VLOOKUP(Tabel33[[#This Row],[Document omschrijving]],'Gegevens documentatie'!D:AE,16,0),IF(Voorblad!$C$6="56a",VLOOKUP(Tabel33[[#This Row],[Document omschrijving]],'Gegevens documentatie'!D:AE,17,0),IF(Voorblad!$C$6="93",VLOOKUP(Tabel33[[#This Row],[Document omschrijving]],'Gegevens documentatie'!D:AE,18,0),IF(Voorblad!$C$6="93a",VLOOKUP(Tabel33[[#This Row],[Document omschrijving]],'Gegevens documentatie'!D:AE,19,0),IF(Voorblad!$C$6="105a",VLOOKUP(Tabel33[[#This Row],[Document omschrijving]],'Gegevens documentatie'!D:AE,20,0),IF(Voorblad!$C$6="31",VLOOKUP(Tabel33[[#This Row],[Document omschrijving]],'Gegevens documentatie'!D:AE,21,0),IF(Voorblad!$C$6="33",VLOOKUP(Tabel33[[#This Row],[Document omschrijving]],'Gegevens documentatie'!D:AE,22,0),IF(Voorblad!$C$6="33a",VLOOKUP(Tabel33[[#This Row],[Document omschrijving]],'Gegevens documentatie'!D:AE,23,0),IF(Voorblad!$C$6="37",VLOOKUP(Tabel33[[#This Row],[Document omschrijving]],'Gegevens documentatie'!D:AE,24,0),IF(Voorblad!$C$6="91",VLOOKUP(Tabel33[[#This Row],[Document omschrijving]],'Gegevens documentatie'!D:AE,25,0),IF(Voorblad!$C$6="13",VLOOKUP(Tabel33[[#This Row],[Document omschrijving]],'Gegevens documentatie'!D:AE,26,0),IF(Voorblad!$C$6="58",VLOOKUP(Tabel33[[#This Row],[Document omschrijving]],'Gegevens documentatie'!D:AE,27,0),IF(Voorblad!$C$6="42",VLOOKUP(Tabel33[[#This Row],[Document omschrijving]],'Gegevens documentatie'!D:AE,28,0),""))))))))))))))))))))))),"verplicht",IF(Voorblad!$C$6="27a",VLOOKUP(Tabel33[[#This Row],[Document omschrijving]],'Gegevens documentatie'!D:AE,7,0),IF(Voorblad!$C$6="80a",VLOOKUP(Tabel33[[#This Row],[Document omschrijving]],'Gegevens documentatie'!D:AE,8,0),IF(Voorblad!$C$6="81",VLOOKUP(Tabel33[[#This Row],[Document omschrijving]],'Gegevens documentatie'!D:AE,9,0),IF(Voorblad!$C$6="36a",VLOOKUP(Tabel33[[#This Row],[Document omschrijving]],'Gegevens documentatie'!D:AE,10,0),IF(Voorblad!$C$6="28",VLOOKUP(Tabel33[[#This Row],[Document omschrijving]],'Gegevens documentatie'!D:AE,11,0),IF(Voorblad!$C$6="28a",VLOOKUP(Tabel33[[#This Row],[Document omschrijving]],'Gegevens documentatie'!D:AE,12,0),IF(Voorblad!$C$6="48a",VLOOKUP(Tabel33[[#This Row],[Document omschrijving]],'Gegevens documentatie'!D:AE,13,0),IF(Voorblad!$C$6="54",VLOOKUP(Tabel33[[#This Row],[Document omschrijving]],'Gegevens documentatie'!D:AE,14,0),IF(Voorblad!$C$6="54a",VLOOKUP(Tabel33[[#This Row],[Document omschrijving]],'Gegevens documentatie'!D:AE,15,0),IF(Voorblad!$C$6="56",VLOOKUP(Tabel33[[#This Row],[Document omschrijving]],'Gegevens documentatie'!D:AE,16,0),IF(Voorblad!$C$6="56a",VLOOKUP(Tabel33[[#This Row],[Document omschrijving]],'Gegevens documentatie'!D:AE,17,0),IF(Voorblad!$C$6="93",VLOOKUP(Tabel33[[#This Row],[Document omschrijving]],'Gegevens documentatie'!D:AE,18,0),IF(Voorblad!$C$6="93a",VLOOKUP(Tabel33[[#This Row],[Document omschrijving]],'Gegevens documentatie'!D:AE,19,0),IF(Voorblad!$C$6="105a",VLOOKUP(Tabel33[[#This Row],[Document omschrijving]],'Gegevens documentatie'!D:AE,20,0),IF(Voorblad!$C$6="31",VLOOKUP(Tabel33[[#This Row],[Document omschrijving]],'Gegevens documentatie'!D:AE,21,0),IF(Voorblad!$C$6="33",VLOOKUP(Tabel33[[#This Row],[Document omschrijving]],'Gegevens documentatie'!D:AE,22,0),IF(Voorblad!$C$6="33a",VLOOKUP(Tabel33[[#This Row],[Document omschrijving]],'Gegevens documentatie'!D:AE,23,0),IF(Voorblad!$C$6="37",VLOOKUP(Tabel33[[#This Row],[Document omschrijving]],'Gegevens documentatie'!D:AE,24,0),IF(Voorblad!$C$6="91",VLOOKUP(Tabel33[[#This Row],[Document omschrijving]],'Gegevens documentatie'!D:AE,25,0),IF(Voorblad!$C$6="13",VLOOKUP(Tabel33[[#This Row],[Document omschrijving]],'Gegevens documentatie'!D:AE,26,0),IF(Voorblad!$C$6="58",VLOOKUP(Tabel33[[#This Row],[Document omschrijving]],'Gegevens documentatie'!D:AE,27,0),IF(Voorblad!$C$6="42",VLOOKUP(Tabel33[[#This Row],[Document omschrijving]],'Gegevens documentatie'!D:AE,28,0),""))))))))))))))))))))))) -> verplicht | E11: Ja | F11: VSP CIV | H11: =VLOOKUP(Tabel33[[#This Row],[Document omschrijving]],'Gegevens documentatie'!D:AF,29,0) -> PDF | I11: =IF(Tabel33[[#This Row],[1. Opleveren]]="ja",_xlfn.CONCAT(COUNTIF(Opleverlijst!P:P,Tabel33[[#This Row],[Code Meridian]])," ","geleverd"),"") -> 0 geleverd | J11: =IF(Tabel33[[#This Row],[1. Opleveren]]="ja",_xlfn.CONCAT(COUNTIFS(Opleverlijst!H:H,"as-built",Opleverlijst!P:P,Tabel33[[#This Row],[Code Meridian]])," ","As-built"),"") -> 0 As-built
A12: Engineeringsdocumenten | B12: Instrumentatielijst | C12: ET1.9 | D12: =IF(ISNA(IF(Voorblad!$C$6="27a",VLOOKUP(Tabel33[[#This Row],[Document omschrijving]],'Gegevens documentatie'!D:AE,7,0),IF(Voorblad!$C$6="80a",VLOOKUP(Tabel33[[#This Row],[Document omschrijving]],'Gegevens documentatie'!D:AE,8,0),IF(Voorblad!$C$6="81",VLOOKUP(Tabel33[[#This Row],[Document omschrijving]],'Gegevens documentatie'!D:AE,9,0),IF(Voorblad!$C$6="36a",VLOOKUP(Tabel33[[#This Row],[Document omschrijving]],'Gegevens documentatie'!D:AE,10,0),IF(Voorblad!$C$6="28",VLOOKUP(Tabel33[[#This Row],[Document omschrijving]],'Gegevens documentatie'!D:AE,11,0),IF(Voorblad!$C$6="28a",VLOOKUP(Tabel33[[#This Row],[Document omschrijving]],'Gegevens documentatie'!D:AE,12,0),IF(Voorblad!$C$6="48a",VLOOKUP(Tabel33[[#This Row],[Document omschrijving]],'Gegevens documentatie'!D:AE,13,0),IF(Voorblad!$C$6="54",VLOOKUP(Tabel33[[#This Row],[Document omschrijving]],'Gegevens documentatie'!D:AE,14,0),IF(Voorblad!$C$6="54a",VLOOKUP(Tabel33[[#This Row],[Document omschrijving]],'Gegevens documentatie'!D:AE,15,0),IF(Voorblad!$C$6="56",VLOOKUP(Tabel33[[#This Row],[Document omschrijving]],'Gegevens documentatie'!D:AE,16,0),IF(Voorblad!$C$6="56a",VLOOKUP(Tabel33[[#This Row],[Document omschrijving]],'Gegevens documentatie'!D:AE,17,0),IF(Voorblad!$C$6="93",VLOOKUP(Tabel33[[#This Row],[Document omschrijving]],'Gegevens documentatie'!D:AE,18,0),IF(Voorblad!$C$6="93a",VLOOKUP(Tabel33[[#This Row],[Document omschrijving]],'Gegevens documentatie'!D:AE,19,0),IF(Voorblad!$C$6="105a",VLOOKUP(Tabel33[[#This Row],[Document omschrijving]],'Gegevens documentatie'!D:AE,20,0),IF(Voorblad!$C$6="31",VLOOKUP(Tabel33[[#This Row],[Document omschrijving]],'Gegevens documentatie'!D:AE,21,0),IF(Voorblad!$C$6="33",VLOOKUP(Tabel33[[#This Row],[Document omschrijving]],'Gegevens documentatie'!D:AE,22,0),IF(Voorblad!$C$6="33a",VLOOKUP(Tabel33[[#This Row],[Document omschrijving]],'Gegevens documentatie'!D:AE,23,0),IF(Voorblad!$C$6="37",VLOOKUP(Tabel33[[#This Row],[Document omschrijving]],'Gegevens documentatie'!D:AE,24,0),IF(Voorblad!$C$6="91",VLOOKUP(Tabel33[[#This Row],[Document omschrijving]],'Gegevens documentatie'!D:AE,25,0),IF(Voorblad!$C$6="13",VLOOKUP(Tabel33[[#This Row],[Document omschrijving]],'Gegevens documentatie'!D:AE,26,0),IF(Voorblad!$C$6="58",VLOOKUP(Tabel33[[#This Row],[Document omschrijving]],'Gegevens documentatie'!D:AE,27,0),IF(Voorblad!$C$6="42",VLOOKUP(Tabel33[[#This Row],[Document omschrijving]],'Gegevens documentatie'!D:AE,28,0),""))))))))))))))))))))))),"verplicht",IF(Voorblad!$C$6="27a",VLOOKUP(Tabel33[[#This Row],[Document omschrijving]],'Gegevens documentatie'!D:AE,7,0),IF(Voorblad!$C$6="80a",VLOOKUP(Tabel33[[#This Row],[Document omschrijving]],'Gegevens documentatie'!D:AE,8,0),IF(Voorblad!$C$6="81",VLOOKUP(Tabel33[[#This Row],[Document omschrijving]],'Gegevens documentatie'!D:AE,9,0),IF(Voorblad!$C$6="36a",VLOOKUP(Tabel33[[#This Row],[Document omschrijving]],'Gegevens documentatie'!D:AE,10,0),IF(Voorblad!$C$6="28",VLOOKUP(Tabel33[[#This Row],[Document omschrijving]],'Gegevens documentatie'!D:AE,11,0),IF(Voorblad!$C$6="28a",VLOOKUP(Tabel33[[#This Row],[Document omschrijving]],'Gegevens documentatie'!D:AE,12,0),IF(Voorblad!$C$6="48a",VLOOKUP(Tabel33[[#This Row],[Document omschrijving]],'Gegevens documentatie'!D:AE,13,0),IF(Voorblad!$C$6="54",VLOOKUP(Tabel33[[#This Row],[Document omschrijving]],'Gegevens documentatie'!D:AE,14,0),IF(Voorblad!$C$6="54a",VLOOKUP(Tabel33[[#This Row],[Document omschrijving]],'Gegevens documentatie'!D:AE,15,0),IF(Voorblad!$C$6="56",VLOOKUP(Tabel33[[#This Row],[Document omschrijving]],'Gegevens documentatie'!D:AE,16,0),IF(Voorblad!$C$6="56a",VLOOKUP(Tabel33[[#This Row],[Document omschrijving]],'Gegevens documentatie'!D:AE,17,0),IF(Voorblad!$C$6="93",VLOOKUP(Tabel33[[#This Row],[Document omschrijving]],'Gegevens documentatie'!D:AE,18,0),IF(Voorblad!$C$6="93a",VLOOKUP(Tabel33[[#This Row],[Document omschrijving]],'Gegevens documentatie'!D:AE,19,0),IF(Voorblad!$C$6="105a",VLOOKUP(Tabel33[[#This Row],[Document omschrijving]],'Gegevens documentatie'!D:AE,20,0),IF(Voorblad!$C$6="31",VLOOKUP(Tabel33[[#This Row],[Document omschrijving]],'Gegevens documentatie'!D:AE,21,0),IF(Voorblad!$C$6="33",VLOOKUP(Tabel33[[#This Row],[Document omschrijving]],'Gegevens documentatie'!D:AE,22,0),IF(Voorblad!$C$6="33a",VLOOKUP(Tabel33[[#This Row],[Document omschrijving]],'Gegevens documentatie'!D:AE,23,0),IF(Voorblad!$C$6="37",VLOOKUP(Tabel33[[#This Row],[Document omschrijving]],'Gegevens documentatie'!D:AE,24,0),IF(Voorblad!$C$6="91",VLOOKUP(Tabel33[[#This Row],[Document omschrijving]],'Gegevens documentatie'!D:AE,25,0),IF(Voorblad!$C$6="13",VLOOKUP(Tabel33[[#This Row],[Document omschrijving]],'Gegevens documentatie'!D:AE,26,0),IF(Voorblad!$C$6="58",VLOOKUP(Tabel33[[#This Row],[Document omschrijving]],'Gegevens documentatie'!D:AE,27,0),IF(Voorblad!$C$6="42",VLOOKUP(Tabel33[[#This Row],[Document omschrijving]],'Gegevens documentatie'!D:AE,28,0),""))))))))))))))))))))))) -> verplicht | E12: Ja | F12: VSP E en PA | H12: =VLOOKUP(Tabel33[[#This Row],[Document omschrijving]],'Gegevens documentatie'!D:AF,29,0) -> XLSX | I12: =IF(Tabel33[[#This Row],[1. Opleveren]]="ja",_xlfn.CONCAT(COUNTIF(Opleverlijst!P:P,Tabel33[[#This Row],[Code Meridian]])," ","geleverd"),"") -> 0 geleverd | J12: =IF(Tabel33[[#This Row],[1. Opleveren]]="ja",_xlfn.CONCAT(COUNTIFS(Opleverlijst!H:H,"as-built",Opleverlijst!P:P,Tabel33[[#This Row],[Code Meridian]])," ","As-built"),"") -> 0 As-built
A13: Engineeringsdocumenten | B13: Tagnummerlijst | C13: ET1_10 | D13: =IF(ISNA(IF(Voorblad!$C$6="27a",VLOOKUP(Tabel33[[#This Row],[Document omschrijving]],'Gegevens documentatie'!D:AE,7,0),IF(Voorblad!$C$6="80a",VLOOKUP(Tabel33[[#This Row],[Document omschrijving]],'Gegevens documentatie'!D:AE,8,0),IF(Voorblad!$C$6="81",VLOOKUP(Tabel33[[#This Row],[Document omschrijving]],'Gegevens documentatie'!D:AE,9,0),IF(Voorblad!$C$6="36a",VLOOKUP(Tabel33[[#This Row],[Document omschrijving]],'Gegevens documentatie'!D:AE,10,0),IF(Voorblad!$C$6="28",VLOOKUP(Tabel33[[#This Row],[Document omschrijving]],'Gegevens documentatie'!D:AE,11,0),IF(Voorblad!$C$6="28a",VLOOKUP(Tabel33[[#This Row],[Document omschrijving]],'Gegevens documentatie'!D:AE,12,0),IF(Voorblad!$C$6="48a",VLOOKUP(Tabel33[[#This Row],[Document omschrijving]],'Gegevens documentatie'!D:AE,13,0),IF(Voorblad!$C$6="54",VLOOKUP(Tabel33[[#This Row],[Document omschrijving]],'Gegevens documentatie'!D:AE,14,0),IF(Voorblad!$C$6="54a",VLOOKUP(Tabel33[[#This Row],[Document omschrijving]],'Gegevens documentatie'!D:AE,15,0),IF(Voorblad!$C$6="56",VLOOKUP(Tabel33[[#This Row],[Document omschrijving]],'Gegevens documentatie'!D:AE,16,0),IF(Voorblad!$C$6="56a",VLOOKUP(Tabel33[[#This Row],[Document omschrijving]],'Gegevens documentatie'!D:AE,17,0),IF(Voorblad!$C$6="93",VLOOKUP(Tabel33[[#This Row],[Document omschrijving]],'Gegevens documentatie'!D:AE,18,0),IF(Voorblad!$C$6="93a",VLOOKUP(Tabel33[[#This Row],[Document omschrijving]],'Gegevens documentatie'!D:AE,19,0),IF(Voorblad!$C$6="105a",VLOOKUP(Tabel33[[#This Row],[Document omschrijving]],'Gegevens documentatie'!D:AE,20,0),IF(Voorblad!$C$6="31",VLOOKUP(Tabel33[[#This Row],[Document omschrijving]],'Gegevens documentatie'!D:AE,21,0),IF(Voorblad!$C$6="33",VLOOKUP(Tabel33[[#This Row],[Document omschrijving]],'Gegevens documentatie'!D:AE,22,0),IF(Voorblad!$C$6="33a",VLOOKUP(Tabel33[[#This Row],[Document omschrijving]],'Gegevens documentatie'!D:AE,23,0),IF(Voorblad!$C$6="37",VLOOKUP(Tabel33[[#This Row],[Document omschrijving]],'Gegevens documentatie'!D:AE,24,0),IF(Voorblad!$C$6="91",VLOOKUP(Tabel33[[#This Row],[Document omschrijving]],'Gegevens documentatie'!D:AE,25,0),IF(Voorblad!$C$6="13",VLOOKUP(Tabel33[[#This Row],[Document omschrijving]],'Gegevens documentatie'!D:AE,26,0),IF(Voorblad!$C$6="58",VLOOKUP(Tabel33[[#This Row],[Document omschrijving]],'Gegevens documentatie'!D:AE,27,0),IF(Voorblad!$C$6="42",VLOOKUP(Tabel33[[#This Row],[Document omschrijving]],'Gegevens documentatie'!D:AE,28,0),""))))))))))))))))))))))),"verplicht",IF(Voorblad!$C$6="27a",VLOOKUP(Tabel33[[#This Row],[Document omschrijving]],'Gegevens documentatie'!D:AE,7,0),IF(Voorblad!$C$6="80a",VLOOKUP(Tabel33[[#This Row],[Document omschrijving]],'Gegevens documentatie'!D:AE,8,0),IF(Voorblad!$C$6="81",VLOOKUP(Tabel33[[#This Row],[Document omschrijving]],'Gegevens documentatie'!D:AE,9,0),IF(Voorblad!$C$6="36a",VLOOKUP(Tabel33[[#This Row],[Document omschrijving]],'Gegevens documentatie'!D:AE,10,0),IF(Voorblad!$C$6="28",VLOOKUP(Tabel33[[#This Row],[Document omschrijving]],'Gegevens documentatie'!D:AE,11,0),IF(Voorblad!$C$6="28a",VLOOKUP(Tabel33[[#This Row],[Document omschrijving]],'Gegevens documentatie'!D:AE,12,0),IF(Voorblad!$C$6="48a",VLOOKUP(Tabel33[[#This Row],[Document omschrijving]],'Gegevens documentatie'!D:AE,13,0),IF(Voorblad!$C$6="54",VLOOKUP(Tabel33[[#This Row],[Document omschrijving]],'Gegevens documentatie'!D:AE,14,0),IF(Voorblad!$C$6="54a",VLOOKUP(Tabel33[[#This Row],[Document omschrijving]],'Gegevens documentatie'!D:AE,15,0),IF(Voorblad!$C$6="56",VLOOKUP(Tabel33[[#This Row],[Document omschrijving]],'Gegevens documentatie'!D:AE,16,0),IF(Voorblad!$C$6="56a",VLOOKUP(Tabel33[[#This Row],[Document omschrijving]],'Gegevens documentatie'!D:AE,17,0),IF(Voorblad!$C$6="93",VLOOKUP(Tabel33[[#This Row],[Document omschrijving]],'Gegevens documentatie'!D:AE,18,0),IF(Voorblad!$C$6="93a",VLOOKUP(Tabel33[[#This Row],[Document omschrijving]],'Gegevens documentatie'!D:AE,19,0),IF(Voorblad!$C$6="105a",VLOOKUP(Tabel33[[#This Row],[Document omschrijving]],'Gegevens documentatie'!D:AE,20,0),IF(Voorblad!$C$6="31",VLOOKUP(Tabel33[[#This Row],[Document omschrijving]],'Gegevens documentatie'!D:AE,21,0),IF(Voorblad!$C$6="33",VLOOKUP(Tabel33[[#This Row],[Document omschrijving]],'Gegevens documentatie'!D:AE,22,0),IF(Voorblad!$C$6="33a",VLOOKUP(Tabel33[[#This Row],[Document omschrijving]],'Gegevens documentatie'!D:AE,23,0),IF(Voorblad!$C$6="37",VLOOKUP(Tabel33[[#This Row],[Document omschrijving]],'Gegevens documentatie'!D:AE,24,0),IF(Voorblad!$C$6="91",VLOOKUP(Tabel33[[#This Row],[Document omschrijving]],'Gegevens documentatie'!D:AE,25,0),IF(Voorblad!$C$6="13",VLOOKUP(Tabel33[[#This Row],[Document omschrijving]],'Gegevens documentatie'!D:AE,26,0),IF(Voorblad!$C$6="58",VLOOKUP(Tabel33[[#This Row],[Document omschrijving]],'Gegevens documentatie'!D:AE,27,0),IF(Voorblad!$C$6="42",VLOOKUP(Tabel33[[#This Row],[Document omschrijving]],'Gegevens documentatie'!D:AE,28,0),""))))))))))))))))))))))) -> verplicht | E13: Nee | F13: Staan op PID | H13: =VLOOKUP(Tabel33[[#This Row],[Document omschrijving]],'Gegevens documentatie'!D:AF,29,0) -> XLSX | I13: =IF(Tabel33[[#This Row],[1. Opleveren]]="ja",_xlfn.CONCAT(COUNTIF(Opleverlijst!P:P,Tabel33[[#This Row],[Code Meridian]])," ","geleverd"),"") | J13: =IF(Tabel33[[#This Row],[1. Opleveren]]="ja",_xlfn.CONCAT(COUNTIFS(Opleverlijst!H:H,"as-built",Opleverlijst!P:P,Tabel33[[#This Row],[Code Meridian]])," ","As-built"),"")
A14: Engineeringsdocumenten | B14: Verbruikerslijst | C14: ET1_2 | D14: =IF(ISNA(IF(Voorblad!$C$6="27a",VLOOKUP(Tabel33[[#This Row],[Document omschrijving]],'Gegevens documentatie'!D:AE,7,0),IF(Voorblad!$C$6="80a",VLOOKUP(Tabel33[[#This Row],[Document omschrijving]],'Gegevens documentatie'!D:AE,8,0),IF(Voorblad!$C$6="81",VLOOKUP(Tabel33[[#This Row],[Document omschrijving]],'Gegevens documentatie'!D:AE,9,0),IF(Voorblad!$C$6="36a",VLOOKUP(Tabel33[[#This Row],[Document omschrijving]],'Gegevens documentatie'!D:AE,10,0),IF(Voorblad!$C$6="28",VLOOKUP(Tabel33[[#This Row],[Document omschrijving]],'Gegevens documentatie'!D:AE,11,0),IF(Voorblad!$C$6="28a",VLOOKUP(Tabel33[[#This Row],[Document omschrijving]],'Gegevens documentatie'!D:AE,12,0),IF(Voorblad!$C$6="48a",VLOOKUP(Tabel33[[#This Row],[Document omschrijving]],'Gegevens documentatie'!D:AE,13,0),IF(Voorblad!$C$6="54",VLOOKUP(Tabel33[[#This Row],[Document omschrijving]],'Gegevens documentatie'!D:AE,14,0),IF(Voorblad!$C$6="54a",VLOOKUP(Tabel33[[#This Row],[Document omschrijving]],'Gegevens documentatie'!D:AE,15,0),IF(Voorblad!$C$6="56",VLOOKUP(Tabel33[[#This Row],[Document omschrijving]],'Gegevens documentatie'!D:AE,16,0),IF(Voorblad!$C$6="56a",VLOOKUP(Tabel33[[#This Row],[Document omschrijving]],'Gegevens documentatie'!D:AE,17,0),IF(Voorblad!$C$6="93",VLOOKUP(Tabel33[[#This Row],[Document omschrijving]],'Gegevens documentatie'!D:AE,18,0),IF(Voorblad!$C$6="93a",VLOOKUP(Tabel33[[#This Row],[Document omschrijving]],'Gegevens documentatie'!D:AE,19,0),IF(Voorblad!$C$6="105a",VLOOKUP(Tabel33[[#This Row],[Document omschrijving]],'Gegevens documentatie'!D:AE,20,0),IF(Voorblad!$C$6="31",VLOOKUP(Tabel33[[#This Row],[Document omschrijving]],'Gegevens documentatie'!D:AE,21,0),IF(Voorblad!$C$6="33",VLOOKUP(Tabel33[[#This Row],[Document omschrijving]],'Gegevens documentatie'!D:AE,22,0),IF(Voorblad!$C$6="33a",VLOOKUP(Tabel33[[#This Row],[Document omschrijving]],'Gegevens documentatie'!D:AE,23,0),IF(Voorblad!$C$6="37",VLOOKUP(Tabel33[[#This Row],[Document omschrijving]],'Gegevens documentatie'!D:AE,24,0),IF(Voorblad!$C$6="91",VLOOKUP(Tabel33[[#This Row],[Document omschrijving]],'Gegevens documentatie'!D:AE,25,0),IF(Voorblad!$C$6="13",VLOOKUP(Tabel33[[#This Row],[Document omschrijving]],'Gegevens documentatie'!D:AE,26,0),IF(Voorblad!$C$6="58",VLOOKUP(Tabel33[[#This Row],[Document omschrijving]],'Gegevens documentatie'!D:AE,27,0),IF(Voorblad!$C$6="42",VLOOKUP(Tabel33[[#This Row],[Document omschrijving]],'Gegevens documentatie'!D:AE,28,0),""))))))))))))))))))))))),"verplicht",IF(Voorblad!$C$6="27a",VLOOKUP(Tabel33[[#This Row],[Document omschrijving]],'Gegevens documentatie'!D:AE,7,0),IF(Voorblad!$C$6="80a",VLOOKUP(Tabel33[[#This Row],[Document omschrijving]],'Gegevens documentatie'!D:AE,8,0),IF(Voorblad!$C$6="81",VLOOKUP(Tabel33[[#This Row],[Document omschrijving]],'Gegevens documentatie'!D:AE,9,0),IF(Voorblad!$C$6="36a",VLOOKUP(Tabel33[[#This Row],[Document omschrijving]],'Gegevens documentatie'!D:AE,10,0),IF(Voorblad!$C$6="28",VLOOKUP(Tabel33[[#This Row],[Document omschrijving]],'Gegevens documentatie'!D:AE,11,0),IF(Voorblad!$C$6="28a",VLOOKUP(Tabel33[[#This Row],[Document omschrijving]],'Gegevens documentatie'!D:AE,12,0),IF(Voorblad!$C$6="48a",VLOOKUP(Tabel33[[#This Row],[Document omschrijving]],'Gegevens documentatie'!D:AE,13,0),IF(Voorblad!$C$6="54",VLOOKUP(Tabel33[[#This Row],[Document omschrijving]],'Gegevens documentatie'!D:AE,14,0),IF(Voorblad!$C$6="54a",VLOOKUP(Tabel33[[#This Row],[Document omschrijving]],'Gegevens documentatie'!D:AE,15,0),IF(Voorblad!$C$6="56",VLOOKUP(Tabel33[[#This Row],[Document omschrijving]],'Gegevens documentatie'!D:AE,16,0),IF(Voorblad!$C$6="56a",VLOOKUP(Tabel33[[#This Row],[Document omschrijving]],'Gegevens documentatie'!D:AE,17,0),IF(Voorblad!$C$6="93",VLOOKUP(Tabel33[[#This Row],[Document omschrijving]],'Gegevens documentatie'!D:AE,18,0),IF(Voorblad!$C$6="93a",VLOOKUP(Tabel33[[#This Row],[Document omschrijving]],'Gegevens documentatie'!D:AE,19,0),IF(Voorblad!$C$6="105a",VLOOKUP(Tabel33[[#This Row],[Document omschrijving]],'Gegevens documentatie'!D:AE,20,0),IF(Voorblad!$C$6="31",VLOOKUP(Tabel33[[#This Row],[Document omschrijving]],'Gegevens documentatie'!D:AE,21,0),IF(Voorblad!$C$6="33",VLOOKUP(Tabel33[[#This Row],[Document omschrijving]],'Gegevens documentatie'!D:AE,22,0),IF(Voorblad!$C$6="33a",VLOOKUP(Tabel33[[#This Row],[Document omschrijving]],'Gegevens documentatie'!D:AE,23,0),IF(Voorblad!$C$6="37",VLOOKUP(Tabel33[[#This Row],[Document omschrijving]],'Gegevens documentatie'!D:AE,24,0),IF(Voorblad!$C$6="91",VLOOKUP(Tabel33[[#This Row],[Document omschrijving]],'Gegevens documentatie'!D:AE,25,0),IF(Voorblad!$C$6="13",VLOOKUP(Tabel33[[#This Row],[Document omschrijving]],'Gegevens documentatie'!D:AE,26,0),IF(Voorblad!$C$6="58",VLOOKUP(Tabel33[[#This Row],[Document omschrijving]],'Gegevens documentatie'!D:AE,27,0),IF(Voorblad!$C$6="42",VLOOKUP(Tabel33[[#This Row],[Document omschrijving]],'Gegevens documentatie'!D:AE,28,0),""))))))))))))))))))))))) -> verplicht | E14: Ja | F14: VSP E en PA | H14: =VLOOKUP(Tabel33[[#This Row],[Document omschrijving]],'Gegevens documentatie'!D:AF,29,0) -> XLSX | I14: =IF(Tabel33[[#This Row],[1. Opleveren]]="ja",_xlfn.CONCAT(COUNTIF(Opleverlijst!P:P,Tabel33[[#This Row],[Code Meridian]])," ","geleverd"),"") -> 0 geleverd | J14: =IF(Tabel33[[#This Row],[1. Opleveren]]="ja",_xlfn.CONCAT(COUNTIFS(Opleverlijst!H:H,"as-built",Opleverlijst!P:P,Tabel33[[#This Row],[Code Meridian]])," ","As-built"),"") -> 0 As-built
A15: Engineeringsdocumenten | B15: Kortsluitberekening | C15: ET1_5 | D15: =IF(ISNA(IF(Voorblad!$C$6="27a",VLOOKUP(Tabel33[[#This Row],[Document omschrijving]],'Gegevens documentatie'!D:AE,7,0),IF(Voorblad!$C$6="80a",VLOOKUP(Tabel33[[#This Row],[Document omschrijving]],'Gegevens documentatie'!D:AE,8,0),IF(Voorblad!$C$6="81",VLOOKUP(Tabel33[[#This Row],[Document omschrijving]],'Gegevens documentatie'!D:AE,9,0),IF(Voorblad!$C$6="36a",VLOOKUP(Tabel33[[#This Row],[Document omschrijving]],'Gegevens documentatie'!D:AE,10,0),IF(Voorblad!$C$6="28",VLOOKUP(Tabel33[[#This Row],[Document omschrijving]],'Gegevens documentatie'!D:AE,11,0),IF(Voorblad!$C$6="28a",VLOOKUP(Tabel33[[#This Row],[Document omschrijving]],'Gegevens documentatie'!D:AE,12,0),IF(Voorblad!$C$6="48a",VLOOKUP(Tabel33[[#This Row],[Document omschrijving]],'Gegevens documentatie'!D:AE,13,0),IF(Voorblad!$C$6="54",VLOOKUP(Tabel33[[#This Row],[Document omschrijving]],'Gegevens documentatie'!D:AE,14,0),IF(Voorblad!$C$6="54a",VLOOKUP(Tabel33[[#This Row],[Document omschrijving]],'Gegevens documentatie'!D:AE,15,0),IF(Voorblad!$C$6="56",VLOOKUP(Tabel33[[#This Row],[Document omschrijving]],'Gegevens documentatie'!D:AE,16,0),IF(Voorblad!$C$6="56a",VLOOKUP(Tabel33[[#This Row],[Document omschrijving]],'Gegevens documentatie'!D:AE,17,0),IF(Voorblad!$C$6="93",VLOOKUP(Tabel33[[#This Row],[Document omschrijving]],'Gegevens documentatie'!D:AE,18,0),IF(Voorblad!$C$6="93a",VLOOKUP(Tabel33[[#This Row],[Document omschrijving]],'Gegevens documentatie'!D:AE,19,0),IF(Voorblad!$C$6="105a",VLOOKUP(Tabel33[[#This Row],[Document omschrijving]],'Gegevens documentatie'!D:AE,20,0),IF(Voorblad!$C$6="31",VLOOKUP(Tabel33[[#This Row],[Document omschrijving]],'Gegevens documentatie'!D:AE,21,0),IF(Voorblad!$C$6="33",VLOOKUP(Tabel33[[#This Row],[Document omschrijving]],'Gegevens documentatie'!D:AE,22,0),IF(Voorblad!$C$6="33a",VLOOKUP(Tabel33[[#This Row],[Document omschrijving]],'Gegevens documentatie'!D:AE,23,0),IF(Voorblad!$C$6="37",VLOOKUP(Tabel33[[#This Row],[Document omschrijving]],'Gegevens documentatie'!D:AE,24,0),IF(Voorblad!$C$6="91",VLOOKUP(Tabel33[[#This Row],[Document omschrijving]],'Gegevens documentatie'!D:AE,25,0),IF(Voorblad!$C$6="13",VLOOKUP(Tabel33[[#This Row],[Document omschrijving]],'Gegevens documentatie'!D:AE,26,0),IF(Voorblad!$C$6="58",VLOOKUP(Tabel33[[#This Row],[Document omschrijving]],'Gegevens documentatie'!D:AE,27,0),IF(Voorblad!$C$6="42",VLOOKUP(Tabel33[[#This Row],[Document omschrijving]],'Gegevens documentatie'!D:AE,28,0),""))))))))))))))))))))))),"verplicht",IF(Voorblad!$C$6="27a",VLOOKUP(Tabel33[[#This Row],[Document omschrijving]],'Gegevens documentatie'!D:AE,7,0),IF(Voorblad!$C$6="80a",VLOOKUP(Tabel33[[#This Row],[Document omschrijving]],'Gegevens documentatie'!D:AE,8,0),IF(Voorblad!$C$6="81",VLOOKUP(Tabel33[[#This Row],[Document omschrijving]],'Gegevens documentatie'!D:AE,9,0),IF(Voorblad!$C$6="36a",VLOOKUP(Tabel33[[#This Row],[Document omschrijving]],'Gegevens documentatie'!D:AE,10,0),IF(Voorblad!$C$6="28",VLOOKUP(Tabel33[[#This Row],[Document omschrijving]],'Gegevens documentatie'!D:AE,11,0),IF(Voorblad!$C$6="28a",VLOOKUP(Tabel33[[#This Row],[Document omschrijving]],'Gegevens documentatie'!D:AE,12,0),IF(Voorblad!$C$6="48a",VLOOKUP(Tabel33[[#This Row],[Document omschrijving]],'Gegevens documentatie'!D:AE,13,0),IF(Voorblad!$C$6="54",VLOOKUP(Tabel33[[#This Row],[Document omschrijving]],'Gegevens documentatie'!D:AE,14,0),IF(Voorblad!$C$6="54a",VLOOKUP(Tabel33[[#This Row],[Document omschrijving]],'Gegevens documentatie'!D:AE,15,0),IF(Voorblad!$C$6="56",VLOOKUP(Tabel33[[#This Row],[Document omschrijving]],'Gegevens documentatie'!D:AE,16,0),IF(Voorblad!$C$6="56a",VLOOKUP(Tabel33[[#This Row],[Document omschrijving]],'Gegevens documentatie'!D:AE,17,0),IF(Voorblad!$C$6="93",VLOOKUP(Tabel33[[#This Row],[Document omschrijving]],'Gegevens documentatie'!D:AE,18,0),IF(Voorblad!$C$6="93a",VLOOKUP(Tabel33[[#This Row],[Document omschrijving]],'Gegevens documentatie'!D:AE,19,0),IF(Voorblad!$C$6="105a",VLOOKUP(Tabel33[[#This Row],[Document omschrijving]],'Gegevens documentatie'!D:AE,20,0),IF(Voorblad!$C$6="31",VLOOKUP(Tabel33[[#This Row],[Document omschrijving]],'Gegevens documentatie'!D:AE,21,0),IF(Voorblad!$C$6="33",VLOOKUP(Tabel33[[#This Row],[Document omschrijving]],'Gegevens documentatie'!D:AE,22,0),IF(Voorblad!$C$6="33a",VLOOKUP(Tabel33[[#This Row],[Document omschrijving]],'Gegevens documentatie'!D:AE,23,0),IF(Voorblad!$C$6="37",VLOOKUP(Tabel33[[#This Row],[Document omschrijving]],'Gegevens documentatie'!D:AE,24,0),IF(Voorblad!$C$6="91",VLOOKUP(Tabel33[[#This Row],[Document omschrijving]],'Gegevens documentatie'!D:AE,25,0),IF(Voorblad!$C$6="13",VLOOKUP(Tabel33[[#This Row],[Document omschrijving]],'Gegevens documentatie'!D:AE,26,0),IF(Voorblad!$C$6="58",VLOOKUP(Tabel33[[#This Row],[Document omschrijving]],'Gegevens documentatie'!D:AE,27,0),IF(Voorblad!$C$6="42",VLOOKUP(Tabel33[[#This Row],[Document omschrijving]],'Gegevens documentatie'!D:AE,28,0),""))))))))))))))))))))))) -> verplicht | E15: Ja | F15: VSP E | H15: =VLOOKUP(Tabel33[[#This Row],[Document omschrijving]],'Gegevens documentatie'!D:AF,29,0) -> PDF | I15: =IF(Tabel33[[#This Row],[1. Opleveren]]="ja",_xlfn.CONCAT(COUNTIF(Opleverlijst!P:P,Tabel33[[#This Row],[Code Meridian]])," ","geleverd"),"") -> 0 geleverd | J15: =IF(Tabel33[[#This Row],[1. Opleveren]]="ja",_xlfn.CONCAT(COUNTIFS(Opleverlijst!H:H,"as-built",Opleverlijst!P:P,Tabel33[[#This Row],[Code Meridian]])," ","As-built"),"") -> 0 As-built
A16: Engineeringsdocumenten | B16: Selectiviteitsanalyse | C16: ET1_6 | D16: =IF(ISNA(IF(Voorblad!$C$6="27a",VLOOKUP(Tabel33[[#This Row],[Document omschrijving]],'Gegevens documentatie'!D:AE,7,0),IF(Voorblad!$C$6="80a",VLOOKUP(Tabel33[[#This Row],[Document omschrijving]],'Gegevens documentatie'!D:AE,8,0),IF(Voorblad!$C$6="81",VLOOKUP(Tabel33[[#This Row],[Document omschrijving]],'Gegevens documentatie'!D:AE,9,0),IF(Voorblad!$C$6="36a",VLOOKUP(Tabel33[[#This Row],[Document omschrijving]],'Gegevens documentatie'!D:AE,10,0),IF(Voorblad!$C$6="28",VLOOKUP(Tabel33[[#This Row],[Document omschrijving]],'Gegevens documentatie'!D:AE,11,0),IF(Voorblad!$C$6="28a",VLOOKUP(Tabel33[[#This Row],[Document omschrijving]],'Gegevens documentatie'!D:AE,12,0),IF(Voorblad!$C$6="48a",VLOOKUP(Tabel33[[#This Row],[Document omschrijving]],'Gegevens documentatie'!D:AE,13,0),IF(Voorblad!$C$6="54",VLOOKUP(Tabel33[[#This Row],[Document omschrijving]],'Gegevens documentatie'!D:AE,14,0),IF(Voorblad!$C$6="54a",VLOOKUP(Tabel33[[#This Row],[Document omschrijving]],'Gegevens documentatie'!D:AE,15,0),IF(Voorblad!$C$6="56",VLOOKUP(Tabel33[[#This Row],[Document omschrijving]],'Gegevens documentatie'!D:AE,16,0),IF(Voorblad!$C$6="56a",VLOOKUP(Tabel33[[#This Row],[Document omschrijving]],'Gegevens documentatie'!D:AE,17,0),IF(Voorblad!$C$6="93",VLOOKUP(Tabel33[[#This Row],[Document omschrijving]],'Gegevens documentatie'!D:AE,18,0),IF(Voorblad!$C$6="93a",VLOOKUP(Tabel33[[#This Row],[Document omschrijving]],'Gegevens documentatie'!D:AE,19,0),IF(Voorblad!$C$6="105a",VLOOKUP(Tabel33[[#This Row],[Document omschrijving]],'Gegevens documentatie'!D:AE,20,0),IF(Voorblad!$C$6="31",VLOOKUP(Tabel33[[#This Row],[Document omschrijving]],'Gegevens documentatie'!D:AE,21,0),IF(Voorblad!$C$6="33",VLOOKUP(Tabel33[[#This Row],[Document omschrijving]],'Gegevens documentatie'!D:AE,22,0),IF(Voorblad!$C$6="33a",VLOOKUP(Tabel33[[#This Row],[Document omschrijving]],'Gegevens documentatie'!D:AE,23,0),IF(Voorblad!$C$6="37",VLOOKUP(Tabel33[[#This Row],[Document omschrijving]],'Gegevens documentatie'!D:AE,24,0),IF(Voorblad!$C$6="91",VLOOKUP(Tabel33[[#This Row],[Document omschrijving]],'Gegevens documentatie'!D:AE,25,0),IF(Voorblad!$C$6="13",VLOOKUP(Tabel33[[#This Row],[Document omschrijving]],'Gegevens documentatie'!D:AE,26,0),IF(Voorblad!$C$6="58",VLOOKUP(Tabel33[[#This Row],[Document omschrijving]],'Gegevens documentatie'!D:AE,27,0),IF(Voorblad!$C$6="42",VLOOKUP(Tabel33[[#This Row],[Document omschrijving]],'Gegevens documentatie'!D:AE,28,0),""))))))))))))))))))))))),"verplicht",IF(Voorblad!$C$6="27a",VLOOKUP(Tabel33[[#This Row],[Document omschrijving]],'Gegevens documentatie'!D:AE,7,0),IF(Voorblad!$C$6="80a",VLOOKUP(Tabel33[[#This Row],[Document omschrijving]],'Gegevens documentatie'!D:AE,8,0),IF(Voorblad!$C$6="81",VLOOKUP(Tabel33[[#This Row],[Document omschrijving]],'Gegevens documentatie'!D:AE,9,0),IF(Voorblad!$C$6="36a",VLOOKUP(Tabel33[[#This Row],[Document omschrijving]],'Gegevens documentatie'!D:AE,10,0),IF(Voorblad!$C$6="28",VLOOKUP(Tabel33[[#This Row],[Document omschrijving]],'Gegevens documentatie'!D:AE,11,0),IF(Voorblad!$C$6="28a",VLOOKUP(Tabel33[[#This Row],[Document omschrijving]],'Gegevens documentatie'!D:AE,12,0),IF(Voorblad!$C$6="48a",VLOOKUP(Tabel33[[#This Row],[Document omschrijving]],'Gegevens documentatie'!D:AE,13,0),IF(Voorblad!$C$6="54",VLOOKUP(Tabel33[[#This Row],[Document omschrijving]],'Gegevens documentatie'!D:AE,14,0),IF(Voorblad!$C$6="54a",VLOOKUP(Tabel33[[#This Row],[Document omschrijving]],'Gegevens documentatie'!D:AE,15,0),IF(Voorblad!$C$6="56",VLOOKUP(Tabel33[[#This Row],[Document omschrijving]],'Gegevens documentatie'!D:AE,16,0),IF(Voorblad!$C$6="56a",VLOOKUP(Tabel33[[#This Row],[Document omschrijving]],'Gegevens documentatie'!D:AE,17,0),IF(Voorblad!$C$6="93",VLOOKUP(Tabel33[[#This Row],[Document omschrijving]],'Gegevens documentatie'!D:AE,18,0),IF(Voorblad!$C$6="93a",VLOOKUP(Tabel33[[#This Row],[Document omschrijving]],'Gegevens documentatie'!D:AE,19,0),IF(Voorblad!$C$6="105a",VLOOKUP(Tabel33[[#This Row],[Document omschrijving]],'Gegevens documentatie'!D:AE,20,0),IF(Voorblad!$C$6="31",VLOOKUP(Tabel33[[#This Row],[Document omschrijving]],'Gegevens documentatie'!D:AE,21,0),IF(Voorblad!$C$6="33",VLOOKUP(Tabel33[[#This Row],[Document omschrijving]],'Gegevens documentatie'!D:AE,22,0),IF(Voorblad!$C$6="33a",VLOOKUP(Tabel33[[#This Row],[Document omschrijving]],'Gegevens documentatie'!D:AE,23,0),IF(Voorblad!$C$6="37",VLOOKUP(Tabel33[[#This Row],[Document omschrijving]],'Gegevens documentatie'!D:AE,24,0),IF(Voorblad!$C$6="91",VLOOKUP(Tabel33[[#This Row],[Document omschrijving]],'Gegevens documentatie'!D:AE,25,0),IF(Voorblad!$C$6="13",VLOOKUP(Tabel33[[#This Row],[Document omschrijving]],'Gegevens documentatie'!D:AE,26,0),IF(Voorblad!$C$6="58",VLOOKUP(Tabel33[[#This Row],[Document omschrijving]],'Gegevens documentatie'!D:AE,27,0),IF(Voorblad!$C$6="42",VLOOKUP(Tabel33[[#This Row],[Document omschrijving]],'Gegevens documentatie'!D:AE,28,0),""))))))))))))))))))))))) -> verplicht | E16: Ja | F16: VSP E | H16: =VLOOKUP(Tabel33[[#This Row],[Document omschrijving]],'Gegevens documentatie'!D:AF,29,0) -> PDF | I16: =IF(Tabel33[[#This Row],[1. Opleveren]]="ja",_xlfn.CONCAT(COUNTIF(Opleverlijst!P:P,Tabel33[[#This Row],[Code Meridian]])," ","geleverd"),"") -> 0 geleverd | J16: =IF(Tabel33[[#This Row],[1. Opleveren]]="ja",_xlfn.CONCAT(COUNTIFS(Opleverlijst!H:H,"as-built",Opleverlijst!P:P,Tabel33[[#This Row],[Code Meridian]])," ","As-built"),"") -> 0 As-built
A17: Engineeringsdocumenten | B17: Kabelberekeningen | C17: ET1_7 | D17: =IF(ISNA(IF(Voorblad!$C$6="27a",VLOOKUP(Tabel33[[#This Row],[Document omschrijving]],'Gegevens documentatie'!D:AE,7,0),IF(Voorblad!$C$6="80a",VLOOKUP(Tabel33[[#This Row],[Document omschrijving]],'Gegevens documentatie'!D:AE,8,0),IF(Voorblad!$C$6="81",VLOOKUP(Tabel33[[#This Row],[Document omschrijving]],'Gegevens documentatie'!D:AE,9,0),IF(Voorblad!$C$6="36a",VLOOKUP(Tabel33[[#This Row],[Document omschrijving]],'Gegevens documentatie'!D:AE,10,0),IF(Voorblad!$C$6="28",VLOOKUP(Tabel33[[#This Row],[Document omschrijving]],'Gegevens documentatie'!D:AE,11,0),IF(Voorblad!$C$6="28a",VLOOKUP(Tabel33[[#This Row],[Document omschrijving]],'Gegevens documentatie'!D:AE,12,0),IF(Voorblad!$C$6="48a",VLOOKUP(Tabel33[[#This Row],[Document omschrijving]],'Gegevens documentatie'!D:AE,13,0),IF(Voorblad!$C$6="54",VLOOKUP(Tabel33[[#This Row],[Document omschrijving]],'Gegevens documentatie'!D:AE,14,0),IF(Voorblad!$C$6="54a",VLOOKUP(Tabel33[[#This Row],[Document omschrijving]],'Gegevens documentatie'!D:AE,15,0),IF(Voorblad!$C$6="56",VLOOKUP(Tabel33[[#This Row],[Document omschrijving]],'Gegevens documentatie'!D:AE,16,0),IF(Voorblad!$C$6="56a",VLOOKUP(Tabel33[[#This Row],[Document omschrijving]],'Gegevens documentatie'!D:AE,17,0),IF(Voorblad!$C$6="93",VLOOKUP(Tabel33[[#This Row],[Document omschrijving]],'Gegevens documentatie'!D:AE,18,0),IF(Voorblad!$C$6="93a",VLOOKUP(Tabel33[[#This Row],[Document omschrijving]],'Gegevens documentatie'!D:AE,19,0),IF(Voorblad!$C$6="105a",VLOOKUP(Tabel33[[#This Row],[Document omschrijving]],'Gegevens documentatie'!D:AE,20,0),IF(Voorblad!$C$6="31",VLOOKUP(Tabel33[[#This Row],[Document omschrijving]],'Gegevens documentatie'!D:AE,21,0),IF(Voorblad!$C$6="33",VLOOKUP(Tabel33[[#This Row],[Document omschrijving]],'Gegevens documentatie'!D:AE,22,0),IF(Voorblad!$C$6="33a",VLOOKUP(Tabel33[[#This Row],[Document omschrijving]],'Gegevens documentatie'!D:AE,23,0),IF(Voorblad!$C$6="37",VLOOKUP(Tabel33[[#This Row],[Document omschrijving]],'Gegevens documentatie'!D:AE,24,0),IF(Voorblad!$C$6="91",VLOOKUP(Tabel33[[#This Row],[Document omschrijving]],'Gegevens documentatie'!D:AE,25,0),IF(Voorblad!$C$6="13",VLOOKUP(Tabel33[[#This Row],[Document omschrijving]],'Gegevens documentatie'!D:AE,26,0),IF(Voorblad!$C$6="58",VLOOKUP(Tabel33[[#This Row],[Document omschrijving]],'Gegevens documentatie'!D:AE,27,0),IF(Voorblad!$C$6="42",VLOOKUP(Tabel33[[#This Row],[Document omschrijving]],'Gegevens documentatie'!D:AE,28,0),""))))))))))))))))))))))),"verplicht",IF(Voorblad!$C$6="27a",VLOOKUP(Tabel33[[#This Row],[Document omschrijving]],'Gegevens documentatie'!D:AE,7,0),IF(Voorblad!$C$6="80a",VLOOKUP(Tabel33[[#This Row],[Document omschrijving]],'Gegevens documentatie'!D:AE,8,0),IF(Voorblad!$C$6="81",VLOOKUP(Tabel33[[#This Row],[Document omschrijving]],'Gegevens documentatie'!D:AE,9,0),IF(Voorblad!$C$6="36a",VLOOKUP(Tabel33[[#This Row],[Document omschrijving]],'Gegevens documentatie'!D:AE,10,0),IF(Voorblad!$C$6="28",VLOOKUP(Tabel33[[#This Row],[Document omschrijving]],'Gegevens documentatie'!D:AE,11,0),IF(Voorblad!$C$6="28a",VLOOKUP(Tabel33[[#This Row],[Document omschrijving]],'Gegevens documentatie'!D:AE,12,0),IF(Voorblad!$C$6="48a",VLOOKUP(Tabel33[[#This Row],[Document omschrijving]],'Gegevens documentatie'!D:AE,13,0),IF(Voorblad!$C$6="54",VLOOKUP(Tabel33[[#This Row],[Document omschrijving]],'Gegevens documentatie'!D:AE,14,0),IF(Voorblad!$C$6="54a",VLOOKUP(Tabel33[[#This Row],[Document omschrijving]],'Gegevens documentatie'!D:AE,15,0),IF(Voorblad!$C$6="56",VLOOKUP(Tabel33[[#This Row],[Document omschrijving]],'Gegevens documentatie'!D:AE,16,0),IF(Voorblad!$C$6="56a",VLOOKUP(Tabel33[[#This Row],[Document omschrijving]],'Gegevens documentatie'!D:AE,17,0),IF(Voorblad!$C$6="93",VLOOKUP(Tabel33[[#This Row],[Document omschrijving]],'Gegevens documentatie'!D:AE,18,0),IF(Voorblad!$C$6="93a",VLOOKUP(Tabel33[[#This Row],[Document omschrijving]],'Gegevens documentatie'!D:AE,19,0),IF(Voorblad!$C$6="105a",VLOOKUP(Tabel33[[#This Row],[Document omschrijving]],'Gegevens documentatie'!D:AE,20,0),IF(Voorblad!$C$6="31",VLOOKUP(Tabel33[[#This Row],[Document omschrijving]],'Gegevens documentatie'!D:AE,21,0),IF(Voorblad!$C$6="33",VLOOKUP(Tabel33[[#This Row],[Document omschrijving]],'Gegevens documentatie'!D:AE,22,0),IF(Voorblad!$C$6="33a",VLOOKUP(Tabel33[[#This Row],[Document omschrijving]],'Gegevens documentatie'!D:AE,23,0),IF(Voorblad!$C$6="37",VLOOKUP(Tabel33[[#This Row],[Document omschrijving]],'Gegevens documentatie'!D:AE,24,0),IF(Voorblad!$C$6="91",VLOOKUP(Tabel33[[#This Row],[Document omschrijving]],'Gegevens documentatie'!D:AE,25,0),IF(Voorblad!$C$6="13",VLOOKUP(Tabel33[[#This Row],[Document omschrijving]],'Gegevens documentatie'!D:AE,26,0),IF(Voorblad!$C$6="58",VLOOKUP(Tabel33[[#This Row],[Document omschrijving]],'Gegevens documentatie'!D:AE,27,0),IF(Voorblad!$C$6="42",VLOOKUP(Tabel33[[#This Row],[Document omschrijving]],'Gegevens documentatie'!D:AE,28,0),""))))))))))))))))))))))) -> verplicht | E17: Ja | F17: VSP E | H17: =VLOOKUP(Tabel33[[#This Row],[Document omschrijving]],'Gegevens documentatie'!D:AF,29,0) -> PDF | I17: =IF(Tabel33[[#This Row],[1. Opleveren]]="ja",_xlfn.CONCAT(COUNTIF(Opleverlijst!P:P,Tabel33[[#This Row],[Code Meridian]])," ","geleverd"),"") -> 0 geleverd | J17: =IF(Tabel33[[#This Row],[1. Opleveren]]="ja",_xlfn.CONCAT(COUNTIFS(Opleverlijst!H:H,"as-built",Opleverlijst!P:P,Tabel33[[#This Row],[Code Meridian]])," ","As-built"),"") -> 0 As-built
A18: Engineeringsdocumenten | B18: Warmte huishoud berekeningen schakelkasten | C18: ET1_8 | D18: =IF(ISNA(IF(Voorblad!$C$6="27a",VLOOKUP(Tabel33[[#This Row],[Document omschrijving]],'Gegevens documentatie'!D:AE,7,0),IF(Voorblad!$C$6="80a",VLOOKUP(Tabel33[[#This Row],[Document omschrijving]],'Gegevens documentatie'!D:AE,8,0),IF(Voorblad!$C$6="81",VLOOKUP(Tabel33[[#This Row],[Document omschrijving]],'Gegevens documentatie'!D:AE,9,0),IF(Voorblad!$C$6="36a",VLOOKUP(Tabel33[[#This Row],[Document omschrijving]],'Gegevens documentatie'!D:AE,10,0),IF(Voorblad!$C$6="28",VLOOKUP(Tabel33[[#This Row],[Document omschrijving]],'Gegevens documentatie'!D:AE,11,0),IF(Voorblad!$C$6="28a",VLOOKUP(Tabel33[[#This Row],[Document omschrijving]],'Gegevens documentatie'!D:AE,12,0),IF(Voorblad!$C$6="48a",VLOOKUP(Tabel33[[#This Row],[Document omschrijving]],'Gegevens documentatie'!D:AE,13,0),IF(Voorblad!$C$6="54",VLOOKUP(Tabel33[[#This Row],[Document omschrijving]],'Gegevens documentatie'!D:AE,14,0),IF(Voorblad!$C$6="54a",VLOOKUP(Tabel33[[#This Row],[Document omschrijving]],'Gegevens documentatie'!D:AE,15,0),IF(Voorblad!$C$6="56",VLOOKUP(Tabel33[[#This Row],[Document omschrijving]],'Gegevens documentatie'!D:AE,16,0),IF(Voorblad!$C$6="56a",VLOOKUP(Tabel33[[#This Row],[Document omschrijving]],'Gegevens documentatie'!D:AE,17,0),IF(Voorblad!$C$6="93",VLOOKUP(Tabel33[[#This Row],[Document omschrijving]],'Gegevens documentatie'!D:AE,18,0),IF(Voorblad!$C$6="93a",VLOOKUP(Tabel33[[#This Row],[Document omschrijving]],'Gegevens documentatie'!D:AE,19,0),IF(Voorblad!$C$6="105a",VLOOKUP(Tabel33[[#This Row],[Document omschrijving]],'Gegevens documentatie'!D:AE,20,0),IF(Voorblad!$C$6="31",VLOOKUP(Tabel33[[#This Row],[Document omschrijving]],'Gegevens documentatie'!D:AE,21,0),IF(Voorblad!$C$6="33",VLOOKUP(Tabel33[[#This Row],[Document omschrijving]],'Gegevens documentatie'!D:AE,22,0),IF(Voorblad!$C$6="33a",VLOOKUP(Tabel33[[#This Row],[Document omschrijving]],'Gegevens documentatie'!D:AE,23,0),IF(Voorblad!$C$6="37",VLOOKUP(Tabel33[[#This Row],[Document omschrijving]],'Gegevens documentatie'!D:AE,24,0),IF(Voorblad!$C$6="91",VLOOKUP(Tabel33[[#This Row],[Document omschrijving]],'Gegevens documentatie'!D:AE,25,0),IF(Voorblad!$C$6="13",VLOOKUP(Tabel33[[#This Row],[Document omschrijving]],'Gegevens documentatie'!D:AE,26,0),IF(Voorblad!$C$6="58",VLOOKUP(Tabel33[[#This Row],[Document omschrijving]],'Gegevens documentatie'!D:AE,27,0),IF(Voorblad!$C$6="42",VLOOKUP(Tabel33[[#This Row],[Document omschrijving]],'Gegevens documentatie'!D:AE,28,0),""))))))))))))))))))))))),"verplicht",IF(Voorblad!$C$6="27a",VLOOKUP(Tabel33[[#This Row],[Document omschrijving]],'Gegevens documentatie'!D:AE,7,0),IF(Voorblad!$C$6="80a",VLOOKUP(Tabel33[[#This Row],[Document omschrijving]],'Gegevens documentatie'!D:AE,8,0),IF(Voorblad!$C$6="81",VLOOKUP(Tabel33[[#This Row],[Document omschrijving]],'Gegevens documentatie'!D:AE,9,0),IF(Voorblad!$C$6="36a",VLOOKUP(Tabel33[[#This Row],[Document omschrijving]],'Gegevens documentatie'!D:AE,10,0),IF(Voorblad!$C$6="28",VLOOKUP(Tabel33[[#This Row],[Document omschrijving]],'Gegevens documentatie'!D:AE,11,0),IF(Voorblad!$C$6="28a",VLOOKUP(Tabel33[[#This Row],[Document omschrijving]],'Gegevens documentatie'!D:AE,12,0),IF(Voorblad!$C$6="48a",VLOOKUP(Tabel33[[#This Row],[Document omschrijving]],'Gegevens documentatie'!D:AE,13,0),IF(Voorblad!$C$6="54",VLOOKUP(Tabel33[[#This Row],[Document omschrijving]],'Gegevens documentatie'!D:AE,14,0),IF(Voorblad!$C$6="54a",VLOOKUP(Tabel33[[#This Row],[Document omschrijving]],'Gegevens documentatie'!D:AE,15,0),IF(Voorblad!$C$6="56",VLOOKUP(Tabel33[[#This Row],[Document omschrijving]],'Gegevens documentatie'!D:AE,16,0),IF(Voorblad!$C$6="56a",VLOOKUP(Tabel33[[#This Row],[Document omschrijving]],'Gegevens documentatie'!D:AE,17,0),IF(Voorblad!$C$6="93",VLOOKUP(Tabel33[[#This Row],[Document omschrijving]],'Gegevens documentatie'!D:AE,18,0),IF(Voorblad!$C$6="93a",VLOOKUP(Tabel33[[#This Row],[Document omschrijving]],'Gegevens documentatie'!D:AE,19,0),IF(Voorblad!$C$6="105a",VLOOKUP(Tabel33[[#This Row],[Document omschrijving]],'Gegevens documentatie'!D:AE,20,0),IF(Voorblad!$C$6="31",VLOOKUP(Tabel33[[#This Row],[Document omschrijving]],'Gegevens documentatie'!D:AE,21,0),IF(Voorblad!$C$6="33",VLOOKUP(Tabel33[[#This Row],[Document omschrijving]],'Gegevens documentatie'!D:AE,22,0),IF(Voorblad!$C$6="33a",VLOOKUP(Tabel33[[#This Row],[Document omschrijving]],'Gegevens documentatie'!D:AE,23,0),IF(Voorblad!$C$6="37",VLOOKUP(Tabel33[[#This Row],[Document omschrijving]],'Gegevens documentatie'!D:AE,24,0),IF(Voorblad!$C$6="91",VLOOKUP(Tabel33[[#This Row],[Document omschrijving]],'Gegevens documentatie'!D:AE,25,0),IF(Voorblad!$C$6="13",VLOOKUP(Tabel33[[#This Row],[Document omschrijving]],'Gegevens documentatie'!D:AE,26,0),IF(Voorblad!$C$6="58",VLOOKUP(Tabel33[[#This Row],[Document omschrijving]],'Gegevens documentatie'!D:AE,27,0),IF(Voorblad!$C$6="42",VLOOKUP(Tabel33[[#This Row],[Document omschrijving]],'Gegevens documentatie'!D:AE,28,0),""))))))))))))))))))))))) -> verplicht | E18: Ja | F18: VSP E | H18: =VLOOKUP(Tabel33[[#This Row],[Document omschrijving]],'Gegevens documentatie'!D:AF,29,0) -> PDF | I18: =IF(Tabel33[[#This Row],[1. Opleveren]]="ja",_xlfn.CONCAT(COUNTIF(Opleverlijst!P:P,Tabel33[[#This Row],[Code Meridian]])," ","geleverd"),"") -> 0 geleverd | J18: =IF(Tabel33[[#This Row],[1. Opleveren]]="ja",_xlfn.CONCAT(COUNTIFS(Opleverlijst!H:H,"as-built",Opleverlijst!P:P,Tabel33[[#This Row],[Code Meridian]])," ","As-built"),"") -> 0 As-built
A19: Engineeringsdocumenten | B19: Programma van Eisen | C19: PA1_10 | D19: =IF(ISNA(IF(Voorblad!$C$6="27a",VLOOKUP(Tabel33[[#This Row],[Document omschrijving]],'Gegevens documentatie'!D:AE,7,0),IF(Voorblad!$C$6="80a",VLOOKUP(Tabel33[[#This Row],[Document omschrijving]],'Gegevens documentatie'!D:AE,8,0),IF(Voorblad!$C$6="81",VLOOKUP(Tabel33[[#This Row],[Document omschrijving]],'Gegevens documentatie'!D:AE,9,0),IF(Voorblad!$C$6="36a",VLOOKUP(Tabel33[[#This Row],[Document omschrijving]],'Gegevens documentatie'!D:AE,10,0),IF(Voorblad!$C$6="28",VLOOKUP(Tabel33[[#This Row],[Document omschrijving]],'Gegevens documentatie'!D:AE,11,0),IF(Voorblad!$C$6="28a",VLOOKUP(Tabel33[[#This Row],[Document omschrijving]],'Gegevens documentatie'!D:AE,12,0),IF(Voorblad!$C$6="48a",VLOOKUP(Tabel33[[#This Row],[Document omschrijving]],'Gegevens documentatie'!D:AE,13,0),IF(Voorblad!$C$6="54",VLOOKUP(Tabel33[[#This Row],[Document omschrijving]],'Gegevens documentatie'!D:AE,14,0),IF(Voorblad!$C$6="54a",VLOOKUP(Tabel33[[#This Row],[Document omschrijving]],'Gegevens documentatie'!D:AE,15,0),IF(Voorblad!$C$6="56",VLOOKUP(Tabel33[[#This Row],[Document omschrijving]],'Gegevens documentatie'!D:AE,16,0),IF(Voorblad!$C$6="56a",VLOOKUP(Tabel33[[#This Row],[Document omschrijving]],'Gegevens documentatie'!D:AE,17,0),IF(Voorblad!$C$6="93",VLOOKUP(Tabel33[[#This Row],[Document omschrijving]],'Gegevens documentatie'!D:AE,18,0),IF(Voorblad!$C$6="93a",VLOOKUP(Tabel33[[#This Row],[Document omschrijving]],'Gegevens documentatie'!D:AE,19,0),IF(Voorblad!$C$6="105a",VLOOKUP(Tabel33[[#This Row],[Document omschrijving]],'Gegevens documentatie'!D:AE,20,0),IF(Voorblad!$C$6="31",VLOOKUP(Tabel33[[#This Row],[Document omschrijving]],'Gegevens documentatie'!D:AE,21,0),IF(Voorblad!$C$6="33",VLOOKUP(Tabel33[[#This Row],[Document omschrijving]],'Gegevens documentatie'!D:AE,22,0),IF(Voorblad!$C$6="33a",VLOOKUP(Tabel33[[#This Row],[Document omschrijving]],'Gegevens documentatie'!D:AE,23,0),IF(Voorblad!$C$6="37",VLOOKUP(Tabel33[[#This Row],[Document omschrijving]],'Gegevens documentatie'!D:AE,24,0),IF(Voorblad!$C$6="91",VLOOKUP(Tabel33[[#This Row],[Document omschrijving]],'Gegevens documentatie'!D:AE,25,0),IF(Voorblad!$C$6="13",VLOOKUP(Tabel33[[#This Row],[Document omschrijving]],'Gegevens documentatie'!D:AE,26,0),IF(Voorblad!$C$6="58",VLOOKUP(Tabel33[[#This Row],[Document omschrijving]],'Gegevens documentatie'!D:AE,27,0),IF(Voorblad!$C$6="42",VLOOKUP(Tabel33[[#This Row],[Document omschrijving]],'Gegevens documentatie'!D:AE,28,0),""))))))))))))))))))))))),"verplicht",IF(Voorblad!$C$6="27a",VLOOKUP(Tabel33[[#This Row],[Document omschrijving]],'Gegevens documentatie'!D:AE,7,0),IF(Voorblad!$C$6="80a",VLOOKUP(Tabel33[[#This Row],[Document omschrijving]],'Gegevens documentatie'!D:AE,8,0),IF(Voorblad!$C$6="81",VLOOKUP(Tabel33[[#This Row],[Document omschrijving]],'Gegevens documentatie'!D:AE,9,0),IF(Voorblad!$C$6="36a",VLOOKUP(Tabel33[[#This Row],[Document omschrijving]],'Gegevens documentatie'!D:AE,10,0),IF(Voorblad!$C$6="28",VLOOKUP(Tabel33[[#This Row],[Document omschrijving]],'Gegevens documentatie'!D:AE,11,0),IF(Voorblad!$C$6="28a",VLOOKUP(Tabel33[[#This Row],[Document omschrijving]],'Gegevens documentatie'!D:AE,12,0),IF(Voorblad!$C$6="48a",VLOOKUP(Tabel33[[#This Row],[Document omschrijving]],'Gegevens documentatie'!D:AE,13,0),IF(Voorblad!$C$6="54",VLOOKUP(Tabel33[[#This Row],[Document omschrijving]],'Gegevens documentatie'!D:AE,14,0),IF(Voorblad!$C$6="54a",VLOOKUP(Tabel33[[#This Row],[Document omschrijving]],'Gegevens documentatie'!D:AE,15,0),IF(Voorblad!$C$6="56",VLOOKUP(Tabel33[[#This Row],[Document omschrijving]],'Gegevens documentatie'!D:AE,16,0),IF(Voorblad!$C$6="56a",VLOOKUP(Tabel33[[#This Row],[Document omschrijving]],'Gegevens documentatie'!D:AE,17,0),IF(Voorblad!$C$6="93",VLOOKUP(Tabel33[[#This Row],[Document omschrijving]],'Gegevens documentatie'!D:AE,18,0),IF(Voorblad!$C$6="93a",VLOOKUP(Tabel33[[#This Row],[Document omschrijving]],'Gegevens documentatie'!D:AE,19,0),IF(Voorblad!$C$6="105a",VLOOKUP(Tabel33[[#This Row],[Document omschrijving]],'Gegevens documentatie'!D:AE,20,0),IF(Voorblad!$C$6="31",VLOOKUP(Tabel33[[#This Row],[Document omschrijving]],'Gegevens documentatie'!D:AE,21,0),IF(Voorblad!$C$6="33",VLOOKUP(Tabel33[[#This Row],[Document omschrijving]],'Gegevens documentatie'!D:AE,22,0),IF(Voorblad!$C$6="33a",VLOOKUP(Tabel33[[#This Row],[Document omschrijving]],'Gegevens documentatie'!D:AE,23,0),IF(Voorblad!$C$6="37",VLOOKUP(Tabel33[[#This Row],[Document omschrijving]],'Gegevens documentatie'!D:AE,24,0),IF(Voorblad!$C$6="91",VLOOKUP(Tabel33[[#This Row],[Document omschrijving]],'Gegevens documentatie'!D:AE,25,0),IF(Voorblad!$C$6="13",VLOOKUP(Tabel33[[#This Row],[Document omschrijving]],'Gegevens documentatie'!D:AE,26,0),IF(Voorblad!$C$6="58",VLOOKUP(Tabel33[[#This Row],[Document omschrijving]],'Gegevens documentatie'!D:AE,27,0),IF(Voorblad!$C$6="42",VLOOKUP(Tabel33[[#This Row],[Document omschrijving]],'Gegevens documentatie'!D:AE,28,0),""))))))))))))))))))))))) -> verplicht | E19: Nee | H19: =VLOOKUP(Tabel33[[#This Row],[Document omschrijving]],'Gegevens documentatie'!D:AF,29,0) -> DOCX | I19: =IF(Tabel33[[#This Row],[1. Opleveren]]="ja",_xlfn.CONCAT(COUNTIF(Opleverlijst!P:P,Tabel33[[#This Row],[Code Meridian]])," ","geleverd"),"") | J19: =IF(Tabel33[[#This Row],[1. Opleveren]]="ja",_xlfn.CONCAT(COUNTIFS(Opleverlijst!H:H,"as-built",Opleverlijst!P:P,Tabel33[[#This Row],[Code Meridian]])," ","As-built"),"")
A20: Engineeringsdocumenten | B20: IO-lijst PLC | C20: PA1_140 | D20: =IF(ISNA(IF(Voorblad!$C$6="27a",VLOOKUP(Tabel33[[#This Row],[Document omschrijving]],'Gegevens documentatie'!D:AE,7,0),IF(Voorblad!$C$6="80a",VLOOKUP(Tabel33[[#This Row],[Document omschrijving]],'Gegevens documentatie'!D:AE,8,0),IF(Voorblad!$C$6="81",VLOOKUP(Tabel33[[#This Row],[Document omschrijving]],'Gegevens documentatie'!D:AE,9,0),IF(Voorblad!$C$6="36a",VLOOKUP(Tabel33[[#This Row],[Document omschrijving]],'Gegevens documentatie'!D:AE,10,0),IF(Voorblad!$C$6="28",VLOOKUP(Tabel33[[#This Row],[Document omschrijving]],'Gegevens documentatie'!D:AE,11,0),IF(Voorblad!$C$6="28a",VLOOKUP(Tabel33[[#This Row],[Document omschrijving]],'Gegevens documentatie'!D:AE,12,0),IF(Voorblad!$C$6="48a",VLOOKUP(Tabel33[[#This Row],[Document omschrijving]],'Gegevens documentatie'!D:AE,13,0),IF(Voorblad!$C$6="54",VLOOKUP(Tabel33[[#This Row],[Document omschrijving]],'Gegevens documentatie'!D:AE,14,0),IF(Voorblad!$C$6="54a",VLOOKUP(Tabel33[[#This Row],[Document omschrijving]],'Gegevens documentatie'!D:AE,15,0),IF(Voorblad!$C$6="56",VLOOKUP(Tabel33[[#This Row],[Document omschrijving]],'Gegevens documentatie'!D:AE,16,0),IF(Voorblad!$C$6="56a",VLOOKUP(Tabel33[[#This Row],[Document omschrijving]],'Gegevens documentatie'!D:AE,17,0),IF(Voorblad!$C$6="93",VLOOKUP(Tabel33[[#This Row],[Document omschrijving]],'Gegevens documentatie'!D:AE,18,0),IF(Voorblad!$C$6="93a",VLOOKUP(Tabel33[[#This Row],[Document omschrijving]],'Gegevens documentatie'!D:AE,19,0),IF(Voorblad!$C$6="105a",VLOOKUP(Tabel33[[#This Row],[Document omschrijving]],'Gegevens documentatie'!D:AE,20,0),IF(Voorblad!$C$6="31",VLOOKUP(Tabel33[[#This Row],[Document omschrijving]],'Gegevens documentatie'!D:AE,21,0),IF(Voorblad!$C$6="33",VLOOKUP(Tabel33[[#This Row],[Document omschrijving]],'Gegevens documentatie'!D:AE,22,0),IF(Voorblad!$C$6="33a",VLOOKUP(Tabel33[[#This Row],[Document omschrijving]],'Gegevens documentatie'!D:AE,23,0),IF(Voorblad!$C$6="37",VLOOKUP(Tabel33[[#This Row],[Document omschrijving]],'Gegevens documentatie'!D:AE,24,0),IF(Voorblad!$C$6="91",VLOOKUP(Tabel33[[#This Row],[Document omschrijving]],'Gegevens documentatie'!D:AE,25,0),IF(Voorblad!$C$6="13",VLOOKUP(Tabel33[[#This Row],[Document omschrijving]],'Gegevens documentatie'!D:AE,26,0),IF(Voorblad!$C$6="58",VLOOKUP(Tabel33[[#This Row],[Document omschrijving]],'Gegevens documentatie'!D:AE,27,0),IF(Voorblad!$C$6="42",VLOOKUP(Tabel33[[#This Row],[Document omschrijving]],'Gegevens documentatie'!D:AE,28,0),""))))))))))))))))))))))),"verplicht",IF(Voorblad!$C$6="27a",VLOOKUP(Tabel33[[#This Row],[Document omschrijving]],'Gegevens documentatie'!D:AE,7,0),IF(Voorblad!$C$6="80a",VLOOKUP(Tabel33[[#This Row],[Document omschrijving]],'Gegevens documentatie'!D:AE,8,0),IF(Voorblad!$C$6="81",VLOOKUP(Tabel33[[#This Row],[Document omschrijving]],'Gegevens documentatie'!D:AE,9,0),IF(Voorblad!$C$6="36a",VLOOKUP(Tabel33[[#This Row],[Document omschrijving]],'Gegevens documentatie'!D:AE,10,0),IF(Voorblad!$C$6="28",VLOOKUP(Tabel33[[#This Row],[Document omschrijving]],'Gegevens documentatie'!D:AE,11,0),IF(Voorblad!$C$6="28a",VLOOKUP(Tabel33[[#This Row],[Document omschrijving]],'Gegevens documentatie'!D:AE,12,0),IF(Voorblad!$C$6="48a",VLOOKUP(Tabel33[[#This Row],[Document omschrijving]],'Gegevens documentatie'!D:AE,13,0),IF(Voorblad!$C$6="54",VLOOKUP(Tabel33[[#This Row],[Document omschrijving]],'Gegevens documentatie'!D:AE,14,0),IF(Voorblad!$C$6="54a",VLOOKUP(Tabel33[[#This Row],[Document omschrijving]],'Gegevens documentatie'!D:AE,15,0),IF(Voorblad!$C$6="56",VLOOKUP(Tabel33[[#This Row],[Document omschrijving]],'Gegevens documentatie'!D:AE,16,0),IF(Voorblad!$C$6="56a",VLOOKUP(Tabel33[[#This Row],[Document omschrijving]],'Gegevens documentatie'!D:AE,17,0),IF(Voorblad!$C$6="93",VLOOKUP(Tabel33[[#This Row],[Document omschrijving]],'Gegevens documentatie'!D:AE,18,0),IF(Voorblad!$C$6="93a",VLOOKUP(Tabel33[[#This Row],[Document omschrijving]],'Gegevens documentatie'!D:AE,19,0),IF(Voorblad!$C$6="105a",VLOOKUP(Tabel33[[#This Row],[Document omschrijving]],'Gegevens documentatie'!D:AE,20,0),IF(Voorblad!$C$6="31",VLOOKUP(Tabel33[[#This Row],[Document omschrijving]],'Gegevens documentatie'!D:AE,21,0),IF(Voorblad!$C$6="33",VLOOKUP(Tabel33[[#This Row],[Document omschrijving]],'Gegevens documentatie'!D:AE,22,0),IF(Voorblad!$C$6="33a",VLOOKUP(Tabel33[[#This Row],[Document omschrijving]],'Gegevens documentatie'!D:AE,23,0),IF(Voorblad!$C$6="37",VLOOKUP(Tabel33[[#This Row],[Document omschrijving]],'Gegevens documentatie'!D:AE,24,0),IF(Voorblad!$C$6="91",VLOOKUP(Tabel33[[#This Row],[Document omschrijving]],'Gegevens documentatie'!D:AE,25,0),IF(Voorblad!$C$6="13",VLOOKUP(Tabel33[[#This Row],[Document omschrijving]],'Gegevens documentatie'!D:AE,26,0),IF(Voorblad!$C$6="58",VLOOKUP(Tabel33[[#This Row],[Document omschrijving]],'Gegevens documentatie'!D:AE,27,0),IF(Voorblad!$C$6="42",VLOOKUP(Tabel33[[#This Row],[Document omschrijving]],'Gegevens documentatie'!D:AE,28,0),""))))))))))))))))))))))) -> verplicht | E20: Ja | F20: VSP PA | H20: =VLOOKUP(Tabel33[[#This Row],[Document omschrijving]],'Gegevens documentatie'!D:AF,29,0) -> XLSX | I20: =IF(Tabel33[[#This Row],[1. Opleveren]]="ja",_xlfn.CONCAT(COUNTIF(Opleverlijst!P:P,Tabel33[[#This Row],[Code Meridian]])," ","geleverd"),"") -> 0 geleverd | J20: =IF(Tabel33[[#This Row],[1. Opleveren]]="ja",_xlfn.CONCAT(COUNTIFS(Opleverlijst!H:H,"as-built",Opleverlijst!P:P,Tabel33[[#This Row],[Code Meridian]])," ","As-built"),"") -> 0 As-built
A21: Engineeringsdocumenten | B21: IP adresseringstabellen | C21: PA1_150 | D21: =IF(ISNA(IF(Voorblad!$C$6="27a",VLOOKUP(Tabel33[[#This Row],[Document omschrijving]],'Gegevens documentatie'!D:AE,7,0),IF(Voorblad!$C$6="80a",VLOOKUP(Tabel33[[#This Row],[Document omschrijving]],'Gegevens documentatie'!D:AE,8,0),IF(Voorblad!$C$6="81",VLOOKUP(Tabel33[[#This Row],[Document omschrijving]],'Gegevens documentatie'!D:AE,9,0),IF(Voorblad!$C$6="36a",VLOOKUP(Tabel33[[#This Row],[Document omschrijving]],'Gegevens documentatie'!D:AE,10,0),IF(Voorblad!$C$6="28",VLOOKUP(Tabel33[[#This Row],[Document omschrijving]],'Gegevens documentatie'!D:AE,11,0),IF(Voorblad!$C$6="28a",VLOOKUP(Tabel33[[#This Row],[Document omschrijving]],'Gegevens documentatie'!D:AE,12,0),IF(Voorblad!$C$6="48a",VLOOKUP(Tabel33[[#This Row],[Document omschrijving]],'Gegevens documentatie'!D:AE,13,0),IF(Voorblad!$C$6="54",VLOOKUP(Tabel33[[#This Row],[Document omschrijving]],'Gegevens documentatie'!D:AE,14,0),IF(Voorblad!$C$6="54a",VLOOKUP(Tabel33[[#This Row],[Document omschrijving]],'Gegevens documentatie'!D:AE,15,0),IF(Voorblad!$C$6="56",VLOOKUP(Tabel33[[#This Row],[Document omschrijving]],'Gegevens documentatie'!D:AE,16,0),IF(Voorblad!$C$6="56a",VLOOKUP(Tabel33[[#This Row],[Document omschrijving]],'Gegevens documentatie'!D:AE,17,0),IF(Voorblad!$C$6="93",VLOOKUP(Tabel33[[#This Row],[Document omschrijving]],'Gegevens documentatie'!D:AE,18,0),IF(Voorblad!$C$6="93a",VLOOKUP(Tabel33[[#This Row],[Document omschrijving]],'Gegevens documentatie'!D:AE,19,0),IF(Voorblad!$C$6="105a",VLOOKUP(Tabel33[[#This Row],[Document omschrijving]],'Gegevens documentatie'!D:AE,20,0),IF(Voorblad!$C$6="31",VLOOKUP(Tabel33[[#This Row],[Document omschrijving]],'Gegevens documentatie'!D:AE,21,0),IF(Voorblad!$C$6="33",VLOOKUP(Tabel33[[#This Row],[Document omschrijving]],'Gegevens documentatie'!D:AE,22,0),IF(Voorblad!$C$6="33a",VLOOKUP(Tabel33[[#This Row],[Document omschrijving]],'Gegevens documentatie'!D:AE,23,0),IF(Voorblad!$C$6="37",VLOOKUP(Tabel33[[#This Row],[Document omschrijving]],'Gegevens documentatie'!D:AE,24,0),IF(Voorblad!$C$6="91",VLOOKUP(Tabel33[[#This Row],[Document omschrijving]],'Gegevens documentatie'!D:AE,25,0),IF(Voorblad!$C$6="13",VLOOKUP(Tabel33[[#This Row],[Document omschrijving]],'Gegevens documentatie'!D:AE,26,0),IF(Voorblad!$C$6="58",VLOOKUP(Tabel33[[#This Row],[Document omschrijving]],'Gegevens documentatie'!D:AE,27,0),IF(Voorblad!$C$6="42",VLOOKUP(Tabel33[[#This Row],[Document omschrijving]],'Gegevens documentatie'!D:AE,28,0),""))))))))))))))))))))))),"verplicht",IF(Voorblad!$C$6="27a",VLOOKUP(Tabel33[[#This Row],[Document omschrijving]],'Gegevens documentatie'!D:AE,7,0),IF(Voorblad!$C$6="80a",VLOOKUP(Tabel33[[#This Row],[Document omschrijving]],'Gegevens documentatie'!D:AE,8,0),IF(Voorblad!$C$6="81",VLOOKUP(Tabel33[[#This Row],[Document omschrijving]],'Gegevens documentatie'!D:AE,9,0),IF(Voorblad!$C$6="36a",VLOOKUP(Tabel33[[#This Row],[Document omschrijving]],'Gegevens documentatie'!D:AE,10,0),IF(Voorblad!$C$6="28",VLOOKUP(Tabel33[[#This Row],[Document omschrijving]],'Gegevens documentatie'!D:AE,11,0),IF(Voorblad!$C$6="28a",VLOOKUP(Tabel33[[#This Row],[Document omschrijving]],'Gegevens documentatie'!D:AE,12,0),IF(Voorblad!$C$6="48a",VLOOKUP(Tabel33[[#This Row],[Document omschrijving]],'Gegevens documentatie'!D:AE,13,0),IF(Voorblad!$C$6="54",VLOOKUP(Tabel33[[#This Row],[Document omschrijving]],'Gegevens documentatie'!D:AE,14,0),IF(Voorblad!$C$6="54a",VLOOKUP(Tabel33[[#This Row],[Document omschrijving]],'Gegevens documentatie'!D:AE,15,0),IF(Voorblad!$C$6="56",VLOOKUP(Tabel33[[#This Row],[Document omschrijving]],'Gegevens documentatie'!D:AE,16,0),IF(Voorblad!$C$6="56a",VLOOKUP(Tabel33[[#This Row],[Document omschrijving]],'Gegevens documentatie'!D:AE,17,0),IF(Voorblad!$C$6="93",VLOOKUP(Tabel33[[#This Row],[Document omschrijving]],'Gegevens documentatie'!D:AE,18,0),IF(Voorblad!$C$6="93a",VLOOKUP(Tabel33[[#This Row],[Document omschrijving]],'Gegevens documentatie'!D:AE,19,0),IF(Voorblad!$C$6="105a",VLOOKUP(Tabel33[[#This Row],[Document omschrijving]],'Gegevens documentatie'!D:AE,20,0),IF(Voorblad!$C$6="31",VLOOKUP(Tabel33[[#This Row],[Document omschrijving]],'Gegevens documentatie'!D:AE,21,0),IF(Voorblad!$C$6="33",VLOOKUP(Tabel33[[#This Row],[Document omschrijving]],'Gegevens documentatie'!D:AE,22,0),IF(Voorblad!$C$6="33a",VLOOKUP(Tabel33[[#This Row],[Document omschrijving]],'Gegevens documentatie'!D:AE,23,0),IF(Voorblad!$C$6="37",VLOOKUP(Tabel33[[#This Row],[Document omschrijving]],'Gegevens documentatie'!D:AE,24,0),IF(Voorblad!$C$6="91",VLOOKUP(Tabel33[[#This Row],[Document omschrijving]],'Gegevens documentatie'!D:AE,25,0),IF(Voorblad!$C$6="13",VLOOKUP(Tabel33[[#This Row],[Document omschrijving]],'Gegevens documentatie'!D:AE,26,0),IF(Voorblad!$C$6="58",VLOOKUP(Tabel33[[#This Row],[Document omschrijving]],'Gegevens documentatie'!D:AE,27,0),IF(Voorblad!$C$6="42",VLOOKUP(Tabel33[[#This Row],[Document omschrijving]],'Gegevens documentatie'!D:AE,28,0),""))))))))))))))))))))))) -> verplicht | E21: Nee | H21: =VLOOKUP(Tabel33[[#This Row],[Document omschrijving]],'Gegevens documentatie'!D:AF,29,0) -> XLSX | I21: =IF(Tabel33[[#This Row],[1. Opleveren]]="ja",_xlfn.CONCAT(COUNTIF(Opleverlijst!P:P,Tabel33[[#This Row],[Code Meridian]])," ","geleverd"),"") | J21: =IF(Tabel33[[#This Row],[1. Opleveren]]="ja",_xlfn.CONCAT(COUNTIFS(Opleverlijst!H:H,"as-built",Opleverlijst!P:P,Tabel33[[#This Row],[Code Meridian]])," ","As-built"),"")
A22: Engineeringsdocumenten | B22: Instellingen PA componenten / Metingen (indien niet in configuratiebestand aanwezig) | C22: PA1_170 | D22: =IF(ISNA(IF(Voorblad!$C$6="27a",VLOOKUP(Tabel33[[#This Row],[Document omschrijving]],'Gegevens documentatie'!D:AE,7,0),IF(Voorblad!$C$6="80a",VLOOKUP(Tabel33[[#This Row],[Document omschrijving]],'Gegevens documentatie'!D:AE,8,0),IF(Voorblad!$C$6="81",VLOOKUP(Tabel33[[#This Row],[Document omschrijving]],'Gegevens documentatie'!D:AE,9,0),IF(Voorblad!$C$6="36a",VLOOKUP(Tabel33[[#This Row],[Document omschrijving]],'Gegevens documentatie'!D:AE,10,0),IF(Voorblad!$C$6="28",VLOOKUP(Tabel33[[#This Row],[Document omschrijving]],'Gegevens documentatie'!D:AE,11,0),IF(Voorblad!$C$6="28a",VLOOKUP(Tabel33[[#This Row],[Document omschrijving]],'Gegevens documentatie'!D:AE,12,0),IF(Voorblad!$C$6="48a",VLOOKUP(Tabel33[[#This Row],[Document omschrijving]],'Gegevens documentatie'!D:AE,13,0),IF(Voorblad!$C$6="54",VLOOKUP(Tabel33[[#This Row],[Document omschrijving]],'Gegevens documentatie'!D:AE,14,0),IF(Voorblad!$C$6="54a",VLOOKUP(Tabel33[[#This Row],[Document omschrijving]],'Gegevens documentatie'!D:AE,15,0),IF(Voorblad!$C$6="56",VLOOKUP(Tabel33[[#This Row],[Document omschrijving]],'Gegevens documentatie'!D:AE,16,0),IF(Voorblad!$C$6="56a",VLOOKUP(Tabel33[[#This Row],[Document omschrijving]],'Gegevens documentatie'!D:AE,17,0),IF(Voorblad!$C$6="93",VLOOKUP(Tabel33[[#This Row],[Document omschrijving]],'Gegevens documentatie'!D:AE,18,0),IF(Voorblad!$C$6="93a",VLOOKUP(Tabel33[[#This Row],[Document omschrijving]],'Gegevens documentatie'!D:AE,19,0),IF(Voorblad!$C$6="105a",VLOOKUP(Tabel33[[#This Row],[Document omschrijving]],'Gegevens documentatie'!D:AE,20,0),IF(Voorblad!$C$6="31",VLOOKUP(Tabel33[[#This Row],[Document omschrijving]],'Gegevens documentatie'!D:AE,21,0),IF(Voorblad!$C$6="33",VLOOKUP(Tabel33[[#This Row],[Document omschrijving]],'Gegevens documentatie'!D:AE,22,0),IF(Voorblad!$C$6="33a",VLOOKUP(Tabel33[[#This Row],[Document omschrijving]],'Gegevens documentatie'!D:AE,23,0),IF(Voorblad!$C$6="37",VLOOKUP(Tabel33[[#This Row],[Document omschrijving]],'Gegevens documentatie'!D:AE,24,0),IF(Voorblad!$C$6="91",VLOOKUP(Tabel33[[#This Row],[Document omschrijving]],'Gegevens documentatie'!D:AE,25,0),IF(Voorblad!$C$6="13",VLOOKUP(Tabel33[[#This Row],[Document omschrijving]],'Gegevens documentatie'!D:AE,26,0),IF(Voorblad!$C$6="58",VLOOKUP(Tabel33[[#This Row],[Document omschrijving]],'Gegevens documentatie'!D:AE,27,0),IF(Voorblad!$C$6="42",VLOOKUP(Tabel33[[#This Row],[Document omschrijving]],'Gegevens documentatie'!D:AE,28,0),""))))))))))))))))))))))),"verplicht",IF(Voorblad!$C$6="27a",VLOOKUP(Tabel33[[#This Row],[Document omschrijving]],'Gegevens documentatie'!D:AE,7,0),IF(Voorblad!$C$6="80a",VLOOKUP(Tabel33[[#This Row],[Document omschrijving]],'Gegevens documentatie'!D:AE,8,0),IF(Voorblad!$C$6="81",VLOOKUP(Tabel33[[#This Row],[Document omschrijving]],'Gegevens documentatie'!D:AE,9,0),IF(Voorblad!$C$6="36a",VLOOKUP(Tabel33[[#This Row],[Document omschrijving]],'Gegevens documentatie'!D:AE,10,0),IF(Voorblad!$C$6="28",VLOOKUP(Tabel33[[#This Row],[Document omschrijving]],'Gegevens documentatie'!D:AE,11,0),IF(Voorblad!$C$6="28a",VLOOKUP(Tabel33[[#This Row],[Document omschrijving]],'Gegevens documentatie'!D:AE,12,0),IF(Voorblad!$C$6="48a",VLOOKUP(Tabel33[[#This Row],[Document omschrijving]],'Gegevens documentatie'!D:AE,13,0),IF(Voorblad!$C$6="54",VLOOKUP(Tabel33[[#This Row],[Document omschrijving]],'Gegevens documentatie'!D:AE,14,0),IF(Voorblad!$C$6="54a",VLOOKUP(Tabel33[[#This Row],[Document omschrijving]],'Gegevens documentatie'!D:AE,15,0),IF(Voorblad!$C$6="56",VLOOKUP(Tabel33[[#This Row],[Document omschrijving]],'Gegevens documentatie'!D:AE,16,0),IF(Voorblad!$C$6="56a",VLOOKUP(Tabel33[[#This Row],[Document omschrijving]],'Gegevens documentatie'!D:AE,17,0),IF(Voorblad!$C$6="93",VLOOKUP(Tabel33[[#This Row],[Document omschrijving]],'Gegevens documentatie'!D:AE,18,0),IF(Voorblad!$C$6="93a",VLOOKUP(Tabel33[[#This Row],[Document omschrijving]],'Gegevens documentatie'!D:AE,19,0),IF(Voorblad!$C$6="105a",VLOOKUP(Tabel33[[#This Row],[Document omschrijving]],'Gegevens documentatie'!D:AE,20,0),IF(Voorblad!$C$6="31",VLOOKUP(Tabel33[[#This Row],[Document omschrijving]],'Gegevens documentatie'!D:AE,21,0),IF(Voorblad!$C$6="33",VLOOKUP(Tabel33[[#This Row],[Document omschrijving]],'Gegevens documentatie'!D:AE,22,0),IF(Voorblad!$C$6="33a",VLOOKUP(Tabel33[[#This Row],[Document omschrijving]],'Gegevens documentatie'!D:AE,23,0),IF(Voorblad!$C$6="37",VLOOKUP(Tabel33[[#This Row],[Document omschrijving]],'Gegevens documentatie'!D:AE,24,0),IF(Voorblad!$C$6="91",VLOOKUP(Tabel33[[#This Row],[Document omschrijving]],'Gegevens documentatie'!D:AE,25,0),IF(Voorblad!$C$6="13",VLOOKUP(Tabel33[[#This Row],[Document omschrijving]],'Gegevens documentatie'!D:AE,26,0),IF(Voorblad!$C$6="58",VLOOKUP(Tabel33[[#This Row],[Document omschrijving]],'Gegevens documentatie'!D:AE,27,0),IF(Voorblad!$C$6="42",VLOOKUP(Tabel33[[#This Row],[Document omschrijving]],'Gegevens documentatie'!D:AE,28,0),""))))))))))))))))))))))) -> optioneel | E22: Nee | H22: =VLOOKUP(Tabel33[[#This Row],[Document omschrijving]],'Gegevens documentatie'!D:AF,29,0) -> Bronbestand | I22: =IF(Tabel33[[#This Row],[1. Opleveren]]="ja",_xlfn.CONCAT(COUNTIF(Opleverlijst!P:P,Tabel33[[#This Row],[Code Meridian]])," ","geleverd"),"") | J22: =IF(Tabel33[[#This Row],[1. Opleveren]]="ja",_xlfn.CONCAT(COUNTIFS(Opleverlijst!H:H,"as-built",Opleverlijst!P:P,Tabel33[[#This Row],[Code Meridian]])," ","As-built"),"")
A23: Engineeringsdocumenten | B23: Procesdecompositie | C23: PA1_20 | D23: =IF(ISNA(IF(Voorblad!$C$6="27a",VLOOKUP(Tabel33[[#This Row],[Document omschrijving]],'Gegevens documentatie'!D:AE,7,0),IF(Voorblad!$C$6="80a",VLOOKUP(Tabel33[[#This Row],[Document omschrijving]],'Gegevens documentatie'!D:AE,8,0),IF(Voorblad!$C$6="81",VLOOKUP(Tabel33[[#This Row],[Document omschrijving]],'Gegevens documentatie'!D:AE,9,0),IF(Voorblad!$C$6="36a",VLOOKUP(Tabel33[[#This Row],[Document omschrijving]],'Gegevens documentatie'!D:AE,10,0),IF(Voorblad!$C$6="28",VLOOKUP(Tabel33[[#This Row],[Document omschrijving]],'Gegevens documentatie'!D:AE,11,0),IF(Voorblad!$C$6="28a",VLOOKUP(Tabel33[[#This Row],[Document omschrijving]],'Gegevens documentatie'!D:AE,12,0),IF(Voorblad!$C$6="48a",VLOOKUP(Tabel33[[#This Row],[Document omschrijving]],'Gegevens documentatie'!D:AE,13,0),IF(Voorblad!$C$6="54",VLOOKUP(Tabel33[[#This Row],[Document omschrijving]],'Gegevens documentatie'!D:AE,14,0),IF(Voorblad!$C$6="54a",VLOOKUP(Tabel33[[#This Row],[Document omschrijving]],'Gegevens documentatie'!D:AE,15,0),IF(Voorblad!$C$6="56",VLOOKUP(Tabel33[[#This Row],[Document omschrijving]],'Gegevens documentatie'!D:AE,16,0),IF(Voorblad!$C$6="56a",VLOOKUP(Tabel33[[#This Row],[Document omschrijving]],'Gegevens documentatie'!D:AE,17,0),IF(Voorblad!$C$6="93",VLOOKUP(Tabel33[[#This Row],[Document omschrijving]],'Gegevens documentatie'!D:AE,18,0),IF(Voorblad!$C$6="93a",VLOOKUP(Tabel33[[#This Row],[Document omschrijving]],'Gegevens documentatie'!D:AE,19,0),IF(Voorblad!$C$6="105a",VLOOKUP(Tabel33[[#This Row],[Document omschrijving]],'Gegevens documentatie'!D:AE,20,0),IF(Voorblad!$C$6="31",VLOOKUP(Tabel33[[#This Row],[Document omschrijving]],'Gegevens documentatie'!D:AE,21,0),IF(Voorblad!$C$6="33",VLOOKUP(Tabel33[[#This Row],[Document omschrijving]],'Gegevens documentatie'!D:AE,22,0),IF(Voorblad!$C$6="33a",VLOOKUP(Tabel33[[#This Row],[Document omschrijving]],'Gegevens documentatie'!D:AE,23,0),IF(Voorblad!$C$6="37",VLOOKUP(Tabel33[[#This Row],[Document omschrijving]],'Gegevens documentatie'!D:AE,24,0),IF(Voorblad!$C$6="91",VLOOKUP(Tabel33[[#This Row],[Document omschrijving]],'Gegevens documentatie'!D:AE,25,0),IF(Voorblad!$C$6="13",VLOOKUP(Tabel33[[#This Row],[Document omschrijving]],'Gegevens documentatie'!D:AE,26,0),IF(Voorblad!$C$6="58",VLOOKUP(Tabel33[[#This Row],[Document omschrijving]],'Gegevens documentatie'!D:AE,27,0),IF(Voorblad!$C$6="42",VLOOKUP(Tabel33[[#This Row],[Document omschrijving]],'Gegevens documentatie'!D:AE,28,0),""))))))))))))))))))))))),"verplicht",IF(Voorblad!$C$6="27a",VLOOKUP(Tabel33[[#This Row],[Document omschrijving]],'Gegevens documentatie'!D:AE,7,0),IF(Voorblad!$C$6="80a",VLOOKUP(Tabel33[[#This Row],[Document omschrijving]],'Gegevens documentatie'!D:AE,8,0),IF(Voorblad!$C$6="81",VLOOKUP(Tabel33[[#This Row],[Document omschrijving]],'Gegevens documentatie'!D:AE,9,0),IF(Voorblad!$C$6="36a",VLOOKUP(Tabel33[[#This Row],[Document omschrijving]],'Gegevens documentatie'!D:AE,10,0),IF(Voorblad!$C$6="28",VLOOKUP(Tabel33[[#This Row],[Document omschrijving]],'Gegevens documentatie'!D:AE,11,0),IF(Voorblad!$C$6="28a",VLOOKUP(Tabel33[[#This Row],[Document omschrijving]],'Gegevens documentatie'!D:AE,12,0),IF(Voorblad!$C$6="48a",VLOOKUP(Tabel33[[#This Row],[Document omschrijving]],'Gegevens documentatie'!D:AE,13,0),IF(Voorblad!$C$6="54",VLOOKUP(Tabel33[[#This Row],[Document omschrijving]],'Gegevens documentatie'!D:AE,14,0),IF(Voorblad!$C$6="54a",VLOOKUP(Tabel33[[#This Row],[Document omschrijving]],'Gegevens documentatie'!D:AE,15,0),IF(Voorblad!$C$6="56",VLOOKUP(Tabel33[[#This Row],[Document omschrijving]],'Gegevens documentatie'!D:AE,16,0),IF(Voorblad!$C$6="56a",VLOOKUP(Tabel33[[#This Row],[Document omschrijving]],'Gegevens documentatie'!D:AE,17,0),IF(Voorblad!$C$6="93",VLOOKUP(Tabel33[[#This Row],[Document omschrijving]],'Gegevens documentatie'!D:AE,18,0),IF(Voorblad!$C$6="93a",VLOOKUP(Tabel33[[#This Row],[Document omschrijving]],'Gegevens documentatie'!D:AE,19,0),IF(Voorblad!$C$6="105a",VLOOKUP(Tabel33[[#This Row],[Document omschrijving]],'Gegevens documentatie'!D:AE,20,0),IF(Voorblad!$C$6="31",VLOOKUP(Tabel33[[#This Row],[Document omschrijving]],'Gegevens documentatie'!D:AE,21,0),IF(Voorblad!$C$6="33",VLOOKUP(Tabel33[[#This Row],[Document omschrijving]],'Gegevens documentatie'!D:AE,22,0),IF(Voorblad!$C$6="33a",VLOOKUP(Tabel33[[#This Row],[Document omschrijving]],'Gegevens documentatie'!D:AE,23,0),IF(Voorblad!$C$6="37",VLOOKUP(Tabel33[[#This Row],[Document omschrijving]],'Gegevens documentatie'!D:AE,24,0),IF(Voorblad!$C$6="91",VLOOKUP(Tabel33[[#This Row],[Document omschrijving]],'Gegevens documentatie'!D:AE,25,0),IF(Voorblad!$C$6="13",VLOOKUP(Tabel33[[#This Row],[Document omschrijving]],'Gegevens documentatie'!D:AE,26,0),IF(Voorblad!$C$6="58",VLOOKUP(Tabel33[[#This Row],[Document omschrijving]],'Gegevens documentatie'!D:AE,27,0),IF(Voorblad!$C$6="42",VLOOKUP(Tabel33[[#This Row],[Document omschrijving]],'Gegevens documentatie'!D:AE,28,0),""))))))))))))))))))))))) -> optioneel | E23: Nee | H23: =VLOOKUP(Tabel33[[#This Row],[Document omschrijving]],'Gegevens documentatie'!D:AF,29,0) -> DOCX | I23: =IF(Tabel33[[#This Row],[1. Opleveren]]="ja",_xlfn.CONCAT(COUNTIF(Opleverlijst!P:P,Tabel33[[#This Row],[Code Meridian]])," ","geleverd"),"") | J23: =IF(Tabel33[[#This Row],[1. Opleveren]]="ja",_xlfn.CONCAT(COUNTIFS(Opleverlijst!H:H,"as-built",Opleverlijst!P:P,Tabel33[[#This Row],[Code Meridian]])," ","As-built"),"")
A24: Engineeringsdocumenten | B24: Procesvoeringbeschrijving | C24: PA1_30 | D24: =IF(ISNA(IF(Voorblad!$C$6="27a",VLOOKUP(Tabel33[[#This Row],[Document omschrijving]],'Gegevens documentatie'!D:AE,7,0),IF(Voorblad!$C$6="80a",VLOOKUP(Tabel33[[#This Row],[Document omschrijving]],'Gegevens documentatie'!D:AE,8,0),IF(Voorblad!$C$6="81",VLOOKUP(Tabel33[[#This Row],[Document omschrijving]],'Gegevens documentatie'!D:AE,9,0),IF(Voorblad!$C$6="36a",VLOOKUP(Tabel33[[#This Row],[Document omschrijving]],'Gegevens documentatie'!D:AE,10,0),IF(Voorblad!$C$6="28",VLOOKUP(Tabel33[[#This Row],[Document omschrijving]],'Gegevens documentatie'!D:AE,11,0),IF(Voorblad!$C$6="28a",VLOOKUP(Tabel33[[#This Row],[Document omschrijving]],'Gegevens documentatie'!D:AE,12,0),IF(Voorblad!$C$6="48a",VLOOKUP(Tabel33[[#This Row],[Document omschrijving]],'Gegevens documentatie'!D:AE,13,0),IF(Voorblad!$C$6="54",VLOOKUP(Tabel33[[#This Row],[Document omschrijving]],'Gegevens documentatie'!D:AE,14,0),IF(Voorblad!$C$6="54a",VLOOKUP(Tabel33[[#This Row],[Document omschrijving]],'Gegevens documentatie'!D:AE,15,0),IF(Voorblad!$C$6="56",VLOOKUP(Tabel33[[#This Row],[Document omschrijving]],'Gegevens documentatie'!D:AE,16,0),IF(Voorblad!$C$6="56a",VLOOKUP(Tabel33[[#This Row],[Document omschrijving]],'Gegevens documentatie'!D:AE,17,0),IF(Voorblad!$C$6="93",VLOOKUP(Tabel33[[#This Row],[Document omschrijving]],'Gegevens documentatie'!D:AE,18,0),IF(Voorblad!$C$6="93a",VLOOKUP(Tabel33[[#This Row],[Document omschrijving]],'Gegevens documentatie'!D:AE,19,0),IF(Voorblad!$C$6="105a",VLOOKUP(Tabel33[[#This Row],[Document omschrijving]],'Gegevens documentatie'!D:AE,20,0),IF(Voorblad!$C$6="31",VLOOKUP(Tabel33[[#This Row],[Document omschrijving]],'Gegevens documentatie'!D:AE,21,0),IF(Voorblad!$C$6="33",VLOOKUP(Tabel33[[#This Row],[Document omschrijving]],'Gegevens documentatie'!D:AE,22,0),IF(Voorblad!$C$6="33a",VLOOKUP(Tabel33[[#This Row],[Document omschrijving]],'Gegevens documentatie'!D:AE,23,0),IF(Voorblad!$C$6="37",VLOOKUP(Tabel33[[#This Row],[Document omschrijving]],'Gegevens documentatie'!D:AE,24,0),IF(Voorblad!$C$6="91",VLOOKUP(Tabel33[[#This Row],[Document omschrijving]],'Gegevens documentatie'!D:AE,25,0),IF(Voorblad!$C$6="13",VLOOKUP(Tabel33[[#This Row],[Document omschrijving]],'Gegevens documentatie'!D:AE,26,0),IF(Voorblad!$C$6="58",VLOOKUP(Tabel33[[#This Row],[Document omschrijving]],'Gegevens documentatie'!D:AE,27,0),IF(Voorblad!$C$6="42",VLOOKUP(Tabel33[[#This Row],[Document omschrijving]],'Gegevens documentatie'!D:AE,28,0),""))))))))))))))))))))))),"verplicht",IF(Voorblad!$C$6="27a",VLOOKUP(Tabel33[[#This Row],[Document omschrijving]],'Gegevens documentatie'!D:AE,7,0),IF(Voorblad!$C$6="80a",VLOOKUP(Tabel33[[#This Row],[Document omschrijving]],'Gegevens documentatie'!D:AE,8,0),IF(Voorblad!$C$6="81",VLOOKUP(Tabel33[[#This Row],[Document omschrijving]],'Gegevens documentatie'!D:AE,9,0),IF(Voorblad!$C$6="36a",VLOOKUP(Tabel33[[#This Row],[Document omschrijving]],'Gegevens documentatie'!D:AE,10,0),IF(Voorblad!$C$6="28",VLOOKUP(Tabel33[[#This Row],[Document omschrijving]],'Gegevens documentatie'!D:AE,11,0),IF(Voorblad!$C$6="28a",VLOOKUP(Tabel33[[#This Row],[Document omschrijving]],'Gegevens documentatie'!D:AE,12,0),IF(Voorblad!$C$6="48a",VLOOKUP(Tabel33[[#This Row],[Document omschrijving]],'Gegevens documentatie'!D:AE,13,0),IF(Voorblad!$C$6="54",VLOOKUP(Tabel33[[#This Row],[Document omschrijving]],'Gegevens documentatie'!D:AE,14,0),IF(Voorblad!$C$6="54a",VLOOKUP(Tabel33[[#This Row],[Document omschrijving]],'Gegevens documentatie'!D:AE,15,0),IF(Voorblad!$C$6="56",VLOOKUP(Tabel33[[#This Row],[Document omschrijving]],'Gegevens documentatie'!D:AE,16,0),IF(Voorblad!$C$6="56a",VLOOKUP(Tabel33[[#This Row],[Document omschrijving]],'Gegevens documentatie'!D:AE,17,0),IF(Voorblad!$C$6="93",VLOOKUP(Tabel33[[#This Row],[Document omschrijving]],'Gegevens documentatie'!D:AE,18,0),IF(Voorblad!$C$6="93a",VLOOKUP(Tabel33[[#This Row],[Document omschrijving]],'Gegevens documentatie'!D:AE,19,0),IF(Voorblad!$C$6="105a",VLOOKUP(Tabel33[[#This Row],[Document omschrijving]],'Gegevens documentatie'!D:AE,20,0),IF(Voorblad!$C$6="31",VLOOKUP(Tabel33[[#This Row],[Document omschrijving]],'Gegevens documentatie'!D:AE,21,0),IF(Voorblad!$C$6="33",VLOOKUP(Tabel33[[#This Row],[Document omschrijving]],'Gegevens documentatie'!D:AE,22,0),IF(Voorblad!$C$6="33a",VLOOKUP(Tabel33[[#This Row],[Document omschrijving]],'Gegevens documentatie'!D:AE,23,0),IF(Voorblad!$C$6="37",VLOOKUP(Tabel33[[#This Row],[Document omschrijving]],'Gegevens documentatie'!D:AE,24,0),IF(Voorblad!$C$6="91",VLOOKUP(Tabel33[[#This Row],[Document omschrijving]],'Gegevens documentatie'!D:AE,25,0),IF(Voorblad!$C$6="13",VLOOKUP(Tabel33[[#This Row],[Document omschrijving]],'Gegevens documentatie'!D:AE,26,0),IF(Voorblad!$C$6="58",VLOOKUP(Tabel33[[#This Row],[Document omschrijving]],'Gegevens documentatie'!D:AE,27,0),IF(Voorblad!$C$6="42",VLOOKUP(Tabel33[[#This Row],[Document omschrijving]],'Gegevens documentatie'!D:AE,28,0),""))))))))))))))))))))))) -> verplicht | E24: Nee | H24: =VLOOKUP(Tabel33[[#This Row],[Document omschrijving]],'Gegevens documentatie'!D:AF,29,0) -> DOCX | I24: =IF(Tabel33[[#This Row],[1. Opleveren]]="ja",_xlfn.CONCAT(COUNTIF(Opleverlijst!P:P,Tabel33[[#This Row],[Code Meridian]])," ","geleverd"),"") | J24: =IF(Tabel33[[#This Row],[1. Opleveren]]="ja",_xlfn.CONCAT(COUNTIFS(Opleverlijst!H:H,"as-built",Opleverlijst!P:P,Tabel33[[#This Row],[Code Meridian]])," ","As-built"),"")
A25: Functionele\technische ontwerpen | B25: Functioneel Ontwerp | C25: PA1_40 | D25: =IF(ISNA(IF(Voorblad!$C$6="27a",VLOOKUP(Tabel33[[#This Row],[Document omschrijving]],'Gegevens documentatie'!D:AE,7,0),IF(Voorblad!$C$6="80a",VLOOKUP(Tabel33[[#This Row],[Document omschrijving]],'Gegevens documentatie'!D:AE,8,0),IF(Voorblad!$C$6="81",VLOOKUP(Tabel33[[#This Row],[Document omschrijving]],'Gegevens documentatie'!D:AE,9,0),IF(Voorblad!$C$6="36a",VLOOKUP(Tabel33[[#This Row],[Document omschrijving]],'Gegevens documentatie'!D:AE,10,0),IF(Voorblad!$C$6="28",VLOOKUP(Tabel33[[#This Row],[Document omschrijving]],'Gegevens documentatie'!D:AE,11,0),IF(Voorblad!$C$6="28a",VLOOKUP(Tabel33[[#This Row],[Document omschrijving]],'Gegevens documentatie'!D:AE,12,0),IF(Voorblad!$C$6="48a",VLOOKUP(Tabel33[[#This Row],[Document omschrijving]],'Gegevens documentatie'!D:AE,13,0),IF(Voorblad!$C$6="54",VLOOKUP(Tabel33[[#This Row],[Document omschrijving]],'Gegevens documentatie'!D:AE,14,0),IF(Voorblad!$C$6="54a",VLOOKUP(Tabel33[[#This Row],[Document omschrijving]],'Gegevens documentatie'!D:AE,15,0),IF(Voorblad!$C$6="56",VLOOKUP(Tabel33[[#This Row],[Document omschrijving]],'Gegevens documentatie'!D:AE,16,0),IF(Voorblad!$C$6="56a",VLOOKUP(Tabel33[[#This Row],[Document omschrijving]],'Gegevens documentatie'!D:AE,17,0),IF(Voorblad!$C$6="93",VLOOKUP(Tabel33[[#This Row],[Document omschrijving]],'Gegevens documentatie'!D:AE,18,0),IF(Voorblad!$C$6="93a",VLOOKUP(Tabel33[[#This Row],[Document omschrijving]],'Gegevens documentatie'!D:AE,19,0),IF(Voorblad!$C$6="105a",VLOOKUP(Tabel33[[#This Row],[Document omschrijving]],'Gegevens documentatie'!D:AE,20,0),IF(Voorblad!$C$6="31",VLOOKUP(Tabel33[[#This Row],[Document omschrijving]],'Gegevens documentatie'!D:AE,21,0),IF(Voorblad!$C$6="33",VLOOKUP(Tabel33[[#This Row],[Document omschrijving]],'Gegevens documentatie'!D:AE,22,0),IF(Voorblad!$C$6="33a",VLOOKUP(Tabel33[[#This Row],[Document omschrijving]],'Gegevens documentatie'!D:AE,23,0),IF(Voorblad!$C$6="37",VLOOKUP(Tabel33[[#This Row],[Document omschrijving]],'Gegevens documentatie'!D:AE,24,0),IF(Voorblad!$C$6="91",VLOOKUP(Tabel33[[#This Row],[Document omschrijving]],'Gegevens documentatie'!D:AE,25,0),IF(Voorblad!$C$6="13",VLOOKUP(Tabel33[[#This Row],[Document omschrijving]],'Gegevens documentatie'!D:AE,26,0),IF(Voorblad!$C$6="58",VLOOKUP(Tabel33[[#This Row],[Document omschrijving]],'Gegevens documentatie'!D:AE,27,0),IF(Voorblad!$C$6="42",VLOOKUP(Tabel33[[#This Row],[Document omschrijving]],'Gegevens documentatie'!D:AE,28,0),""))))))))))))))))))))))),"verplicht",IF(Voorblad!$C$6="27a",VLOOKUP(Tabel33[[#This Row],[Document omschrijving]],'Gegevens documentatie'!D:AE,7,0),IF(Voorblad!$C$6="80a",VLOOKUP(Tabel33[[#This Row],[Document omschrijving]],'Gegevens documentatie'!D:AE,8,0),IF(Voorblad!$C$6="81",VLOOKUP(Tabel33[[#This Row],[Document omschrijving]],'Gegevens documentatie'!D:AE,9,0),IF(Voorblad!$C$6="36a",VLOOKUP(Tabel33[[#This Row],[Document omschrijving]],'Gegevens documentatie'!D:AE,10,0),IF(Voorblad!$C$6="28",VLOOKUP(Tabel33[[#This Row],[Document omschrijving]],'Gegevens documentatie'!D:AE,11,0),IF(Voorblad!$C$6="28a",VLOOKUP(Tabel33[[#This Row],[Document omschrijving]],'Gegevens documentatie'!D:AE,12,0),IF(Voorblad!$C$6="48a",VLOOKUP(Tabel33[[#This Row],[Document omschrijving]],'Gegevens documentatie'!D:AE,13,0),IF(Voorblad!$C$6="54",VLOOKUP(Tabel33[[#This Row],[Document omschrijving]],'Gegevens documentatie'!D:AE,14,0),IF(Voorblad!$C$6="54a",VLOOKUP(Tabel33[[#This Row],[Document omschrijving]],'Gegevens documentatie'!D:AE,15,0),IF(Voorblad!$C$6="56",VLOOKUP(Tabel33[[#This Row],[Document omschrijving]],'Gegevens documentatie'!D:AE,16,0),IF(Voorblad!$C$6="56a",VLOOKUP(Tabel33[[#This Row],[Document omschrijving]],'Gegevens documentatie'!D:AE,17,0),IF(Voorblad!$C$6="93",VLOOKUP(Tabel33[[#This Row],[Document omschrijving]],'Gegevens documentatie'!D:AE,18,0),IF(Voorblad!$C$6="93a",VLOOKUP(Tabel33[[#This Row],[Document omschrijving]],'Gegevens documentatie'!D:AE,19,0),IF(Voorblad!$C$6="105a",VLOOKUP(Tabel33[[#This Row],[Document omschrijving]],'Gegevens documentatie'!D:AE,20,0),IF(Voorblad!$C$6="31",VLOOKUP(Tabel33[[#This Row],[Document omschrijving]],'Gegevens documentatie'!D:AE,21,0),IF(Voorblad!$C$6="33",VLOOKUP(Tabel33[[#This Row],[Document omschrijving]],'Gegevens documentatie'!D:AE,22,0),IF(Voorblad!$C$6="33a",VLOOKUP(Tabel33[[#This Row],[Document omschrijving]],'Gegevens documentatie'!D:AE,23,0),IF(Voorblad!$C$6="37",VLOOKUP(Tabel33[[#This Row],[Document omschrijving]],'Gegevens documentatie'!D:AE,24,0),IF(Voorblad!$C$6="91",VLOOKUP(Tabel33[[#This Row],[Document omschrijving]],'Gegevens documentatie'!D:AE,25,0),IF(Voorblad!$C$6="13",VLOOKUP(Tabel33[[#This Row],[Document omschrijving]],'Gegevens documentatie'!D:AE,26,0),IF(Voorblad!$C$6="58",VLOOKUP(Tabel33[[#This Row],[Document omschrijving]],'Gegevens documentatie'!D:AE,27,0),IF(Voorblad!$C$6="42",VLOOKUP(Tabel33[[#This Row],[Document omschrijving]],'Gegevens documentatie'!D:AE,28,0),""))))))))))))))))))))))) -> verplicht | E25: Ja | F25: VSP PA | G25: Oplegblad FO | H25: =VLOOKUP(Tabel33[[#This Row],[Document omschrijving]],'Gegevens documentatie'!D:AF,29,0) -> DOCX | I25: =IF(Tabel33[[#This Row],[1. Opleveren]]="ja",_xlfn.CONCAT(COUNTIF(Opleverlijst!P:P,Tabel33[[#This Row],[Code Meridian]])," ","geleverd"),"") -> 0 geleverd | J25: =IF(Tabel33[[#This Row],[1. Opleveren]]="ja",_xlfn.CONCAT(COUNTIFS(Opleverlijst!H:H,"as-built",Opleverlijst!P:P,Tabel33[[#This Row],[Code Meridian]])," ","As-built"),"") -> 0 As-built
A26: Functionele\technische ontwerpen | B26: Technisch Ontwerp Hardware | C26: PA1_70 | D26: =IF(ISNA(IF(Voorblad!$C$6="27a",VLOOKUP(Tabel33[[#This Row],[Document omschrijving]],'Gegevens documentatie'!D:AE,7,0),IF(Voorblad!$C$6="80a",VLOOKUP(Tabel33[[#This Row],[Document omschrijving]],'Gegevens documentatie'!D:AE,8,0),IF(Voorblad!$C$6="81",VLOOKUP(Tabel33[[#This Row],[Document omschrijving]],'Gegevens documentatie'!D:AE,9,0),IF(Voorblad!$C$6="36a",VLOOKUP(Tabel33[[#This Row],[Document omschrijving]],'Gegevens documentatie'!D:AE,10,0),IF(Voorblad!$C$6="28",VLOOKUP(Tabel33[[#This Row],[Document omschrijving]],'Gegevens documentatie'!D:AE,11,0),IF(Voorblad!$C$6="28a",VLOOKUP(Tabel33[[#This Row],[Document omschrijving]],'Gegevens documentatie'!D:AE,12,0),IF(Voorblad!$C$6="48a",VLOOKUP(Tabel33[[#This Row],[Document omschrijving]],'Gegevens documentatie'!D:AE,13,0),IF(Voorblad!$C$6="54",VLOOKUP(Tabel33[[#This Row],[Document omschrijving]],'Gegevens documentatie'!D:AE,14,0),IF(Voorblad!$C$6="54a",VLOOKUP(Tabel33[[#This Row],[Document omschrijving]],'Gegevens documentatie'!D:AE,15,0),IF(Voorblad!$C$6="56",VLOOKUP(Tabel33[[#This Row],[Document omschrijving]],'Gegevens documentatie'!D:AE,16,0),IF(Voorblad!$C$6="56a",VLOOKUP(Tabel33[[#This Row],[Document omschrijving]],'Gegevens documentatie'!D:AE,17,0),IF(Voorblad!$C$6="93",VLOOKUP(Tabel33[[#This Row],[Document omschrijving]],'Gegevens documentatie'!D:AE,18,0),IF(Voorblad!$C$6="93a",VLOOKUP(Tabel33[[#This Row],[Document omschrijving]],'Gegevens documentatie'!D:AE,19,0),IF(Voorblad!$C$6="105a",VLOOKUP(Tabel33[[#This Row],[Document omschrijving]],'Gegevens documentatie'!D:AE,20,0),IF(Voorblad!$C$6="31",VLOOKUP(Tabel33[[#This Row],[Document omschrijving]],'Gegevens documentatie'!D:AE,21,0),IF(Voorblad!$C$6="33",VLOOKUP(Tabel33[[#This Row],[Document omschrijving]],'Gegevens documentatie'!D:AE,22,0),IF(Voorblad!$C$6="33a",VLOOKUP(Tabel33[[#This Row],[Document omschrijving]],'Gegevens documentatie'!D:AE,23,0),IF(Voorblad!$C$6="37",VLOOKUP(Tabel33[[#This Row],[Document omschrijving]],'Gegevens documentatie'!D:AE,24,0),IF(Voorblad!$C$6="91",VLOOKUP(Tabel33[[#This Row],[Document omschrijving]],'Gegevens documentatie'!D:AE,25,0),IF(Voorblad!$C$6="13",VLOOKUP(Tabel33[[#This Row],[Document omschrijving]],'Gegevens documentatie'!D:AE,26,0),IF(Voorblad!$C$6="58",VLOOKUP(Tabel33[[#This Row],[Document omschrijving]],'Gegevens documentatie'!D:AE,27,0),IF(Voorblad!$C$6="42",VLOOKUP(Tabel33[[#This Row],[Document omschrijving]],'Gegevens documentatie'!D:AE,28,0),""))))))))))))))))))))))),"verplicht",IF(Voorblad!$C$6="27a",VLOOKUP(Tabel33[[#This Row],[Document omschrijving]],'Gegevens documentatie'!D:AE,7,0),IF(Voorblad!$C$6="80a",VLOOKUP(Tabel33[[#This Row],[Document omschrijving]],'Gegevens documentatie'!D:AE,8,0),IF(Voorblad!$C$6="81",VLOOKUP(Tabel33[[#This Row],[Document omschrijving]],'Gegevens documentatie'!D:AE,9,0),IF(Voorblad!$C$6="36a",VLOOKUP(Tabel33[[#This Row],[Document omschrijving]],'Gegevens documentatie'!D:AE,10,0),IF(Voorblad!$C$6="28",VLOOKUP(Tabel33[[#This Row],[Document omschrijving]],'Gegevens documentatie'!D:AE,11,0),IF(Voorblad!$C$6="28a",VLOOKUP(Tabel33[[#This Row],[Document omschrijving]],'Gegevens documentatie'!D:AE,12,0),IF(Voorblad!$C$6="48a",VLOOKUP(Tabel33[[#This Row],[Document omschrijving]],'Gegevens documentatie'!D:AE,13,0),IF(Voorblad!$C$6="54",VLOOKUP(Tabel33[[#This Row],[Document omschrijving]],'Gegevens documentatie'!D:AE,14,0),IF(Voorblad!$C$6="54a",VLOOKUP(Tabel33[[#This Row],[Document omschrijving]],'Gegevens documentatie'!D:AE,15,0),IF(Voorblad!$C$6="56",VLOOKUP(Tabel33[[#This Row],[Document omschrijving]],'Gegevens documentatie'!D:AE,16,0),IF(Voorblad!$C$6="56a",VLOOKUP(Tabel33[[#This Row],[Document omschrijving]],'Gegevens documentatie'!D:AE,17,0),IF(Voorblad!$C$6="93",VLOOKUP(Tabel33[[#This Row],[Document omschrijving]],'Gegevens documentatie'!D:AE,18,0),IF(Voorblad!$C$6="93a",VLOOKUP(Tabel33[[#This Row],[Document omschrijving]],'Gegevens documentatie'!D:AE,19,0),IF(Voorblad!$C$6="105a",VLOOKUP(Tabel33[[#This Row],[Document omschrijving]],'Gegevens documentatie'!D:AE,20,0),IF(Voorblad!$C$6="31",VLOOKUP(Tabel33[[#This Row],[Document omschrijving]],'Gegevens documentatie'!D:AE,21,0),IF(Voorblad!$C$6="33",VLOOKUP(Tabel33[[#This Row],[Document omschrijving]],'Gegevens documentatie'!D:AE,22,0),IF(Voorblad!$C$6="33a",VLOOKUP(Tabel33[[#This Row],[Document omschrijving]],'Gegevens documentatie'!D:AE,23,0),IF(Voorblad!$C$6="37",VLOOKUP(Tabel33[[#This Row],[Document omschrijving]],'Gegevens documentatie'!D:AE,24,0),IF(Voorblad!$C$6="91",VLOOKUP(Tabel33[[#This Row],[Document omschrijving]],'Gegevens documentatie'!D:AE,25,0),IF(Voorblad!$C$6="13",VLOOKUP(Tabel33[[#This Row],[Document omschrijving]],'Gegevens documentatie'!D:AE,26,0),IF(Voorblad!$C$6="58",VLOOKUP(Tabel33[[#This Row],[Document omschrijving]],'Gegevens documentatie'!D:AE,27,0),IF(Voorblad!$C$6="42",VLOOKUP(Tabel33[[#This Row],[Document omschrijving]],'Gegevens documentatie'!D:AE,28,0),""))))))))))))))))))))))) -> verplicht | E26: Nee | H26: =VLOOKUP(Tabel33[[#This Row],[Document omschrijving]],'Gegevens documentatie'!D:AF,29,0) -> DOCX | I26: =IF(Tabel33[[#This Row],[1. Opleveren]]="ja",_xlfn.CONCAT(COUNTIF(Opleverlijst!P:P,Tabel33[[#This Row],[Code Meridian]])," ","geleverd"),"") | J26: =IF(Tabel33[[#This Row],[1. Opleveren]]="ja",_xlfn.CONCAT(COUNTIFS(Opleverlijst!H:H,"as-built",Opleverlijst!P:P,Tabel33[[#This Row],[Code Meridian]])," ","As-built"),"")
A27: Functionele\technische ontwerpen | B27: Technisch Ontwerp Software | C27: PA1_80 | D27: =IF(ISNA(IF(Voorblad!$C$6="27a",VLOOKUP(Tabel33[[#This Row],[Document omschrijving]],'Gegevens documentatie'!D:AE,7,0),IF(Voorblad!$C$6="80a",VLOOKUP(Tabel33[[#This Row],[Document omschrijving]],'Gegevens documentatie'!D:AE,8,0),IF(Voorblad!$C$6="81",VLOOKUP(Tabel33[[#This Row],[Document omschrijving]],'Gegevens documentatie'!D:AE,9,0),IF(Voorblad!$C$6="36a",VLOOKUP(Tabel33[[#This Row],[Document omschrijving]],'Gegevens documentatie'!D:AE,10,0),IF(Voorblad!$C$6="28",VLOOKUP(Tabel33[[#This Row],[Document omschrijving]],'Gegevens documentatie'!D:AE,11,0),IF(Voorblad!$C$6="28a",VLOOKUP(Tabel33[[#This Row],[Document omschrijving]],'Gegevens documentatie'!D:AE,12,0),IF(Voorblad!$C$6="48a",VLOOKUP(Tabel33[[#This Row],[Document omschrijving]],'Gegevens documentatie'!D:AE,13,0),IF(Voorblad!$C$6="54",VLOOKUP(Tabel33[[#This Row],[Document omschrijving]],'Gegevens documentatie'!D:AE,14,0),IF(Voorblad!$C$6="54a",VLOOKUP(Tabel33[[#This Row],[Document omschrijving]],'Gegevens documentatie'!D:AE,15,0),IF(Voorblad!$C$6="56",VLOOKUP(Tabel33[[#This Row],[Document omschrijving]],'Gegevens documentatie'!D:AE,16,0),IF(Voorblad!$C$6="56a",VLOOKUP(Tabel33[[#This Row],[Document omschrijving]],'Gegevens documentatie'!D:AE,17,0),IF(Voorblad!$C$6="93",VLOOKUP(Tabel33[[#This Row],[Document omschrijving]],'Gegevens documentatie'!D:AE,18,0),IF(Voorblad!$C$6="93a",VLOOKUP(Tabel33[[#This Row],[Document omschrijving]],'Gegevens documentatie'!D:AE,19,0),IF(Voorblad!$C$6="105a",VLOOKUP(Tabel33[[#This Row],[Document omschrijving]],'Gegevens documentatie'!D:AE,20,0),IF(Voorblad!$C$6="31",VLOOKUP(Tabel33[[#This Row],[Document omschrijving]],'Gegevens documentatie'!D:AE,21,0),IF(Voorblad!$C$6="33",VLOOKUP(Tabel33[[#This Row],[Document omschrijving]],'Gegevens documentatie'!D:AE,22,0),IF(Voorblad!$C$6="33a",VLOOKUP(Tabel33[[#This Row],[Document omschrijving]],'Gegevens documentatie'!D:AE,23,0),IF(Voorblad!$C$6="37",VLOOKUP(Tabel33[[#This Row],[Document omschrijving]],'Gegevens documentatie'!D:AE,24,0),IF(Voorblad!$C$6="91",VLOOKUP(Tabel33[[#This Row],[Document omschrijving]],'Gegevens documentatie'!D:AE,25,0),IF(Voorblad!$C$6="13",VLOOKUP(Tabel33[[#This Row],[Document omschrijving]],'Gegevens documentatie'!D:AE,26,0),IF(Voorblad!$C$6="58",VLOOKUP(Tabel33[[#This Row],[Document omschrijving]],'Gegevens documentatie'!D:AE,27,0),IF(Voorblad!$C$6="42",VLOOKUP(Tabel33[[#This Row],[Document omschrijving]],'Gegevens documentatie'!D:AE,28,0),""))))))))))))))))))))))),"verplicht",IF(Voorblad!$C$6="27a",VLOOKUP(Tabel33[[#This Row],[Document omschrijving]],'Gegevens documentatie'!D:AE,7,0),IF(Voorblad!$C$6="80a",VLOOKUP(Tabel33[[#This Row],[Document omschrijving]],'Gegevens documentatie'!D:AE,8,0),IF(Voorblad!$C$6="81",VLOOKUP(Tabel33[[#This Row],[Document omschrijving]],'Gegevens documentatie'!D:AE,9,0),IF(Voorblad!$C$6="36a",VLOOKUP(Tabel33[[#This Row],[Document omschrijving]],'Gegevens documentatie'!D:AE,10,0),IF(Voorblad!$C$6="28",VLOOKUP(Tabel33[[#This Row],[Document omschrijving]],'Gegevens documentatie'!D:AE,11,0),IF(Voorblad!$C$6="28a",VLOOKUP(Tabel33[[#This Row],[Document omschrijving]],'Gegevens documentatie'!D:AE,12,0),IF(Voorblad!$C$6="48a",VLOOKUP(Tabel33[[#This Row],[Document omschrijving]],'Gegevens documentatie'!D:AE,13,0),IF(Voorblad!$C$6="54",VLOOKUP(Tabel33[[#This Row],[Document omschrijving]],'Gegevens documentatie'!D:AE,14,0),IF(Voorblad!$C$6="54a",VLOOKUP(Tabel33[[#This Row],[Document omschrijving]],'Gegevens documentatie'!D:AE,15,0),IF(Voorblad!$C$6="56",VLOOKUP(Tabel33[[#This Row],[Document omschrijving]],'Gegevens documentatie'!D:AE,16,0),IF(Voorblad!$C$6="56a",VLOOKUP(Tabel33[[#This Row],[Document omschrijving]],'Gegevens documentatie'!D:AE,17,0),IF(Voorblad!$C$6="93",VLOOKUP(Tabel33[[#This Row],[Document omschrijving]],'Gegevens documentatie'!D:AE,18,0),IF(Voorblad!$C$6="93a",VLOOKUP(Tabel33[[#This Row],[Document omschrijving]],'Gegevens documentatie'!D:AE,19,0),IF(Voorblad!$C$6="105a",VLOOKUP(Tabel33[[#This Row],[Document omschrijving]],'Gegevens documentatie'!D:AE,20,0),IF(Voorblad!$C$6="31",VLOOKUP(Tabel33[[#This Row],[Document omschrijving]],'Gegevens documentatie'!D:AE,21,0),IF(Voorblad!$C$6="33",VLOOKUP(Tabel33[[#This Row],[Document omschrijving]],'Gegevens documentatie'!D:AE,22,0),IF(Voorblad!$C$6="33a",VLOOKUP(Tabel33[[#This Row],[Document omschrijving]],'Gegevens documentatie'!D:AE,23,0),IF(Voorblad!$C$6="37",VLOOKUP(Tabel33[[#This Row],[Document omschrijving]],'Gegevens documentatie'!D:AE,24,0),IF(Voorblad!$C$6="91",VLOOKUP(Tabel33[[#This Row],[Document omschrijving]],'Gegevens documentatie'!D:AE,25,0),IF(Voorblad!$C$6="13",VLOOKUP(Tabel33[[#This Row],[Document omschrijving]],'Gegevens documentatie'!D:AE,26,0),IF(Voorblad!$C$6="58",VLOOKUP(Tabel33[[#This Row],[Document omschrijving]],'Gegevens documentatie'!D:AE,27,0),IF(Voorblad!$C$6="42",VLOOKUP(Tabel33[[#This Row],[Document omschrijving]],'Gegevens documentatie'!D:AE,28,0),""))))))))))))))))))))))) -> verplicht | E27: Ja | F27: VSP PA | H27: =VLOOKUP(Tabel33[[#This Row],[Document omschrijving]],'Gegevens documentatie'!D:AF,29,0) -> DOCX | I27: =IF(Tabel33[[#This Row],[1. Opleveren]]="ja",_xlfn.CONCAT(COUNTIF(Opleverlijst!P:P,Tabel33[[#This Row],[Code Meridian]])," ","geleverd"),"") -> 0 geleverd | J27: =IF(Tabel33[[#This Row],[1. Opleveren]]="ja",_xlfn.CONCAT(COUNTIFS(Opleverlijst!H:H,"as-built",Opleverlijst!P:P,Tabel33[[#This Row],[Code Meridian]])," ","As-built"),"") -> 0 As-built
A28: Tekeningen (Civiel) | B28: Schema Afvalwatertransportsysteem | C28: CB2.10 | D28: =IF(ISNA(IF(Voorblad!$C$6="27a",VLOOKUP(Tabel33[[#This Row],[Document omschrijving]],'Gegevens documentatie'!D:AE,7,0),IF(Voorblad!$C$6="80a",VLOOKUP(Tabel33[[#This Row],[Document omschrijving]],'Gegevens documentatie'!D:AE,8,0),IF(Voorblad!$C$6="81",VLOOKUP(Tabel33[[#This Row],[Document omschrijving]],'Gegevens documentatie'!D:AE,9,0),IF(Voorblad!$C$6="36a",VLOOKUP(Tabel33[[#This Row],[Document omschrijving]],'Gegevens documentatie'!D:AE,10,0),IF(Voorblad!$C$6="28",VLOOKUP(Tabel33[[#This Row],[Document omschrijving]],'Gegevens documentatie'!D:AE,11,0),IF(Voorblad!$C$6="28a",VLOOKUP(Tabel33[[#This Row],[Document omschrijving]],'Gegevens documentatie'!D:AE,12,0),IF(Voorblad!$C$6="48a",VLOOKUP(Tabel33[[#This Row],[Document omschrijving]],'Gegevens documentatie'!D:AE,13,0),IF(Voorblad!$C$6="54",VLOOKUP(Tabel33[[#This Row],[Document omschrijving]],'Gegevens documentatie'!D:AE,14,0),IF(Voorblad!$C$6="54a",VLOOKUP(Tabel33[[#This Row],[Document omschrijving]],'Gegevens documentatie'!D:AE,15,0),IF(Voorblad!$C$6="56",VLOOKUP(Tabel33[[#This Row],[Document omschrijving]],'Gegevens documentatie'!D:AE,16,0),IF(Voorblad!$C$6="56a",VLOOKUP(Tabel33[[#This Row],[Document omschrijving]],'Gegevens documentatie'!D:AE,17,0),IF(Voorblad!$C$6="93",VLOOKUP(Tabel33[[#This Row],[Document omschrijving]],'Gegevens documentatie'!D:AE,18,0),IF(Voorblad!$C$6="93a",VLOOKUP(Tabel33[[#This Row],[Document omschrijving]],'Gegevens documentatie'!D:AE,19,0),IF(Voorblad!$C$6="105a",VLOOKUP(Tabel33[[#This Row],[Document omschrijving]],'Gegevens documentatie'!D:AE,20,0),IF(Voorblad!$C$6="31",VLOOKUP(Tabel33[[#This Row],[Document omschrijving]],'Gegevens documentatie'!D:AE,21,0),IF(Voorblad!$C$6="33",VLOOKUP(Tabel33[[#This Row],[Document omschrijving]],'Gegevens documentatie'!D:AE,22,0),IF(Voorblad!$C$6="33a",VLOOKUP(Tabel33[[#This Row],[Document omschrijving]],'Gegevens documentatie'!D:AE,23,0),IF(Voorblad!$C$6="37",VLOOKUP(Tabel33[[#This Row],[Document omschrijving]],'Gegevens documentatie'!D:AE,24,0),IF(Voorblad!$C$6="91",VLOOKUP(Tabel33[[#This Row],[Document omschrijving]],'Gegevens documentatie'!D:AE,25,0),IF(Voorblad!$C$6="13",VLOOKUP(Tabel33[[#This Row],[Document omschrijving]],'Gegevens documentatie'!D:AE,26,0),IF(Voorblad!$C$6="58",VLOOKUP(Tabel33[[#This Row],[Document omschrijving]],'Gegevens documentatie'!D:AE,27,0),IF(Voorblad!$C$6="42",VLOOKUP(Tabel33[[#This Row],[Document omschrijving]],'Gegevens documentatie'!D:AE,28,0),""))))))))))))))))))))))),"verplicht",IF(Voorblad!$C$6="27a",VLOOKUP(Tabel33[[#This Row],[Document omschrijving]],'Gegevens documentatie'!D:AE,7,0),IF(Voorblad!$C$6="80a",VLOOKUP(Tabel33[[#This Row],[Document omschrijving]],'Gegevens documentatie'!D:AE,8,0),IF(Voorblad!$C$6="81",VLOOKUP(Tabel33[[#This Row],[Document omschrijving]],'Gegevens documentatie'!D:AE,9,0),IF(Voorblad!$C$6="36a",VLOOKUP(Tabel33[[#This Row],[Document omschrijving]],'Gegevens documentatie'!D:AE,10,0),IF(Voorblad!$C$6="28",VLOOKUP(Tabel33[[#This Row],[Document omschrijving]],'Gegevens documentatie'!D:AE,11,0),IF(Voorblad!$C$6="28a",VLOOKUP(Tabel33[[#This Row],[Document omschrijving]],'Gegevens documentatie'!D:AE,12,0),IF(Voorblad!$C$6="48a",VLOOKUP(Tabel33[[#This Row],[Document omschrijving]],'Gegevens documentatie'!D:AE,13,0),IF(Voorblad!$C$6="54",VLOOKUP(Tabel33[[#This Row],[Document omschrijving]],'Gegevens documentatie'!D:AE,14,0),IF(Voorblad!$C$6="54a",VLOOKUP(Tabel33[[#This Row],[Document omschrijving]],'Gegevens documentatie'!D:AE,15,0),IF(Voorblad!$C$6="56",VLOOKUP(Tabel33[[#This Row],[Document omschrijving]],'Gegevens documentatie'!D:AE,16,0),IF(Voorblad!$C$6="56a",VLOOKUP(Tabel33[[#This Row],[Document omschrijving]],'Gegevens documentatie'!D:AE,17,0),IF(Voorblad!$C$6="93",VLOOKUP(Tabel33[[#This Row],[Document omschrijving]],'Gegevens documentatie'!D:AE,18,0),IF(Voorblad!$C$6="93a",VLOOKUP(Tabel33[[#This Row],[Document omschrijving]],'Gegevens documentatie'!D:AE,19,0),IF(Voorblad!$C$6="105a",VLOOKUP(Tabel33[[#This Row],[Document omschrijving]],'Gegevens documentatie'!D:AE,20,0),IF(Voorblad!$C$6="31",VLOOKUP(Tabel33[[#This Row],[Document omschrijving]],'Gegevens documentatie'!D:AE,21,0),IF(Voorblad!$C$6="33",VLOOKUP(Tabel33[[#This Row],[Document omschrijving]],'Gegevens documentatie'!D:AE,22,0),IF(Voorblad!$C$6="33a",VLOOKUP(Tabel33[[#This Row],[Document omschrijving]],'Gegevens documentatie'!D:AE,23,0),IF(Voorblad!$C$6="37",VLOOKUP(Tabel33[[#This Row],[Document omschrijving]],'Gegevens documentatie'!D:AE,24,0),IF(Voorblad!$C$6="91",VLOOKUP(Tabel33[[#This Row],[Document omschrijving]],'Gegevens documentatie'!D:AE,25,0),IF(Voorblad!$C$6="13",VLOOKUP(Tabel33[[#This Row],[Document omschrijving]],'Gegevens documentatie'!D:AE,26,0),IF(Voorblad!$C$6="58",VLOOKUP(Tabel33[[#This Row],[Document omschrijving]],'Gegevens documentatie'!D:AE,27,0),IF(Voorblad!$C$6="42",VLOOKUP(Tabel33[[#This Row],[Document omschrijving]],'Gegevens documentatie'!D:AE,28,0),""))))))))))))))))))))))) -> verplicht | E28: Ja | F28: VSP CIV | H28: =VLOOKUP(Tabel33[[#This Row],[Document omschrijving]],'Gegevens documentatie'!D:AF,29,0) -> DWG | I28: =IF(Tabel33[[#This Row],[1. Opleveren]]="ja",_xlfn.CONCAT(COUNTIF(Opleverlijst!P:P,Tabel33[[#This Row],[Code Meridian]])," ","geleverd"),"") -> 0 geleverd | J28: =IF(Tabel33[[#This Row],[1. Opleveren]]="ja",_xlfn.CONCAT(COUNTIFS(Opleverlijst!H:H,"as-built",Opleverlijst!P:P,Tabel33[[#This Row],[Code Meridian]])," ","As-built"),"") -> 0 As-built
A29: Tekeningen (Civiel) | B29: Civielbouwkundige tekeningen AS-built en detail tekeningen | C29: CB2.6 | D29: =IF(ISNA(IF(Voorblad!$C$6="27a",VLOOKUP(Tabel33[[#This Row],[Document omschrijving]],'Gegevens documentatie'!D:AE,7,0),IF(Voorblad!$C$6="80a",VLOOKUP(Tabel33[[#This Row],[Document omschrijving]],'Gegevens documentatie'!D:AE,8,0),IF(Voorblad!$C$6="81",VLOOKUP(Tabel33[[#This Row],[Document omschrijving]],'Gegevens documentatie'!D:AE,9,0),IF(Voorblad!$C$6="36a",VLOOKUP(Tabel33[[#This Row],[Document omschrijving]],'Gegevens documentatie'!D:AE,10,0),IF(Voorblad!$C$6="28",VLOOKUP(Tabel33[[#This Row],[Document omschrijving]],'Gegevens documentatie'!D:AE,11,0),IF(Voorblad!$C$6="28a",VLOOKUP(Tabel33[[#This Row],[Document omschrijving]],'Gegevens documentatie'!D:AE,12,0),IF(Voorblad!$C$6="48a",VLOOKUP(Tabel33[[#This Row],[Document omschrijving]],'Gegevens documentatie'!D:AE,13,0),IF(Voorblad!$C$6="54",VLOOKUP(Tabel33[[#This Row],[Document omschrijving]],'Gegevens documentatie'!D:AE,14,0),IF(Voorblad!$C$6="54a",VLOOKUP(Tabel33[[#This Row],[Document omschrijving]],'Gegevens documentatie'!D:AE,15,0),IF(Voorblad!$C$6="56",VLOOKUP(Tabel33[[#This Row],[Document omschrijving]],'Gegevens documentatie'!D:AE,16,0),IF(Voorblad!$C$6="56a",VLOOKUP(Tabel33[[#This Row],[Document omschrijving]],'Gegevens documentatie'!D:AE,17,0),IF(Voorblad!$C$6="93",VLOOKUP(Tabel33[[#This Row],[Document omschrijving]],'Gegevens documentatie'!D:AE,18,0),IF(Voorblad!$C$6="93a",VLOOKUP(Tabel33[[#This Row],[Document omschrijving]],'Gegevens documentatie'!D:AE,19,0),IF(Voorblad!$C$6="105a",VLOOKUP(Tabel33[[#This Row],[Document omschrijving]],'Gegevens documentatie'!D:AE,20,0),IF(Voorblad!$C$6="31",VLOOKUP(Tabel33[[#This Row],[Document omschrijving]],'Gegevens documentatie'!D:AE,21,0),IF(Voorblad!$C$6="33",VLOOKUP(Tabel33[[#This Row],[Document omschrijving]],'Gegevens documentatie'!D:AE,22,0),IF(Voorblad!$C$6="33a",VLOOKUP(Tabel33[[#This Row],[Document omschrijving]],'Gegevens documentatie'!D:AE,23,0),IF(Voorblad!$C$6="37",VLOOKUP(Tabel33[[#This Row],[Document omschrijving]],'Gegevens documentatie'!D:AE,24,0),IF(Voorblad!$C$6="91",VLOOKUP(Tabel33[[#This Row],[Document omschrijving]],'Gegevens documentatie'!D:AE,25,0),IF(Voorblad!$C$6="13",VLOOKUP(Tabel33[[#This Row],[Document omschrijving]],'Gegevens documentatie'!D:AE,26,0),IF(Voorblad!$C$6="58",VLOOKUP(Tabel33[[#This Row],[Document omschrijving]],'Gegevens documentatie'!D:AE,27,0),IF(Voorblad!$C$6="42",VLOOKUP(Tabel33[[#This Row],[Document omschrijving]],'Gegevens documentatie'!D:AE,28,0),""))))))))))))))))))))))),"verplicht",IF(Voorblad!$C$6="27a",VLOOKUP(Tabel33[[#This Row],[Document omschrijving]],'Gegevens documentatie'!D:AE,7,0),IF(Voorblad!$C$6="80a",VLOOKUP(Tabel33[[#This Row],[Document omschrijving]],'Gegevens documentatie'!D:AE,8,0),IF(Voorblad!$C$6="81",VLOOKUP(Tabel33[[#This Row],[Document omschrijving]],'Gegevens documentatie'!D:AE,9,0),IF(Voorblad!$C$6="36a",VLOOKUP(Tabel33[[#This Row],[Document omschrijving]],'Gegevens documentatie'!D:AE,10,0),IF(Voorblad!$C$6="28",VLOOKUP(Tabel33[[#This Row],[Document omschrijving]],'Gegevens documentatie'!D:AE,11,0),IF(Voorblad!$C$6="28a",VLOOKUP(Tabel33[[#This Row],[Document omschrijving]],'Gegevens documentatie'!D:AE,12,0),IF(Voorblad!$C$6="48a",VLOOKUP(Tabel33[[#This Row],[Document omschrijving]],'Gegevens documentatie'!D:AE,13,0),IF(Voorblad!$C$6="54",VLOOKUP(Tabel33[[#This Row],[Document omschrijving]],'Gegevens documentatie'!D:AE,14,0),IF(Voorblad!$C$6="54a",VLOOKUP(Tabel33[[#This Row],[Document omschrijving]],'Gegevens documentatie'!D:AE,15,0),IF(Voorblad!$C$6="56",VLOOKUP(Tabel33[[#This Row],[Document omschrijving]],'Gegevens documentatie'!D:AE,16,0),IF(Voorblad!$C$6="56a",VLOOKUP(Tabel33[[#This Row],[Document omschrijving]],'Gegevens documentatie'!D:AE,17,0),IF(Voorblad!$C$6="93",VLOOKUP(Tabel33[[#This Row],[Document omschrijving]],'Gegevens documentatie'!D:AE,18,0),IF(Voorblad!$C$6="93a",VLOOKUP(Tabel33[[#This Row],[Document omschrijving]],'Gegevens documentatie'!D:AE,19,0),IF(Voorblad!$C$6="105a",VLOOKUP(Tabel33[[#This Row],[Document omschrijving]],'Gegevens documentatie'!D:AE,20,0),IF(Voorblad!$C$6="31",VLOOKUP(Tabel33[[#This Row],[Document omschrijving]],'Gegevens documentatie'!D:AE,21,0),IF(Voorblad!$C$6="33",VLOOKUP(Tabel33[[#This Row],[Document omschrijving]],'Gegevens documentatie'!D:AE,22,0),IF(Voorblad!$C$6="33a",VLOOKUP(Tabel33[[#This Row],[Document omschrijving]],'Gegevens documentatie'!D:AE,23,0),IF(Voorblad!$C$6="37",VLOOKUP(Tabel33[[#This Row],[Document omschrijving]],'Gegevens documentatie'!D:AE,24,0),IF(Voorblad!$C$6="91",VLOOKUP(Tabel33[[#This Row],[Document omschrijving]],'Gegevens documentatie'!D:AE,25,0),IF(Voorblad!$C$6="13",VLOOKUP(Tabel33[[#This Row],[Document omschrijving]],'Gegevens documentatie'!D:AE,26,0),IF(Voorblad!$C$6="58",VLOOKUP(Tabel33[[#This Row],[Document omschrijving]],'Gegevens documentatie'!D:AE,27,0),IF(Voorblad!$C$6="42",VLOOKUP(Tabel33[[#This Row],[Document omschrijving]],'Gegevens documentatie'!D:AE,28,0),""))))))))))))))))))))))) -> verplicht | E29: Ja | F29: VSP CIV | H29: =VLOOKUP(Tabel33[[#This Row],[Document omschrijving]],'Gegevens documentatie'!D:AF,29,0) -> DWG | I29: =IF(Tabel33[[#This Row],[1. Opleveren]]="ja",_xlfn.CONCAT(COUNTIF(Opleverlijst!P:P,Tabel33[[#This Row],[Code Meridian]])," ","geleverd"),"") -> 0 geleverd | J29: =IF(Tabel33[[#This Row],[1. Opleveren]]="ja",_xlfn.CONCAT(COUNTIFS(Opleverlijst!H:H,"as-built",Opleverlijst!P:P,Tabel33[[#This Row],[Code Meridian]])," ","As-built"),"") -> 0 As-built
A30: Tekeningen (elektrotechnisch) | B30: Configuratieschema Brandmeldinstallatie | C30: ET2.1 | D30: =IF(ISNA(IF(Voorblad!$C$6="27a",VLOOKUP(Tabel33[[#This Row],[Document omschrijving]],'Gegevens documentatie'!D:AE,7,0),IF(Voorblad!$C$6="80a",VLOOKUP(Tabel33[[#This Row],[Document omschrijving]],'Gegevens documentatie'!D:AE,8,0),IF(Voorblad!$C$6="81",VLOOKUP(Tabel33[[#This Row],[Document omschrijving]],'Gegevens documentatie'!D:AE,9,0),IF(Voorblad!$C$6="36a",VLOOKUP(Tabel33[[#This Row],[Document omschrijving]],'Gegevens documentatie'!D:AE,10,0),IF(Voorblad!$C$6="28",VLOOKUP(Tabel33[[#This Row],[Document omschrijving]],'Gegevens documentatie'!D:AE,11,0),IF(Voorblad!$C$6="28a",VLOOKUP(Tabel33[[#This Row],[Document omschrijving]],'Gegevens documentatie'!D:AE,12,0),IF(Voorblad!$C$6="48a",VLOOKUP(Tabel33[[#This Row],[Document omschrijving]],'Gegevens documentatie'!D:AE,13,0),IF(Voorblad!$C$6="54",VLOOKUP(Tabel33[[#This Row],[Document omschrijving]],'Gegevens documentatie'!D:AE,14,0),IF(Voorblad!$C$6="54a",VLOOKUP(Tabel33[[#This Row],[Document omschrijving]],'Gegevens documentatie'!D:AE,15,0),IF(Voorblad!$C$6="56",VLOOKUP(Tabel33[[#This Row],[Document omschrijving]],'Gegevens documentatie'!D:AE,16,0),IF(Voorblad!$C$6="56a",VLOOKUP(Tabel33[[#This Row],[Document omschrijving]],'Gegevens documentatie'!D:AE,17,0),IF(Voorblad!$C$6="93",VLOOKUP(Tabel33[[#This Row],[Document omschrijving]],'Gegevens documentatie'!D:AE,18,0),IF(Voorblad!$C$6="93a",VLOOKUP(Tabel33[[#This Row],[Document omschrijving]],'Gegevens documentatie'!D:AE,19,0),IF(Voorblad!$C$6="105a",VLOOKUP(Tabel33[[#This Row],[Document omschrijving]],'Gegevens documentatie'!D:AE,20,0),IF(Voorblad!$C$6="31",VLOOKUP(Tabel33[[#This Row],[Document omschrijving]],'Gegevens documentatie'!D:AE,21,0),IF(Voorblad!$C$6="33",VLOOKUP(Tabel33[[#This Row],[Document omschrijving]],'Gegevens documentatie'!D:AE,22,0),IF(Voorblad!$C$6="33a",VLOOKUP(Tabel33[[#This Row],[Document omschrijving]],'Gegevens documentatie'!D:AE,23,0),IF(Voorblad!$C$6="37",VLOOKUP(Tabel33[[#This Row],[Document omschrijving]],'Gegevens documentatie'!D:AE,24,0),IF(Voorblad!$C$6="91",VLOOKUP(Tabel33[[#This Row],[Document omschrijving]],'Gegevens documentatie'!D:AE,25,0),IF(Voorblad!$C$6="13",VLOOKUP(Tabel33[[#This Row],[Document omschrijving]],'Gegevens documentatie'!D:AE,26,0),IF(Voorblad!$C$6="58",VLOOKUP(Tabel33[[#This Row],[Document omschrijving]],'Gegevens documentatie'!D:AE,27,0),IF(Voorblad!$C$6="42",VLOOKUP(Tabel33[[#This Row],[Document omschrijving]],'Gegevens documentatie'!D:AE,28,0),""))))))))))))))))))))))),"verplicht",IF(Voorblad!$C$6="27a",VLOOKUP(Tabel33[[#This Row],[Document omschrijving]],'Gegevens documentatie'!D:AE,7,0),IF(Voorblad!$C$6="80a",VLOOKUP(Tabel33[[#This Row],[Document omschrijving]],'Gegevens documentatie'!D:AE,8,0),IF(Voorblad!$C$6="81",VLOOKUP(Tabel33[[#This Row],[Document omschrijving]],'Gegevens documentatie'!D:AE,9,0),IF(Voorblad!$C$6="36a",VLOOKUP(Tabel33[[#This Row],[Document omschrijving]],'Gegevens documentatie'!D:AE,10,0),IF(Voorblad!$C$6="28",VLOOKUP(Tabel33[[#This Row],[Document omschrijving]],'Gegevens documentatie'!D:AE,11,0),IF(Voorblad!$C$6="28a",VLOOKUP(Tabel33[[#This Row],[Document omschrijving]],'Gegevens documentatie'!D:AE,12,0),IF(Voorblad!$C$6="48a",VLOOKUP(Tabel33[[#This Row],[Document omschrijving]],'Gegevens documentatie'!D:AE,13,0),IF(Voorblad!$C$6="54",VLOOKUP(Tabel33[[#This Row],[Document omschrijving]],'Gegevens documentatie'!D:AE,14,0),IF(Voorblad!$C$6="54a",VLOOKUP(Tabel33[[#This Row],[Document omschrijving]],'Gegevens documentatie'!D:AE,15,0),IF(Voorblad!$C$6="56",VLOOKUP(Tabel33[[#This Row],[Document omschrijving]],'Gegevens documentatie'!D:AE,16,0),IF(Voorblad!$C$6="56a",VLOOKUP(Tabel33[[#This Row],[Document omschrijving]],'Gegevens documentatie'!D:AE,17,0),IF(Voorblad!$C$6="93",VLOOKUP(Tabel33[[#This Row],[Document omschrijving]],'Gegevens documentatie'!D:AE,18,0),IF(Voorblad!$C$6="93a",VLOOKUP(Tabel33[[#This Row],[Document omschrijving]],'Gegevens documentatie'!D:AE,19,0),IF(Voorblad!$C$6="105a",VLOOKUP(Tabel33[[#This Row],[Document omschrijving]],'Gegevens documentatie'!D:AE,20,0),IF(Voorblad!$C$6="31",VLOOKUP(Tabel33[[#This Row],[Document omschrijving]],'Gegevens documentatie'!D:AE,21,0),IF(Voorblad!$C$6="33",VLOOKUP(Tabel33[[#This Row],[Document omschrijving]],'Gegevens documentatie'!D:AE,22,0),IF(Voorblad!$C$6="33a",VLOOKUP(Tabel33[[#This Row],[Document omschrijving]],'Gegevens documentatie'!D:AE,23,0),IF(Voorblad!$C$6="37",VLOOKUP(Tabel33[[#This Row],[Document omschrijving]],'Gegevens documentatie'!D:AE,24,0),IF(Voorblad!$C$6="91",VLOOKUP(Tabel33[[#This Row],[Document omschrijving]],'Gegevens documentatie'!D:AE,25,0),IF(Voorblad!$C$6="13",VLOOKUP(Tabel33[[#This Row],[Document omschrijving]],'Gegevens documentatie'!D:AE,26,0),IF(Voorblad!$C$6="58",VLOOKUP(Tabel33[[#This Row],[Document omschrijving]],'Gegevens documentatie'!D:AE,27,0),IF(Voorblad!$C$6="42",VLOOKUP(Tabel33[[#This Row],[Document omschrijving]],'Gegevens documentatie'!D:AE,28,0),""))))))))))))))))))))))) -> optioneel | H30: =VLOOKUP(Tabel33[[#This Row],[Document omschrijving]],'Gegevens documentatie'!D:AF,29,0) -> DWG | I30: =IF(Tabel33[[#This Row],[1. Opleveren]]="ja",_xlfn.CONCAT(COUNTIF(Opleverlijst!P:P,Tabel33[[#This Row],[Code Meridian]])," ","geleverd"),"") | J30: =IF(Tabel33[[#This Row],[1. Opleveren]]="ja",_xlfn.CONCAT(COUNTIFS(Opleverlijst!H:H,"as-built",Opleverlijst!P:P,Tabel33[[#This Row],[Code Meridian]])," ","As-built"),"")
A31: Tekeningen (elektrotechnisch) | B31: Installatieschema's Kracht- en lichtverdelingen | C31: ET2.10 | D31: =IF(ISNA(IF(Voorblad!$C$6="27a",VLOOKUP(Tabel33[[#This Row],[Document omschrijving]],'Gegevens documentatie'!D:AE,7,0),IF(Voorblad!$C$6="80a",VLOOKUP(Tabel33[[#This Row],[Document omschrijving]],'Gegevens documentatie'!D:AE,8,0),IF(Voorblad!$C$6="81",VLOOKUP(Tabel33[[#This Row],[Document omschrijving]],'Gegevens documentatie'!D:AE,9,0),IF(Voorblad!$C$6="36a",VLOOKUP(Tabel33[[#This Row],[Document omschrijving]],'Gegevens documentatie'!D:AE,10,0),IF(Voorblad!$C$6="28",VLOOKUP(Tabel33[[#This Row],[Document omschrijving]],'Gegevens documentatie'!D:AE,11,0),IF(Voorblad!$C$6="28a",VLOOKUP(Tabel33[[#This Row],[Document omschrijving]],'Gegevens documentatie'!D:AE,12,0),IF(Voorblad!$C$6="48a",VLOOKUP(Tabel33[[#This Row],[Document omschrijving]],'Gegevens documentatie'!D:AE,13,0),IF(Voorblad!$C$6="54",VLOOKUP(Tabel33[[#This Row],[Document omschrijving]],'Gegevens documentatie'!D:AE,14,0),IF(Voorblad!$C$6="54a",VLOOKUP(Tabel33[[#This Row],[Document omschrijving]],'Gegevens documentatie'!D:AE,15,0),IF(Voorblad!$C$6="56",VLOOKUP(Tabel33[[#This Row],[Document omschrijving]],'Gegevens documentatie'!D:AE,16,0),IF(Voorblad!$C$6="56a",VLOOKUP(Tabel33[[#This Row],[Document omschrijving]],'Gegevens documentatie'!D:AE,17,0),IF(Voorblad!$C$6="93",VLOOKUP(Tabel33[[#This Row],[Document omschrijving]],'Gegevens documentatie'!D:AE,18,0),IF(Voorblad!$C$6="93a",VLOOKUP(Tabel33[[#This Row],[Document omschrijving]],'Gegevens documentatie'!D:AE,19,0),IF(Voorblad!$C$6="105a",VLOOKUP(Tabel33[[#This Row],[Document omschrijving]],'Gegevens documentatie'!D:AE,20,0),IF(Voorblad!$C$6="31",VLOOKUP(Tabel33[[#This Row],[Document omschrijving]],'Gegevens documentatie'!D:AE,21,0),IF(Voorblad!$C$6="33",VLOOKUP(Tabel33[[#This Row],[Document omschrijving]],'Gegevens documentatie'!D:AE,22,0),IF(Voorblad!$C$6="33a",VLOOKUP(Tabel33[[#This Row],[Document omschrijving]],'Gegevens documentatie'!D:AE,23,0),IF(Voorblad!$C$6="37",VLOOKUP(Tabel33[[#This Row],[Document omschrijving]],'Gegevens documentatie'!D:AE,24,0),IF(Voorblad!$C$6="91",VLOOKUP(Tabel33[[#This Row],[Document omschrijving]],'Gegevens documentatie'!D:AE,25,0),IF(Voorblad!$C$6="13",VLOOKUP(Tabel33[[#This Row],[Document omschrijving]],'Gegevens documentatie'!D:AE,26,0),IF(Voorblad!$C$6="58",VLOOKUP(Tabel33[[#This Row],[Document omschrijving]],'Gegevens documentatie'!D:AE,27,0),IF(Voorblad!$C$6="42",VLOOKUP(Tabel33[[#This Row],[Document omschrijving]],'Gegevens documentatie'!D:AE,28,0),""))))))))))))))))))))))),"verplicht",IF(Voorblad!$C$6="27a",VLOOKUP(Tabel33[[#This Row],[Document omschrijving]],'Gegevens documentatie'!D:AE,7,0),IF(Voorblad!$C$6="80a",VLOOKUP(Tabel33[[#This Row],[Document omschrijving]],'Gegevens documentatie'!D:AE,8,0),IF(Voorblad!$C$6="81",VLOOKUP(Tabel33[[#This Row],[Document omschrijving]],'Gegevens documentatie'!D:AE,9,0),IF(Voorblad!$C$6="36a",VLOOKUP(Tabel33[[#This Row],[Document omschrijving]],'Gegevens documentatie'!D:AE,10,0),IF(Voorblad!$C$6="28",VLOOKUP(Tabel33[[#This Row],[Document omschrijving]],'Gegevens documentatie'!D:AE,11,0),IF(Voorblad!$C$6="28a",VLOOKUP(Tabel33[[#This Row],[Document omschrijving]],'Gegevens documentatie'!D:AE,12,0),IF(Voorblad!$C$6="48a",VLOOKUP(Tabel33[[#This Row],[Document omschrijving]],'Gegevens documentatie'!D:AE,13,0),IF(Voorblad!$C$6="54",VLOOKUP(Tabel33[[#This Row],[Document omschrijving]],'Gegevens documentatie'!D:AE,14,0),IF(Voorblad!$C$6="54a",VLOOKUP(Tabel33[[#This Row],[Document omschrijving]],'Gegevens documentatie'!D:AE,15,0),IF(Voorblad!$C$6="56",VLOOKUP(Tabel33[[#This Row],[Document omschrijving]],'Gegevens documentatie'!D:AE,16,0),IF(Voorblad!$C$6="56a",VLOOKUP(Tabel33[[#This Row],[Document omschrijving]],'Gegevens documentatie'!D:AE,17,0),IF(Voorblad!$C$6="93",VLOOKUP(Tabel33[[#This Row],[Document omschrijving]],'Gegevens documentatie'!D:AE,18,0),IF(Voorblad!$C$6="93a",VLOOKUP(Tabel33[[#This Row],[Document omschrijving]],'Gegevens documentatie'!D:AE,19,0),IF(Voorblad!$C$6="105a",VLOOKUP(Tabel33[[#This Row],[Document omschrijving]],'Gegevens documentatie'!D:AE,20,0),IF(Voorblad!$C$6="31",VLOOKUP(Tabel33[[#This Row],[Document omschrijving]],'Gegevens documentatie'!D:AE,21,0),IF(Voorblad!$C$6="33",VLOOKUP(Tabel33[[#This Row],[Document omschrijving]],'Gegevens documentatie'!D:AE,22,0),IF(Voorblad!$C$6="33a",VLOOKUP(Tabel33[[#This Row],[Document omschrijving]],'Gegevens documentatie'!D:AE,23,0),IF(Voorblad!$C$6="37",VLOOKUP(Tabel33[[#This Row],[Document omschrijving]],'Gegevens documentatie'!D:AE,24,0),IF(Voorblad!$C$6="91",VLOOKUP(Tabel33[[#This Row],[Document omschrijving]],'Gegevens documentatie'!D:AE,25,0),IF(Voorblad!$C$6="13",VLOOKUP(Tabel33[[#This Row],[Document omschrijving]],'Gegevens documentatie'!D:AE,26,0),IF(Voorblad!$C$6="58",VLOOKUP(Tabel33[[#This Row],[Document omschrijving]],'Gegevens documentatie'!D:AE,27,0),IF(Voorblad!$C$6="42",VLOOKUP(Tabel33[[#This Row],[Document omschrijving]],'Gegevens documentatie'!D:AE,28,0),""))))))))))))))))))))))) -> verplicht | G31: Is onderdeel van ZW1 | H31: =VLOOKUP(Tabel33[[#This Row],[Document omschrijving]],'Gegevens documentatie'!D:AF,29,0) -> DWG | I31: =IF(Tabel33[[#This Row],[1. Opleveren]]="ja",_xlfn.CONCAT(COUNTIF(Opleverlijst!P:P,Tabel33[[#This Row],[Code Meridian]])," ","geleverd"),"") | J31: =IF(Tabel33[[#This Row],[1. Opleveren]]="ja",_xlfn.CONCAT(COUNTIFS(Opleverlijst!H:H,"as-built",Opleverlijst!P:P,Tabel33[[#This Row],[Code Meridian]])," ","As-built"),"")
A32: Tekeningen (elektrotechnisch) | B32: Installatietekening - brandmeldinstallatie | C32: ET2.11 | D32: =IF(ISNA(IF(Voorblad!$C$6="27a",VLOOKUP(Tabel33[[#This Row],[Document omschrijving]],'Gegevens documentatie'!D:AE,7,0),IF(Voorblad!$C$6="80a",VLOOKUP(Tabel33[[#This Row],[Document omschrijving]],'Gegevens documentatie'!D:AE,8,0),IF(Voorblad!$C$6="81",VLOOKUP(Tabel33[[#This Row],[Document omschrijving]],'Gegevens documentatie'!D:AE,9,0),IF(Voorblad!$C$6="36a",VLOOKUP(Tabel33[[#This Row],[Document omschrijving]],'Gegevens documentatie'!D:AE,10,0),IF(Voorblad!$C$6="28",VLOOKUP(Tabel33[[#This Row],[Document omschrijving]],'Gegevens documentatie'!D:AE,11,0),IF(Voorblad!$C$6="28a",VLOOKUP(Tabel33[[#This Row],[Document omschrijving]],'Gegevens documentatie'!D:AE,12,0),IF(Voorblad!$C$6="48a",VLOOKUP(Tabel33[[#This Row],[Document omschrijving]],'Gegevens documentatie'!D:AE,13,0),IF(Voorblad!$C$6="54",VLOOKUP(Tabel33[[#This Row],[Document omschrijving]],'Gegevens documentatie'!D:AE,14,0),IF(Voorblad!$C$6="54a",VLOOKUP(Tabel33[[#This Row],[Document omschrijving]],'Gegevens documentatie'!D:AE,15,0),IF(Voorblad!$C$6="56",VLOOKUP(Tabel33[[#This Row],[Document omschrijving]],'Gegevens documentatie'!D:AE,16,0),IF(Voorblad!$C$6="56a",VLOOKUP(Tabel33[[#This Row],[Document omschrijving]],'Gegevens documentatie'!D:AE,17,0),IF(Voorblad!$C$6="93",VLOOKUP(Tabel33[[#This Row],[Document omschrijving]],'Gegevens documentatie'!D:AE,18,0),IF(Voorblad!$C$6="93a",VLOOKUP(Tabel33[[#This Row],[Document omschrijving]],'Gegevens documentatie'!D:AE,19,0),IF(Voorblad!$C$6="105a",VLOOKUP(Tabel33[[#This Row],[Document omschrijving]],'Gegevens documentatie'!D:AE,20,0),IF(Voorblad!$C$6="31",VLOOKUP(Tabel33[[#This Row],[Document omschrijving]],'Gegevens documentatie'!D:AE,21,0),IF(Voorblad!$C$6="33",VLOOKUP(Tabel33[[#This Row],[Document omschrijving]],'Gegevens documentatie'!D:AE,22,0),IF(Voorblad!$C$6="33a",VLOOKUP(Tabel33[[#This Row],[Document omschrijving]],'Gegevens documentatie'!D:AE,23,0),IF(Voorblad!$C$6="37",VLOOKUP(Tabel33[[#This Row],[Document omschrijving]],'Gegevens documentatie'!D:AE,24,0),IF(Voorblad!$C$6="91",VLOOKUP(Tabel33[[#This Row],[Document omschrijving]],'Gegevens documentatie'!D:AE,25,0),IF(Voorblad!$C$6="13",VLOOKUP(Tabel33[[#This Row],[Document omschrijving]],'Gegevens documentatie'!D:AE,26,0),IF(Voorblad!$C$6="58",VLOOKUP(Tabel33[[#This Row],[Document omschrijving]],'Gegevens documentatie'!D:AE,27,0),IF(Voorblad!$C$6="42",VLOOKUP(Tabel33[[#This Row],[Document omschrijving]],'Gegevens documentatie'!D:AE,28,0),""))))))))))))))))))))))),"verplicht",IF(Voorblad!$C$6="27a",VLOOKUP(Tabel33[[#This Row],[Document omschrijving]],'Gegevens documentatie'!D:AE,7,0),IF(Voorblad!$C$6="80a",VLOOKUP(Tabel33[[#This Row],[Document omschrijving]],'Gegevens documentatie'!D:AE,8,0),IF(Voorblad!$C$6="81",VLOOKUP(Tabel33[[#This Row],[Document omschrijving]],'Gegevens documentatie'!D:AE,9,0),IF(Voorblad!$C$6="36a",VLOOKUP(Tabel33[[#This Row],[Document omschrijving]],'Gegevens documentatie'!D:AE,10,0),IF(Voorblad!$C$6="28",VLOOKUP(Tabel33[[#This Row],[Document omschrijving]],'Gegevens documentatie'!D:AE,11,0),IF(Voorblad!$C$6="28a",VLOOKUP(Tabel33[[#This Row],[Document omschrijving]],'Gegevens documentatie'!D:AE,12,0),IF(Voorblad!$C$6="48a",VLOOKUP(Tabel33[[#This Row],[Document omschrijving]],'Gegevens documentatie'!D:AE,13,0),IF(Voorblad!$C$6="54",VLOOKUP(Tabel33[[#This Row],[Document omschrijving]],'Gegevens documentatie'!D:AE,14,0),IF(Voorblad!$C$6="54a",VLOOKUP(Tabel33[[#This Row],[Document omschrijving]],'Gegevens documentatie'!D:AE,15,0),IF(Voorblad!$C$6="56",VLOOKUP(Tabel33[[#This Row],[Document omschrijving]],'Gegevens documentatie'!D:AE,16,0),IF(Voorblad!$C$6="56a",VLOOKUP(Tabel33[[#This Row],[Document omschrijving]],'Gegevens documentatie'!D:AE,17,0),IF(Voorblad!$C$6="93",VLOOKUP(Tabel33[[#This Row],[Document omschrijving]],'Gegevens documentatie'!D:AE,18,0),IF(Voorblad!$C$6="93a",VLOOKUP(Tabel33[[#This Row],[Document omschrijving]],'Gegevens documentatie'!D:AE,19,0),IF(Voorblad!$C$6="105a",VLOOKUP(Tabel33[[#This Row],[Document omschrijving]],'Gegevens documentatie'!D:AE,20,0),IF(Voorblad!$C$6="31",VLOOKUP(Tabel33[[#This Row],[Document omschrijving]],'Gegevens documentatie'!D:AE,21,0),IF(Voorblad!$C$6="33",VLOOKUP(Tabel33[[#This Row],[Document omschrijving]],'Gegevens documentatie'!D:AE,22,0),IF(Voorblad!$C$6="33a",VLOOKUP(Tabel33[[#This Row],[Document omschrijving]],'Gegevens documentatie'!D:AE,23,0),IF(Voorblad!$C$6="37",VLOOKUP(Tabel33[[#This Row],[Document omschrijving]],'Gegevens documentatie'!D:AE,24,0),IF(Voorblad!$C$6="91",VLOOKUP(Tabel33[[#This Row],[Document omschrijving]],'Gegevens documentatie'!D:AE,25,0),IF(Voorblad!$C$6="13",VLOOKUP(Tabel33[[#This Row],[Document omschrijving]],'Gegevens documentatie'!D:AE,26,0),IF(Voorblad!$C$6="58",VLOOKUP(Tabel33[[#This Row],[Document omschrijving]],'Gegevens documentatie'!D:AE,27,0),IF(Voorblad!$C$6="42",VLOOKUP(Tabel33[[#This Row],[Document omschrijving]],'Gegevens documentatie'!D:AE,28,0),""))))))))))))))))))))))) -> optioneel | H32: =VLOOKUP(Tabel33[[#This Row],[Document omschrijving]],'Gegevens documentatie'!D:AF,29,0) -> DWG | I32: =IF(Tabel33[[#This Row],[1. Opleveren]]="ja",_xlfn.CONCAT(COUNTIF(Opleverlijst!P:P,Tabel33[[#This Row],[Code Meridian]])," ","geleverd"),"") | J32: =IF(Tabel33[[#This Row],[1. Opleveren]]="ja",_xlfn.CONCAT(COUNTIFS(Opleverlijst!H:H,"as-built",Opleverlijst!P:P,Tabel33[[#This Row],[Code Meridian]])," ","As-built"),"")
A33: Tekeningen (elektrotechnisch) | B33: Installatietekening Inbraakdetectie & toegangscontrole | C33: ET2.12 | D33: =IF(ISNA(IF(Voorblad!$C$6="27a",VLOOKUP(Tabel33[[#This Row],[Document omschrijving]],'Gegevens documentatie'!D:AE,7,0),IF(Voorblad!$C$6="80a",VLOOKUP(Tabel33[[#This Row],[Document omschrijving]],'Gegevens documentatie'!D:AE,8,0),IF(Voorblad!$C$6="81",VLOOKUP(Tabel33[[#This Row],[Document omschrijving]],'Gegevens documentatie'!D:AE,9,0),IF(Voorblad!$C$6="36a",VLOOKUP(Tabel33[[#This Row],[Document omschrijving]],'Gegevens documentatie'!D:AE,10,0),IF(Voorblad!$C$6="28",VLOOKUP(Tabel33[[#This Row],[Document omschrijving]],'Gegevens documentatie'!D:AE,11,0),IF(Voorblad!$C$6="28a",VLOOKUP(Tabel33[[#This Row],[Document omschrijving]],'Gegevens documentatie'!D:AE,12,0),IF(Voorblad!$C$6="48a",VLOOKUP(Tabel33[[#This Row],[Document omschrijving]],'Gegevens documentatie'!D:AE,13,0),IF(Voorblad!$C$6="54",VLOOKUP(Tabel33[[#This Row],[Document omschrijving]],'Gegevens documentatie'!D:AE,14,0),IF(Voorblad!$C$6="54a",VLOOKUP(Tabel33[[#This Row],[Document omschrijving]],'Gegevens documentatie'!D:AE,15,0),IF(Voorblad!$C$6="56",VLOOKUP(Tabel33[[#This Row],[Document omschrijving]],'Gegevens documentatie'!D:AE,16,0),IF(Voorblad!$C$6="56a",VLOOKUP(Tabel33[[#This Row],[Document omschrijving]],'Gegevens documentatie'!D:AE,17,0),IF(Voorblad!$C$6="93",VLOOKUP(Tabel33[[#This Row],[Document omschrijving]],'Gegevens documentatie'!D:AE,18,0),IF(Voorblad!$C$6="93a",VLOOKUP(Tabel33[[#This Row],[Document omschrijving]],'Gegevens documentatie'!D:AE,19,0),IF(Voorblad!$C$6="105a",VLOOKUP(Tabel33[[#This Row],[Document omschrijving]],'Gegevens documentatie'!D:AE,20,0),IF(Voorblad!$C$6="31",VLOOKUP(Tabel33[[#This Row],[Document omschrijving]],'Gegevens documentatie'!D:AE,21,0),IF(Voorblad!$C$6="33",VLOOKUP(Tabel33[[#This Row],[Document omschrijving]],'Gegevens documentatie'!D:AE,22,0),IF(Voorblad!$C$6="33a",VLOOKUP(Tabel33[[#This Row],[Document omschrijving]],'Gegevens documentatie'!D:AE,23,0),IF(Voorblad!$C$6="37",VLOOKUP(Tabel33[[#This Row],[Document omschrijving]],'Gegevens documentatie'!D:AE,24,0),IF(Voorblad!$C$6="91",VLOOKUP(Tabel33[[#This Row],[Document omschrijving]],'Gegevens documentatie'!D:AE,25,0),IF(Voorblad!$C$6="13",VLOOKUP(Tabel33[[#This Row],[Document omschrijving]],'Gegevens documentatie'!D:AE,26,0),IF(Voorblad!$C$6="58",VLOOKUP(Tabel33[[#This Row],[Document omschrijving]],'Gegevens documentatie'!D:AE,27,0),IF(Voorblad!$C$6="42",VLOOKUP(Tabel33[[#This Row],[Document omschrijving]],'Gegevens documentatie'!D:AE,28,0),""))))))))))))))))))))))),"verplicht",IF(Voorblad!$C$6="27a",VLOOKUP(Tabel33[[#This Row],[Document omschrijving]],'Gegevens documentatie'!D:AE,7,0),IF(Voorblad!$C$6="80a",VLOOKUP(Tabel33[[#This Row],[Document omschrijving]],'Gegevens documentatie'!D:AE,8,0),IF(Voorblad!$C$6="81",VLOOKUP(Tabel33[[#This Row],[Document omschrijving]],'Gegevens documentatie'!D:AE,9,0),IF(Voorblad!$C$6="36a",VLOOKUP(Tabel33[[#This Row],[Document omschrijving]],'Gegevens documentatie'!D:AE,10,0),IF(Voorblad!$C$6="28",VLOOKUP(Tabel33[[#This Row],[Document omschrijving]],'Gegevens documentatie'!D:AE,11,0),IF(Voorblad!$C$6="28a",VLOOKUP(Tabel33[[#This Row],[Document omschrijving]],'Gegevens documentatie'!D:AE,12,0),IF(Voorblad!$C$6="48a",VLOOKUP(Tabel33[[#This Row],[Document omschrijving]],'Gegevens documentatie'!D:AE,13,0),IF(Voorblad!$C$6="54",VLOOKUP(Tabel33[[#This Row],[Document omschrijving]],'Gegevens documentatie'!D:AE,14,0),IF(Voorblad!$C$6="54a",VLOOKUP(Tabel33[[#This Row],[Document omschrijving]],'Gegevens documentatie'!D:AE,15,0),IF(Voorblad!$C$6="56",VLOOKUP(Tabel33[[#This Row],[Document omschrijving]],'Gegevens documentatie'!D:AE,16,0),IF(Voorblad!$C$6="56a",VLOOKUP(Tabel33[[#This Row],[Document omschrijving]],'Gegevens documentatie'!D:AE,17,0),IF(Voorblad!$C$6="93",VLOOKUP(Tabel33[[#This Row],[Document omschrijving]],'Gegevens documentatie'!D:AE,18,0),IF(Voorblad!$C$6="93a",VLOOKUP(Tabel33[[#This Row],[Document omschrijving]],'Gegevens documentatie'!D:AE,19,0),IF(Voorblad!$C$6="105a",VLOOKUP(Tabel33[[#This Row],[Document omschrijving]],'Gegevens documentatie'!D:AE,20,0),IF(Voorblad!$C$6="31",VLOOKUP(Tabel33[[#This Row],[Document omschrijving]],'Gegevens documentatie'!D:AE,21,0),IF(Voorblad!$C$6="33",VLOOKUP(Tabel33[[#This Row],[Document omschrijving]],'Gegevens documentatie'!D:AE,22,0),IF(Voorblad!$C$6="33a",VLOOKUP(Tabel33[[#This Row],[Document omschrijving]],'Gegevens documentatie'!D:AE,23,0),IF(Voorblad!$C$6="37",VLOOKUP(Tabel33[[#This Row],[Document omschrijving]],'Gegevens documentatie'!D:AE,24,0),IF(Voorblad!$C$6="91",VLOOKUP(Tabel33[[#This Row],[Document omschrijving]],'Gegevens documentatie'!D:AE,25,0),IF(Voorblad!$C$6="13",VLOOKUP(Tabel33[[#This Row],[Document omschrijving]],'Gegevens documentatie'!D:AE,26,0),IF(Voorblad!$C$6="58",VLOOKUP(Tabel33[[#This Row],[Document omschrijving]],'Gegevens documentatie'!D:AE,27,0),IF(Voorblad!$C$6="42",VLOOKUP(Tabel33[[#This Row],[Document omschrijving]],'Gegevens documentatie'!D:AE,28,0),""))))))))))))))))))))))) -> optioneel | H33: =VLOOKUP(Tabel33[[#This Row],[Document omschrijving]],'Gegevens documentatie'!D:AF,29,0) -> DWG | I33: =IF(Tabel33[[#This Row],[1. Opleveren]]="ja",_xlfn.CONCAT(COUNTIF(Opleverlijst!P:P,Tabel33[[#This Row],[Code Meridian]])," ","geleverd"),"") | J33: =IF(Tabel33[[#This Row],[1. Opleveren]]="ja",_xlfn.CONCAT(COUNTIFS(Opleverlijst!H:H,"as-built",Opleverlijst!P:P,Tabel33[[#This Row],[Code Meridian]])," ","As-built"),"")
A34: Tekeningen (elektrotechnisch) | B34: Installatietekening Veiligheidsaarding, hoofdvereffening, vereffening & bliksembeveiliging | C34: ET2.13 | D34: =IF(ISNA(IF(Voorblad!$C$6="27a",VLOOKUP(Tabel33[[#This Row],[Document omschrijving]],'Gegevens documentatie'!D:AE,7,0),IF(Voorblad!$C$6="80a",VLOOKUP(Tabel33[[#This Row],[Document omschrijving]],'Gegevens documentatie'!D:AE,8,0),IF(Voorblad!$C$6="81",VLOOKUP(Tabel33[[#This Row],[Document omschrijving]],'Gegevens documentatie'!D:AE,9,0),IF(Voorblad!$C$6="36a",VLOOKUP(Tabel33[[#This Row],[Document omschrijving]],'Gegevens documentatie'!D:AE,10,0),IF(Voorblad!$C$6="28",VLOOKUP(Tabel33[[#This Row],[Document omschrijving]],'Gegevens documentatie'!D:AE,11,0),IF(Voorblad!$C$6="28a",VLOOKUP(Tabel33[[#This Row],[Document omschrijving]],'Gegevens documentatie'!D:AE,12,0),IF(Voorblad!$C$6="48a",VLOOKUP(Tabel33[[#This Row],[Document omschrijving]],'Gegevens documentatie'!D:AE,13,0),IF(Voorblad!$C$6="54",VLOOKUP(Tabel33[[#This Row],[Document omschrijving]],'Gegevens documentatie'!D:AE,14,0),IF(Voorblad!$C$6="54a",VLOOKUP(Tabel33[[#This Row],[Document omschrijving]],'Gegevens documentatie'!D:AE,15,0),IF(Voorblad!$C$6="56",VLOOKUP(Tabel33[[#This Row],[Document omschrijving]],'Gegevens documentatie'!D:AE,16,0),IF(Voorblad!$C$6="56a",VLOOKUP(Tabel33[[#This Row],[Document omschrijving]],'Gegevens documentatie'!D:AE,17,0),IF(Voorblad!$C$6="93",VLOOKUP(Tabel33[[#This Row],[Document omschrijving]],'Gegevens documentatie'!D:AE,18,0),IF(Voorblad!$C$6="93a",VLOOKUP(Tabel33[[#This Row],[Document omschrijving]],'Gegevens documentatie'!D:AE,19,0),IF(Voorblad!$C$6="105a",VLOOKUP(Tabel33[[#This Row],[Document omschrijving]],'Gegevens documentatie'!D:AE,20,0),IF(Voorblad!$C$6="31",VLOOKUP(Tabel33[[#This Row],[Document omschrijving]],'Gegevens documentatie'!D:AE,21,0),IF(Voorblad!$C$6="33",VLOOKUP(Tabel33[[#This Row],[Document omschrijving]],'Gegevens documentatie'!D:AE,22,0),IF(Voorblad!$C$6="33a",VLOOKUP(Tabel33[[#This Row],[Document omschrijving]],'Gegevens documentatie'!D:AE,23,0),IF(Voorblad!$C$6="37",VLOOKUP(Tabel33[[#This Row],[Document omschrijving]],'Gegevens documentatie'!D:AE,24,0),IF(Voorblad!$C$6="91",VLOOKUP(Tabel33[[#This Row],[Document omschrijving]],'Gegevens documentatie'!D:AE,25,0),IF(Voorblad!$C$6="13",VLOOKUP(Tabel33[[#This Row],[Document omschrijving]],'Gegevens documentatie'!D:AE,26,0),IF(Voorblad!$C$6="58",VLOOKUP(Tabel33[[#This Row],[Document omschrijving]],'Gegevens documentatie'!D:AE,27,0),IF(Voorblad!$C$6="42",VLOOKUP(Tabel33[[#This Row],[Document omschrijving]],'Gegevens documentatie'!D:AE,28,0),""))))))))))))))))))))))),"verplicht",IF(Voorblad!$C$6="27a",VLOOKUP(Tabel33[[#This Row],[Document omschrijving]],'Gegevens documentatie'!D:AE,7,0),IF(Voorblad!$C$6="80a",VLOOKUP(Tabel33[[#This Row],[Document omschrijving]],'Gegevens documentatie'!D:AE,8,0),IF(Voorblad!$C$6="81",VLOOKUP(Tabel33[[#This Row],[Document omschrijving]],'Gegevens documentatie'!D:AE,9,0),IF(Voorblad!$C$6="36a",VLOOKUP(Tabel33[[#This Row],[Document omschrijving]],'Gegevens documentatie'!D:AE,10,0),IF(Voorblad!$C$6="28",VLOOKUP(Tabel33[[#This Row],[Document omschrijving]],'Gegevens documentatie'!D:AE,11,0),IF(Voorblad!$C$6="28a",VLOOKUP(Tabel33[[#This Row],[Document omschrijving]],'Gegevens documentatie'!D:AE,12,0),IF(Voorblad!$C$6="48a",VLOOKUP(Tabel33[[#This Row],[Document omschrijving]],'Gegevens documentatie'!D:AE,13,0),IF(Voorblad!$C$6="54",VLOOKUP(Tabel33[[#This Row],[Document omschrijving]],'Gegevens documentatie'!D:AE,14,0),IF(Voorblad!$C$6="54a",VLOOKUP(Tabel33[[#This Row],[Document omschrijving]],'Gegevens documentatie'!D:AE,15,0),IF(Voorblad!$C$6="56",VLOOKUP(Tabel33[[#This Row],[Document omschrijving]],'Gegevens documentatie'!D:AE,16,0),IF(Voorblad!$C$6="56a",VLOOKUP(Tabel33[[#This Row],[Document omschrijving]],'Gegevens documentatie'!D:AE,17,0),IF(Voorblad!$C$6="93",VLOOKUP(Tabel33[[#This Row],[Document omschrijving]],'Gegevens documentatie'!D:AE,18,0),IF(Voorblad!$C$6="93a",VLOOKUP(Tabel33[[#This Row],[Document omschrijving]],'Gegevens documentatie'!D:AE,19,0),IF(Voorblad!$C$6="105a",VLOOKUP(Tabel33[[#This Row],[Document omschrijving]],'Gegevens documentatie'!D:AE,20,0),IF(Voorblad!$C$6="31",VLOOKUP(Tabel33[[#This Row],[Document omschrijving]],'Gegevens documentatie'!D:AE,21,0),IF(Voorblad!$C$6="33",VLOOKUP(Tabel33[[#This Row],[Document omschrijving]],'Gegevens documentatie'!D:AE,22,0),IF(Voorblad!$C$6="33a",VLOOKUP(Tabel33[[#This Row],[Document omschrijving]],'Gegevens documentatie'!D:AE,23,0),IF(Voorblad!$C$6="37",VLOOKUP(Tabel33[[#This Row],[Document omschrijving]],'Gegevens documentatie'!D:AE,24,0),IF(Voorblad!$C$6="91",VLOOKUP(Tabel33[[#This Row],[Document omschrijving]],'Gegevens documentatie'!D:AE,25,0),IF(Voorblad!$C$6="13",VLOOKUP(Tabel33[[#This Row],[Document omschrijving]],'Gegevens documentatie'!D:AE,26,0),IF(Voorblad!$C$6="58",VLOOKUP(Tabel33[[#This Row],[Document omschrijving]],'Gegevens documentatie'!D:AE,27,0),IF(Voorblad!$C$6="42",VLOOKUP(Tabel33[[#This Row],[Document omschrijving]],'Gegevens documentatie'!D:AE,28,0),""))))))))))))))))))))))) -> verplicht | E34: Ja | F34: VSP E | G34: Is onderdeel van ZW1 Schemapakket per MCC / Meet- en Regelpaneel | H34: =VLOOKUP(Tabel33[[#This Row],[Document omschrijving]],'Gegevens documentatie'!D:AF,29,0) -> DWG | I34: =IF(Tabel33[[#This Row],[1. Opleveren]]="ja",_xlfn.CONCAT(COUNTIF(Opleverlijst!P:P,Tabel33[[#This Row],[Code Meridian]])," ","geleverd"),"") -> 0 geleverd | J34: =IF(Tabel33[[#This Row],[1. Opleveren]]="ja",_xlfn.CONCAT(COUNTIFS(Opleverlijst!H:H,"as-built",Opleverlijst!P:P,Tabel33[[#This Row],[Code Meridian]])," ","As-built"),"") -> 0 As-built
A35: Tekeningen (elektrotechnisch) | B35: Installatietekeningen Kracht- en lichtverdelingen | C35: ET2.15 | D35: =IF(ISNA(IF(Voorblad!$C$6="27a",VLOOKUP(Tabel33[[#This Row],[Document omschrijving]],'Gegevens documentatie'!D:AE,7,0),IF(Voorblad!$C$6="80a",VLOOKUP(Tabel33[[#This Row],[Document omschrijving]],'Gegevens documentatie'!D:AE,8,0),IF(Voorblad!$C$6="81",VLOOKUP(Tabel33[[#This Row],[Document omschrijving]],'Gegevens documentatie'!D:AE,9,0),IF(Voorblad!$C$6="36a",VLOOKUP(Tabel33[[#This Row],[Document omschrijving]],'Gegevens documentatie'!D:AE,10,0),IF(Voorblad!$C$6="28",VLOOKUP(Tabel33[[#This Row],[Document omschrijving]],'Gegevens documentatie'!D:AE,11,0),IF(Voorblad!$C$6="28a",VLOOKUP(Tabel33[[#This Row],[Document omschrijving]],'Gegevens documentatie'!D:AE,12,0),IF(Voorblad!$C$6="48a",VLOOKUP(Tabel33[[#This Row],[Document omschrijving]],'Gegevens documentatie'!D:AE,13,0),IF(Voorblad!$C$6="54",VLOOKUP(Tabel33[[#This Row],[Document omschrijving]],'Gegevens documentatie'!D:AE,14,0),IF(Voorblad!$C$6="54a",VLOOKUP(Tabel33[[#This Row],[Document omschrijving]],'Gegevens documentatie'!D:AE,15,0),IF(Voorblad!$C$6="56",VLOOKUP(Tabel33[[#This Row],[Document omschrijving]],'Gegevens documentatie'!D:AE,16,0),IF(Voorblad!$C$6="56a",VLOOKUP(Tabel33[[#This Row],[Document omschrijving]],'Gegevens documentatie'!D:AE,17,0),IF(Voorblad!$C$6="93",VLOOKUP(Tabel33[[#This Row],[Document omschrijving]],'Gegevens documentatie'!D:AE,18,0),IF(Voorblad!$C$6="93a",VLOOKUP(Tabel33[[#This Row],[Document omschrijving]],'Gegevens documentatie'!D:AE,19,0),IF(Voorblad!$C$6="105a",VLOOKUP(Tabel33[[#This Row],[Document omschrijving]],'Gegevens documentatie'!D:AE,20,0),IF(Voorblad!$C$6="31",VLOOKUP(Tabel33[[#This Row],[Document omschrijving]],'Gegevens documentatie'!D:AE,21,0),IF(Voorblad!$C$6="33",VLOOKUP(Tabel33[[#This Row],[Document omschrijving]],'Gegevens documentatie'!D:AE,22,0),IF(Voorblad!$C$6="33a",VLOOKUP(Tabel33[[#This Row],[Document omschrijving]],'Gegevens documentatie'!D:AE,23,0),IF(Voorblad!$C$6="37",VLOOKUP(Tabel33[[#This Row],[Document omschrijving]],'Gegevens documentatie'!D:AE,24,0),IF(Voorblad!$C$6="91",VLOOKUP(Tabel33[[#This Row],[Document omschrijving]],'Gegevens documentatie'!D:AE,25,0),IF(Voorblad!$C$6="13",VLOOKUP(Tabel33[[#This Row],[Document omschrijving]],'Gegevens documentatie'!D:AE,26,0),IF(Voorblad!$C$6="58",VLOOKUP(Tabel33[[#This Row],[Document omschrijving]],'Gegevens documentatie'!D:AE,27,0),IF(Voorblad!$C$6="42",VLOOKUP(Tabel33[[#This Row],[Document omschrijving]],'Gegevens documentatie'!D:AE,28,0),""))))))))))))))))))))))),"verplicht",IF(Voorblad!$C$6="27a",VLOOKUP(Tabel33[[#This Row],[Document omschrijving]],'Gegevens documentatie'!D:AE,7,0),IF(Voorblad!$C$6="80a",VLOOKUP(Tabel33[[#This Row],[Document omschrijving]],'Gegevens documentatie'!D:AE,8,0),IF(Voorblad!$C$6="81",VLOOKUP(Tabel33[[#This Row],[Document omschrijving]],'Gegevens documentatie'!D:AE,9,0),IF(Voorblad!$C$6="36a",VLOOKUP(Tabel33[[#This Row],[Document omschrijving]],'Gegevens documentatie'!D:AE,10,0),IF(Voorblad!$C$6="28",VLOOKUP(Tabel33[[#This Row],[Document omschrijving]],'Gegevens documentatie'!D:AE,11,0),IF(Voorblad!$C$6="28a",VLOOKUP(Tabel33[[#This Row],[Document omschrijving]],'Gegevens documentatie'!D:AE,12,0),IF(Voorblad!$C$6="48a",VLOOKUP(Tabel33[[#This Row],[Document omschrijving]],'Gegevens documentatie'!D:AE,13,0),IF(Voorblad!$C$6="54",VLOOKUP(Tabel33[[#This Row],[Document omschrijving]],'Gegevens documentatie'!D:AE,14,0),IF(Voorblad!$C$6="54a",VLOOKUP(Tabel33[[#This Row],[Document omschrijving]],'Gegevens documentatie'!D:AE,15,0),IF(Voorblad!$C$6="56",VLOOKUP(Tabel33[[#This Row],[Document omschrijving]],'Gegevens documentatie'!D:AE,16,0),IF(Voorblad!$C$6="56a",VLOOKUP(Tabel33[[#This Row],[Document omschrijving]],'Gegevens documentatie'!D:AE,17,0),IF(Voorblad!$C$6="93",VLOOKUP(Tabel33[[#This Row],[Document omschrijving]],'Gegevens documentatie'!D:AE,18,0),IF(Voorblad!$C$6="93a",VLOOKUP(Tabel33[[#This Row],[Document omschrijving]],'Gegevens documentatie'!D:AE,19,0),IF(Voorblad!$C$6="105a",VLOOKUP(Tabel33[[#This Row],[Document omschrijving]],'Gegevens documentatie'!D:AE,20,0),IF(Voorblad!$C$6="31",VLOOKUP(Tabel33[[#This Row],[Document omschrijving]],'Gegevens documentatie'!D:AE,21,0),IF(Voorblad!$C$6="33",VLOOKUP(Tabel33[[#This Row],[Document omschrijving]],'Gegevens documentatie'!D:AE,22,0),IF(Voorblad!$C$6="33a",VLOOKUP(Tabel33[[#This Row],[Document omschrijving]],'Gegevens documentatie'!D:AE,23,0),IF(Voorblad!$C$6="37",VLOOKUP(Tabel33[[#This Row],[Document omschrijving]],'Gegevens documentatie'!D:AE,24,0),IF(Voorblad!$C$6="91",VLOOKUP(Tabel33[[#This Row],[Document omschrijving]],'Gegevens documentatie'!D:AE,25,0),IF(Voorblad!$C$6="13",VLOOKUP(Tabel33[[#This Row],[Document omschrijving]],'Gegevens documentatie'!D:AE,26,0),IF(Voorblad!$C$6="58",VLOOKUP(Tabel33[[#This Row],[Document omschrijving]],'Gegevens documentatie'!D:AE,27,0),IF(Voorblad!$C$6="42",VLOOKUP(Tabel33[[#This Row],[Document omschrijving]],'Gegevens documentatie'!D:AE,28,0),""))))))))))))))))))))))) -> verplicht | E35: Ja | F35: VSP E | G35: Is onderdeel van ZW1 Schemapakket per MCC / Meet- en Regelpaneel | H35: =VLOOKUP(Tabel33[[#This Row],[Document omschrijving]],'Gegevens documentatie'!D:AF,29,0) -> DWG | I35: =IF(Tabel33[[#This Row],[1. Opleveren]]="ja",_xlfn.CONCAT(COUNTIF(Opleverlijst!P:P,Tabel33[[#This Row],[Code Meridian]])," ","geleverd"),"") -> 0 geleverd | J35: =IF(Tabel33[[#This Row],[1. Opleveren]]="ja",_xlfn.CONCAT(COUNTIFS(Opleverlijst!H:H,"as-built",Opleverlijst!P:P,Tabel33[[#This Row],[Code Meridian]])," ","As-built"),"") -> 0 As-built
A36: Tekeningen (elektrotechnisch) | B36: Kabellooptekeningen | C36: ET2.17 | D36: =IF(ISNA(IF(Voorblad!$C$6="27a",VLOOKUP(Tabel33[[#This Row],[Document omschrijving]],'Gegevens documentatie'!D:AE,7,0),IF(Voorblad!$C$6="80a",VLOOKUP(Tabel33[[#This Row],[Document omschrijving]],'Gegevens documentatie'!D:AE,8,0),IF(Voorblad!$C$6="81",VLOOKUP(Tabel33[[#This Row],[Document omschrijving]],'Gegevens documentatie'!D:AE,9,0),IF(Voorblad!$C$6="36a",VLOOKUP(Tabel33[[#This Row],[Document omschrijving]],'Gegevens documentatie'!D:AE,10,0),IF(Voorblad!$C$6="28",VLOOKUP(Tabel33[[#This Row],[Document omschrijving]],'Gegevens documentatie'!D:AE,11,0),IF(Voorblad!$C$6="28a",VLOOKUP(Tabel33[[#This Row],[Document omschrijving]],'Gegevens documentatie'!D:AE,12,0),IF(Voorblad!$C$6="48a",VLOOKUP(Tabel33[[#This Row],[Document omschrijving]],'Gegevens documentatie'!D:AE,13,0),IF(Voorblad!$C$6="54",VLOOKUP(Tabel33[[#This Row],[Document omschrijving]],'Gegevens documentatie'!D:AE,14,0),IF(Voorblad!$C$6="54a",VLOOKUP(Tabel33[[#This Row],[Document omschrijving]],'Gegevens documentatie'!D:AE,15,0),IF(Voorblad!$C$6="56",VLOOKUP(Tabel33[[#This Row],[Document omschrijving]],'Gegevens documentatie'!D:AE,16,0),IF(Voorblad!$C$6="56a",VLOOKUP(Tabel33[[#This Row],[Document omschrijving]],'Gegevens documentatie'!D:AE,17,0),IF(Voorblad!$C$6="93",VLOOKUP(Tabel33[[#This Row],[Document omschrijving]],'Gegevens documentatie'!D:AE,18,0),IF(Voorblad!$C$6="93a",VLOOKUP(Tabel33[[#This Row],[Document omschrijving]],'Gegevens documentatie'!D:AE,19,0),IF(Voorblad!$C$6="105a",VLOOKUP(Tabel33[[#This Row],[Document omschrijving]],'Gegevens documentatie'!D:AE,20,0),IF(Voorblad!$C$6="31",VLOOKUP(Tabel33[[#This Row],[Document omschrijving]],'Gegevens documentatie'!D:AE,21,0),IF(Voorblad!$C$6="33",VLOOKUP(Tabel33[[#This Row],[Document omschrijving]],'Gegevens documentatie'!D:AE,22,0),IF(Voorblad!$C$6="33a",VLOOKUP(Tabel33[[#This Row],[Document omschrijving]],'Gegevens documentatie'!D:AE,23,0),IF(Voorblad!$C$6="37",VLOOKUP(Tabel33[[#This Row],[Document omschrijving]],'Gegevens documentatie'!D:AE,24,0),IF(Voorblad!$C$6="91",VLOOKUP(Tabel33[[#This Row],[Document omschrijving]],'Gegevens documentatie'!D:AE,25,0),IF(Voorblad!$C$6="13",VLOOKUP(Tabel33[[#This Row],[Document omschrijving]],'Gegevens documentatie'!D:AE,26,0),IF(Voorblad!$C$6="58",VLOOKUP(Tabel33[[#This Row],[Document omschrijving]],'Gegevens documentatie'!D:AE,27,0),IF(Voorblad!$C$6="42",VLOOKUP(Tabel33[[#This Row],[Document omschrijving]],'Gegevens documentatie'!D:AE,28,0),""))))))))))))))))))))))),"verplicht",IF(Voorblad!$C$6="27a",VLOOKUP(Tabel33[[#This Row],[Document omschrijving]],'Gegevens documentatie'!D:AE,7,0),IF(Voorblad!$C$6="80a",VLOOKUP(Tabel33[[#This Row],[Document omschrijving]],'Gegevens documentatie'!D:AE,8,0),IF(Voorblad!$C$6="81",VLOOKUP(Tabel33[[#This Row],[Document omschrijving]],'Gegevens documentatie'!D:AE,9,0),IF(Voorblad!$C$6="36a",VLOOKUP(Tabel33[[#This Row],[Document omschrijving]],'Gegevens documentatie'!D:AE,10,0),IF(Voorblad!$C$6="28",VLOOKUP(Tabel33[[#This Row],[Document omschrijving]],'Gegevens documentatie'!D:AE,11,0),IF(Voorblad!$C$6="28a",VLOOKUP(Tabel33[[#This Row],[Document omschrijving]],'Gegevens documentatie'!D:AE,12,0),IF(Voorblad!$C$6="48a",VLOOKUP(Tabel33[[#This Row],[Document omschrijving]],'Gegevens documentatie'!D:AE,13,0),IF(Voorblad!$C$6="54",VLOOKUP(Tabel33[[#This Row],[Document omschrijving]],'Gegevens documentatie'!D:AE,14,0),IF(Voorblad!$C$6="54a",VLOOKUP(Tabel33[[#This Row],[Document omschrijving]],'Gegevens documentatie'!D:AE,15,0),IF(Voorblad!$C$6="56",VLOOKUP(Tabel33[[#This Row],[Document omschrijving]],'Gegevens documentatie'!D:AE,16,0),IF(Voorblad!$C$6="56a",VLOOKUP(Tabel33[[#This Row],[Document omschrijving]],'Gegevens documentatie'!D:AE,17,0),IF(Voorblad!$C$6="93",VLOOKUP(Tabel33[[#This Row],[Document omschrijving]],'Gegevens documentatie'!D:AE,18,0),IF(Voorblad!$C$6="93a",VLOOKUP(Tabel33[[#This Row],[Document omschrijving]],'Gegevens documentatie'!D:AE,19,0),IF(Voorblad!$C$6="105a",VLOOKUP(Tabel33[[#This Row],[Document omschrijving]],'Gegevens documentatie'!D:AE,20,0),IF(Voorblad!$C$6="31",VLOOKUP(Tabel33[[#This Row],[Document omschrijving]],'Gegevens documentatie'!D:AE,21,0),IF(Voorblad!$C$6="33",VLOOKUP(Tabel33[[#This Row],[Document omschrijving]],'Gegevens documentatie'!D:AE,22,0),IF(Voorblad!$C$6="33a",VLOOKUP(Tabel33[[#This Row],[Document omschrijving]],'Gegevens documentatie'!D:AE,23,0),IF(Voorblad!$C$6="37",VLOOKUP(Tabel33[[#This Row],[Document omschrijving]],'Gegevens documentatie'!D:AE,24,0),IF(Voorblad!$C$6="91",VLOOKUP(Tabel33[[#This Row],[Document omschrijving]],'Gegevens documentatie'!D:AE,25,0),IF(Voorblad!$C$6="13",VLOOKUP(Tabel33[[#This Row],[Document omschrijving]],'Gegevens documentatie'!D:AE,26,0),IF(Voorblad!$C$6="58",VLOOKUP(Tabel33[[#This Row],[Document omschrijving]],'Gegevens documentatie'!D:AE,27,0),IF(Voorblad!$C$6="42",VLOOKUP(Tabel33[[#This Row],[Document omschrijving]],'Gegevens documentatie'!D:AE,28,0),""))))))))))))))))))))))) -> verplicht | E36: Ja | F36: VSP E | G36: Is onderdeel van ZW1 Schemapakket per MCC / Meet- en Regelpaneel | H36: =VLOOKUP(Tabel33[[#This Row],[Document omschrijving]],'Gegevens documentatie'!D:AF,29,0) -> DWG | I36: =IF(Tabel33[[#This Row],[1. Opleveren]]="ja",_xlfn.CONCAT(COUNTIF(Opleverlijst!P:P,Tabel33[[#This Row],[Code Meridian]])," ","geleverd"),"") -> 0 geleverd | J36: =IF(Tabel33[[#This Row],[1. Opleveren]]="ja",_xlfn.CONCAT(COUNTIFS(Opleverlijst!H:H,"as-built",Opleverlijst!P:P,Tabel33[[#This Row],[Code Meridian]])," ","As-built"),"") -> 0 As-built
A37: Tekeningen (elektrotechnisch) | B37: Locatietekeningen apparatuur en veldinstrumenten | C37: ET2.23 | D37: =IF(ISNA(IF(Voorblad!$C$6="27a",VLOOKUP(Tabel33[[#This Row],[Document omschrijving]],'Gegevens documentatie'!D:AE,7,0),IF(Voorblad!$C$6="80a",VLOOKUP(Tabel33[[#This Row],[Document omschrijving]],'Gegevens documentatie'!D:AE,8,0),IF(Voorblad!$C$6="81",VLOOKUP(Tabel33[[#This Row],[Document omschrijving]],'Gegevens documentatie'!D:AE,9,0),IF(Voorblad!$C$6="36a",VLOOKUP(Tabel33[[#This Row],[Document omschrijving]],'Gegevens documentatie'!D:AE,10,0),IF(Voorblad!$C$6="28",VLOOKUP(Tabel33[[#This Row],[Document omschrijving]],'Gegevens documentatie'!D:AE,11,0),IF(Voorblad!$C$6="28a",VLOOKUP(Tabel33[[#This Row],[Document omschrijving]],'Gegevens documentatie'!D:AE,12,0),IF(Voorblad!$C$6="48a",VLOOKUP(Tabel33[[#This Row],[Document omschrijving]],'Gegevens documentatie'!D:AE,13,0),IF(Voorblad!$C$6="54",VLOOKUP(Tabel33[[#This Row],[Document omschrijving]],'Gegevens documentatie'!D:AE,14,0),IF(Voorblad!$C$6="54a",VLOOKUP(Tabel33[[#This Row],[Document omschrijving]],'Gegevens documentatie'!D:AE,15,0),IF(Voorblad!$C$6="56",VLOOKUP(Tabel33[[#This Row],[Document omschrijving]],'Gegevens documentatie'!D:AE,16,0),IF(Voorblad!$C$6="56a",VLOOKUP(Tabel33[[#This Row],[Document omschrijving]],'Gegevens documentatie'!D:AE,17,0),IF(Voorblad!$C$6="93",VLOOKUP(Tabel33[[#This Row],[Document omschrijving]],'Gegevens documentatie'!D:AE,18,0),IF(Voorblad!$C$6="93a",VLOOKUP(Tabel33[[#This Row],[Document omschrijving]],'Gegevens documentatie'!D:AE,19,0),IF(Voorblad!$C$6="105a",VLOOKUP(Tabel33[[#This Row],[Document omschrijving]],'Gegevens documentatie'!D:AE,20,0),IF(Voorblad!$C$6="31",VLOOKUP(Tabel33[[#This Row],[Document omschrijving]],'Gegevens documentatie'!D:AE,21,0),IF(Voorblad!$C$6="33",VLOOKUP(Tabel33[[#This Row],[Document omschrijving]],'Gegevens documentatie'!D:AE,22,0),IF(Voorblad!$C$6="33a",VLOOKUP(Tabel33[[#This Row],[Document omschrijving]],'Gegevens documentatie'!D:AE,23,0),IF(Voorblad!$C$6="37",VLOOKUP(Tabel33[[#This Row],[Document omschrijving]],'Gegevens documentatie'!D:AE,24,0),IF(Voorblad!$C$6="91",VLOOKUP(Tabel33[[#This Row],[Document omschrijving]],'Gegevens documentatie'!D:AE,25,0),IF(Voorblad!$C$6="13",VLOOKUP(Tabel33[[#This Row],[Document omschrijving]],'Gegevens documentatie'!D:AE,26,0),IF(Voorblad!$C$6="58",VLOOKUP(Tabel33[[#This Row],[Document omschrijving]],'Gegevens documentatie'!D:AE,27,0),IF(Voorblad!$C$6="42",VLOOKUP(Tabel33[[#This Row],[Document omschrijving]],'Gegevens documentatie'!D:AE,28,0),""))))))))))))))))))))))),"verplicht",IF(Voorblad!$C$6="27a",VLOOKUP(Tabel33[[#This Row],[Document omschrijving]],'Gegevens documentatie'!D:AE,7,0),IF(Voorblad!$C$6="80a",VLOOKUP(Tabel33[[#This Row],[Document omschrijving]],'Gegevens documentatie'!D:AE,8,0),IF(Voorblad!$C$6="81",VLOOKUP(Tabel33[[#This Row],[Document omschrijving]],'Gegevens documentatie'!D:AE,9,0),IF(Voorblad!$C$6="36a",VLOOKUP(Tabel33[[#This Row],[Document omschrijving]],'Gegevens documentatie'!D:AE,10,0),IF(Voorblad!$C$6="28",VLOOKUP(Tabel33[[#This Row],[Document omschrijving]],'Gegevens documentatie'!D:AE,11,0),IF(Voorblad!$C$6="28a",VLOOKUP(Tabel33[[#This Row],[Document omschrijving]],'Gegevens documentatie'!D:AE,12,0),IF(Voorblad!$C$6="48a",VLOOKUP(Tabel33[[#This Row],[Document omschrijving]],'Gegevens documentatie'!D:AE,13,0),IF(Voorblad!$C$6="54",VLOOKUP(Tabel33[[#This Row],[Document omschrijving]],'Gegevens documentatie'!D:AE,14,0),IF(Voorblad!$C$6="54a",VLOOKUP(Tabel33[[#This Row],[Document omschrijving]],'Gegevens documentatie'!D:AE,15,0),IF(Voorblad!$C$6="56",VLOOKUP(Tabel33[[#This Row],[Document omschrijving]],'Gegevens documentatie'!D:AE,16,0),IF(Voorblad!$C$6="56a",VLOOKUP(Tabel33[[#This Row],[Document omschrijving]],'Gegevens documentatie'!D:AE,17,0),IF(Voorblad!$C$6="93",VLOOKUP(Tabel33[[#This Row],[Document omschrijving]],'Gegevens documentatie'!D:AE,18,0),IF(Voorblad!$C$6="93a",VLOOKUP(Tabel33[[#This Row],[Document omschrijving]],'Gegevens documentatie'!D:AE,19,0),IF(Voorblad!$C$6="105a",VLOOKUP(Tabel33[[#This Row],[Document omschrijving]],'Gegevens documentatie'!D:AE,20,0),IF(Voorblad!$C$6="31",VLOOKUP(Tabel33[[#This Row],[Document omschrijving]],'Gegevens documentatie'!D:AE,21,0),IF(Voorblad!$C$6="33",VLOOKUP(Tabel33[[#This Row],[Document omschrijving]],'Gegevens documentatie'!D:AE,22,0),IF(Voorblad!$C$6="33a",VLOOKUP(Tabel33[[#This Row],[Document omschrijving]],'Gegevens documentatie'!D:AE,23,0),IF(Voorblad!$C$6="37",VLOOKUP(Tabel33[[#This Row],[Document omschrijving]],'Gegevens documentatie'!D:AE,24,0),IF(Voorblad!$C$6="91",VLOOKUP(Tabel33[[#This Row],[Document omschrijving]],'Gegevens documentatie'!D:AE,25,0),IF(Voorblad!$C$6="13",VLOOKUP(Tabel33[[#This Row],[Document omschrijving]],'Gegevens documentatie'!D:AE,26,0),IF(Voorblad!$C$6="58",VLOOKUP(Tabel33[[#This Row],[Document omschrijving]],'Gegevens documentatie'!D:AE,27,0),IF(Voorblad!$C$6="42",VLOOKUP(Tabel33[[#This Row],[Document omschrijving]],'Gegevens documentatie'!D:AE,28,0),""))))))))))))))))))))))) -> verplicht | H37: =VLOOKUP(Tabel33[[#This Row],[Document omschrijving]],'Gegevens documentatie'!D:AF,29,0) -> DWG | I37: =IF(Tabel33[[#This Row],[1. Opleveren]]="ja",_xlfn.CONCAT(COUNTIF(Opleverlijst!P:P,Tabel33[[#This Row],[Code Meridian]])," ","geleverd"),"") | J37: =IF(Tabel33[[#This Row],[1. Opleveren]]="ja",_xlfn.CONCAT(COUNTIFS(Opleverlijst!H:H,"as-built",Opleverlijst!P:P,Tabel33[[#This Row],[Code Meridian]])," ","As-built"),"")
A38: Tekeningen (elektrotechnisch) | B38: Schemapakket per MCC / Meet- en Regelpaneel | C38: ET2.29 | D38: =IF(ISNA(IF(Voorblad!$C$6="27a",VLOOKUP(Tabel33[[#This Row],[Document omschrijving]],'Gegevens documentatie'!D:AE,7,0),IF(Voorblad!$C$6="80a",VLOOKUP(Tabel33[[#This Row],[Document omschrijving]],'Gegevens documentatie'!D:AE,8,0),IF(Voorblad!$C$6="81",VLOOKUP(Tabel33[[#This Row],[Document omschrijving]],'Gegevens documentatie'!D:AE,9,0),IF(Voorblad!$C$6="36a",VLOOKUP(Tabel33[[#This Row],[Document omschrijving]],'Gegevens documentatie'!D:AE,10,0),IF(Voorblad!$C$6="28",VLOOKUP(Tabel33[[#This Row],[Document omschrijving]],'Gegevens documentatie'!D:AE,11,0),IF(Voorblad!$C$6="28a",VLOOKUP(Tabel33[[#This Row],[Document omschrijving]],'Gegevens documentatie'!D:AE,12,0),IF(Voorblad!$C$6="48a",VLOOKUP(Tabel33[[#This Row],[Document omschrijving]],'Gegevens documentatie'!D:AE,13,0),IF(Voorblad!$C$6="54",VLOOKUP(Tabel33[[#This Row],[Document omschrijving]],'Gegevens documentatie'!D:AE,14,0),IF(Voorblad!$C$6="54a",VLOOKUP(Tabel33[[#This Row],[Document omschrijving]],'Gegevens documentatie'!D:AE,15,0),IF(Voorblad!$C$6="56",VLOOKUP(Tabel33[[#This Row],[Document omschrijving]],'Gegevens documentatie'!D:AE,16,0),IF(Voorblad!$C$6="56a",VLOOKUP(Tabel33[[#This Row],[Document omschrijving]],'Gegevens documentatie'!D:AE,17,0),IF(Voorblad!$C$6="93",VLOOKUP(Tabel33[[#This Row],[Document omschrijving]],'Gegevens documentatie'!D:AE,18,0),IF(Voorblad!$C$6="93a",VLOOKUP(Tabel33[[#This Row],[Document omschrijving]],'Gegevens documentatie'!D:AE,19,0),IF(Voorblad!$C$6="105a",VLOOKUP(Tabel33[[#This Row],[Document omschrijving]],'Gegevens documentatie'!D:AE,20,0),IF(Voorblad!$C$6="31",VLOOKUP(Tabel33[[#This Row],[Document omschrijving]],'Gegevens documentatie'!D:AE,21,0),IF(Voorblad!$C$6="33",VLOOKUP(Tabel33[[#This Row],[Document omschrijving]],'Gegevens documentatie'!D:AE,22,0),IF(Voorblad!$C$6="33a",VLOOKUP(Tabel33[[#This Row],[Document omschrijving]],'Gegevens documentatie'!D:AE,23,0),IF(Voorblad!$C$6="37",VLOOKUP(Tabel33[[#This Row],[Document omschrijving]],'Gegevens documentatie'!D:AE,24,0),IF(Voorblad!$C$6="91",VLOOKUP(Tabel33[[#This Row],[Document omschrijving]],'Gegevens documentatie'!D:AE,25,0),IF(Voorblad!$C$6="13",VLOOKUP(Tabel33[[#This Row],[Document omschrijving]],'Gegevens documentatie'!D:AE,26,0),IF(Voorblad!$C$6="58",VLOOKUP(Tabel33[[#This Row],[Document omschrijving]],'Gegevens documentatie'!D:AE,27,0),IF(Voorblad!$C$6="42",VLOOKUP(Tabel33[[#This Row],[Document omschrijving]],'Gegevens documentatie'!D:AE,28,0),""))))))))))))))))))))))),"verplicht",IF(Voorblad!$C$6="27a",VLOOKUP(Tabel33[[#This Row],[Document omschrijving]],'Gegevens documentatie'!D:AE,7,0),IF(Voorblad!$C$6="80a",VLOOKUP(Tabel33[[#This Row],[Document omschrijving]],'Gegevens documentatie'!D:AE,8,0),IF(Voorblad!$C$6="81",VLOOKUP(Tabel33[[#This Row],[Document omschrijving]],'Gegevens documentatie'!D:AE,9,0),IF(Voorblad!$C$6="36a",VLOOKUP(Tabel33[[#This Row],[Document omschrijving]],'Gegevens documentatie'!D:AE,10,0),IF(Voorblad!$C$6="28",VLOOKUP(Tabel33[[#This Row],[Document omschrijving]],'Gegevens documentatie'!D:AE,11,0),IF(Voorblad!$C$6="28a",VLOOKUP(Tabel33[[#This Row],[Document omschrijving]],'Gegevens documentatie'!D:AE,12,0),IF(Voorblad!$C$6="48a",VLOOKUP(Tabel33[[#This Row],[Document omschrijving]],'Gegevens documentatie'!D:AE,13,0),IF(Voorblad!$C$6="54",VLOOKUP(Tabel33[[#This Row],[Document omschrijving]],'Gegevens documentatie'!D:AE,14,0),IF(Voorblad!$C$6="54a",VLOOKUP(Tabel33[[#This Row],[Document omschrijving]],'Gegevens documentatie'!D:AE,15,0),IF(Voorblad!$C$6="56",VLOOKUP(Tabel33[[#This Row],[Document omschrijving]],'Gegevens documentatie'!D:AE,16,0),IF(Voorblad!$C$6="56a",VLOOKUP(Tabel33[[#This Row],[Document omschrijving]],'Gegevens documentatie'!D:AE,17,0),IF(Voorblad!$C$6="93",VLOOKUP(Tabel33[[#This Row],[Document omschrijving]],'Gegevens documentatie'!D:AE,18,0),IF(Voorblad!$C$6="93a",VLOOKUP(Tabel33[[#This Row],[Document omschrijving]],'Gegevens documentatie'!D:AE,19,0),IF(Voorblad!$C$6="105a",VLOOKUP(Tabel33[[#This Row],[Document omschrijving]],'Gegevens documentatie'!D:AE,20,0),IF(Voorblad!$C$6="31",VLOOKUP(Tabel33[[#This Row],[Document omschrijving]],'Gegevens documentatie'!D:AE,21,0),IF(Voorblad!$C$6="33",VLOOKUP(Tabel33[[#This Row],[Document omschrijving]],'Gegevens documentatie'!D:AE,22,0),IF(Voorblad!$C$6="33a",VLOOKUP(Tabel33[[#This Row],[Document omschrijving]],'Gegevens documentatie'!D:AE,23,0),IF(Voorblad!$C$6="37",VLOOKUP(Tabel33[[#This Row],[Document omschrijving]],'Gegevens documentatie'!D:AE,24,0),IF(Voorblad!$C$6="91",VLOOKUP(Tabel33[[#This Row],[Document omschrijving]],'Gegevens documentatie'!D:AE,25,0),IF(Voorblad!$C$6="13",VLOOKUP(Tabel33[[#This Row],[Document omschrijving]],'Gegevens documentatie'!D:AE,26,0),IF(Voorblad!$C$6="58",VLOOKUP(Tabel33[[#This Row],[Document omschrijving]],'Gegevens documentatie'!D:AE,27,0),IF(Voorblad!$C$6="42",VLOOKUP(Tabel33[[#This Row],[Document omschrijving]],'Gegevens documentatie'!D:AE,28,0),""))))))))))))))))))))))) -> verplicht | E38: Ja | F38: VSP E en PA | H38: =VLOOKUP(Tabel33[[#This Row],[Document omschrijving]],'Gegevens documentatie'!D:AF,29,0) -> ZW1 | I38: =IF(Tabel33[[#This Row],[1. Opleveren]]="ja",_xlfn.CONCAT(COUNTIF(Opleverlijst!P:P,Tabel33[[#This Row],[Code Meridian]])," ","geleverd"),"") -> 0 geleverd | J38: =IF(Tabel33[[#This Row],[1. Opleveren]]="ja",_xlfn.CONCAT(COUNTIFS(Opleverlijst!H:H,"as-built",Opleverlijst!P:P,Tabel33[[#This Row],[Code Meridian]])," ","As-built"),"") -> 0 As-built
A39: Tekeningen (elektrotechnisch) | B39: Bedrijfsschema's (P&ID's) | C39: ET2.31 | D39: =IF(ISNA(IF(Voorblad!$C$6="27a",VLOOKUP(Tabel33[[#This Row],[Document omschrijving]],'Gegevens documentatie'!D:AE,7,0),IF(Voorblad!$C$6="80a",VLOOKUP(Tabel33[[#This Row],[Document omschrijving]],'Gegevens documentatie'!D:AE,8,0),IF(Voorblad!$C$6="81",VLOOKUP(Tabel33[[#This Row],[Document omschrijving]],'Gegevens documentatie'!D:AE,9,0),IF(Voorblad!$C$6="36a",VLOOKUP(Tabel33[[#This Row],[Document omschrijving]],'Gegevens documentatie'!D:AE,10,0),IF(Voorblad!$C$6="28",VLOOKUP(Tabel33[[#This Row],[Document omschrijving]],'Gegevens documentatie'!D:AE,11,0),IF(Voorblad!$C$6="28a",VLOOKUP(Tabel33[[#This Row],[Document omschrijving]],'Gegevens documentatie'!D:AE,12,0),IF(Voorblad!$C$6="48a",VLOOKUP(Tabel33[[#This Row],[Document omschrijving]],'Gegevens documentatie'!D:AE,13,0),IF(Voorblad!$C$6="54",VLOOKUP(Tabel33[[#This Row],[Document omschrijving]],'Gegevens documentatie'!D:AE,14,0),IF(Voorblad!$C$6="54a",VLOOKUP(Tabel33[[#This Row],[Document omschrijving]],'Gegevens documentatie'!D:AE,15,0),IF(Voorblad!$C$6="56",VLOOKUP(Tabel33[[#This Row],[Document omschrijving]],'Gegevens documentatie'!D:AE,16,0),IF(Voorblad!$C$6="56a",VLOOKUP(Tabel33[[#This Row],[Document omschrijving]],'Gegevens documentatie'!D:AE,17,0),IF(Voorblad!$C$6="93",VLOOKUP(Tabel33[[#This Row],[Document omschrijving]],'Gegevens documentatie'!D:AE,18,0),IF(Voorblad!$C$6="93a",VLOOKUP(Tabel33[[#This Row],[Document omschrijving]],'Gegevens documentatie'!D:AE,19,0),IF(Voorblad!$C$6="105a",VLOOKUP(Tabel33[[#This Row],[Document omschrijving]],'Gegevens documentatie'!D:AE,20,0),IF(Voorblad!$C$6="31",VLOOKUP(Tabel33[[#This Row],[Document omschrijving]],'Gegevens documentatie'!D:AE,21,0),IF(Voorblad!$C$6="33",VLOOKUP(Tabel33[[#This Row],[Document omschrijving]],'Gegevens documentatie'!D:AE,22,0),IF(Voorblad!$C$6="33a",VLOOKUP(Tabel33[[#This Row],[Document omschrijving]],'Gegevens documentatie'!D:AE,23,0),IF(Voorblad!$C$6="37",VLOOKUP(Tabel33[[#This Row],[Document omschrijving]],'Gegevens documentatie'!D:AE,24,0),IF(Voorblad!$C$6="91",VLOOKUP(Tabel33[[#This Row],[Document omschrijving]],'Gegevens documentatie'!D:AE,25,0),IF(Voorblad!$C$6="13",VLOOKUP(Tabel33[[#This Row],[Document omschrijving]],'Gegevens documentatie'!D:AE,26,0),IF(Voorblad!$C$6="58",VLOOKUP(Tabel33[[#This Row],[Document omschrijving]],'Gegevens documentatie'!D:AE,27,0),IF(Voorblad!$C$6="42",VLOOKUP(Tabel33[[#This Row],[Document omschrijving]],'Gegevens documentatie'!D:AE,28,0),""))))))))))))))))))))))),"verplicht",IF(Voorblad!$C$6="27a",VLOOKUP(Tabel33[[#This Row],[Document omschrijving]],'Gegevens documentatie'!D:AE,7,0),IF(Voorblad!$C$6="80a",VLOOKUP(Tabel33[[#This Row],[Document omschrijving]],'Gegevens documentatie'!D:AE,8,0),IF(Voorblad!$C$6="81",VLOOKUP(Tabel33[[#This Row],[Document omschrijving]],'Gegevens documentatie'!D:AE,9,0),IF(Voorblad!$C$6="36a",VLOOKUP(Tabel33[[#This Row],[Document omschrijving]],'Gegevens documentatie'!D:AE,10,0),IF(Voorblad!$C$6="28",VLOOKUP(Tabel33[[#This Row],[Document omschrijving]],'Gegevens documentatie'!D:AE,11,0),IF(Voorblad!$C$6="28a",VLOOKUP(Tabel33[[#This Row],[Document omschrijving]],'Gegevens documentatie'!D:AE,12,0),IF(Voorblad!$C$6="48a",VLOOKUP(Tabel33[[#This Row],[Document omschrijving]],'Gegevens documentatie'!D:AE,13,0),IF(Voorblad!$C$6="54",VLOOKUP(Tabel33[[#This Row],[Document omschrijving]],'Gegevens documentatie'!D:AE,14,0),IF(Voorblad!$C$6="54a",VLOOKUP(Tabel33[[#This Row],[Document omschrijving]],'Gegevens documentatie'!D:AE,15,0),IF(Voorblad!$C$6="56",VLOOKUP(Tabel33[[#This Row],[Document omschrijving]],'Gegevens documentatie'!D:AE,16,0),IF(Voorblad!$C$6="56a",VLOOKUP(Tabel33[[#This Row],[Document omschrijving]],'Gegevens documentatie'!D:AE,17,0),IF(Voorblad!$C$6="93",VLOOKUP(Tabel33[[#This Row],[Document omschrijving]],'Gegevens documentatie'!D:AE,18,0),IF(Voorblad!$C$6="93a",VLOOKUP(Tabel33[[#This Row],[Document omschrijving]],'Gegevens documentatie'!D:AE,19,0),IF(Voorblad!$C$6="105a",VLOOKUP(Tabel33[[#This Row],[Document omschrijving]],'Gegevens documentatie'!D:AE,20,0),IF(Voorblad!$C$6="31",VLOOKUP(Tabel33[[#This Row],[Document omschrijving]],'Gegevens documentatie'!D:AE,21,0),IF(Voorblad!$C$6="33",VLOOKUP(Tabel33[[#This Row],[Document omschrijving]],'Gegevens documentatie'!D:AE,22,0),IF(Voorblad!$C$6="33a",VLOOKUP(Tabel33[[#This Row],[Document omschrijving]],'Gegevens documentatie'!D:AE,23,0),IF(Voorblad!$C$6="37",VLOOKUP(Tabel33[[#This Row],[Document omschrijving]],'Gegevens documentatie'!D:AE,24,0),IF(Voorblad!$C$6="91",VLOOKUP(Tabel33[[#This Row],[Document omschrijving]],'Gegevens documentatie'!D:AE,25,0),IF(Voorblad!$C$6="13",VLOOKUP(Tabel33[[#This Row],[Document omschrijving]],'Gegevens documentatie'!D:AE,26,0),IF(Voorblad!$C$6="58",VLOOKUP(Tabel33[[#This Row],[Document omschrijving]],'Gegevens documentatie'!D:AE,27,0),IF(Voorblad!$C$6="42",VLOOKUP(Tabel33[[#This Row],[Document omschrijving]],'Gegevens documentatie'!D:AE,28,0),""))))))))))))))))))))))) -> verplicht | E39: Ja | F39: Vakspecialist WTB/E/PA | H39: =VLOOKUP(Tabel33[[#This Row],[Document omschrijving]],'Gegevens documentatie'!D:AF,29,0) -> DWG | I39: =IF(Tabel33[[#This Row],[1. Opleveren]]="ja",_xlfn.CONCAT(COUNTIF(Opleverlijst!P:P,Tabel33[[#This Row],[Code Meridian]])," ","geleverd"),"") -> 0 geleverd | J39: =IF(Tabel33[[#This Row],[1. Opleveren]]="ja",_xlfn.CONCAT(COUNTIFS(Opleverlijst!H:H,"as-built",Opleverlijst!P:P,Tabel33[[#This Row],[Code Meridian]])," ","As-built"),"") -> 0 As-built
A40: Tekeningen (elektrotechnisch) | B40: Confuguratieschema Inbraakdetectie & toegangscontrole | C40: ET2.4 | D40: =IF(ISNA(IF(Voorblad!$C$6="27a",VLOOKUP(Tabel33[[#This Row],[Document omschrijving]],'Gegevens documentatie'!D:AE,7,0),IF(Voorblad!$C$6="80a",VLOOKUP(Tabel33[[#This Row],[Document omschrijving]],'Gegevens documentatie'!D:AE,8,0),IF(Voorblad!$C$6="81",VLOOKUP(Tabel33[[#This Row],[Document omschrijving]],'Gegevens documentatie'!D:AE,9,0),IF(Voorblad!$C$6="36a",VLOOKUP(Tabel33[[#This Row],[Document omschrijving]],'Gegevens documentatie'!D:AE,10,0),IF(Voorblad!$C$6="28",VLOOKUP(Tabel33[[#This Row],[Document omschrijving]],'Gegevens documentatie'!D:AE,11,0),IF(Voorblad!$C$6="28a",VLOOKUP(Tabel33[[#This Row],[Document omschrijving]],'Gegevens documentatie'!D:AE,12,0),IF(Voorblad!$C$6="48a",VLOOKUP(Tabel33[[#This Row],[Document omschrijving]],'Gegevens documentatie'!D:AE,13,0),IF(Voorblad!$C$6="54",VLOOKUP(Tabel33[[#This Row],[Document omschrijving]],'Gegevens documentatie'!D:AE,14,0),IF(Voorblad!$C$6="54a",VLOOKUP(Tabel33[[#This Row],[Document omschrijving]],'Gegevens documentatie'!D:AE,15,0),IF(Voorblad!$C$6="56",VLOOKUP(Tabel33[[#This Row],[Document omschrijving]],'Gegevens documentatie'!D:AE,16,0),IF(Voorblad!$C$6="56a",VLOOKUP(Tabel33[[#This Row],[Document omschrijving]],'Gegevens documentatie'!D:AE,17,0),IF(Voorblad!$C$6="93",VLOOKUP(Tabel33[[#This Row],[Document omschrijving]],'Gegevens documentatie'!D:AE,18,0),IF(Voorblad!$C$6="93a",VLOOKUP(Tabel33[[#This Row],[Document omschrijving]],'Gegevens documentatie'!D:AE,19,0),IF(Voorblad!$C$6="105a",VLOOKUP(Tabel33[[#This Row],[Document omschrijving]],'Gegevens documentatie'!D:AE,20,0),IF(Voorblad!$C$6="31",VLOOKUP(Tabel33[[#This Row],[Document omschrijving]],'Gegevens documentatie'!D:AE,21,0),IF(Voorblad!$C$6="33",VLOOKUP(Tabel33[[#This Row],[Document omschrijving]],'Gegevens documentatie'!D:AE,22,0),IF(Voorblad!$C$6="33a",VLOOKUP(Tabel33[[#This Row],[Document omschrijving]],'Gegevens documentatie'!D:AE,23,0),IF(Voorblad!$C$6="37",VLOOKUP(Tabel33[[#This Row],[Document omschrijving]],'Gegevens documentatie'!D:AE,24,0),IF(Voorblad!$C$6="91",VLOOKUP(Tabel33[[#This Row],[Document omschrijving]],'Gegevens documentatie'!D:AE,25,0),IF(Voorblad!$C$6="13",VLOOKUP(Tabel33[[#This Row],[Document omschrijving]],'Gegevens documentatie'!D:AE,26,0),IF(Voorblad!$C$6="58",VLOOKUP(Tabel33[[#This Row],[Document omschrijving]],'Gegevens documentatie'!D:AE,27,0),IF(Voorblad!$C$6="42",VLOOKUP(Tabel33[[#This Row],[Document omschrijving]],'Gegevens documentatie'!D:AE,28,0),""))))))))))))))))))))))),"verplicht",IF(Voorblad!$C$6="27a",VLOOKUP(Tabel33[[#This Row],[Document omschrijving]],'Gegevens documentatie'!D:AE,7,0),IF(Voorblad!$C$6="80a",VLOOKUP(Tabel33[[#This Row],[Document omschrijving]],'Gegevens documentatie'!D:AE,8,0),IF(Voorblad!$C$6="81",VLOOKUP(Tabel33[[#This Row],[Document omschrijving]],'Gegevens documentatie'!D:AE,9,0),IF(Voorblad!$C$6="36a",VLOOKUP(Tabel33[[#This Row],[Document omschrijving]],'Gegevens documentatie'!D:AE,10,0),IF(Voorblad!$C$6="28",VLOOKUP(Tabel33[[#This Row],[Document omschrijving]],'Gegevens documentatie'!D:AE,11,0),IF(Voorblad!$C$6="28a",VLOOKUP(Tabel33[[#This Row],[Document omschrijving]],'Gegevens documentatie'!D:AE,12,0),IF(Voorblad!$C$6="48a",VLOOKUP(Tabel33[[#This Row],[Document omschrijving]],'Gegevens documentatie'!D:AE,13,0),IF(Voorblad!$C$6="54",VLOOKUP(Tabel33[[#This Row],[Document omschrijving]],'Gegevens documentatie'!D:AE,14,0),IF(Voorblad!$C$6="54a",VLOOKUP(Tabel33[[#This Row],[Document omschrijving]],'Gegevens documentatie'!D:AE,15,0),IF(Voorblad!$C$6="56",VLOOKUP(Tabel33[[#This Row],[Document omschrijving]],'Gegevens documentatie'!D:AE,16,0),IF(Voorblad!$C$6="56a",VLOOKUP(Tabel33[[#This Row],[Document omschrijving]],'Gegevens documentatie'!D:AE,17,0),IF(Voorblad!$C$6="93",VLOOKUP(Tabel33[[#This Row],[Document omschrijving]],'Gegevens documentatie'!D:AE,18,0),IF(Voorblad!$C$6="93a",VLOOKUP(Tabel33[[#This Row],[Document omschrijving]],'Gegevens documentatie'!D:AE,19,0),IF(Voorblad!$C$6="105a",VLOOKUP(Tabel33[[#This Row],[Document omschrijving]],'Gegevens documentatie'!D:AE,20,0),IF(Voorblad!$C$6="31",VLOOKUP(Tabel33[[#This Row],[Document omschrijving]],'Gegevens documentatie'!D:AE,21,0),IF(Voorblad!$C$6="33",VLOOKUP(Tabel33[[#This Row],[Document omschrijving]],'Gegevens documentatie'!D:AE,22,0),IF(Voorblad!$C$6="33a",VLOOKUP(Tabel33[[#This Row],[Document omschrijving]],'Gegevens documentatie'!D:AE,23,0),IF(Voorblad!$C$6="37",VLOOKUP(Tabel33[[#This Row],[Document omschrijving]],'Gegevens documentatie'!D:AE,24,0),IF(Voorblad!$C$6="91",VLOOKUP(Tabel33[[#This Row],[Document omschrijving]],'Gegevens documentatie'!D:AE,25,0),IF(Voorblad!$C$6="13",VLOOKUP(Tabel33[[#This Row],[Document omschrijving]],'Gegevens documentatie'!D:AE,26,0),IF(Voorblad!$C$6="58",VLOOKUP(Tabel33[[#This Row],[Document omschrijving]],'Gegevens documentatie'!D:AE,27,0),IF(Voorblad!$C$6="42",VLOOKUP(Tabel33[[#This Row],[Document omschrijving]],'Gegevens documentatie'!D:AE,28,0),""))))))))))))))))))))))) -> optioneel | H40: =VLOOKUP(Tabel33[[#This Row],[Document omschrijving]],'Gegevens documentatie'!D:AF,29,0) -> DWG | I40: =IF(Tabel33[[#This Row],[1. Opleveren]]="ja",_xlfn.CONCAT(COUNTIF(Opleverlijst!P:P,Tabel33[[#This Row],[Code Meridian]])," ","geleverd"),"") | J40: =IF(Tabel33[[#This Row],[1. Opleveren]]="ja",_xlfn.CONCAT(COUNTIFS(Opleverlijst!H:H,"as-built",Opleverlijst!P:P,Tabel33[[#This Row],[Code Meridian]])," ","As-built"),"")
A41: Tekeningen (elektrotechnisch) | B41: Grondschema Kracht- en lichtverdelingen | C41: ET2.6 | D41: =IF(ISNA(IF(Voorblad!$C$6="27a",VLOOKUP(Tabel33[[#This Row],[Document omschrijving]],'Gegevens documentatie'!D:AE,7,0),IF(Voorblad!$C$6="80a",VLOOKUP(Tabel33[[#This Row],[Document omschrijving]],'Gegevens documentatie'!D:AE,8,0),IF(Voorblad!$C$6="81",VLOOKUP(Tabel33[[#This Row],[Document omschrijving]],'Gegevens documentatie'!D:AE,9,0),IF(Voorblad!$C$6="36a",VLOOKUP(Tabel33[[#This Row],[Document omschrijving]],'Gegevens documentatie'!D:AE,10,0),IF(Voorblad!$C$6="28",VLOOKUP(Tabel33[[#This Row],[Document omschrijving]],'Gegevens documentatie'!D:AE,11,0),IF(Voorblad!$C$6="28a",VLOOKUP(Tabel33[[#This Row],[Document omschrijving]],'Gegevens documentatie'!D:AE,12,0),IF(Voorblad!$C$6="48a",VLOOKUP(Tabel33[[#This Row],[Document omschrijving]],'Gegevens documentatie'!D:AE,13,0),IF(Voorblad!$C$6="54",VLOOKUP(Tabel33[[#This Row],[Document omschrijving]],'Gegevens documentatie'!D:AE,14,0),IF(Voorblad!$C$6="54a",VLOOKUP(Tabel33[[#This Row],[Document omschrijving]],'Gegevens documentatie'!D:AE,15,0),IF(Voorblad!$C$6="56",VLOOKUP(Tabel33[[#This Row],[Document omschrijving]],'Gegevens documentatie'!D:AE,16,0),IF(Voorblad!$C$6="56a",VLOOKUP(Tabel33[[#This Row],[Document omschrijving]],'Gegevens documentatie'!D:AE,17,0),IF(Voorblad!$C$6="93",VLOOKUP(Tabel33[[#This Row],[Document omschrijving]],'Gegevens documentatie'!D:AE,18,0),IF(Voorblad!$C$6="93a",VLOOKUP(Tabel33[[#This Row],[Document omschrijving]],'Gegevens documentatie'!D:AE,19,0),IF(Voorblad!$C$6="105a",VLOOKUP(Tabel33[[#This Row],[Document omschrijving]],'Gegevens documentatie'!D:AE,20,0),IF(Voorblad!$C$6="31",VLOOKUP(Tabel33[[#This Row],[Document omschrijving]],'Gegevens documentatie'!D:AE,21,0),IF(Voorblad!$C$6="33",VLOOKUP(Tabel33[[#This Row],[Document omschrijving]],'Gegevens documentatie'!D:AE,22,0),IF(Voorblad!$C$6="33a",VLOOKUP(Tabel33[[#This Row],[Document omschrijving]],'Gegevens documentatie'!D:AE,23,0),IF(Voorblad!$C$6="37",VLOOKUP(Tabel33[[#This Row],[Document omschrijving]],'Gegevens documentatie'!D:AE,24,0),IF(Voorblad!$C$6="91",VLOOKUP(Tabel33[[#This Row],[Document omschrijving]],'Gegevens documentatie'!D:AE,25,0),IF(Voorblad!$C$6="13",VLOOKUP(Tabel33[[#This Row],[Document omschrijving]],'Gegevens documentatie'!D:AE,26,0),IF(Voorblad!$C$6="58",VLOOKUP(Tabel33[[#This Row],[Document omschrijving]],'Gegevens documentatie'!D:AE,27,0),IF(Voorblad!$C$6="42",VLOOKUP(Tabel33[[#This Row],[Document omschrijving]],'Gegevens documentatie'!D:AE,28,0),""))))))))))))))))))))))),"verplicht",IF(Voorblad!$C$6="27a",VLOOKUP(Tabel33[[#This Row],[Document omschrijving]],'Gegevens documentatie'!D:AE,7,0),IF(Voorblad!$C$6="80a",VLOOKUP(Tabel33[[#This Row],[Document omschrijving]],'Gegevens documentatie'!D:AE,8,0),IF(Voorblad!$C$6="81",VLOOKUP(Tabel33[[#This Row],[Document omschrijving]],'Gegevens documentatie'!D:AE,9,0),IF(Voorblad!$C$6="36a",VLOOKUP(Tabel33[[#This Row],[Document omschrijving]],'Gegevens documentatie'!D:AE,10,0),IF(Voorblad!$C$6="28",VLOOKUP(Tabel33[[#This Row],[Document omschrijving]],'Gegevens documentatie'!D:AE,11,0),IF(Voorblad!$C$6="28a",VLOOKUP(Tabel33[[#This Row],[Document omschrijving]],'Gegevens documentatie'!D:AE,12,0),IF(Voorblad!$C$6="48a",VLOOKUP(Tabel33[[#This Row],[Document omschrijving]],'Gegevens documentatie'!D:AE,13,0),IF(Voorblad!$C$6="54",VLOOKUP(Tabel33[[#This Row],[Document omschrijving]],'Gegevens documentatie'!D:AE,14,0),IF(Voorblad!$C$6="54a",VLOOKUP(Tabel33[[#This Row],[Document omschrijving]],'Gegevens documentatie'!D:AE,15,0),IF(Voorblad!$C$6="56",VLOOKUP(Tabel33[[#This Row],[Document omschrijving]],'Gegevens documentatie'!D:AE,16,0),IF(Voorblad!$C$6="56a",VLOOKUP(Tabel33[[#This Row],[Document omschrijving]],'Gegevens documentatie'!D:AE,17,0),IF(Voorblad!$C$6="93",VLOOKUP(Tabel33[[#This Row],[Document omschrijving]],'Gegevens documentatie'!D:AE,18,0),IF(Voorblad!$C$6="93a",VLOOKUP(Tabel33[[#This Row],[Document omschrijving]],'Gegevens documentatie'!D:AE,19,0),IF(Voorblad!$C$6="105a",VLOOKUP(Tabel33[[#This Row],[Document omschrijving]],'Gegevens documentatie'!D:AE,20,0),IF(Voorblad!$C$6="31",VLOOKUP(Tabel33[[#This Row],[Document omschrijving]],'Gegevens documentatie'!D:AE,21,0),IF(Voorblad!$C$6="33",VLOOKUP(Tabel33[[#This Row],[Document omschrijving]],'Gegevens documentatie'!D:AE,22,0),IF(Voorblad!$C$6="33a",VLOOKUP(Tabel33[[#This Row],[Document omschrijving]],'Gegevens documentatie'!D:AE,23,0),IF(Voorblad!$C$6="37",VLOOKUP(Tabel33[[#This Row],[Document omschrijving]],'Gegevens documentatie'!D:AE,24,0),IF(Voorblad!$C$6="91",VLOOKUP(Tabel33[[#This Row],[Document omschrijving]],'Gegevens documentatie'!D:AE,25,0),IF(Voorblad!$C$6="13",VLOOKUP(Tabel33[[#This Row],[Document omschrijving]],'Gegevens documentatie'!D:AE,26,0),IF(Voorblad!$C$6="58",VLOOKUP(Tabel33[[#This Row],[Document omschrijving]],'Gegevens documentatie'!D:AE,27,0),IF(Voorblad!$C$6="42",VLOOKUP(Tabel33[[#This Row],[Document omschrijving]],'Gegevens documentatie'!D:AE,28,0),""))))))))))))))))))))))) -> verplicht | E41: Ja | F41: VSP E | G41: Is onderdeel van ZW1 | H41: =VLOOKUP(Tabel33[[#This Row],[Document omschrijving]],'Gegevens documentatie'!D:AF,29,0) -> DWG | I41: =IF(Tabel33[[#This Row],[1. Opleveren]]="ja",_xlfn.CONCAT(COUNTIF(Opleverlijst!P:P,Tabel33[[#This Row],[Code Meridian]])," ","geleverd"),"") -> 0 geleverd | J41: =IF(Tabel33[[#This Row],[1. Opleveren]]="ja",_xlfn.CONCAT(COUNTIFS(Opleverlijst!H:H,"as-built",Opleverlijst!P:P,Tabel33[[#This Row],[Code Meridian]])," ","As-built"),"") -> 0 As-built
A42: Tekeningen (elektrotechnisch) | B42: Grondschema Veiligheidsaarding, hoofdvereffening, vereffening & bliksembeveiliging | C42: ET2.7 | D42: =IF(ISNA(IF(Voorblad!$C$6="27a",VLOOKUP(Tabel33[[#This Row],[Document omschrijving]],'Gegevens documentatie'!D:AE,7,0),IF(Voorblad!$C$6="80a",VLOOKUP(Tabel33[[#This Row],[Document omschrijving]],'Gegevens documentatie'!D:AE,8,0),IF(Voorblad!$C$6="81",VLOOKUP(Tabel33[[#This Row],[Document omschrijving]],'Gegevens documentatie'!D:AE,9,0),IF(Voorblad!$C$6="36a",VLOOKUP(Tabel33[[#This Row],[Document omschrijving]],'Gegevens documentatie'!D:AE,10,0),IF(Voorblad!$C$6="28",VLOOKUP(Tabel33[[#This Row],[Document omschrijving]],'Gegevens documentatie'!D:AE,11,0),IF(Voorblad!$C$6="28a",VLOOKUP(Tabel33[[#This Row],[Document omschrijving]],'Gegevens documentatie'!D:AE,12,0),IF(Voorblad!$C$6="48a",VLOOKUP(Tabel33[[#This Row],[Document omschrijving]],'Gegevens documentatie'!D:AE,13,0),IF(Voorblad!$C$6="54",VLOOKUP(Tabel33[[#This Row],[Document omschrijving]],'Gegevens documentatie'!D:AE,14,0),IF(Voorblad!$C$6="54a",VLOOKUP(Tabel33[[#This Row],[Document omschrijving]],'Gegevens documentatie'!D:AE,15,0),IF(Voorblad!$C$6="56",VLOOKUP(Tabel33[[#This Row],[Document omschrijving]],'Gegevens documentatie'!D:AE,16,0),IF(Voorblad!$C$6="56a",VLOOKUP(Tabel33[[#This Row],[Document omschrijving]],'Gegevens documentatie'!D:AE,17,0),IF(Voorblad!$C$6="93",VLOOKUP(Tabel33[[#This Row],[Document omschrijving]],'Gegevens documentatie'!D:AE,18,0),IF(Voorblad!$C$6="93a",VLOOKUP(Tabel33[[#This Row],[Document omschrijving]],'Gegevens documentatie'!D:AE,19,0),IF(Voorblad!$C$6="105a",VLOOKUP(Tabel33[[#This Row],[Document omschrijving]],'Gegevens documentatie'!D:AE,20,0),IF(Voorblad!$C$6="31",VLOOKUP(Tabel33[[#This Row],[Document omschrijving]],'Gegevens documentatie'!D:AE,21,0),IF(Voorblad!$C$6="33",VLOOKUP(Tabel33[[#This Row],[Document omschrijving]],'Gegevens documentatie'!D:AE,22,0),IF(Voorblad!$C$6="33a",VLOOKUP(Tabel33[[#This Row],[Document omschrijving]],'Gegevens documentatie'!D:AE,23,0),IF(Voorblad!$C$6="37",VLOOKUP(Tabel33[[#This Row],[Document omschrijving]],'Gegevens documentatie'!D:AE,24,0),IF(Voorblad!$C$6="91",VLOOKUP(Tabel33[[#This Row],[Document omschrijving]],'Gegevens documentatie'!D:AE,25,0),IF(Voorblad!$C$6="13",VLOOKUP(Tabel33[[#This Row],[Document omschrijving]],'Gegevens documentatie'!D:AE,26,0),IF(Voorblad!$C$6="58",VLOOKUP(Tabel33[[#This Row],[Document omschrijving]],'Gegevens documentatie'!D:AE,27,0),IF(Voorblad!$C$6="42",VLOOKUP(Tabel33[[#This Row],[Document omschrijving]],'Gegevens documentatie'!D:AE,28,0),""))))))))))))))))))))))),"verplicht",IF(Voorblad!$C$6="27a",VLOOKUP(Tabel33[[#This Row],[Document omschrijving]],'Gegevens documentatie'!D:AE,7,0),IF(Voorblad!$C$6="80a",VLOOKUP(Tabel33[[#This Row],[Document omschrijving]],'Gegevens documentatie'!D:AE,8,0),IF(Voorblad!$C$6="81",VLOOKUP(Tabel33[[#This Row],[Document omschrijving]],'Gegevens documentatie'!D:AE,9,0),IF(Voorblad!$C$6="36a",VLOOKUP(Tabel33[[#This Row],[Document omschrijving]],'Gegevens documentatie'!D:AE,10,0),IF(Voorblad!$C$6="28",VLOOKUP(Tabel33[[#This Row],[Document omschrijving]],'Gegevens documentatie'!D:AE,11,0),IF(Voorblad!$C$6="28a",VLOOKUP(Tabel33[[#This Row],[Document omschrijving]],'Gegevens documentatie'!D:AE,12,0),IF(Voorblad!$C$6="48a",VLOOKUP(Tabel33[[#This Row],[Document omschrijving]],'Gegevens documentatie'!D:AE,13,0),IF(Voorblad!$C$6="54",VLOOKUP(Tabel33[[#This Row],[Document omschrijving]],'Gegevens documentatie'!D:AE,14,0),IF(Voorblad!$C$6="54a",VLOOKUP(Tabel33[[#This Row],[Document omschrijving]],'Gegevens documentatie'!D:AE,15,0),IF(Voorblad!$C$6="56",VLOOKUP(Tabel33[[#This Row],[Document omschrijving]],'Gegevens documentatie'!D:AE,16,0),IF(Voorblad!$C$6="56a",VLOOKUP(Tabel33[[#This Row],[Document omschrijving]],'Gegevens documentatie'!D:AE,17,0),IF(Voorblad!$C$6="93",VLOOKUP(Tabel33[[#This Row],[Document omschrijving]],'Gegevens documentatie'!D:AE,18,0),IF(Voorblad!$C$6="93a",VLOOKUP(Tabel33[[#This Row],[Document omschrijving]],'Gegevens documentatie'!D:AE,19,0),IF(Voorblad!$C$6="105a",VLOOKUP(Tabel33[[#This Row],[Document omschrijving]],'Gegevens documentatie'!D:AE,20,0),IF(Voorblad!$C$6="31",VLOOKUP(Tabel33[[#This Row],[Document omschrijving]],'Gegevens documentatie'!D:AE,21,0),IF(Voorblad!$C$6="33",VLOOKUP(Tabel33[[#This Row],[Document omschrijving]],'Gegevens documentatie'!D:AE,22,0),IF(Voorblad!$C$6="33a",VLOOKUP(Tabel33[[#This Row],[Document omschrijving]],'Gegevens documentatie'!D:AE,23,0),IF(Voorblad!$C$6="37",VLOOKUP(Tabel33[[#This Row],[Document omschrijving]],'Gegevens documentatie'!D:AE,24,0),IF(Voorblad!$C$6="91",VLOOKUP(Tabel33[[#This Row],[Document omschrijving]],'Gegevens documentatie'!D:AE,25,0),IF(Voorblad!$C$6="13",VLOOKUP(Tabel33[[#This Row],[Document omschrijving]],'Gegevens documentatie'!D:AE,26,0),IF(Voorblad!$C$6="58",VLOOKUP(Tabel33[[#This Row],[Document omschrijving]],'Gegevens documentatie'!D:AE,27,0),IF(Voorblad!$C$6="42",VLOOKUP(Tabel33[[#This Row],[Document omschrijving]],'Gegevens documentatie'!D:AE,28,0),""))))))))))))))))))))))) -> verplicht | E42: Ja | F42: VSP E | G42: Is onderdeel van ZW1 | H42: =VLOOKUP(Tabel33[[#This Row],[Document omschrijving]],'Gegevens documentatie'!D:AF,29,0) -> DWG | I42: =IF(Tabel33[[#This Row],[1. Opleveren]]="ja",_xlfn.CONCAT(COUNTIF(Opleverlijst!P:P,Tabel33[[#This Row],[Code Meridian]])," ","geleverd"),"") -> 0 geleverd | J42: =IF(Tabel33[[#This Row],[1. Opleveren]]="ja",_xlfn.CONCAT(COUNTIFS(Opleverlijst!H:H,"as-built",Opleverlijst!P:P,Tabel33[[#This Row],[Code Meridian]])," ","As-built"),"") -> 0 As-built
A43: Tekeningen (procesautomatisering) | B43: PA Netwerk Configuratieschema | C43: PA2.350 | D43: =IF(ISNA(IF(Voorblad!$C$6="27a",VLOOKUP(Tabel33[[#This Row],[Document omschrijving]],'Gegevens documentatie'!D:AE,7,0),IF(Voorblad!$C$6="80a",VLOOKUP(Tabel33[[#This Row],[Document omschrijving]],'Gegevens documentatie'!D:AE,8,0),IF(Voorblad!$C$6="81",VLOOKUP(Tabel33[[#This Row],[Document omschrijving]],'Gegevens documentatie'!D:AE,9,0),IF(Voorblad!$C$6="36a",VLOOKUP(Tabel33[[#This Row],[Document omschrijving]],'Gegevens documentatie'!D:AE,10,0),IF(Voorblad!$C$6="28",VLOOKUP(Tabel33[[#This Row],[Document omschrijving]],'Gegevens documentatie'!D:AE,11,0),IF(Voorblad!$C$6="28a",VLOOKUP(Tabel33[[#This Row],[Document omschrijving]],'Gegevens documentatie'!D:AE,12,0),IF(Voorblad!$C$6="48a",VLOOKUP(Tabel33[[#This Row],[Document omschrijving]],'Gegevens documentatie'!D:AE,13,0),IF(Voorblad!$C$6="54",VLOOKUP(Tabel33[[#This Row],[Document omschrijving]],'Gegevens documentatie'!D:AE,14,0),IF(Voorblad!$C$6="54a",VLOOKUP(Tabel33[[#This Row],[Document omschrijving]],'Gegevens documentatie'!D:AE,15,0),IF(Voorblad!$C$6="56",VLOOKUP(Tabel33[[#This Row],[Document omschrijving]],'Gegevens documentatie'!D:AE,16,0),IF(Voorblad!$C$6="56a",VLOOKUP(Tabel33[[#This Row],[Document omschrijving]],'Gegevens documentatie'!D:AE,17,0),IF(Voorblad!$C$6="93",VLOOKUP(Tabel33[[#This Row],[Document omschrijving]],'Gegevens documentatie'!D:AE,18,0),IF(Voorblad!$C$6="93a",VLOOKUP(Tabel33[[#This Row],[Document omschrijving]],'Gegevens documentatie'!D:AE,19,0),IF(Voorblad!$C$6="105a",VLOOKUP(Tabel33[[#This Row],[Document omschrijving]],'Gegevens documentatie'!D:AE,20,0),IF(Voorblad!$C$6="31",VLOOKUP(Tabel33[[#This Row],[Document omschrijving]],'Gegevens documentatie'!D:AE,21,0),IF(Voorblad!$C$6="33",VLOOKUP(Tabel33[[#This Row],[Document omschrijving]],'Gegevens documentatie'!D:AE,22,0),IF(Voorblad!$C$6="33a",VLOOKUP(Tabel33[[#This Row],[Document omschrijving]],'Gegevens documentatie'!D:AE,23,0),IF(Voorblad!$C$6="37",VLOOKUP(Tabel33[[#This Row],[Document omschrijving]],'Gegevens documentatie'!D:AE,24,0),IF(Voorblad!$C$6="91",VLOOKUP(Tabel33[[#This Row],[Document omschrijving]],'Gegevens documentatie'!D:AE,25,0),IF(Voorblad!$C$6="13",VLOOKUP(Tabel33[[#This Row],[Document omschrijving]],'Gegevens documentatie'!D:AE,26,0),IF(Voorblad!$C$6="58",VLOOKUP(Tabel33[[#This Row],[Document omschrijving]],'Gegevens documentatie'!D:AE,27,0),IF(Voorblad!$C$6="42",VLOOKUP(Tabel33[[#This Row],[Document omschrijving]],'Gegevens documentatie'!D:AE,28,0),""))))))))))))))))))))))),"verplicht",IF(Voorblad!$C$6="27a",VLOOKUP(Tabel33[[#This Row],[Document omschrijving]],'Gegevens documentatie'!D:AE,7,0),IF(Voorblad!$C$6="80a",VLOOKUP(Tabel33[[#This Row],[Document omschrijving]],'Gegevens documentatie'!D:AE,8,0),IF(Voorblad!$C$6="81",VLOOKUP(Tabel33[[#This Row],[Document omschrijving]],'Gegevens documentatie'!D:AE,9,0),IF(Voorblad!$C$6="36a",VLOOKUP(Tabel33[[#This Row],[Document omschrijving]],'Gegevens documentatie'!D:AE,10,0),IF(Voorblad!$C$6="28",VLOOKUP(Tabel33[[#This Row],[Document omschrijving]],'Gegevens documentatie'!D:AE,11,0),IF(Voorblad!$C$6="28a",VLOOKUP(Tabel33[[#This Row],[Document omschrijving]],'Gegevens documentatie'!D:AE,12,0),IF(Voorblad!$C$6="48a",VLOOKUP(Tabel33[[#This Row],[Document omschrijving]],'Gegevens documentatie'!D:AE,13,0),IF(Voorblad!$C$6="54",VLOOKUP(Tabel33[[#This Row],[Document omschrijving]],'Gegevens documentatie'!D:AE,14,0),IF(Voorblad!$C$6="54a",VLOOKUP(Tabel33[[#This Row],[Document omschrijving]],'Gegevens documentatie'!D:AE,15,0),IF(Voorblad!$C$6="56",VLOOKUP(Tabel33[[#This Row],[Document omschrijving]],'Gegevens documentatie'!D:AE,16,0),IF(Voorblad!$C$6="56a",VLOOKUP(Tabel33[[#This Row],[Document omschrijving]],'Gegevens documentatie'!D:AE,17,0),IF(Voorblad!$C$6="93",VLOOKUP(Tabel33[[#This Row],[Document omschrijving]],'Gegevens documentatie'!D:AE,18,0),IF(Voorblad!$C$6="93a",VLOOKUP(Tabel33[[#This Row],[Document omschrijving]],'Gegevens documentatie'!D:AE,19,0),IF(Voorblad!$C$6="105a",VLOOKUP(Tabel33[[#This Row],[Document omschrijving]],'Gegevens documentatie'!D:AE,20,0),IF(Voorblad!$C$6="31",VLOOKUP(Tabel33[[#This Row],[Document omschrijving]],'Gegevens documentatie'!D:AE,21,0),IF(Voorblad!$C$6="33",VLOOKUP(Tabel33[[#This Row],[Document omschrijving]],'Gegevens documentatie'!D:AE,22,0),IF(Voorblad!$C$6="33a",VLOOKUP(Tabel33[[#This Row],[Document omschrijving]],'Gegevens documentatie'!D:AE,23,0),IF(Voorblad!$C$6="37",VLOOKUP(Tabel33[[#This Row],[Document omschrijving]],'Gegevens documentatie'!D:AE,24,0),IF(Voorblad!$C$6="91",VLOOKUP(Tabel33[[#This Row],[Document omschrijving]],'Gegevens documentatie'!D:AE,25,0),IF(Voorblad!$C$6="13",VLOOKUP(Tabel33[[#This Row],[Document omschrijving]],'Gegevens documentatie'!D:AE,26,0),IF(Voorblad!$C$6="58",VLOOKUP(Tabel33[[#This Row],[Document omschrijving]],'Gegevens documentatie'!D:AE,27,0),IF(Voorblad!$C$6="42",VLOOKUP(Tabel33[[#This Row],[Document omschrijving]],'Gegevens documentatie'!D:AE,28,0),""))))))))))))))))))))))) -> verplicht | E43: Ja | F43: VSP PA | H43: =VLOOKUP(Tabel33[[#This Row],[Document omschrijving]],'Gegevens documentatie'!D:AF,29,0) -> VSD | I43: =IF(Tabel33[[#This Row],[1. Opleveren]]="ja",_xlfn.CONCAT(COUNTIF(Opleverlijst!P:P,Tabel33[[#This Row],[Code Meridian]])," ","geleverd"),"") -> 0 geleverd | J43: =IF(Tabel33[[#This Row],[1. Opleveren]]="ja",_xlfn.CONCAT(COUNTIFS(Opleverlijst!H:H,"as-built",Opleverlijst!P:P,Tabel33[[#This Row],[Code Meridian]])," ","As-built"),"") -> 0 As-built
