Workbook
Name _GoBack: 'invulblad aannemer'!#REF!
Name aantalON: [1]dashboard!$B$5
Name asfaltMAXkorting: #REF!
Name bandenCIRCdrempel: #REF!
Name bandenCIRCfactor: #REF!
Name bandenCIRCkorting: #REF!
Name bandenCIRCplafond: #REF!
Name bandenMAXkorting: #REF!
Name bandenMKIdrempel: #REF!
Name bandenMKIfactor: #REF!
Name bandenMKIkorting: #REF!
Name bandenMKIplafond: #REF!
Name bandMKIdrempel: #REF!
Name bandMKIplafond: #REF!
Name besteksnummer: [1]dashboard!$B$3
Name betonMAXkorting: #REF!
Name buizenCIRCdrempel: #REF!
Name buizenCIRCfactor: #REF!
Name buizenCIRCkorting: #REF!
Name buizenCIRCplafond: #REF!
Name buizenMAXkorting: #REF!
Name buizenMKIdrempel: #REF!
Name buizenMKIfactor: #REF!
Name buizenMKIkorting: #REF!
Name buizenMKIplafond: #REF!
Name CAkorting: [1]dashboard!$B$9
Name deklaagCIRCdrempel: #REF!
Name deklaagCIRCdrempel2: [1]dashboard!$C$27
Name deklaagCIRCdrempel3: [1]dashboard!$D$27
Name deklaagCIRCdrempel4: [1]dashboard!$E$27
Name deklaagCIRCfactor: #REF!
Name deklaagCIRCkorting: #REF!
Name deklaagCIRCplafond: #REF!
Name deklaagCIRCplafond2: [1]dashboard!$C$28
Name deklaagCIRCplafond3: [1]dashboard!$D$28
Name deklaagCIRCplafond4: [1]dashboard!$E$28
Name deklaagGARdrempel: #REF!
Name deklaagGARdrempel2: [1]dashboard!$C$29
Name deklaagGARdrempel3: [1]dashboard!$D$29
Name deklaagGARdrempel4: [1]dashboard!$E$29
Name deklaagGARkorting: #REF!
Name deklaagGARplafond: #REF!
Name deklaagGARplafond2: [1]dashboard!$C$30
Name deklaagGARplafond3: [1]dashboard!$D$30
Name deklaagGARplafond4: [1]dashboard!$E$30
Name deklaagMAXkorting: #REF!
Name deklaagMKIdrempel: #REF!
Name deklaagMKIdrempel2: [1]dashboard!$C$25
Name deklaagMKIdrempel3: [1]dashboard!$D$25
Name deklaagMKIdrempel4: [1]dashboard!$E$25
Name deklaagMKIfactor: #REF!
Name deklaagMKIkorting: #REF!
Name deklaagMKIplafond: #REF!
Name deklaagMKIplafond2: [1]dashboard!$C$26
Name deklaagMKIplafond3: [1]dashboard!$D$26
Name deklaagMKIplafond4: [1]dashboard!$E$26
Name dpost1: [1]dashboard!$B$24
Name dpost2: [1]dashboard!$C$24
Name dpost3: [1]dashboard!$D$24
Name dpost4: [1]dashboard!$E$24

Sheet Resultaat gunningscriterium SEB
C1: Afvalwatertransportgemaal Schiphol Trade Park
C2: Invulformulier Schoon- en Emissieloos Bouwen
C4: Instructie | D4: Inschrijver dient uren Bouwwerktuigen op te geven in tabblad 'invulblad aannemer'.
D5: De uren worden automatisch overgenomen o.b.v. 'invulblad aannemer'.
D6: De ingevulde uren o.b.v. 'invulblad aannemer' zijn leidend voor de bepaling van de fictieve meerwaarde.
D7: De ingevulde uren zijn voor de looptijd van de opdracht (opdrachtduur).
C8: Inschrijver | D8: =IF('invulblad aannemer'!D21="","",'invulblad aannemer'!D21)
C10: Totale fictieve meerwaarde
C11: behaald | D11: =$H$26 -> 0
C12: maximaal te behalen | D12: 200000
C14: BOUWWERKTUIGEN (A1, A2, B2, B3) | J14: MINIMUMEIS - BOUWWERKTUIGEN (A1, A2, B2, B3)
C15: motor | D15: energiedrager | E15: weegfactor | F15: waardering | G15: daginzet | H15: totaal | J15: Werktuigen:
C16: elektromotor | D16: Elektriciteit | E16: 10 | F16: =IFERROR(($E16*G16),0) -> 0 | G16: =SUMIFS('invulblad aannemer'!G$10:G$19,'invulblad aannemer'!$D$10:$D$19,'Resultaat gunningscriterium SEB'!$C16,'invulblad aannemer'!$E$10:$E$19,'Resultaat gunningscriterium SEB'!$D16) -> 0 | J16: Licht: tot 56kW | K16: 100% Zero Emissie
C17: elektromotor | D17: groene waterstof | E17: 10 | F17: =IFERROR(($E17*G17),0) -> 0 | G17: =SUMIFS('invulblad aannemer'!G$10:G$19,'invulblad aannemer'!$D$10:$D$19,'Resultaat gunningscriterium SEB'!$C17,'invulblad aannemer'!$E$10:$E$19,'Resultaat gunningscriterium SEB'!$D17) -> 0 | J17: Middel: 56 tot 130kW | K17: Stage IV1
C18: stage IV / V | D18: Biogas / Bio-ethanol / Bio-methanol / Groene waterstof | E18: 4 | F18: =IFERROR(($E18*G18),0) -> 0 | G18: =SUMIFS('invulblad aannemer'!G$10:G$19,'invulblad aannemer'!$D$10:$D$19,'Resultaat gunningscriterium SEB'!$C18,'invulblad aannemer'!$E$10:$E$19,'Resultaat gunningscriterium SEB'!$D18) -> 0 | J18: Zwaar: 130kW tot 560kW
C19: stage IV / V | D19: HVO100 | E19: 2 | F19: =IFERROR(($E19*G19),0) -> 0 | G19: =SUMIFS('invulblad aannemer'!G$10:G$19,'invulblad aannemer'!$D$10:$D$19,'Resultaat gunningscriterium SEB'!$C19,'invulblad aannemer'!$E$10:$E$19,'Resultaat gunningscriterium SEB'!$D19) -> 0 | J19: Specialistisch materieel, Zeer zwaar: > 560kW | K19: katalysator2 met roetfilter1
C20: stage IV / V | D20: Fossiele brandstoffen | E20: 0 | F20: =IFERROR(($E20*G20),0) -> 0 | G20: =SUMIFS('invulblad aannemer'!G$10:G$19,'invulblad aannemer'!$D$10:$D$19,'Resultaat gunningscriterium SEB'!$C20,'invulblad aannemer'!$E$10:$E$19,'Resultaat gunningscriterium SEB'!$D20) -> 0 | J20: Stationair: generatoren, pompen, torenkranen < 560kW | K20: 100% Zero Emissie
C21: stage I / II / III | D21: Biogas / Bio-ethanol / Bio-methanol / Groene waterstof | E21: 0 | F21: =IFERROR(($E21*G21),0) -> 0 | G21: =SUMIFS('invulblad aannemer'!G$10:G$19,'invulblad aannemer'!$D$10:$D$19,'Resultaat gunningscriterium SEB'!$C21,'invulblad aannemer'!$E$10:$E$19,'Resultaat gunningscriterium SEB'!$D21) -> 0 | J21: Stationair: generatoren, pompen, torenkranen > 560kW | K21: katalysator2 met roetfilter1
C22: stage I / II / III | D22: HVO100 | E22: 0 | F22: =IFERROR(($E22*G22),0) -> 0 | G22: =SUMIFS('invulblad aannemer'!G$10:G$19,'invulblad aannemer'!$D$10:$D$19,'Resultaat gunningscriterium SEB'!$C22,'invulblad aannemer'!$E$10:$E$19,'Resultaat gunningscriterium SEB'!$D22) -> 0 | J22: 1 Met een werkend, gesloten roetfilter
C23: stage I / II / III | D23: Fossiele brandstoffen | E23: 0 | F23: =IFERROR(($E23*G23),0) -> 0 | G23: =SUMIFS('invulblad aannemer'!G$10:G$19,'invulblad aannemer'!$D$10:$D$19,'Resultaat gunningscriterium SEB'!$C23,'invulblad aannemer'!$E$10:$E$19,'Resultaat gunningscriterium SEB'!$D23) -> 0 | J23: 2 Met een effectieve SCR-katalysator
E24: totaal | F24: =SUM(F16:F23) -> 0 | G24: =SUM(G16:G23) -> 0
E25: maximaal te behalen fictieve meerwaarde inzet materieel | G25: 200000
E26: behaalde fictieve meerwaarde inzet materieel | G26: =IFERROR(((F24/G24)/10)*G25,0) -> 0 | H26: =SUM(F26:G26) -> 0
C29: BOUWVOERTUIGEN- EN TRANSPORTMIDDELEN (N1, N2 en N3) | J29: MINIMUMEIS - BOUWVOERTUIGEN- EN TRANSPORTMIDDELEN (N1, N2 en N3)
J30: Transportmiddelen:
J31: N1 - tot 3.500kg | K31: 100% Zero Emissie
J32: N2 - 3.500kg tot 12.000kg | K32: Euro VI
J33: N3 - vanaf 12.000kg

Sheet invulblad aannemer
C1: ='Resultaat gunningscriterium SEB'!C1 -> Afvalwatertransportgemaal Schiphol Trade Park
C2: Invulblad aannemer
C4: Instructie | D4: Inschrijver vult lichtblauwe velden in
H7: FOUT: stationaire bouwwerktuigen met een vermogensklasse < 560kW dienen cf. minimumeisen emissieloos te zijn
C8: BOUWWERKTUIGEN (A1, A2, B2, B3) | D8: Vul in de tabel bouwwerktuigen alle bouwwerktuigen in die tijdens het project worden ingezet. Tevens wat wordt ingezet door onderaannemers. Uitzondering hierop zijn de bouwwerktuigen die in totaal minder dan 8 uur gedurende de opdrachtduur aanwezig zijn. De gegevens dienen volledig te zijn bij inschrijving. | H8: FOUT: de gekozen combi van motor, energiedrager en vermogensklasse klopt niet en/of voldoet niet aan de minimumeisen
C9: omschrijving materieelstuk Kies waar mogelijk een optie uit de machinelijst SEB. Hiervoor kunt u gebruikmaken van de dropdown of in de lijst filteren door te typen. Mocht een materieelstuk niet in de lijst staan dan dient u het toch op te geven, deze telt gewoon mee in de methodiek. | D9: motor | E9: energiedrager | F9: vermogensklasse (kW) | G9: belofte daginzet Deze waarde wordt gebruikt voor de de bepaling van de fictieve meerwaarde. | H9: FOUT: de gekozen combi van motor, energiedrager en vermogensklasse klopt niet en/of voldoet niet aan de minimumeisen
B10: 1 | H10: =IF(OR(C10="", D10="", E10=""), "", IF(AND(OR(ISNUMBER(SEARCH("aggregaat",C10)), ISNUMBER(SEARCH("pomp",C10)), ISNUMBER(SEARCH("generator",C10)), ISNUMBER(SEARCH("stationair",C10))), OR(F10="< 19 kW", F10="19 tot 37 kW", F10="37 tot 56 kW", F10="56 tot 130 kW", F10="130 kW tot 560 kW", F10="< 560 kW")), IF(D10="elektromotor", IF(OR(E10="Elektriciteit", E10="groene waterstof"), "", $H$7), $H$7), IF(AND(OR(F10="< 19 kW", F10="19 tot 37 kW", F10="37 tot 56 kW", F10="< 560 kW"), D10="elektromotor"), IF(OR(E10="Elektriciteit", E10="groene waterstof"), "", $H$8), IF(AND(OR(F10="56 tot 130 kW", F10="130 kW tot 560 kW"), OR(D10="Stage IV / V", D10="elektromotor")), IF(D10="elektromotor", IF(OR(E10="Elektriciteit", E10="groene waterstof"), "", $H$8), IF(OR(E10="Biogas / Bio-ethanol / Bio-methanol / Groene waterstof", E10="HVO100", E10="Fossiele brandstoffen"), "", $H$8)), IF(AND(F10="> 560 kW", OR(D10="Stage I / II / III", D10="Stage IV / V", D10="elektromotor")), IF(D10="elektromotor", IF(OR(E10="Elektriciteit", E10="groene waterstof"), "", $H$8), IF(OR(E10="Biogas / Bio-ethanol / Bio-methanol / Groene waterstof", E10="HVO100", E10="Fossiele brandstoffen"), "", $H$8)), $H$9)))))
B11: 2 | H11: =IF(OR(C11="", D11="", E11=""), "", IF(AND(OR(ISNUMBER(SEARCH("aggregaat",C11)), ISNUMBER(SEARCH("pomp",C11)), ISNUMBER(SEARCH("generator",C11)), ISNUMBER(SEARCH("stationair",C11))), OR(F11="< 19 kW", F11="19 tot 37 kW", F11="37 tot 56 kW", F11="56 tot 130 kW", F11="130 kW tot 560 kW", F11="< 560 kW")), IF(D11="elektromotor", IF(OR(E11="Elektriciteit", E11="groene waterstof"), "", $H$7), $H$7), IF(AND(OR(F11="< 19 kW", F11="19 tot 37 kW", F11="37 tot 56 kW", F11="< 560 kW"), D11="elektromotor"), IF(OR(E11="Elektriciteit", E11="groene waterstof"), "", $H$8), IF(AND(OR(F11="56 tot 130 kW", F11="130 kW tot 560 kW"), OR(D11="Stage IV / V", D11="elektromotor")), IF(D11="elektromotor", IF(OR(E11="Elektriciteit", E11="groene waterstof"), "", $H$8), IF(OR(E11="Biogas / Bio-ethanol / Bio-methanol / Groene waterstof", E11="HVO100", E11="Fossiele brandstoffen"), "", $H$8)), IF(AND(F11="> 560 kW", OR(D11="Stage I / II / III", D11="Stage IV / V", D11="elektromotor")), IF(D11="elektromotor", IF(OR(E11="Elektriciteit", E11="groene waterstof"), "", $H$8), IF(OR(E11="Biogas / Bio-ethanol / Bio-methanol / Groene waterstof", E11="HVO100", E11="Fossiele brandstoffen"), "", $H$8)), $H$9)))))
B12: 3 | H12: =IF(OR(C12="", D12="", E12=""), "", IF(AND(OR(ISNUMBER(SEARCH("aggregaat",C12)), ISNUMBER(SEARCH("pomp",C12)), ISNUMBER(SEARCH("generator",C12)), ISNUMBER(SEARCH("stationair",C12))), OR(F12="< 19 kW", F12="19 tot 37 kW", F12="37 tot 56 kW", F12="56 tot 130 kW", F12="130 kW tot 560 kW", F12="< 560 kW")), IF(D12="elektromotor", IF(OR(E12="Elektriciteit", E12="groene waterstof"), "", $H$7), $H$7), IF(AND(OR(F12="< 19 kW", F12="19 tot 37 kW", F12="37 tot 56 kW", F12="< 560 kW"), D12="elektromotor"), IF(OR(E12="Elektriciteit", E12="groene waterstof"), "", $H$8), IF(AND(OR(F12="56 tot 130 kW", F12="130 kW tot 560 kW"), OR(D12="Stage IV / V", D12="elektromotor")), IF(D12="elektromotor", IF(OR(E12="Elektriciteit", E12="groene waterstof"), "", $H$8), IF(OR(E12="Biogas / Bio-ethanol / Bio-methanol / Groene waterstof", E12="HVO100", E12="Fossiele brandstoffen"), "", $H$8)), IF(AND(F12="> 560 kW", OR(D12="Stage I / II / III", D12="Stage IV / V", D12="elektromotor")), IF(D12="elektromotor", IF(OR(E12="Elektriciteit", E12="groene waterstof"), "", $H$8), IF(OR(E12="Biogas / Bio-ethanol / Bio-methanol / Groene waterstof", E12="HVO100", E12="Fossiele brandstoffen"), "", $H$8)), $H$9)))))
B13: 4 | H13: =IF(OR(C13="", D13="", E13=""), "", IF(AND(OR(ISNUMBER(SEARCH("aggregaat",C13)), ISNUMBER(SEARCH("pomp",C13)), ISNUMBER(SEARCH("generator",C13)), ISNUMBER(SEARCH("stationair",C13))), OR(F13="< 19 kW", F13="19 tot 37 kW", F13="37 tot 56 kW", F13="56 tot 130 kW", F13="130 kW tot 560 kW", F13="< 560 kW")), IF(D13="elektromotor", IF(OR(E13="Elektriciteit", E13="groene waterstof"), "", $H$7), $H$7), IF(AND(OR(F13="< 19 kW", F13="19 tot 37 kW", F13="37 tot 56 kW", F13="< 560 kW"), D13="elektromotor"), IF(OR(E13="Elektriciteit", E13="groene waterstof"), "", $H$8), IF(AND(OR(F13="56 tot 130 kW", F13="130 kW tot 560 kW"), OR(D13="Stage IV / V", D13="elektromotor")), IF(D13="elektromotor", IF(OR(E13="Elektriciteit", E13="groene waterstof"), "", $H$8), IF(OR(E13="Biogas / Bio-ethanol / Bio-methanol / Groene waterstof", E13="HVO100", E13="Fossiele brandstoffen"), "", $H$8)), IF(AND(F13="> 560 kW", OR(D13="Stage I / II / III", D13="Stage IV / V", D13="elektromotor")), IF(D13="elektromotor", IF(OR(E13="Elektriciteit", E13="groene waterstof"), "", $H$8), IF(OR(E13="Biogas / Bio-ethanol / Bio-methanol / Groene waterstof", E13="HVO100", E13="Fossiele brandstoffen"), "", $H$8)), $H$9)))))
B14: 5 | H14: =IF(OR(C14="", D14="", E14=""), "", IF(AND(OR(ISNUMBER(SEARCH("aggregaat",C14)), ISNUMBER(SEARCH("pomp",C14)), ISNUMBER(SEARCH("generator",C14)), ISNUMBER(SEARCH("stationair",C14))), OR(F14="< 19 kW", F14="19 tot 37 kW", F14="37 tot 56 kW", F14="56 tot 130 kW", F14="130 kW tot 560 kW", F14="< 560 kW")), IF(D14="elektromotor", IF(OR(E14="Elektriciteit", E14="groene waterstof"), "", $H$7), $H$7), IF(AND(OR(F14="< 19 kW", F14="19 tot 37 kW", F14="37 tot 56 kW", F14="< 560 kW"), D14="elektromotor"), IF(OR(E14="Elektriciteit", E14="groene waterstof"), "", $H$8), IF(AND(OR(F14="56 tot 130 kW", F14="130 kW tot 560 kW"), OR(D14="Stage IV / V", D14="elektromotor")), IF(D14="elektromotor", IF(OR(E14="Elektriciteit", E14="groene waterstof"), "", $H$8), IF(OR(E14="Biogas / Bio-ethanol / Bio-methanol / Groene waterstof", E14="HVO100", E14="Fossiele brandstoffen"), "", $H$8)), IF(AND(F14="> 560 kW", OR(D14="Stage I / II / III", D14="Stage IV / V", D14="elektromotor")), IF(D14="elektromotor", IF(OR(E14="Elektriciteit", E14="groene waterstof"), "", $H$8), IF(OR(E14="Biogas / Bio-ethanol / Bio-methanol / Groene waterstof", E14="HVO100", E14="Fossiele brandstoffen"), "", $H$8)), $H$9)))))
B15: 6 | H15: =IF(OR(C15="", D15="", E15=""), "", IF(AND(OR(ISNUMBER(SEARCH("aggregaat",C15)), ISNUMBER(SEARCH("pomp",C15)), ISNUMBER(SEARCH("generator",C15)), ISNUMBER(SEARCH("stationair",C15))), OR(F15="< 19 kW", F15="19 tot 37 kW", F15="37 tot 56 kW", F15="56 tot 130 kW", F15="130 kW tot 560 kW", F15="< 560 kW")), IF(D15="elektromotor", IF(OR(E15="Elektriciteit", E15="groene waterstof"), "", $H$7), $H$7), IF(AND(OR(F15="< 19 kW", F15="19 tot 37 kW", F15="37 tot 56 kW", F15="< 560 kW"), D15="elektromotor"), IF(OR(E15="Elektriciteit", E15="groene waterstof"), "", $H$8), IF(AND(OR(F15="56 tot 130 kW", F15="130 kW tot 560 kW"), OR(D15="Stage IV / V", D15="elektromotor")), IF(D15="elektromotor", IF(OR(E15="Elektriciteit", E15="groene waterstof"), "", $H$8), IF(OR(E15="Biogas / Bio-ethanol / Bio-methanol / Groene waterstof", E15="HVO100", E15="Fossiele brandstoffen"), "", $H$8)), IF(AND(F15="> 560 kW", OR(D15="Stage I / II / III", D15="Stage IV / V", D15="elektromotor")), IF(D15="elektromotor", IF(OR(E15="Elektriciteit", E15="groene waterstof"), "", $H$8), IF(OR(E15="Biogas / Bio-ethanol / Bio-methanol / Groene waterstof", E15="HVO100", E15="Fossiele brandstoffen"), "", $H$8)), $H$9)))))
B16: 7 | H16: =IF(OR(C16="", D16="", E16=""), "", IF(AND(OR(ISNUMBER(SEARCH("aggregaat",C16)), ISNUMBER(SEARCH("pomp",C16)), ISNUMBER(SEARCH("generator",C16)), ISNUMBER(SEARCH("stationair",C16))), OR(F16="< 19 kW", F16="19 tot 37 kW", F16="37 tot 56 kW", F16="56 tot 130 kW", F16="130 kW tot 560 kW", F16="< 560 kW")), IF(D16="elektromotor", IF(OR(E16="Elektriciteit", E16="groene waterstof"), "", $H$7), $H$7), IF(AND(OR(F16="< 19 kW", F16="19 tot 37 kW", F16="37 tot 56 kW", F16="< 560 kW"), D16="elektromotor"), IF(OR(E16="Elektriciteit", E16="groene waterstof"), "", $H$8), IF(AND(OR(F16="56 tot 130 kW", F16="130 kW tot 560 kW"), OR(D16="Stage IV / V", D16="elektromotor")), IF(D16="elektromotor", IF(OR(E16="Elektriciteit", E16="groene waterstof"), "", $H$8), IF(OR(E16="Biogas / Bio-ethanol / Bio-methanol / Groene waterstof", E16="HVO100", E16="Fossiele brandstoffen"), "", $H$8)), IF(AND(F16="> 560 kW", OR(D16="Stage I / II / III", D16="Stage IV / V", D16="elektromotor")), IF(D16="elektromotor", IF(OR(E16="Elektriciteit", E16="groene waterstof"), "", $H$8), IF(OR(E16="Biogas / Bio-ethanol / Bio-methanol / Groene waterstof", E16="HVO100", E16="Fossiele brandstoffen"), "", $H$8)), $H$9)))))
B17: 8 | H17: =IF(OR(C17="", D17="", E17=""), "", IF(AND(OR(ISNUMBER(SEARCH("aggregaat",C17)), ISNUMBER(SEARCH("pomp",C17)), ISNUMBER(SEARCH("generator",C17)), ISNUMBER(SEARCH("stationair",C17))), OR(F17="< 19 kW", F17="19 tot 37 kW", F17="37 tot 56 kW", F17="56 tot 130 kW", F17="130 kW tot 560 kW", F17="< 560 kW")), IF(D17="elektromotor", IF(OR(E17="Elektriciteit", E17="groene waterstof"), "", $H$7), $H$7), IF(AND(OR(F17="< 19 kW", F17="19 tot 37 kW", F17="37 tot 56 kW", F17="< 560 kW"), D17="elektromotor"), IF(OR(E17="Elektriciteit", E17="groene waterstof"), "", $H$8), IF(AND(OR(F17="56 tot 130 kW", F17="130 kW tot 560 kW"), OR(D17="Stage IV / V", D17="elektromotor")), IF(D17="elektromotor", IF(OR(E17="Elektriciteit", E17="groene waterstof"), "", $H$8), IF(OR(E17="Biogas / Bio-ethanol / Bio-methanol / Groene waterstof", E17="HVO100", E17="Fossiele brandstoffen"), "", $H$8)), IF(AND(F17="> 560 kW", OR(D17="Stage I / II / III", D17="Stage IV / V", D17="elektromotor")), IF(D17="elektromotor", IF(OR(E17="Elektriciteit", E17="groene waterstof"), "", $H$8), IF(OR(E17="Biogas / Bio-ethanol / Bio-methanol / Groene waterstof", E17="HVO100", E17="Fossiele brandstoffen"), "", $H$8)), $H$9)))))
B18: 9 | H18: =IF(OR(C18="", D18="", E18=""), "", IF(AND(OR(ISNUMBER(SEARCH("aggregaat",C18)), ISNUMBER(SEARCH("pomp",C18)), ISNUMBER(SEARCH("generator",C18)), ISNUMBER(SEARCH("stationair",C18))), OR(F18="< 19 kW", F18="19 tot 37 kW", F18="37 tot 56 kW", F18="56 tot 130 kW", F18="130 kW tot 560 kW", F18="< 560 kW")), IF(D18="elektromotor", IF(OR(E18="Elektriciteit", E18="groene waterstof"), "", $H$7), $H$7), IF(AND(OR(F18="< 19 kW", F18="19 tot 37 kW", F18="37 tot 56 kW", F18="< 560 kW"), D18="elektromotor"), IF(OR(E18="Elektriciteit", E18="groene waterstof"), "", $H$8), IF(AND(OR(F18="56 tot 130 kW", F18="130 kW tot 560 kW"), OR(D18="Stage IV / V", D18="elektromotor")), IF(D18="elektromotor", IF(OR(E18="Elektriciteit", E18="groene waterstof"), "", $H$8), IF(OR(E18="Biogas / Bio-ethanol / Bio-methanol / Groene waterstof", E18="HVO100", E18="Fossiele brandstoffen"), "", $H$8)), IF(AND(F18="> 560 kW", OR(D18="Stage I / II / III", D18="Stage IV / V", D18="elektromotor")), IF(D18="elektromotor", IF(OR(E18="Elektriciteit", E18="groene waterstof"), "", $H$8), IF(OR(E18="Biogas / Bio-ethanol / Bio-methanol / Groene waterstof", E18="HVO100", E18="Fossiele brandstoffen"), "", $H$8)), $H$9)))))
B19: 10 | H19: =IF(OR(C19="", D19="", E19=""), "", IF(AND(OR(ISNUMBER(SEARCH("aggregaat",C19)), ISNUMBER(SEARCH("pomp",C19)), ISNUMBER(SEARCH("generator",C19)), ISNUMBER(SEARCH("stationair",C19))), OR(F19="< 19 kW", F19="19 tot 37 kW", F19="37 tot 56 kW", F19="56 tot 130 kW", F19="130 kW tot 560 kW", F19="< 560 kW")), IF(D19="elektromotor", IF(OR(E19="Elektriciteit", E19="groene waterstof"), "", $H$7), $H$7), IF(AND(OR(F19="< 19 kW", F19="19 tot 37 kW", F19="37 tot 56 kW", F19="< 560 kW"), D19="elektromotor"), IF(OR(E19="Elektriciteit", E19="groene waterstof"), "", $H$8), IF(AND(OR(F19="56 tot 130 kW", F19="130 kW tot 560 kW"), OR(D19="Stage IV / V", D19="elektromotor")), IF(D19="elektromotor", IF(OR(E19="Elektriciteit", E19="groene waterstof"), "", $H$8), IF(OR(E19="Biogas / Bio-ethanol / Bio-methanol / Groene waterstof", E19="HVO100", E19="Fossiele brandstoffen"), "", $H$8)), IF(AND(F19="> 560 kW", OR(D19="Stage I / II / III", D19="Stage IV / V", D19="elektromotor")), IF(D19="elektromotor", IF(OR(E19="Elektriciteit", E19="groene waterstof"), "", $H$8), IF(OR(E19="Biogas / Bio-ethanol / Bio-methanol / Groene waterstof", E19="HVO100", E19="Fossiele brandstoffen"), "", $H$8)), $H$9)))))
C21: Inschrijver
C23: gevestigd te
C25: gedaan op (datum)
C27: handtekening

Sheet logboek aannemer
C1: ='Resultaat gunningscriterium SEB'!C1 -> Afvalwatertransportgemaal Schiphol Trade Park
C2: Logboek aannemer
C4: Instructie | D4: Het logboek dient te worden ingevuld ná gunning opdracht, niet bij de inschrijving. Aannemer vult ná gunning opdracht alle lichtblauwe velden in
C6: Aannemer | D6: =IF('invulblad aannemer'!D21="","",'invulblad aannemer'!D21)
C8: ='Resultaat gunningscriterium SEB'!C14 -> BOUWWERKTUIGEN (A1, A2, B2, B3) | G8: aanvullende gegevens (in te vullen na eventuele gunning) | N8: logboek | R8: Registreer het aantal dagen dat het materieelstuk aanwezig is. Bijvoorbeeld materieelstuk is 2 weken aanwezig van ma t/m vr: vul 2x5 = 10 in.
C9: omschrijving materieelstuk | D9: motor | E9: energiedrager | F9: vermogensklasse (kW) | G9: vermogen (kW) | H9: merk | I9: kenteken of registratienr. | J9: SSEB subsidie verkregen? | K9: bouwjaar | L9: belofte | M9: totale daginzet | N9: jan | O9: feb | P9: mrt | Q9: apr | R9: mei | S9: jun | T9: jul | U9: aug | V9: sep | W9: okt | X9: nov | Y9: dec | Z9: jan | AA9: feb | AB9: mrt | AC9: apr | AD9: mei | AE9: jun | AF9: jul | AG9: aug | AH9: sep | AI9: okt | AJ9: nov | AK9: dec
B10: 1 | C10: =IF('invulblad aannemer'!C10="","",'invulblad aannemer'!C10) | D10: =IF('invulblad aannemer'!D10="","",'invulblad aannemer'!D10) | E10: =IF('invulblad aannemer'!E10="","",'invulblad aannemer'!E10) | F10: =IF('invulblad aannemer'!F10="","",'invulblad aannemer'!F10) | L10: ='invulblad aannemer'!G10 -> 0 | M10: =SUM(N10:AK10) -> 0
B11: 2 | C11: =IF('invulblad aannemer'!C11="","",'invulblad aannemer'!C11) | D11: =IF('invulblad aannemer'!D11="","",'invulblad aannemer'!D11) | E11: =IF('invulblad aannemer'!E11="","",'invulblad aannemer'!E11) | F11: =IF('invulblad aannemer'!F11="","",'invulblad aannemer'!F11) | L11: ='invulblad aannemer'!G11 -> 0 | M11: =SUM(N11:AK11) -> 0
B12: 3 | C12: =IF('invulblad aannemer'!C12="","",'invulblad aannemer'!C12) | D12: =IF('invulblad aannemer'!D12="","",'invulblad aannemer'!D12) | E12: =IF('invulblad aannemer'!E12="","",'invulblad aannemer'!E12) | F12: =IF('invulblad aannemer'!F12="","",'invulblad aannemer'!F12) | L12: ='invulblad aannemer'!G12 -> 0 | M12: =SUM(N12:AK12) -> 0
B13: 4 | C13: =IF('invulblad aannemer'!C13="","",'invulblad aannemer'!C13) | D13: =IF('invulblad aannemer'!D13="","",'invulblad aannemer'!D13) | E13: =IF('invulblad aannemer'!E13="","",'invulblad aannemer'!E13) | F13: =IF('invulblad aannemer'!F13="","",'invulblad aannemer'!F13) | L13: ='invulblad aannemer'!G13 -> 0 | M13: =SUM(N13:AK13) -> 0
B14: 5 | C14: =IF('invulblad aannemer'!C14="","",'invulblad aannemer'!C14) | D14: =IF('invulblad aannemer'!D14="","",'invulblad aannemer'!D14) | E14: =IF('invulblad aannemer'!E14="","",'invulblad aannemer'!E14) | F14: =IF('invulblad aannemer'!F14="","",'invulblad aannemer'!F14) | L14: ='invulblad aannemer'!G14 -> 0 | M14: =SUM(N14:AK14) -> 0
B15: 6 | C15: =IF('invulblad aannemer'!C15="","",'invulblad aannemer'!C15) | D15: =IF('invulblad aannemer'!D15="","",'invulblad aannemer'!D15) | E15: =IF('invulblad aannemer'!E15="","",'invulblad aannemer'!E15) | F15: =IF('invulblad aannemer'!F15="","",'invulblad aannemer'!F15) | L15: ='invulblad aannemer'!G15 -> 0 | M15: =SUM(N15:AK15) -> 0
B16: 7 | C16: =IF('invulblad aannemer'!C16="","",'invulblad aannemer'!C16) | D16: =IF('invulblad aannemer'!D16="","",'invulblad aannemer'!D16) | E16: =IF('invulblad aannemer'!E16="","",'invulblad aannemer'!E16) | F16: =IF('invulblad aannemer'!F16="","",'invulblad aannemer'!F16) | L16: ='invulblad aannemer'!G16 -> 0 | M16: =SUM(N16:AK16) -> 0
B17: 8 | C17: =IF('invulblad aannemer'!C17="","",'invulblad aannemer'!C17) | D17: =IF('invulblad aannemer'!D17="","",'invulblad aannemer'!D17) | E17: =IF('invulblad aannemer'!E17="","",'invulblad aannemer'!E17) | F17: =IF('invulblad aannemer'!F17="","",'invulblad aannemer'!F17) | L17: ='invulblad aannemer'!G17 -> 0 | M17: =SUM(N17:AK17) -> 0
B18: 9 | C18: =IF('invulblad aannemer'!C18="","",'invulblad aannemer'!C18) | D18: =IF('invulblad aannemer'!D18="","",'invulblad aannemer'!D18) | E18: =IF('invulblad aannemer'!E18="","",'invulblad aannemer'!E18) | F18: =IF('invulblad aannemer'!F18="","",'invulblad aannemer'!F18) | L18: ='invulblad aannemer'!G18 -> 0 | M18: =SUM(N18:AK18) -> 0
B19: 10 | C19: =IF('invulblad aannemer'!C19="","",'invulblad aannemer'!C19) | D19: =IF('invulblad aannemer'!D19="","",'invulblad aannemer'!D19) | E19: =IF('invulblad aannemer'!E19="","",'invulblad aannemer'!E19) | F19: =IF('invulblad aannemer'!F19="","",'invulblad aannemer'!F19) | L19: ='invulblad aannemer'!G19 -> 0 | M19: =SUM(N19:AK19) -> 0
C21: ='Resultaat gunningscriterium SEB'!C29 -> BOUWVOERTUIGEN- EN TRANSPORTMIDDELEN (N1, N2 en N3) | G21: aanvullende gegevens (in te vullen na eventuele gunning) | N21: logboek | R21: Registreer het aantal dagen dat het materieelstuk aanwezig is. Bijvoorbeeld materieelstuk is 2 weken aanwezig van ma t/m vr: vul 2x5 = 10 in.
C22: omschrijving materieelstuk | D22: motor | E22: energiedrager | F22: vermogensklasse (kW) | G22: vermogen (kW) | H22: merk | I22: kenteken of registratienr. | J22: SSEB subsidie verkregen? | K22: bouwjaar | L22: inschatting dagen inzet | M22: totale daginzet | N22: jan | O22: feb | P22: mrt | Q22: apr | R22: mei | S22: jun | T22: jul | U22: aug | V22: sep | W22: okt | X22: nov | Y22: dec | Z22: jan | AA22: feb | AB22: mrt | AC22: apr | AD22: mei | AE22: jun | AF22: jul | AG22: aug | AH22: sep | AI22: okt | AJ22: nov | AK22: dec
B23: 1 | M23: =SUM(N23:AK23) -> 0
B24: 2 | M24: =SUM(N24:AK24) -> 0
B25: 3 | M25: =SUM(N25:AK25) -> 0
B26: 4 | M26: =SUM(N26:AK26) -> 0
B27: 5 | M27: =SUM(N27:AK27) -> 0
B28: 6 | M28: =SUM(N28:AK28) -> 0
B29: 7 | M29: =SUM(N29:AK29) -> 0
B30: 8 | M30: =SUM(N30:AK30) -> 0
B31: 9 | M31: =SUM(N31:AK31) -> 0
B32: 10 | M32: =SUM(N32:AK32) -> 0
C34: AGGREGAAT OF BATTERIJPAKKET | L34: U rekent vanaf de 1e tot en met de laatste inzetdag van machines die voor de betreffende bouwwerkzaamheid moeten opladen. | N34: logboek | R34: Registreer het aantal dagen dat het materieelstuk aanwezig is. Bijvoorbeeld materieelstuk is 2 weken aanwezig van ma t/m vr: vul 2x5 = 10 in.
C35: omschrijving | F35: batterijcapaciteit (kWh) | H35: merk | L35: inschatting dagen inzet | M35: totale daginzet | N35: jan | O35: feb | P35: mrt | Q35: apr | R35: mei | S35: jun | T35: jul | U35: aug | V35: sep | W35: okt | X35: nov | Y35: dec | Z35: jan | AA35: feb | AB35: mrt | AC35: apr | AD35: mei | AE35: jun | AF35: jul | AG35: aug | AH35: sep | AI35: okt | AJ35: nov | AK35: dec
B36: 1 | M36: =SUM(N36:AK36) -> 0
B37: 2 | M37: =SUM(N37:AK37) -> 0
B38: 3 | M38: =SUM(N38:AK38) -> 0
B39: 4 | M39: =SUM(N39:AK39) -> 0
B40: 5 | M40: =SUM(N40:AK40) -> 0
C42: DC-LAADSTATION | L42: U rekent vanaf de 1e tot en met de laatste inzetdag van machines die voor de betreffende bouwwerkzaamheid moeten opladen. | N42: logboek | R42: Registreer het aantal dagen dat het materieelstuk aanwezig is. Bijvoorbeeld materieelstuk is 2 weken aanwezig van ma t/m vr: vul 2x5 = 10 in.
C43: omschrijving laadstation | F43: vermogensklasse (kW) | H43: merk | L43: inschatting dagen inzet | M43: totale daginzet | N43: jan | O43: feb | P43: mrt | Q43: apr | R43: mei | S43: jun | T43: jul | U43: aug | V43: sep | W43: okt | X43: nov | Y43: dec | Z43: jan | AA43: feb | AB43: mrt | AC43: apr | AD43: mei | AE43: jun | AF43: jul | AG43: aug | AH43: sep | AI43: okt | AJ43: nov | AK43: dec
B44: 1 | M44: =SUM(N44:AK44) -> 0
B45: 2 | M45: =SUM(N45:AK45) -> 0
B46: 3 | M46: =SUM(N46:AK46) -> 0
...

Sheet subsidie opdrachtgever
C1: ='Resultaat gunningscriterium SEB'!C1 -> Afvalwatertransportgemaal Schiphol Trade Park | K1: categorie | L1: vermogensklasse | M1: subsidie per dag | O1: vermogensklasse | P1: subsidie per dag | S1: Motor | T1: Energiedrager
C2: Subsidie SPUK SEB | L2: < 19 kW | M2: 0 | O2: t/m 19 kW | P2: 0 | S2: N3 - elektromotor en/of fuel cell | T2: Elektriciteit of groene waterstof (fuel cell)
C3: Instructie | D3: Vernieuw de filter in de cel 'Krijgen we subsidie?' met een klik op het grijze vierkantje > ok. Vul lichtblauwe velden in. | K3: mini | L3: 19 tot 37 kW | M3: 30 | O3: 20 t/m 49 kW | P3: 13 | S3: N2 - elektromotor en/of fuel cell | T3: Elektriciteit of groene waterstof (fuel cell)
D4: CPV-code | E4: startdatum | F4: einddatum | G4: aanneemsom | H4: MKB | I4: schatting subsidie | K4: klein | L4: 37 tot 56 kW | M4: 54 | O4: 50 t/m 149 kW | P4: 32 | S4: N1 - elektromotor en/of fuel cell | T4: Elektriciteit of groene waterstof (fuel cell)
H5: =IF('invulblad aannemer'!$D$23="","",'invulblad aannemer'!$D$23) | I5: =SUM(H11:H20)+SUM(H24:H33)+SUM(H37:H41)+SUM(H45:H49)+SUM(H53:H57) -> #REF! | K5: middelzwaar | L5: 56 tot 130 kW | M5: 240 | O5: 150 t/m 224 kW | P5: 93 | S5: N3 - Euro 6 | T5: HVO100 / Biogas / Bio-ethanol / Bio-methanol /Groene waterstof
C6: Inschrijver | D6: =IF('invulblad aannemer'!D21="","",'invulblad aannemer'!D21) | K6: zwaar | L6: 130 kW tot 560 kW | M6: 450 | O6: 225 t/m 349 kW | P6: 138 | S6: N2 - Euro 6 | T6: HVO100 / Biogas / Bio-ethanol / Bio-methanol /Groene waterstof
K7: Specialistisch (zeer zwaar) | L7: > 560 kW | O7: 350 t/m 599 kW | P7: 208 | S7: N1 - Euro 6 | T7: HVO100 / Biogas / Bio-ethanol / Bio-methanol /Groene waterstof
K8: Stationair | L8: < 560 kW | O8: 600 kW + | P8: 352 | S8: N3 - Euro 6 | T8: Fossiele brandstof
C9: WERKTUIGEN | K9: Stationair | L9: > 560kW | S9: N2 - Euro 6 | T9: Fossiele brandstof
C10: omschrijving materieelstuk | D10: motor | E10: energiedrager | F10: vermogensklasse (kW) | G10: Krijgen we subsidie? | H10: schatting subsidiebedrag | I10: inzetdagen (min. 2 uur) | S10: N1 - Euro 6 | T10: Fossiele brandstof
B11: 1 | C11: =IF('invulblad aannemer'!C10="","",'invulblad aannemer'!C10) | D11: =IF('invulblad aannemer'!D10="","",'invulblad aannemer'!D10) | E11: =IF('invulblad aannemer'!E10="","",'invulblad aannemer'!E10) | F11: =IF('invulblad aannemer'!F10="","",'invulblad aannemer'!F10) | G11: =IFERROR(IF(AND(COUNTIF(machinelijst,C11),D11="elektromotor",NOT(F11=$L$2)),"Ja","Nee"),"") -> Nee | H11: =IF(AND(COUNTIF(machinelijst,C11),D11="elektromotor",G11="ja"),_xlfn.XLOOKUP(F11,$L$2:$L$6,$M$2:$M$6)*I11,) -> 0 | I11: =IF(G11="ja",(_xlfn.CEILING.MATH('invulblad aannemer'!G10/8)),"") | S11: verbrandingsmotor | T11: aardgas (CNG/LNG)
B12: 2 | C12: =IF('invulblad aannemer'!C11="","",'invulblad aannemer'!C11) | D12: =IF('invulblad aannemer'!D11="","",'invulblad aannemer'!D11) | E12: =IF('invulblad aannemer'!E11="","",'invulblad aannemer'!E11) | F12: =IF('invulblad aannemer'!F11="","",'invulblad aannemer'!F11) | G12: =IFERROR(IF(AND(COUNTIF(machinelijst,C12),D12="elektromotor",NOT(F12=$L$2)),"Ja","Nee"),"") -> Nee | H12: =IF(AND(COUNTIF(machinelijst,C12),D12="elektromotor",G12="ja"),_xlfn.XLOOKUP(F12,$L$2:$L$6,$M$2:$M$6)*I12,) -> 0 | I12: =IF(G12="ja",(_xlfn.CEILING.MATH('invulblad aannemer'!G11/8)),"") | S12: verbrandingsmotor | T12: biodiesel (HVO 100)
B13: 3 | C13: =IF('invulblad aannemer'!C12="","",'invulblad aannemer'!C12) | D13: =IF('invulblad aannemer'!D12="","",'invulblad aannemer'!D12) | E13: =IF('invulblad aannemer'!E12="","",'invulblad aannemer'!E12) | F13: =IF('invulblad aannemer'!F12="","",'invulblad aannemer'!F12) | G13: =IFERROR(IF(AND(COUNTIF(machinelijst,C13),D13="elektromotor",NOT(F13=$L$2)),"Ja","Nee"),"") -> Nee | H13: =IF(AND(COUNTIF(machinelijst,C13),D13="elektromotor",G13="ja"),_xlfn.XLOOKUP(F13,$L$2:$L$6,$M$2:$M$6)*I13,) -> 0 | I13: =IF(G13="ja",(_xlfn.CEILING.MATH('invulblad aannemer'!G12/8)),"")
B14: 4 | C14: =IF('invulblad aannemer'!#REF!="","",'invulblad aannemer'!#REF!) -> #REF! | D14: =IF('invulblad aannemer'!D13="","",'invulblad aannemer'!D13) | E14: =IF('invulblad aannemer'!E13="","",'invulblad aannemer'!E13) | F14: =IF('invulblad aannemer'!F13="","",'invulblad aannemer'!F13) | G14: =IFERROR(IF(AND(COUNTIF(machinelijst,C14),D14="elektromotor",NOT(F14=$L$2)),"Ja","Nee"),"") -> Nee | H14: =IF(AND(COUNTIF(machinelijst,C14),D14="elektromotor",G14="ja"),_xlfn.XLOOKUP(F14,$L$2:$L$6,$M$2:$M$6)*I14,) -> 0 | I14: =IF(G14="ja",(_xlfn.CEILING.MATH('invulblad aannemer'!G13/8)),"")
B15: 5 | C15: =IF('invulblad aannemer'!C13="","",'invulblad aannemer'!C13) | D15: =IF('invulblad aannemer'!D14="","",'invulblad aannemer'!D14) | E15: =IF('invulblad aannemer'!E14="","",'invulblad aannemer'!E14) | F15: =IF('invulblad aannemer'!F14="","",'invulblad aannemer'!F14) | G15: =IFERROR(IF(AND(COUNTIF(machinelijst,C15),D15="elektromotor",NOT(F15=$L$2)),"Ja","Nee"),"") -> Nee | H15: =IF(AND(COUNTIF(machinelijst,C15),D15="elektromotor",G15="ja"),_xlfn.XLOOKUP(F15,$L$2:$L$6,$M$2:$M$6)*I15,) -> 0 | I15: =IF(G15="ja",(_xlfn.CEILING.MATH('invulblad aannemer'!G14/8)),"")
B16: 6 | C16: =IF('invulblad aannemer'!C15="","",'invulblad aannemer'!C15) | D16: =IF('invulblad aannemer'!D15="","",'invulblad aannemer'!D15) | E16: =IF('invulblad aannemer'!E15="","",'invulblad aannemer'!E15) | F16: =IF('invulblad aannemer'!F15="","",'invulblad aannemer'!F15) | G16: =IFERROR(IF(AND(COUNTIF(machinelijst,C16),D16="elektromotor",NOT(F16=$L$2)),"Ja","Nee"),"") -> Nee | H16: =IF(AND(COUNTIF(machinelijst,C16),D16="elektromotor",G16="ja"),_xlfn.XLOOKUP(F16,$L$2:$L$6,$M$2:$M$6)*I16,) -> 0 | I16: =IF(G16="ja",(_xlfn.CEILING.MATH('invulblad aannemer'!G15/8)),"")
B17: 7 | C17: =IF('invulblad aannemer'!C16="","",'invulblad aannemer'!C16) | D17: =IF('invulblad aannemer'!D16="","",'invulblad aannemer'!D16) | E17: =IF('invulblad aannemer'!E16="","",'invulblad aannemer'!E16) | F17: =IF('invulblad aannemer'!F16="","",'invulblad aannemer'!F16) | G17: =IFERROR(IF(AND(COUNTIF(machinelijst,C17),D17="elektromotor",NOT(F17=$L$2)),"Ja","Nee"),"") -> Nee | H17: =IF(AND(COUNTIF(machinelijst,C17),D17="elektromotor",G17="ja"),_xlfn.XLOOKUP(F17,$L$2:$L$6,$M$2:$M$6)*I17,) -> 0 | I17: =IF(G17="ja",(_xlfn.CEILING.MATH('invulblad aannemer'!G16/8)),"")
B18: 8 | C18: =IF('invulblad aannemer'!C17="","",'invulblad aannemer'!C17) | D18: =IF('invulblad aannemer'!D17="","",'invulblad aannemer'!D17) | E18: =IF('invulblad aannemer'!E17="","",'invulblad aannemer'!E17) | F18: =IF('invulblad aannemer'!F17="","",'invulblad aannemer'!F17) | G18: =IFERROR(IF(AND(COUNTIF(machinelijst,C18),D18="elektromotor",NOT(F18=$L$2)),"Ja","Nee"),"") -> Nee | H18: =IF(AND(COUNTIF(machinelijst,C18),D18="elektromotor",G18="ja"),_xlfn.XLOOKUP(F18,$L$2:$L$6,$M$2:$M$6)*I18,) -> 0 | I18: =IF(G18="ja",(_xlfn.CEILING.MATH('invulblad aannemer'!G17/8)),"")
B19: 9 | C19: =IF('invulblad aannemer'!C18="","",'invulblad aannemer'!C18) | D19: =IF('invulblad aannemer'!D18="","",'invulblad aannemer'!D18) | E19: =IF('invulblad aannemer'!E18="","",'invulblad aannemer'!E18) | F19: =IF('invulblad aannemer'!F18="","",'invulblad aannemer'!F18) | G19: =IFERROR(IF(AND(COUNTIF(machinelijst,C19),D19="elektromotor",NOT(F19=$L$2)),"Ja","Nee"),"") -> Nee | H19: =IF(AND(COUNTIF(machinelijst,C19),D19="elektromotor",G19="ja"),_xlfn.XLOOKUP(F19,$L$2:$L$6,$M$2:$M$6)*I19,) -> 0 | I19: =IF(G19="ja",(_xlfn.CEILING.MATH('invulblad aannemer'!G18/8)),"")
B20: 10 | C20: =IF('invulblad aannemer'!C19="","",'invulblad aannemer'!C19) | D20: =IF('invulblad aannemer'!D19="","",'invulblad aannemer'!D19) | E20: =IF('invulblad aannemer'!E19="","",'invulblad aannemer'!E19) | F20: =IF('invulblad aannemer'!F19="","",'invulblad aannemer'!F19) | G20: =IFERROR(IF(AND(COUNTIF(machinelijst,C20),D20="elektromotor",NOT(F20=$L$2)),"Ja","Nee"),"") -> Nee | H20: =IF(AND(COUNTIF(machinelijst,C20),D20="elektromotor",G20="ja"),_xlfn.XLOOKUP(F20,$L$2:$L$6,$M$2:$M$6)*I20,) -> 0 | I20: =IF(G20="ja",(_xlfn.CEILING.MATH('invulblad aannemer'!G19/8)),"")
C22: VOERTUIGEN
C23: omschrijving materieelstuk | D23: motor | E23: energiedrager | F23: vermogensklasse (kW) | G23: Krijgen we subsidie? | H23: schatting subsidiebedrag | I23: inzetdagen (min. 2 uur)
B24: 1 | C24: =IF('invulblad aannemer'!#REF!="","",'invulblad aannemer'!#REF!) -> #REF! | D24: =IF('invulblad aannemer'!#REF!="","",'invulblad aannemer'!#REF!) -> #REF! | E24: =IF('invulblad aannemer'!#REF!="","",'invulblad aannemer'!#REF!) -> #REF! | F24: =IF('invulblad aannemer'!#REF!="","",'invulblad aannemer'!#REF!) -> #REF! | G24: =IFERROR(IF(AND(COUNTIF(machinelijst,C24),D24="elektromotor",NOT(F24=$L$2)),"Ja","Nee"),"") | H24: =IF(AND(COUNTIF(machinelijst,C24),D24="elektromotor",G24="ja"),_xlfn.XLOOKUP(F24,$L$2:$L$6,$M$2:$M$6)*I24,) -> #REF! | I24: =IF(G24="ja",(SUM('invulblad aannemer'!#REF!)),"")
B25: 2 | C25: =IF('invulblad aannemer'!#REF!="","",'invulblad aannemer'!#REF!) -> #REF! | D25: =IF('invulblad aannemer'!#REF!="","",'invulblad aannemer'!#REF!) -> #REF! | E25: =IF('invulblad aannemer'!#REF!="","",'invulblad aannemer'!#REF!) -> #REF! | F25: =IF('invulblad aannemer'!#REF!="","",'invulblad aannemer'!#REF!) -> #REF! | G25: =IFERROR(IF(AND(COUNTIF(machinelijst,C25),D25="elektromotor",NOT(F25=$L$2)),"Ja","Nee"),"") | H25: =IF(AND(COUNTIF(machinelijst,C25),D25="elektromotor",G25="ja"),_xlfn.XLOOKUP(F25,$L$2:$L$6,$M$2:$M$6)*I25,) -> #REF! | I25: =IF(G25="ja",(SUM('invulblad aannemer'!#REF!)),"")
B26: 3 | C26: =IF('invulblad aannemer'!#REF!="","",'invulblad aannemer'!#REF!) -> #REF! | D26: =IF('invulblad aannemer'!#REF!="","",'invulblad aannemer'!#REF!) -> #REF! | E26: =IF('invulblad aannemer'!#REF!="","",'invulblad aannemer'!#REF!) -> #REF! | F26: =IF('invulblad aannemer'!#REF!="","",'invulblad aannemer'!#REF!) -> #REF! | G26: =IFERROR(IF(AND(COUNTIF(machinelijst,C26),D26="elektromotor",NOT(F26=$L$2)),"Ja","Nee"),"") | H26: =IF(AND(COUNTIF(machinelijst,C26),D26="elektromotor",G26="ja"),_xlfn.XLOOKUP(F26,$L$2:$L$6,$M$2:$M$6)*I26,) -> #REF! | I26: =IF(G26="ja",(SUM('invulblad aannemer'!#REF!)),"")
B27: 4 | C27: =IF('invulblad aannemer'!#REF!="","",'invulblad aannemer'!#REF!) -> #REF! | D27: =IF('invulblad aannemer'!#REF!="","",'invulblad aannemer'!#REF!) -> #REF! | E27: =IF('invulblad aannemer'!#REF!="","",'invulblad aannemer'!#REF!) -> #REF! | F27: =IF('invulblad aannemer'!#REF!="","",'invulblad aannemer'!#REF!) -> #REF! | G27: =IFERROR(IF(AND(COUNTIF(machinelijst,C27),D27="elektromotor",NOT(F27=$L$2)),"Ja","Nee"),"") | H27: =IF(AND(COUNTIF(machinelijst,C27),D27="elektromotor",G27="ja"),_xlfn.XLOOKUP(F27,$L$2:$L$6,$M$2:$M$6)*I27,) -> #REF! | I27: =IF(G27="ja",(SUM('invulblad aannemer'!#REF!)),"")
B28: 5 | C28: =IF('invulblad aannemer'!#REF!="","",'invulblad aannemer'!#REF!) -> #REF! | D28: =IF('invulblad aannemer'!#REF!="","",'invulblad aannemer'!#REF!) -> #REF! | E28: =IF('invulblad aannemer'!#REF!="","",'invulblad aannemer'!#REF!) -> #REF! | F28: =IF('invulblad aannemer'!#REF!="","",'invulblad aannemer'!#REF!) -> #REF! | G28: =IFERROR(IF(AND(COUNTIF(machinelijst,C28),D28="elektromotor",NOT(F28=$L$2)),"Ja","Nee"),"") | H28: =IF(AND(COUNTIF(machinelijst,C28),D28="elektromotor",G28="ja"),_xlfn.XLOOKUP(F28,$L$2:$L$6,$M$2:$M$6)*I28,) -> #REF! | I28: =IF(G28="ja",(SUM('invulblad aannemer'!#REF!)),"")
B29: 6 | C29: =IF('invulblad aannemer'!#REF!="","",'invulblad aannemer'!#REF!) -> #REF! | D29: =IF('invulblad aannemer'!#REF!="","",'invulblad aannemer'!#REF!) -> #REF! | E29: =IF('invulblad aannemer'!#REF!="","",'invulblad aannemer'!#REF!) -> #REF! | F29: =IF('invulblad aannemer'!#REF!="","",'invulblad aannemer'!#REF!) -> #REF! | G29: =IFERROR(IF(AND(COUNTIF(machinelijst,C29),D29="elektromotor",NOT(F29=$L$2)),"Ja","Nee"),"") | H29: =IF(AND(COUNTIF(machinelijst,C29),D29="elektromotor",G29="ja"),_xlfn.XLOOKUP(F29,$L$2:$L$6,$M$2:$M$6)*I29,) -> #REF! | I29: =IF(G29="ja",(SUM('invulblad aannemer'!#REF!)),"")
B30: 7 | C30: =IF('invulblad aannemer'!#REF!="","",'invulblad aannemer'!#REF!) -> #REF! | D30: =IF('invulblad aannemer'!#REF!="","",'invulblad aannemer'!#REF!) -> #REF! | E30: =IF('invulblad aannemer'!#REF!="","",'invulblad aannemer'!#REF!) -> #REF! | F30: =IF('invulblad aannemer'!#REF!="","",'invulblad aannemer'!#REF!) -> #REF! | G30: =IFERROR(IF(AND(COUNTIF(machinelijst,C30),D30="elektromotor",NOT(F30=$L$2)),"Ja","Nee"),"") | H30: =IF(AND(COUNTIF(machinelijst,C30),D30="elektromotor",G30="ja"),_xlfn.XLOOKUP(F30,$L$2:$L$6,$M$2:$M$6)*I30,) -> #REF! | I30: =IF(G30="ja",(SUM('invulblad aannemer'!#REF!)),"")
B31: 8 | C31: =IF('invulblad aannemer'!#REF!="","",'invulblad aannemer'!#REF!) -> #REF! | D31: =IF('invulblad aannemer'!#REF!="","",'invulblad aannemer'!#REF!) -> #REF! | E31: =IF('invulblad aannemer'!#REF!="","",'invulblad aannemer'!#REF!) -> #REF! | F31: =IF('invulblad aannemer'!#REF!="","",'invulblad aannemer'!#REF!) -> #REF! | G31: =IFERROR(IF(AND(COUNTIF(machinelijst,C31),D31="elektromotor",NOT(F31=$L$2)),"Ja","Nee"),"") | H31: =IF(AND(COUNTIF(machinelijst,C31),D31="elektromotor",G31="ja"),_xlfn.XLOOKUP(F31,$L$2:$L$6,$M$2:$M$6)*I31,) -> #REF! | I31: =IF(G31="ja",(SUM('invulblad aannemer'!#REF!)),"")
B32: 9 | C32: =IF('invulblad aannemer'!#REF!="","",'invulblad aannemer'!#REF!) -> #REF! | D32: =IF('invulblad aannemer'!#REF!="","",'invulblad aannemer'!#REF!) -> #REF! | E32: =IF('invulblad aannemer'!#REF!="","",'invulblad aannemer'!#REF!) -> #REF! | F32: =IF('invulblad aannemer'!#REF!="","",'invulblad aannemer'!#REF!) -> #REF! | G32: =IFERROR(IF(AND(COUNTIF(machinelijst,C32),D32="elektromotor",NOT(F32=$L$2)),"Ja","Nee"),"") | H32: =IF(AND(COUNTIF(machinelijst,C32),D32="elektromotor",G32="ja"),_xlfn.XLOOKUP(F32,$L$2:$L$6,$M$2:$M$6)*I32,) -> #REF! | I32: =IF(G32="ja",(SUM('invulblad aannemer'!#REF!)),"")
B33: 10 | C33: =IF('invulblad aannemer'!#REF!="","",'invulblad aannemer'!#REF!) -> #REF! | D33: =IF('invulblad aannemer'!#REF!="","",'invulblad aannemer'!#REF!) -> #REF! | E33: =IF('invulblad aannemer'!#REF!="","",'invulblad aannemer'!#REF!) -> #REF! | F33: =IF('invulblad aannemer'!#REF!="","",'invulblad aannemer'!#REF!) -> #REF! | G33: =IFERROR(IF(AND(COUNTIF(machinelijst,C33),D33="elektromotor",NOT(F33=$L$2)),"Ja","Nee"),"") | H33: =IF(AND(COUNTIF(machinelijst,C33),D33="elektromotor",G33="ja"),_xlfn.XLOOKUP(F33,$L$2:$L$6,$M$2:$M$6)*I33,) -> #REF! | I33: =IF(G33="ja",(SUM('invulblad aannemer'!#REF!)),"")
C35: GEREEDSCHAPPEN
C36: omschrijving materieelstuk | F36: vermogensklasse (kW) | G36: Krijgen we subsidie? | H36: schatting subsidiebedrag | I36: inzetdagen (min. 2 uur)
B37: 1 | C37: =IF('logboek aannemer'!#REF!="","",'logboek aannemer'!#REF!) -> #REF! | F37: =IF('logboek aannemer'!#REF!="","",'logboek aannemer'!#REF!) -> #REF! | G37: =IFERROR(IF(AND(COUNTIF(machinelijst,C37),NOT(C37=""),NOT(F37=$L$2)),"Ja","Nee"),"") | H37: =IF(AND(COUNTIF(machinelijst,C37),G37="Ja"),_xlfn.XLOOKUP(F37,$L$2:$L$6,$M$2:$M$6)*I37,0) -> 0 | I37: =IF(G37="ja",(SUM('logboek aannemer'!#REF!)),"")
B38: 2 | C38: =IF('logboek aannemer'!#REF!="","",'logboek aannemer'!#REF!) -> #REF! | F38: =IF('logboek aannemer'!#REF!="","",'logboek aannemer'!#REF!) -> #REF! | G38: =IFERROR(IF(AND(COUNTIF(machinelijst,C38),NOT(C38=""),NOT(F38=$L$2)),"Ja","Nee"),"") | H38: =IF(AND(COUNTIF(machinelijst,C38),G38="Ja"),_xlfn.XLOOKUP(F38,$L$2:$L$6,$M$2:$M$6)*I38,0) -> 0 | I38: =IF(G38="ja",(SUM('logboek aannemer'!#REF!)),"")
B39: 3 | C39: =IF('logboek aannemer'!#REF!="","",'logboek aannemer'!#REF!) -> #REF! | F39: =IF('logboek aannemer'!#REF!="","",'logboek aannemer'!#REF!) -> #REF! | G39: =IFERROR(IF(AND(COUNTIF(machinelijst,C39),NOT(C39=""),NOT(F39=$L$2)),"Ja","Nee"),"") | H39: =IF(AND(COUNTIF(machinelijst,C39),G39="Ja"),_xlfn.XLOOKUP(F39,$L$2:$L$6,$M$2:$M$6)*I39,0) -> 0 | I39: =IF(G39="ja",(SUM('logboek aannemer'!#REF!)),"")
B40: 4 | C40: =IF('logboek aannemer'!#REF!="","",'logboek aannemer'!#REF!) -> #REF! | F40: =IF('logboek aannemer'!#REF!="","",'logboek aannemer'!#REF!) -> #REF! | G40: =IFERROR(IF(AND(COUNTIF(machinelijst,C40),NOT(C40=""),NOT(F40=$L$2)),"Ja","Nee"),"") | H40: =IF(AND(COUNTIF(machinelijst,C40),G40="Ja"),_xlfn.XLOOKUP(F40,$L$2:$L$6,$M$2:$M$6)*I40,0) -> 0 | I40: =IF(G40="ja",(SUM('logboek aannemer'!#REF!)),"")
B41: 5 | C41: =IF('logboek aannemer'!#REF!="","",'logboek aannemer'!#REF!) -> #REF! | F41: =IF('logboek aannemer'!#REF!="","",'logboek aannemer'!#REF!) -> #REF! | G41: =IFERROR(IF(AND(COUNTIF(machinelijst,C41),NOT(C41=""),NOT(F41=$L$2)),"Ja","Nee"),"") | H41: =IF(AND(COUNTIF(machinelijst,C41),G41="Ja"),_xlfn.XLOOKUP(F41,$L$2:$L$6,$M$2:$M$6)*I41,0) -> 0 | I41: =IF(G41="ja",(SUM('logboek aannemer'!#REF!)),"")
G42: Ja
...

Sheet beoordeling opdrachtgever
C1: ='Resultaat gunningscriterium SEB'!C1 -> Afvalwatertransportgemaal Schiphol Trade Park
C2: Beoordelingsformulier
C4: aantal inschrijvers | F4: inschrijver 1 | H4: inschrijver 2 | J4: inschrijver 3 | L4: inschrijver 4 | N4: inschrijver 5
C6: ingevuld door | F6: [ bedrijfsnaam ] | H6: [ bedrijfsnaam ] | J6: [ bedrijfsnaam ] | L6: [ bedrijfsnaam ] | N6: [ bedrijfsnaam ]
C8: totale fictieve meerwaarde werktuigen | F8: 0 | H8: 0 | J8: 0 | L8: 0 | N8: 0
C10: totale fictieve meerwaarde voertuigen | F10: 0 | H10: 0 | J10: 0 | L10: 0 | N10: 0
C11: totale fictieve meerwaarde zero-emissie | F11: =SUM(F8:F10) -> 0 | H11: =SUM(H8:H10) -> 0 | J11: =SUM(J8:J10) -> 0 | L11: =SUM(L8:L10) -> 0 | N11: =SUM(N8:N10) -> 0
C13: inschrijvingssom | F13: 0 | H13: 0 | J13: 0 | L13: 0 | N13: 0
C15: evaluatieprijs | F15: =F13-F11 -> 0 | H15: =H13-H11 -> 0 | J15: =J13-J11 -> 0 | L15: =L13-L11 -> 0 | N15: =N13-N11 -> 0
C17: uitslag | F17: =IF($D$4=1,1,IF($D$4=2,RANK(F15,$F$15:$H$15,1),(IF($D$4=3,RANK(F15,$F$15:$J$15,1),IF($D$4=4,RANK(F15,$F$15:$L$15,1),IF($D$4=5,RANK(F15,$F$15:$N$15,1),"")))))) | H17: =IF($D$4=2,RANK(H15,$F$15:$H$15,1),(IF($D$4=3,RANK(H15,$F$15:$J$15,1),IF($D$4=4,RANK(H15,$F$15:$L$15,1),IF($D$4=5,RANK(H15,$F$15:$N$15,1),""))))) | J17: =IF($D$4=2,"",IF($D$4=3,RANK(J15,$F$15:$J$15,1),IF($D$4=4,RANK(J15,$F$15:$L$15,1),IF($D$4=5,RANK(J15,$F$15:$N$15,1),"")))) | L17: =IF($D$4=2,"",IF($D$4=3,"",IF($D$4=4,RANK(L15,$F$15:$L$15,1),IF($D$4=5,RANK(L15,$F$15:$N$15,1),"")))) | N17: =IF($D$4=2,"",IF($D$4=3,"",IF($D$4=4,"",IF($D$4=5,RANK(N15,$F$15:$N$15,1),""))))
C19: opmerking(en) voor publicatie
C21: handtekening
C23: datum

Sheet machinelijst SEB
A1: Machinelijst SPUK SEB versie 2026
A4: A. Bouwwerktuigen | B4: Mobiele machines
C5: A1.1 asfaltzaag, betonzaag (rijdend) | D5: J | E5: J
C6: A1.2 asfaltspreidmachine, asfaltwerkmachine | D6: J | E6: J
C7: A1.3 asfaltvoorlader | D7: J | E7: J
C8: A1.4 ballastafwerkmachine | D8: J | E8: J
C9: A1.5 bestratingsmachine (zelfrijdend) | D9: J | E9: J
C10: A1.6 beton- of mortelmachine, paver, mobiele 3D-printer | D10: J | E10: J
C11: A1.7 beton- of bentonietpomp (standalone) | D11: J | E11: J
C12: A1.8 bodemstabiliseerder | D12: J | E12: J
C13: A1.9 bulldozer | D13: J | E13: J
C14: A1.10 emulsiespuitwagen | D14: J | E14: J
C15: A1.11 freesmachine voor asfalt of beton | D15: J | E15: J
C16: A1.12 mobiele meetapparatuur voor de bouw (zoals sondeermachine, sondeertruck, sondeerrups, valgewicht) | D16: J | E16: J
... C48: A1.46 boomverplantingsmachine | D48: J | E48: J
C49: A1.47 mobiele wasinstallatie op een bouwlocatie
B50: Vervoerbare industriële uitrustingen | D50: N | E50: J
C51: A2.2 aggregaat op wind- of zonne-energie voor off-grid stroomvoorziening | D51: J | E51: N
C52: A2.3 aggregaat op waterstof of waterstofdragers voor off-grid stroomvoorziening | D52: J | E52: N
C53: A2.4 hydraulisch aggregaat | D53: J | E53: J
C54: A2.5 lasaggregaat | D54: J | E54: N
C55: A2.6 lichtmastaggregaat of lichtmast (zelf aangedreven) | D55: J | E55: N
C56: A2.7 batterijpakket voor off-grid stroomvoorziening vanaf 50 kWh op een bouwlocatie of behorende bij een bouwwerktuig | D56: J | E56: N
C57: A2.8 trilplaat, trilblok, stamper | D57: J | E57: N
C58: A2.9 mobiele (vuil)-waterpomp | D58: J | E58: N
C59: A2.10 pompen voor baggeren (zoals DOP-pomp, jetpomp, booster-baggerstation) | D59: J | E59: N
C60: A2.11 vervallen | D60: J | E60: J1
C61: A2.12 vliegwiel als vermogensvoorziening | D61: J | E61: N
C62: A2.13 laadstation vanaf 20 kW
C63: A2.14 mobiele waterstof tankvoorziening
A64: B. Hulpfunties | D64: J | E64: J
C65: B1. elektrische aandrijfmotor met een brandstofcel of een niet-loodhoudend batterijpakket voor aandrijving van de opbouw van een voertuig, oplegger of spoorvoertuig (inclusief vrachtautorailvoertuig), zijnde een: | D65: J | E65: J
C66: B1.1 autolaadkraan | D66: J | E66: J
C67: B1.2 betonmixer | D67: J | E67: J
C68: B1.3 betonpomp | D68: J | E68: J
C69: B1.4 binnenlader | D69: J | E69: J
C70: B1.5 boor | D70: J | E70: J
C71: B1.6 front-end cylinder | D71: J | E71: J
C72: B1.7 haakarm | D72: J | E72: J
C73: B1.8 kabelsysteem | D73: J | E73: J
...
