Workbook

Sheet rekenmodel
A1: Rekenmodel prestatiemeting
A2: Projectgegevens
A3: Naam | B3: Levering en aanleg speelvoorzieningen 2027-2031
A5: Zaaknummer | B5: I260900003
A6: Datum | B6: 46302
A8: Factor | B8: 0.15
A9: Aanneemsom | B9: 250000
A10: Rekenwaarde prestatiemeting | B10: 37500
A11: Behaald % prestatiemeting | B11: =Projectbeoordelingsformulier!H9 -> 1
A12: Aangeboden % prestatiemeting | B12: 0.8
A13: Verschil | B13: =ROUND(B11-B12,2) -> 0.2
A14: Te verrekenen bedrag | B14: =IF(B13<=0%,B8*B9*B13*B17,B8*B9*B13*B16) -> 5625
A16: Factor bij bonus | B16: 0.75
A17: Factor bij malus | B17: 2.5
A20: De gele cellen zijn invulbaar

Sheet Projectbeoordelingsformulier
A1: PROJECTBEOORDELINGSFORMULIER
F2: 5 | G2: voldaan zonder herstel of tekortkoming
A3: =IF(rekenmodel!A3="","",rekenmodel!A3) -> Naam | B3: =IF(rekenmodel!B3="","",rekenmodel!B3) -> Levering en aanleg speelvoorzieningen 2027-2031 | F3: 3 | G3: voldaan na incidentele tekortkoming
A4: =IF(rekenmodel!A4="","",rekenmodel!A4) | B4: =IF(rekenmodel!B4="","",rekenmodel!B4) | F4: 1 | G4: voldaan na meerder verzoek of meerder herstel of meerdere tekortkomingen of gevolgen voor TGKIO
A5: =IF(rekenmodel!A5="","",rekenmodel!A5) -> Zaaknummer | B5: =IF(rekenmodel!B5="","",rekenmodel!B5) -> I260900003
A6: =IF(rekenmodel!A6="","",rekenmodel!A6) -> Datum | B6: =IF(rekenmodel!B6="","",rekenmodel!B6) -> 46302 | F6: 0 | G6: voldaan na herhaaldelijk verzoek of herhaaldelijk herstel of met grote gevolgen voor TGKIO
B8: Toetsingsonderdelen | C8: Wegings- factor | D8: WF ter info en controle in % | E8: Maximaal te behalen punten | F8: Beoorde-lings waarde | G8: Behaalde punten | H8: Gescoorde waarde in procenten | I8: Max. rekenwaarde
C9: =C10+C15+C19+C25+C31+C36 -> 1 | D9: =D10+D15+D19+D25+D31+D36 -> 1 | G9: totaal gescoorde waarde | H9: =H10+H15+H19+H25+H31+H36 -> 1 | I9: =I10+I15+I19+I25+I31+I36 -> 37500
A10: 1 | B10: Aanleveren documenten | C10: 0.1 | D10: =SUM(D11:D14) -> 0.1 | E10: =SUM(E11:E14) -> 60 | G10: =SUM(G11:G14) -> 60 | H10: =G10/E10*C10 -> 0.1 | I10: =C10*rekenmodel!B10 -> 3750
A11: 1.1 | B11: Voor alle aan te leveren documenten geldt dat deze juist en conform contract aangeleverd dienen te worden. Ontwerp dient tezamen met de kostenraming te worden ingediend. | C11: 3 | D11: =$C$10/(SUM($C$11:$C$14))*C11 -> 0.025 | E11: =C11*$F$2 -> 15 | F11: 5 | G11: =C11*F11 -> 15 | I11: =$I$10/$E$10*E11 -> 937.5
A12: 1.2 | B12: Binnen 2 werkdagen na gereedkomen werkzaamheden indienen van keuringscertificaten, specificaties en afschriften dat deze door een bevoegd persoon zijn uitgevoerd | C12: 3 | D12: =$C$10/(SUM($C$11:$C$14))*C12 -> 0.025 | E12: =C12*$F$2 -> 15 | F12: 5 | G12: =C12*F12 -> 15 | I12: =$I$10/$E$10*E12 -> 937.5
A13: 1.3 | B13: Binnen 2 werkdagen na gereedkomen werkzaamheden compleet aanleveren van de logboeken van de geplaatste speeltoestellen. | C13: 3 | D13: =$C$10/(SUM($C$11:$C$14))*C13 -> 0.025 | E13: =C13*$F$2 -> 15 | F13: 5 | G13: =C13*F13 -> 15 | I13: =$I$10/$E$10*E13 -> 937.5
A14: 1.4 | B14: Binnen 2 werkdagen na gereedkomen werkzaamheden indienen onderhoud- en inspectievoorschriften per toestel. | C14: 3 | D14: =$C$10/(SUM($C$11:$C$14))*C14 -> 0.025 | E14: =C14*$F$2 -> 15 | F14: 5 | G14: =C14*F14 -> 15 | I14: =$I$10/$E$10*E14 -> 937.5
A15: 2. | B15: Algemeen tijdschema, werkplan / projectadministratie | C15: 0.15 | D15: =SUM(D16:D18) -> 0.15 | E15: =SUM(E16:E18) -> 30 | G15: =SUM(G16:G18) -> 30 | H15: =G15/E15*C15 -> 0.15 | I15: =C15*rekenmodel!B10 -> 5625
A16: 2.1 | B16: Bij wijzigingen in de planning dient direct met de opdrachtgever te worden overlegd of dit akkoord is. | C16: 2 | D16: =$C$15/(SUM($C$16:$C$18))*C16 -> 0.05 | E16: =C16*$F$2 -> 10 | F16: 5 | G16: =F16*C16 -> 10 | I16: =$I$15/$E$15*E16 -> 1875
A17: 2.2 | B17: Afwijkingen worden tijdig gemeld, duidelijk omschreven en goed gemotiveerd. Aansluitend deze uitwerken in een meerwerkstaat waarbij alle kosten herleidbaar zijn onderbouwd met inkoop-, en lever- en stortbonnen. | C17: 2 | D17: =$C$15/(SUM($C$16:$C$18))*C17 -> 0.05 | E17: =C17*$F$2 -> 10 | F17: 5 | G17: =F17*C17 -> 10 | I17: =$I$15/$E$15*E17 -> 1875
A18: 2.3 | B18: Indienen onderbouwde afrekenoverzichten, herleidbaar berekend, met aantoonbare hoeveelhedenverklaring, bonnen en schetsen. Afrekenoverzichten dienen ondertekend te zijn door Opdrachtgever. | C18: 2 | D18: =$C$15/(SUM($C$16:$C$18))*C18 -> 0.05 | E18: =C18*$F$2 -> 10 | F18: 5 | G18: =F18*C18 -> 10 | I18: =$I$15/$E$15*E18 -> 1875
A19: 3. | B19: Projectkwaliteit en uitvoering | C19: 0.25 | D19: =SUM(D20:D24) -> 0.25 | E19: =SUM(E20:E24) -> 50 | G19: =SUM(G20:G24) -> 50 | H19: =G19/E19*C19 -> 0.25 | I19: =C19*rekenmodel!B10 -> 9375
A20: 3.1 | B20: Kwaliteitsborging wordt zodanig uitgevoerd dat bij (vermoeden van) onvoldoend werk, de opdrachtnemer dit zelf, proactief, signaleert en meldt, voordat onvoldoende werk door de directie is gesignaleerd. | C20: 2 | D20: =$C$19/(SUM($C$20:$C$24))*C20 -> 0.05 | E20: =C20*$F$2 -> 10 | F20: 5 | G20: =F20*C20 -> 10 | I20: =$I$19/$E$19*E20 -> 1875
A21: 3.2 | B21: Binnen 1 wekdag foto-overzichten aanleveren van de ondergrondse constructie (funderingen) | C21: 2 | D21: =$C$19/(SUM($C$20:$C$24))*C21 -> 0.05 | E21: =C21*$F$2 -> 10 | F21: 5 | G21: =F21*C21 -> 10 | I21: =$I$19/$E$19*E21 -> 1875
A22: 3.3 | B22: Binnen1 werkdag na het plaatsen van de toestellen foto-overzichten aanleveren van de geplaatste toestellen. Daarbij ook detailfoto's van de verbindingen. | C22: 2 | D22: =$C$19/(SUM($C$20:$C$24))*C22 -> 0.05 | E22: =C22*$F$2 -> 10 | F22: 5 | G22: =F22*C22 -> 10 | I22: =$I$19/$E$19*E22 -> 1875
A23: 3.4 | B23: Vrijkomende grond ontgraven, melden, afvoeren en storten bij een erkende verwerkingsinrichting. Bonnen dienen te worden overlegd. | C23: 2 | D23: =$C$19/(SUM($C$20:$C$24))*C23 -> 0.05 | E23: =C23*$F$2 -> 10 | F23: 5 | G23: =F23*C23 -> 10 | I23: =$I$19/$E$19*E23 -> 1875
A24: 3.5 | B24: De uitvoering wordt gedaan door een gecertificeerde speeltoestel-installateur. | C24: 2 | D24: =$C$19/(SUM($C$20:$C$24))*C24 -> 0.05 | E24: =C24*$F$2 -> 10 | F24: 5 | G24: =F24*C24 -> 10 | I24: =$I$19/$E$19*E24 -> 1875
A25: 4. | B25: Communicatie | C25: 0.2 | D25: =SUM(D26:D30) -> 0.2 | E25: =SUM(E26:E30) -> 40 | G25: =SUM(G26:G30) -> 40 | H25: =G25/E25*C25 -> 0.2 | I25: =C25*rekenmodel!B10 -> 7500
A26: 4.1 | B26: Opdrachtnemer komt afspraken met, en aanwijzingen van de directie juist en tijdig na. | C26: 2 | D26: =$C$25/(SUM($C$26:$C$30))*C26 -> 0.05 | E26: =C26*$F$2 -> 10 | F26: 5 | G26: =F26*C26 -> 10 | I26: =$I$25/$E$25*E26 -> 1875
A27: 4.2 | B27: Uitvoerder en/of projectleider is telefonisch goed bereikbaar en reageert dagelijks op vragen en opmerkingen | C27: 2 | D27: =$C$25/(SUM($C$26:$C$30))*C27 -> 0.05 | E27: =C27*$F$2 -> 10 | F27: 5 | G27: =F27*C27 -> 10 | I27: =$I$25/$E$25*E27 -> 1875
A28: 4.3 | B28: Afspraken met derden (andere opdrachtnemers en bewoners) worden vastgelegd en tijdig gecommuniceerd met de directie. | C28: 1 | D28: =$C$25/(SUM($C$26:$C$30))*C28 -> 0.025 | E28: =C28*$F$2 -> 5 | F28: 5 | G28: =F28*C28 -> 5 | I28: =$I$25/$E$25*E28 -> 937.5
A29: 4.4 | B29: Opdrachtnemer heeft oog voor de sociale aspecten naar de omgeving. | C29: 1 | D29: =$C$25/(SUM($C$26:$C$30))*C29 -> 0.025 | E29: =C29*$F$2 -> 5 | F29: 5 | G29: =F29*C29 -> 5 | I29: =$I$25/$E$25*E29 -> 937.5
A30: 4.5 | B30: De opdrachtnemer voorkomt discussie door de gemaakte afspraken tijdens de opdracht met de opdrachtgever binnen een dag per mail vast te leggen. | C30: 2 | D30: =$C$25/(SUM($C$26:$C$30))*C30 -> 0.05 | E30: =C30*$F$2 -> 10 | F30: 5 | G30: =F30*C30 -> 10 | I30: =$I$25/$E$25*E30 -> 1875
A31: 5. | B31: Werkterrein / veilig werken | C31: 0.1 | D31: =SUM(D32:D35) -> 0.1 | E31: =SUM(E32:E35) -> 40 | G31: =SUM(G32:G35) -> 40 | H31: =G31/E31*C31 -> 0.1 | I31: =C31*rekenmodel!B10 -> 3750
A32: 5.1 | B32: Buiten werktijden alle bouwstoffen, afvalstoffen ect in een afgesloten omgeving. Bouwhekken met klemmen erom heen plaatsen. | C32: 5 | D32: =$C$31/(SUM($C$32:$C$35))*C32 -> 0.0625 | E32: =C32*$F$2 -> 25 | F32: 5 | G32: =F32*C32 -> 25 | I32: =$I$31/$E$31*E32 -> 2343.75
A33: 5.2 | B33: Veilig werken en voorkomen gevaarlijke situaties voor medewerkers, omwonenden en weggebruikers | C33: 1 | D33: =$C$31/(SUM($C$32:$C$35))*C33 -> 0.0125 | E33: =C33*$F$2 -> 5 | F33: 5 | G33: =F33*C33 -> 5 | I33: =$I$31/$E$31*E33 -> 468.75
A34: 5.3 | B34: Na opname is de ondergrond van het werkterrein schoon van alle bodemvreemde restmaterialen. | C34: 1 | D34: =$C$31/(SUM($C$32:$C$35))*C34 -> 0.0125 | E34: =C34*$F$2 -> 5 | F34: 5 | G34: =F34*C34 -> 5 | I34: =$I$31/$E$31*E34 -> 468.75
A35: 5.4 | B35: Schoonmaken van de aangrenzende verhardingen en eventuele spoorvorming in de omliggende verhardingen en grasvelden zijn hersteld en ingezaaid. | C35: 1 | D35: =$C$31/(SUM($C$32:$C$35))*C35 -> 0.0125 | E35: =C35*$F$2 -> 5 | F35: 5 | G35: =F35*C35 -> 5 | I35: =$I$31/$E$31*E35 -> 468.75
A36: 6. | B36: Nakoming toezeggingen subgunningscriteria | C36: 0.2 | D36: =SUM(D37:D38) -> 0.2 | E36: =SUM(E37:E50) -> 25 | G36: =SUM(G37:G50) -> 25 | H36: =G36/E36*C36 -> 0.2 | I36: =C36*rekenmodel!B10 -> 7500
A37: 6.1 | B37: De opdrachtnemer komt zijn toezeggingen uit de aanbesteding juist en tijdig na. | C37: 5 | D37: =$C$36/(SUM($C$37:$C$50))*C37 -> 0.2 | E37: =C37*$F$2 -> 25 | F37: 5 | G37: =F37*C37 -> 25 | I37: =$I$36/$E$36*E37 -> 7500
