Workbook

Sheet Voorblad
B13: Bijlage C · Prijzenblad
B15: Europese openbare Aanbesteding
B16: Drukwerk en Repro
B39: Kenmerk van deze aanbesteding: CN-00986
B40: Aanbestedende dienst: Stichting Fontys
B42: Werkbladen
B43: 1. Promotioneel drukwerk
B44: 2. Huisstijldrukw & tentamenpapier
B45: 3. Eenvoudige printopdrachten
B46: 4. Totaal
B48: Invulinstructie
C49: Lichtgroene cellen: in te vullen door Inschrijver (prijzen exclusief btw, en naam Inschrijver op werkblad Totaal).
C50: Grijze cellen: berekend door het prijzenblad, niet wijzigen.

Sheet Promotioneel drukwerk
A1: Prijzenblad en productspecificaties CN-00986 Inschrijver dient alle lichtgroene cellen in te vullen
A2: Promotioneel Drukwerk
A3: Alle prijzen zijn exclusief btw, op basis van losse bestellingen en alle onderstaande items dienen berekend te worden op basis van een aflopende bedrukking (er moet dus rondom worden schoongesneden). Alle opgegeven pagina's zijn inclusief een omslag.
A4: Omschrijving | C4: Item 1: A4 brochure #1
A5: Oplage | C5: Zie staffel
A6: Formaat | C6: Plano A3, afgewerkt formaat A4 staand
A7: Omvang | C7: 8 pagina's
A8: Papier | C8: Omslag: 200 grams houtvrij silk mc Binnenwerk: 200 grams houtvrij silk mc
A9: Bedrukking | C9: 2-zijdig in full colour
A10: Afwerking | C10: Geniet gebrocheerd en rondom schoongesneden
A11: Verpakking | C11: Handzaam | D11: Prijs per oplage:
A12: Prijs (staffel) | B12: 1 | C12: 500 | D12: 0
B13: 2 | C13: 1000 | D13: 0
B14: 3 | C14: 2500 | D14: 0
C15: Totaalprijs (gemiddelde van 1, 2 en 3) | D15: =AVERAGE(D12:D13:D14) -> 0
A16: Omschrijving | C16: Item 2: A4 brochure #2
A17: Oplage | C17: Zie staffel
A18: Formaat | C18: Plano A3, afgewerkt formaat A4 staand
A19: Omvang | C19: 16 pagina's
A20: Papier | C20: Omslag: 200 grams houtvrij silk mc Binnenwerk: 115 grams houtvrij silk mc
A21: Bedrukking | C21: 2-zijdig in full colour
A22: Afwerking | C22: Geniet gebrocheerd en rondom schoongesneden
A23: Verpakking | C23: Handzaam | D23: Prijs per oplage:
A24: Prijs (staffel) | B24: 1 | C24: 500 | D24: 0
B25: 2 | C25: 1000 | D25: 0
B26: 3 | C26: 2500 | D26: 0
C27: Totaalprijs (gemiddelde van 1, 2 en 3) | D27: =AVERAGE(D24:D25:D26) -> 0
A28: Omschrijving | C28: Item 3: A4 brochure #3
A29: Oplage | C29: Zie staffel
A30: Formaat | C30: Plano A3, afgewerkt formaat A4 staand
A31: Omvang | C31: 32 pagina's
A32: Papier | C32: Omslag: 200 grams houtvrij silk mc Binnenwerk: 115 grams houtvrij silk mc
A33: Bedrukking | C33: 2-zijdig in full colour
A34: Afwerking | C34: Geniet gebrocheerd en rondom schoongesneden
A35: Verpakking | C35: Handzaam | D35: Prijs per oplage:
A36: Prijs (staffel) | B36: 1 | C36: 500 | D36: 0
B37: 2 | C37: 1000 | D37: 0
B38: 3 | C38: 2500 | D38: 0
C39: Totaalprijs (gemiddelde van 1, 2 en 3) | D39: =AVERAGE(D36:D37:D38) -> 0
A40: Omschrijving | C40: Item 4: A5 brochure #1
A41: Oplage | C41: Zie staffel
A42: Formaat | C42: Plano A4, afgewerkt formaat A5 staand
A43: Omvang | C43: 8 pagina's
A44: Papier | C44: Omslag 200 grams houtvrij silk mc
C45: Binnenwerk 200 grams houtvrij silk mc
A46: Bedrukking | C46: 2-zijdig in full colour
A47: Afwerking | C47: Geniet gebrocheerd en rondom schoongesneden
A48: Prijs (staffel) | B48: 1 | C48: 500 | D48: 0
B49: 2 | C49: 1000 | D49: 0
B50: 3 | C50: 2500 | D50: 0
C51: Totaalprijs (gemiddelde van 1, 2 en 3) | D51: =AVERAGE(D48:D49:D50) -> 0
A52: Omschrijving | C52: Item 5: A5 brochure #2
A53: Oplage | C53: Zie staffel
A54: Formaat | C54: Plano A4, afgewerkt formaat A5 staand
A55: Omvang | C55: 16 pagina's
A56: Papier | C56: Omslag 200 grams houtvrij silk mc
C57: Binnenwerk 115 grams houtvrij silk mc
A58: Bedrukking | C58: 2-zijdig in full colour
A59: Afwerking | C59: Geniet gebrocheerd en rondom schoongesneden
A60: Prijs (staffel) (oplage verdeeld over 16 soorten) | B60: 1 | C60: 500 | D60: 0
B61: 2 | C61: 1000 | D61: 0
B62: 3 | C62: 2500 | D62: 0
C63: Totaalprijs (gemiddelde van 1, 2 en 3) | D63: =AVERAGE(D60:D61:D62) -> 0
A64: Omschrijving | C64: Item 6: A5 brochure #3
A65: Oplage | C65: Zie staffel
A66: Formaat | C66: Plano A4, afgewerkt formaat A5 staand
A67: Omvang | C67: 32 pagina's
A68: Papier | C68: Omslag 200 grams houtvrij silk mc
C69: Binnenwerk 115 grams houtvrij silk mc
A70: Bedrukking | C70: 2-zijdig in full colour
A71: Afwerking | C71: Geniet gebrocheerd en rondom schoongesneden
A72: Prijs (staffel) (oplage verdeeld over 16 soorten) | B72: 1 | C72: 500 | D72: 0
B73: 2 | C73: 1000 | D73: 0
B74: 3 | C74: 2500 | D74: 0
C75: Totaalprijs (gemiddelde van 1, 2 en 3) | D75: 0
A76: Omschrijving | C76: Item 7: A4 folder #1
A77: Oplage | C77: Zie staffel
A78: Formaat | C78: Plano A3, afgewerkt formaat A4 staand
A79: Omvang | C79: 4 pagina's
A80: Papier | C80: 200 grams houtvrij silk mc
A81: Bedrukking | C81: 2-zijdig in full colour aflopend
A82: Afwerking | C82: Gevouwen, 1 slag
A83: Verpakking | C83: Handzaam | D83: Prijs per oplage:
A84: Prijs (staffel) | B84: 1 | C84: 1000 | D84: 0
B85: 2 | C85: 2500 | D85: 0
B86: 3 | C86: 5000 | D86: 0
C87: Totaalprijs (gemiddelde van 1, 2 en 3) | D87: =AVERAGE(D84:D85:D86) -> 0
A88: Omschrijving | C88: Item 8: A4 folder #2
A89: Oplage | C89: Zie staffel
A90: Formaat | C90: Plano 630 x 297 mm, afgewerkt formaat A4 staand
A91: Omvang | C91: 6 pagina's (drieluik)
A92: Papier | C92: 200 grams houtvrij silk mc
A93: Bedrukking | C93: 2-zijdig in full colour aflopend
A94: Afwerking | C94: Gevouwen, 2 slagen
A95: Verpakking | C95: Handzaam | D95: Prijs per oplage:
A96: Prijs (staffel) | B96: 1 | C96: 1000 | D96: 0
B97: 2 | C97: 2500 | D97: 0
B98: 3 | C98: 5000 | D98: 0
C99: Totaalprijs (gemiddelde van 1, 2 en 3) | D99: =AVERAGE(D96:D97:D98) -> 0
A100: Omschrijving | C100: Item 9: A5 folder #1
...

Sheet Huisstijl-kantoordrukw-tentpap.
A1: Prijzenblad en productspecificaties CN-00986. Alle prijzen exclusief BTW, op basis van losse bestellingen (kolom e), de aantallen bij 'oplage' zijn realistische en een meerprijs voor extra aantallen komen in dat geval bovenop de prijs uit kolom E. Inschrijver dient alle lichtgroene cellen in te vullen. De definitie 'meer' is hiermee een hogere oplage dan kolom B, per beschreven aantal (niet limitatief).
A2: Huisstijl-/kantoordrukwerk
A3: Omschrijving item | B3: papiersoort | C3: bedrukking | D3: oplage | E3: bedrag voor de oplage | G3: bedrag
A4: Item 1: A4 briefpapier
A5: 210x297 mm | B5: 90 grams houtvrij wit offset | C5: 1-zijdig in PMS 525 | D5: 10000 | E5: 0 | F5: per 2.500 meer | G5: 0
A6: Totaalprijs inclusief kosten aflevering. | F6: Wegingsfactor: | G6: 1 | H6: =(E5+G5)*G6 -> 0
A7: Omschrijving item | B7: papiersoort | C7: bedrukking | D7: oplage | E7: bedrag | G7: bedrag
A8: Item 2: C5 enveloppe met venster links
A9: 162x229 mm
A10: Gegomde klep lange zijde, trapeziumklep, grijze binnendruk, met port betaald logo, venster 40 x 110mm rechte hoeken | B10: 90 grams wit HV Bankpost | C10: eenzijdig bedrukt in PMS 525 niet aflopend, geen volvlakken | D10: 7500 | E10: 0 | F10: per 1.000 meer | G10: 0
A11: Totaalprijs inclusief kosten aflevering. | F11: Wegingsfactor: | G11: 1 | H11: =(E10+G10)*G11 -> 0
A12: Omschrijving item | B12: papiersoort | C12: bedrukking | D12: oplage | E12: bedrag | G12: bedrag
A13: Item 3: C4 envelop met venster links
A14: 229 x 324 mm
A15: Gegomde klep lange zijde, trapeziumklep, grijze binnendruk, met port betaald logo, venster 40 x 110mm rechte hoeken | B15: 120 grams wit HV Bankpost | C15: eenzijdig bedrukt in PMS 525 niet aflopend, geen volvlakken | D15: 2000 | E15: 0 | F15: per 500 meer | G15: 0
A16: Totaalprijs inclusief kosten aflevering. | F16: Wegingsfactor: | G16: 1 | H16: =(E15+G15)*G16 -> 0
A17: Omschrijving item | B17: papiersoort | C17: bedrukking | D17: oplage | E17: bedrag | G17: bedrag
A18: Item 4: C5 enveloppe zonder venster
A19: 162x229 mm
A20: Klep lange zijde, grijze binnendruk, met port betaald logo, met striplock. | B20: 90 grams wit HV Bankpost | C20: eenzijdig bedrukt in PMS 525 niet aflopend, geen volvlakken | D20: 10000 | E20: 0 | F20: per 2.500 meer | G20: 0
A21: Totaalprijs inclusief kosten aflevering. | F21: Wegingsfactor: | G21: 1 | H21: =(E20+G20)*G21 -> 0
A22: Omschrijving item | B22: papiersoort | C22: bedrukking | D22: oplage | E22: bedrag | G22: bedrag
A23: Item 5: C4 envelop zonder venster
A24: 324x229 mm
A25: Klep korte zijde, grijze binnendruk, met port betaald logo, met striplock. | B25: 120 grams wit HV Bankpost | C25: eenzijdig bedrukt in PMS 525 niet aflopend, geen volvlakken | D25: 10000 | E25: 0 | F25: per 2.500 meer | G25: 0
A26: Totaalprijs inclusief kosten aflevering. | F26: Wegingsfactor: | G26: 1 | H26: =(E25+G25)*G26 -> 0
A27: Omschrijving item | B27: papiersoort | C27: bedrukking | D27: oplage | E27: bedrag | G27: bedrag
A28: Item 6: Visitekaartjes
A29: 55 x 90 mm | B29: 300 grams Greentop (=creme kleurig offset) | C29: eenzijdig bedrukt in PMS 525 niet aflopend, geen volvlakken | D29: 100 (in doosje) | E29: 0 | F29: per 50 meer | G29: 0
A30: Totaalprijs inclusief kosten aflevering. | F30: Wegingsfactor: | G30: 20 | H30: =(E29+G29)*G30 -> 0
A31: Omschrijving item | B31: papiersoort | C31: bedrukking | D31: oplage | E31: bedrag | G31: bedrag
A32: Item 7: Naambordje/Tafelkaart
A33: 297 x 210 mm (plano), afgewerkt 105 x 297 mm (1 maal rillen) | B33: 190 grams houtvrij wit offset | C33: 1-zijdig full colour | D33: 10000 | E33: 0 | F33: per 2.500 meer | G33: 0
A34: Totaalprijs inclusief kosten aflevering. | F34: Wegingsfactor: | G34: 1 | H34: =(E33+G33)*G34 -> 0
A35: Omschrijving item | B35: papiersoort | C35: bedrukking | D35: oplage | E35: bedrag | G35: bedrag
A36: Item 8: Insteekmap algemeen zonder venster
A37: 510 x 395 mm (plano) | B37: 300 grams 2 zijdig gestreken sulfaatkarton | C37: 1-zijdig full color met matlak | D37: 15000 | E37: 0 | F37: per 2.500 meer | G37: 0
A38: Totaalprijs inclusief kosten aflevering. | F38: Wegingsfactor: | G38: 1 | H38: =(E37+G37)*G38 -> 0
A39: Omschrijving item | B39: papiersoort | C39: bedrukking | D39: oplage | E39: bedrag | G39: bedrag
A40: Item 9: Omslagmap diploma PRO
A41: 510 x 395 mm | B41: 300 grams 2-zijdig gestreken sulfaatkarton | C41: 1-zijdig full colour met matlak | D41: 5000 | E41: 0 | F41: per 1.000 meer | G41: 0
A42: Totaalprijs inclusief kosten aflevering. | F42: Wegingsfactor: | G42: 1 | H42: =(E41+G41)*G42 -> 0
A43: Omschrijving item | B43: papiersoort | C43: bedrukking | D43: oplage | E43: bedrag | G43: bedrag
A44: Item 10: Diploma supplement
A45: 297 x 210 mm | B45: 120 grams houtvrij papier biotop 3 | C45: 2-zijdig in PMS 525 | D45: 50000 | E45: 0 | F45: per 5.000 meer | G45: 0
A46: Totaalprijs inclusief kosten aflevering. | F46: Wegingsfactor: | G46: 1 | H46: =(E45+G45)*G46 -> 0
A47: Omschrijving item | B47: papiersoort | C47: bedrukking | D47: oplage | E47: bedrag | G47: bedrag
A48: Item 11: Diplomacertificaat
A49: 297 x 210 mm | B49: 120 grams houtvrij papier biotop 3 | C49: 2-zijdig in PMS 525 | D49: 20000 | E49: 0 | F49: per 5.000 meer | G49: 0
A50: Totaalprijs inclusief kosten aflevering. | F50: Wegingsfactor: | G50: 1 | H50: =(E49+G49)*G50 -> 0
A52: Tentamenpapier
A53: Omschrijving item | B53: papiersoort | C53: bedrukking | D53: oplage | E53: bedrag | G53: bedrag
A54: Item 12: Tentamenpapier A3 (lijn)
A55: A3 naar A4 gevouwen | B55: 90 grams houtvrij wit offset | C55: 2-zijdig in PMS 525 | D55: 40000 | E55: 0 | F55: per 5.000 meer | G55: 0
A56: Totaalprijs inclusief kosten aflevering. | F56: Wegingsfactor: | G56: 1 | H56: =(E55+G55)*G56 -> 0
A57: Omschrijving item | B57: papiersoort | C57: bedrukking | D57: oplage | E57: bedrag | G57: bedrag
A58: Item 13: Tentamenpapier A3 (ruit 10 mm)
A59: A3 naar A4 gevouwen | B59: 90 grams houtvrij wit offset | C59: 2-zijdig in PMS 525 | D59: 30000 | E59: 0 | F59: per 5.000 meer | G59: 0
A60: Totaalprijs inclusief kosten aflevering. | F60: Wegingsfactor: | G60: 1 | H60: =(E59+G59)*G60 -> 0
A61: Omschrijving item | B61: papiersoort | C61: bedrukking | D61: oplage | E61: bedrag | G61: bedrag
A62: Item 14: Tentamenpapier A3 (ruit 5 mm)
A63: A3 naar A4 gevouwen | B63: 90 grams houtvrij wit offset | C63: 2-zijdig in PMS 525 | D63: 10000 | E63: 0 | F63: per 2.500 meer | G63: 0
A64: Totaalprijs inclusief kosten aflevering. | F64: Wegingsfactor: | G64: 1 | H64: =(E63+G63)*G64 -> 0
A65: Omschrijving item | B65: papiersoort | C65: bedrukking | D65: oplage | E65: bedrag | G65: bedrag
A66: Item 15: Tentamenpapier A4 (lijn)
A67: A4 | B67: 90 grams houtvrij wit offset | C67: 2-zijdig in PMS 525 | D67: 5000 | E67: 0 | F67: per 1.000 meer | G67: 0
A68: Totaalprijs inclusief kosten aflevering. | F68: Wegingsfactor: | G68: 1 | H68: =(E67+G67)*G68 -> 0
A69: Omschrijving item | B69: papiersoort | C69: bedrukking | D69: oplage | E69: bedrag | G69: bedrag
A70: Item 16: Tentamenpapier A4 (ruit 10 mm)
A71: A4 | B71: 90 grams houtvrij wit offset | C71: 2-zijdig in PMS 525 | D71: 5000 | E71: 0 | F71: per 5.000 meer | G71: 0
A72: Totaalprijs inclusief kosten aflevering. | F72: Wegingsfactor: | G72: 1 | H72: =(E71+G71)*G72 -> 0
A73: Prijs kosten opslag per Euro-palletplaats per maand (wegingsfactor is in de totaalsom *12 meegenomen) | H73: 0
A74: SUBTOTAALSOM huisstijldrukwerk en tentamenpapier | H74: =(H73*12)+H72+H68+H64+H60+H56+H46+H42+H38+H34+H30+H26+H21+H16+H11+H11+H6 -> 0

Sheet Eenvoudige printopdrachten
A1: Prijzenblad en productspecificaties CN-00986 Inschrijver dient alle lichtgroene cellen in te vullen.
A2: Eenvoudige printopdrachten/repro
A3: Alle prijzen exclusief BTW, op basis van losse bestellingen, er mogen geen items ongevraagd aan een berekening worden toegevoegd of op andere dan gevraagde papierformaten gerekend worden. Alle tarieven zijn ongeacht het percentage tonerbezetting!
A5: Omschrijving | B5: bijzonderheden | C5: aantallen tot en met juli 2026 | D5: wegingsfactor (afgerond, werkelijke aantal rekent door) | E5: Prijs per eenheid (afdruk, vel of stuks, tenzij expliciet anders beschreven) | F5: Kosten (fictieve eenheden x prijs per eenheid)
A6: 1 slag vouwen (V – Vouw) | C6: 2155 | D6: =(C6/7)*11 -> 3386.4286 | E6: 0 | F6: =D6*E6 -> 0
A7: A0 170gr gsm glanzend papier | C7: 4 | D7: =(C7/7)*11 -> 6.2857143 | E7: 0 | F7: =D7*E7 -> 0
A8: A0 90gr gsm mat papier | C8: 65 | D8: =(C8/7)*11 -> 102.14286 | E8: 0 | F8: =D8*E8 -> 0
A9: A0 Poster paper matt 140 gr. | C9: 23 | D9: =(C9/7)*11 -> 36.142857 | E9: 0 | F9: =D9*E9 -> 0
A10: A1 170gr gsm glanzend papier | C10: 9 | D10: =(C10/7)*11 -> 14.142857 | E10: 0 | F10: =D10*E10 -> 0
A11: A1 90gr gsm mat papier | C11: 84 | D11: =(C11/7)*11 -> 132 | E11: 0 | F11: =D11*E11 -> 0
A12: A1 Poster paper matt 140 gr. | C12: 14 | D12: =(C12/7)*11 -> 22 | E12: 0 | F12: =D12*E12 -> 0
A13: A2 170gr gsm glanzend papier | C13: 4 | D13: =(C13/7)*11 -> 6.2857143 | E13: 0 | F13: =D13*E13 -> 0
A14: A2 90gr gsm mat papier | C14: 87 | D14: =(C14/7)*11 -> 136.71429 | E14: 0 | F14: =D14*E14 -> 0
A15: A2 Poster paper matt 140 gr. | C15: 73 | D15: =(C15/7)*11 -> 114.71429 | E15: 0 | F15: =D15*E15 -> 0
A16: Afdruk kleur A0 enkelz dig | B16: exclusief papier | C16: 81 | D16: =(C16/7)*11 -> 127.28571 | E16: 0 | F16: =D16*E16 -> 0
A17: Afdruk kleur A1 enkelz dig | B17: exclusief papier | C17: 106 | D17: =(C17/7)*11 -> 166.57143 | E17: 0 | F17: =D17*E17 -> 0
A18: Afdruk kleur A2 enkelz dig | B18: exclusief papier | C18: 164 | D18: =(C18/7)*11 -> 257.71429 | E18: 0 | F18: =D18*E18 -> 0
A19: Afdruk Kleur A3 enkelz dig | B19: exclusief papier (dubbelzijdig = 2x prijs enkelzijdig) | C19: 222 | D19: =(C19/7)*11 -> 348.85714 | E19: 0 | F19: =D19*E19 -> 0
A20: Afdruk Kleur A4 enkelz dig | B20: exclusief papier (dubbelzijdig = 2x prijs enkelzijdig) | C20: 30630 | D20: =(C20/7)*11 -> 48132.857 | E20: 0 | F20: =D20*E20 -> 0
A21: Afdruk Kleur A5 ez dig incl.75g papier | B21: inclusief papier (dubbelzijdig = 2x prijs enkelzijdig) | C21: 5062 | D21: =(C21/7)*11 -> 7954.5714 | E21: 0 | F21: =D21*E21 -> 0
A22: Afdruk Kleur A6 enkelzijdig | B22: exclusief papier (dubbelzijdig = 2x prijs enkelzijdig) | C22: 618 | D22: =(C22/7)*11 -> 971.14286 | E22: 0 | F22: =D22*E22 -> 0
A23: Afdruk Kleur SRA3 enkelz dig | B23: exclusief papier (dubbelzijdig = 2x prijs enkelzijdig) | C23: 1990 | D23: =(C23/7)*11 -> 3127.1429 | E23: 0 | F23: =D23*E23 -> 0
A24: Afdruk Kleur SRA4 enkelz dig | B24: exclusief papier (dubbelzijdig = 2x prijs enkelzijdig) | C24: 25160 | D24: =(C24/7)*11 -> 39537.143 | E24: 0 | F24: =D24*E24 -> 0
A25: Afdruk Kleur SRA5 enkelz dig | B25: exclusief papier (dubbelzijdig = 2x prijs enkelzijdig) | C25: 49623 | D25: =(C25/7)*11 -> 77979 | E25: 0 | F25: =D25*E25 -> 0
A26: Afdruk Kleur SRA6 enkelz dig | B26: exclusief papier (dubbelzijdig = 2x prijs enkelzijdig) | C26: 14887 | D26: =(C26/7)*11 -> 23393.857 | E26: 0 | F26: =D26*E26 -> 0
A27: Afdruk Zwart/Wit A0 enkelz dig | B27: exclusief papier (dubbelzijdig = 2x prijs enkelzijdig) | C27: 11 | D27: =(C27/7)*11 -> 17.285714 | E27: 0 | F27: =D27*E27 -> 0
... A35: Black Label Premium 80G A4 FSC | B35: of minimaal vergelijkbare kwaliteit | C35: 22067 | D35: =(C35/7)*11 -> 34676.714 | E35: 0 | F35: =D35*E35 -> 0
A36: Boren 4 gaten per vel | C36: 3874 | D36: =(C36/7)*11 -> 6087.7143 | E36: 0 | F36: =D36*E36 -> 0
A37: Lamineren A3, 125 micron | C37: 10 | D37: =(C37/7)*11 -> 15.714286 | E37: 0 | F37: =D37*E37 -> 0
A38: Lamineren A4, 125 micron | C38: 76 | D38: =(C38/7)*11 -> 119.42857 | E38: 0 | F38: =D38*E38 -> 0
A39: Lamineren A5, 125 micron | C39: 14 | D39: =(C39/7)*11 -> 22 | E39: 0 | F39: =D39*E39 -> 0
A40: Lamineren A6, 125 micron | C40: 100 | D40: =(C40/7)*11 -> 157.14286 | E40: 0 | F40: =D40*E40 -> 0
A41: Lijmen met bindstrip A4 klein | C41: 14 | D41: =(C41/7)*11 -> 22 | E41: 0 | F41: =D41*E41 -> 0
A42: Lijmen met bindstrip A4 middel | C42: 2 | D42: =(C42/7)*11 -> 3.1428571 | E42: 0 | F42: =D42*E42 -> 0
A43: Nieten met 1 nietje per set, machinaal | C43: 1093 | D43: =(C43/7)*11 -> 1717.5714 | E43: 0 | F43: =D43*E43 -> 0
A44: Nieten met 2 nietjes per set, machinaal | C44: 542 | D44: =(C44/7)*11 -> 851.71429 | E44: 0 | F44: =D44*E44 -> 0
A45: Opstartkosten opdracht onder 5 euro | C45: 107 | D45: =(C45/7)*11 -> 168.14286 | E45: 0 | F45: =D45*E45 -> 0
A46: Opstartkosten per document | C46: 2 | D46: =(C46/7)*11 -> 3.1428571 | E46: 0 | F46: =D46*E46 -> 0
A47: Orderbegeleiding (15 minuten) | C47: 1 | D47: =(C47/7)*11 -> 1.5714286 | E47: 0 | F47: =D47*E47 -> 0
... A52: Snijden grootformaat (per tekening) | C52: 345 | D52: =(C52/7)*11 -> 542.14286 | E52: 0 | F52: =D52*E52 -> 0
A53: Top Colour Zero 100G A4 500V FSC | B53: of minimaal vergelijkbare kwaliteit | C53: 3827 | D53: =(C53/7)*11 -> 6013.8571 | E53: 0 | F53: =D53*E53 -> 0
A54: Top Colour Zero 120G A4 500V FSC | B54: of minimaal vergelijkbare kwaliteit | C54: 10362 | D54: =(C54/7)*11 -> 16283.143 | E54: 0 | F54: =D54*E54 -> 0
A55: Top Colour Zero 120G SRA3 250V FSC | B55: of minimaal vergelijkbare kwaliteit | C55: 224 | D55: =(C55/7)*11 -> 352 | E55: 0 | F55: =D55*E55 -> 0
A56: Top Colour Zero 160G A3 250V FSC | B56: of minimaal vergelijkbare kwaliteit | C56: 22 | D56: =(C56/7)*11 -> 34.571429 | E56: 0 | F56: =D56*E56 -> 0
A57: Top Colour Zero 160G A4 250V FSC | B57: of minimaal vergelijkbare kwaliteit | C57: 790 | D57: =(C57/7)*11 -> 1241.4286 | E57: 0 | F57: =D57*E57 -> 0
A58: Top Colour Zero 200G SRA3 250V FSC | B58: of minimaal vergelijkbare kwaliteit | C58: 272 | D58: =(C58/7)*11 -> 427.42857 | E58: 0 | F58: =D58*E58 -> 0
A59: Top Colour Zero 200G SRA4 500V FSC | B59: of minimaal vergelijkbare kwaliteit | C59: 2300 | D59: =(C59/7)*11 -> 3614.2857 | E59: 0 | F59: =D59*E59 -> 0
A60: Top Colour Zero 250G A3 250V FSC | B60: of minimaal vergelijkbare kwaliteit | C60: 100 | D60: =(C60/7)*11 -> 157.14286 | E60: 0 | F60: =D60*E60 -> 0
A61: Top Colour Zero 250G A4 250V FSC | B61: of minimaal vergelijkbare kwaliteit | C61: 170 | D61: =(C61/7)*11 -> 267.14286 | E61: 0 | F61: =D61*E61 -> 0
A62: Top Colour Zero 250G SRA4 250V FSC | B62: of minimaal vergelijkbare kwaliteit | C62: 484 | D62: =(C62/7)*11 -> 760.57143 | E62: 0 | F62: =D62*E62 -> 0
A63: Transparant A4 | C63: 50 | D63: =(C63/7)*11 -> 78.571429 | E63: 0 | F63: =D63*E63 -> 0
A64: Transparant plastic voor- en achtervel | C64: 485 | D64: =(C64/7)*11 -> 762.14286 | E64: 0 | F64: =D64*E64 -> 0
A65: Vel Black Label Zero A5 80G FSC | B65: of minimaal vergelijkbare kwaliteit | C65: 2 | D65: =(C65/7)*11 -> 3.1428571 | E65: 0 | F65: =D65*E65 -> 0
A66: Vel Black Label Zero A6 80G FSC | B66: of minimaal vergelijkbare kwaliteit | C66: 153 | D66: =(C66/7)*11 -> 240.42857 | E66: 0 | F66: =D66*E66 -> 0
A67: Vel gekleurd papier 160 grams A4 | B67: of minimaal vergelijkbare kwaliteit | C67: 86 | D67: =(C67/7)*11 -> 135.14286 | E67: 0 | F67: =D67*E67 -> 0
A68: Vel Top Colour copier A5 120 gr | B68: of minimaal vergelijkbare kwaliteit | C68: 500 | D68: =(C68/7)*11 -> 785.71429 | E68: 0 | F68: =D68*E68 -> 0
A69: Vel Top Colour copier A5 250 gram | B69: of minimaal vergelijkbare kwaliteit | C69: 2060 | D69: =(C69/7)*11 -> 3237.1429 | E69: 0 | F69: =D69*E69 -> 0
A70: Vel Top Colour copier SRA3 100 gr | B70: of minimaal vergelijkbare kwaliteit | C70: 236 | D70: =(C70/7)*11 -> 370.85714 | E70: 0 | F70: =D70*E70 -> 0
A71: Vel Top Colour copier SRA3 160 gr | B71: of minimaal vergelijkbare kwaliteit | C71: 320 | D71: =(C71/7)*11 -> 502.85714 | E71: 0 | F71: =D71*E71 -> 0
A72: Vel Top Colour copier SRA3 250 gr | B72: of minimaal vergelijkbare kwaliteit | C72: 438 | D72: =(C72/7)*11 -> 688.28571 | E72: 0 | F72: =D72*E72 -> 0
A73: Vel Top Colour copier SRA4 100 gr | B73: of minimaal vergelijkbare kwaliteit | C73: 14136 | D73: =(C73/7)*11 -> 22213.714 | E73: 0 | F73: =D73*E73 -> 0
A74: Vel Top Colour copier SRA4 120 gr | B74: of minimaal vergelijkbare kwaliteit | C74: 5958 | D74: =(C74/7)*11 -> 9362.5714 | E74: 0 | F74: =D74*E74 -> 0
A75: Vel Top Colour copier SRA4 160 gr | B75: of minimaal vergelijkbare kwaliteit | C75: 860 | D75: =(C75/7)*11 -> 1351.4286 | E75: 0 | F75: =D75*E75 -> 0
A76: Vel Top Colour Zero A6 160 gr FSC | B76: of minimaal vergelijkbare kwaliteit | C76: 198 | D76: =(C76/7)*11 -> 311.14286 | E76: 0 | F76: =D76*E76 -> 0
... A85: Vel Top Colour Zero SRA6 250 gr FSC | B85: of minimaal vergelijkbare kwaliteit | C85: 4603 | D85: =(C85/7)*11 -> 7233.2857 | E85: 0 | F85: =D85*E85 -> 0
A86: Verpakking koker grootformaat A0 | C86: 129 | D86: =(C86/7)*11 -> 202.71429 | E86: 0 | F86: =D86*E86 -> 0
A87: Vouwen/nieten A3, automatisch | C87: 1002 | D87: =(C87/7)*11 -> 1574.5714 | E87: 0 | F87: =D87*E87 -> 0
A88: Vouwen/nieten A4, automatisch | C88: 522 | D88: =(C88/7)*11 -> 820.28571 | E88: 0 | F88: =D88*E88 -> 0
A89: Wirebinding metaal < 10mm | C89: 612 | D89: =(C89/7)*11 -> 961.71429 | E89: 0 | F89: =D89*E89 -> 0
A90: Kosten bestelportal per maand onderhoud en beheer inclusief implementatie. | D90: 12 | E90: 0 | F90: =D90*E90 -> 0
A92: subtotaal repro opdrachten | E92: =SUM(F6:F90) -> 0
A94: Prijs voor levering per koerier voor spoedopdrachten (extra rit buiten de levertijden van het programma van eisen om) | B94: 25 | C94: 0 | D94: =C94*B94 -> 0
A95: SUBTOTAALSOM eenvoudige printopdrachten | D95: =E92+D94 -> 0

Sheet Totaal
A1: Prijzenblad en productspecificaties CN-00986 Inschrijver dient de lichtgroene cel in te vullen.
A2: ='Promotioneel drukwerk'!A215 -> SUBTOTAALSOM Promotioneel Drukwerk | B2: ='Promotioneel drukwerk'!D215 -> 0
A3: ='Huisstijl-kantoordrukw-tentpap.'!A74 -> SUBTOTAALSOM huisstijldrukwerk en tentamenpapier | B3: ='Huisstijl-kantoordrukw-tentpap.'!H74 -> 0
A4: ='Eenvoudige printopdrachten'!A95 -> SUBTOTAALSOM eenvoudige printopdrachten | B4: ='Eenvoudige printopdrachten'!D95 -> 0
A5: TOTAAL van bovenstaande items en daarmee de inschrijfprijs exclusief BTW | B5: =SUM(B2:B4) -> 0
A7: Naam Inschrijver
