Workbook

Sheet Voorblad
B13: Bijlage C · Prijzenblad
B15: Europese openbare Aanbesteding
B16: Drukwerk en Repro
B39: Kenmerk van deze aanbesteding: CN-00986
B40: Aanbestedende dienst: Stichting Fontys
B42: Werkbladen
B43: 1. Promotioneel drukwerk
B44: 2. Huisstijldrukw & tentamenpapier
B45: 3. Eenvoudige printopdrachten
B46: 4. Totaal
B48: Invulinstructie
C49: Lichtgroene cellen: in te vullen door Inschrijver (prijzen exclusief btw, en naam Inschrijver op werkblad Totaal).
C50: Grijze cellen: berekend door het prijzenblad, niet wijzigen.

Sheet Promotioneel drukwerk
A1: Prijzenblad en productspecificaties CN-00986 Inschrijver dient alle lichtgroene cellen in te vullen
A2: Promotioneel Drukwerk
A3: Alle prijzen zijn exclusief btw, op basis van losse bestellingen en alle onderstaande items dienen berekend te worden op basis van een aflopende bedrukking (er moet dus rondom worden schoongesneden). Alle opgegeven pagina's zijn inclusief een omslag.
A4: Omschrijving | C4: Item 1: A4 brochure #1
A5: Oplage | C5: Zie staffel
A6: Formaat | C6: Plano A3, afgewerkt formaat A4 staand
A7: Omvang | C7: 8 pagina's
A8: Papier | C8: Omslag: 200 grams houtvrij silk mc Binnenwerk: 200 grams houtvrij silk mc
A9: Bedrukking | C9: 2-zijdig in full colour
A10: Afwerking | C10: Geniet gebrocheerd en rondom schoongesneden
A11: Verpakking | C11: Handzaam | D11: Prijs per oplage:
A12: Prijs (staffel) | B12: 1 | C12: 500 | D12: 0
B13: 2 | C13: 1000 | D13: 0
B14: 3 | C14: 2500 | D14: 0
C15: Totaalprijs (gemiddelde van 1, 2 en 3) | D15: =AVERAGE(D12:D13:D14) -> 0
A16: Omschrijving | C16: Item 2: A4 brochure #2
A17: Oplage | C17: Zie staffel
A18: Formaat | C18: Plano A3, afgewerkt formaat A4 staand
A19: Omvang | C19: 16 pagina's
A20: Papier | C20: Omslag: 200 grams houtvrij silk mc Binnenwerk: 115 grams houtvrij silk mc
A21: Bedrukking | C21: 2-zijdig in full colour
A22: Afwerking | C22: Geniet gebrocheerd en rondom schoongesneden
A23: Verpakking | C23: Handzaam | D23: Prijs per oplage:
A24: Prijs (staffel) | B24: 1 | C24: 500 | D24: 0
B25: 2 | C25: 1000 | D25: 0
B26: 3 | C26: 2500 | D26: 0
C27: Totaalprijs (gemiddelde van 1, 2 en 3) | D27: =AVERAGE(D24:D25:D26) -> 0
A28: Omschrijving | C28: Item 3: A4 brochure #3
A29: Oplage | C29: Zie staffel
A30: Formaat | C30: Plano A3, afgewerkt formaat A4 staand
A31: Omvang | C31: 32 pagina's
A32: Papier | C32: Omslag: 200 grams houtvrij silk mc Binnenwerk: 115 grams houtvrij silk mc
A33: Bedrukking | C33: 2-zijdig in full colour
A34: Afwerking | C34: Geniet gebrocheerd en rondom schoongesneden
A35: Verpakking | C35: Handzaam | D35: Prijs per oplage:
A36: Prijs (staffel) | B36: 1 | C36: 500 | D36: 0
B37: 2 | C37: 1000 | D37: 0
B38: 3 | C38: 2500 | D38: 0
C39: Totaalprijs (gemiddelde van 1, 2 en 3) | D39: =AVERAGE(D36:D37:D38) -> 0
A40: Omschrijving | C40: Item 4: A5 brochure #1
...

Sheet Huisstijl-kantoordrukw-tentpap.
A1: Prijzenblad en productspecificaties CN-00986. Alle prijzen exclusief BTW, op basis van losse bestellingen (kolom e), de aantallen bij 'oplage' zijn realistische en een meerprijs voor extra aantallen komen in dat geval bovenop de prijs uit kolom E. Inschrijver dient alle lichtgroene cellen in te vullen. De definitie 'meer' is hiermee een hogere oplage dan kolom B, per beschreven aantal (niet limitatief).
A2: Huisstijl-/kantoordrukwerk
A3: Omschrijving item | B3: papiersoort | C3: bedrukking | D3: oplage | E3: bedrag voor de oplage | G3: bedrag
A4: Item 1: A4 briefpapier
A5: 210x297 mm | B5: 90 grams houtvrij wit offset | C5: 1-zijdig in PMS 525 | D5: 10000 | E5: 0 | F5: per 2.500 meer | G5: 0
A6: Totaalprijs inclusief kosten aflevering. | F6: Wegingsfactor: | G6: 1 | H6: =(E5+G5)*G6 -> 0
A7: Omschrijving item | B7: papiersoort | C7: bedrukking | D7: oplage | E7: bedrag | G7: bedrag
A8: Item 2: C5 enveloppe met venster links
A9: 162x229 mm
A10: Gegomde klep lange zijde, trapeziumklep, grijze binnendruk, met port betaald logo, venster 40 x 110mm rechte hoeken | B10: 90 grams wit HV Bankpost | C10: eenzijdig bedrukt in PMS 525 niet aflopend, geen volvlakken | D10: 7500 | E10: 0 | F10: per 1.000 meer | G10: 0
A11: Totaalprijs inclusief kosten aflevering. | F11: Wegingsfactor: | G11: 1 | H11: =(E10+G10)*G11 -> 0
A12: Omschrijving item | B12: papiersoort | C12: bedrukking | D12: oplage | E12: bedrag | G12: bedrag
A13: Item 3: C4 envelop met venster links
A14: 229 x 324 mm
A15: Gegomde klep lange zijde, trapeziumklep, grijze binnendruk, met port betaald logo, venster 40 x 110mm rechte hoeken | B15: 120 grams wit HV Bankpost | C15: eenzijdig bedrukt in PMS 525 niet aflopend, geen volvlakken | D15: 2000 | E15: 0 | F15: per 500 meer | G15: 0
A16: Totaalprijs inclusief kosten aflevering. | F16: Wegingsfactor: | G16: 1 | H16: =(E15+G15)*G16 -> 0
A17: Omschrijving item | B17: papiersoort | C17: bedrukking | D17: oplage | E17: bedrag | G17: bedrag
A18: Item 4: C5 enveloppe zonder venster
A19: 162x229 mm
A20: Klep lange zijde, grijze binnendruk, met port betaald logo, met striplock. | B20: 90 grams wit HV Bankpost | C20: eenzijdig bedrukt in PMS 525 niet aflopend, geen volvlakken | D20: 10000 | E20: 0 | F20: per 2.500 meer | G20: 0
A21: Totaalprijs inclusief kosten aflevering. | F21: Wegingsfactor: | G21: 1 | H21: =(E20+G20)*G21 -> 0
A22: Omschrijving item | B22: papiersoort | C22: bedrukking | D22: oplage | E22: bedrag | G22: bedrag
A23: Item 5: C4 envelop zonder venster
A24: 324x229 mm
A25: Klep korte zijde, grijze binnendruk, met port betaald logo, met striplock. | B25: 120 grams wit HV Bankpost | C25: eenzijdig bedrukt in PMS 525 niet aflopend, geen volvlakken | D25: 10000 | E25: 0 | F25: per 2.500 meer | G25: 0
A26: Totaalprijs inclusief kosten aflevering. | F26: Wegingsfactor: | G26: 1 | H26: =(E25+G25)*G26 -> 0
A27: Omschrijving item | B27: papiersoort | C27: bedrukking | D27: oplage | E27: bedrag | G27: bedrag
A28: Item 6: Visitekaartjes
A29: 55 x 90 mm | B29: 300 grams Greentop (=creme kleurig offset) | C29: eenzijdig bedrukt in PMS 525 niet aflopend, geen volvlakken | D29: 100 (in doosje) | E29: 0 | F29: per 50 meer | G29: 0
A30: Totaalprijs inclusief kosten aflevering. | F30: Wegingsfactor: | G30: 20 | H30: =(E29+G29)*G30 -> 0
A31: Omschrijving item | B31: papiersoort | C31: bedrukking | D31: oplage | E31: bedrag | G31: bedrag
A32: Item 7: Naambordje/Tafelkaart
A33: 297 x 210 mm (plano), afgewerkt 105 x 297 mm (1 maal rillen) | B33: 190 grams houtvrij wit offset | C33: 1-zijdig full colour | D33: 10000 | E33: 0 | F33: per 2.500 meer | G33: 0
A34: Totaalprijs inclusief kosten aflevering. | F34: Wegingsfactor: | G34: 1 | H34: =(E33+G33)*G34 -> 0
A35: Omschrijving item | B35: papiersoort | C35: bedrukking | D35: oplage | E35: bedrag | G35: bedrag
A36: Item 8: Insteekmap algemeen zonder venster
A37: 510 x 395 mm (plano) | B37: 300 grams 2 zijdig gestreken sulfaatkarton | C37: 1-zijdig full color met matlak | D37: 15000 | E37: 0 | F37: per 2.500 meer | G37: 0
A38: Totaalprijs inclusief kosten aflevering. | F38: Wegingsfactor: | G38: 1 | H38: =(E37+G37)*G38 -> 0
A39: Omschrijving item | B39: papiersoort | C39: bedrukking | D39: oplage | E39: bedrag | G39: bedrag
A40: Item 9: Omslagmap diploma PRO
...

Sheet Eenvoudige printopdrachten
A1: Prijzenblad en productspecificaties CN-00986 Inschrijver dient alle lichtgroene cellen in te vullen.
A2: Eenvoudige printopdrachten/repro
A3: Alle prijzen exclusief BTW, op basis van losse bestellingen, er mogen geen items ongevraagd aan een berekening worden toegevoegd of op andere dan gevraagde papierformaten gerekend worden. Alle tarieven zijn ongeacht het percentage tonerbezetting!
A5: Omschrijving | B5: bijzonderheden | C5: aantallen tot en met juli 2026 | D5: wegingsfactor (afgerond, werkelijke aantal rekent door) | E5: Prijs per eenheid (afdruk, vel of stuks, tenzij expliciet anders beschreven) | F5: Kosten (fictieve eenheden x prijs per eenheid)
A6: 1 slag vouwen (V – Vouw) | C6: 2155 | D6: =(C6/7)*11 -> 3386.4286 | E6: 0 | F6: =D6*E6 -> 0
A7: A0 170gr gsm glanzend papier | C7: 4 | D7: =(C7/7)*11 -> 6.2857143 | E7: 0 | F7: =D7*E7 -> 0
A8: A0 90gr gsm mat papier | C8: 65 | D8: =(C8/7)*11 -> 102.14286 | E8: 0 | F8: =D8*E8 -> 0
A9: A0 Poster paper matt 140 gr. | C9: 23 | D9: =(C9/7)*11 -> 36.142857 | E9: 0 | F9: =D9*E9 -> 0
A10: A1 170gr gsm glanzend papier | C10: 9 | D10: =(C10/7)*11 -> 14.142857 | E10: 0 | F10: =D10*E10 -> 0
A11: A1 90gr gsm mat papier | C11: 84 | D11: =(C11/7)*11 -> 132 | E11: 0 | F11: =D11*E11 -> 0
A12: A1 Poster paper matt 140 gr. | C12: 14 | D12: =(C12/7)*11 -> 22 | E12: 0 | F12: =D12*E12 -> 0
A13: A2 170gr gsm glanzend papier | C13: 4 | D13: =(C13/7)*11 -> 6.2857143 | E13: 0 | F13: =D13*E13 -> 0
A14: A2 90gr gsm mat papier | C14: 87 | D14: =(C14/7)*11 -> 136.71429 | E14: 0 | F14: =D14*E14 -> 0
A15: A2 Poster paper matt 140 gr. | C15: 73 | D15: =(C15/7)*11 -> 114.71429 | E15: 0 | F15: =D15*E15 -> 0
A16: Afdruk kleur A0 enkelz dig | B16: exclusief papier | C16: 81 | D16: =(C16/7)*11 -> 127.28571 | E16: 0 | F16: =D16*E16 -> 0
A17: Afdruk kleur A1 enkelz dig | B17: exclusief papier | C17: 106 | D17: =(C17/7)*11 -> 166.57143 | E17: 0 | F17: =D17*E17 -> 0
A18: Afdruk kleur A2 enkelz dig | B18: exclusief papier | C18: 164 | D18: =(C18/7)*11 -> 257.71429 | E18: 0 | F18: =D18*E18 -> 0
A19: Afdruk Kleur A3 enkelz dig | B19: exclusief papier (dubbelzijdig = 2x prijs enkelzijdig) | C19: 222 | D19: =(C19/7)*11 -> 348.85714 | E19: 0 | F19: =D19*E19 -> 0
A20: Afdruk Kleur A4 enkelz dig | B20: exclusief papier (dubbelzijdig = 2x prijs enkelzijdig) | C20: 30630 | D20: =(C20/7)*11 -> 48132.857 | E20: 0 | F20: =D20*E20 -> 0
A21: Afdruk Kleur A5 ez dig incl.75g papier | B21: inclusief papier (dubbelzijdig = 2x prijs enkelzijdig) | C21: 5062 | D21: =(C21/7)*11 -> 7954.5714 | E21: 0 | F21: =D21*E21 -> 0
A22: Afdruk Kleur A6 enkelzijdig | B22: exclusief papier (dubbelzijdig = 2x prijs enkelzijdig) | C22: 618 | D22: =(C22/7)*11 -> 971.14286 | E22: 0 | F22: =D22*E22 -> 0
A23: Afdruk Kleur SRA3 enkelz dig | B23: exclusief papier (dubbelzijdig = 2x prijs enkelzijdig) | C23: 1990 | D23: =(C23/7)*11 -> 3127.1429 | E23: 0 | F23: =D23*E23 -> 0
A24: Afdruk Kleur SRA4 enkelz dig | B24: exclusief papier (dubbelzijdig = 2x prijs enkelzijdig) | C24: 25160 | D24: =(C24/7)*11 -> 39537.143 | E24: 0 | F24: =D24*E24 -> 0
A25: Afdruk Kleur SRA5 enkelz dig | B25: exclusief papier (dubbelzijdig = 2x prijs enkelzijdig) | C25: 49623 | D25: =(C25/7)*11 -> 77979 | E25: 0 | F25: =D25*E25 -> 0
A26: Afdruk Kleur SRA6 enkelz dig | B26: exclusief papier (dubbelzijdig = 2x prijs enkelzijdig) | C26: 14887 | D26: =(C26/7)*11 -> 23393.857 | E26: 0 | F26: =D26*E26 -> 0
A27: Afdruk Zwart/Wit A0 enkelz dig | B27: exclusief papier (dubbelzijdig = 2x prijs enkelzijdig) | C27: 11 | D27: =(C27/7)*11 -> 17.285714 | E27: 0 | F27: =D27*E27 -> 0
... A35: Black Label Premium 80G A4 FSC | B35: of minimaal vergelijkbare kwaliteit | C35: 22067 | D35: =(C35/7)*11 -> 34676.714 | E35: 0 | F35: =D35*E35 -> 0
A36: Boren 4 gaten per vel | C36: 3874 | D36: =(C36/7)*11 -> 6087.7143 | E36: 0 | F36: =D36*E36 -> 0
A37: Lamineren A3, 125 micron | C37: 10 | D37: =(C37/7)*11 -> 15.714286 | E37: 0 | F37: =D37*E37 -> 0
A38: Lamineren A4, 125 micron | C38: 76 | D38: =(C38/7)*11 -> 119.42857 | E38: 0 | F38: =D38*E38 -> 0
A39: Lamineren A5, 125 micron | C39: 14 | D39: =(C39/7)*11 -> 22 | E39: 0 | F39: =D39*E39 -> 0
A40: Lamineren A6, 125 micron | C40: 100 | D40: =(C40/7)*11 -> 157.14286 | E40: 0 | F40: =D40*E40 -> 0
A41: Lijmen met bindstrip A4 klein | C41: 14 | D41: =(C41/7)*11 -> 22 | E41: 0 | F41: =D41*E41 -> 0
A42: Lijmen met bindstrip A4 middel | C42: 2 | D42: =(C42/7)*11 -> 3.1428571 | E42: 0 | F42: =D42*E42 -> 0
A43: Nieten met 1 nietje per set, machinaal | C43: 1093 | D43: =(C43/7)*11 -> 1717.5714 | E43: 0 | F43: =D43*E43 -> 0
A44: Nieten met 2 nietjes per set, machinaal | C44: 542 | D44: =(C44/7)*11 -> 851.71429 | E44: 0 | F44: =D44*E44 -> 0
A45: Opstartkosten opdracht onder 5 euro | C45: 107 | D45: =(C45/7)*11 -> 168.14286 | E45: 0 | F45: =D45*E45 -> 0
A46: Opstartkosten per document | C46: 2 | D46: =(C46/7)*11 -> 3.1428571 | E46: 0 | F46: =D46*E46 -> 0
A47: Orderbegeleiding (15 minuten) | C47: 1 | D47: =(C47/7)*11 -> 1.5714286 | E47: 0 | F47: =D47*E47 -> 0
... A52: Snijden grootformaat (per tekening) | C52: 345 | D52: =(C52/7)*11 -> 542.14286 | E52: 0 | F52: =D52*E52 -> 0
...

Sheet Totaal
A1: Prijzenblad en productspecificaties CN-00986 Inschrijver dient de lichtgroene cel in te vullen.
A2: ='Promotioneel drukwerk'!A215 -> SUBTOTAALSOM Promotioneel Drukwerk | B2: ='Promotioneel drukwerk'!D215 -> 0
A3: ='Huisstijl-kantoordrukw-tentpap.'!A74 -> SUBTOTAALSOM huisstijldrukwerk en tentamenpapier | B3: ='Huisstijl-kantoordrukw-tentpap.'!H74 -> 0
A4: ='Eenvoudige printopdrachten'!A95 -> SUBTOTAALSOM eenvoudige printopdrachten | B4: ='Eenvoudige printopdrachten'!D95 -> 0
A5: TOTAAL van bovenstaande items en daarmee de inschrijfprijs exclusief BTW | B5: =SUM(B2:B4) -> 0
A7: Naam Inschrijver
